{"text_format":"1","workbook":"xlsx","n_sheets":8,"sheets":["Races, Positions & Points","Points Calculation","Age Calculation","Start of Year Points","2014.1","2014.2","2014.3","Latest Points (2014.3)"],"not_rendered":{"charts":0,"images":0,"macros":1,"external_links":0,"defined_names":5,"comments":0,"pivot_tables":0},"unopened":[],"bounds":{"document_bytes":16777216,"sheet_cells":100000,"rows_first":2000,"rows_last":500,"rows_between":2000,"halvings":0,"cell_chars":16384,"cell_head_chars":4096},"cells_cut":0,"cells_raw":0,"read":"whole","date_system":"1900"}

{"sheet":"Races, Positions & Points","index":0,"n_rows":33,"n_cols":146,"rows_kept":33,"cut":false,"hidden":false,"merged":[[0,125,0,126],[1,125,1,127],[2,125,2,127],[3,125,4,125],[3,126,4,126],[3,127,4,127],[3,124,4,124],[1,75,1,77],[2,75,2,77],[3,75,4,75],[3,76,4,76],[3,77,4,77],[3,93,4,93],[3,94,4,94],[3,95,4,95],[0,87,0,88],[1,87,1,89],[2,87,2,89],[3,87,4,87],[3,88,4,88],[3,89,4,89],[0,90,0,91],[1,90,1,92],[2,90,2,92],[0,60,0,61],[1,60,1,62],[0,64,0,65],[1,64,1,66],[0,54,0,55],[0,57,0,58],[1,54,1,56],[1,57,1,59],[3,65,4,65],[2,68,2,70],[3,68,4,68],[3,69,4,69],[3,70,4,70],[3,54,4,54],[3,55,4,55],[3,56,4,56],[3,57,4,57],[3,58,4,58],[3,59,4,59],[0,84,0,85],[1,84,1,86],[2,84,2,86],[3,78,4,78],[3,74,4,74],[3,92,4,92],[3,90,4,90],[3,91,4,91],[0,78,0,80],[0,81,0,82],[1,81,1,83],[2,81,2,83],[3,82,4,82],[0,75,0,76],[0,96,0,97],[0,99,0,100],[1,96,1,98],[1,99,1,102],[2,96,2,98],[2,99,2,102],[0,93,0,94],[1,93,1,95],[2,93,2,95],[0,71,0,72],[1,71,1,74],[2,71,2,74],[1,78,1,80],[2,78,2,80],[3,79,4,79],[0,39,0,40],[0,45,0,46],[1,45,1,47],[2,45,2,47],[0,48,0,49],[1,48,1,50],[2,48,2,50],[0,51,0,52],[1,51,1,53],[2,51,2,53],[2,60,2,63],[2,64,2,67],[3,49,4,49],[3,46,4,46],[3,47,4,47],[3,48,4,48],[0,68,0,69],[1,68,1,70],[0,18,0,19],[0,21,0,22],[0,24,0,25],[0,27,0,28],[3,6,3,7],[3,10,3,11],[3,8,3,9],[0,42,0,43],[1,42,1,44],[2,42,2,44],[3,42,4,42],[3,43,4,43],[1,7,1,10],[2,12,2,14],[2,18,2,20],[1,12,1,14],[1,18,1,20],[1,24,1,26],[2,24,2,26],[2,15,2,17],[2,21,2,23],[0,30,0,31],[0,33,0,34],[0,36,0,37],[0,12,0,13],[3,101,4,101],[3,1,4,1],[3,5,4,5],[3,18,4,18],[3,19,4,19],[3,20,4,20],[3,44,4,44],[3,45,4,45],[3,3,4,3],[3,28,4,28],[3,29,4,29],[3,97,4,97],[3,98,4,98],[3,99,4,99],[3,100,4,100],[3,50,4,50],[3,51,4,51],[3,52,4,52],[3,62,4,62],[3,64,4,64],[3,23,4,23],[3,27,4,27],[0,15,0,16],[1,27,1,29],[1,30,1,32],[1,33,1,35],[1,39,1,41],[2,30,2,32],[2,33,2,35],[2,39,2,41],[3,34,4,34],[3,35,4,35],[2,27,2,29],[1,36,1,38],[2,36,2,38],[3,102,4,102],[3,66,4,66],[3,63,4,63],[3,96,4,96],[3,61,4,61],[3,67,4,67],[3,83,4,83],[3,53,4,53],[3,60,4,60],[3,81,4,81],[3,71,4,71],[3,72,4,72],[3,84,4,84],[3,85,4,85],[3,86,4,86],[3,80,4,80],[3,73,4,73],[5,2,5,4],[3,21,4,21],[3,24,4,24],[2,54,2,56],[2,57,2,59],[3,39,4,39],[3,40,4,40],[3,41,4,41],[3,36,4,36],[3,37,4,37],[3,38,4,38],[3,15,4,15],[3,17,4,17],[3,12,4,12],[3,13,4,13],[3,14,4,14],[3,25,4,25],[3,26,4,26],[3,22,4,22],[3,16,4,16],[3,30,4,30],[3,31,4,31],[3,32,4,32],[3,33,4,33],[0,103,0,104],[1,103,1,106],[2,103,2,106],[3,103,4,103],[3,104,4,104],[3,105,4,105],[3,106,4,106],[0,107,0,108],[1,107,1,109],[2,107,2,109],[3,107,4,107],[3,108,4,108],[3,109,4,109],[0,121,0,122],[1,121,1,123],[2,121,2,123],[0,110,0,111],[3,110,4,110],[3,111,4,111],[3,112,4,112],[0,114,0,115],[1,110,1,112],[1,114,1,116],[2,110,2,112],[2,114,2,116],[3,114,4,114],[3,115,4,115],[3,116,4,116],[3,113,4,113],[3,121,4,121],[3,122,4,122],[3,123,4,123],[1,128,1,130],[2,128,2,130],[3,128,4,128],[3,129,4,129],[3,130,4,130],[3,131,4,131],[3,132,4,132],[3,133,4,133],[1,117,1,119],[2,117,2,119],[3,117,4,117],[3,118,4,118],[3,119,4,119],[3,120,4,120],[3,145,4,145],[1,142,1,145],[0,138,0,141],[0,117,0,120],[3,134,4,134],[0,131,0,134],[1,131,1,134],[0,142,0,143],[2,142,2,144],[3,142,4,142],[3,143,4,143],[3,144,4,144],[3,141,4,141],[1,138,1,141],[0,135,0,136],[1,135,1,137],[2,135,2,137],[3,135,4,135],[3,136,4,136],[3,137,4,137],[3,138,4,138],[3,139,4,139],[3,140,4,140],[0,128,0,129]]}
["Winter 2016",null,"BASS Points Races",null,null,null,null,null,null,null,null,"DATE","2016-01-02",null,null,"2016-01-02",null,null,"2016-01-03",null,null,"2016-01-03",null,null,"2016-01-04",null,null,"2016-01-05",null,null,"2016-01-06",null,null,"2016-01-07",null,null,"2016-01-08",null,null,"2016-01-09",null,null,"2016-01-11",null,null,"2016-01-12",null,null,"2016-01-13",null,null,"2016-01-14",null,null,"2016-01-19",null,null,"2016-01-20",null,null,"2016-01-21",null,null,null,"2016-01-22",null,null,null,"2016-01-23",null,null,"2016-02-14",null,null,null,"2016-02-14",null,null,"2016-02-15",null,null,"2016-02-15",null,null,"2016-02-16",null,null,"2016-02-16",null,null,"2016-02-17",null,null,"2016-02-17",null,null,"2016-02-18",null,null,"2016-02-19",null,null,null,"2016-03-07",null,null,null,"2016-03-07",null,null,"2016-03-08",null,null,null,"2016-03-08",null,null,"2016-03-10",null,null,null,"2016-03-11",null,null,null,"2016-03-13",null,null,"2016-03-28",null,null,"2016-03-29",null,null,null,"2016-03-30",null,null,"2016-03-31",null,null,null,"2016-04-01"]
[null,null,null,null,null,null,null,null,null,null,null,"EVENT","BSA SL U10/12",null,null,"BSA SL U14/16",null,null,"Anglo-Scot SL U10/12",null,null,"Anglo-Scot SL U12/14",null,null,"Anglo-Scot GS",null,null,"BSA GS",null,null,"Scot FIS SL",null,null,"Scot FIS SL",null,null,"Scot FIS GS",null,null,"Scot FIS GS",null,null,"Amb Champ GS",null,null,"Amb Cup GS",null,null,"Amb Champ SL",null,null,"Amb Cup SL",null,null,"Welsh FIS GS",null,null,"Welsh FIS SL",null,null,"Welsh Ch. SL",null,null,null,"Welsh Ch. GS",null,null,null,"Gordon Op. GS",null,null,"Eng Ch GS U16/14",null,null,null,"Eng Ch FIS SL1",null,null,"Eng Ch GS U12/10",null,null,"Eng Ch FIS SL2",null,null,"Eng Ch SG1",null,null,"Eng Ch FIS GS1",null,null,"Eng Ch SG2",null,null,"Eng Ch FIS GS2",null,null,"Eng Ch Combi U12/10",null,null,"Eng Ch SL U16/14",null,null,null,"Interschools U14 SL",null,null,null,"In'sch's U10/U12/U16+ GS",null,null,"In'sch's U14 GS",null,null,null,"In'sch's U10/12/U16+ SL",null,null,"Aiglon GS",null,null,null,"Aiglon SL/Combi",null,null,null,"Scot. Bains Bucket",null,null,"British Champs Kombi",null,null,"British Champs GS",null,null,null,"Br Champs SG",null,null,"British Champs GS",null,null,null,"British Champs SL"]
[null,null,null,null,null,null,null,null,null,null,null,"VENUE","Chamonix Planards, FR",null,null,"Les Houches, FR",null,null,"Chamonix Planards, FR",null,null,"Les Houches, FR",null,null,"Les Houches, FR",null,null,"Les Houches, FR",null,null,"Reiteralm, AT",null,null,"Reiteralm, AT",null,null,"Reiteralm, AT",null,null,"Reiteralm, AT",null,null,"Leogang, AT",null,null,"Leogang, AT",null,null,"Leogang, AT",null,null,"Leogang, AT",null,null,"Champery, CH",null,null,"Champery, CH",null,null,"Champery, CH",null,null,null,"Champery, CH",null,null,null,"Lecht, SCO",null,null,"Bormio, IT",null,null,null,"Bormio, IT",null,null,"Bormio, IT",null,null,"Bormio, IT",null,null,"Bormio, IT",null,null,"Bormio, IT",null,null,"Bormio, IT",null,null,"Bormio, IT",null,null,"Bormio, IT",null,null,"Bormio, IT",null,null,null,"Les Houches, FR",null,null,null,"Les Houches, FR",null,null,"Les Houches, FR",null,null,null,"Les Houches, FR",null,null,"Villars, CH",null,null,null,"Les Houches, FR",null,null,null,"Nevis, SCO",null,null,"Tignes, FR",null,null,"Tignes, FR",null,null,null,"Tignes, FR",null,null,"Tignes, FR",null,null,null,"Tignes, FR"]
[null,"M/F",null,"AGE GROUP","REG","PAST","SL POINTS",null,"GS POINTS",null,"SG POINTS",null,"Overall","Age","Event Points","Overall","Age","Event Points","Overall","Age","Event Points","Overall","Age","Event Points","Overall","Age","Event Points","Overall","Age","Event Points","Overall","Age","Event Points","Overall","Age","Event Points","Overall","Age","Event Points","Overall","Age","Event Points","Overall","Age","Event Points","Overall","Age","Event Points","Overall","Age","Event Points","Overall","Age","Event Points","Overall","Age","Event Points","Overall","Age","Event Points","Overall","Age","Event Points","Event Points (U14)","Overall","Age","Event Points","Event Points (U14)","Overall","Age","Event Points","Overall","Age","Event Points","Event Points (U14)","Overall","Age","Event Points","Overall","Age","Event Points","Overall","Age","Event Points","Overall","Age","Event Points","Overall","Age","Event Points","Overall","Age","Event Points","Overall","Age","Event Points","Overall","Age","Event Points","Overall","Age","Event Points","Event Points (U14)","Overall","Age","Event Points","Event Points (U14)","Overall","Age","Event Points","Overall","Age","Event Points","Event Points (U14)","Overall","Age","Event Points","Overall","Age","Event Points","Event Points (U14)","Overall","Age","Event Points","Event Points (U14)","Overall","Age","Event Points","Overall","Age","Event Points","Overall","Age","Event Points","Event Points (U14)","Overall","Age","Event Points","Overall","Age","Event Points","Event Points (U14)","Overall","Age","Event Points","Event Points (U14)"]
[null,null,"YEAR",null,"NUM",null,2016.1,"Latest",2016.1,"Latest",2016.1,"Latest"]
["GIRLS"]
["Emilia Orzel","F",2006,"U10",22136,null,null,null,null,null,null,null,null,null,null,null,null,null,null,null,null,null,null,null,null,null,null,null,null,null,null,null,null,null,null,null,null,null,null,null,null,null,null,null,null,null,null,null,null,null,null,null,null,null,null,null,null,null,null,null,null,null,null,null,null,null,null,null,null,null,null,null,null,null,null,null,null,null,29,9,"-",null,null,null,null,null,null,null,null,null,null,null,null,null,null,null,22,9,"-",null,null,null,null,null,null,null,null,null,null,null,null,null,null,null,null,null,null,null,null,null,null,null,null,null,null,11,3,"-",null,null,null,34,14,"-",null,30,11,"(combi)"]
["Amber Fennell","F",2007,"U10",22729,null,null,null,null,null,null,null,null,null,null,null,null,null,null,null,null,null,null,null,null,null,null,null,null,null,null,null,null,null,null,null,null,null,null,null,null,null,null,null,null,null,null,null,null,null,null,null,null,null,null,null,null,null,null,null,null,null,null,null,null,null,null,null,null,null,null,null,null,null,null,null,null,null,24,7,"-",null,null,null,null,null,null,null,null,null,null,null,null,null,null,null,21,8,"-"]
["Erin Jennings","F",2006,"U10","nr",null,null,null,null,null,null,null,null,null,null,null,null,null,null,null,null,null,null,null,null,null,null,null,null,null,null,null,null,null,null,null,null,null,null,null,null,null,null,null,null,null,null,null,null,null,null,null,null,null,null,null,null,null,null,null,null,null,null,null,null,null,null,null,null,null,null,null,null,null,null,null,null,null,29,9,"-",null,null,null,null,null,null,null,null,null,null,null,null,null,null,null,null,null,null,null,null,null,null,null,null,null,null,null,null,null,null,null,null,null,null,null,null,38,null,"-",null,29,14,"-"]
["BOYS"]
["Charlie Deem","M",2005,"U12",21827]
["Jack Upton","M",2004,"U12",21052,null,null,null,null,null,null,null,null,null,null,null,null,null,null,null,null,null,null,null,null,null,null,null,null,null,null,null,null,null,null,null,null,null,null,null,null,null,2,null,null,2,null,null,null,null,null,2,null,null,null,null,null,null,null,null,1,null,null,null,1,1,null,null,null,null,null,null,null,null,null,null,null,null,2,2,"-",null,null,null,null,null,null,null,null,null,null,null,null,null,null,null,"-","-","dnf",null,null,null,null,null,null,null,null,null,1,"-",null,null,null,null,null,2,"-",null,null,null,null,null,null,null,null,null,null,null,null,null,null,6,6,"-",null,4,4,"(combi)"]
["Kieran Woolley","M",2005,"U12",21837,null,null,null,null,null,null,null,null,null,null,null,null,null,null,null,null,null,null,null,null,null,null,null,null,null,null,null,null,null,null,null,null,null,null,null,null,null,4,null,null,6,null,null,4,null,null,6]
["Toby Weeks","M",2007,"U10",45064,null,null,null,null,null,null,null,24,null,null,null,null,null,22,null,null,null,null,null,36,10]
["Alex Horne","M",null,"U12","nr",null,null,null,null,null,null,null,null,null,null,null,null,null,null,null,null,null,null,null,null,null,null,null,null,null,null,null,null,null,null,null,null,null,null,null,null,null,null,null,null,null,null,null,null,null,null,null,null,null,null,null,null,null,null,null,null,null,null,null,null,null,null,null,null,null,null,null,null,null,null,null,null,null,null,null,null,null,null,null,null,null,null,null,null,null,null,null,null,null,null,null,null,null,null,null,null,null,null,null,null,null,null,null,60,"-",null,null,null,null,null,"-","dns",47,null,"-",null,39,25,"-"]
["John Jennings","M",null,"U12","nr",null,null,null,null,null,null,null,null,null,null,null,null,null,null,null,null,null,null,null,null,null,null,null,null,null,null,null,null,null,null,null,null,null,null,null,null,null,null,null,null,null,null,null,null,null,null,null,null,null,null,null,null,null,null,null,null,null,null,null,null,null,null,null,null,null,null,null,null,null,null,null,null,null,29,9,"-",null,null,null,null,null,null,null,null,null,null,null,null,null,null,null,null,null,null,null,null,null,null,null,null,null,null,null,null,null,null,null,null,null,null,null,null,49,null,"-",null,40,26,"-"]
["John Gallagher","M",null,"U10","nr",null,null,null,null,null,null,null,null,null,null,null,null,null,null,null,null,null,null,null,null,null,null,null,null,null,null,null,null,null,null,null,null,null,null,null,null,null,null,null,null,null,null,null,null,null,null,null,null,null,null,null,null,null,null,null,null,null,null,null,null,null,null,null,null,null,null,null,null,null,null,null,null,null,null,null,null,null,null,null,null,null,null,null,null,null,null,null,null,null,null,null,null,null,null,null,null,null,null,null,null,null,null,null,47,"-",null,null,null,null,null,48,"-",50,null,"-",null,41,15,"-"]
["Adam Orzel","M",2008,"U8",23186,null,null,null,null,null,null,null,null,null,null,null,null,null,null,null,null,null,null,null,null,null,null,null,null,null,null,null,null,null,null,null,null,null,null,null,null,null,null,null,null,null,null,null,null,null,null,null,null,null,null,null,null,null,null,null,null,null,null,null,null,null,null,null,null,null,null,null,null,null,null,null,null,null,null,null,null,null,null,null,null,null,null,null,null,null,null,null,null,null,null,null,null,null,null,null,null,null,null,null,null,null,null,null,null,null,null,null,null,null,null,null,null,null,null,null,null,null,null,null,null,22,2,"-"]
["FEMALES"]
["Maxine Hancock","F",1997,"U21","F225688",null,316.37,264.98,null,260.64,null,null,null,null,null,null,null,null,null,null,null,null,null,null,null,null,null,null,null,null,50,null,503.17,38,null,430.23,71,null,283.73,"dnf",null,"-",null,null,null,null,null,null,null,null,null,null,null,null,35,null,268.39,24,null,242.88,null,null,null,null,null,null,null,null,null,null,null,null,null,null,null,19,"-",300.87,null,null,null,21,"-",281.07,null,null,null,52,"-",263.39999999999998,null,null,null,47,"-",251.87]
["Ellie Jackson","F",2002,"U14",21024,null,null,327.05,null,319.83,null,null,null,null,null,null,null,null,null,null,null,null,null,null,null,null,null,null,null,null,null,null,null,null,null,null,null,null,null,null,null,null,null,null,null,null,null,null,null,null,null,null,null,null,null,null,null,null,null,null,5,null,340.23,313.87,8,null,323.58,316.08]
["Ella Giles","F",2003,"U14",22176,null,null,393.46,null,372.52,null,532.44000000000005,null,null,null,null,null,null,null,null,null,null,null,null,null,null,null,null,null,null,null,null,null,null,null,null,null,null,null,null,null,null,null,null,null,null,null,null,null,null,null,null,null,null,null,null,null,null,null,null,null,null,null,null,null,null,null,null,null,null,null,"-",35,478.91,478.37,null,null,null,null,null,null,null,null,null,68,"-",484.04,null,null,null,"-","-","dns",null,null,null,null,null,null,"-","-",461.37,"dnf",null,16,{"$f":"208.88+212.16","v":421.03999999999996},{"$f":"147.35+218.53","v":365.88},null,null,null,null,20,{"$f":"190.34+189.4","v":379.74},{"$f":"176.76+188.53","v":365.28999999999996},null,null,null,null,"-","dns",null,"-","-","dsq"]
["MALES"]
["Oliver Weeks","M",2001,"U16",19051,null,172,172,182.77,182.77,239.1,228.55,null,null,null,"dnf",null,"-",null,null,null,5,null,{"$f":"30.85+150.9","v":181.75},4,null,{"$f":"36.5+147.55","v":184.05},10,null,{"$f":"59.87+150.15","v":210.02},null,null,null,null,null,null,null,null,null,null,null,null,null,null,null,null,null,null,null,null,null,null,null,null,null,null,null,null,null,null,8,null,195.95,null,"dnf",null,"-",null,null,null,null,null,null,null,null,null,null,null,null,null,null,null,null,null,11,10,207.77,null,null,null,"-","-","dns",null,null,null,null,null,null,"-",6,176.37,null,null,null,null,null,null,null,null,null,null,null,null,null,null,null,null,null,null,null,null,null,null,null,null,null,null,null,15,"ns","-","-","dnf",null,18,15,208.99,"-",7,186.88,null,"-",11,183.4]
["Thomas Upton","M",2001,"U16",21051,null,null,228.91,null,320.05,null,299.82,null,null,null,null,null,null,null,null,null,null,null,null,null,null,null,null,null,null,null,null,null,null,null,null,null,null,null,null,null,null,null,null,null,null,null,null,null,null,null,null,null,null,null,null,null,null,null,null,null,null,null,null,null,null,null,null,null,null,null,"-",29,290.95,null,null,null,null,null,null,null,null,null,null,54,"-",317.54000000000002,null,null,null,50,"-",282.10000000000002,null,null,null,null,null,null,"-",9,208.1,null,null,null,null,null,null,null,null,null,null,null,null,null,null,null,null,null,null,null,null,null,null,null,null,null,null,null,26,"ns","-","-","dnf",null,50,null,304.86,"-",17,273.05,null,"-",25,263.79000000000002]
["Thomas Lawrence","M",1999,"U18",19941,null,297.66000000000003,297.66000000000003,313.25,313.25,null,null,null,null,null,null,null,null,null,null,null,null,null,null,null,null,null,null,null,null,null,null,null,null,null,null,null,null,null,null,null,null,null,null,null,null,null,null,null,null,null,null,null,null,null,null,null,null,null,null,null,null,null,null,null,null,null,null,null,null,null,null,null,null,null,null,null,null,null,null,null,null,null,null,null,null,null,null,null,null,null,null,null,null,null,null,null,null,null,null,null,null,null,null,null,null,null,null,23,{"$f":"197.51+133.53","v":331.03999999999996},null,null,null,null,null,null,null,16,11,{"$f":"160.71+169.1","v":329.81},null,null,"-","dnf"]
["Thomas Jinks","M",2001,"U16",22484,null,430.81,325.20999999999998,381.35,318.8,455.98,452.23,null,null,null,41,null,{"$f":"182.6+154.19","v":336.78999999999996},null,null,null,24,null,{"$f":"219.24+150.9","v":370.14},30,null,{"$f":"192.39+147.55","v":339.94},29,null,{"$f":"182.83+150.15","v":332.98},null,null,null,null,null,null,null,null,null,null,null,null,null,null,null,null,null,null,null,null,null,null,null,null,null,null,null,null,null,null,null,null,null,null,null,null,null,null,null,null,null,"-",40,441.78,null,null,null,null,null,null,null,null,null,null,94,"-",466.99,null,null,null,97,"-",437.46,null,null,null,null,null,null,"-","-","dnf",null,null,null,null,null,null,32,{"$f":"173.24+153.51","v":326.75},null,null,null,null,null,null,null,null,14,{"$f":"145.02+165.83","v":310.85000000000002},null,null,5,{"$f":"173.64+146.84","v":320.48},null,null,null,null,null,35,"ns",null,26,426.49,null,80,null,436.74,"-",32,412.01,null,"-",30,359.78]
["Daniel Giles","M",2003,"U14",22203,null,null,null,null,null,null,null,null,null,null,null,null,null,null,null,null,null,null,null,null,null,null,null,null,null,null,null,null,null,null,null,null,null,null,null,null,null,null,null,null,null,null,null,null,null,null,null,null,null,null,null,null,null,null,null,null,null,null,null,null,null,null,null,null,null,null,null,null,null,null,null,null,null,null,null,null,null,null,null,null,null,null,null,null,null,null,null,null,null,null,null,null,null,null,null,null,null,null,null,31,{"$f":"219.25+221.36","v":440.61},{"$f":"272.85+188.94","v":461.79},null,null,null,null,49,{"$f":"351.04+206.09","v":557.13},{"$f":"341+211.81","v":552.80999999999995},null,null,null,null,14,{"$f":"175.27+222.87","v":398.14},{"$f":"180.25+220.43","v":400.68},null,10,{"$f":"207.68+207.64","v":415.32},{"$f":"230.23+220.8","v":451.03}]
["Alex Johnson","M",1999,"U18","nr",null,null,null,null,null,null,null,null,null,null,null,null,null,null,null,null,null,null,null,null,null,null,null,null,null,null,null,null,null,null,null,null,null,null,null,null,null,null,null,null,null,null,null,null,null,null,null,null,null,null,null,null,null,null,null,null,null,null,null,null,null,null,null,null,null,null,null,null,null,null,null,null,null,null,null,null,null,null,null,null,null,null,null,null,null,null,null,null,null,null,null,null,null,null,null,null,null,null,null,null,null,null,null,24,{"$f":"198.54+133.53","v":332.07},null,null,null,null,null,null,null,null,"-","dnf",null,null,11,{"$f":"322.43+139.78","v":462.21000000000004}]
["George Daly","M",2002,"U14","nr",null,null,null,null,null,null,null,null,null,null,null,null,null,null,null,null,null,null,null,null,null,null,null,null,null,null,null,null,null,null,null,null,null,null,null,null,null,null,null,null,null,null,null,null,null,null,null,null,null,null,null,null,null,null,null,null,null,null,null,null,null,null,null,null,null,null,null,null,null,null,null,null,null,null,null,null,null,null,null,null,null,null,null,null,null,null,null,null,null,null,null,null,null,null,null,null,null,null,null,"-",{"$f":"232.52+221.36","v":453.88},"dnf",null,null,null,null,40,{"$f":"289.21+206.09","v":495.29999999999995},{"$f":"275.71+211.81","v":487.52},null,null,null,null,15,"ns","ns",null,"-","dnf","dsq"]
["James Shakeshaft","M",2003,"U14","nr",null,null,null,null,null,null,null,null,null,null,null,null,null,null,null,null,null,null,null,null,null,null,null,null,null,null,null,null,null,null,null,null,null,null,null,null,null,null,null,null,null,null,null,null,null,null,null,null,null,null,null,null,null,null,null,null,null,null,null,null,null,null,null,null,null,null,null,null,null,null,null,null,null,null,null,null,null,null,null,null,null,null,null,null,null,null,null,null,null,null,null,null,null,null,null,null,null,null,null,"-",{"$f":"241.33+221.36","v":462.69000000000005},"dsq",null,null,null,null,48,{"$f":"317.35+206.09","v":523.44000000000005},{"$f":"374.72+211.81","v":586.53}]
[]
["Figures in  blue - lowest points this year.",null,null,null,null,null,null,null,null,null,null,null,null,null,null,null,null,null,null,null,null,null,null,null,null,null,null,null,null,null,null,null,null,null,null,null,null,null,null,null,null,null,null,null,null,null,null,null,null,null,null,null,null,null,null,null,null,null,null,null,null,null,null,null,null,null,null,null," ",null,null," "]

{"sheet":"Points Calculation","index":1,"n_rows":83,"n_cols":116,"rows_kept":83,"cut":false,"hidden":true,"merged":[[1,61,1,68],[1,70,1,77],[1,101,1,104],[1,96,1,99]]}
["Race",{"$f":"'Races, Positions & Points'!M2","v":"BSA SL U10/12"},{"$f":"'Races, Positions & Points'!P2","v":"BSA SL U14/16"},{"$f":"'Races, Positions & Points'!#REF!","v":{"$error":"#REF!"}},{"$f":"'Races, Positions & Points'!S2","v":"Anglo-Scot SL U10/12"},{"$f":"'Races, Positions & Points'!S2","v":"Anglo-Scot SL U10/12"},{"$f":"'Races, Positions & Points'!W2","v":0},{"$f":"'Races, Positions & Points'!W2","v":0},{"$f":"'Races, Positions & Points'!Z2","v":0},{"$f":"'Races, Positions & Points'!#REF!","v":{"$error":"#REF!"}},{"$f":"'Races, Positions & Points'!AB2","v":"BSA GS"},{"$f":"'Races, Positions & Points'!#REF!","v":{"$error":"#REF!"}},{"$f":"'Races, Positions & Points'!#REF!","v":{"$error":"#REF!"}},{"$f":"'Races, Positions & Points'!AS2","v":0},{"$f":"'Races, Positions & Points'!AV2","v":0},{"$f":"'Races, Positions & Points'!AY2","v":0},{"$f":"'Races, Positions & Points'!BB2","v":0},{"$f":"'Races, Positions & Points'!BK2","v":0},{"$f":"'Races, Positions & Points'!BO2","v":0},{"$f":"'Races, Positions & Points'!#REF!","v":{"$error":"#REF!"}},{"$f":"'Races, Positions & Points'!BT2","v":"Eng Ch GS U16/14"},{"$f":"'Races, Positions & Points'!CA2","v":"Eng Ch GS U12/10"},{"$f":"'Races, Positions & Points'!CG2","v":"Eng Ch SG1"},{"$f":"'Races, Positions & Points'!CG2","v":"Eng Ch SG1"},{"$f":"'Races, Positions & Points'!CM2","v":"Eng Ch SG2"},{"$f":"'Races, Positions & Points'!CV2","v":"Eng Ch SL U16/14"},{"$f":"'Races, Positions & Points'!CS2","v":"Eng Ch Combi U12/10"},{"$f":"'Races, Positions & Points'!DA2","v":0},{"$f":"'Races, Positions & Points'!DD2","v":"In'sch's U10/U12/U16+ GS"},{"$f":"'Races, Positions & Points'!DM2","v":0},{"$f":"'Races, Positions & Points'!DG2","v":"In'sch's U14 GS"},{"$f":"'Races, Positions & Points'!DQ2","v":0},{"$f":"'Races, Positions & Points'!#REF!","v":{"$error":"#REF!"}},{"$f":"'Races, Positions & Points'!DT2","v":0},{"$f":"'Races, Positions & Points'!#REF!","v":{"$error":"#REF!"}},{"$f":"'Races, Positions & Points'!DV2","v":"Scot. Bains Bucket"},{"$f":"'Races, Positions & Points'!DY2","v":"British Champs Kombi"},{"$f":"'Races, Positions & Points'!EB2","v":"British Champs GS"},{"$f":"'Races, Positions & Points'!EF2","v":"Br Champs SG"},{"$f":"'Races, Positions & Points'!#REF!","v":{"$error":"#REF!"}},{"$f":"'Races, Positions & Points'!EI2","v":"British Champs GS"},{"$f":"'Races, Positions & Points'!EM2","v":"British Champs SL"},{"$f":"'Races, Positions & Points'!EP2","v":0},{"$f":"'Races, Positions & Points'!ES2","v":0},{"$f":"'Races, Positions & Points'!EV2","v":0},{"$f":"'Races, Positions & Points'!#REF!","v":{"$error":"#REF!"}},{"$f":"'Races, Positions & Points'!#REF!","v":{"$error":"#REF!"}},{"$f":"'Races, Positions & Points'!#REF!","v":{"$error":"#REF!"}},{"$f":"'Races, Positions & Points'!#REF!","v":{"$error":"#REF!"}},{"$f":"'Races, Positions & Points'!#REF!","v":{"$error":"#REF!"}},{"$f":"'Races, Positions & Points'!#REF!","v":{"$error":"#REF!"}},null,"CN/10pt In","CN/10 pt Out","GBR In","GBR Out","Ch In","Ch Out",null,"Registration Number","Start of Year Points","Best Race Points","Second Best Race Points","Points Calc Based on Best Two Races","Points Based on Best Result and start of year","Points Calc Based on Best Race Plus 20% Loading","Points","End of Season Maximum","Projected End of Season Points",null,"Best Race Points","Second Best Race Points","Points Calc Based on Best Two Races","Points Based on Best Result and start of year","Points Calc Based on Best Race Plus 20% Loading","Points","End of Season Maximum","Projected End of Season Points",null,"min Castleford","min CF","min Braehead","min Hemel","min Pontypool","min glos","min Pendle","min FirPark","min Hillend","min Sunderland","min Bromley","min Norfolk","min Ipswich","min welwyn","min Southampton","min Dublin",null,"Best Race Points (0/5pt races)","Second Best Race Points  (0/5pt races)","Points Calc Based on Best Two Races  (0/5pt races)","Points Calc Based on Best Race Plus 20% Loading  (0/5pt races)",null,"Best Race Points (0/5pt races)","Second Best Race Points  (0/5pt races)","Points Calc Based on Best Two Races  (0/5pt races)","Points Calc Based on Best Race Plus 20% Loading  (0/5pt races)",null,"min Castleford  (0/5pt races)","min CF  (0/5pt races)","min Braehead  (0/5pt races)","min Pontypool  (0/5pt races)","min glos  (0/5pt races)","min Pendle  (0/5pt races)","min Hillend  (0/5pt races)","min Sunderland  (0/5pt races)","min Norfolk  (0/5pt races)","min Dublin  (0/5pt races)"]
["Venue",{"$f":"'Races, Positions & Points'!M3","v":"Chamonix Planards, FR"},{"$f":"'Races, Positions & Points'!P3","v":"Les Houches, FR"},{"$f":"'Races, Positions & Points'!#REF!","v":{"$error":"#REF!"}},{"$f":"'Races, Positions & Points'!S3","v":"Chamonix Planards, FR"},{"$f":"'Races, Positions & Points'!S3","v":"Chamonix Planards, FR"},{"$f":"'Races, Positions & Points'!W3","v":0},{"$f":"'Races, Positions & Points'!W3","v":0},{"$f":"'Races, Positions & Points'!Z3","v":0},{"$f":"'Races, Positions & Points'!#REF!","v":{"$error":"#REF!"}},{"$f":"'Races, Positions & Points'!AB3","v":"Les Houches, FR"},{"$f":"'Races, Positions & Points'!#REF!","v":{"$error":"#REF!"}},{"$f":"'Races, Positions & Points'!#REF!","v":{"$error":"#REF!"}},{"$f":"'Races, Positions & Points'!AS3","v":0},{"$f":"'Races, Positions & Points'!AV3","v":0},{"$f":"'Races, Positions & Points'!AY3","v":0},{"$f":"'Races, Positions & Points'!BB3","v":0},{"$f":"'Races, Positions & Points'!BK3","v":0},{"$f":"'Races, Positions & Points'!BO3","v":0},{"$f":"'Races, Positions & Points'!#REF!","v":{"$error":"#REF!"}},{"$f":"'Races, Positions & Points'!BT3","v":"Bormio, IT"},{"$f":"'Races, Positions & Points'!CA3","v":"Bormio, IT"},{"$f":"'Races, Positions & Points'!CG3","v":"Bormio, IT"},{"$f":"'Races, Positions & Points'!CG3","v":"Bormio, IT"},{"$f":"'Races, Positions & Points'!CM3","v":"Bormio, IT"},{"$f":"'Races, Positions & Points'!CV3","v":"Bormio, IT"},{"$f":"'Races, Positions & Points'!CS3","v":"Bormio, IT"},{"$f":"'Races, Positions & Points'!DA3","v":0},{"$f":"'Races, Positions & Points'!DD3","v":"Les Houches, FR"},{"$f":"'Races, Positions & Points'!DM3","v":0},{"$f":"'Races, Positions & Points'!DG3","v":"Les Houches, FR"},{"$f":"'Races, Positions & Points'!DQ3","v":0},{"$f":"'Races, Positions & Points'!#REF!","v":{"$error":"#REF!"}},{"$f":"'Races, Positions & Points'!DT3","v":0},{"$f":"'Races, Positions & Points'!#REF!","v":{"$error":"#REF!"}},{"$f":"'Races, Positions & Points'!DV3","v":"Nevis, SCO"},{"$f":"'Races, Positions & Points'!DY3","v":"Tignes, FR"},{"$f":"'Races, Positions & Points'!EB3","v":"Tignes, FR"},{"$f":"'Races, Positions & Points'!EF3","v":"Tignes, FR"},{"$f":"'Races, Positions & Points'!#REF!","v":{"$error":"#REF!"}},{"$f":"'Races, Positions & Points'!EI3","v":"Tignes, FR"},{"$f":"'Races, Positions & Points'!EM3","v":"Tignes, FR"},{"$f":"'Races, Positions & Points'!EP3","v":0},{"$f":"'Races, Positions & Points'!ES3","v":0},{"$f":"'Races, Positions & Points'!EV3","v":0},{"$f":"'Races, Positions & Points'!#REF!","v":{"$error":"#REF!"}},{"$f":"'Races, Positions & Points'!#REF!","v":{"$error":"#REF!"}},{"$f":"'Races, Positions & Points'!#REF!","v":{"$error":"#REF!"}},{"$f":"'Races, Positions & Points'!#REF!","v":{"$error":"#REF!"}},{"$f":"'Races, Positions & Points'!#REF!","v":{"$error":"#REF!"}},{"$f":"'Races, Positions & Points'!#REF!","v":{"$error":"#REF!"}},null,null,null,null,null,null,null,null,null,null,"Outdoor",null,null,null,null,null,null,null,null,"Indoor",null,null,null,null,null,null,null,null,null,null,null,null,null,null,null,null,null,null,null,null,null,null,null,null,null,"Outdoor",null,null,null,null,"Indoor"]
["Min Penalty",{"$f":"'Races, Positions & Points'!#REF!","v":{"$error":"#REF!"}},{"$f":"'Races, Positions & Points'!#REF!","v":{"$error":"#REF!"}},{"$f":"'Races, Positions & Points'!#REF!","v":{"$error":"#REF!"}},{"$f":"'Races, Positions & Points'!#REF!","v":{"$error":"#REF!"}},{"$f":"'Races, Positions & Points'!#REF!","v":{"$error":"#REF!"}},{"$f":"'Races, Positions & Points'!#REF!","v":{"$error":"#REF!"}},{"$f":"'Races, Positions & Points'!#REF!","v":{"$error":"#REF!"}},{"$f":"'Races, Positions & Points'!#REF!","v":{"$error":"#REF!"}},{"$f":"'Races, Positions & Points'!#REF!","v":{"$error":"#REF!"}},{"$f":"'Races, Positions & Points'!#REF!","v":{"$error":"#REF!"}},{"$f":"'Races, Positions & Points'!#REF!","v":{"$error":"#REF!"}},{"$f":"'Races, Positions & Points'!#REF!","v":{"$error":"#REF!"}},{"$f":"'Races, Positions & Points'!#REF!","v":{"$error":"#REF!"}},{"$f":"'Races, Positions & Points'!#REF!","v":{"$error":"#REF!"}},{"$f":"'Races, Positions & Points'!#REF!","v":{"$error":"#REF!"}},{"$f":"'Races, Positions & Points'!#REF!","v":{"$error":"#REF!"}},{"$f":"'Races, Positions & Points'!#REF!","v":{"$error":"#REF!"}},{"$f":"'Races, Positions & Points'!#REF!","v":{"$error":"#REF!"}},{"$f":"'Races, Positions & Points'!#REF!","v":{"$error":"#REF!"}},{"$f":"'Races, Positions & Points'!#REF!","v":{"$error":"#REF!"}},{"$f":"'Races, Positions & Points'!#REF!","v":{"$error":"#REF!"}},{"$f":"'Races, Positions & Points'!#REF!","v":{"$error":"#REF!"}},{"$f":"'Races, Positions & Points'!#REF!","v":{"$error":"#REF!"}},{"$f":"'Races, Positions & Points'!#REF!","v":{"$error":"#REF!"}},{"$f":"'Races, Positions & Points'!#REF!","v":{"$error":"#REF!"}},{"$f":"'Races, Positions & Points'!#REF!","v":{"$error":"#REF!"}},{"$f":"'Races, Positions & Points'!#REF!","v":{"$error":"#REF!"}},{"$f":"'Races, Positions & Points'!#REF!","v":{"$error":"#REF!"}},{"$f":"'Races, Positions & Points'!#REF!","v":{"$error":"#REF!"}},{"$f":"'Races, Positions & Points'!#REF!","v":{"$error":"#REF!"}},{"$f":"'Races, Positions & Points'!#REF!","v":{"$error":"#REF!"}},{"$f":"'Races, Positions & Points'!#REF!","v":{"$error":"#REF!"}},{"$f":"'Races, Positions & Points'!#REF!","v":{"$error":"#REF!"}},{"$f":"'Races, Positions & Points'!#REF!","v":{"$error":"#REF!"}},{"$f":"'Races, Positions & Points'!#REF!","v":{"$error":"#REF!"}},{"$f":"'Races, Positions & Points'!#REF!","v":{"$error":"#REF!"}},{"$f":"'Races, Positions & Points'!#REF!","v":{"$error":"#REF!"}},{"$f":"'Races, Positions & Points'!#REF!","v":{"$error":"#REF!"}},{"$f":"'Races, Positions & Points'!#REF!","v":{"$error":"#REF!"}},{"$f":"'Races, Positions & Points'!#REF!","v":{"$error":"#REF!"}},{"$f":"'Races, Positions & Points'!#REF!","v":{"$error":"#REF!"}},{"$f":"'Races, Positions & Points'!#REF!","v":{"$error":"#REF!"}},{"$f":"'Races, Positions & Points'!#REF!","v":{"$error":"#REF!"}},{"$f":"'Races, Positions & Points'!#REF!","v":{"$error":"#REF!"}},{"$f":"'Races, Positions & Points'!#REF!","v":{"$error":"#REF!"}},{"$f":"'Races, Positions & Points'!#REF!","v":{"$error":"#REF!"}},{"$f":"'Races, Positions & Points'!#REF!","v":{"$error":"#REF!"}},{"$f":"'Races, Positions & Points'!#REF!","v":{"$error":"#REF!"}},{"$f":"'Races, Positions & Points'!#REF!","v":{"$error":"#REF!"}},{"$f":"'Races, Positions & Points'!#REF!","v":{"$error":"#REF!"}}]
["Type",{"$f":"'Races, Positions & Points'!#REF!","v":{"$error":"#REF!"}},{"$f":"'Races, Positions & Points'!#REF!","v":{"$error":"#REF!"}},{"$f":"'Races, Positions & Points'!#REF!","v":{"$error":"#REF!"}},{"$f":"'Races, Positions & Points'!#REF!","v":{"$error":"#REF!"}},{"$f":"'Races, Positions & Points'!#REF!","v":{"$error":"#REF!"}},{"$f":"'Races, Positions & Points'!#REF!","v":{"$error":"#REF!"}},{"$f":"'Races, Positions & Points'!#REF!","v":{"$error":"#REF!"}},{"$f":"'Races, Positions & Points'!#REF!","v":{"$error":"#REF!"}},{"$f":"'Races, Positions & Points'!#REF!","v":{"$error":"#REF!"}},{"$f":"'Races, Positions & Points'!#REF!","v":{"$error":"#REF!"}},{"$f":"'Races, Positions & Points'!#REF!","v":{"$error":"#REF!"}},{"$f":"'Races, Positions & Points'!#REF!","v":{"$error":"#REF!"}},{"$f":"'Races, Positions & Points'!#REF!","v":{"$error":"#REF!"}},{"$f":"'Races, Positions & Points'!#REF!","v":{"$error":"#REF!"}},{"$f":"'Races, Positions & Points'!#REF!","v":{"$error":"#REF!"}},{"$f":"'Races, Positions & Points'!#REF!","v":{"$error":"#REF!"}},{"$f":"'Races, Positions & Points'!#REF!","v":{"$error":"#REF!"}},{"$f":"'Races, Positions & Points'!#REF!","v":{"$error":"#REF!"}},{"$f":"'Races, Positions & Points'!#REF!","v":{"$error":"#REF!"}},{"$f":"'Races, Positions & Points'!#REF!","v":{"$error":"#REF!"}},{"$f":"'Races, Positions & Points'!#REF!","v":{"$error":"#REF!"}},{"$f":"'Races, Positions & Points'!#REF!","v":{"$error":"#REF!"}},{"$f":"'Races, Positions & Points'!#REF!","v":{"$error":"#REF!"}},{"$f":"'Races, Positions & Points'!#REF!","v":{"$error":"#REF!"}},{"$f":"'Races, Positions & Points'!#REF!","v":{"$error":"#REF!"}},{"$f":"'Races, Positions & Points'!#REF!","v":{"$error":"#REF!"}},{"$f":"'Races, Positions & Points'!#REF!","v":{"$error":"#REF!"}},{"$f":"'Races, Positions & Points'!#REF!","v":{"$error":"#REF!"}},{"$f":"'Races, Positions & Points'!#REF!","v":{"$error":"#REF!"}},{"$f":"'Races, Positions & Points'!#REF!","v":{"$error":"#REF!"}},{"$f":"'Races, Positions & Points'!#REF!","v":{"$error":"#REF!"}},{"$f":"'Races, Positions & Points'!#REF!","v":{"$error":"#REF!"}},{"$f":"'Races, Positions & Points'!#REF!","v":{"$error":"#REF!"}},{"$f":"'Races, Positions & Points'!#REF!","v":{"$error":"#REF!"}},{"$f":"'Races, Positions & Points'!#REF!","v":{"$error":"#REF!"}},{"$f":"'Races, Positions & Points'!#REF!","v":{"$error":"#REF!"}},{"$f":"'Races, Positions & Points'!#REF!","v":{"$error":"#REF!"}},{"$f":"'Races, Positions & Points'!#REF!","v":{"$error":"#REF!"}},{"$f":"'Races, Positions & Points'!#REF!","v":{"$error":"#REF!"}},{"$f":"'Races, Positions & Points'!#REF!","v":{"$error":"#REF!"}},{"$f":"'Races, Positions & Points'!#REF!","v":{"$error":"#REF!"}},{"$f":"'Races, Positions & Points'!#REF!","v":{"$error":"#REF!"}},{"$f":"'Races, Positions & Points'!#REF!","v":{"$error":"#REF!"}},{"$f":"'Races, Positions & Points'!#REF!","v":{"$error":"#REF!"}},{"$f":"'Races, Positions & Points'!#REF!","v":{"$error":"#REF!"}},{"$f":"'Races, Positions & Points'!#REF!","v":{"$error":"#REF!"}},{"$f":"'Races, Positions & Points'!#REF!","v":{"$error":"#REF!"}},{"$f":"'Races, Positions & Points'!#REF!","v":{"$error":"#REF!"}},{"$f":"'Races, Positions & Points'!#REF!","v":{"$error":"#REF!"}},{"$f":"'Races, Positions & Points'!#REF!","v":{"$error":"#REF!"}}]
["Separate Event?","Y","Y","Y","Y","N","Y","N","Y","Y","Y","Y","Y","Y","Y","Y","Y","Y","Y","Y","Y","Y","Y","N","Y","Y","Y","Y","Y","Y","Y","Y","Y","Y","Y","Y","Y","Y","Y","Y","Y","Y","Y","Y","Y","Y","Y","Y","Y","Y","Y"]
[]
[]
[{"$f":"'Races, Positions & Points'!#REF!","v":{"$error":"#REF!"}},{"$f":"IF('Races, Positions & Points'!#REF!=\"\",\"\",'Races, Positions & Points'!#REF!)","v":{"$error":"#REF!"}},{"$f":"IF('Races, Positions & Points'!#REF!=\"\",\"\",'Races, Positions & Points'!#REF!)","v":{"$error":"#REF!"}},{"$f":"IF('Races, Positions & Points'!#REF!=\"\",\"\",'Races, Positions & Points'!#REF!)","v":{"$error":"#REF!"}},{"$f":"IF('Races, Positions & Points'!#REF!=\"\",\"\",'Races, Positions & Points'!#REF!)","v":{"$error":"#REF!"}},{"$f":"IF('Races, Positions & Points'!#REF!=\"\",\"\",'Races, Positions & Points'!#REF!)","v":{"$error":"#REF!"}},{"$f":"IF('Races, Positions & Points'!#REF!=\"\",\"\",'Races, Positions & Points'!#REF!)","v":{"$error":"#REF!"}},{"$f":"IF('Races, Positions & Points'!#REF!=\"\",\"\",'Races, Positions & Points'!#REF!)","v":{"$error":"#REF!"}},{"$f":"IF('Races, Positions & Points'!#REF!=\"\",\"\",'Races, Positions & Points'!#REF!)","v":{"$error":"#REF!"}},{"$f":"IF('Races, Positions & Points'!#REF!=\"\",\"\",'Races, Positions & Points'!#REF!)","v":{"$error":"#REF!"}},{"$f":"IF('Races, Positions & Points'!#REF!=\"\",\"\",'Races, Positions & Points'!#REF!)","v":{"$error":"#REF!"}},{"$f":"IF('Races, Positions & Points'!#REF!=\"\",\"\",'Races, Positions & Points'!#REF!)","v":{"$error":"#REF!"}},{"$f":"IF('Races, Positions & Points'!#REF!=\"\",\"\",'Races, Positions & Points'!#REF!)","v":{"$error":"#REF!"}},{"$f":"IF('Races, Positions & Points'!#REF!=\"\",\"\",'Races, Positions & Points'!#REF!)","v":{"$error":"#REF!"}},{"$f":"IF('Races, Positions & Points'!#REF!=\"\",\"\",'Races, Positions & Points'!#REF!)","v":{"$error":"#REF!"}},{"$f":"IF('Races, Positions & Points'!#REF!=\"\",\"\",'Races, Positions & Points'!#REF!)","v":{"$error":"#REF!"}},{"$f":"IF('Races, Positions & Points'!#REF!=\"\",\"\",'Races, Positions & Points'!#REF!)","v":{"$error":"#REF!"}},{"$f":"IF('Races, Positions & Points'!#REF!=\"\",\"\",'Races, Positions & Points'!#REF!)","v":{"$error":"#REF!"}},{"$f":"IF('Races, Positions & Points'!#REF!=\"\",\"\",'Races, Positions & Points'!#REF!)","v":{"$error":"#REF!"}},{"$f":"IF('Races, Positions & Points'!#REF!=\"\",\"\",'Races, Positions & Points'!#REF!)","v":{"$error":"#REF!"}},{"$f":"IF('Races, Positions & Points'!#REF!=\"\",\"\",'Races, Positions & Points'!#REF!)","v":{"$error":"#REF!"}},{"$f":"IF('Races, Positions & Points'!#REF!=\"\",\"\",'Races, Positions & Points'!#REF!)","v":{"$error":"#REF!"}},{"$f":"IF('Races, Positions & Points'!#REF!=\"\",\"\",'Races, Positions & Points'!#REF!)","v":{"$error":"#REF!"}},{"$f":"IF('Races, Positions & Points'!#REF!=\"\",\"\",'Races, Positions & Points'!#REF!)","v":{"$error":"#REF!"}},{"$f":"IF('Races, Positions & Points'!#REF!=\"\",\"\",'Races, Positions & Points'!#REF!)","v":{"$error":"#REF!"}},{"$f":"IF('Races, Positions & Points'!#REF!=\"\",\"\",'Races, Positions & Points'!#REF!)","v":{"$error":"#REF!"}},{"$f":"IF('Races, Positions & Points'!#REF!=\"\",\"\",'Races, Positions & Points'!#REF!)","v":{"$error":"#REF!"}},{"$f":"IF('Races, Positions & Points'!#REF!=\"\",\"\",'Races, Positions & Points'!#REF!)","v":{"$error":"#REF!"}},{"$f":"IF('Races, Positions & Points'!#REF!=\"\",\"\",'Races, Positions & Points'!#REF!)","v":{"$error":"#REF!"}},{"$f":"IF('Races, Positions & Points'!#REF!=\"\",\"\",'Races, Positions & Points'!#REF!)","v":{"$error":"#REF!"}},{"$f":"IF('Races, Positions & Points'!#REF!=\"\",\"\",'Races, Positions & Points'!#REF!)","v":{"$error":"#REF!"}},{"$f":"IF('Races, Positions & Points'!#REF!=\"\",\"\",'Races, Positions & Points'!#REF!)","v":{"$error":"#REF!"}},{"$f":"IF('Races, Positions & Points'!#REF!=\"\",\"\",'Races, Positions & Points'!#REF!)","v":{"$error":"#REF!"}},{"$f":"IF('Races, Positions & Points'!#REF!=\"\",\"\",'Races, Positions & Points'!#REF!)","v":{"$error":"#REF!"}},{"$f":"IF('Races, Positions & Points'!#REF!=\"\",\"\",'Races, Positions & Points'!#REF!)","v":{"$error":"#REF!"}},{"$f":"IF('Races, Positions & Points'!#REF!=\"\",\"\",'Races, Positions & Points'!#REF!)","v":{"$error":"#REF!"}},{"$f":"IF('Races, Positions & Points'!#REF!=\"\",\"\",'Races, Positions & Points'!#REF!)","v":{"$error":"#REF!"}},{"$f":"IF('Races, Positions & Points'!#REF!=\"\",\"\",'Races, Positions & Points'!#REF!)","v":{"$error":"#REF!"}},{"$f":"IF('Races, Positions & Points'!#REF!=\"\",\"\",'Races, Positions & Points'!#REF!)","v":{"$error":"#REF!"}},{"$f":"IF('Races, Positions & Points'!#REF!=\"\",\"\",'Races, Positions & Points'!#REF!)","v":{"$error":"#REF!"}},{"$f":"IF('Races, Positions & Points'!#REF!=\"\",\"\",'Races, Positions & Points'!#REF!)","v":{"$error":"#REF!"}},{"$f":"IF('Races, Positions & Points'!#REF!=\"\",\"\",'Races, Positions & Points'!#REF!)","v":{"$error":"#REF!"}},{"$f":"IF('Races, Positions & Points'!#REF!=\"\",\"\",'Races, Positions & Points'!#REF!)","v":{"$error":"#REF!"}},{"$f":"IF('Races, Positions & Points'!#REF!=\"\",\"\",'Races, Positions & Points'!#REF!)","v":{"$error":"#REF!"}},{"$f":"IF('Races, Positions & Points'!#REF!=\"\",\"\",'Races, Positions & Points'!#REF!)","v":{"$error":"#REF!"}},{"$f":"IF('Races, Positions & Points'!#REF!=\"\",\"\",'Races, Positions & Points'!#REF!)","v":{"$error":"#REF!"}},{"$f":"IF('Races, Positions & Points'!#REF!=\"\",\"\",'Races, Positions & Points'!#REF!)","v":{"$error":"#REF!"}},{"$f":"IF('Races, Positions & Points'!#REF!=\"\",\"\",'Races, Positions & Points'!#REF!)","v":{"$error":"#REF!"}},{"$f":"IF('Races, Positions & Points'!#REF!=\"\",\"\",'Races, Positions & Points'!#REF!)","v":{"$error":"#REF!"}},{"$f":"IF('Races, Positions & Points'!#REF!=\"\",\"\",'Races, Positions & Points'!#REF!)","v":{"$error":"#REF!"}},{"$f":"IF('Races, Positions & Points'!#REF!=\"\",\"\",'Races, Positions & Points'!#REF!)","v":{"$error":"#REF!"}},null,{"$f":"SUMPRODUCT(--(B$4:AY$4=\"In\"),--(B$3:AY$3>5),--(B$5:AY$5=\"Y\"),--(B8:AY8<>\"\"))","v":{"$error":"#REF!"}},{"$f":"SUMPRODUCT(--(B$4:AY$4=\"Out\"),--(B$3:AY$3>5),--(B$5:AY$5=\"Y\"),--(B8:AY8<>\"\"))","v":{"$error":"#REF!"}},{"$f":"SUMPRODUCT(--(B$4:AY$4=\"In\"),--(B$3:AY$3=5),--(B$5:AY$5=\"Y\"),--(B8:AY8<>\"\"))","v":{"$error":"#REF!"}},{"$f":"SUMPRODUCT(--(B$4:AY$4=\"Out\"),--(B$3:AY$3=5),--(B$5:AY$5=\"Y\"),--(B8:AY8<>\"\"))","v":{"$error":"#REF!"}},{"$f":"SUMPRODUCT(--(B$4:AY$4=\"In\"),--(B$3:AY$3=0),--(B$5:AY$5=\"Y\"),--(B8:AY8<>\"\"))","v":{"$error":"#REF!"}},{"$f":"SUMPRODUCT(--(B$4:AY$4=\"Out\"),--(B$3:AY$3=0),--(B$5:AY$5=\"Y\"),--(B8:AY8<>\"\"))","v":{"$error":"#REF!"}},null,{"$f":"'Races, Positions & Points'!#REF!","v":{"$error":"#REF!"}}]
[{"$f":"'Races, Positions & Points'!#REF!","v":{"$error":"#REF!"}},{"$f":"IF('Races, Positions & Points'!#REF!=\"\",\"\",'Races, Positions & Points'!#REF!)","v":{"$error":"#REF!"}},{"$f":"IF('Races, Positions & Points'!#REF!=\"\",\"\",'Races, Positions & Points'!#REF!)","v":{"$error":"#REF!"}},{"$f":"IF('Races, Positions & Points'!#REF!=\"\",\"\",'Races, Positions & Points'!#REF!)","v":{"$error":"#REF!"}},{"$f":"IF('Races, Positions & Points'!#REF!=\"\",\"\",'Races, Positions & Points'!#REF!)","v":{"$error":"#REF!"}},{"$f":"IF('Races, Positions & Points'!#REF!=\"\",\"\",'Races, Positions & Points'!#REF!)","v":{"$error":"#REF!"}},{"$f":"IF('Races, Positions & Points'!#REF!=\"\",\"\",'Races, Positions & Points'!#REF!)","v":{"$error":"#REF!"}},{"$f":"IF('Races, Positions & Points'!#REF!=\"\",\"\",'Races, Positions & Points'!#REF!)","v":{"$error":"#REF!"}},{"$f":"IF('Races, Positions & Points'!#REF!=\"\",\"\",'Races, Positions & Points'!#REF!)","v":{"$error":"#REF!"}},{"$f":"IF('Races, Positions & Points'!#REF!=\"\",\"\",'Races, Positions & Points'!#REF!)","v":{"$error":"#REF!"}},{"$f":"IF('Races, Positions & Points'!#REF!=\"\",\"\",'Races, Positions & Points'!#REF!)","v":{"$error":"#REF!"}},{"$f":"IF('Races, Positions & Points'!#REF!=\"\",\"\",'Races, Positions & Points'!#REF!)","v":{"$error":"#REF!"}},{"$f":"IF('Races, Positions & Points'!#REF!=\"\",\"\",'Races, Positions & Points'!#REF!)","v":{"$error":"#REF!"}},{"$f":"IF('Races, Positions & Points'!#REF!=\"\",\"\",'Races, Positions & Points'!#REF!)","v":{"$error":"#REF!"}},{"$f":"IF('Races, Positions & Points'!#REF!=\"\",\"\",'Races, Positions & Points'!#REF!)","v":{"$error":"#REF!"}},{"$f":"IF('Races, Positions & Points'!#REF!=\"\",\"\",'Races, Positions & Points'!#REF!)","v":{"$error":"#REF!"}},{"$f":"IF('Races, Positions & Points'!#REF!=\"\",\"\",'Races, Positions & Points'!#REF!)","v":{"$error":"#REF!"}},{"$f":"IF('Races, Positions & Points'!#REF!=\"\",\"\",'Races, Positions & Points'!#REF!)","v":{"$error":"#REF!"}},{"$f":"IF('Races, Positions & Points'!#REF!=\"\",\"\",'Races, Positions & Points'!#REF!)","v":{"$error":"#REF!"}},{"$f":"IF('Races, Positions & Points'!#REF!=\"\",\"\",'Races, Positions & Points'!#REF!)","v":{"$error":"#REF!"}},{"$f":"IF('Races, Positions & Points'!#REF!=\"\",\"\",'Races, Positions & Points'!#REF!)","v":{"$error":"#REF!"}},{"$f":"IF('Races, Positions & Points'!#REF!=\"\",\"\",'Races, Positions & Points'!#REF!)","v":{"$error":"#REF!"}},{"$f":"IF('Races, Positions & Points'!#REF!=\"\",\"\",'Races, Positions & Points'!#REF!)","v":{"$error":"#REF!"}},{"$f":"IF('Races, Positions & Points'!#REF!=\"\",\"\",'Races, Positions & Points'!#REF!)","v":{"$error":"#REF!"}},{"$f":"IF('Races, Positions & Points'!#REF!=\"\",\"\",'Races, Positions & Points'!#REF!)","v":{"$error":"#REF!"}},{"$f":"IF('Races, Positions & Points'!#REF!=\"\",\"\",'Races, Positions & Points'!#REF!)","v":{"$error":"#REF!"}},{"$f":"IF('Races, Positions & Points'!#REF!=\"\",\"\",'Races, Positions & Points'!#REF!)","v":{"$error":"#REF!"}},{"$f":"IF('Races, Positions & Points'!#REF!=\"\",\"\",'Races, Positions & Points'!#REF!)","v":{"$error":"#REF!"}},{"$f":"IF('Races, Positions & Points'!#REF!=\"\",\"\",'Races, Positions & Points'!#REF!)","v":{"$error":"#REF!"}},{"$f":"IF('Races, Positions & Points'!#REF!=\"\",\"\",'Races, Positions & Points'!#REF!)","v":{"$error":"#REF!"}},{"$f":"IF('Races, Positions & Points'!#REF!=\"\",\"\",'Races, Positions & Points'!#REF!)","v":{"$error":"#REF!"}},{"$f":"IF('Races, Positions & Points'!#REF!=\"\",\"\",'Races, Positions & Points'!#REF!)","v":{"$error":"#REF!"}},{"$f":"IF('Races, Positions & Points'!#REF!=\"\",\"\",'Races, Positions & Points'!#REF!)","v":{"$error":"#REF!"}},{"$f":"IF('Races, Positions & Points'!#REF!=\"\",\"\",'Races, Positions & Points'!#REF!)","v":{"$error":"#REF!"}},{"$f":"IF('Races, Positions & Points'!#REF!=\"\",\"\",'Races, Positions & Points'!#REF!)","v":{"$error":"#REF!"}},{"$f":"IF('Races, Positions & Points'!#REF!=\"\",\"\",'Races, Positions & Points'!#REF!)","v":{"$error":"#REF!"}},{"$f":"IF('Races, Positions & Points'!#REF!=\"\",\"\",'Races, Positions & Points'!#REF!)","v":{"$error":"#REF!"}},{"$f":"IF('Races, Positions & Points'!#REF!=\"\",\"\",'Races, Positions & Points'!#REF!)","v":{"$error":"#REF!"}},{"$f":"IF('Races, Positions & Points'!#REF!=\"\",\"\",'Races, Positions & Points'!#REF!)","v":{"$error":"#REF!"}},{"$f":"IF('Races, Positions & Points'!#REF!=\"\",\"\",'Races, Positions & Points'!#REF!)","v":{"$error":"#REF!"}},{"$f":"IF('Races, Positions & Points'!#REF!=\"\",\"\",'Races, Positions & Points'!#REF!)","v":{"$error":"#REF!"}},{"$f":"IF('Races, Positions & Points'!#REF!=\"\",\"\",'Races, Positions & Points'!#REF!)","v":{"$error":"#REF!"}},{"$f":"IF('Races, Positions & Points'!#REF!=\"\",\"\",'Races, Positions & Points'!#REF!)","v":{"$error":"#REF!"}},{"$f":"IF('Races, Positions & Points'!#REF!=\"\",\"\",'Races, Positions & Points'!#REF!)","v":{"$error":"#REF!"}},{"$f":"IF('Races, Positions & Points'!#REF!=\"\",\"\",'Races, Positions & Points'!#REF!)","v":{"$error":"#REF!"}},{"$f":"IF('Races, Positions & Points'!#REF!=\"\",\"\",'Races, Positions & Points'!#REF!)","v":{"$error":"#REF!"}},{"$f":"IF('Races, Positions & Points'!#REF!=\"\",\"\",'Races, Positions & Points'!#REF!)","v":{"$error":"#REF!"}},{"$f":"IF('Races, Positions & Points'!#REF!=\"\",\"\",'Races, Positions & Points'!#REF!)","v":{"$error":"#REF!"}},{"$f":"IF('Races, Positions & Points'!#REF!=\"\",\"\",'Races, Positions & Points'!#REF!)","v":{"$error":"#REF!"}},{"$f":"IF('Races, Positions & Points'!#REF!=\"\",\"\",'Races, Positions & Points'!#REF!)","v":{"$error":"#REF!"}},{"$f":"IF('Races, Positions & Points'!#REF!=\"\",\"\",'Races, Positions & Points'!#REF!)","v":{"$error":"#REF!"}},null,{"$f":"SUMPRODUCT(--(B$4:AY$4=\"In\"),--(B$3:AY$3>5),--(B$5:AY$5=\"Y\"),--(B9:AY9<>\"\"))","v":{"$error":"#REF!"}},{"$f":"SUMPRODUCT(--(B$4:AY$4=\"Out\"),--(B$3:AY$3>5),--(B$5:AY$5=\"Y\"),--(B9:AY9<>\"\"))","v":{"$error":"#REF!"}},{"$f":"SUMPRODUCT(--(B$4:AY$4=\"In\"),--(B$3:AY$3=5),--(B$5:AY$5=\"Y\"),--(B9:AY9<>\"\"))","v":{"$error":"#REF!"}},{"$error":"#REF!"},{"$f":"SUMPRODUCT(--(B$4:AY$4=\"In\"),--(B$3:AY$3=0),--(B$5:AY$5=\"Y\"),--(B9:AY9<>\"\"))","v":{"$error":"#REF!"}},{"$f":"SUMPRODUCT(--(B$4:AY$4=\"Out\"),--(B$3:AY$3=0),--(B$5:AY$5=\"Y\"),--(B9:AY9<>\"\"))","v":{"$error":"#REF!"}},null,{"$f":"'Races, Positions & Points'!#REF!","v":{"$error":"#REF!"}}]
[{"$f":"'Races, Positions & Points'!#REF!","v":{"$error":"#REF!"}},{"$f":"IF('Races, Positions & Points'!#REF!=\"\",\"\",'Races, Positions & Points'!#REF!)","v":{"$error":"#REF!"}},{"$f":"IF('Races, Positions & Points'!#REF!=\"\",\"\",'Races, Positions & Points'!#REF!)","v":{"$error":"#REF!"}},{"$f":"IF('Races, Positions & Points'!#REF!=\"\",\"\",'Races, Positions & Points'!#REF!)","v":{"$error":"#REF!"}},{"$f":"IF('Races, Positions & Points'!#REF!=\"\",\"\",'Races, Positions & Points'!#REF!)","v":{"$error":"#REF!"}},{"$f":"IF('Races, Positions & Points'!#REF!=\"\",\"\",'Races, Positions & Points'!#REF!)","v":{"$error":"#REF!"}},{"$f":"IF('Races, Positions & Points'!#REF!=\"\",\"\",'Races, Positions & Points'!#REF!)","v":{"$error":"#REF!"}},{"$f":"IF('Races, Positions & Points'!#REF!=\"\",\"\",'Races, Positions & Points'!#REF!)","v":{"$error":"#REF!"}},{"$f":"IF('Races, Positions & Points'!#REF!=\"\",\"\",'Races, Positions & Points'!#REF!)","v":{"$error":"#REF!"}},{"$f":"IF('Races, Positions & Points'!#REF!=\"\",\"\",'Races, Positions & Points'!#REF!)","v":{"$error":"#REF!"}},{"$f":"IF('Races, Positions & Points'!#REF!=\"\",\"\",'Races, Positions & Points'!#REF!)","v":{"$error":"#REF!"}},{"$f":"IF('Races, Positions & Points'!#REF!=\"\",\"\",'Races, Positions & Points'!#REF!)","v":{"$error":"#REF!"}},{"$f":"IF('Races, Positions & Points'!#REF!=\"\",\"\",'Races, Positions & Points'!#REF!)","v":{"$error":"#REF!"}},{"$f":"IF('Races, Positions & Points'!#REF!=\"\",\"\",'Races, Positions & Points'!#REF!)","v":{"$error":"#REF!"}},{"$f":"IF('Races, Positions & Points'!#REF!=\"\",\"\",'Races, Positions & Points'!#REF!)","v":{"$error":"#REF!"}},{"$f":"IF('Races, Positions & Points'!#REF!=\"\",\"\",'Races, Positions & Points'!#REF!)","v":{"$error":"#REF!"}},{"$f":"IF('Races, Positions & Points'!#REF!=\"\",\"\",'Races, Positions & Points'!#REF!)","v":{"$error":"#REF!"}},{"$f":"IF('Races, Positions & Points'!#REF!=\"\",\"\",'Races, Positions & Points'!#REF!)","v":{"$error":"#REF!"}},{"$f":"IF('Races, Positions & Points'!#REF!=\"\",\"\",'Races, Positions & Points'!#REF!)","v":{"$error":"#REF!"}},{"$f":"IF('Races, Positions & Points'!#REF!=\"\",\"\",'Races, Positions & Points'!#REF!)","v":{"$error":"#REF!"}},{"$f":"IF('Races, Positions & Points'!#REF!=\"\",\"\",'Races, Positions & Points'!#REF!)","v":{"$error":"#REF!"}},{"$f":"IF('Races, Positions & Points'!#REF!=\"\",\"\",'Races, Positions & Points'!#REF!)","v":{"$error":"#REF!"}},{"$f":"IF('Races, Positions & Points'!#REF!=\"\",\"\",'Races, Positions & Points'!#REF!)","v":{"$error":"#REF!"}},{"$f":"IF('Races, Positions & Points'!#REF!=\"\",\"\",'Races, Positions & Points'!#REF!)","v":{"$error":"#REF!"}},{"$f":"IF('Races, Positions & Points'!#REF!=\"\",\"\",'Races, Positions & Points'!#REF!)","v":{"$error":"#REF!"}},{"$f":"IF('Races, Positions & Points'!#REF!=\"\",\"\",'Races, Positions & Points'!#REF!)","v":{"$error":"#REF!"}},{"$f":"IF('Races, Positions & Points'!#REF!=\"\",\"\",'Races, Positions & Points'!#REF!)","v":{"$error":"#REF!"}},{"$f":"IF('Races, Positions & Points'!#REF!=\"\",\"\",'Races, Positions & Points'!#REF!)","v":{"$error":"#REF!"}},{"$f":"IF('Races, Positions & Points'!#REF!=\"\",\"\",'Races, Positions & Points'!#REF!)","v":{"$error":"#REF!"}},{"$f":"IF('Races, Positions & Points'!#REF!=\"\",\"\",'Races, Positions & Points'!#REF!)","v":{"$error":"#REF!"}},{"$f":"IF('Races, Positions & Points'!#REF!=\"\",\"\",'Races, Positions & Points'!#REF!)","v":{"$error":"#REF!"}},{"$f":"IF('Races, Positions & Points'!#REF!=\"\",\"\",'Races, Positions & Points'!#REF!)","v":{"$error":"#REF!"}},{"$f":"IF('Races, Positions & Points'!#REF!=\"\",\"\",'Races, Positions & Points'!#REF!)","v":{"$error":"#REF!"}},{"$f":"IF('Races, Positions & Points'!#REF!=\"\",\"\",'Races, Positions & Points'!#REF!)","v":{"$error":"#REF!"}},{"$f":"IF('Races, Positions & Points'!#REF!=\"\",\"\",'Races, Positions & Points'!#REF!)","v":{"$error":"#REF!"}},{"$f":"IF('Races, Positions & Points'!#REF!=\"\",\"\",'Races, Positions & Points'!#REF!)","v":{"$error":"#REF!"}},{"$f":"IF('Races, Positions & Points'!#REF!=\"\",\"\",'Races, Positions & Points'!#REF!)","v":{"$error":"#REF!"}},{"$f":"IF('Races, Positions & Points'!#REF!=\"\",\"\",'Races, Positions & Points'!#REF!)","v":{"$error":"#REF!"}},{"$f":"IF('Races, Positions & Points'!#REF!=\"\",\"\",'Races, Positions & Points'!#REF!)","v":{"$error":"#REF!"}},{"$f":"IF('Races, Positions & Points'!#REF!=\"\",\"\",'Races, Positions & Points'!#REF!)","v":{"$error":"#REF!"}},{"$f":"IF('Races, Positions & Points'!#REF!=\"\",\"\",'Races, Positions & Points'!#REF!)","v":{"$error":"#REF!"}},{"$f":"IF('Races, Positions & Points'!#REF!=\"\",\"\",'Races, Positions & Points'!#REF!)","v":{"$error":"#REF!"}},{"$f":"IF('Races, Positions & Points'!#REF!=\"\",\"\",'Races, Positions & Points'!#REF!)","v":{"$error":"#REF!"}},{"$f":"IF('Races, Positions & Points'!#REF!=\"\",\"\",'Races, Positions & Points'!#REF!)","v":{"$error":"#REF!"}},{"$f":"IF('Races, Positions & Points'!#REF!=\"\",\"\",'Races, Positions & Points'!#REF!)","v":{"$error":"#REF!"}},{"$f":"IF('Races, Positions & Points'!#REF!=\"\",\"\",'Races, Positions & Points'!#REF!)","v":{"$error":"#REF!"}},{"$f":"IF('Races, Positions & Points'!#REF!=\"\",\"\",'Races, Positions & Points'!#REF!)","v":{"$error":"#REF!"}},{"$f":"IF('Races, Positions & Points'!#REF!=\"\",\"\",'Races, Positions & Points'!#REF!)","v":{"$error":"#REF!"}},{"$f":"IF('Races, Positions & Points'!#REF!=\"\",\"\",'Races, Positions & Points'!#REF!)","v":{"$error":"#REF!"}},{"$f":"IF('Races, Positions & Points'!#REF!=\"\",\"\",'Races, Positions & Points'!#REF!)","v":{"$error":"#REF!"}},{"$f":"IF('Races, Positions & Points'!#REF!=\"\",\"\",'Races, Positions & Points'!#REF!)","v":{"$error":"#REF!"}},null,{"$error":"#REF!"},{"$error":"#REF!"},{"$error":"#REF!"},{"$error":"#REF!"},{"$error":"#REF!"},{"$error":"#REF!"},null,{"$f":"'Races, Positions & Points'!#REF!","v":{"$error":"#REF!"}}]
[{"$f":"'Races, Positions & Points'!#REF!","v":{"$error":"#REF!"}},{"$f":"IF('Races, Positions & Points'!#REF!=\"\",\"\",'Races, Positions & Points'!#REF!)","v":{"$error":"#REF!"}},{"$f":"IF('Races, Positions & Points'!#REF!=\"\",\"\",'Races, Positions & Points'!#REF!)","v":{"$error":"#REF!"}},{"$f":"IF('Races, Positions & Points'!#REF!=\"\",\"\",'Races, Positions & Points'!#REF!)","v":{"$error":"#REF!"}},{"$f":"IF('Races, Positions & Points'!#REF!=\"\",\"\",'Races, Positions & Points'!#REF!)","v":{"$error":"#REF!"}},{"$f":"IF('Races, Positions & Points'!#REF!=\"\",\"\",'Races, Positions & Points'!#REF!)","v":{"$error":"#REF!"}},{"$f":"IF('Races, Positions & Points'!#REF!=\"\",\"\",'Races, Positions & Points'!#REF!)","v":{"$error":"#REF!"}},{"$f":"IF('Races, Positions & Points'!#REF!=\"\",\"\",'Races, Positions & Points'!#REF!)","v":{"$error":"#REF!"}},{"$f":"IF('Races, Positions & Points'!#REF!=\"\",\"\",'Races, Positions & Points'!#REF!)","v":{"$error":"#REF!"}},{"$f":"IF('Races, Positions & Points'!#REF!=\"\",\"\",'Races, Positions & Points'!#REF!)","v":{"$error":"#REF!"}},{"$f":"IF('Races, Positions & Points'!#REF!=\"\",\"\",'Races, Positions & Points'!#REF!)","v":{"$error":"#REF!"}},{"$f":"IF('Races, Positions & Points'!#REF!=\"\",\"\",'Races, Positions & Points'!#REF!)","v":{"$error":"#REF!"}},{"$f":"IF('Races, Positions & Points'!#REF!=\"\",\"\",'Races, Positions & Points'!#REF!)","v":{"$error":"#REF!"}},{"$f":"IF('Races, Positions & Points'!#REF!=\"\",\"\",'Races, Positions & Points'!#REF!)","v":{"$error":"#REF!"}},{"$f":"IF('Races, Positions & Points'!#REF!=\"\",\"\",'Races, Positions & Points'!#REF!)","v":{"$error":"#REF!"}},{"$f":"IF('Races, Positions & Points'!#REF!=\"\",\"\",'Races, Positions & Points'!#REF!)","v":{"$error":"#REF!"}},{"$f":"IF('Races, Positions & Points'!#REF!=\"\",\"\",'Races, Positions & Points'!#REF!)","v":{"$error":"#REF!"}},{"$f":"IF('Races, Positions & Points'!#REF!=\"\",\"\",'Races, Positions & Points'!#REF!)","v":{"$error":"#REF!"}},{"$f":"IF('Races, Positions & Points'!#REF!=\"\",\"\",'Races, Positions & Points'!#REF!)","v":{"$error":"#REF!"}},{"$f":"IF('Races, Positions & Points'!#REF!=\"\",\"\",'Races, Positions & Points'!#REF!)","v":{"$error":"#REF!"}},{"$f":"IF('Races, Positions & Points'!#REF!=\"\",\"\",'Races, Positions & Points'!#REF!)","v":{"$error":"#REF!"}},{"$f":"IF('Races, Positions & Points'!#REF!=\"\",\"\",'Races, Positions & Points'!#REF!)","v":{"$error":"#REF!"}},{"$f":"IF('Races, Positions & Points'!#REF!=\"\",\"\",'Races, Positions & Points'!#REF!)","v":{"$error":"#REF!"}},{"$f":"IF('Races, Positions & Points'!#REF!=\"\",\"\",'Races, Positions & Points'!#REF!)","v":{"$error":"#REF!"}},{"$f":"IF('Races, Positions & Points'!#REF!=\"\",\"\",'Races, Positions & Points'!#REF!)","v":{"$error":"#REF!"}},{"$f":"IF('Races, Positions & Points'!#REF!=\"\",\"\",'Races, Positions & Points'!#REF!)","v":{"$error":"#REF!"}},{"$f":"IF('Races, Positions & Points'!#REF!=\"\",\"\",'Races, Positions & Points'!#REF!)","v":{"$error":"#REF!"}},{"$f":"IF('Races, Positions & Points'!#REF!=\"\",\"\",'Races, Positions & Points'!#REF!)","v":{"$error":"#REF!"}},{"$f":"IF('Races, Positions & Points'!#REF!=\"\",\"\",'Races, Positions & Points'!#REF!)","v":{"$error":"#REF!"}},{"$f":"IF('Races, Positions & Points'!#REF!=\"\",\"\",'Races, Positions & Points'!#REF!)","v":{"$error":"#REF!"}},{"$f":"IF('Races, Positions & Points'!#REF!=\"\",\"\",'Races, Positions & Points'!#REF!)","v":{"$error":"#REF!"}},{"$f":"IF('Races, Positions & Points'!#REF!=\"\",\"\",'Races, Positions & Points'!#REF!)","v":{"$error":"#REF!"}},{"$f":"IF('Races, Positions & Points'!#REF!=\"\",\"\",'Races, Positions & Points'!#REF!)","v":{"$error":"#REF!"}},{"$f":"IF('Races, Positions & Points'!#REF!=\"\",\"\",'Races, Positions & Points'!#REF!)","v":{"$error":"#REF!"}},{"$f":"IF('Races, Positions & Points'!#REF!=\"\",\"\",'Races, Positions & Points'!#REF!)","v":{"$error":"#REF!"}},{"$f":"IF('Races, Positions & Points'!#REF!=\"\",\"\",'Races, Positions & Points'!#REF!)","v":{"$error":"#REF!"}},{"$f":"IF('Races, Positions & Points'!#REF!=\"\",\"\",'Races, Positions & Points'!#REF!)","v":{"$error":"#REF!"}},{"$f":"IF('Races, Positions & Points'!#REF!=\"\",\"\",'Races, Positions & Points'!#REF!)","v":{"$error":"#REF!"}},{"$f":"IF('Races, Positions & Points'!#REF!=\"\",\"\",'Races, Positions & Points'!#REF!)","v":{"$error":"#REF!"}},{"$f":"IF('Races, Positions & Points'!#REF!=\"\",\"\",'Races, Positions & Points'!#REF!)","v":{"$error":"#REF!"}},{"$f":"IF('Races, Positions & Points'!#REF!=\"\",\"\",'Races, Positions & Points'!#REF!)","v":{"$error":"#REF!"}},{"$f":"IF('Races, Positions & Points'!#REF!=\"\",\"\",'Races, Positions & Points'!#REF!)","v":{"$error":"#REF!"}},{"$f":"IF('Races, Positions & Points'!#REF!=\"\",\"\",'Races, Positions & Points'!#REF!)","v":{"$error":"#REF!"}},{"$f":"IF('Races, Positions & Points'!#REF!=\"\",\"\",'Races, Positions & Points'!#REF!)","v":{"$error":"#REF!"}},{"$f":"IF('Races, Positions & Points'!#REF!=\"\",\"\",'Races, Positions & Points'!#REF!)","v":{"$error":"#REF!"}},{"$f":"IF('Races, Positions & Points'!#REF!=\"\",\"\",'Races, Positions & Points'!#REF!)","v":{"$error":"#REF!"}},{"$f":"IF('Races, Positions & Points'!#REF!=\"\",\"\",'Races, Positions & Points'!#REF!)","v":{"$error":"#REF!"}},{"$f":"IF('Races, Positions & Points'!#REF!=\"\",\"\",'Races, Positions & Points'!#REF!)","v":{"$error":"#REF!"}},{"$f":"IF('Races, Positions & Points'!#REF!=\"\",\"\",'Races, Positions & Points'!#REF!)","v":{"$error":"#REF!"}},{"$f":"IF('Races, Positions & Points'!#REF!=\"\",\"\",'Races, Positions & Points'!#REF!)","v":{"$error":"#REF!"}},{"$f":"IF('Races, Positions & Points'!#REF!=\"\",\"\",'Races, Positions & Points'!#REF!)","v":{"$error":"#REF!"}},null,{"$error":"#REF!"},{"$error":"#REF!"},{"$error":"#REF!"},{"$error":"#REF!"},{"$error":"#REF!"},{"$error":"#REF!"},null,{"$f":"'Races, Positions & Points'!#REF!","v":{"$error":"#REF!"}}]
[{"$f":"'Races, Positions & Points'!#REF!","v":{"$error":"#REF!"}},{"$f":"IF('Races, Positions & Points'!#REF!=\"\",\"\",'Races, Positions & Points'!#REF!)","v":{"$error":"#REF!"}},{"$f":"IF('Races, Positions & Points'!#REF!=\"\",\"\",'Races, Positions & Points'!#REF!)","v":{"$error":"#REF!"}},{"$f":"IF('Races, Positions & Points'!#REF!=\"\",\"\",'Races, Positions & Points'!#REF!)","v":{"$error":"#REF!"}},{"$f":"IF('Races, Positions & Points'!#REF!=\"\",\"\",'Races, Positions & Points'!#REF!)","v":{"$error":"#REF!"}},{"$f":"IF('Races, Positions & Points'!#REF!=\"\",\"\",'Races, Positions & Points'!#REF!)","v":{"$error":"#REF!"}},{"$f":"IF('Races, Positions & Points'!#REF!=\"\",\"\",'Races, Positions & Points'!#REF!)","v":{"$error":"#REF!"}},{"$f":"IF('Races, Positions & Points'!#REF!=\"\",\"\",'Races, Positions & Points'!#REF!)","v":{"$error":"#REF!"}},{"$f":"IF('Races, Positions & Points'!#REF!=\"\",\"\",'Races, Positions & Points'!#REF!)","v":{"$error":"#REF!"}},{"$f":"IF('Races, Positions & Points'!#REF!=\"\",\"\",'Races, Positions & Points'!#REF!)","v":{"$error":"#REF!"}},{"$f":"IF('Races, Positions & Points'!#REF!=\"\",\"\",'Races, Positions & Points'!#REF!)","v":{"$error":"#REF!"}},{"$f":"IF('Races, Positions & Points'!#REF!=\"\",\"\",'Races, Positions & Points'!#REF!)","v":{"$error":"#REF!"}},{"$f":"IF('Races, Positions & Points'!#REF!=\"\",\"\",'Races, Positions & Points'!#REF!)","v":{"$error":"#REF!"}},{"$f":"IF('Races, Positions & Points'!#REF!=\"\",\"\",'Races, Positions & Points'!#REF!)","v":{"$error":"#REF!"}},{"$f":"IF('Races, Positions & Points'!#REF!=\"\",\"\",'Races, Positions & Points'!#REF!)","v":{"$error":"#REF!"}},{"$f":"IF('Races, Positions & Points'!#REF!=\"\",\"\",'Races, Positions & Points'!#REF!)","v":{"$error":"#REF!"}},{"$f":"IF('Races, Positions & Points'!#REF!=\"\",\"\",'Races, Positions & Points'!#REF!)","v":{"$error":"#REF!"}},{"$f":"IF('Races, Positions & Points'!#REF!=\"\",\"\",'Races, Positions & Points'!#REF!)","v":{"$error":"#REF!"}},{"$f":"IF('Races, Positions & Points'!#REF!=\"\",\"\",'Races, Positions & Points'!#REF!)","v":{"$error":"#REF!"}},{"$f":"IF('Races, Positions & Points'!#REF!=\"\",\"\",'Races, Positions & Points'!#REF!)","v":{"$error":"#REF!"}},{"$f":"IF('Races, Positions & Points'!#REF!=\"\",\"\",'Races, Positions & Points'!#REF!)","v":{"$error":"#REF!"}},{"$f":"IF('Races, Positions & Points'!#REF!=\"\",\"\",'Races, Positions & Points'!#REF!)","v":{"$error":"#REF!"}},{"$f":"IF('Races, Positions & Points'!#REF!=\"\",\"\",'Races, Positions & Points'!#REF!)","v":{"$error":"#REF!"}},{"$f":"IF('Races, Positions & Points'!#REF!=\"\",\"\",'Races, Positions & Points'!#REF!)","v":{"$error":"#REF!"}},{"$f":"IF('Races, Positions & Points'!#REF!=\"\",\"\",'Races, Positions & Points'!#REF!)","v":{"$error":"#REF!"}},{"$f":"IF('Races, Positions & Points'!#REF!=\"\",\"\",'Races, Positions & Points'!#REF!)","v":{"$error":"#REF!"}},{"$f":"IF('Races, Positions & Points'!#REF!=\"\",\"\",'Races, Positions & Points'!#REF!)","v":{"$error":"#REF!"}},{"$f":"IF('Races, Positions & Points'!#REF!=\"\",\"\",'Races, Positions & Points'!#REF!)","v":{"$error":"#REF!"}},{"$f":"IF('Races, Positions & Points'!#REF!=\"\",\"\",'Races, Positions & Points'!#REF!)","v":{"$error":"#REF!"}},{"$f":"IF('Races, Positions & Points'!#REF!=\"\",\"\",'Races, Positions & Points'!#REF!)","v":{"$error":"#REF!"}},{"$f":"IF('Races, Positions & Points'!#REF!=\"\",\"\",'Races, Positions & Points'!#REF!)","v":{"$error":"#REF!"}},{"$f":"IF('Races, Positions & Points'!#REF!=\"\",\"\",'Races, Positions & Points'!#REF!)","v":{"$error":"#REF!"}},{"$f":"IF('Races, Positions & Points'!#REF!=\"\",\"\",'Races, Positions & Points'!#REF!)","v":{"$error":"#REF!"}},{"$f":"IF('Races, Positions & Points'!#REF!=\"\",\"\",'Races, Positions & Points'!#REF!)","v":{"$error":"#REF!"}},{"$f":"IF('Races, Positions & Points'!#REF!=\"\",\"\",'Races, Positions & Points'!#REF!)","v":{"$error":"#REF!"}},{"$f":"IF('Races, Positions & Points'!#REF!=\"\",\"\",'Races, Positions & Points'!#REF!)","v":{"$error":"#REF!"}},{"$f":"IF('Races, Positions & Points'!#REF!=\"\",\"\",'Races, Positions & Points'!#REF!)","v":{"$error":"#REF!"}},{"$f":"IF('Races, Positions & Points'!#REF!=\"\",\"\",'Races, Positions & Points'!#REF!)","v":{"$error":"#REF!"}},{"$f":"IF('Races, Positions & Points'!#REF!=\"\",\"\",'Races, Positions & Points'!#REF!)","v":{"$error":"#REF!"}},{"$f":"IF('Races, Positions & Points'!#REF!=\"\",\"\",'Races, Positions & Points'!#REF!)","v":{"$error":"#REF!"}},{"$f":"IF('Races, Positions & Points'!#REF!=\"\",\"\",'Races, Positions & Points'!#REF!)","v":{"$error":"#REF!"}},{"$f":"IF('Races, Positions & Points'!#REF!=\"\",\"\",'Races, Positions & Points'!#REF!)","v":{"$error":"#REF!"}},{"$f":"IF('Races, Positions & Points'!#REF!=\"\",\"\",'Races, Positions & Points'!#REF!)","v":{"$error":"#REF!"}},{"$f":"IF('Races, Positions & Points'!#REF!=\"\",\"\",'Races, Positions & Points'!#REF!)","v":{"$error":"#REF!"}},{"$f":"IF('Races, Positions & Points'!#REF!=\"\",\"\",'Races, Positions & Points'!#REF!)","v":{"$error":"#REF!"}},{"$f":"IF('Races, Positions & Points'!#REF!=\"\",\"\",'Races, Positions & Points'!#REF!)","v":{"$error":"#REF!"}},{"$f":"IF('Races, Positions & Points'!#REF!=\"\",\"\",'Races, Positions & Points'!#REF!)","v":{"$error":"#REF!"}},{"$f":"IF('Races, Positions & Points'!#REF!=\"\",\"\",'Races, Positions & Points'!#REF!)","v":{"$error":"#REF!"}},{"$f":"IF('Races, Positions & Points'!#REF!=\"\",\"\",'Races, Positions & Points'!#REF!)","v":{"$error":"#REF!"}},{"$f":"IF('Races, Positions & Points'!#REF!=\"\",\"\",'Races, Positions & Points'!#REF!)","v":{"$error":"#REF!"}},{"$f":"IF('Races, Positions & Points'!#REF!=\"\",\"\",'Races, Positions & Points'!#REF!)","v":{"$error":"#REF!"}},null,{"$error":"#REF!"},{"$error":"#REF!"},{"$error":"#REF!"},{"$error":"#REF!"},{"$error":"#REF!"},{"$error":"#REF!"},null,{"$f":"'Races, Positions & Points'!#REF!","v":{"$error":"#REF!"}}]
[]
[{"$f":"'Races, Positions & Points'!#REF!","v":{"$error":"#REF!"}},{"$f":"IF('Races, Positions & Points'!#REF!=\"\",\"\",'Races, Positions & Points'!#REF!)","v":{"$error":"#REF!"}},{"$f":"IF('Races, Positions & Points'!#REF!=\"\",\"\",'Races, Positions & Points'!#REF!)","v":{"$error":"#REF!"}},{"$f":"IF('Races, Positions & Points'!#REF!=\"\",\"\",'Races, Positions & Points'!#REF!)","v":{"$error":"#REF!"}},{"$f":"IF('Races, Positions & Points'!#REF!=\"\",\"\",'Races, Positions & Points'!#REF!)","v":{"$error":"#REF!"}},{"$f":"IF('Races, Positions & Points'!#REF!=\"\",\"\",'Races, Positions & Points'!#REF!)","v":{"$error":"#REF!"}},{"$f":"IF('Races, Positions & Points'!#REF!=\"\",\"\",'Races, Positions & Points'!#REF!)","v":{"$error":"#REF!"}},{"$f":"IF('Races, Positions & Points'!#REF!=\"\",\"\",'Races, Positions & Points'!#REF!)","v":{"$error":"#REF!"}},{"$f":"IF('Races, Positions & Points'!#REF!=\"\",\"\",'Races, Positions & Points'!#REF!)","v":{"$error":"#REF!"}},{"$f":"IF('Races, Positions & Points'!#REF!=\"\",\"\",'Races, Positions & Points'!#REF!)","v":{"$error":"#REF!"}},{"$f":"IF('Races, Positions & Points'!#REF!=\"\",\"\",'Races, Positions & Points'!#REF!)","v":{"$error":"#REF!"}},{"$f":"IF('Races, Positions & Points'!#REF!=\"\",\"\",'Races, Positions & Points'!#REF!)","v":{"$error":"#REF!"}},{"$f":"IF('Races, Positions & Points'!#REF!=\"\",\"\",'Races, Positions & Points'!#REF!)","v":{"$error":"#REF!"}},{"$f":"IF('Races, Positions & Points'!#REF!=\"\",\"\",'Races, Positions & Points'!#REF!)","v":{"$error":"#REF!"}},{"$f":"IF('Races, Positions & Points'!#REF!=\"\",\"\",'Races, Positions & Points'!#REF!)","v":{"$error":"#REF!"}},{"$f":"IF('Races, Positions & Points'!#REF!=\"\",\"\",'Races, Positions & Points'!#REF!)","v":{"$error":"#REF!"}},{"$f":"IF('Races, Positions & Points'!#REF!=\"\",\"\",'Races, Positions & Points'!#REF!)","v":{"$error":"#REF!"}},{"$f":"IF('Races, Positions & Points'!#REF!=\"\",\"\",'Races, Positions & Points'!#REF!)","v":{"$error":"#REF!"}},{"$f":"IF('Races, Positions & Points'!#REF!=\"\",\"\",'Races, Positions & Points'!#REF!)","v":{"$error":"#REF!"}},{"$f":"IF('Races, Positions & Points'!#REF!=\"\",\"\",'Races, Positions & Points'!#REF!)","v":{"$error":"#REF!"}},{"$f":"IF('Races, Positions & Points'!#REF!=\"\",\"\",'Races, Positions & Points'!#REF!)","v":{"$error":"#REF!"}},{"$f":"IF('Races, Positions & Points'!#REF!=\"\",\"\",'Races, Positions & Points'!#REF!)","v":{"$error":"#REF!"}},{"$f":"IF('Races, Positions & Points'!#REF!=\"\",\"\",'Races, Positions & Points'!#REF!)","v":{"$error":"#REF!"}},{"$f":"IF('Races, Positions & Points'!#REF!=\"\",\"\",'Races, Positions & Points'!#REF!)","v":{"$error":"#REF!"}},{"$f":"IF('Races, Positions & Points'!#REF!=\"\",\"\",'Races, Positions & Points'!#REF!)","v":{"$error":"#REF!"}},{"$f":"IF('Races, Positions & Points'!#REF!=\"\",\"\",'Races, Positions & Points'!#REF!)","v":{"$error":"#REF!"}},{"$f":"IF('Races, Positions & Points'!#REF!=\"\",\"\",'Races, Positions & Points'!#REF!)","v":{"$error":"#REF!"}},{"$f":"IF('Races, Positions & Points'!#REF!=\"\",\"\",'Races, Positions & Points'!#REF!)","v":{"$error":"#REF!"}},{"$f":"IF('Races, Positions & Points'!#REF!=\"\",\"\",'Races, Positions & Points'!#REF!)","v":{"$error":"#REF!"}},{"$f":"IF('Races, Positions & Points'!#REF!=\"\",\"\",'Races, Positions & Points'!#REF!)","v":{"$error":"#REF!"}},{"$f":"IF('Races, Positions & Points'!#REF!=\"\",\"\",'Races, Positions & Points'!#REF!)","v":{"$error":"#REF!"}},{"$f":"IF('Races, Positions & Points'!#REF!=\"\",\"\",'Races, Positions & Points'!#REF!)","v":{"$error":"#REF!"}},{"$f":"IF('Races, Positions & Points'!#REF!=\"\",\"\",'Races, Positions & Points'!#REF!)","v":{"$error":"#REF!"}},{"$f":"IF('Races, Positions & Points'!#REF!=\"\",\"\",'Races, Positions & Points'!#REF!)","v":{"$error":"#REF!"}},{"$f":"IF('Races, Positions & Points'!#REF!=\"\",\"\",'Races, Positions & Points'!#REF!)","v":{"$error":"#REF!"}},{"$f":"IF('Races, Positions & Points'!#REF!=\"\",\"\",'Races, Positions & Points'!#REF!)","v":{"$error":"#REF!"}},{"$f":"IF('Races, Positions & Points'!#REF!=\"\",\"\",'Races, Positions & Points'!#REF!)","v":{"$error":"#REF!"}},{"$f":"IF('Races, Positions & Points'!#REF!=\"\",\"\",'Races, Positions & Points'!#REF!)","v":{"$error":"#REF!"}},{"$f":"IF('Races, Positions & Points'!#REF!=\"\",\"\",'Races, Positions & Points'!#REF!)","v":{"$error":"#REF!"}},{"$f":"IF('Races, Positions & Points'!#REF!=\"\",\"\",'Races, Positions & Points'!#REF!)","v":{"$error":"#REF!"}},{"$f":"IF('Races, Positions & Points'!#REF!=\"\",\"\",'Races, Positions & Points'!#REF!)","v":{"$error":"#REF!"}},{"$f":"IF('Races, Positions & Points'!#REF!=\"\",\"\",'Races, Positions & Points'!#REF!)","v":{"$error":"#REF!"}},{"$f":"IF('Races, Positions & Points'!#REF!=\"\",\"\",'Races, Positions & Points'!#REF!)","v":{"$error":"#REF!"}},{"$f":"IF('Races, Positions & Points'!#REF!=\"\",\"\",'Races, Positions & Points'!#REF!)","v":{"$error":"#REF!"}},{"$f":"IF('Races, Positions & Points'!#REF!=\"\",\"\",'Races, Positions & Points'!#REF!)","v":{"$error":"#REF!"}},{"$f":"IF('Races, Positions & Points'!#REF!=\"\",\"\",'Races, Positions & Points'!#REF!)","v":{"$error":"#REF!"}},{"$f":"IF('Races, Positions & Points'!#REF!=\"\",\"\",'Races, Positions & Points'!#REF!)","v":{"$error":"#REF!"}},{"$f":"IF('Races, Positions & Points'!#REF!=\"\",\"\",'Races, Positions & Points'!#REF!)","v":{"$error":"#REF!"}},{"$f":"IF('Races, Positions & Points'!#REF!=\"\",\"\",'Races, Positions & Points'!#REF!)","v":{"$error":"#REF!"}},{"$f":"IF('Races, Positions & Points'!#REF!=\"\",\"\",'Races, Positions & Points'!#REF!)","v":{"$error":"#REF!"}},{"$f":"IF('Races, Positions & Points'!#REF!=\"\",\"\",'Races, Positions & Points'!#REF!)","v":{"$error":"#REF!"}},null,{"$f":"SUMPRODUCT(--(B$4:AY$4=\"In\"),--(B$3:AY$3>5),--(B$5:AY$5=\"Y\"),--(B14:AY14<>\"\"))","v":{"$error":"#REF!"}},{"$f":"SUMPRODUCT(--(B$4:AY$4=\"Out\"),--(B$3:AY$3>5),--(B$5:AY$5=\"Y\"),--(B14:AY14<>\"\"))","v":{"$error":"#REF!"}},{"$f":"SUMPRODUCT(--(B$4:AY$4=\"In\"),--(B$3:AY$3=5),--(B$5:AY$5=\"Y\"),--(B14:AY14<>\"\"))","v":{"$error":"#REF!"}},{"$f":"SUMPRODUCT(--(B$4:AY$4=\"Out\"),--(B$3:AY$3=5),--(B$5:AY$5=\"Y\"),--(B14:AY14<>\"\"))","v":{"$error":"#REF!"}},{"$f":"SUMPRODUCT(--(B$4:AY$4=\"In\"),--(B$3:AY$3=0),--(B$5:AY$5=\"Y\"),--(B14:AY14<>\"\"))","v":{"$error":"#REF!"}},{"$f":"SUMPRODUCT(--(B$4:AY$4=\"Out\"),--(B$3:AY$3=0),--(B$5:AY$5=\"Y\"),--(B14:AY14<>\"\"))","v":{"$error":"#REF!"}},null,{"$f":"'Races, Positions & Points'!#REF!","v":{"$error":"#REF!"}}]
[{"$f":"'Races, Positions & Points'!#REF!","v":{"$error":"#REF!"}},{"$f":"IF('Races, Positions & Points'!#REF!=\"\",\"\",'Races, Positions & Points'!#REF!)","v":{"$error":"#REF!"}},{"$f":"IF('Races, Positions & Points'!#REF!=\"\",\"\",'Races, Positions & Points'!#REF!)","v":{"$error":"#REF!"}},{"$f":"IF('Races, Positions & Points'!#REF!=\"\",\"\",'Races, Positions & Points'!#REF!)","v":{"$error":"#REF!"}},{"$f":"IF('Races, Positions & Points'!#REF!=\"\",\"\",'Races, Positions & Points'!#REF!)","v":{"$error":"#REF!"}},{"$f":"IF('Races, Positions & Points'!#REF!=\"\",\"\",'Races, Positions & Points'!#REF!)","v":{"$error":"#REF!"}},{"$f":"IF('Races, Positions & Points'!#REF!=\"\",\"\",'Races, Positions & Points'!#REF!)","v":{"$error":"#REF!"}},{"$f":"IF('Races, Positions & Points'!#REF!=\"\",\"\",'Races, Positions & Points'!#REF!)","v":{"$error":"#REF!"}},{"$f":"IF('Races, Positions & Points'!#REF!=\"\",\"\",'Races, Positions & Points'!#REF!)","v":{"$error":"#REF!"}},{"$f":"IF('Races, Positions & Points'!#REF!=\"\",\"\",'Races, Positions & Points'!#REF!)","v":{"$error":"#REF!"}},{"$f":"IF('Races, Positions & Points'!#REF!=\"\",\"\",'Races, Positions & Points'!#REF!)","v":{"$error":"#REF!"}},{"$f":"IF('Races, Positions & Points'!#REF!=\"\",\"\",'Races, Positions & Points'!#REF!)","v":{"$error":"#REF!"}},{"$f":"IF('Races, Positions & Points'!#REF!=\"\",\"\",'Races, Positions & Points'!#REF!)","v":{"$error":"#REF!"}},{"$f":"IF('Races, Positions & Points'!#REF!=\"\",\"\",'Races, Positions & Points'!#REF!)","v":{"$error":"#REF!"}},{"$f":"IF('Races, Positions & Points'!#REF!=\"\",\"\",'Races, Positions & Points'!#REF!)","v":{"$error":"#REF!"}},{"$f":"IF('Races, Positions & Points'!#REF!=\"\",\"\",'Races, Positions & Points'!#REF!)","v":{"$error":"#REF!"}},{"$f":"IF('Races, Positions & Points'!#REF!=\"\",\"\",'Races, Positions & Points'!#REF!)","v":{"$error":"#REF!"}},{"$f":"IF('Races, Positions & Points'!#REF!=\"\",\"\",'Races, Positions & Points'!#REF!)","v":{"$error":"#REF!"}},{"$f":"IF('Races, Positions & Points'!#REF!=\"\",\"\",'Races, Positions & Points'!#REF!)","v":{"$error":"#REF!"}},{"$f":"IF('Races, Positions & Points'!#REF!=\"\",\"\",'Races, Positions & Points'!#REF!)","v":{"$error":"#REF!"}},{"$f":"IF('Races, Positions & Points'!#REF!=\"\",\"\",'Races, Positions & Points'!#REF!)","v":{"$error":"#REF!"}},{"$f":"IF('Races, Positions & Points'!#REF!=\"\",\"\",'Races, Positions & Points'!#REF!)","v":{"$error":"#REF!"}},{"$f":"IF('Races, Positions & Points'!#REF!=\"\",\"\",'Races, Positions & Points'!#REF!)","v":{"$error":"#REF!"}},{"$f":"IF('Races, Positions & Points'!#REF!=\"\",\"\",'Races, Positions & Points'!#REF!)","v":{"$error":"#REF!"}},{"$f":"IF('Races, Positions & Points'!#REF!=\"\",\"\",'Races, Positions & Points'!#REF!)","v":{"$error":"#REF!"}},{"$f":"IF('Races, Positions & Points'!#REF!=\"\",\"\",'Races, Positions & Points'!#REF!)","v":{"$error":"#REF!"}},{"$f":"IF('Races, Positions & Points'!#REF!=\"\",\"\",'Races, Positions & Points'!#REF!)","v":{"$error":"#REF!"}},{"$f":"IF('Races, Positions & Points'!#REF!=\"\",\"\",'Races, Positions & Points'!#REF!)","v":{"$error":"#REF!"}},{"$f":"IF('Races, Positions & Points'!#REF!=\"\",\"\",'Races, Positions & Points'!#REF!)","v":{"$error":"#REF!"}},{"$f":"IF('Races, Positions & Points'!#REF!=\"\",\"\",'Races, Positions & Points'!#REF!)","v":{"$error":"#REF!"}},{"$f":"IF('Races, Positions & Points'!#REF!=\"\",\"\",'Races, Positions & Points'!#REF!)","v":{"$error":"#REF!"}},{"$f":"IF('Races, Positions & Points'!#REF!=\"\",\"\",'Races, Positions & Points'!#REF!)","v":{"$error":"#REF!"}},{"$f":"IF('Races, Positions & Points'!#REF!=\"\",\"\",'Races, Positions & Points'!#REF!)","v":{"$error":"#REF!"}},{"$f":"IF('Races, Positions & Points'!#REF!=\"\",\"\",'Races, Positions & Points'!#REF!)","v":{"$error":"#REF!"}},{"$f":"IF('Races, Positions & Points'!#REF!=\"\",\"\",'Races, Positions & Points'!#REF!)","v":{"$error":"#REF!"}},{"$f":"IF('Races, Positions & Points'!#REF!=\"\",\"\",'Races, Positions & Points'!#REF!)","v":{"$error":"#REF!"}},{"$f":"IF('Races, Positions & Points'!#REF!=\"\",\"\",'Races, Positions & Points'!#REF!)","v":{"$error":"#REF!"}},{"$f":"IF('Races, Positions & Points'!#REF!=\"\",\"\",'Races, Positions & Points'!#REF!)","v":{"$error":"#REF!"}},{"$f":"IF('Races, Positions & Points'!#REF!=\"\",\"\",'Races, Positions & Points'!#REF!)","v":{"$error":"#REF!"}},{"$f":"IF('Races, Positions & Points'!#REF!=\"\",\"\",'Races, Positions & Points'!#REF!)","v":{"$error":"#REF!"}},{"$f":"IF('Races, Positions & Points'!#REF!=\"\",\"\",'Races, Positions & Points'!#REF!)","v":{"$error":"#REF!"}},{"$f":"IF('Races, Positions & Points'!#REF!=\"\",\"\",'Races, Positions & Points'!#REF!)","v":{"$error":"#REF!"}},{"$f":"IF('Races, Positions & Points'!#REF!=\"\",\"\",'Races, Positions & Points'!#REF!)","v":{"$error":"#REF!"}},{"$f":"IF('Races, Positions & Points'!#REF!=\"\",\"\",'Races, Positions & Points'!#REF!)","v":{"$error":"#REF!"}},{"$f":"IF('Races, Positions & Points'!#REF!=\"\",\"\",'Races, Positions & Points'!#REF!)","v":{"$error":"#REF!"}},{"$f":"IF('Races, Positions & Points'!#REF!=\"\",\"\",'Races, Positions & Points'!#REF!)","v":{"$error":"#REF!"}},{"$f":"IF('Races, Positions & Points'!#REF!=\"\",\"\",'Races, Positions & Points'!#REF!)","v":{"$error":"#REF!"}},{"$f":"IF('Races, Positions & Points'!#REF!=\"\",\"\",'Races, Positions & Points'!#REF!)","v":{"$error":"#REF!"}},{"$f":"IF('Races, Positions & Points'!#REF!=\"\",\"\",'Races, Positions & Points'!#REF!)","v":{"$error":"#REF!"}},{"$f":"IF('Races, Positions & Points'!#REF!=\"\",\"\",'Races, Positions & Points'!#REF!)","v":{"$error":"#REF!"}},{"$f":"IF('Races, Positions & Points'!#REF!=\"\",\"\",'Races, Positions & Points'!#REF!)","v":{"$error":"#REF!"}},null,{"$error":"#REF!"},{"$error":"#REF!"},{"$error":"#REF!"},{"$error":"#REF!"},{"$error":"#REF!"},{"$error":"#REF!"},null,{"$f":"'Races, Positions & Points'!#REF!","v":{"$error":"#REF!"}}]
[{"$f":"'Races, Positions & Points'!#REF!","v":{"$error":"#REF!"}},{"$f":"IF('Races, Positions & Points'!#REF!=\"\",\"\",'Races, Positions & Points'!#REF!)","v":{"$error":"#REF!"}},{"$f":"IF('Races, Positions & Points'!#REF!=\"\",\"\",'Races, Positions & Points'!#REF!)","v":{"$error":"#REF!"}},{"$f":"IF('Races, Positions & Points'!#REF!=\"\",\"\",'Races, Positions & Points'!#REF!)","v":{"$error":"#REF!"}},{"$f":"IF('Races, Positions & Points'!#REF!=\"\",\"\",'Races, Positions & Points'!#REF!)","v":{"$error":"#REF!"}},{"$f":"IF('Races, Positions & Points'!#REF!=\"\",\"\",'Races, Positions & Points'!#REF!)","v":{"$error":"#REF!"}},{"$f":"IF('Races, Positions & Points'!#REF!=\"\",\"\",'Races, Positions & Points'!#REF!)","v":{"$error":"#REF!"}},{"$f":"IF('Races, Positions & Points'!#REF!=\"\",\"\",'Races, Positions & Points'!#REF!)","v":{"$error":"#REF!"}},{"$f":"IF('Races, Positions & Points'!#REF!=\"\",\"\",'Races, Positions & Points'!#REF!)","v":{"$error":"#REF!"}},{"$f":"IF('Races, Positions & Points'!#REF!=\"\",\"\",'Races, Positions & Points'!#REF!)","v":{"$error":"#REF!"}},{"$f":"IF('Races, Positions & Points'!#REF!=\"\",\"\",'Races, Positions & Points'!#REF!)","v":{"$error":"#REF!"}},{"$f":"IF('Races, Positions & Points'!#REF!=\"\",\"\",'Races, Positions & Points'!#REF!)","v":{"$error":"#REF!"}},{"$f":"IF('Races, Positions & Points'!#REF!=\"\",\"\",'Races, Positions & Points'!#REF!)","v":{"$error":"#REF!"}},{"$f":"IF('Races, Positions & Points'!#REF!=\"\",\"\",'Races, Positions & Points'!#REF!)","v":{"$error":"#REF!"}},{"$f":"IF('Races, Positions & Points'!#REF!=\"\",\"\",'Races, Positions & Points'!#REF!)","v":{"$error":"#REF!"}},{"$f":"IF('Races, Positions & Points'!#REF!=\"\",\"\",'Races, Positions & Points'!#REF!)","v":{"$error":"#REF!"}},{"$f":"IF('Races, Positions & Points'!#REF!=\"\",\"\",'Races, Positions & Points'!#REF!)","v":{"$error":"#REF!"}},{"$f":"IF('Races, Positions & Points'!#REF!=\"\",\"\",'Races, Positions & Points'!#REF!)","v":{"$error":"#REF!"}},{"$f":"IF('Races, Positions & Points'!#REF!=\"\",\"\",'Races, Positions & Points'!#REF!)","v":{"$error":"#REF!"}},{"$f":"IF('Races, Positions & Points'!#REF!=\"\",\"\",'Races, Positions & Points'!#REF!)","v":{"$error":"#REF!"}},{"$f":"IF('Races, Positions & Points'!#REF!=\"\",\"\",'Races, Positions & Points'!#REF!)","v":{"$error":"#REF!"}},{"$f":"IF('Races, Positions & Points'!#REF!=\"\",\"\",'Races, Positions & Points'!#REF!)","v":{"$error":"#REF!"}},{"$f":"IF('Races, Positions & Points'!#REF!=\"\",\"\",'Races, Positions & Points'!#REF!)","v":{"$error":"#REF!"}},{"$f":"IF('Races, Positions & Points'!#REF!=\"\",\"\",'Races, Positions & Points'!#REF!)","v":{"$error":"#REF!"}},{"$f":"IF('Races, Positions & Points'!#REF!=\"\",\"\",'Races, Positions & Points'!#REF!)","v":{"$error":"#REF!"}},{"$f":"IF('Races, Positions & Points'!#REF!=\"\",\"\",'Races, Positions & Points'!#REF!)","v":{"$error":"#REF!"}},{"$f":"IF('Races, Positions & Points'!#REF!=\"\",\"\",'Races, Positions & Points'!#REF!)","v":{"$error":"#REF!"}},{"$f":"IF('Races, Positions & Points'!#REF!=\"\",\"\",'Races, Positions & Points'!#REF!)","v":{"$error":"#REF!"}},{"$f":"IF('Races, Positions & Points'!#REF!=\"\",\"\",'Races, Positions & Points'!#REF!)","v":{"$error":"#REF!"}},{"$f":"IF('Races, Positions & Points'!#REF!=\"\",\"\",'Races, Positions & Points'!#REF!)","v":{"$error":"#REF!"}},{"$f":"IF('Races, Positions & Points'!#REF!=\"\",\"\",'Races, Positions & Points'!#REF!)","v":{"$error":"#REF!"}},{"$f":"IF('Races, Positions & Points'!#REF!=\"\",\"\",'Races, Positions & Points'!#REF!)","v":{"$error":"#REF!"}},{"$f":"IF('Races, Positions & Points'!#REF!=\"\",\"\",'Races, Positions & Points'!#REF!)","v":{"$error":"#REF!"}},{"$f":"IF('Races, Positions & Points'!#REF!=\"\",\"\",'Races, Positions & Points'!#REF!)","v":{"$error":"#REF!"}},{"$f":"IF('Races, Positions & Points'!#REF!=\"\",\"\",'Races, Positions & Points'!#REF!)","v":{"$error":"#REF!"}},{"$f":"IF('Races, Positions & Points'!#REF!=\"\",\"\",'Races, Positions & Points'!#REF!)","v":{"$error":"#REF!"}},{"$f":"IF('Races, Positions & Points'!#REF!=\"\",\"\",'Races, Positions & Points'!#REF!)","v":{"$error":"#REF!"}},{"$f":"IF('Races, Positions & Points'!#REF!=\"\",\"\",'Races, Positions & Points'!#REF!)","v":{"$error":"#REF!"}},{"$f":"IF('Races, Positions & Points'!#REF!=\"\",\"\",'Races, Positions & Points'!#REF!)","v":{"$error":"#REF!"}},{"$f":"IF('Races, Positions & Points'!#REF!=\"\",\"\",'Races, Positions & Points'!#REF!)","v":{"$error":"#REF!"}},{"$f":"IF('Races, Positions & Points'!#REF!=\"\",\"\",'Races, Positions & Points'!#REF!)","v":{"$error":"#REF!"}},{"$f":"IF('Races, Positions & Points'!#REF!=\"\",\"\",'Races, Positions & Points'!#REF!)","v":{"$error":"#REF!"}},{"$f":"IF('Races, Positions & Points'!#REF!=\"\",\"\",'Races, Positions & Points'!#REF!)","v":{"$error":"#REF!"}},{"$f":"IF('Races, Positions & Points'!#REF!=\"\",\"\",'Races, Positions & Points'!#REF!)","v":{"$error":"#REF!"}},{"$f":"IF('Races, Positions & Points'!#REF!=\"\",\"\",'Races, Positions & Points'!#REF!)","v":{"$error":"#REF!"}},{"$f":"IF('Races, Positions & Points'!#REF!=\"\",\"\",'Races, Positions & Points'!#REF!)","v":{"$error":"#REF!"}},{"$f":"IF('Races, Positions & Points'!#REF!=\"\",\"\",'Races, Positions & Points'!#REF!)","v":{"$error":"#REF!"}},{"$f":"IF('Races, Positions & Points'!#REF!=\"\",\"\",'Races, Positions & Points'!#REF!)","v":{"$error":"#REF!"}},{"$f":"IF('Races, Positions & Points'!#REF!=\"\",\"\",'Races, Positions & Points'!#REF!)","v":{"$error":"#REF!"}},{"$f":"IF('Races, Positions & Points'!#REF!=\"\",\"\",'Races, Positions & Points'!#REF!)","v":{"$error":"#REF!"}},{"$f":"IF('Races, Positions & Points'!#REF!=\"\",\"\",'Races, Positions & Points'!#REF!)","v":{"$error":"#REF!"}},null,{"$error":"#REF!"},{"$error":"#REF!"},{"$error":"#REF!"},{"$error":"#REF!"},{"$error":"#REF!"},{"$error":"#REF!"},null,{"$f":"'Races, Positions & Points'!#REF!","v":{"$error":"#REF!"}}]
[{"$f":"'Races, Positions & Points'!#REF!","v":{"$error":"#REF!"}},{"$f":"IF('Races, Positions & Points'!#REF!=\"\",\"\",'Races, Positions & Points'!#REF!)","v":{"$error":"#REF!"}},{"$f":"IF('Races, Positions & Points'!#REF!=\"\",\"\",'Races, Positions & Points'!#REF!)","v":{"$error":"#REF!"}},{"$f":"IF('Races, Positions & Points'!#REF!=\"\",\"\",'Races, Positions & Points'!#REF!)","v":{"$error":"#REF!"}},{"$f":"IF('Races, Positions & Points'!#REF!=\"\",\"\",'Races, Positions & Points'!#REF!)","v":{"$error":"#REF!"}},{"$f":"IF('Races, Positions & Points'!#REF!=\"\",\"\",'Races, Positions & Points'!#REF!)","v":{"$error":"#REF!"}},{"$f":"IF('Races, Positions & Points'!#REF!=\"\",\"\",'Races, Positions & Points'!#REF!)","v":{"$error":"#REF!"}},{"$f":"IF('Races, Positions & Points'!#REF!=\"\",\"\",'Races, Positions & Points'!#REF!)","v":{"$error":"#REF!"}},{"$f":"IF('Races, Positions & Points'!#REF!=\"\",\"\",'Races, Positions & Points'!#REF!)","v":{"$error":"#REF!"}},{"$f":"IF('Races, Positions & Points'!#REF!=\"\",\"\",'Races, Positions & Points'!#REF!)","v":{"$error":"#REF!"}},{"$f":"IF('Races, Positions & Points'!#REF!=\"\",\"\",'Races, Positions & Points'!#REF!)","v":{"$error":"#REF!"}},{"$f":"IF('Races, Positions & Points'!#REF!=\"\",\"\",'Races, Positions & Points'!#REF!)","v":{"$error":"#REF!"}},{"$f":"IF('Races, Positions & Points'!#REF!=\"\",\"\",'Races, Positions & Points'!#REF!)","v":{"$error":"#REF!"}},{"$f":"IF('Races, Positions & Points'!#REF!=\"\",\"\",'Races, Positions & Points'!#REF!)","v":{"$error":"#REF!"}},{"$f":"IF('Races, Positions & Points'!#REF!=\"\",\"\",'Races, Positions & Points'!#REF!)","v":{"$error":"#REF!"}},{"$f":"IF('Races, Positions & Points'!#REF!=\"\",\"\",'Races, Positions & Points'!#REF!)","v":{"$error":"#REF!"}},{"$f":"IF('Races, Positions & Points'!#REF!=\"\",\"\",'Races, Positions & Points'!#REF!)","v":{"$error":"#REF!"}},{"$f":"IF('Races, Positions & Points'!#REF!=\"\",\"\",'Races, Positions & Points'!#REF!)","v":{"$error":"#REF!"}},{"$f":"IF('Races, Positions & Points'!#REF!=\"\",\"\",'Races, Positions & Points'!#REF!)","v":{"$error":"#REF!"}},{"$f":"IF('Races, Positions & Points'!#REF!=\"\",\"\",'Races, Positions & Points'!#REF!)","v":{"$error":"#REF!"}},{"$f":"IF('Races, Positions & Points'!#REF!=\"\",\"\",'Races, Positions & Points'!#REF!)","v":{"$error":"#REF!"}},{"$f":"IF('Races, Positions & Points'!#REF!=\"\",\"\",'Races, Positions & Points'!#REF!)","v":{"$error":"#REF!"}},{"$f":"IF('Races, Positions & Points'!#REF!=\"\",\"\",'Races, Positions & Points'!#REF!)","v":{"$error":"#REF!"}},{"$f":"IF('Races, Positions & Points'!#REF!=\"\",\"\",'Races, Positions & Points'!#REF!)","v":{"$error":"#REF!"}},{"$f":"IF('Races, Positions & Points'!#REF!=\"\",\"\",'Races, Positions & Points'!#REF!)","v":{"$error":"#REF!"}},{"$f":"IF('Races, Positions & Points'!#REF!=\"\",\"\",'Races, Positions & Points'!#REF!)","v":{"$error":"#REF!"}},{"$f":"IF('Races, Positions & Points'!#REF!=\"\",\"\",'Races, Positions & Points'!#REF!)","v":{"$error":"#REF!"}},{"$f":"IF('Races, Positions & Points'!#REF!=\"\",\"\",'Races, Positions & Points'!#REF!)","v":{"$error":"#REF!"}},{"$f":"IF('Races, Positions & Points'!#REF!=\"\",\"\",'Races, Positions & Points'!#REF!)","v":{"$error":"#REF!"}},{"$f":"IF('Races, Positions & Points'!#REF!=\"\",\"\",'Races, Positions & Points'!#REF!)","v":{"$error":"#REF!"}},{"$f":"IF('Races, Positions & Points'!#REF!=\"\",\"\",'Races, Positions & Points'!#REF!)","v":{"$error":"#REF!"}},{"$f":"IF('Races, Positions & Points'!#REF!=\"\",\"\",'Races, Positions & Points'!#REF!)","v":{"$error":"#REF!"}},{"$f":"IF('Races, Positions & Points'!#REF!=\"\",\"\",'Races, Positions & Points'!#REF!)","v":{"$error":"#REF!"}},{"$f":"IF('Races, Positions & Points'!#REF!=\"\",\"\",'Races, Positions & Points'!#REF!)","v":{"$error":"#REF!"}},{"$f":"IF('Races, Positions & Points'!#REF!=\"\",\"\",'Races, Positions & Points'!#REF!)","v":{"$error":"#REF!"}},{"$f":"IF('Races, Positions & Points'!#REF!=\"\",\"\",'Races, Positions & Points'!#REF!)","v":{"$error":"#REF!"}},{"$f":"IF('Races, Positions & Points'!#REF!=\"\",\"\",'Races, Positions & Points'!#REF!)","v":{"$error":"#REF!"}},{"$f":"IF('Races, Positions & Points'!#REF!=\"\",\"\",'Races, Positions & Points'!#REF!)","v":{"$error":"#REF!"}},{"$f":"IF('Races, Positions & Points'!#REF!=\"\",\"\",'Races, Positions & Points'!#REF!)","v":{"$error":"#REF!"}},{"$f":"IF('Races, Positions & Points'!#REF!=\"\",\"\",'Races, Positions & Points'!#REF!)","v":{"$error":"#REF!"}},{"$f":"IF('Races, Positions & Points'!#REF!=\"\",\"\",'Races, Positions & Points'!#REF!)","v":{"$error":"#REF!"}},{"$f":"IF('Races, Positions & Points'!#REF!=\"\",\"\",'Races, Positions & Points'!#REF!)","v":{"$error":"#REF!"}},{"$f":"IF('Races, Positions & Points'!#REF!=\"\",\"\",'Races, Positions & Points'!#REF!)","v":{"$error":"#REF!"}},{"$f":"IF('Races, Positions & Points'!#REF!=\"\",\"\",'Races, Positions & Points'!#REF!)","v":{"$error":"#REF!"}},{"$f":"IF('Races, Positions & Points'!#REF!=\"\",\"\",'Races, Positions & Points'!#REF!)","v":{"$error":"#REF!"}},{"$f":"IF('Races, Positions & Points'!#REF!=\"\",\"\",'Races, Positions & Points'!#REF!)","v":{"$error":"#REF!"}},{"$f":"IF('Races, Positions & Points'!#REF!=\"\",\"\",'Races, Positions & Points'!#REF!)","v":{"$error":"#REF!"}},{"$f":"IF('Races, Positions & Points'!#REF!=\"\",\"\",'Races, Positions & Points'!#REF!)","v":{"$error":"#REF!"}},{"$f":"IF('Races, Positions & Points'!#REF!=\"\",\"\",'Races, Positions & Points'!#REF!)","v":{"$error":"#REF!"}},{"$f":"IF('Races, Positions & Points'!#REF!=\"\",\"\",'Races, Positions & Points'!#REF!)","v":{"$error":"#REF!"}},{"$f":"IF('Races, Positions & Points'!#REF!=\"\",\"\",'Races, Positions & Points'!#REF!)","v":{"$error":"#REF!"}},null,{"$error":"#REF!"},{"$error":"#REF!"},{"$error":"#REF!"},{"$error":"#REF!"},{"$error":"#REF!"},{"$error":"#REF!"},null,{"$f":"'Races, Positions & Points'!#REF!","v":{"$error":"#REF!"}}]
[{"$f":"'Races, Positions & Points'!#REF!","v":{"$error":"#REF!"}},{"$f":"IF('Races, Positions & Points'!#REF!=\"\",\"\",'Races, Positions & Points'!#REF!)","v":{"$error":"#REF!"}},{"$f":"IF('Races, Positions & Points'!#REF!=\"\",\"\",'Races, Positions & Points'!#REF!)","v":{"$error":"#REF!"}},{"$f":"IF('Races, Positions & Points'!#REF!=\"\",\"\",'Races, Positions & Points'!#REF!)","v":{"$error":"#REF!"}},{"$f":"IF('Races, Positions & Points'!#REF!=\"\",\"\",'Races, Positions & Points'!#REF!)","v":{"$error":"#REF!"}},{"$f":"IF('Races, Positions & Points'!#REF!=\"\",\"\",'Races, Positions & Points'!#REF!)","v":{"$error":"#REF!"}},{"$f":"IF('Races, Positions & Points'!#REF!=\"\",\"\",'Races, Positions & Points'!#REF!)","v":{"$error":"#REF!"}},{"$f":"IF('Races, Positions & Points'!#REF!=\"\",\"\",'Races, Positions & Points'!#REF!)","v":{"$error":"#REF!"}},{"$f":"IF('Races, Positions & Points'!#REF!=\"\",\"\",'Races, Positions & Points'!#REF!)","v":{"$error":"#REF!"}},{"$f":"IF('Races, Positions & Points'!#REF!=\"\",\"\",'Races, Positions & Points'!#REF!)","v":{"$error":"#REF!"}},{"$f":"IF('Races, Positions & Points'!#REF!=\"\",\"\",'Races, Positions & Points'!#REF!)","v":{"$error":"#REF!"}},{"$f":"IF('Races, Positions & Points'!#REF!=\"\",\"\",'Races, Positions & Points'!#REF!)","v":{"$error":"#REF!"}},{"$f":"IF('Races, Positions & Points'!#REF!=\"\",\"\",'Races, Positions & Points'!#REF!)","v":{"$error":"#REF!"}},{"$f":"IF('Races, Positions & Points'!#REF!=\"\",\"\",'Races, Positions & Points'!#REF!)","v":{"$error":"#REF!"}},{"$f":"IF('Races, Positions & Points'!#REF!=\"\",\"\",'Races, Positions & Points'!#REF!)","v":{"$error":"#REF!"}},{"$f":"IF('Races, Positions & Points'!#REF!=\"\",\"\",'Races, Positions & Points'!#REF!)","v":{"$error":"#REF!"}},{"$f":"IF('Races, Positions & Points'!#REF!=\"\",\"\",'Races, Positions & Points'!#REF!)","v":{"$error":"#REF!"}},{"$f":"IF('Races, Positions & Points'!#REF!=\"\",\"\",'Races, Positions & Points'!#REF!)","v":{"$error":"#REF!"}},{"$f":"IF('Races, Positions & Points'!#REF!=\"\",\"\",'Races, Positions & Points'!#REF!)","v":{"$error":"#REF!"}},{"$f":"IF('Races, Positions & Points'!#REF!=\"\",\"\",'Races, Positions & Points'!#REF!)","v":{"$error":"#REF!"}},{"$f":"IF('Races, Positions & Points'!#REF!=\"\",\"\",'Races, Positions & Points'!#REF!)","v":{"$error":"#REF!"}},{"$f":"IF('Races, Positions & Points'!#REF!=\"\",\"\",'Races, Positions & Points'!#REF!)","v":{"$error":"#REF!"}},{"$f":"IF('Races, Positions & Points'!#REF!=\"\",\"\",'Races, Positions & Points'!#REF!)","v":{"$error":"#REF!"}},{"$f":"IF('Races, Positions & Points'!#REF!=\"\",\"\",'Races, Positions & Points'!#REF!)","v":{"$error":"#REF!"}},{"$f":"IF('Races, Positions & Points'!#REF!=\"\",\"\",'Races, Positions & Points'!#REF!)","v":{"$error":"#REF!"}},{"$f":"IF('Races, Positions & Points'!#REF!=\"\",\"\",'Races, Positions & Points'!#REF!)","v":{"$error":"#REF!"}},{"$f":"IF('Races, Positions & Points'!#REF!=\"\",\"\",'Races, Positions & Points'!#REF!)","v":{"$error":"#REF!"}},{"$f":"IF('Races, Positions & Points'!#REF!=\"\",\"\",'Races, Positions & Points'!#REF!)","v":{"$error":"#REF!"}},{"$f":"IF('Races, Positions & Points'!#REF!=\"\",\"\",'Races, Positions & Points'!#REF!)","v":{"$error":"#REF!"}},{"$f":"IF('Races, Positions & Points'!#REF!=\"\",\"\",'Races, Positions & Points'!#REF!)","v":{"$error":"#REF!"}},{"$f":"IF('Races, Positions & Points'!#REF!=\"\",\"\",'Races, Positions & Points'!#REF!)","v":{"$error":"#REF!"}},{"$f":"IF('Races, Positions & Points'!#REF!=\"\",\"\",'Races, Positions & Points'!#REF!)","v":{"$error":"#REF!"}},{"$f":"IF('Races, Positions & Points'!#REF!=\"\",\"\",'Races, Positions & Points'!#REF!)","v":{"$error":"#REF!"}},{"$f":"IF('Races, Positions & Points'!#REF!=\"\",\"\",'Races, Positions & Points'!#REF!)","v":{"$error":"#REF!"}},{"$f":"IF('Races, Positions & Points'!#REF!=\"\",\"\",'Races, Positions & Points'!#REF!)","v":{"$error":"#REF!"}},{"$f":"IF('Races, Positions & Points'!#REF!=\"\",\"\",'Races, Positions & Points'!#REF!)","v":{"$error":"#REF!"}},{"$f":"IF('Races, Positions & Points'!#REF!=\"\",\"\",'Races, Positions & Points'!#REF!)","v":{"$error":"#REF!"}},{"$f":"IF('Races, Positions & Points'!#REF!=\"\",\"\",'Races, Positions & Points'!#REF!)","v":{"$error":"#REF!"}},{"$f":"IF('Races, Positions & Points'!#REF!=\"\",\"\",'Races, Positions & Points'!#REF!)","v":{"$error":"#REF!"}},{"$f":"IF('Races, Positions & Points'!#REF!=\"\",\"\",'Races, Positions & Points'!#REF!)","v":{"$error":"#REF!"}},{"$f":"IF('Races, Positions & Points'!#REF!=\"\",\"\",'Races, Positions & Points'!#REF!)","v":{"$error":"#REF!"}},{"$f":"IF('Races, Positions & Points'!#REF!=\"\",\"\",'Races, Positions & Points'!#REF!)","v":{"$error":"#REF!"}},{"$f":"IF('Races, Positions & Points'!#REF!=\"\",\"\",'Races, Positions & Points'!#REF!)","v":{"$error":"#REF!"}},{"$f":"IF('Races, Positions & Points'!#REF!=\"\",\"\",'Races, Positions & Points'!#REF!)","v":{"$error":"#REF!"}},{"$f":"IF('Races, Positions & Points'!#REF!=\"\",\"\",'Races, Positions & Points'!#REF!)","v":{"$error":"#REF!"}},{"$f":"IF('Races, Positions & Points'!#REF!=\"\",\"\",'Races, Positions & Points'!#REF!)","v":{"$error":"#REF!"}},{"$f":"IF('Races, Positions & Points'!#REF!=\"\",\"\",'Races, Positions & Points'!#REF!)","v":{"$error":"#REF!"}},{"$f":"IF('Races, Positions & Points'!#REF!=\"\",\"\",'Races, Positions & Points'!#REF!)","v":{"$error":"#REF!"}},{"$f":"IF('Races, Positions & Points'!#REF!=\"\",\"\",'Races, Positions & Points'!#REF!)","v":{"$error":"#REF!"}},{"$f":"IF('Races, Positions & Points'!#REF!=\"\",\"\",'Races, Positions & Points'!#REF!)","v":{"$error":"#REF!"}},{"$f":"IF('Races, Positions & Points'!#REF!=\"\",\"\",'Races, Positions & Points'!#REF!)","v":{"$error":"#REF!"}},null,{"$error":"#REF!"},{"$error":"#REF!"},{"$error":"#REF!"},{"$error":"#REF!"},{"$error":"#REF!"},{"$error":"#REF!"},null,{"$f":"'Races, Positions & Points'!#REF!","v":{"$error":"#REF!"}}]
[{"$f":"'Races, Positions & Points'!#REF!","v":{"$error":"#REF!"}},{"$f":"IF('Races, Positions & Points'!#REF!=\"\",\"\",'Races, Positions & Points'!#REF!)","v":{"$error":"#REF!"}},{"$f":"IF('Races, Positions & Points'!#REF!=\"\",\"\",'Races, Positions & Points'!#REF!)","v":{"$error":"#REF!"}},{"$f":"IF('Races, Positions & Points'!#REF!=\"\",\"\",'Races, Positions & Points'!#REF!)","v":{"$error":"#REF!"}},{"$f":"IF('Races, Positions & Points'!#REF!=\"\",\"\",'Races, Positions & Points'!#REF!)","v":{"$error":"#REF!"}},{"$f":"IF('Races, Positions & Points'!#REF!=\"\",\"\",'Races, Positions & Points'!#REF!)","v":{"$error":"#REF!"}},{"$f":"IF('Races, Positions & Points'!#REF!=\"\",\"\",'Races, Positions & Points'!#REF!)","v":{"$error":"#REF!"}},{"$f":"IF('Races, Positions & Points'!#REF!=\"\",\"\",'Races, Positions & Points'!#REF!)","v":{"$error":"#REF!"}},{"$f":"IF('Races, Positions & Points'!#REF!=\"\",\"\",'Races, Positions & Points'!#REF!)","v":{"$error":"#REF!"}},{"$f":"IF('Races, Positions & Points'!#REF!=\"\",\"\",'Races, Positions & Points'!#REF!)","v":{"$error":"#REF!"}},{"$f":"IF('Races, Positions & Points'!#REF!=\"\",\"\",'Races, Positions & Points'!#REF!)","v":{"$error":"#REF!"}},{"$f":"IF('Races, Positions & Points'!#REF!=\"\",\"\",'Races, Positions & Points'!#REF!)","v":{"$error":"#REF!"}},{"$f":"IF('Races, Positions & Points'!#REF!=\"\",\"\",'Races, Positions & Points'!#REF!)","v":{"$error":"#REF!"}},{"$f":"IF('Races, Positions & Points'!#REF!=\"\",\"\",'Races, Positions & Points'!#REF!)","v":{"$error":"#REF!"}},{"$f":"IF('Races, Positions & Points'!#REF!=\"\",\"\",'Races, Positions & Points'!#REF!)","v":{"$error":"#REF!"}},{"$f":"IF('Races, Positions & Points'!#REF!=\"\",\"\",'Races, Positions & Points'!#REF!)","v":{"$error":"#REF!"}},{"$f":"IF('Races, Positions & Points'!#REF!=\"\",\"\",'Races, Positions & Points'!#REF!)","v":{"$error":"#REF!"}},{"$f":"IF('Races, Positions & Points'!#REF!=\"\",\"\",'Races, Positions & Points'!#REF!)","v":{"$error":"#REF!"}},{"$f":"IF('Races, Positions & Points'!#REF!=\"\",\"\",'Races, Positions & Points'!#REF!)","v":{"$error":"#REF!"}},{"$f":"IF('Races, Positions & Points'!#REF!=\"\",\"\",'Races, Positions & Points'!#REF!)","v":{"$error":"#REF!"}},{"$f":"IF('Races, Positions & Points'!#REF!=\"\",\"\",'Races, Positions & Points'!#REF!)","v":{"$error":"#REF!"}},{"$f":"IF('Races, Positions & Points'!#REF!=\"\",\"\",'Races, Positions & Points'!#REF!)","v":{"$error":"#REF!"}},{"$f":"IF('Races, Positions & Points'!#REF!=\"\",\"\",'Races, Positions & Points'!#REF!)","v":{"$error":"#REF!"}},{"$f":"IF('Races, Positions & Points'!#REF!=\"\",\"\",'Races, Positions & Points'!#REF!)","v":{"$error":"#REF!"}},{"$f":"IF('Races, Positions & Points'!#REF!=\"\",\"\",'Races, Positions & Points'!#REF!)","v":{"$error":"#REF!"}},{"$f":"IF('Races, Positions & Points'!#REF!=\"\",\"\",'Races, Positions & Points'!#REF!)","v":{"$error":"#REF!"}},{"$f":"IF('Races, Positions & Points'!#REF!=\"\",\"\",'Races, Positions & Points'!#REF!)","v":{"$error":"#REF!"}},{"$f":"IF('Races, Positions & Points'!#REF!=\"\",\"\",'Races, Positions & Points'!#REF!)","v":{"$error":"#REF!"}},{"$f":"IF('Races, Positions & Points'!#REF!=\"\",\"\",'Races, Positions & Points'!#REF!)","v":{"$error":"#REF!"}},{"$f":"IF('Races, Positions & Points'!#REF!=\"\",\"\",'Races, Positions & Points'!#REF!)","v":{"$error":"#REF!"}},{"$f":"IF('Races, Positions & Points'!#REF!=\"\",\"\",'Races, Positions & Points'!#REF!)","v":{"$error":"#REF!"}},{"$f":"IF('Races, Positions & Points'!#REF!=\"\",\"\",'Races, Positions & Points'!#REF!)","v":{"$error":"#REF!"}},{"$f":"IF('Races, Positions & Points'!#REF!=\"\",\"\",'Races, Positions & Points'!#REF!)","v":{"$error":"#REF!"}},{"$f":"IF('Races, Positions & Points'!#REF!=\"\",\"\",'Races, Positions & Points'!#REF!)","v":{"$error":"#REF!"}},{"$f":"IF('Races, Positions & Points'!#REF!=\"\",\"\",'Races, Positions & Points'!#REF!)","v":{"$error":"#REF!"}},{"$f":"IF('Races, Positions & Points'!#REF!=\"\",\"\",'Races, Positions & Points'!#REF!)","v":{"$error":"#REF!"}},{"$f":"IF('Races, Positions & Points'!#REF!=\"\",\"\",'Races, Positions & Points'!#REF!)","v":{"$error":"#REF!"}},{"$f":"IF('Races, Positions & Points'!#REF!=\"\",\"\",'Races, Positions & Points'!#REF!)","v":{"$error":"#REF!"}},{"$f":"IF('Races, Positions & Points'!#REF!=\"\",\"\",'Races, Positions & Points'!#REF!)","v":{"$error":"#REF!"}},{"$f":"IF('Races, Positions & Points'!#REF!=\"\",\"\",'Races, Positions & Points'!#REF!)","v":{"$error":"#REF!"}},{"$f":"IF('Races, Positions & Points'!#REF!=\"\",\"\",'Races, Positions & Points'!#REF!)","v":{"$error":"#REF!"}},{"$f":"IF('Races, Positions & Points'!#REF!=\"\",\"\",'Races, Positions & Points'!#REF!)","v":{"$error":"#REF!"}},{"$f":"IF('Races, Positions & Points'!#REF!=\"\",\"\",'Races, Positions & Points'!#REF!)","v":{"$error":"#REF!"}},{"$f":"IF('Races, Positions & Points'!#REF!=\"\",\"\",'Races, Positions & Points'!#REF!)","v":{"$error":"#REF!"}},{"$f":"IF('Races, Positions & Points'!#REF!=\"\",\"\",'Races, Positions & Points'!#REF!)","v":{"$error":"#REF!"}},{"$f":"IF('Races, Positions & Points'!#REF!=\"\",\"\",'Races, Positions & Points'!#REF!)","v":{"$error":"#REF!"}},{"$f":"IF('Races, Positions & Points'!#REF!=\"\",\"\",'Races, Positions & Points'!#REF!)","v":{"$error":"#REF!"}},{"$f":"IF('Races, Positions & Points'!#REF!=\"\",\"\",'Races, Positions & Points'!#REF!)","v":{"$error":"#REF!"}},{"$f":"IF('Races, Positions & Points'!#REF!=\"\",\"\",'Races, Positions & Points'!#REF!)","v":{"$error":"#REF!"}},{"$f":"IF('Races, Positions & Points'!#REF!=\"\",\"\",'Races, Positions & Points'!#REF!)","v":{"$error":"#REF!"}},{"$f":"IF('Races, Positions & Points'!#REF!=\"\",\"\",'Races, Positions & Points'!#REF!)","v":{"$error":"#REF!"}},null,{"$error":"#REF!"},{"$error":"#REF!"},{"$error":"#REF!"},{"$error":"#REF!"},{"$error":"#REF!"},{"$error":"#REF!"},null,{"$f":"'Races, Positions & Points'!#REF!","v":{"$error":"#REF!"}}]
[{"$f":"'Races, Positions & Points'!#REF!","v":{"$error":"#REF!"}},{"$f":"IF('Races, Positions & Points'!#REF!=\"\",\"\",'Races, Positions & Points'!#REF!)","v":{"$error":"#REF!"}},{"$f":"IF('Races, Positions & Points'!#REF!=\"\",\"\",'Races, Positions & Points'!#REF!)","v":{"$error":"#REF!"}},{"$f":"IF('Races, Positions & Points'!#REF!=\"\",\"\",'Races, Positions & Points'!#REF!)","v":{"$error":"#REF!"}},{"$f":"IF('Races, Positions & Points'!#REF!=\"\",\"\",'Races, Positions & Points'!#REF!)","v":{"$error":"#REF!"}},{"$f":"IF('Races, Positions & Points'!#REF!=\"\",\"\",'Races, Positions & Points'!#REF!)","v":{"$error":"#REF!"}},{"$f":"IF('Races, Positions & Points'!#REF!=\"\",\"\",'Races, Positions & Points'!#REF!)","v":{"$error":"#REF!"}},{"$f":"IF('Races, Positions & Points'!#REF!=\"\",\"\",'Races, Positions & Points'!#REF!)","v":{"$error":"#REF!"}},{"$f":"IF('Races, Positions & Points'!#REF!=\"\",\"\",'Races, Positions & Points'!#REF!)","v":{"$error":"#REF!"}},{"$f":"IF('Races, Positions & Points'!#REF!=\"\",\"\",'Races, Positions & Points'!#REF!)","v":{"$error":"#REF!"}},{"$f":"IF('Races, Positions & Points'!#REF!=\"\",\"\",'Races, Positions & Points'!#REF!)","v":{"$error":"#REF!"}},{"$f":"IF('Races, Positions & Points'!#REF!=\"\",\"\",'Races, Positions & Points'!#REF!)","v":{"$error":"#REF!"}},{"$f":"IF('Races, Positions & Points'!#REF!=\"\",\"\",'Races, Positions & Points'!#REF!)","v":{"$error":"#REF!"}},{"$f":"IF('Races, Positions & Points'!#REF!=\"\",\"\",'Races, Positions & Points'!#REF!)","v":{"$error":"#REF!"}},{"$f":"IF('Races, Positions & Points'!#REF!=\"\",\"\",'Races, Positions & Points'!#REF!)","v":{"$error":"#REF!"}},{"$f":"IF('Races, Positions & Points'!#REF!=\"\",\"\",'Races, Positions & Points'!#REF!)","v":{"$error":"#REF!"}},{"$f":"IF('Races, Positions & Points'!#REF!=\"\",\"\",'Races, Positions & Points'!#REF!)","v":{"$error":"#REF!"}},{"$f":"IF('Races, Positions & Points'!#REF!=\"\",\"\",'Races, Positions & Points'!#REF!)","v":{"$error":"#REF!"}},{"$f":"IF('Races, Positions & Points'!#REF!=\"\",\"\",'Races, Positions & Points'!#REF!)","v":{"$error":"#REF!"}},{"$f":"IF('Races, Positions & Points'!#REF!=\"\",\"\",'Races, Positions & Points'!#REF!)","v":{"$error":"#REF!"}},{"$f":"IF('Races, Positions & Points'!#REF!=\"\",\"\",'Races, Positions & Points'!#REF!)","v":{"$error":"#REF!"}},{"$f":"IF('Races, Positions & Points'!#REF!=\"\",\"\",'Races, Positions & Points'!#REF!)","v":{"$error":"#REF!"}},{"$f":"IF('Races, Positions & Points'!#REF!=\"\",\"\",'Races, Positions & Points'!#REF!)","v":{"$error":"#REF!"}},{"$f":"IF('Races, Positions & Points'!#REF!=\"\",\"\",'Races, Positions & Points'!#REF!)","v":{"$error":"#REF!"}},{"$f":"IF('Races, Positions & Points'!#REF!=\"\",\"\",'Races, Positions & Points'!#REF!)","v":{"$error":"#REF!"}},{"$f":"IF('Races, Positions & Points'!#REF!=\"\",\"\",'Races, Positions & Points'!#REF!)","v":{"$error":"#REF!"}},{"$f":"IF('Races, Positions & Points'!#REF!=\"\",\"\",'Races, Positions & Points'!#REF!)","v":{"$error":"#REF!"}},{"$f":"IF('Races, Positions & Points'!#REF!=\"\",\"\",'Races, Positions & Points'!#REF!)","v":{"$error":"#REF!"}},{"$f":"IF('Races, Positions & Points'!#REF!=\"\",\"\",'Races, Positions & Points'!#REF!)","v":{"$error":"#REF!"}},{"$f":"IF('Races, Positions & Points'!#REF!=\"\",\"\",'Races, Positions & Points'!#REF!)","v":{"$error":"#REF!"}},{"$f":"IF('Races, Positions & Points'!#REF!=\"\",\"\",'Races, Positions & Points'!#REF!)","v":{"$error":"#REF!"}},{"$f":"IF('Races, Positions & Points'!#REF!=\"\",\"\",'Races, Positions & Points'!#REF!)","v":{"$error":"#REF!"}},{"$f":"IF('Races, Positions & Points'!#REF!=\"\",\"\",'Races, Positions & Points'!#REF!)","v":{"$error":"#REF!"}},{"$f":"IF('Races, Positions & Points'!#REF!=\"\",\"\",'Races, Positions & Points'!#REF!)","v":{"$error":"#REF!"}},{"$f":"IF('Races, Positions & Points'!#REF!=\"\",\"\",'Races, Positions & Points'!#REF!)","v":{"$error":"#REF!"}},{"$f":"IF('Races, Positions & Points'!#REF!=\"\",\"\",'Races, Positions & Points'!#REF!)","v":{"$error":"#REF!"}},{"$f":"IF('Races, Positions & Points'!#REF!=\"\",\"\",'Races, Positions & Points'!#REF!)","v":{"$error":"#REF!"}},{"$f":"IF('Races, Positions & Points'!#REF!=\"\",\"\",'Races, Positions & Points'!#REF!)","v":{"$error":"#REF!"}},{"$f":"IF('Races, Positions & Points'!#REF!=\"\",\"\",'Races, Positions & Points'!#REF!)","v":{"$error":"#REF!"}},{"$f":"IF('Races, Positions & Points'!#REF!=\"\",\"\",'Races, Positions & Points'!#REF!)","v":{"$error":"#REF!"}},{"$f":"IF('Races, Positions & Points'!#REF!=\"\",\"\",'Races, Positions & Points'!#REF!)","v":{"$error":"#REF!"}},{"$f":"IF('Races, Positions & Points'!#REF!=\"\",\"\",'Races, Positions & Points'!#REF!)","v":{"$error":"#REF!"}},{"$f":"IF('Races, Positions & Points'!#REF!=\"\",\"\",'Races, Positions & Points'!#REF!)","v":{"$error":"#REF!"}},{"$f":"IF('Races, Positions & Points'!#REF!=\"\",\"\",'Races, Positions & Points'!#REF!)","v":{"$error":"#REF!"}},{"$f":"IF('Races, Positions & Points'!#REF!=\"\",\"\",'Races, Positions & Points'!#REF!)","v":{"$error":"#REF!"}},{"$f":"IF('Races, Positions & Points'!#REF!=\"\",\"\",'Races, Positions & Points'!#REF!)","v":{"$error":"#REF!"}},{"$f":"IF('Races, Positions & Points'!#REF!=\"\",\"\",'Races, Positions & Points'!#REF!)","v":{"$error":"#REF!"}},{"$f":"IF('Races, Positions & Points'!#REF!=\"\",\"\",'Races, Positions & Points'!#REF!)","v":{"$error":"#REF!"}},{"$f":"IF('Races, Positions & Points'!#REF!=\"\",\"\",'Races, Positions & Points'!#REF!)","v":{"$error":"#REF!"}},{"$f":"IF('Races, Positions & Points'!#REF!=\"\",\"\",'Races, Positions & Points'!#REF!)","v":{"$error":"#REF!"}},{"$f":"IF('Races, Positions & Points'!#REF!=\"\",\"\",'Races, Positions & Points'!#REF!)","v":{"$error":"#REF!"}},null,{"$error":"#REF!"},{"$error":"#REF!"},{"$error":"#REF!"},{"$error":"#REF!"},{"$error":"#REF!"},{"$error":"#REF!"},null,{"$f":"'Races, Positions & Points'!#REF!","v":{"$error":"#REF!"}}]
[null,null,null,null,null,null,null,null,null,null,null,null,null,null,null,null,null,null,null,null,null,null,null,null,null,null,null,null,null,null,null,null,null,null,null,null,null,null,null,null,null,null,null,null,null,null,null,null,null,null,null,null,null,null,null,null,null,null,null,null,null,null,null,null,null,null,null,null,null,null,null,null,null,null,null,null,null,null,null,{"$f":"IF(MIN(C21,K21,L21,AH21,AI21,,AK21,AL21)>0,MIN(C21,K21,L21,AH21,AI21,,AK21,AL21),\"\")","v":""},{"$f":"IF(MIN(E21,F21,G21,H21,Z21,AF21,AG21,AP21,AQ21,AU21)>0,MIN(E21,F21,G21,H21,Z21,AF21,AG21,AP21,AQ21,AU21),\"\")","v":""},{"$f":"IF(MIN(T21,V21)>0,MIN(T21,V21),\"\")","v":""},{"$f":"IF(MIN(W21,X21)>0,MIN(W21,X21),\"\")","v":""},{"$f":"IF(MIN(B21,M21,N21,AR21,AS21)>0,MIN(B21,M21,N21,AR21,AS21),\"\")","v":""},{"$f":"IF(MIN(D21,O21,AB21,AC21,AE21)>0,MIN(D21,O21,AB21,AC21,AE21),\"\")","v":""},{"$f":"IF(MIN(I21,J21)>0,MIN(I21,J21),\"\")","v":""},{"$f":"IF(Q21>0,Q21,\"\")","v":""},{"$f":"IF(MIN(S21,AM21,AT21,AY21)>0,MIN(S21,AM21,AT21,AY21),\"\")","v":""},{"$f":"IF(MIN(P21,R21)>0,MIN(P21,R21),\"\")","v":""},{"$f":"IF(U21>0,U21,\"\")","v":""},{"$f":"IF(MIN(Y21,AO21)>0,MIN(Y21,AO21),\"\")","v":""},{"$f":"IF(AA21>0,AA21,\"\")","v":""},{"$f":"IF(AD21>0,AD21,\"\")","v":""},{"$f":"IF(AJ21>0,AJ21,\"\")","v":""},{"$f":"IF(MIN(AV21,AW21)>0,MIN(AV21,AW21),\"\")","v":""},null,{"$f":"IF(MIN(DF21:DL21)>0,MIN(DF21:DL21),\"\")","v":""},{"$f":"IF(ISERROR(SMALL(DF21:DL21,2)),\"\",SMALL(DF21:DL21,2))","v":""},{"$f":"IF(ISERROR(SMALL(DF21:DL21,2)),\"\",AVERAGE(CS21,CT21))","v":""},{"$f":"IF(ISERROR(CS21*1.2),\"\",IF(CS21<50,CS21+10,CS21*1.2))","v":""},null,{"$f":"IF(MIN(DC21:DE21)>0,MIN(DC21:DE21),\"\")","v":""},{"$f":"IF(ISERROR(SMALL(DC21:DE21,2)),\"\",SMALL(DC21:DE21,2))","v":""},{"$f":"IF(ISERROR(SMALL(DC21:DE21,2)),\"\",AVERAGE(CX21,CY21))","v":""},{"$f":"IF(ISERROR(CX21*1.2),\"\",IF(CX21<50,CX21+10,CX21*1.2))","v":""},null,{"$f":"IF(MIN(C21,K21,L21,AH21,AI21,AK21,AL21)>0,MIN(C21,K21,L21,AH21,AI21,AK21,AL21),\"\")","v":""},{"$f":"IF(MIN(Z21,AF21,AG21,AP21,AQ21,AU21)>0,MIN(Z21,AF21,AG21,AP21,AQ21,AU21),\"\")","v":""},{"$f":"IF(MIN(T21,V21)>0,MIN(T21,V21),\"\")","v":""},{"$f":"IF(MIN(M21,N21,AR21,AS21)>0,MIN(M21,N21,AR21,AS21),\"\")","v":""},{"$f":"IF(MIN(O21,AE21),MIN(O21,AE21),\"\")","v":""},{"$f":"IF(J21>0,J21,\"\")","v":""},{"$f":"IF(MIN(AM21,AY21)>0,MIN(AM21,AY21),\"\")","v":""},{"$f":"IF(R21>0,R21,\"\")","v":""},{"$f":"IF(AO21>0,AO21,\"\")","v":""},{"$f":"IF(MIN(AV21,AW21),MIN(AV21,AW21),\"\")","v":""}]
[{"$f":"'Races, Positions & Points'!#REF!","v":{"$error":"#REF!"}},{"$f":"IF('Races, Positions & Points'!#REF!=\"\",\"\",'Races, Positions & Points'!#REF!)","v":{"$error":"#REF!"}},{"$f":"IF('Races, Positions & Points'!#REF!=\"\",\"\",'Races, Positions & Points'!#REF!)","v":{"$error":"#REF!"}},{"$f":"IF('Races, Positions & Points'!#REF!=\"\",\"\",'Races, Positions & Points'!#REF!)","v":{"$error":"#REF!"}},{"$f":"IF('Races, Positions & Points'!#REF!=\"\",\"\",'Races, Positions & Points'!#REF!)","v":{"$error":"#REF!"}},{"$f":"IF('Races, Positions & Points'!#REF!=\"\",\"\",'Races, Positions & Points'!#REF!)","v":{"$error":"#REF!"}},{"$f":"IF('Races, Positions & Points'!#REF!=\"\",\"\",'Races, Positions & Points'!#REF!)","v":{"$error":"#REF!"}},{"$f":"IF('Races, Positions & Points'!#REF!=\"\",\"\",'Races, Positions & Points'!#REF!)","v":{"$error":"#REF!"}},{"$f":"IF('Races, Positions & Points'!#REF!=\"\",\"\",'Races, Positions & Points'!#REF!)","v":{"$error":"#REF!"}},{"$f":"IF('Races, Positions & Points'!#REF!=\"\",\"\",'Races, Positions & Points'!#REF!)","v":{"$error":"#REF!"}},{"$f":"IF('Races, Positions & Points'!#REF!=\"\",\"\",'Races, Positions & Points'!#REF!)","v":{"$error":"#REF!"}},{"$f":"IF('Races, Positions & Points'!#REF!=\"\",\"\",'Races, Positions & Points'!#REF!)","v":{"$error":"#REF!"}},{"$f":"IF('Races, Positions & Points'!#REF!=\"\",\"\",'Races, Positions & Points'!#REF!)","v":{"$error":"#REF!"}},{"$f":"IF('Races, Positions & Points'!#REF!=\"\",\"\",'Races, Positions & Points'!#REF!)","v":{"$error":"#REF!"}},{"$f":"IF('Races, Positions & Points'!#REF!=\"\",\"\",'Races, Positions & Points'!#REF!)","v":{"$error":"#REF!"}},{"$f":"IF('Races, Positions & Points'!#REF!=\"\",\"\",'Races, Positions & Points'!#REF!)","v":{"$error":"#REF!"}},{"$f":"IF('Races, Positions & Points'!#REF!=\"\",\"\",'Races, Positions & Points'!#REF!)","v":{"$error":"#REF!"}},{"$f":"IF('Races, Positions & Points'!#REF!=\"\",\"\",'Races, Positions & Points'!#REF!)","v":{"$error":"#REF!"}},{"$f":"IF('Races, Positions & Points'!#REF!=\"\",\"\",'Races, Positions & Points'!#REF!)","v":{"$error":"#REF!"}},{"$f":"IF('Races, Positions & Points'!#REF!=\"\",\"\",'Races, Positions & Points'!#REF!)","v":{"$error":"#REF!"}},{"$f":"IF('Races, Positions & Points'!#REF!=\"\",\"\",'Races, Positions & Points'!#REF!)","v":{"$error":"#REF!"}},{"$f":"IF('Races, Positions & Points'!#REF!=\"\",\"\",'Races, Positions & Points'!#REF!)","v":{"$error":"#REF!"}},{"$f":"IF('Races, Positions & Points'!#REF!=\"\",\"\",'Races, Positions & Points'!#REF!)","v":{"$error":"#REF!"}},{"$f":"IF('Races, Positions & Points'!#REF!=\"\",\"\",'Races, Positions & Points'!#REF!)","v":{"$error":"#REF!"}},{"$f":"IF('Races, Positions & Points'!#REF!=\"\",\"\",'Races, Positions & Points'!#REF!)","v":{"$error":"#REF!"}},{"$f":"IF('Races, Positions & Points'!#REF!=\"\",\"\",'Races, Positions & Points'!#REF!)","v":{"$error":"#REF!"}},{"$f":"IF('Races, Positions & Points'!#REF!=\"\",\"\",'Races, Positions & Points'!#REF!)","v":{"$error":"#REF!"}},{"$f":"IF('Races, Positions & Points'!#REF!=\"\",\"\",'Races, Positions & Points'!#REF!)","v":{"$error":"#REF!"}},{"$f":"IF('Races, Positions & Points'!#REF!=\"\",\"\",'Races, Positions & Points'!#REF!)","v":{"$error":"#REF!"}},{"$f":"IF('Races, Positions & Points'!#REF!=\"\",\"\",'Races, Positions & Points'!#REF!)","v":{"$error":"#REF!"}},{"$f":"IF('Races, Positions & Points'!#REF!=\"\",\"\",'Races, Positions & Points'!#REF!)","v":{"$error":"#REF!"}},{"$f":"IF('Races, Positions & Points'!#REF!=\"\",\"\",'Races, Positions & Points'!#REF!)","v":{"$error":"#REF!"}},{"$f":"IF('Races, Positions & Points'!#REF!=\"\",\"\",'Races, Positions & Points'!#REF!)","v":{"$error":"#REF!"}},{"$f":"IF('Races, Positions & Points'!#REF!=\"\",\"\",'Races, Positions & Points'!#REF!)","v":{"$error":"#REF!"}},{"$f":"IF('Races, Positions & Points'!#REF!=\"\",\"\",'Races, Positions & Points'!#REF!)","v":{"$error":"#REF!"}},{"$f":"IF('Races, Positions & Points'!#REF!=\"\",\"\",'Races, Positions & Points'!#REF!)","v":{"$error":"#REF!"}},{"$f":"IF('Races, Positions & Points'!#REF!=\"\",\"\",'Races, Positions & Points'!#REF!)","v":{"$error":"#REF!"}},{"$f":"IF('Races, Positions & Points'!#REF!=\"\",\"\",'Races, Positions & Points'!#REF!)","v":{"$error":"#REF!"}},{"$f":"IF('Races, Positions & Points'!#REF!=\"\",\"\",'Races, Positions & Points'!#REF!)","v":{"$error":"#REF!"}},{"$f":"IF('Races, Positions & Points'!#REF!=\"\",\"\",'Races, Positions & Points'!#REF!)","v":{"$error":"#REF!"}},{"$f":"IF('Races, Positions & Points'!#REF!=\"\",\"\",'Races, Positions & Points'!#REF!)","v":{"$error":"#REF!"}},{"$f":"IF('Races, Positions & Points'!#REF!=\"\",\"\",'Races, Positions & Points'!#REF!)","v":{"$error":"#REF!"}},{"$f":"IF('Races, Positions & Points'!#REF!=\"\",\"\",'Races, Positions & Points'!#REF!)","v":{"$error":"#REF!"}},{"$f":"IF('Races, Positions & Points'!#REF!=\"\",\"\",'Races, Positions & Points'!#REF!)","v":{"$error":"#REF!"}},{"$f":"IF('Races, Positions & Points'!#REF!=\"\",\"\",'Races, Positions & Points'!#REF!)","v":{"$error":"#REF!"}},{"$f":"IF('Races, Positions & Points'!#REF!=\"\",\"\",'Races, Positions & Points'!#REF!)","v":{"$error":"#REF!"}},{"$f":"IF('Races, Positions & Points'!#REF!=\"\",\"\",'Races, Positions & Points'!#REF!)","v":{"$error":"#REF!"}},{"$f":"IF('Races, Positions & Points'!#REF!=\"\",\"\",'Races, Positions & Points'!#REF!)","v":{"$error":"#REF!"}},{"$f":"IF('Races, Positions & Points'!#REF!=\"\",\"\",'Races, Positions & Points'!#REF!)","v":{"$error":"#REF!"}},{"$f":"IF('Races, Positions & Points'!#REF!=\"\",\"\",'Races, Positions & Points'!#REF!)","v":{"$error":"#REF!"}},{"$f":"IF('Races, Positions & Points'!#REF!=\"\",\"\",'Races, Positions & Points'!#REF!)","v":{"$error":"#REF!"}},null,{"$f":"SUMPRODUCT(--(B$4:AY$4=\"In\"),--(B$3:AY$3>5),--(B$5:AY$5=\"Y\"),--(B22:AY22<>\"\"))","v":{"$error":"#REF!"}},{"$f":"SUMPRODUCT(--(B$4:AY$4=\"Out\"),--(B$3:AY$3>5),--(B$5:AY$5=\"Y\"),--(B22:AY22<>\"\"))","v":{"$error":"#REF!"}},{"$f":"SUMPRODUCT(--(B$4:AY$4=\"In\"),--(B$3:AY$3=5),--(B$5:AY$5=\"Y\"),--(B22:AY22<>\"\"))","v":{"$error":"#REF!"}},{"$f":"SUMPRODUCT(--(B$4:AY$4=\"Out\"),--(B$3:AY$3=5),--(B$5:AY$5=\"Y\"),--(B22:AY22<>\"\"))","v":{"$error":"#REF!"}},{"$f":"SUMPRODUCT(--(B$4:AY$4=\"In\"),--(B$3:AY$3=0),--(B$5:AY$5=\"Y\"),--(B22:AY22<>\"\"))","v":{"$error":"#REF!"}},{"$f":"SUMPRODUCT(--(B$4:AY$4=\"Out\"),--(B$3:AY$3=0),--(B$5:AY$5=\"Y\"),--(B22:AY22<>\"\"))","v":{"$error":"#REF!"}},null,{"$f":"'Races, Positions & Points'!#REF!","v":{"$error":"#REF!"}},{"$f":"'Races, Positions & Points'!#REF!","v":{"$error":"#REF!"}},{"$f":"IF(MIN(CF22:CQ22)<999.99,IF(MIN(CF22:CQ22)>0,MIN(CF22:CQ22),\"\"),\"\")","v":{"$error":"#REF!"}},{"$f":"IF(ISERROR(SMALL(CF22:CQ22,2)),\"\",SMALL(CF22:CQ22,2))","v":""},{"$f":"IF(ISERROR(SMALL(CF22:CQ22,2)),\"\",ROUND(AVERAGE(BJ22:BK22),2))","v":""},{"$f":"IF(BI22<999.99,IF(AVERAGE(BI22,BJ22)>0,ROUND(AVERAGE(BI22,BJ22),2),\"\"),\"\")","v":{"$error":"#REF!"}},{"$f":"IF(ISERROR(BJ22*1.2),\"\",IF(BJ22<50,BJ22+10,ROUND(BJ22*1.2,2)))","v":""},{"$f":"MIN(BI22,BL22,BM22,BN22)","v":{"$error":"#REF!"}},{"$f":"IF(BI22*0.2<10,BI22+10,IF(BI22*1.2>999.99,999.99,ROUND(BI22*1.2,2)))","v":{"$error":"#REF!"}},{"$f":"MIN(BL22,BN22,BP22)","v":{"$error":"#REF!"}},null,{"$f":"IF(MIN(CB22:CE22)<999.99,IF(MIN(CB22:CE22)>0,MIN(CB22:CE22),\"\"),\"\")","v":{"$error":"#REF!"}},{"$f":"IF(ISERROR(SMALL(CB22:CE22,2)),\"\",SMALL(CB22:CE22,2))","v":""},{"$f":"IF(ISERROR(SMALL(CB22:CE22,2)),\"\",ROUND(AVERAGE(BS22:BT22),2))","v":""},{"$f":"IF(BI22<999.99,IF(AVERAGE(BI22,BS22)>0,ROUND(AVERAGE(BI22,BS22),2),\"\"),\"\")","v":{"$error":"#REF!"}},{"$f":"IF(ISERROR(BS22*1.2),\"\",IF(BS22<50,BS22+10,ROUND(BS22*1.2,2)))","v":""},{"$f":"MIN(BI22,BU22,BV22,BW22)","v":{"$error":"#REF!"}},{"$f":"IF(BI22*0.2<10,BI22+10,IF(BI22*1.2>999.99,999.99,ROUND(BI22*1.2,2)))","v":{"$error":"#REF!"}},{"$f":"MIN(BU22,BW22,BY22)","v":{"$error":"#REF!"}},null,{"$f":"IF(MIN(C22,K22,L22,AH22,AI22,AK22,AL22)>0,MIN(C22,K22,L22,AH22,AI22,AK22,AL22),\"\")","v":{"$error":"#REF!"}},{"$error":"#REF!"},{"$error":"#REF!"},{"$error":"#REF!"},{"$error":"#REF!"},{"$error":"#REF!"},{"$error":"#REF!"},{"$error":"#REF!"},{"$error":"#REF!"},{"$error":"#REF!"},{"$error":"#REF!"},{"$error":"#REF!"},{"$error":"#REF!"},{"$error":"#REF!"},{"$error":"#REF!"},{"$error":"#REF!"},null,{"$f":"IF(MIN(DF22:DL22)>0,MIN(DF22:DL22),\"\")","v":{"$error":"#REF!"}},{"$f":"IF(ISERROR(SMALL(DF22:DL22,2)),\"\",SMALL(DF22:DL22,2))","v":""},{"$f":"IF(ISERROR(SMALL(DF22:DL22,2)),\"\",AVERAGE(CS22,CT22))","v":""},{"$f":"IF(ISERROR(CS22*1.2),\"\",IF(CS22<50,CS22+10,IF(CS22<999.99,CS22*1.2,\"\")))","v":""},null,{"$f":"IF(MIN(DC22:DE22)>0,MIN(DC22:DE22),\"\")","v":{"$error":"#REF!"}},{"$f":"IF(ISERROR(SMALL(DC22:DE22,2)),\"\",SMALL(DC22:DE22,2))","v":""},{"$f":"IF(ISERROR(SMALL(DC22:DE22,2)),\"\",AVERAGE(CX22,CY22))","v":""},{"$f":"IF(ISERROR(CX22*1.2),\"\",IF(CX22<50,CX22+10,CX22*1.2))","v":""},null,{"$error":"#REF!"},{"$error":"#REF!"},{"$error":"#REF!"},{"$error":"#REF!"},{"$error":"#REF!"},{"$error":"#REF!"},{"$error":"#REF!"},{"$error":"#REF!"},{"$f":"IF(AO22>0,AO22,\"\")","v":{"$error":"#REF!"}},{"$error":"#REF!"}]
[{"$f":"'Races, Positions & Points'!#REF!","v":{"$error":"#REF!"}},{"$f":"IF('Races, Positions & Points'!#REF!=\"\",\"\",'Races, Positions & Points'!#REF!)","v":{"$error":"#REF!"}},{"$f":"IF('Races, Positions & Points'!#REF!=\"\",\"\",'Races, Positions & Points'!#REF!)","v":{"$error":"#REF!"}},{"$f":"IF('Races, Positions & Points'!#REF!=\"\",\"\",'Races, Positions & Points'!#REF!)","v":{"$error":"#REF!"}},{"$f":"IF('Races, Positions & Points'!#REF!=\"\",\"\",'Races, Positions & Points'!#REF!)","v":{"$error":"#REF!"}},{"$f":"IF('Races, Positions & Points'!#REF!=\"\",\"\",'Races, Positions & Points'!#REF!)","v":{"$error":"#REF!"}},{"$f":"IF('Races, Positions & Points'!#REF!=\"\",\"\",'Races, Positions & Points'!#REF!)","v":{"$error":"#REF!"}},{"$f":"IF('Races, Positions & Points'!#REF!=\"\",\"\",'Races, Positions & Points'!#REF!)","v":{"$error":"#REF!"}},{"$f":"IF('Races, Positions & Points'!#REF!=\"\",\"\",'Races, Positions & Points'!#REF!)","v":{"$error":"#REF!"}},{"$f":"IF('Races, Positions & Points'!#REF!=\"\",\"\",'Races, Positions & Points'!#REF!)","v":{"$error":"#REF!"}},{"$f":"IF('Races, Positions & Points'!#REF!=\"\",\"\",'Races, Positions & Points'!#REF!)","v":{"$error":"#REF!"}},{"$f":"IF('Races, Positions & Points'!#REF!=\"\",\"\",'Races, Positions & Points'!#REF!)","v":{"$error":"#REF!"}},{"$f":"IF('Races, Positions & Points'!#REF!=\"\",\"\",'Races, Positions & Points'!#REF!)","v":{"$error":"#REF!"}},{"$f":"IF('Races, Positions & Points'!#REF!=\"\",\"\",'Races, Positions & Points'!#REF!)","v":{"$error":"#REF!"}},{"$f":"IF('Races, Positions & Points'!#REF!=\"\",\"\",'Races, Positions & Points'!#REF!)","v":{"$error":"#REF!"}},{"$f":"IF('Races, Positions & Points'!#REF!=\"\",\"\",'Races, Positions & Points'!#REF!)","v":{"$error":"#REF!"}},{"$f":"IF('Races, Positions & Points'!#REF!=\"\",\"\",'Races, Positions & Points'!#REF!)","v":{"$error":"#REF!"}},{"$f":"IF('Races, Positions & Points'!#REF!=\"\",\"\",'Races, Positions & Points'!#REF!)","v":{"$error":"#REF!"}},{"$f":"IF('Races, Positions & Points'!#REF!=\"\",\"\",'Races, Positions & Points'!#REF!)","v":{"$error":"#REF!"}},{"$f":"IF('Races, Positions & Points'!#REF!=\"\",\"\",'Races, Positions & Points'!#REF!)","v":{"$error":"#REF!"}},{"$f":"IF('Races, Positions & Points'!#REF!=\"\",\"\",'Races, Positions & Points'!#REF!)","v":{"$error":"#REF!"}},{"$f":"IF('Races, Positions & Points'!#REF!=\"\",\"\",'Races, Positions & Points'!#REF!)","v":{"$error":"#REF!"}},{"$f":"IF('Races, Positions & Points'!#REF!=\"\",\"\",'Races, Positions & Points'!#REF!)","v":{"$error":"#REF!"}},{"$f":"IF('Races, Positions & Points'!#REF!=\"\",\"\",'Races, Positions & Points'!#REF!)","v":{"$error":"#REF!"}},{"$f":"IF('Races, Positions & Points'!#REF!=\"\",\"\",'Races, Positions & Points'!#REF!)","v":{"$error":"#REF!"}},{"$f":"IF('Races, Positions & Points'!#REF!=\"\",\"\",'Races, Positions & Points'!#REF!)","v":{"$error":"#REF!"}},{"$f":"IF('Races, Positions & Points'!#REF!=\"\",\"\",'Races, Positions & Points'!#REF!)","v":{"$error":"#REF!"}},{"$f":"IF('Races, Positions & Points'!#REF!=\"\",\"\",'Races, Positions & Points'!#REF!)","v":{"$error":"#REF!"}},{"$f":"IF('Races, Positions & Points'!#REF!=\"\",\"\",'Races, Positions & Points'!#REF!)","v":{"$error":"#REF!"}},{"$f":"IF('Races, Positions & Points'!#REF!=\"\",\"\",'Races, Positions & Points'!#REF!)","v":{"$error":"#REF!"}},{"$f":"IF('Races, Positions & Points'!#REF!=\"\",\"\",'Races, Positions & Points'!#REF!)","v":{"$error":"#REF!"}},{"$f":"IF('Races, Positions & Points'!#REF!=\"\",\"\",'Races, Positions & Points'!#REF!)","v":{"$error":"#REF!"}},{"$f":"IF('Races, Positions & Points'!#REF!=\"\",\"\",'Races, Positions & Points'!#REF!)","v":{"$error":"#REF!"}},{"$f":"IF('Races, Positions & Points'!#REF!=\"\",\"\",'Races, Positions & Points'!#REF!)","v":{"$error":"#REF!"}},{"$f":"IF('Races, Positions & Points'!#REF!=\"\",\"\",'Races, Positions & Points'!#REF!)","v":{"$error":"#REF!"}},{"$f":"IF('Races, Positions & Points'!#REF!=\"\",\"\",'Races, Positions & Points'!#REF!)","v":{"$error":"#REF!"}},{"$f":"IF('Races, Positions & Points'!#REF!=\"\",\"\",'Races, Positions & Points'!#REF!)","v":{"$error":"#REF!"}},{"$f":"IF('Races, Positions & Points'!#REF!=\"\",\"\",'Races, Positions & Points'!#REF!)","v":{"$error":"#REF!"}},{"$f":"IF('Races, Positions & Points'!#REF!=\"\",\"\",'Races, Positions & Points'!#REF!)","v":{"$error":"#REF!"}},{"$f":"IF('Races, Positions & Points'!#REF!=\"\",\"\",'Races, Positions & Points'!#REF!)","v":{"$error":"#REF!"}},{"$f":"IF('Races, Positions & Points'!#REF!=\"\",\"\",'Races, Positions & Points'!#REF!)","v":{"$error":"#REF!"}},{"$f":"IF('Races, Positions & Points'!#REF!=\"\",\"\",'Races, Positions & Points'!#REF!)","v":{"$error":"#REF!"}},{"$f":"IF('Races, Positions & Points'!#REF!=\"\",\"\",'Races, Positions & Points'!#REF!)","v":{"$error":"#REF!"}},{"$f":"IF('Races, Positions & Points'!#REF!=\"\",\"\",'Races, Positions & Points'!#REF!)","v":{"$error":"#REF!"}},{"$f":"IF('Races, Positions & Points'!#REF!=\"\",\"\",'Races, Positions & Points'!#REF!)","v":{"$error":"#REF!"}},{"$f":"IF('Races, Positions & Points'!#REF!=\"\",\"\",'Races, Positions & Points'!#REF!)","v":{"$error":"#REF!"}},{"$f":"IF('Races, Positions & Points'!#REF!=\"\",\"\",'Races, Positions & Points'!#REF!)","v":{"$error":"#REF!"}},{"$f":"IF('Races, Positions & Points'!#REF!=\"\",\"\",'Races, Positions & Points'!#REF!)","v":{"$error":"#REF!"}},{"$f":"IF('Races, Positions & Points'!#REF!=\"\",\"\",'Races, Positions & Points'!#REF!)","v":{"$error":"#REF!"}},{"$f":"IF('Races, Positions & Points'!#REF!=\"\",\"\",'Races, Positions & Points'!#REF!)","v":{"$error":"#REF!"}},{"$f":"IF('Races, Positions & Points'!#REF!=\"\",\"\",'Races, Positions & Points'!#REF!)","v":{"$error":"#REF!"}},null,{"$error":"#REF!"},{"$error":"#REF!"},{"$error":"#REF!"},{"$error":"#REF!"},{"$error":"#REF!"},{"$error":"#REF!"},null,{"$f":"'Races, Positions & Points'!#REF!","v":{"$error":"#REF!"}},{"$f":"'Races, Positions & Points'!#REF!","v":{"$error":"#REF!"}},{"$f":"IF(MIN(CF23:CQ23)<999.99,IF(MIN(CF23:CQ23)>0,MIN(CF23:CQ23),\"\"),\"\")","v":{"$error":"#REF!"}},{"$f":"IF(ISERROR(SMALL(CF23:CQ23,2)),\"\",SMALL(CF23:CQ23,2))","v":""},{"$f":"IF(ISERROR(SMALL(CF23:CQ23,2)),\"\",ROUND(AVERAGE(BJ23:BK23),2))","v":""},{"$f":"IF(BI23<999.99,IF(AVERAGE(BI23,BJ23)>0,ROUND(AVERAGE(BI23,BJ23),2),\"\"),\"\")","v":{"$error":"#REF!"}},{"$f":"IF(ISERROR(BJ23*1.2),\"\",IF(BJ23<50,BJ23+10,ROUND(BJ23*1.2,2)))","v":""},{"$f":"MIN(BI23,BL23,BM23,BN23)","v":{"$error":"#REF!"}},{"$f":"IF(BI23*0.2<10,BI23+10,IF(BI23*1.2>999.99,999.99,ROUND(BI23*1.2,2)))","v":{"$error":"#REF!"}},{"$f":"MIN(BL23,BN23,BP23)","v":{"$error":"#REF!"}},null,{"$f":"IF(MIN(CB23:CE23)<999.99,IF(MIN(CB23:CE23)>0,MIN(CB23:CE23),\"\"),\"\")","v":{"$error":"#REF!"}},{"$f":"IF(ISERROR(SMALL(CB23:CE23,2)),\"\",SMALL(CB23:CE23,2))","v":""},{"$f":"IF(ISERROR(SMALL(CB23:CE23,2)),\"\",ROUND(AVERAGE(BS23:BT23),2))","v":""},{"$f":"IF(BI23<999.99,IF(AVERAGE(BI23,BS23)>0,ROUND(AVERAGE(BI23,BS23),2),\"\"),\"\")","v":{"$error":"#REF!"}},{"$f":"IF(ISERROR(BS23*1.2),\"\",IF(BS23<50,BS23+10,ROUND(BS23*1.2,2)))","v":""},{"$f":"MIN(BI23,BU23,BV23,BW23)","v":{"$error":"#REF!"}},{"$f":"IF(BI23*0.2<10,BI23+10,IF(BI23*1.2>999.99,999.99,ROUND(BI23*1.2,2)))","v":{"$error":"#REF!"}},{"$f":"MIN(BU23,BW23,BY23)","v":{"$error":"#REF!"}},null,{"$error":"#REF!"},{"$error":"#REF!"},{"$error":"#REF!"},{"$error":"#REF!"},{"$error":"#REF!"},{"$error":"#REF!"},{"$error":"#REF!"},{"$error":"#REF!"},{"$error":"#REF!"},{"$error":"#REF!"},{"$error":"#REF!"},{"$error":"#REF!"},{"$error":"#REF!"},{"$error":"#REF!"},{"$error":"#REF!"},{"$error":"#REF!"},null,{"$f":"IF(MIN(DF23:DL23)>0,MIN(DF23:DL23),\"\")","v":{"$error":"#REF!"}},{"$f":"IF(ISERROR(SMALL(DF23:DL23,2)),\"\",SMALL(DF23:DL23,2))","v":""},"","",null,{"$f":"IF(MIN(DC23:DE23)>0,MIN(DC23:DE23),\"\")","v":{"$error":"#REF!"}},{"$f":"IF(ISERROR(SMALL(DC23:DE23,2)),\"\",SMALL(DC23:DE23,2))","v":""},{"$f":"IF(ISERROR(SMALL(DC23:DE23,2)),\"\",AVERAGE(CX23,CY23))","v":""},{"$f":"IF(ISERROR(CX23*1.2),\"\",IF(CX23<50,CX23+10,CX23*1.2))","v":""},null,{"$error":"#REF!"},{"$error":"#REF!"},{"$error":"#REF!"},{"$error":"#REF!"},{"$error":"#REF!"},{"$error":"#REF!"},{"$error":"#REF!"},{"$error":"#REF!"},{"$error":"#REF!"},{"$error":"#REF!"}]
[{"$f":"'Races, Positions & Points'!#REF!","v":{"$error":"#REF!"}},{"$f":"IF('Races, Positions & Points'!#REF!=\"\",\"\",'Races, Positions & Points'!#REF!)","v":{"$error":"#REF!"}},{"$f":"IF('Races, Positions & Points'!#REF!=\"\",\"\",'Races, Positions & Points'!#REF!)","v":{"$error":"#REF!"}},{"$f":"IF('Races, Positions & Points'!#REF!=\"\",\"\",'Races, Positions & Points'!#REF!)","v":{"$error":"#REF!"}},{"$f":"IF('Races, Positions & Points'!#REF!=\"\",\"\",'Races, Positions & Points'!#REF!)","v":{"$error":"#REF!"}},{"$f":"IF('Races, Positions & Points'!#REF!=\"\",\"\",'Races, Positions & Points'!#REF!)","v":{"$error":"#REF!"}},{"$f":"IF('Races, Positions & Points'!#REF!=\"\",\"\",'Races, Positions & Points'!#REF!)","v":{"$error":"#REF!"}},{"$f":"IF('Races, Positions & Points'!#REF!=\"\",\"\",'Races, Positions & Points'!#REF!)","v":{"$error":"#REF!"}},{"$f":"IF('Races, Positions & Points'!#REF!=\"\",\"\",'Races, Positions & Points'!#REF!)","v":{"$error":"#REF!"}},{"$f":"IF('Races, Positions & Points'!#REF!=\"\",\"\",'Races, Positions & Points'!#REF!)","v":{"$error":"#REF!"}},{"$f":"IF('Races, Positions & Points'!#REF!=\"\",\"\",'Races, Positions & Points'!#REF!)","v":{"$error":"#REF!"}},{"$f":"IF('Races, Positions & Points'!#REF!=\"\",\"\",'Races, Positions & Points'!#REF!)","v":{"$error":"#REF!"}},{"$f":"IF('Races, Positions & Points'!#REF!=\"\",\"\",'Races, Positions & Points'!#REF!)","v":{"$error":"#REF!"}},{"$f":"IF('Races, Positions & Points'!#REF!=\"\",\"\",'Races, Positions & Points'!#REF!)","v":{"$error":"#REF!"}},{"$f":"IF('Races, Positions & Points'!#REF!=\"\",\"\",'Races, Positions & Points'!#REF!)","v":{"$error":"#REF!"}},{"$f":"IF('Races, Positions & Points'!#REF!=\"\",\"\",'Races, Positions & Points'!#REF!)","v":{"$error":"#REF!"}},{"$f":"IF('Races, Positions & Points'!#REF!=\"\",\"\",'Races, Positions & Points'!#REF!)","v":{"$error":"#REF!"}},{"$f":"IF('Races, Positions & Points'!#REF!=\"\",\"\",'Races, Positions & Points'!#REF!)","v":{"$error":"#REF!"}},{"$f":"IF('Races, Positions & Points'!#REF!=\"\",\"\",'Races, Positions & Points'!#REF!)","v":{"$error":"#REF!"}},{"$f":"IF('Races, Positions & Points'!#REF!=\"\",\"\",'Races, Positions & Points'!#REF!)","v":{"$error":"#REF!"}},{"$f":"IF('Races, Positions & Points'!#REF!=\"\",\"\",'Races, Positions & Points'!#REF!)","v":{"$error":"#REF!"}},{"$f":"IF('Races, Positions & Points'!#REF!=\"\",\"\",'Races, Positions & Points'!#REF!)","v":{"$error":"#REF!"}},{"$f":"IF('Races, Positions & Points'!#REF!=\"\",\"\",'Races, Positions & Points'!#REF!)","v":{"$error":"#REF!"}},{"$f":"IF('Races, Positions & Points'!#REF!=\"\",\"\",'Races, Positions & Points'!#REF!)","v":{"$error":"#REF!"}},{"$f":"IF('Races, Positions & Points'!#REF!=\"\",\"\",'Races, Positions & Points'!#REF!)","v":{"$error":"#REF!"}},{"$f":"IF('Races, Positions & Points'!#REF!=\"\",\"\",'Races, Positions & Points'!#REF!)","v":{"$error":"#REF!"}},{"$f":"IF('Races, Positions & Points'!#REF!=\"\",\"\",'Races, Positions & Points'!#REF!)","v":{"$error":"#REF!"}},{"$f":"IF('Races, Positions & Points'!#REF!=\"\",\"\",'Races, Positions & Points'!#REF!)","v":{"$error":"#REF!"}},{"$f":"IF('Races, Positions & Points'!#REF!=\"\",\"\",'Races, Positions & Points'!#REF!)","v":{"$error":"#REF!"}},{"$f":"IF('Races, Positions & Points'!#REF!=\"\",\"\",'Races, Positions & Points'!#REF!)","v":{"$error":"#REF!"}},{"$f":"IF('Races, Positions & Points'!#REF!=\"\",\"\",'Races, Positions & Points'!#REF!)","v":{"$error":"#REF!"}},{"$f":"IF('Races, Positions & Points'!#REF!=\"\",\"\",'Races, Positions & Points'!#REF!)","v":{"$error":"#REF!"}},{"$f":"IF('Races, Positions & Points'!#REF!=\"\",\"\",'Races, Positions & Points'!#REF!)","v":{"$error":"#REF!"}},{"$f":"IF('Races, Positions & Points'!#REF!=\"\",\"\",'Races, Positions & Points'!#REF!)","v":{"$error":"#REF!"}},{"$f":"IF('Races, Positions & Points'!#REF!=\"\",\"\",'Races, Positions & Points'!#REF!)","v":{"$error":"#REF!"}},{"$f":"IF('Races, Positions & Points'!#REF!=\"\",\"\",'Races, Positions & Points'!#REF!)","v":{"$error":"#REF!"}},{"$f":"IF('Races, Positions & Points'!#REF!=\"\",\"\",'Races, Positions & Points'!#REF!)","v":{"$error":"#REF!"}},{"$f":"IF('Races, Positions & Points'!#REF!=\"\",\"\",'Races, Positions & Points'!#REF!)","v":{"$error":"#REF!"}},{"$f":"IF('Races, Positions & Points'!#REF!=\"\",\"\",'Races, Positions & Points'!#REF!)","v":{"$error":"#REF!"}},{"$f":"IF('Races, Positions & Points'!#REF!=\"\",\"\",'Races, Positions & Points'!#REF!)","v":{"$error":"#REF!"}},{"$f":"IF('Races, Positions & Points'!#REF!=\"\",\"\",'Races, Positions & Points'!#REF!)","v":{"$error":"#REF!"}},{"$f":"IF('Races, Positions & Points'!#REF!=\"\",\"\",'Races, Positions & Points'!#REF!)","v":{"$error":"#REF!"}},{"$f":"IF('Races, Positions & Points'!#REF!=\"\",\"\",'Races, Positions & Points'!#REF!)","v":{"$error":"#REF!"}},{"$f":"IF('Races, Positions & Points'!#REF!=\"\",\"\",'Races, Positions & Points'!#REF!)","v":{"$error":"#REF!"}},{"$f":"IF('Races, Positions & Points'!#REF!=\"\",\"\",'Races, Positions & Points'!#REF!)","v":{"$error":"#REF!"}},{"$f":"IF('Races, Positions & Points'!#REF!=\"\",\"\",'Races, Positions & Points'!#REF!)","v":{"$error":"#REF!"}},{"$f":"IF('Races, Positions & Points'!#REF!=\"\",\"\",'Races, Positions & Points'!#REF!)","v":{"$error":"#REF!"}},{"$f":"IF('Races, Positions & Points'!#REF!=\"\",\"\",'Races, Positions & Points'!#REF!)","v":{"$error":"#REF!"}},{"$f":"IF('Races, Positions & Points'!#REF!=\"\",\"\",'Races, Positions & Points'!#REF!)","v":{"$error":"#REF!"}},{"$f":"IF('Races, Positions & Points'!#REF!=\"\",\"\",'Races, Positions & Points'!#REF!)","v":{"$error":"#REF!"}},{"$f":"IF('Races, Positions & Points'!#REF!=\"\",\"\",'Races, Positions & Points'!#REF!)","v":{"$error":"#REF!"}},null,{"$error":"#REF!"},{"$error":"#REF!"},{"$error":"#REF!"},{"$error":"#REF!"},{"$error":"#REF!"},{"$error":"#REF!"},null,{"$f":"'Races, Positions & Points'!#REF!","v":{"$error":"#REF!"}},{"$f":"'Races, Positions & Points'!#REF!","v":{"$error":"#REF!"}},{"$error":"#REF!"},"","",{"$error":"#REF!"},"",{"$error":"#REF!"},{"$error":"#REF!"},{"$error":"#REF!"},null,{"$error":"#REF!"},"","",{"$error":"#REF!"},"",{"$error":"#REF!"},{"$error":"#REF!"},{"$error":"#REF!"},null,{"$error":"#REF!"},{"$error":"#REF!"},{"$error":"#REF!"},{"$error":"#REF!"},{"$error":"#REF!"},{"$error":"#REF!"},{"$error":"#REF!"},{"$error":"#REF!"},{"$error":"#REF!"},{"$error":"#REF!"},{"$error":"#REF!"},{"$error":"#REF!"},{"$error":"#REF!"},{"$error":"#REF!"},{"$error":"#REF!"},{"$error":"#REF!"},null,{"$f":"IF(MIN(DF24:DL24)>0,MIN(DF24:DL24),\"\")","v":{"$error":"#REF!"}},{"$f":"IF(ISERROR(SMALL(DF24:DL24,2)),\"\",SMALL(DF24:DL24,2))","v":""},"","",null,{"$f":"IF(MIN(DC24:DE24)>0,MIN(DC24:DE24),\"\")","v":{"$error":"#REF!"}},{"$f":"IF(ISERROR(SMALL(DC24:DE24,2)),\"\",SMALL(DC24:DE24,2))","v":""},{"$f":"IF(ISERROR(SMALL(DC24:DE24,2)),\"\",AVERAGE(CX24,CY24))","v":""},{"$f":"IF(ISERROR(CX24*1.2),\"\",IF(CX24<50,CX24+10,CX24*1.2))","v":""},null,{"$error":"#REF!"},{"$error":"#REF!"},{"$error":"#REF!"},{"$error":"#REF!"},{"$error":"#REF!"},{"$error":"#REF!"},{"$error":"#REF!"},{"$error":"#REF!"},{"$error":"#REF!"},{"$error":"#REF!"}]
[{"$f":"'Races, Positions & Points'!#REF!","v":{"$error":"#REF!"}},{"$f":"IF('Races, Positions & Points'!#REF!=\"\",\"\",'Races, Positions & Points'!#REF!)","v":{"$error":"#REF!"}},{"$f":"IF('Races, Positions & Points'!#REF!=\"\",\"\",'Races, Positions & Points'!#REF!)","v":{"$error":"#REF!"}},{"$f":"IF('Races, Positions & Points'!#REF!=\"\",\"\",'Races, Positions & Points'!#REF!)","v":{"$error":"#REF!"}},{"$f":"IF('Races, Positions & Points'!#REF!=\"\",\"\",'Races, Positions & Points'!#REF!)","v":{"$error":"#REF!"}},{"$f":"IF('Races, Positions & Points'!#REF!=\"\",\"\",'Races, Positions & Points'!#REF!)","v":{"$error":"#REF!"}},{"$f":"IF('Races, Positions & Points'!#REF!=\"\",\"\",'Races, Positions & Points'!#REF!)","v":{"$error":"#REF!"}},{"$f":"IF('Races, Positions & Points'!#REF!=\"\",\"\",'Races, Positions & Points'!#REF!)","v":{"$error":"#REF!"}},{"$f":"IF('Races, Positions & Points'!#REF!=\"\",\"\",'Races, Positions & Points'!#REF!)","v":{"$error":"#REF!"}},{"$f":"IF('Races, Positions & Points'!#REF!=\"\",\"\",'Races, Positions & Points'!#REF!)","v":{"$error":"#REF!"}},{"$f":"IF('Races, Positions & Points'!#REF!=\"\",\"\",'Races, Positions & Points'!#REF!)","v":{"$error":"#REF!"}},{"$f":"IF('Races, Positions & Points'!#REF!=\"\",\"\",'Races, Positions & Points'!#REF!)","v":{"$error":"#REF!"}},{"$f":"IF('Races, Positions & Points'!#REF!=\"\",\"\",'Races, Positions & Points'!#REF!)","v":{"$error":"#REF!"}},{"$f":"IF('Races, Positions & Points'!#REF!=\"\",\"\",'Races, Positions & Points'!#REF!)","v":{"$error":"#REF!"}},{"$f":"IF('Races, Positions & Points'!#REF!=\"\",\"\",'Races, Positions & Points'!#REF!)","v":{"$error":"#REF!"}},{"$f":"IF('Races, Positions & Points'!#REF!=\"\",\"\",'Races, Positions & Points'!#REF!)","v":{"$error":"#REF!"}},{"$f":"IF('Races, Positions & Points'!#REF!=\"\",\"\",'Races, Positions & Points'!#REF!)","v":{"$error":"#REF!"}},{"$f":"IF('Races, Positions & Points'!#REF!=\"\",\"\",'Races, Positions & Points'!#REF!)","v":{"$error":"#REF!"}},{"$f":"IF('Races, Positions & Points'!#REF!=\"\",\"\",'Races, Positions & Points'!#REF!)","v":{"$error":"#REF!"}},{"$f":"IF('Races, Positions & Points'!#REF!=\"\",\"\",'Races, Positions & Points'!#REF!)","v":{"$error":"#REF!"}},{"$f":"IF('Races, Positions & Points'!#REF!=\"\",\"\",'Races, Positions & Points'!#REF!)","v":{"$error":"#REF!"}},{"$f":"IF('Races, Positions & Points'!#REF!=\"\",\"\",'Races, Positions & Points'!#REF!)","v":{"$error":"#REF!"}},{"$f":"IF('Races, Positions & Points'!#REF!=\"\",\"\",'Races, Positions & Points'!#REF!)","v":{"$error":"#REF!"}},{"$f":"IF('Races, Positions & Points'!#REF!=\"\",\"\",'Races, Positions & Points'!#REF!)","v":{"$error":"#REF!"}},{"$f":"IF('Races, Positions & Points'!#REF!=\"\",\"\",'Races, Positions & Points'!#REF!)","v":{"$error":"#REF!"}},{"$f":"IF('Races, Positions & Points'!#REF!=\"\",\"\",'Races, Positions & Points'!#REF!)","v":{"$error":"#REF!"}},{"$f":"IF('Races, Positions & Points'!#REF!=\"\",\"\",'Races, Positions & Points'!#REF!)","v":{"$error":"#REF!"}},{"$f":"IF('Races, Positions & Points'!#REF!=\"\",\"\",'Races, Positions & Points'!#REF!)","v":{"$error":"#REF!"}},{"$f":"IF('Races, Positions & Points'!#REF!=\"\",\"\",'Races, Positions & Points'!#REF!)","v":{"$error":"#REF!"}},{"$f":"IF('Races, Positions & Points'!#REF!=\"\",\"\",'Races, Positions & Points'!#REF!)","v":{"$error":"#REF!"}},{"$f":"IF('Races, Positions & Points'!#REF!=\"\",\"\",'Races, Positions & Points'!#REF!)","v":{"$error":"#REF!"}},{"$f":"IF('Races, Positions & Points'!#REF!=\"\",\"\",'Races, Positions & Points'!#REF!)","v":{"$error":"#REF!"}},{"$f":"IF('Races, Positions & Points'!#REF!=\"\",\"\",'Races, Positions & Points'!#REF!)","v":{"$error":"#REF!"}},{"$f":"IF('Races, Positions & Points'!#REF!=\"\",\"\",'Races, Positions & Points'!#REF!)","v":{"$error":"#REF!"}},{"$f":"IF('Races, Positions & Points'!#REF!=\"\",\"\",'Races, Positions & Points'!#REF!)","v":{"$error":"#REF!"}},{"$f":"IF('Races, Positions & Points'!#REF!=\"\",\"\",'Races, Positions & Points'!#REF!)","v":{"$error":"#REF!"}},{"$f":"IF('Races, Positions & Points'!#REF!=\"\",\"\",'Races, Positions & Points'!#REF!)","v":{"$error":"#REF!"}},{"$f":"IF('Races, Positions & Points'!#REF!=\"\",\"\",'Races, Positions & Points'!#REF!)","v":{"$error":"#REF!"}},{"$f":"IF('Races, Positions & Points'!#REF!=\"\",\"\",'Races, Positions & Points'!#REF!)","v":{"$error":"#REF!"}},{"$f":"IF('Races, Positions & Points'!#REF!=\"\",\"\",'Races, Positions & Points'!#REF!)","v":{"$error":"#REF!"}},{"$f":"IF('Races, Positions & Points'!#REF!=\"\",\"\",'Races, Positions & Points'!#REF!)","v":{"$error":"#REF!"}},{"$f":"IF('Races, Positions & Points'!#REF!=\"\",\"\",'Races, Positions & Points'!#REF!)","v":{"$error":"#REF!"}},{"$f":"IF('Races, Positions & Points'!#REF!=\"\",\"\",'Races, Positions & Points'!#REF!)","v":{"$error":"#REF!"}},{"$f":"IF('Races, Positions & Points'!#REF!=\"\",\"\",'Races, Positions & Points'!#REF!)","v":{"$error":"#REF!"}},{"$f":"IF('Races, Positions & Points'!#REF!=\"\",\"\",'Races, Positions & Points'!#REF!)","v":{"$error":"#REF!"}},{"$f":"IF('Races, Positions & Points'!#REF!=\"\",\"\",'Races, Positions & Points'!#REF!)","v":{"$error":"#REF!"}},{"$f":"IF('Races, Positions & Points'!#REF!=\"\",\"\",'Races, Positions & Points'!#REF!)","v":{"$error":"#REF!"}},{"$f":"IF('Races, Positions & Points'!#REF!=\"\",\"\",'Races, Positions & Points'!#REF!)","v":{"$error":"#REF!"}},{"$f":"IF('Races, Positions & Points'!#REF!=\"\",\"\",'Races, Positions & Points'!#REF!)","v":{"$error":"#REF!"}},{"$f":"IF('Races, Positions & Points'!#REF!=\"\",\"\",'Races, Positions & Points'!#REF!)","v":{"$error":"#REF!"}},{"$f":"IF('Races, Positions & Points'!#REF!=\"\",\"\",'Races, Positions & Points'!#REF!)","v":{"$error":"#REF!"}},null,{"$error":"#REF!"},{"$error":"#REF!"},{"$error":"#REF!"},{"$error":"#REF!"},{"$error":"#REF!"},{"$error":"#REF!"},null,{"$f":"'Races, Positions & Points'!#REF!","v":{"$error":"#REF!"}},{"$f":"'Races, Positions & Points'!#REF!","v":{"$error":"#REF!"}},{"$error":"#REF!"},"","",{"$error":"#REF!"},"",{"$error":"#REF!"},{"$error":"#REF!"},{"$error":"#REF!"},null,{"$error":"#REF!"},"","",{"$error":"#REF!"},"",{"$error":"#REF!"},{"$error":"#REF!"},{"$error":"#REF!"},null,{"$error":"#REF!"},{"$error":"#REF!"},{"$error":"#REF!"},{"$error":"#REF!"},{"$error":"#REF!"},{"$error":"#REF!"},{"$error":"#REF!"},{"$error":"#REF!"},{"$error":"#REF!"},{"$error":"#REF!"},{"$error":"#REF!"},{"$error":"#REF!"},{"$error":"#REF!"},{"$error":"#REF!"},{"$error":"#REF!"},{"$error":"#REF!"},null,{"$f":"IF(MIN(DF25:DL25)>0,MIN(DF25:DL25),\"\")","v":{"$error":"#REF!"}},{"$f":"IF(ISERROR(SMALL(DF25:DL25,2)),\"\",SMALL(DF25:DL25,2))","v":""},"","",null,{"$f":"IF(MIN(DC25:DE25)>0,MIN(DC25:DE25),\"\")","v":{"$error":"#REF!"}},{"$f":"IF(ISERROR(SMALL(DC25:DE25,2)),\"\",SMALL(DC25:DE25,2))","v":""},{"$f":"IF(ISERROR(SMALL(DC25:DE25,2)),\"\",AVERAGE(CX25,CY25))","v":""},{"$f":"IF(ISERROR(CX25*1.2),\"\",IF(CX25<50,CX25+10,CX25*1.2))","v":""},null,{"$error":"#REF!"},{"$error":"#REF!"},{"$error":"#REF!"},{"$error":"#REF!"},{"$error":"#REF!"},{"$error":"#REF!"},{"$error":"#REF!"},{"$error":"#REF!"},{"$error":"#REF!"},{"$error":"#REF!"}]
[{"$f":"'Races, Positions & Points'!#REF!","v":{"$error":"#REF!"}},{"$f":"IF('Races, Positions & Points'!#REF!=\"\",\"\",'Races, Positions & Points'!#REF!)","v":{"$error":"#REF!"}},{"$f":"IF('Races, Positions & Points'!#REF!=\"\",\"\",'Races, Positions & Points'!#REF!)","v":{"$error":"#REF!"}},{"$f":"IF('Races, Positions & Points'!#REF!=\"\",\"\",'Races, Positions & Points'!#REF!)","v":{"$error":"#REF!"}},{"$f":"IF('Races, Positions & Points'!#REF!=\"\",\"\",'Races, Positions & Points'!#REF!)","v":{"$error":"#REF!"}},{"$f":"IF('Races, Positions & Points'!#REF!=\"\",\"\",'Races, Positions & Points'!#REF!)","v":{"$error":"#REF!"}},{"$f":"IF('Races, Positions & Points'!#REF!=\"\",\"\",'Races, Positions & Points'!#REF!)","v":{"$error":"#REF!"}},{"$f":"IF('Races, Positions & Points'!#REF!=\"\",\"\",'Races, Positions & Points'!#REF!)","v":{"$error":"#REF!"}},{"$f":"IF('Races, Positions & Points'!#REF!=\"\",\"\",'Races, Positions & Points'!#REF!)","v":{"$error":"#REF!"}},{"$f":"IF('Races, Positions & Points'!#REF!=\"\",\"\",'Races, Positions & Points'!#REF!)","v":{"$error":"#REF!"}},{"$f":"IF('Races, Positions & Points'!#REF!=\"\",\"\",'Races, Positions & Points'!#REF!)","v":{"$error":"#REF!"}},{"$f":"IF('Races, Positions & Points'!#REF!=\"\",\"\",'Races, Positions & Points'!#REF!)","v":{"$error":"#REF!"}},{"$f":"IF('Races, Positions & Points'!#REF!=\"\",\"\",'Races, Positions & Points'!#REF!)","v":{"$error":"#REF!"}},{"$f":"IF('Races, Positions & Points'!#REF!=\"\",\"\",'Races, Positions & Points'!#REF!)","v":{"$error":"#REF!"}},{"$f":"IF('Races, Positions & Points'!#REF!=\"\",\"\",'Races, Positions & Points'!#REF!)","v":{"$error":"#REF!"}},{"$f":"IF('Races, Positions & Points'!#REF!=\"\",\"\",'Races, Positions & Points'!#REF!)","v":{"$error":"#REF!"}},{"$f":"IF('Races, Positions & Points'!#REF!=\"\",\"\",'Races, Positions & Points'!#REF!)","v":{"$error":"#REF!"}},{"$f":"IF('Races, Positions & Points'!#REF!=\"\",\"\",'Races, Positions & Points'!#REF!)","v":{"$error":"#REF!"}},{"$f":"IF('Races, Positions & Points'!#REF!=\"\",\"\",'Races, Positions & Points'!#REF!)","v":{"$error":"#REF!"}},{"$f":"IF('Races, Positions & Points'!#REF!=\"\",\"\",'Races, Positions & Points'!#REF!)","v":{"$error":"#REF!"}},{"$f":"IF('Races, Positions & Points'!#REF!=\"\",\"\",'Races, Positions & Points'!#REF!)","v":{"$error":"#REF!"}},{"$f":"IF('Races, Positions & Points'!#REF!=\"\",\"\",'Races, Positions & Points'!#REF!)","v":{"$error":"#REF!"}},{"$f":"IF('Races, Positions & Points'!#REF!=\"\",\"\",'Races, Positions & Points'!#REF!)","v":{"$error":"#REF!"}},{"$f":"IF('Races, Positions & Points'!#REF!=\"\",\"\",'Races, Positions & Points'!#REF!)","v":{"$error":"#REF!"}},{"$f":"IF('Races, Positions & Points'!#REF!=\"\",\"\",'Races, Positions & Points'!#REF!)","v":{"$error":"#REF!"}},{"$f":"IF('Races, Positions & Points'!#REF!=\"\",\"\",'Races, Positions & Points'!#REF!)","v":{"$error":"#REF!"}},{"$f":"IF('Races, Positions & Points'!#REF!=\"\",\"\",'Races, Positions & Points'!#REF!)","v":{"$error":"#REF!"}},{"$f":"IF('Races, Positions & Points'!#REF!=\"\",\"\",'Races, Positions & Points'!#REF!)","v":{"$error":"#REF!"}},{"$f":"IF('Races, Positions & Points'!#REF!=\"\",\"\",'Races, Positions & Points'!#REF!)","v":{"$error":"#REF!"}},{"$f":"IF('Races, Positions & Points'!#REF!=\"\",\"\",'Races, Positions & Points'!#REF!)","v":{"$error":"#REF!"}},{"$f":"IF('Races, Positions & Points'!#REF!=\"\",\"\",'Races, Positions & Points'!#REF!)","v":{"$error":"#REF!"}},{"$f":"IF('Races, Positions & Points'!#REF!=\"\",\"\",'Races, Positions & Points'!#REF!)","v":{"$error":"#REF!"}},{"$f":"IF('Races, Positions & Points'!#REF!=\"\",\"\",'Races, Positions & Points'!#REF!)","v":{"$error":"#REF!"}},{"$f":"IF('Races, Positions & Points'!#REF!=\"\",\"\",'Races, Positions & Points'!#REF!)","v":{"$error":"#REF!"}},{"$f":"IF('Races, Positions & Points'!#REF!=\"\",\"\",'Races, Positions & Points'!#REF!)","v":{"$error":"#REF!"}},{"$f":"IF('Races, Positions & Points'!#REF!=\"\",\"\",'Races, Positions & Points'!#REF!)","v":{"$error":"#REF!"}},{"$f":"IF('Races, Positions & Points'!#REF!=\"\",\"\",'Races, Positions & Points'!#REF!)","v":{"$error":"#REF!"}},{"$f":"IF('Races, Positions & Points'!#REF!=\"\",\"\",'Races, Positions & Points'!#REF!)","v":{"$error":"#REF!"}},{"$f":"IF('Races, Positions & Points'!#REF!=\"\",\"\",'Races, Positions & Points'!#REF!)","v":{"$error":"#REF!"}},{"$f":"IF('Races, Positions & Points'!#REF!=\"\",\"\",'Races, Positions & Points'!#REF!)","v":{"$error":"#REF!"}},{"$f":"IF('Races, Positions & Points'!#REF!=\"\",\"\",'Races, Positions & Points'!#REF!)","v":{"$error":"#REF!"}},{"$f":"IF('Races, Positions & Points'!#REF!=\"\",\"\",'Races, Positions & Points'!#REF!)","v":{"$error":"#REF!"}},{"$f":"IF('Races, Positions & Points'!#REF!=\"\",\"\",'Races, Positions & Points'!#REF!)","v":{"$error":"#REF!"}},{"$f":"IF('Races, Positions & Points'!#REF!=\"\",\"\",'Races, Positions & Points'!#REF!)","v":{"$error":"#REF!"}},{"$f":"IF('Races, Positions & Points'!#REF!=\"\",\"\",'Races, Positions & Points'!#REF!)","v":{"$error":"#REF!"}},{"$f":"IF('Races, Positions & Points'!#REF!=\"\",\"\",'Races, Positions & Points'!#REF!)","v":{"$error":"#REF!"}},{"$f":"IF('Races, Positions & Points'!#REF!=\"\",\"\",'Races, Positions & Points'!#REF!)","v":{"$error":"#REF!"}},{"$f":"IF('Races, Positions & Points'!#REF!=\"\",\"\",'Races, Positions & Points'!#REF!)","v":{"$error":"#REF!"}},{"$f":"IF('Races, Positions & Points'!#REF!=\"\",\"\",'Races, Positions & Points'!#REF!)","v":{"$error":"#REF!"}},{"$f":"IF('Races, Positions & Points'!#REF!=\"\",\"\",'Races, Positions & Points'!#REF!)","v":{"$error":"#REF!"}},{"$f":"IF('Races, Positions & Points'!#REF!=\"\",\"\",'Races, Positions & Points'!#REF!)","v":{"$error":"#REF!"}},null,{"$error":"#REF!"},{"$error":"#REF!"},{"$error":"#REF!"},{"$error":"#REF!"},{"$error":"#REF!"},{"$error":"#REF!"},null,{"$f":"'Races, Positions & Points'!#REF!","v":{"$error":"#REF!"}},{"$f":"'Races, Positions & Points'!#REF!","v":{"$error":"#REF!"}},{"$error":"#REF!"},"","",{"$error":"#REF!"},"",{"$error":"#REF!"},{"$error":"#REF!"},{"$error":"#REF!"},null,{"$error":"#REF!"},"","",{"$error":"#REF!"},"",{"$error":"#REF!"},{"$error":"#REF!"},{"$error":"#REF!"},null,{"$error":"#REF!"},{"$error":"#REF!"},{"$error":"#REF!"},{"$error":"#REF!"},{"$error":"#REF!"},{"$error":"#REF!"},{"$error":"#REF!"},{"$error":"#REF!"},{"$error":"#REF!"},{"$error":"#REF!"},{"$error":"#REF!"},{"$error":"#REF!"},{"$error":"#REF!"},{"$error":"#REF!"},{"$error":"#REF!"},{"$error":"#REF!"},null,{"$error":"#REF!"},"","","",null,{"$error":"#REF!"},"","","",null,{"$error":"#REF!"},{"$error":"#REF!"},{"$error":"#REF!"},{"$error":"#REF!"},{"$error":"#REF!"},{"$error":"#REF!"},{"$error":"#REF!"},{"$error":"#REF!"},{"$error":"#REF!"},{"$error":"#REF!"}]
[{"$f":"'Races, Positions & Points'!#REF!","v":{"$error":"#REF!"}},{"$f":"IF('Races, Positions & Points'!#REF!=\"\",\"\",'Races, Positions & Points'!#REF!)","v":{"$error":"#REF!"}},{"$f":"IF('Races, Positions & Points'!#REF!=\"\",\"\",'Races, Positions & Points'!#REF!)","v":{"$error":"#REF!"}},{"$f":"IF('Races, Positions & Points'!#REF!=\"\",\"\",'Races, Positions & Points'!#REF!)","v":{"$error":"#REF!"}},{"$f":"IF('Races, Positions & Points'!#REF!=\"\",\"\",'Races, Positions & Points'!#REF!)","v":{"$error":"#REF!"}},{"$f":"IF('Races, Positions & Points'!#REF!=\"\",\"\",'Races, Positions & Points'!#REF!)","v":{"$error":"#REF!"}},{"$f":"IF('Races, Positions & Points'!#REF!=\"\",\"\",'Races, Positions & Points'!#REF!)","v":{"$error":"#REF!"}},{"$f":"IF('Races, Positions & Points'!#REF!=\"\",\"\",'Races, Positions & Points'!#REF!)","v":{"$error":"#REF!"}},{"$f":"IF('Races, Positions & Points'!#REF!=\"\",\"\",'Races, Positions & Points'!#REF!)","v":{"$error":"#REF!"}},{"$f":"IF('Races, Positions & Points'!#REF!=\"\",\"\",'Races, Positions & Points'!#REF!)","v":{"$error":"#REF!"}},{"$f":"IF('Races, Positions & Points'!#REF!=\"\",\"\",'Races, Positions & Points'!#REF!)","v":{"$error":"#REF!"}},{"$f":"IF('Races, Positions & Points'!#REF!=\"\",\"\",'Races, Positions & Points'!#REF!)","v":{"$error":"#REF!"}},{"$f":"IF('Races, Positions & Points'!#REF!=\"\",\"\",'Races, Positions & Points'!#REF!)","v":{"$error":"#REF!"}},{"$f":"IF('Races, Positions & Points'!#REF!=\"\",\"\",'Races, Positions & Points'!#REF!)","v":{"$error":"#REF!"}},{"$f":"IF('Races, Positions & Points'!#REF!=\"\",\"\",'Races, Positions & Points'!#REF!)","v":{"$error":"#REF!"}},{"$f":"IF('Races, Positions & Points'!#REF!=\"\",\"\",'Races, Positions & Points'!#REF!)","v":{"$error":"#REF!"}},{"$f":"IF('Races, Positions & Points'!#REF!=\"\",\"\",'Races, Positions & Points'!#REF!)","v":{"$error":"#REF!"}},{"$f":"IF('Races, Positions & Points'!#REF!=\"\",\"\",'Races, Positions & Points'!#REF!)","v":{"$error":"#REF!"}},{"$f":"IF('Races, Positions & Points'!#REF!=\"\",\"\",'Races, Positions & Points'!#REF!)","v":{"$error":"#REF!"}},{"$f":"IF('Races, Positions & Points'!#REF!=\"\",\"\",'Races, Positions & Points'!#REF!)","v":{"$error":"#REF!"}},{"$f":"IF('Races, Positions & Points'!#REF!=\"\",\"\",'Races, Positions & Points'!#REF!)","v":{"$error":"#REF!"}},{"$f":"IF('Races, Positions & Points'!#REF!=\"\",\"\",'Races, Positions & Points'!#REF!)","v":{"$error":"#REF!"}},{"$f":"IF('Races, Positions & Points'!#REF!=\"\",\"\",'Races, Positions & Points'!#REF!)","v":{"$error":"#REF!"}},{"$f":"IF('Races, Positions & Points'!#REF!=\"\",\"\",'Races, Positions & Points'!#REF!)","v":{"$error":"#REF!"}},{"$f":"IF('Races, Positions & Points'!#REF!=\"\",\"\",'Races, Positions & Points'!#REF!)","v":{"$error":"#REF!"}},{"$f":"IF('Races, Positions & Points'!#REF!=\"\",\"\",'Races, Positions & Points'!#REF!)","v":{"$error":"#REF!"}},{"$f":"IF('Races, Positions & Points'!#REF!=\"\",\"\",'Races, Positions & Points'!#REF!)","v":{"$error":"#REF!"}},{"$f":"IF('Races, Positions & Points'!#REF!=\"\",\"\",'Races, Positions & Points'!#REF!)","v":{"$error":"#REF!"}},{"$f":"IF('Races, Positions & Points'!#REF!=\"\",\"\",'Races, Positions & Points'!#REF!)","v":{"$error":"#REF!"}},{"$f":"IF('Races, Positions & Points'!#REF!=\"\",\"\",'Races, Positions & Points'!#REF!)","v":{"$error":"#REF!"}},{"$f":"IF('Races, Positions & Points'!#REF!=\"\",\"\",'Races, Positions & Points'!#REF!)","v":{"$error":"#REF!"}},{"$f":"IF('Races, Positions & Points'!#REF!=\"\",\"\",'Races, Positions & Points'!#REF!)","v":{"$error":"#REF!"}},{"$f":"IF('Races, Positions & Points'!#REF!=\"\",\"\",'Races, Positions & Points'!#REF!)","v":{"$error":"#REF!"}},{"$f":"IF('Races, Positions & Points'!#REF!=\"\",\"\",'Races, Positions & Points'!#REF!)","v":{"$error":"#REF!"}},{"$f":"IF('Races, Positions & Points'!#REF!=\"\",\"\",'Races, Positions & Points'!#REF!)","v":{"$error":"#REF!"}},{"$f":"IF('Races, Positions & Points'!#REF!=\"\",\"\",'Races, Positions & Points'!#REF!)","v":{"$error":"#REF!"}},{"$f":"IF('Races, Positions & Points'!#REF!=\"\",\"\",'Races, Positions & Points'!#REF!)","v":{"$error":"#REF!"}},{"$f":"IF('Races, Positions & Points'!#REF!=\"\",\"\",'Races, Positions & Points'!#REF!)","v":{"$error":"#REF!"}},{"$f":"IF('Races, Positions & Points'!#REF!=\"\",\"\",'Races, Positions & Points'!#REF!)","v":{"$error":"#REF!"}},{"$f":"IF('Races, Positions & Points'!#REF!=\"\",\"\",'Races, Positions & Points'!#REF!)","v":{"$error":"#REF!"}},{"$f":"IF('Races, Positions & Points'!#REF!=\"\",\"\",'Races, Positions & Points'!#REF!)","v":{"$error":"#REF!"}},{"$f":"IF('Races, Positions & Points'!#REF!=\"\",\"\",'Races, Positions & Points'!#REF!)","v":{"$error":"#REF!"}},{"$f":"IF('Races, Positions & Points'!#REF!=\"\",\"\",'Races, Positions & Points'!#REF!)","v":{"$error":"#REF!"}},{"$f":"IF('Races, Positions & Points'!#REF!=\"\",\"\",'Races, Positions & Points'!#REF!)","v":{"$error":"#REF!"}},{"$f":"IF('Races, Positions & Points'!#REF!=\"\",\"\",'Races, Positions & Points'!#REF!)","v":{"$error":"#REF!"}},{"$f":"IF('Races, Positions & Points'!#REF!=\"\",\"\",'Races, Positions & Points'!#REF!)","v":{"$error":"#REF!"}},{"$f":"IF('Races, Positions & Points'!#REF!=\"\",\"\",'Races, Positions & Points'!#REF!)","v":{"$error":"#REF!"}},{"$f":"IF('Races, Positions & Points'!#REF!=\"\",\"\",'Races, Positions & Points'!#REF!)","v":{"$error":"#REF!"}},{"$f":"IF('Races, Positions & Points'!#REF!=\"\",\"\",'Races, Positions & Points'!#REF!)","v":{"$error":"#REF!"}},{"$f":"IF('Races, Positions & Points'!#REF!=\"\",\"\",'Races, Positions & Points'!#REF!)","v":{"$error":"#REF!"}},{"$f":"IF('Races, Positions & Points'!#REF!=\"\",\"\",'Races, Positions & Points'!#REF!)","v":{"$error":"#REF!"}},null,{"$error":"#REF!"},{"$error":"#REF!"},{"$error":"#REF!"},{"$error":"#REF!"},{"$error":"#REF!"},{"$error":"#REF!"},null,{"$f":"'Races, Positions & Points'!#REF!","v":{"$error":"#REF!"}},{"$f":"'Races, Positions & Points'!#REF!","v":{"$error":"#REF!"}},{"$error":"#REF!"},"","",{"$error":"#REF!"},"",{"$error":"#REF!"},{"$error":"#REF!"},{"$error":"#REF!"},null,{"$error":"#REF!"},"","",{"$error":"#REF!"},"",{"$error":"#REF!"},{"$error":"#REF!"},{"$error":"#REF!"},null,{"$error":"#REF!"},{"$error":"#REF!"},{"$error":"#REF!"},{"$error":"#REF!"},{"$error":"#REF!"},{"$error":"#REF!"},{"$error":"#REF!"},{"$error":"#REF!"},{"$error":"#REF!"},{"$error":"#REF!"},{"$error":"#REF!"},{"$error":"#REF!"},{"$error":"#REF!"},{"$error":"#REF!"},{"$error":"#REF!"},{"$error":"#REF!"},null,{"$error":"#REF!"},"","","",null,{"$error":"#REF!"},"","","",null,{"$error":"#REF!"},{"$error":"#REF!"},{"$error":"#REF!"},{"$error":"#REF!"},{"$error":"#REF!"},{"$error":"#REF!"},{"$error":"#REF!"},{"$error":"#REF!"},{"$error":"#REF!"},{"$error":"#REF!"}]
[{"$f":"'Races, Positions & Points'!#REF!","v":{"$error":"#REF!"}},{"$f":"IF('Races, Positions & Points'!#REF!=\"\",\"\",'Races, Positions & Points'!#REF!)","v":{"$error":"#REF!"}},{"$f":"IF('Races, Positions & Points'!#REF!=\"\",\"\",'Races, Positions & Points'!#REF!)","v":{"$error":"#REF!"}},{"$f":"IF('Races, Positions & Points'!#REF!=\"\",\"\",'Races, Positions & Points'!#REF!)","v":{"$error":"#REF!"}},{"$f":"IF('Races, Positions & Points'!#REF!=\"\",\"\",'Races, Positions & Points'!#REF!)","v":{"$error":"#REF!"}},{"$f":"IF('Races, Positions & Points'!#REF!=\"\",\"\",'Races, Positions & Points'!#REF!)","v":{"$error":"#REF!"}},{"$f":"IF('Races, Positions & Points'!#REF!=\"\",\"\",'Races, Positions & Points'!#REF!)","v":{"$error":"#REF!"}},{"$f":"IF('Races, Positions & Points'!#REF!=\"\",\"\",'Races, Positions & Points'!#REF!)","v":{"$error":"#REF!"}},{"$f":"IF('Races, Positions & Points'!#REF!=\"\",\"\",'Races, Positions & Points'!#REF!)","v":{"$error":"#REF!"}},{"$f":"IF('Races, Positions & Points'!#REF!=\"\",\"\",'Races, Positions & Points'!#REF!)","v":{"$error":"#REF!"}},{"$f":"IF('Races, Positions & Points'!#REF!=\"\",\"\",'Races, Positions & Points'!#REF!)","v":{"$error":"#REF!"}},{"$f":"IF('Races, Positions & Points'!#REF!=\"\",\"\",'Races, Positions & Points'!#REF!)","v":{"$error":"#REF!"}},{"$f":"IF('Races, Positions & Points'!#REF!=\"\",\"\",'Races, Positions & Points'!#REF!)","v":{"$error":"#REF!"}},{"$f":"IF('Races, Positions & Points'!#REF!=\"\",\"\",'Races, Positions & Points'!#REF!)","v":{"$error":"#REF!"}},{"$f":"IF('Races, Positions & Points'!#REF!=\"\",\"\",'Races, Positions & Points'!#REF!)","v":{"$error":"#REF!"}},{"$f":"IF('Races, Positions & Points'!#REF!=\"\",\"\",'Races, Positions & Points'!#REF!)","v":{"$error":"#REF!"}},{"$f":"IF('Races, Positions & Points'!#REF!=\"\",\"\",'Races, Positions & Points'!#REF!)","v":{"$error":"#REF!"}},{"$f":"IF('Races, Positions & Points'!#REF!=\"\",\"\",'Races, Positions & Points'!#REF!)","v":{"$error":"#REF!"}},{"$f":"IF('Races, Positions & Points'!#REF!=\"\",\"\",'Races, Positions & Points'!#REF!)","v":{"$error":"#REF!"}},{"$f":"IF('Races, Positions & Points'!#REF!=\"\",\"\",'Races, Positions & Points'!#REF!)","v":{"$error":"#REF!"}},{"$f":"IF('Races, Positions & Points'!#REF!=\"\",\"\",'Races, Positions & Points'!#REF!)","v":{"$error":"#REF!"}},{"$f":"IF('Races, Positions & Points'!#REF!=\"\",\"\",'Races, Positions & Points'!#REF!)","v":{"$error":"#REF!"}},{"$f":"IF('Races, Positions & Points'!#REF!=\"\",\"\",'Races, Positions & Points'!#REF!)","v":{"$error":"#REF!"}},{"$f":"IF('Races, Positions & Points'!#REF!=\"\",\"\",'Races, Positions & Points'!#REF!)","v":{"$error":"#REF!"}},{"$f":"IF('Races, Positions & Points'!#REF!=\"\",\"\",'Races, Positions & Points'!#REF!)","v":{"$error":"#REF!"}},{"$f":"IF('Races, Positions & Points'!#REF!=\"\",\"\",'Races, Positions & Points'!#REF!)","v":{"$error":"#REF!"}},{"$f":"IF('Races, Positions & Points'!#REF!=\"\",\"\",'Races, Positions & Points'!#REF!)","v":{"$error":"#REF!"}},{"$f":"IF('Races, Positions & Points'!#REF!=\"\",\"\",'Races, Positions & Points'!#REF!)","v":{"$error":"#REF!"}},{"$f":"IF('Races, Positions & Points'!#REF!=\"\",\"\",'Races, Positions & Points'!#REF!)","v":{"$error":"#REF!"}},{"$f":"IF('Races, Positions & Points'!#REF!=\"\",\"\",'Races, Positions & Points'!#REF!)","v":{"$error":"#REF!"}},{"$f":"IF('Races, Positions & Points'!#REF!=\"\",\"\",'Races, Positions & Points'!#REF!)","v":{"$error":"#REF!"}},{"$f":"IF('Races, Positions & Points'!#REF!=\"\",\"\",'Races, Positions & Points'!#REF!)","v":{"$error":"#REF!"}},{"$f":"IF('Races, Positions & Points'!#REF!=\"\",\"\",'Races, Positions & Points'!#REF!)","v":{"$error":"#REF!"}},{"$f":"IF('Races, Positions & Points'!#REF!=\"\",\"\",'Races, Positions & Points'!#REF!)","v":{"$error":"#REF!"}},{"$f":"IF('Races, Positions & Points'!#REF!=\"\",\"\",'Races, Positions & Points'!#REF!)","v":{"$error":"#REF!"}},{"$f":"IF('Races, Positions & Points'!#REF!=\"\",\"\",'Races, Positions & Points'!#REF!)","v":{"$error":"#REF!"}},{"$f":"IF('Races, Positions & Points'!#REF!=\"\",\"\",'Races, Positions & Points'!#REF!)","v":{"$error":"#REF!"}},{"$f":"IF('Races, Positions & Points'!#REF!=\"\",\"\",'Races, Positions & Points'!#REF!)","v":{"$error":"#REF!"}},{"$f":"IF('Races, Positions & Points'!#REF!=\"\",\"\",'Races, Positions & Points'!#REF!)","v":{"$error":"#REF!"}},{"$f":"IF('Races, Positions & Points'!#REF!=\"\",\"\",'Races, Positions & Points'!#REF!)","v":{"$error":"#REF!"}},{"$f":"IF('Races, Positions & Points'!#REF!=\"\",\"\",'Races, Positions & Points'!#REF!)","v":{"$error":"#REF!"}},{"$f":"IF('Races, Positions & Points'!#REF!=\"\",\"\",'Races, Positions & Points'!#REF!)","v":{"$error":"#REF!"}},{"$f":"IF('Races, Positions & Points'!#REF!=\"\",\"\",'Races, Positions & Points'!#REF!)","v":{"$error":"#REF!"}},{"$f":"IF('Races, Positions & Points'!#REF!=\"\",\"\",'Races, Positions & Points'!#REF!)","v":{"$error":"#REF!"}},{"$f":"IF('Races, Positions & Points'!#REF!=\"\",\"\",'Races, Positions & Points'!#REF!)","v":{"$error":"#REF!"}},{"$f":"IF('Races, Positions & Points'!#REF!=\"\",\"\",'Races, Positions & Points'!#REF!)","v":{"$error":"#REF!"}},{"$f":"IF('Races, Positions & Points'!#REF!=\"\",\"\",'Races, Positions & Points'!#REF!)","v":{"$error":"#REF!"}},{"$f":"IF('Races, Positions & Points'!#REF!=\"\",\"\",'Races, Positions & Points'!#REF!)","v":{"$error":"#REF!"}},{"$f":"IF('Races, Positions & Points'!#REF!=\"\",\"\",'Races, Positions & Points'!#REF!)","v":{"$error":"#REF!"}},{"$f":"IF('Races, Positions & Points'!#REF!=\"\",\"\",'Races, Positions & Points'!#REF!)","v":{"$error":"#REF!"}},{"$f":"IF('Races, Positions & Points'!#REF!=\"\",\"\",'Races, Positions & Points'!#REF!)","v":{"$error":"#REF!"}},null,{"$error":"#REF!"},{"$error":"#REF!"},{"$error":"#REF!"},{"$error":"#REF!"},{"$error":"#REF!"},{"$error":"#REF!"},null,{"$f":"'Races, Positions & Points'!#REF!","v":{"$error":"#REF!"}},{"$f":"'Races, Positions & Points'!#REF!","v":{"$error":"#REF!"}},{"$error":"#REF!"},"","",{"$error":"#REF!"},"",{"$error":"#REF!"},{"$error":"#REF!"},{"$error":"#REF!"},null,{"$error":"#REF!"},"","",{"$error":"#REF!"},"",{"$error":"#REF!"},{"$error":"#REF!"},{"$error":"#REF!"},null,{"$error":"#REF!"},{"$error":"#REF!"},{"$error":"#REF!"},{"$error":"#REF!"},{"$error":"#REF!"},{"$error":"#REF!"},{"$error":"#REF!"},{"$error":"#REF!"},{"$error":"#REF!"},{"$error":"#REF!"},{"$error":"#REF!"},{"$error":"#REF!"},{"$error":"#REF!"},{"$error":"#REF!"},{"$error":"#REF!"},{"$error":"#REF!"},null,{"$error":"#REF!"},"","","",null,{"$error":"#REF!"},"","","",null,{"$error":"#REF!"},{"$error":"#REF!"},{"$error":"#REF!"},{"$error":"#REF!"},{"$error":"#REF!"},{"$error":"#REF!"},{"$error":"#REF!"},{"$error":"#REF!"},{"$error":"#REF!"},{"$error":"#REF!"}]
[{"$f":"'Races, Positions & Points'!A21","v":"Ellie Jackson"},{"$f":"IF('Races, Positions & Points'!O21=\"\",\"\",'Races, Positions & Points'!O21)","v":""},{"$f":"IF('Races, Positions & Points'!R21=\"\",\"\",'Races, Positions & Points'!R21)","v":""},{"$f":"IF('Races, Positions & Points'!#REF!=\"\",\"\",'Races, Positions & Points'!#REF!)","v":{"$error":"#REF!"}},{"$f":"IF('Races, Positions & Points'!U21=\"\",\"\",'Races, Positions & Points'!U21)","v":""},{"$f":"IF('Races, Positions & Points'!V21=\"\",\"\",'Races, Positions & Points'!V21)","v":""},{"$f":"IF('Races, Positions & Points'!#REF!=\"\",\"\",'Races, Positions & Points'!#REF!)","v":{"$error":"#REF!"}},{"$f":"IF('Races, Positions & Points'!Y21=\"\",\"\",'Races, Positions & Points'!Y21)","v":""},{"$f":"IF('Races, Positions & Points'!#REF!=\"\",\"\",'Races, Positions & Points'!#REF!)","v":{"$error":"#REF!"}},{"$f":"IF('Races, Positions & Points'!#REF!=\"\",\"\",'Races, Positions & Points'!#REF!)","v":{"$error":"#REF!"}},{"$f":"IF('Races, Positions & Points'!AD21=\"\",\"\",'Races, Positions & Points'!AD21)","v":""},{"$f":"IF('Races, Positions & Points'!#REF!=\"\",\"\",'Races, Positions & Points'!#REF!)","v":{"$error":"#REF!"}},{"$f":"IF('Races, Positions & Points'!AR21=\"\",\"\",'Races, Positions & Points'!AR21)","v":""},{"$f":"IF('Races, Positions & Points'!AU21=\"\",\"\",'Races, Positions & Points'!AU21)","v":""},{"$f":"IF('Races, Positions & Points'!AX21=\"\",\"\",'Races, Positions & Points'!AX21)","v":""},{"$f":"IF('Races, Positions & Points'!BA21=\"\",\"\",'Races, Positions & Points'!BA21)","v":""},{"$f":"IF('Races, Positions & Points'!BJ21=\"\",\"\",'Races, Positions & Points'!BJ21)","v":""},{"$f":"IF('Races, Positions & Points'!BN21=\"\",\"\",'Races, Positions & Points'!BN21)","v":""},{"$f":"IF('Races, Positions & Points'!#REF!=\"\",\"\",'Races, Positions & Points'!#REF!)","v":{"$error":"#REF!"}},{"$f":"IF('Races, Positions & Points'!#REF!=\"\",\"\",'Races, Positions & Points'!#REF!)","v":{"$error":"#REF!"}},{"$f":"IF('Races, Positions & Points'!BW21=\"\",\"\",'Races, Positions & Points'!BW21)","v":""},{"$f":"IF('Races, Positions & Points'!#REF!=\"\",\"\",'Races, Positions & Points'!#REF!)","v":{"$error":"#REF!"}},{"$f":"IF('Races, Positions & Points'!#REF!=\"\",\"\",'Races, Positions & Points'!#REF!)","v":{"$error":"#REF!"}},{"$f":"IF('Races, Positions & Points'!CI21=\"\",\"\",'Races, Positions & Points'!CI21)","v":""},{"$f":"IF('Races, Positions & Points'!CO21=\"\",\"\",'Races, Positions & Points'!CO21)","v":""},{"$f":"IF('Races, Positions & Points'!CZ21=\"\",\"\",'Races, Positions & Points'!CZ21)","v":""},{"$f":"IF('Races, Positions & Points'!CU21=\"\",\"\",'Races, Positions & Points'!CU21)","v":""},{"$f":"IF('Races, Positions & Points'!DC21=\"\",\"\",'Races, Positions & Points'!DC21)","v":""},{"$f":"IF('Races, Positions & Points'!DF21=\"\",\"\",'Races, Positions & Points'!DF21)","v":""},{"$f":"IF('Races, Positions & Points'!DP21=\"\",\"\",'Races, Positions & Points'!DP21)","v":""},{"$f":"IF('Races, Positions & Points'!DI21=\"\",\"\",'Races, Positions & Points'!DI21)","v":""},{"$f":"IF('Races, Positions & Points'!DS21=\"\",\"\",'Races, Positions & Points'!DS21)","v":""},{"$f":"IF('Races, Positions & Points'!#REF!=\"\",\"\",'Races, Positions & Points'!#REF!)","v":{"$error":"#REF!"}},{"$f":"IF('Races, Positions & Points'!DV21=\"\",\"\",'Races, Positions & Points'!DV21)","v":""},{"$f":"IF('Races, Positions & Points'!DY21=\"\",\"\",'Races, Positions & Points'!DY21)","v":""},{"$f":"IF('Races, Positions & Points'!EB21=\"\",\"\",'Races, Positions & Points'!EB21)","v":""},{"$f":"IF('Races, Positions & Points'!EF21=\"\",\"\",'Races, Positions & Points'!EF21)","v":""},{"$f":"IF('Races, Positions & Points'!EI21=\"\",\"\",'Races, Positions & Points'!EI21)","v":""},{"$f":"IF('Races, Positions & Points'!EM21=\"\",\"\",'Races, Positions & Points'!EM21)","v":""},{"$f":"IF('Races, Positions & Points'!EN21=\"\",\"\",'Races, Positions & Points'!EN21)","v":""},{"$f":"IF('Races, Positions & Points'!EP21=\"\",\"\",'Races, Positions & Points'!EP21)","v":""},{"$f":"IF('Races, Positions & Points'!ES21=\"\",\"\",'Races, Positions & Points'!ES21)","v":""},{"$f":"IF('Races, Positions & Points'!EV21=\"\",\"\",'Races, Positions & Points'!EV21)","v":""},{"$f":"IF('Races, Positions & Points'!EY21=\"\",\"\",'Races, Positions & Points'!EY21)","v":""},{"$f":"IF('Races, Positions & Points'!FB21=\"\",\"\",'Races, Positions & Points'!FB21)","v":""},{"$f":"IF('Races, Positions & Points'!#REF!=\"\",\"\",'Races, Positions & Points'!#REF!)","v":{"$error":"#REF!"}},{"$f":"IF('Races, Positions & Points'!#REF!=\"\",\"\",'Races, Positions & Points'!#REF!)","v":{"$error":"#REF!"}},{"$f":"IF('Races, Positions & Points'!#REF!=\"\",\"\",'Races, Positions & Points'!#REF!)","v":{"$error":"#REF!"}},{"$f":"IF('Races, Positions & Points'!#REF!=\"\",\"\",'Races, Positions & Points'!#REF!)","v":{"$error":"#REF!"}},{"$f":"IF('Races, Positions & Points'!#REF!=\"\",\"\",'Races, Positions & Points'!#REF!)","v":{"$error":"#REF!"}},{"$f":"IF('Races, Positions & Points'!#REF!=\"\",\"\",'Races, Positions & Points'!#REF!)","v":{"$error":"#REF!"}},null,{"$error":"#REF!"},{"$error":"#REF!"},{"$error":"#REF!"},{"$f":"SUMPRODUCT(--(B$4:AY$4=\"Out\"),--(B$3:AY$3=5),--(B$5:AY$5=\"Y\"),--(B29:AY29<>\"\"))","v":{"$error":"#REF!"}},{"$error":"#REF!"},{"$error":"#REF!"},null,{"$f":"'Races, Positions & Points'!E21","v":21024},{"$f":"'Races, Positions & Points'!#REF!","v":{"$error":"#REF!"}},{"$error":"#REF!"},"","",{"$error":"#REF!"},"",{"$error":"#REF!"},{"$error":"#REF!"},{"$error":"#REF!"},null,{"$error":"#REF!"},"","",{"$error":"#REF!"},"",{"$error":"#REF!"},{"$error":"#REF!"},{"$error":"#REF!"},null,{"$error":"#REF!"},{"$error":"#REF!"},{"$error":"#REF!"},{"$error":"#REF!"},"",{"$error":"#REF!"},{"$error":"#REF!"},"",{"$error":"#REF!"},"","","","","","",{"$error":"#REF!"},null,{"$error":"#REF!"},"","","",null,{"$error":"#REF!"},"","","",null,{"$error":"#REF!"},{"$error":"#REF!"},{"$error":"#REF!"},"","",{"$error":"#REF!"},{"$error":"#REF!"},"","",{"$error":"#REF!"}]
[{"$f":"'Races, Positions & Points'!#REF!","v":{"$error":"#REF!"}},{"$f":"IF('Races, Positions & Points'!#REF!=\"\",\"\",'Races, Positions & Points'!#REF!)","v":{"$error":"#REF!"}},{"$f":"IF('Races, Positions & Points'!#REF!=\"\",\"\",'Races, Positions & Points'!#REF!)","v":{"$error":"#REF!"}},{"$f":"IF('Races, Positions & Points'!#REF!=\"\",\"\",'Races, Positions & Points'!#REF!)","v":{"$error":"#REF!"}},{"$f":"IF('Races, Positions & Points'!#REF!=\"\",\"\",'Races, Positions & Points'!#REF!)","v":{"$error":"#REF!"}},{"$f":"IF('Races, Positions & Points'!#REF!=\"\",\"\",'Races, Positions & Points'!#REF!)","v":{"$error":"#REF!"}},{"$f":"IF('Races, Positions & Points'!#REF!=\"\",\"\",'Races, Positions & Points'!#REF!)","v":{"$error":"#REF!"}},{"$f":"IF('Races, Positions & Points'!#REF!=\"\",\"\",'Races, Positions & Points'!#REF!)","v":{"$error":"#REF!"}},{"$f":"IF('Races, Positions & Points'!#REF!=\"\",\"\",'Races, Positions & Points'!#REF!)","v":{"$error":"#REF!"}},{"$f":"IF('Races, Positions & Points'!#REF!=\"\",\"\",'Races, Positions & Points'!#REF!)","v":{"$error":"#REF!"}},{"$f":"IF('Races, Positions & Points'!#REF!=\"\",\"\",'Races, Positions & Points'!#REF!)","v":{"$error":"#REF!"}},{"$f":"IF('Races, Positions & Points'!#REF!=\"\",\"\",'Races, Positions & Points'!#REF!)","v":{"$error":"#REF!"}},{"$f":"IF('Races, Positions & Points'!#REF!=\"\",\"\",'Races, Positions & Points'!#REF!)","v":{"$error":"#REF!"}},{"$f":"IF('Races, Positions & Points'!#REF!=\"\",\"\",'Races, Positions & Points'!#REF!)","v":{"$error":"#REF!"}},{"$f":"IF('Races, Positions & Points'!#REF!=\"\",\"\",'Races, Positions & Points'!#REF!)","v":{"$error":"#REF!"}},{"$f":"IF('Races, Positions & Points'!#REF!=\"\",\"\",'Races, Positions & Points'!#REF!)","v":{"$error":"#REF!"}},{"$f":"IF('Races, Positions & Points'!#REF!=\"\",\"\",'Races, Positions & Points'!#REF!)","v":{"$error":"#REF!"}},{"$f":"IF('Races, Positions & Points'!#REF!=\"\",\"\",'Races, Positions & Points'!#REF!)","v":{"$error":"#REF!"}},{"$f":"IF('Races, Positions & Points'!#REF!=\"\",\"\",'Races, Positions & Points'!#REF!)","v":{"$error":"#REF!"}},{"$f":"IF('Races, Positions & Points'!#REF!=\"\",\"\",'Races, Positions & Points'!#REF!)","v":{"$error":"#REF!"}},{"$f":"IF('Races, Positions & Points'!#REF!=\"\",\"\",'Races, Positions & Points'!#REF!)","v":{"$error":"#REF!"}},{"$f":"IF('Races, Positions & Points'!#REF!=\"\",\"\",'Races, Positions & Points'!#REF!)","v":{"$error":"#REF!"}},{"$f":"IF('Races, Positions & Points'!#REF!=\"\",\"\",'Races, Positions & Points'!#REF!)","v":{"$error":"#REF!"}},{"$f":"IF('Races, Positions & Points'!#REF!=\"\",\"\",'Races, Positions & Points'!#REF!)","v":{"$error":"#REF!"}},{"$f":"IF('Races, Positions & Points'!#REF!=\"\",\"\",'Races, Positions & Points'!#REF!)","v":{"$error":"#REF!"}},{"$f":"IF('Races, Positions & Points'!#REF!=\"\",\"\",'Races, Positions & Points'!#REF!)","v":{"$error":"#REF!"}},{"$f":"IF('Races, Positions & Points'!#REF!=\"\",\"\",'Races, Positions & Points'!#REF!)","v":{"$error":"#REF!"}},{"$f":"IF('Races, Positions & Points'!#REF!=\"\",\"\",'Races, Positions & Points'!#REF!)","v":{"$error":"#REF!"}},{"$f":"IF('Races, Positions & Points'!#REF!=\"\",\"\",'Races, Positions & Points'!#REF!)","v":{"$error":"#REF!"}},{"$f":"IF('Races, Positions & Points'!#REF!=\"\",\"\",'Races, Positions & Points'!#REF!)","v":{"$error":"#REF!"}},{"$f":"IF('Races, Positions & Points'!#REF!=\"\",\"\",'Races, Positions & Points'!#REF!)","v":{"$error":"#REF!"}},{"$f":"IF('Races, Positions & Points'!#REF!=\"\",\"\",'Races, Positions & Points'!#REF!)","v":{"$error":"#REF!"}},{"$f":"IF('Races, Positions & Points'!#REF!=\"\",\"\",'Races, Positions & Points'!#REF!)","v":{"$error":"#REF!"}},{"$f":"IF('Races, Positions & Points'!#REF!=\"\",\"\",'Races, Positions & Points'!#REF!)","v":{"$error":"#REF!"}},{"$f":"IF('Races, Positions & Points'!#REF!=\"\",\"\",'Races, Positions & Points'!#REF!)","v":{"$error":"#REF!"}},{"$f":"IF('Races, Positions & Points'!#REF!=\"\",\"\",'Races, Positions & Points'!#REF!)","v":{"$error":"#REF!"}},{"$f":"IF('Races, Positions & Points'!#REF!=\"\",\"\",'Races, Positions & Points'!#REF!)","v":{"$error":"#REF!"}},{"$f":"IF('Races, Positions & Points'!#REF!=\"\",\"\",'Races, Positions & Points'!#REF!)","v":{"$error":"#REF!"}},{"$f":"IF('Races, Positions & Points'!#REF!=\"\",\"\",'Races, Positions & Points'!#REF!)","v":{"$error":"#REF!"}},{"$f":"IF('Races, Positions & Points'!#REF!=\"\",\"\",'Races, Positions & Points'!#REF!)","v":{"$error":"#REF!"}},{"$f":"IF('Races, Positions & Points'!#REF!=\"\",\"\",'Races, Positions & Points'!#REF!)","v":{"$error":"#REF!"}},{"$f":"IF('Races, Positions & Points'!#REF!=\"\",\"\",'Races, Positions & Points'!#REF!)","v":{"$error":"#REF!"}},{"$f":"IF('Races, Positions & Points'!#REF!=\"\",\"\",'Races, Positions & Points'!#REF!)","v":{"$error":"#REF!"}},{"$f":"IF('Races, Positions & Points'!#REF!=\"\",\"\",'Races, Positions & Points'!#REF!)","v":{"$error":"#REF!"}},{"$f":"IF('Races, Positions & Points'!#REF!=\"\",\"\",'Races, Positions & Points'!#REF!)","v":{"$error":"#REF!"}},{"$f":"IF('Races, Positions & Points'!#REF!=\"\",\"\",'Races, Positions & Points'!#REF!)","v":{"$error":"#REF!"}},{"$f":"IF('Races, Positions & Points'!#REF!=\"\",\"\",'Races, Positions & Points'!#REF!)","v":{"$error":"#REF!"}},{"$f":"IF('Races, Positions & Points'!#REF!=\"\",\"\",'Races, Positions & Points'!#REF!)","v":{"$error":"#REF!"}},{"$f":"IF('Races, Positions & Points'!#REF!=\"\",\"\",'Races, Positions & Points'!#REF!)","v":{"$error":"#REF!"}},{"$f":"IF('Races, Positions & Points'!#REF!=\"\",\"\",'Races, Positions & Points'!#REF!)","v":{"$error":"#REF!"}},{"$f":"IF('Races, Positions & Points'!#REF!=\"\",\"\",'Races, Positions & Points'!#REF!)","v":{"$error":"#REF!"}},null,{"$error":"#REF!"},{"$error":"#REF!"},{"$error":"#REF!"},{"$f":"SUMPRODUCT(--(B$4:AY$4=\"Out\"),--(B$3:AY$3=5),--(B$5:AY$5=\"Y\"),--(B30:AY30<>\"\"))","v":{"$error":"#REF!"}},{"$error":"#REF!"},{"$error":"#REF!"},null,{"$f":"'Races, Positions & Points'!#REF!","v":{"$error":"#REF!"}},{"$f":"'Races, Positions & Points'!#REF!","v":{"$error":"#REF!"}},{"$error":"#REF!"},"","",{"$error":"#REF!"},"",{"$error":"#REF!"},{"$error":"#REF!"},{"$error":"#REF!"},null,{"$error":"#REF!"},"","",{"$error":"#REF!"},"",{"$error":"#REF!"},{"$error":"#REF!"},{"$error":"#REF!"},null,{"$error":"#REF!"},{"$error":"#REF!"},{"$error":"#REF!"},{"$error":"#REF!"},{"$error":"#REF!"},{"$error":"#REF!"},{"$error":"#REF!"},{"$error":"#REF!"},{"$error":"#REF!"},{"$error":"#REF!"},{"$error":"#REF!"},{"$error":"#REF!"},{"$error":"#REF!"},{"$error":"#REF!"},{"$error":"#REF!"},{"$error":"#REF!"},null,{"$error":"#REF!"},"","","",null,{"$error":"#REF!"},"","","",null,{"$error":"#REF!"},{"$error":"#REF!"},{"$error":"#REF!"},{"$error":"#REF!"},{"$error":"#REF!"},{"$error":"#REF!"},{"$error":"#REF!"},{"$error":"#REF!"},{"$error":"#REF!"},{"$error":"#REF!"}]
[{"$f":"'Races, Positions & Points'!#REF!","v":{"$error":"#REF!"}},{"$f":"IF('Races, Positions & Points'!#REF!=\"\",\"\",'Races, Positions & Points'!#REF!)","v":{"$error":"#REF!"}},{"$f":"IF('Races, Positions & Points'!#REF!=\"\",\"\",'Races, Positions & Points'!#REF!)","v":{"$error":"#REF!"}},{"$f":"IF('Races, Positions & Points'!#REF!=\"\",\"\",'Races, Positions & Points'!#REF!)","v":{"$error":"#REF!"}},{"$f":"IF('Races, Positions & Points'!#REF!=\"\",\"\",'Races, Positions & Points'!#REF!)","v":{"$error":"#REF!"}},{"$f":"IF('Races, Positions & Points'!#REF!=\"\",\"\",'Races, Positions & Points'!#REF!)","v":{"$error":"#REF!"}},{"$f":"IF('Races, Positions & Points'!#REF!=\"\",\"\",'Races, Positions & Points'!#REF!)","v":{"$error":"#REF!"}},{"$f":"IF('Races, Positions & Points'!#REF!=\"\",\"\",'Races, Positions & Points'!#REF!)","v":{"$error":"#REF!"}},{"$f":"IF('Races, Positions & Points'!#REF!=\"\",\"\",'Races, Positions & Points'!#REF!)","v":{"$error":"#REF!"}},{"$f":"IF('Races, Positions & Points'!#REF!=\"\",\"\",'Races, Positions & Points'!#REF!)","v":{"$error":"#REF!"}},{"$f":"IF('Races, Positions & Points'!#REF!=\"\",\"\",'Races, Positions & Points'!#REF!)","v":{"$error":"#REF!"}},{"$f":"IF('Races, Positions & Points'!#REF!=\"\",\"\",'Races, Positions & Points'!#REF!)","v":{"$error":"#REF!"}},{"$f":"IF('Races, Positions & Points'!#REF!=\"\",\"\",'Races, Positions & Points'!#REF!)","v":{"$error":"#REF!"}},{"$f":"IF('Races, Positions & Points'!#REF!=\"\",\"\",'Races, Positions & Points'!#REF!)","v":{"$error":"#REF!"}},{"$f":"IF('Races, Positions & Points'!#REF!=\"\",\"\",'Races, Positions & Points'!#REF!)","v":{"$error":"#REF!"}},{"$f":"IF('Races, Positions & Points'!#REF!=\"\",\"\",'Races, Positions & Points'!#REF!)","v":{"$error":"#REF!"}},{"$f":"IF('Races, Positions & Points'!#REF!=\"\",\"\",'Races, Positions & Points'!#REF!)","v":{"$error":"#REF!"}},{"$f":"IF('Races, Positions & Points'!#REF!=\"\",\"\",'Races, Positions & Points'!#REF!)","v":{"$error":"#REF!"}},{"$f":"IF('Races, Positions & Points'!#REF!=\"\",\"\",'Races, Positions & Points'!#REF!)","v":{"$error":"#REF!"}},{"$f":"IF('Races, Positions & Points'!#REF!=\"\",\"\",'Races, Positions & Points'!#REF!)","v":{"$error":"#REF!"}},{"$f":"IF('Races, Positions & Points'!#REF!=\"\",\"\",'Races, Positions & Points'!#REF!)","v":{"$error":"#REF!"}},{"$f":"IF('Races, Positions & Points'!#REF!=\"\",\"\",'Races, Positions & Points'!#REF!)","v":{"$error":"#REF!"}},{"$f":"IF('Races, Positions & Points'!#REF!=\"\",\"\",'Races, Positions & Points'!#REF!)","v":{"$error":"#REF!"}},{"$f":"IF('Races, Positions & Points'!#REF!=\"\",\"\",'Races, Positions & Points'!#REF!)","v":{"$error":"#REF!"}},{"$f":"IF('Races, Positions & Points'!#REF!=\"\",\"\",'Races, Positions & Points'!#REF!)","v":{"$error":"#REF!"}},{"$f":"IF('Races, Positions & Points'!#REF!=\"\",\"\",'Races, Positions & Points'!#REF!)","v":{"$error":"#REF!"}},{"$f":"IF('Races, Positions & Points'!#REF!=\"\",\"\",'Races, Positions & Points'!#REF!)","v":{"$error":"#REF!"}},{"$f":"IF('Races, Positions & Points'!#REF!=\"\",\"\",'Races, Positions & Points'!#REF!)","v":{"$error":"#REF!"}},{"$f":"IF('Races, Positions & Points'!#REF!=\"\",\"\",'Races, Positions & Points'!#REF!)","v":{"$error":"#REF!"}},{"$f":"IF('Races, Positions & Points'!#REF!=\"\",\"\",'Races, Positions & Points'!#REF!)","v":{"$error":"#REF!"}},{"$f":"IF('Races, Positions & Points'!#REF!=\"\",\"\",'Races, Positions & Points'!#REF!)","v":{"$error":"#REF!"}},{"$f":"IF('Races, Positions & Points'!#REF!=\"\",\"\",'Races, Positions & Points'!#REF!)","v":{"$error":"#REF!"}},{"$f":"IF('Races, Positions & Points'!#REF!=\"\",\"\",'Races, Positions & Points'!#REF!)","v":{"$error":"#REF!"}},{"$f":"IF('Races, Positions & Points'!#REF!=\"\",\"\",'Races, Positions & Points'!#REF!)","v":{"$error":"#REF!"}},{"$f":"IF('Races, Positions & Points'!#REF!=\"\",\"\",'Races, Positions & Points'!#REF!)","v":{"$error":"#REF!"}},{"$f":"IF('Races, Positions & Points'!#REF!=\"\",\"\",'Races, Positions & Points'!#REF!)","v":{"$error":"#REF!"}},{"$f":"IF('Races, Positions & Points'!#REF!=\"\",\"\",'Races, Positions & Points'!#REF!)","v":{"$error":"#REF!"}},{"$f":"IF('Races, Positions & Points'!#REF!=\"\",\"\",'Races, Positions & Points'!#REF!)","v":{"$error":"#REF!"}},{"$f":"IF('Races, Positions & Points'!#REF!=\"\",\"\",'Races, Positions & Points'!#REF!)","v":{"$error":"#REF!"}},{"$f":"IF('Races, Positions & Points'!#REF!=\"\",\"\",'Races, Positions & Points'!#REF!)","v":{"$error":"#REF!"}},{"$f":"IF('Races, Positions & Points'!#REF!=\"\",\"\",'Races, Positions & Points'!#REF!)","v":{"$error":"#REF!"}},{"$f":"IF('Races, Positions & Points'!#REF!=\"\",\"\",'Races, Positions & Points'!#REF!)","v":{"$error":"#REF!"}},{"$f":"IF('Races, Positions & Points'!#REF!=\"\",\"\",'Races, Positions & Points'!#REF!)","v":{"$error":"#REF!"}},{"$f":"IF('Races, Positions & Points'!#REF!=\"\",\"\",'Races, Positions & Points'!#REF!)","v":{"$error":"#REF!"}},{"$f":"IF('Races, Positions & Points'!#REF!=\"\",\"\",'Races, Positions & Points'!#REF!)","v":{"$error":"#REF!"}},{"$f":"IF('Races, Positions & Points'!#REF!=\"\",\"\",'Races, Positions & Points'!#REF!)","v":{"$error":"#REF!"}},{"$f":"IF('Races, Positions & Points'!#REF!=\"\",\"\",'Races, Positions & Points'!#REF!)","v":{"$error":"#REF!"}},{"$f":"IF('Races, Positions & Points'!#REF!=\"\",\"\",'Races, Positions & Points'!#REF!)","v":{"$error":"#REF!"}},{"$f":"IF('Races, Positions & Points'!#REF!=\"\",\"\",'Races, Positions & Points'!#REF!)","v":{"$error":"#REF!"}},{"$f":"IF('Races, Positions & Points'!#REF!=\"\",\"\",'Races, Positions & Points'!#REF!)","v":{"$error":"#REF!"}},{"$f":"IF('Races, Positions & Points'!#REF!=\"\",\"\",'Races, Positions & Points'!#REF!)","v":{"$error":"#REF!"}},null,{"$error":"#REF!"},{"$error":"#REF!"},{"$error":"#REF!"},{"$error":"#REF!"},{"$error":"#REF!"},{"$error":"#REF!"},null,{"$f":"'Races, Positions & Points'!#REF!","v":{"$error":"#REF!"}},{"$f":"'Races, Positions & Points'!#REF!","v":{"$error":"#REF!"}},{"$error":"#REF!"},"","",{"$error":"#REF!"},"",{"$error":"#REF!"},{"$error":"#REF!"},{"$error":"#REF!"},null,{"$error":"#REF!"},"","",{"$error":"#REF!"},"",{"$error":"#REF!"},{"$error":"#REF!"},{"$error":"#REF!"},null,{"$error":"#REF!"},{"$error":"#REF!"},{"$error":"#REF!"},{"$error":"#REF!"},{"$error":"#REF!"},{"$error":"#REF!"},{"$error":"#REF!"},{"$error":"#REF!"},{"$error":"#REF!"},{"$error":"#REF!"},{"$error":"#REF!"},{"$error":"#REF!"},{"$error":"#REF!"},{"$error":"#REF!"},{"$error":"#REF!"},{"$error":"#REF!"},null,{"$error":"#REF!"},"","","",null,{"$error":"#REF!"},"","","",null,{"$error":"#REF!"},{"$error":"#REF!"},{"$error":"#REF!"},{"$error":"#REF!"},{"$error":"#REF!"},{"$error":"#REF!"},{"$error":"#REF!"},{"$error":"#REF!"},{"$error":"#REF!"},{"$error":"#REF!"}]
[{"$f":"'Races, Positions & Points'!#REF!","v":{"$error":"#REF!"}},{"$f":"IF('Races, Positions & Points'!#REF!=\"\",\"\",'Races, Positions & Points'!#REF!)","v":{"$error":"#REF!"}},{"$f":"IF('Races, Positions & Points'!#REF!=\"\",\"\",'Races, Positions & Points'!#REF!)","v":{"$error":"#REF!"}},{"$f":"IF('Races, Positions & Points'!#REF!=\"\",\"\",'Races, Positions & Points'!#REF!)","v":{"$error":"#REF!"}},{"$f":"IF('Races, Positions & Points'!#REF!=\"\",\"\",'Races, Positions & Points'!#REF!)","v":{"$error":"#REF!"}},{"$f":"IF('Races, Positions & Points'!#REF!=\"\",\"\",'Races, Positions & Points'!#REF!)","v":{"$error":"#REF!"}},{"$f":"IF('Races, Positions & Points'!#REF!=\"\",\"\",'Races, Positions & Points'!#REF!)","v":{"$error":"#REF!"}},{"$f":"IF('Races, Positions & Points'!#REF!=\"\",\"\",'Races, Positions & Points'!#REF!)","v":{"$error":"#REF!"}},{"$f":"IF('Races, Positions & Points'!#REF!=\"\",\"\",'Races, Positions & Points'!#REF!)","v":{"$error":"#REF!"}},{"$f":"IF('Races, Positions & Points'!#REF!=\"\",\"\",'Races, Positions & Points'!#REF!)","v":{"$error":"#REF!"}},{"$f":"IF('Races, Positions & Points'!#REF!=\"\",\"\",'Races, Positions & Points'!#REF!)","v":{"$error":"#REF!"}},{"$f":"IF('Races, Positions & Points'!#REF!=\"\",\"\",'Races, Positions & Points'!#REF!)","v":{"$error":"#REF!"}},{"$f":"IF('Races, Positions & Points'!#REF!=\"\",\"\",'Races, Positions & Points'!#REF!)","v":{"$error":"#REF!"}},{"$f":"IF('Races, Positions & Points'!#REF!=\"\",\"\",'Races, Positions & Points'!#REF!)","v":{"$error":"#REF!"}},{"$f":"IF('Races, Positions & Points'!#REF!=\"\",\"\",'Races, Positions & Points'!#REF!)","v":{"$error":"#REF!"}},{"$f":"IF('Races, Positions & Points'!#REF!=\"\",\"\",'Races, Positions & Points'!#REF!)","v":{"$error":"#REF!"}},{"$f":"IF('Races, Positions & Points'!#REF!=\"\",\"\",'Races, Positions & Points'!#REF!)","v":{"$error":"#REF!"}},{"$f":"IF('Races, Positions & Points'!#REF!=\"\",\"\",'Races, Positions & Points'!#REF!)","v":{"$error":"#REF!"}},{"$f":"IF('Races, Positions & Points'!#REF!=\"\",\"\",'Races, Positions & Points'!#REF!)","v":{"$error":"#REF!"}},{"$f":"IF('Races, Positions & Points'!#REF!=\"\",\"\",'Races, Positions & Points'!#REF!)","v":{"$error":"#REF!"}},{"$f":"IF('Races, Positions & Points'!#REF!=\"\",\"\",'Races, Positions & Points'!#REF!)","v":{"$error":"#REF!"}},{"$f":"IF('Races, Positions & Points'!#REF!=\"\",\"\",'Races, Positions & Points'!#REF!)","v":{"$error":"#REF!"}},{"$f":"IF('Races, Positions & Points'!#REF!=\"\",\"\",'Races, Positions & Points'!#REF!)","v":{"$error":"#REF!"}},{"$f":"IF('Races, Positions & Points'!#REF!=\"\",\"\",'Races, Positions & Points'!#REF!)","v":{"$error":"#REF!"}},{"$f":"IF('Races, Positions & Points'!#REF!=\"\",\"\",'Races, Positions & Points'!#REF!)","v":{"$error":"#REF!"}},{"$f":"IF('Races, Positions & Points'!#REF!=\"\",\"\",'Races, Positions & Points'!#REF!)","v":{"$error":"#REF!"}},{"$f":"IF('Races, Positions & Points'!#REF!=\"\",\"\",'Races, Positions & Points'!#REF!)","v":{"$error":"#REF!"}},{"$f":"IF('Races, Positions & Points'!#REF!=\"\",\"\",'Races, Positions & Points'!#REF!)","v":{"$error":"#REF!"}},{"$f":"IF('Races, Positions & Points'!#REF!=\"\",\"\",'Races, Positions & Points'!#REF!)","v":{"$error":"#REF!"}},{"$f":"IF('Races, Positions & Points'!#REF!=\"\",\"\",'Races, Positions & Points'!#REF!)","v":{"$error":"#REF!"}},{"$f":"IF('Races, Positions & Points'!#REF!=\"\",\"\",'Races, Positions & Points'!#REF!)","v":{"$error":"#REF!"}},{"$f":"IF('Races, Positions & Points'!#REF!=\"\",\"\",'Races, Positions & Points'!#REF!)","v":{"$error":"#REF!"}},{"$f":"IF('Races, Positions & Points'!#REF!=\"\",\"\",'Races, Positions & Points'!#REF!)","v":{"$error":"#REF!"}},{"$f":"IF('Races, Positions & Points'!#REF!=\"\",\"\",'Races, Positions & Points'!#REF!)","v":{"$error":"#REF!"}},{"$f":"IF('Races, Positions & Points'!#REF!=\"\",\"\",'Races, Positions & Points'!#REF!)","v":{"$error":"#REF!"}},{"$f":"IF('Races, Positions & Points'!#REF!=\"\",\"\",'Races, Positions & Points'!#REF!)","v":{"$error":"#REF!"}},{"$f":"IF('Races, Positions & Points'!#REF!=\"\",\"\",'Races, Positions & Points'!#REF!)","v":{"$error":"#REF!"}},{"$f":"IF('Races, Positions & Points'!#REF!=\"\",\"\",'Races, Positions & Points'!#REF!)","v":{"$error":"#REF!"}},{"$f":"IF('Races, Positions & Points'!#REF!=\"\",\"\",'Races, Positions & Points'!#REF!)","v":{"$error":"#REF!"}},{"$f":"IF('Races, Positions & Points'!#REF!=\"\",\"\",'Races, Positions & Points'!#REF!)","v":{"$error":"#REF!"}},{"$f":"IF('Races, Positions & Points'!#REF!=\"\",\"\",'Races, Positions & Points'!#REF!)","v":{"$error":"#REF!"}},{"$f":"IF('Races, Positions & Points'!#REF!=\"\",\"\",'Races, Positions & Points'!#REF!)","v":{"$error":"#REF!"}},{"$f":"IF('Races, Positions & Points'!#REF!=\"\",\"\",'Races, Positions & Points'!#REF!)","v":{"$error":"#REF!"}},{"$f":"IF('Races, Positions & Points'!#REF!=\"\",\"\",'Races, Positions & Points'!#REF!)","v":{"$error":"#REF!"}},{"$f":"IF('Races, Positions & Points'!#REF!=\"\",\"\",'Races, Positions & Points'!#REF!)","v":{"$error":"#REF!"}},{"$f":"IF('Races, Positions & Points'!#REF!=\"\",\"\",'Races, Positions & Points'!#REF!)","v":{"$error":"#REF!"}},{"$f":"IF('Races, Positions & Points'!#REF!=\"\",\"\",'Races, Positions & Points'!#REF!)","v":{"$error":"#REF!"}},{"$f":"IF('Races, Positions & Points'!#REF!=\"\",\"\",'Races, Positions & Points'!#REF!)","v":{"$error":"#REF!"}},{"$f":"IF('Races, Positions & Points'!#REF!=\"\",\"\",'Races, Positions & Points'!#REF!)","v":{"$error":"#REF!"}},{"$f":"IF('Races, Positions & Points'!#REF!=\"\",\"\",'Races, Positions & Points'!#REF!)","v":{"$error":"#REF!"}},{"$f":"IF('Races, Positions & Points'!#REF!=\"\",\"\",'Races, Positions & Points'!#REF!)","v":{"$error":"#REF!"}},null,{"$error":"#REF!"},{"$error":"#REF!"},{"$error":"#REF!"},{"$error":"#REF!"},{"$error":"#REF!"},{"$error":"#REF!"},null,{"$f":"'Races, Positions & Points'!#REF!","v":{"$error":"#REF!"}},{"$f":"'Races, Positions & Points'!#REF!","v":{"$error":"#REF!"}},{"$error":"#REF!"},"","",{"$error":"#REF!"},"",{"$error":"#REF!"},{"$error":"#REF!"},{"$error":"#REF!"},null,{"$error":"#REF!"},"","",{"$error":"#REF!"},"",{"$error":"#REF!"},{"$error":"#REF!"},{"$error":"#REF!"},null,{"$error":"#REF!"},{"$error":"#REF!"},{"$error":"#REF!"},{"$error":"#REF!"},{"$error":"#REF!"},{"$error":"#REF!"},{"$error":"#REF!"},{"$error":"#REF!"},{"$error":"#REF!"},{"$error":"#REF!"},{"$error":"#REF!"},{"$error":"#REF!"},{"$error":"#REF!"},{"$error":"#REF!"},{"$error":"#REF!"},{"$error":"#REF!"},null,{"$error":"#REF!"},"","","",null,{"$error":"#REF!"},"","","",null,{"$error":"#REF!"},{"$error":"#REF!"},{"$error":"#REF!"},{"$error":"#REF!"},{"$error":"#REF!"},{"$error":"#REF!"},{"$error":"#REF!"},{"$error":"#REF!"},{"$error":"#REF!"},{"$error":"#REF!"}]
[{"$f":"'Races, Positions & Points'!#REF!","v":{"$error":"#REF!"}},{"$f":"IF('Races, Positions & Points'!#REF!=\"\",\"\",'Races, Positions & Points'!#REF!)","v":{"$error":"#REF!"}},{"$f":"IF('Races, Positions & Points'!#REF!=\"\",\"\",'Races, Positions & Points'!#REF!)","v":{"$error":"#REF!"}},{"$f":"IF('Races, Positions & Points'!#REF!=\"\",\"\",'Races, Positions & Points'!#REF!)","v":{"$error":"#REF!"}},{"$f":"IF('Races, Positions & Points'!#REF!=\"\",\"\",'Races, Positions & Points'!#REF!)","v":{"$error":"#REF!"}},{"$f":"IF('Races, Positions & Points'!#REF!=\"\",\"\",'Races, Positions & Points'!#REF!)","v":{"$error":"#REF!"}},{"$f":"IF('Races, Positions & Points'!#REF!=\"\",\"\",'Races, Positions & Points'!#REF!)","v":{"$error":"#REF!"}},{"$f":"IF('Races, Positions & Points'!#REF!=\"\",\"\",'Races, Positions & Points'!#REF!)","v":{"$error":"#REF!"}},{"$f":"IF('Races, Positions & Points'!#REF!=\"\",\"\",'Races, Positions & Points'!#REF!)","v":{"$error":"#REF!"}},{"$f":"IF('Races, Positions & Points'!#REF!=\"\",\"\",'Races, Positions & Points'!#REF!)","v":{"$error":"#REF!"}},{"$f":"IF('Races, Positions & Points'!#REF!=\"\",\"\",'Races, Positions & Points'!#REF!)","v":{"$error":"#REF!"}},{"$f":"IF('Races, Positions & Points'!#REF!=\"\",\"\",'Races, Positions & Points'!#REF!)","v":{"$error":"#REF!"}},{"$f":"IF('Races, Positions & Points'!#REF!=\"\",\"\",'Races, Positions & Points'!#REF!)","v":{"$error":"#REF!"}},{"$f":"IF('Races, Positions & Points'!#REF!=\"\",\"\",'Races, Positions & Points'!#REF!)","v":{"$error":"#REF!"}},{"$f":"IF('Races, Positions & Points'!#REF!=\"\",\"\",'Races, Positions & Points'!#REF!)","v":{"$error":"#REF!"}},{"$f":"IF('Races, Positions & Points'!#REF!=\"\",\"\",'Races, Positions & Points'!#REF!)","v":{"$error":"#REF!"}},{"$f":"IF('Races, Positions & Points'!#REF!=\"\",\"\",'Races, Positions & Points'!#REF!)","v":{"$error":"#REF!"}},{"$f":"IF('Races, Positions & Points'!#REF!=\"\",\"\",'Races, Positions & Points'!#REF!)","v":{"$error":"#REF!"}},{"$f":"IF('Races, Positions & Points'!#REF!=\"\",\"\",'Races, Positions & Points'!#REF!)","v":{"$error":"#REF!"}},{"$f":"IF('Races, Positions & Points'!#REF!=\"\",\"\",'Races, Positions & Points'!#REF!)","v":{"$error":"#REF!"}},{"$f":"IF('Races, Positions & Points'!#REF!=\"\",\"\",'Races, Positions & Points'!#REF!)","v":{"$error":"#REF!"}},{"$f":"IF('Races, Positions & Points'!#REF!=\"\",\"\",'Races, Positions & Points'!#REF!)","v":{"$error":"#REF!"}},{"$f":"IF('Races, Positions & Points'!#REF!=\"\",\"\",'Races, Positions & Points'!#REF!)","v":{"$error":"#REF!"}},{"$f":"IF('Races, Positions & Points'!#REF!=\"\",\"\",'Races, Positions & Points'!#REF!)","v":{"$error":"#REF!"}},{"$f":"IF('Races, Positions & Points'!#REF!=\"\",\"\",'Races, Positions & Points'!#REF!)","v":{"$error":"#REF!"}},{"$f":"IF('Races, Positions & Points'!#REF!=\"\",\"\",'Races, Positions & Points'!#REF!)","v":{"$error":"#REF!"}},{"$f":"IF('Races, Positions & Points'!#REF!=\"\",\"\",'Races, Positions & Points'!#REF!)","v":{"$error":"#REF!"}},{"$f":"IF('Races, Positions & Points'!#REF!=\"\",\"\",'Races, Positions & Points'!#REF!)","v":{"$error":"#REF!"}},{"$f":"IF('Races, Positions & Points'!#REF!=\"\",\"\",'Races, Positions & Points'!#REF!)","v":{"$error":"#REF!"}},{"$f":"IF('Races, Positions & Points'!#REF!=\"\",\"\",'Races, Positions & Points'!#REF!)","v":{"$error":"#REF!"}},{"$f":"IF('Races, Positions & Points'!#REF!=\"\",\"\",'Races, Positions & Points'!#REF!)","v":{"$error":"#REF!"}},{"$f":"IF('Races, Positions & Points'!#REF!=\"\",\"\",'Races, Positions & Points'!#REF!)","v":{"$error":"#REF!"}},{"$f":"IF('Races, Positions & Points'!#REF!=\"\",\"\",'Races, Positions & Points'!#REF!)","v":{"$error":"#REF!"}},{"$f":"IF('Races, Positions & Points'!#REF!=\"\",\"\",'Races, Positions & Points'!#REF!)","v":{"$error":"#REF!"}},{"$f":"IF('Races, Positions & Points'!#REF!=\"\",\"\",'Races, Positions & Points'!#REF!)","v":{"$error":"#REF!"}},{"$f":"IF('Races, Positions & Points'!#REF!=\"\",\"\",'Races, Positions & Points'!#REF!)","v":{"$error":"#REF!"}},{"$f":"IF('Races, Positions & Points'!#REF!=\"\",\"\",'Races, Positions & Points'!#REF!)","v":{"$error":"#REF!"}},{"$f":"IF('Races, Positions & Points'!#REF!=\"\",\"\",'Races, Positions & Points'!#REF!)","v":{"$error":"#REF!"}},{"$f":"IF('Races, Positions & Points'!#REF!=\"\",\"\",'Races, Positions & Points'!#REF!)","v":{"$error":"#REF!"}},{"$f":"IF('Races, Positions & Points'!#REF!=\"\",\"\",'Races, Positions & Points'!#REF!)","v":{"$error":"#REF!"}},{"$f":"IF('Races, Positions & Points'!#REF!=\"\",\"\",'Races, Positions & Points'!#REF!)","v":{"$error":"#REF!"}},{"$f":"IF('Races, Positions & Points'!#REF!=\"\",\"\",'Races, Positions & Points'!#REF!)","v":{"$error":"#REF!"}},{"$f":"IF('Races, Positions & Points'!#REF!=\"\",\"\",'Races, Positions & Points'!#REF!)","v":{"$error":"#REF!"}},{"$f":"IF('Races, Positions & Points'!#REF!=\"\",\"\",'Races, Positions & Points'!#REF!)","v":{"$error":"#REF!"}},{"$f":"IF('Races, Positions & Points'!#REF!=\"\",\"\",'Races, Positions & Points'!#REF!)","v":{"$error":"#REF!"}},{"$f":"IF('Races, Positions & Points'!#REF!=\"\",\"\",'Races, Positions & Points'!#REF!)","v":{"$error":"#REF!"}},{"$f":"IF('Races, Positions & Points'!#REF!=\"\",\"\",'Races, Positions & Points'!#REF!)","v":{"$error":"#REF!"}},{"$f":"IF('Races, Positions & Points'!#REF!=\"\",\"\",'Races, Positions & Points'!#REF!)","v":{"$error":"#REF!"}},{"$f":"IF('Races, Positions & Points'!#REF!=\"\",\"\",'Races, Positions & Points'!#REF!)","v":{"$error":"#REF!"}},{"$f":"IF('Races, Positions & Points'!#REF!=\"\",\"\",'Races, Positions & Points'!#REF!)","v":{"$error":"#REF!"}},{"$f":"IF('Races, Positions & Points'!#REF!=\"\",\"\",'Races, Positions & Points'!#REF!)","v":{"$error":"#REF!"}},null,{"$error":"#REF!"},{"$error":"#REF!"},{"$error":"#REF!"},{"$error":"#REF!"},{"$error":"#REF!"},{"$error":"#REF!"},null,{"$f":"'Races, Positions & Points'!#REF!","v":{"$error":"#REF!"}},{"$f":"'Races, Positions & Points'!#REF!","v":{"$error":"#REF!"}},{"$error":"#REF!"},"","",{"$error":"#REF!"},"",{"$error":"#REF!"},{"$error":"#REF!"},{"$error":"#REF!"},null,{"$error":"#REF!"},"","",{"$error":"#REF!"},"",{"$error":"#REF!"},{"$error":"#REF!"},{"$error":"#REF!"},null,{"$error":"#REF!"},{"$error":"#REF!"},{"$error":"#REF!"},{"$error":"#REF!"},{"$error":"#REF!"},{"$error":"#REF!"},{"$error":"#REF!"},{"$error":"#REF!"},{"$error":"#REF!"},{"$error":"#REF!"},{"$error":"#REF!"},{"$error":"#REF!"},{"$error":"#REF!"},{"$error":"#REF!"},{"$error":"#REF!"},{"$error":"#REF!"},null,{"$error":"#REF!"},"","","",null,{"$error":"#REF!"},"","","",null,{"$error":"#REF!"},{"$error":"#REF!"},{"$error":"#REF!"},{"$error":"#REF!"},{"$error":"#REF!"},{"$error":"#REF!"},{"$error":"#REF!"},{"$error":"#REF!"},{"$error":"#REF!"},{"$error":"#REF!"}]
[{"$f":"'Races, Positions & Points'!#REF!","v":{"$error":"#REF!"}},{"$f":"IF('Races, Positions & Points'!#REF!=\"\",\"\",'Races, Positions & Points'!#REF!)","v":{"$error":"#REF!"}},{"$f":"IF('Races, Positions & Points'!#REF!=\"\",\"\",'Races, Positions & Points'!#REF!)","v":{"$error":"#REF!"}},{"$f":"IF('Races, Positions & Points'!#REF!=\"\",\"\",'Races, Positions & Points'!#REF!)","v":{"$error":"#REF!"}},{"$f":"IF('Races, Positions & Points'!#REF!=\"\",\"\",'Races, Positions & Points'!#REF!)","v":{"$error":"#REF!"}},{"$f":"IF('Races, Positions & Points'!#REF!=\"\",\"\",'Races, Positions & Points'!#REF!)","v":{"$error":"#REF!"}},{"$f":"IF('Races, Positions & Points'!#REF!=\"\",\"\",'Races, Positions & Points'!#REF!)","v":{"$error":"#REF!"}},{"$f":"IF('Races, Positions & Points'!#REF!=\"\",\"\",'Races, Positions & Points'!#REF!)","v":{"$error":"#REF!"}},{"$f":"IF('Races, Positions & Points'!#REF!=\"\",\"\",'Races, Positions & Points'!#REF!)","v":{"$error":"#REF!"}},{"$f":"IF('Races, Positions & Points'!#REF!=\"\",\"\",'Races, Positions & Points'!#REF!)","v":{"$error":"#REF!"}},{"$f":"IF('Races, Positions & Points'!#REF!=\"\",\"\",'Races, Positions & Points'!#REF!)","v":{"$error":"#REF!"}},{"$f":"IF('Races, Positions & Points'!#REF!=\"\",\"\",'Races, Positions & Points'!#REF!)","v":{"$error":"#REF!"}},{"$f":"IF('Races, Positions & Points'!#REF!=\"\",\"\",'Races, Positions & Points'!#REF!)","v":{"$error":"#REF!"}},{"$f":"IF('Races, Positions & Points'!#REF!=\"\",\"\",'Races, Positions & Points'!#REF!)","v":{"$error":"#REF!"}},{"$f":"IF('Races, Positions & Points'!#REF!=\"\",\"\",'Races, Positions & Points'!#REF!)","v":{"$error":"#REF!"}},{"$f":"IF('Races, Positions & Points'!#REF!=\"\",\"\",'Races, Positions & Points'!#REF!)","v":{"$error":"#REF!"}},{"$f":"IF('Races, Positions & Points'!#REF!=\"\",\"\",'Races, Positions & Points'!#REF!)","v":{"$error":"#REF!"}},{"$f":"IF('Races, Positions & Points'!#REF!=\"\",\"\",'Races, Positions & Points'!#REF!)","v":{"$error":"#REF!"}},{"$f":"IF('Races, Positions & Points'!#REF!=\"\",\"\",'Races, Positions & Points'!#REF!)","v":{"$error":"#REF!"}},{"$f":"IF('Races, Positions & Points'!#REF!=\"\",\"\",'Races, Positions & Points'!#REF!)","v":{"$error":"#REF!"}},{"$f":"IF('Races, Positions & Points'!#REF!=\"\",\"\",'Races, Positions & Points'!#REF!)","v":{"$error":"#REF!"}},{"$f":"IF('Races, Positions & Points'!#REF!=\"\",\"\",'Races, Positions & Points'!#REF!)","v":{"$error":"#REF!"}},{"$f":"IF('Races, Positions & Points'!#REF!=\"\",\"\",'Races, Positions & Points'!#REF!)","v":{"$error":"#REF!"}},{"$f":"IF('Races, Positions & Points'!#REF!=\"\",\"\",'Races, Positions & Points'!#REF!)","v":{"$error":"#REF!"}},{"$f":"IF('Races, Positions & Points'!#REF!=\"\",\"\",'Races, Positions & Points'!#REF!)","v":{"$error":"#REF!"}},{"$f":"IF('Races, Positions & Points'!#REF!=\"\",\"\",'Races, Positions & Points'!#REF!)","v":{"$error":"#REF!"}},{"$f":"IF('Races, Positions & Points'!#REF!=\"\",\"\",'Races, Positions & Points'!#REF!)","v":{"$error":"#REF!"}},{"$f":"IF('Races, Positions & Points'!#REF!=\"\",\"\",'Races, Positions & Points'!#REF!)","v":{"$error":"#REF!"}},{"$f":"IF('Races, Positions & Points'!#REF!=\"\",\"\",'Races, Positions & Points'!#REF!)","v":{"$error":"#REF!"}},{"$f":"IF('Races, Positions & Points'!#REF!=\"\",\"\",'Races, Positions & Points'!#REF!)","v":{"$error":"#REF!"}},{"$f":"IF('Races, Positions & Points'!#REF!=\"\",\"\",'Races, Positions & Points'!#REF!)","v":{"$error":"#REF!"}},{"$f":"IF('Races, Positions & Points'!#REF!=\"\",\"\",'Races, Positions & Points'!#REF!)","v":{"$error":"#REF!"}},{"$f":"IF('Races, Positions & Points'!#REF!=\"\",\"\",'Races, Positions & Points'!#REF!)","v":{"$error":"#REF!"}},{"$f":"IF('Races, Positions & Points'!#REF!=\"\",\"\",'Races, Positions & Points'!#REF!)","v":{"$error":"#REF!"}},{"$f":"IF('Races, Positions & Points'!#REF!=\"\",\"\",'Races, Positions & Points'!#REF!)","v":{"$error":"#REF!"}},{"$f":"IF('Races, Positions & Points'!#REF!=\"\",\"\",'Races, Positions & Points'!#REF!)","v":{"$error":"#REF!"}},{"$f":"IF('Races, Positions & Points'!#REF!=\"\",\"\",'Races, Positions & Points'!#REF!)","v":{"$error":"#REF!"}},{"$f":"IF('Races, Positions & Points'!#REF!=\"\",\"\",'Races, Positions & Points'!#REF!)","v":{"$error":"#REF!"}},{"$f":"IF('Races, Positions & Points'!#REF!=\"\",\"\",'Races, Positions & Points'!#REF!)","v":{"$error":"#REF!"}},{"$f":"IF('Races, Positions & Points'!#REF!=\"\",\"\",'Races, Positions & Points'!#REF!)","v":{"$error":"#REF!"}},{"$f":"IF('Races, Positions & Points'!#REF!=\"\",\"\",'Races, Positions & Points'!#REF!)","v":{"$error":"#REF!"}},{"$f":"IF('Races, Positions & Points'!#REF!=\"\",\"\",'Races, Positions & Points'!#REF!)","v":{"$error":"#REF!"}},{"$f":"IF('Races, Positions & Points'!#REF!=\"\",\"\",'Races, Positions & Points'!#REF!)","v":{"$error":"#REF!"}},{"$f":"IF('Races, Positions & Points'!#REF!=\"\",\"\",'Races, Positions & Points'!#REF!)","v":{"$error":"#REF!"}},{"$f":"IF('Races, Positions & Points'!#REF!=\"\",\"\",'Races, Positions & Points'!#REF!)","v":{"$error":"#REF!"}},{"$f":"IF('Races, Positions & Points'!#REF!=\"\",\"\",'Races, Positions & Points'!#REF!)","v":{"$error":"#REF!"}},{"$f":"IF('Races, Positions & Points'!#REF!=\"\",\"\",'Races, Positions & Points'!#REF!)","v":{"$error":"#REF!"}},{"$f":"IF('Races, Positions & Points'!#REF!=\"\",\"\",'Races, Positions & Points'!#REF!)","v":{"$error":"#REF!"}},{"$f":"IF('Races, Positions & Points'!#REF!=\"\",\"\",'Races, Positions & Points'!#REF!)","v":{"$error":"#REF!"}},{"$f":"IF('Races, Positions & Points'!#REF!=\"\",\"\",'Races, Positions & Points'!#REF!)","v":{"$error":"#REF!"}},{"$f":"IF('Races, Positions & Points'!#REF!=\"\",\"\",'Races, Positions & Points'!#REF!)","v":{"$error":"#REF!"}},null,{"$error":"#REF!"},{"$error":"#REF!"},{"$error":"#REF!"},{"$error":"#REF!"},{"$error":"#REF!"},{"$error":"#REF!"},null,{"$f":"'Races, Positions & Points'!#REF!","v":{"$error":"#REF!"}},{"$f":"'Races, Positions & Points'!#REF!","v":{"$error":"#REF!"}},{"$error":"#REF!"},"","",{"$error":"#REF!"},"",{"$error":"#REF!"},{"$error":"#REF!"},{"$error":"#REF!"},null,{"$error":"#REF!"},"","",{"$error":"#REF!"},"",{"$error":"#REF!"},{"$error":"#REF!"},{"$error":"#REF!"},null,{"$error":"#REF!"},{"$error":"#REF!"},{"$error":"#REF!"},{"$error":"#REF!"},{"$error":"#REF!"},{"$error":"#REF!"},{"$error":"#REF!"},{"$error":"#REF!"},{"$error":"#REF!"},{"$error":"#REF!"},{"$error":"#REF!"},{"$error":"#REF!"},{"$error":"#REF!"},{"$error":"#REF!"},{"$error":"#REF!"},{"$error":"#REF!"},null,{"$error":"#REF!"},"","","",null,{"$error":"#REF!"},"","","",null,{"$error":"#REF!"},{"$error":"#REF!"},{"$error":"#REF!"},{"$error":"#REF!"},{"$error":"#REF!"},{"$error":"#REF!"},{"$error":"#REF!"},{"$error":"#REF!"},{"$error":"#REF!"},{"$error":"#REF!"}]
[{"$f":"'Races, Positions & Points'!#REF!","v":{"$error":"#REF!"}},{"$f":"IF('Races, Positions & Points'!#REF!=\"\",\"\",'Races, Positions & Points'!#REF!)","v":{"$error":"#REF!"}},{"$f":"IF('Races, Positions & Points'!#REF!=\"\",\"\",'Races, Positions & Points'!#REF!)","v":{"$error":"#REF!"}},{"$f":"IF('Races, Positions & Points'!#REF!=\"\",\"\",'Races, Positions & Points'!#REF!)","v":{"$error":"#REF!"}},{"$f":"IF('Races, Positions & Points'!#REF!=\"\",\"\",'Races, Positions & Points'!#REF!)","v":{"$error":"#REF!"}},{"$f":"IF('Races, Positions & Points'!#REF!=\"\",\"\",'Races, Positions & Points'!#REF!)","v":{"$error":"#REF!"}},{"$f":"IF('Races, Positions & Points'!#REF!=\"\",\"\",'Races, Positions & Points'!#REF!)","v":{"$error":"#REF!"}},{"$f":"IF('Races, Positions & Points'!#REF!=\"\",\"\",'Races, Positions & Points'!#REF!)","v":{"$error":"#REF!"}},{"$f":"IF('Races, Positions & Points'!#REF!=\"\",\"\",'Races, Positions & Points'!#REF!)","v":{"$error":"#REF!"}},{"$f":"IF('Races, Positions & Points'!#REF!=\"\",\"\",'Races, Positions & Points'!#REF!)","v":{"$error":"#REF!"}},{"$f":"IF('Races, Positions & Points'!#REF!=\"\",\"\",'Races, Positions & Points'!#REF!)","v":{"$error":"#REF!"}},{"$f":"IF('Races, Positions & Points'!#REF!=\"\",\"\",'Races, Positions & Points'!#REF!)","v":{"$error":"#REF!"}},{"$f":"IF('Races, Positions & Points'!#REF!=\"\",\"\",'Races, Positions & Points'!#REF!)","v":{"$error":"#REF!"}},{"$f":"IF('Races, Positions & Points'!#REF!=\"\",\"\",'Races, Positions & Points'!#REF!)","v":{"$error":"#REF!"}},{"$f":"IF('Races, Positions & Points'!#REF!=\"\",\"\",'Races, Positions & Points'!#REF!)","v":{"$error":"#REF!"}},{"$f":"IF('Races, Positions & Points'!#REF!=\"\",\"\",'Races, Positions & Points'!#REF!)","v":{"$error":"#REF!"}},{"$f":"IF('Races, Positions & Points'!#REF!=\"\",\"\",'Races, Positions & Points'!#REF!)","v":{"$error":"#REF!"}},{"$f":"IF('Races, Positions & Points'!#REF!=\"\",\"\",'Races, Positions & Points'!#REF!)","v":{"$error":"#REF!"}},{"$f":"IF('Races, Positions & Points'!#REF!=\"\",\"\",'Races, Positions & Points'!#REF!)","v":{"$error":"#REF!"}},{"$f":"IF('Races, Positions & Points'!#REF!=\"\",\"\",'Races, Positions & Points'!#REF!)","v":{"$error":"#REF!"}},{"$f":"IF('Races, Positions & Points'!#REF!=\"\",\"\",'Races, Positions & Points'!#REF!)","v":{"$error":"#REF!"}},{"$f":"IF('Races, Positions & Points'!#REF!=\"\",\"\",'Races, Positions & Points'!#REF!)","v":{"$error":"#REF!"}},{"$f":"IF('Races, Positions & Points'!#REF!=\"\",\"\",'Races, Positions & Points'!#REF!)","v":{"$error":"#REF!"}},{"$f":"IF('Races, Positions & Points'!#REF!=\"\",\"\",'Races, Positions & Points'!#REF!)","v":{"$error":"#REF!"}},{"$f":"IF('Races, Positions & Points'!#REF!=\"\",\"\",'Races, Positions & Points'!#REF!)","v":{"$error":"#REF!"}},{"$f":"IF('Races, Positions & Points'!#REF!=\"\",\"\",'Races, Positions & Points'!#REF!)","v":{"$error":"#REF!"}},{"$f":"IF('Races, Positions & Points'!#REF!=\"\",\"\",'Races, Positions & Points'!#REF!)","v":{"$error":"#REF!"}},{"$f":"IF('Races, Positions & Points'!#REF!=\"\",\"\",'Races, Positions & Points'!#REF!)","v":{"$error":"#REF!"}},{"$f":"IF('Races, Positions & Points'!#REF!=\"\",\"\",'Races, Positions & Points'!#REF!)","v":{"$error":"#REF!"}},{"$f":"IF('Races, Positions & Points'!#REF!=\"\",\"\",'Races, Positions & Points'!#REF!)","v":{"$error":"#REF!"}},{"$f":"IF('Races, Positions & Points'!#REF!=\"\",\"\",'Races, Positions & Points'!#REF!)","v":{"$error":"#REF!"}},{"$f":"IF('Races, Positions & Points'!#REF!=\"\",\"\",'Races, Positions & Points'!#REF!)","v":{"$error":"#REF!"}},{"$f":"IF('Races, Positions & Points'!#REF!=\"\",\"\",'Races, Positions & Points'!#REF!)","v":{"$error":"#REF!"}},{"$f":"IF('Races, Positions & Points'!#REF!=\"\",\"\",'Races, Positions & Points'!#REF!)","v":{"$error":"#REF!"}},{"$f":"IF('Races, Positions & Points'!#REF!=\"\",\"\",'Races, Positions & Points'!#REF!)","v":{"$error":"#REF!"}},{"$f":"IF('Races, Positions & Points'!#REF!=\"\",\"\",'Races, Positions & Points'!#REF!)","v":{"$error":"#REF!"}},{"$f":"IF('Races, Positions & Points'!#REF!=\"\",\"\",'Races, Positions & Points'!#REF!)","v":{"$error":"#REF!"}},{"$f":"IF('Races, Positions & Points'!#REF!=\"\",\"\",'Races, Positions & Points'!#REF!)","v":{"$error":"#REF!"}},{"$f":"IF('Races, Positions & Points'!#REF!=\"\",\"\",'Races, Positions & Points'!#REF!)","v":{"$error":"#REF!"}},{"$f":"IF('Races, Positions & Points'!#REF!=\"\",\"\",'Races, Positions & Points'!#REF!)","v":{"$error":"#REF!"}},{"$f":"IF('Races, Positions & Points'!#REF!=\"\",\"\",'Races, Positions & Points'!#REF!)","v":{"$error":"#REF!"}},{"$f":"IF('Races, Positions & Points'!#REF!=\"\",\"\",'Races, Positions & Points'!#REF!)","v":{"$error":"#REF!"}},{"$f":"IF('Races, Positions & Points'!#REF!=\"\",\"\",'Races, Positions & Points'!#REF!)","v":{"$error":"#REF!"}},{"$f":"IF('Races, Positions & Points'!#REF!=\"\",\"\",'Races, Positions & Points'!#REF!)","v":{"$error":"#REF!"}},{"$f":"IF('Races, Positions & Points'!#REF!=\"\",\"\",'Races, Positions & Points'!#REF!)","v":{"$error":"#REF!"}},{"$f":"IF('Races, Positions & Points'!#REF!=\"\",\"\",'Races, Positions & Points'!#REF!)","v":{"$error":"#REF!"}},{"$f":"IF('Races, Positions & Points'!#REF!=\"\",\"\",'Races, Positions & Points'!#REF!)","v":{"$error":"#REF!"}},{"$f":"IF('Races, Positions & Points'!#REF!=\"\",\"\",'Races, Positions & Points'!#REF!)","v":{"$error":"#REF!"}},{"$f":"IF('Races, Positions & Points'!#REF!=\"\",\"\",'Races, Positions & Points'!#REF!)","v":{"$error":"#REF!"}},{"$f":"IF('Races, Positions & Points'!#REF!=\"\",\"\",'Races, Positions & Points'!#REF!)","v":{"$error":"#REF!"}},{"$f":"IF('Races, Positions & Points'!#REF!=\"\",\"\",'Races, Positions & Points'!#REF!)","v":{"$error":"#REF!"}},null,{"$error":"#REF!"},{"$error":"#REF!"},{"$error":"#REF!"},{"$error":"#REF!"},{"$error":"#REF!"},{"$error":"#REF!"},null,{"$f":"'Races, Positions & Points'!#REF!","v":{"$error":"#REF!"}},{"$f":"'Races, Positions & Points'!#REF!","v":{"$error":"#REF!"}},{"$error":"#REF!"},"","",{"$error":"#REF!"},"",{"$error":"#REF!"},{"$error":"#REF!"},{"$error":"#REF!"},null,{"$error":"#REF!"},"","",{"$error":"#REF!"},"",{"$error":"#REF!"},{"$error":"#REF!"},{"$error":"#REF!"},null,{"$error":"#REF!"},{"$error":"#REF!"},{"$error":"#REF!"},{"$error":"#REF!"},{"$error":"#REF!"},{"$error":"#REF!"},{"$error":"#REF!"},{"$error":"#REF!"},{"$error":"#REF!"},{"$error":"#REF!"},{"$error":"#REF!"},{"$error":"#REF!"},{"$error":"#REF!"},{"$error":"#REF!"},{"$error":"#REF!"},{"$error":"#REF!"},null,{"$error":"#REF!"},"","","",null,{"$error":"#REF!"},"","","",null,{"$error":"#REF!"},{"$error":"#REF!"},{"$error":"#REF!"},{"$error":"#REF!"},{"$error":"#REF!"},{"$error":"#REF!"},{"$error":"#REF!"},{"$error":"#REF!"},{"$error":"#REF!"},{"$error":"#REF!"}]
[{"$f":"'Races, Positions & Points'!#REF!","v":{"$error":"#REF!"}},{"$f":"IF('Races, Positions & Points'!#REF!=\"\",\"\",'Races, Positions & Points'!#REF!)","v":{"$error":"#REF!"}},{"$f":"IF('Races, Positions & Points'!#REF!=\"\",\"\",'Races, Positions & Points'!#REF!)","v":{"$error":"#REF!"}},{"$f":"IF('Races, Positions & Points'!#REF!=\"\",\"\",'Races, Positions & Points'!#REF!)","v":{"$error":"#REF!"}},{"$f":"IF('Races, Positions & Points'!#REF!=\"\",\"\",'Races, Positions & Points'!#REF!)","v":{"$error":"#REF!"}},{"$f":"IF('Races, Positions & Points'!#REF!=\"\",\"\",'Races, Positions & Points'!#REF!)","v":{"$error":"#REF!"}},{"$f":"IF('Races, Positions & Points'!#REF!=\"\",\"\",'Races, Positions & Points'!#REF!)","v":{"$error":"#REF!"}},{"$f":"IF('Races, Positions & Points'!#REF!=\"\",\"\",'Races, Positions & Points'!#REF!)","v":{"$error":"#REF!"}},{"$f":"IF('Races, Positions & Points'!#REF!=\"\",\"\",'Races, Positions & Points'!#REF!)","v":{"$error":"#REF!"}},{"$f":"IF('Races, Positions & Points'!#REF!=\"\",\"\",'Races, Positions & Points'!#REF!)","v":{"$error":"#REF!"}},{"$f":"IF('Races, Positions & Points'!#REF!=\"\",\"\",'Races, Positions & Points'!#REF!)","v":{"$error":"#REF!"}},{"$f":"IF('Races, Positions & Points'!#REF!=\"\",\"\",'Races, Positions & Points'!#REF!)","v":{"$error":"#REF!"}},{"$f":"IF('Races, Positions & Points'!#REF!=\"\",\"\",'Races, Positions & Points'!#REF!)","v":{"$error":"#REF!"}},{"$f":"IF('Races, Positions & Points'!#REF!=\"\",\"\",'Races, Positions & Points'!#REF!)","v":{"$error":"#REF!"}},{"$f":"IF('Races, Positions & Points'!#REF!=\"\",\"\",'Races, Positions & Points'!#REF!)","v":{"$error":"#REF!"}},{"$f":"IF('Races, Positions & Points'!#REF!=\"\",\"\",'Races, Positions & Points'!#REF!)","v":{"$error":"#REF!"}},{"$f":"IF('Races, Positions & Points'!#REF!=\"\",\"\",'Races, Positions & Points'!#REF!)","v":{"$error":"#REF!"}},{"$f":"IF('Races, Positions & Points'!#REF!=\"\",\"\",'Races, Positions & Points'!#REF!)","v":{"$error":"#REF!"}},{"$f":"IF('Races, Positions & Points'!#REF!=\"\",\"\",'Races, Positions & Points'!#REF!)","v":{"$error":"#REF!"}},{"$f":"IF('Races, Positions & Points'!#REF!=\"\",\"\",'Races, Positions & Points'!#REF!)","v":{"$error":"#REF!"}},{"$f":"IF('Races, Positions & Points'!#REF!=\"\",\"\",'Races, Positions & Points'!#REF!)","v":{"$error":"#REF!"}},{"$f":"IF('Races, Positions & Points'!#REF!=\"\",\"\",'Races, Positions & Points'!#REF!)","v":{"$error":"#REF!"}},{"$f":"IF('Races, Positions & Points'!#REF!=\"\",\"\",'Races, Positions & Points'!#REF!)","v":{"$error":"#REF!"}},{"$f":"IF('Races, Positions & Points'!#REF!=\"\",\"\",'Races, Positions & Points'!#REF!)","v":{"$error":"#REF!"}},{"$f":"IF('Races, Positions & Points'!#REF!=\"\",\"\",'Races, Positions & Points'!#REF!)","v":{"$error":"#REF!"}},{"$f":"IF('Races, Positions & Points'!#REF!=\"\",\"\",'Races, Positions & Points'!#REF!)","v":{"$error":"#REF!"}},{"$f":"IF('Races, Positions & Points'!#REF!=\"\",\"\",'Races, Positions & Points'!#REF!)","v":{"$error":"#REF!"}},{"$f":"IF('Races, Positions & Points'!#REF!=\"\",\"\",'Races, Positions & Points'!#REF!)","v":{"$error":"#REF!"}},{"$f":"IF('Races, Positions & Points'!#REF!=\"\",\"\",'Races, Positions & Points'!#REF!)","v":{"$error":"#REF!"}},{"$f":"IF('Races, Positions & Points'!#REF!=\"\",\"\",'Races, Positions & Points'!#REF!)","v":{"$error":"#REF!"}},{"$f":"IF('Races, Positions & Points'!#REF!=\"\",\"\",'Races, Positions & Points'!#REF!)","v":{"$error":"#REF!"}},{"$f":"IF('Races, Positions & Points'!#REF!=\"\",\"\",'Races, Positions & Points'!#REF!)","v":{"$error":"#REF!"}},{"$f":"IF('Races, Positions & Points'!#REF!=\"\",\"\",'Races, Positions & Points'!#REF!)","v":{"$error":"#REF!"}},{"$f":"IF('Races, Positions & Points'!#REF!=\"\",\"\",'Races, Positions & Points'!#REF!)","v":{"$error":"#REF!"}},{"$f":"IF('Races, Positions & Points'!#REF!=\"\",\"\",'Races, Positions & Points'!#REF!)","v":{"$error":"#REF!"}},{"$f":"IF('Races, Positions & Points'!#REF!=\"\",\"\",'Races, Positions & Points'!#REF!)","v":{"$error":"#REF!"}},{"$f":"IF('Races, Positions & Points'!#REF!=\"\",\"\",'Races, Positions & Points'!#REF!)","v":{"$error":"#REF!"}},{"$f":"IF('Races, Positions & Points'!#REF!=\"\",\"\",'Races, Positions & Points'!#REF!)","v":{"$error":"#REF!"}},{"$f":"IF('Races, Positions & Points'!#REF!=\"\",\"\",'Races, Positions & Points'!#REF!)","v":{"$error":"#REF!"}},{"$f":"IF('Races, Positions & Points'!#REF!=\"\",\"\",'Races, Positions & Points'!#REF!)","v":{"$error":"#REF!"}},{"$f":"IF('Races, Positions & Points'!#REF!=\"\",\"\",'Races, Positions & Points'!#REF!)","v":{"$error":"#REF!"}},{"$f":"IF('Races, Positions & Points'!#REF!=\"\",\"\",'Races, Positions & Points'!#REF!)","v":{"$error":"#REF!"}},{"$f":"IF('Races, Positions & Points'!#REF!=\"\",\"\",'Races, Positions & Points'!#REF!)","v":{"$error":"#REF!"}},{"$f":"IF('Races, Positions & Points'!#REF!=\"\",\"\",'Races, Positions & Points'!#REF!)","v":{"$error":"#REF!"}},{"$f":"IF('Races, Positions & Points'!#REF!=\"\",\"\",'Races, Positions & Points'!#REF!)","v":{"$error":"#REF!"}},{"$f":"IF('Races, Positions & Points'!#REF!=\"\",\"\",'Races, Positions & Points'!#REF!)","v":{"$error":"#REF!"}},{"$f":"IF('Races, Positions & Points'!#REF!=\"\",\"\",'Races, Positions & Points'!#REF!)","v":{"$error":"#REF!"}},{"$f":"IF('Races, Positions & Points'!#REF!=\"\",\"\",'Races, Positions & Points'!#REF!)","v":{"$error":"#REF!"}},{"$f":"IF('Races, Positions & Points'!#REF!=\"\",\"\",'Races, Positions & Points'!#REF!)","v":{"$error":"#REF!"}},{"$f":"IF('Races, Positions & Points'!#REF!=\"\",\"\",'Races, Positions & Points'!#REF!)","v":{"$error":"#REF!"}},{"$f":"IF('Races, Positions & Points'!#REF!=\"\",\"\",'Races, Positions & Points'!#REF!)","v":{"$error":"#REF!"}},null,{"$error":"#REF!"},{"$error":"#REF!"},{"$error":"#REF!"},{"$error":"#REF!"},{"$error":"#REF!"},{"$error":"#REF!"},null,{"$f":"'Races, Positions & Points'!#REF!","v":{"$error":"#REF!"}},{"$f":"'Races, Positions & Points'!#REF!","v":{"$error":"#REF!"}},{"$error":"#REF!"},"","",{"$error":"#REF!"},"",{"$error":"#REF!"},{"$error":"#REF!"},{"$error":"#REF!"},null,{"$error":"#REF!"},"","",{"$error":"#REF!"},"",{"$error":"#REF!"},{"$error":"#REF!"},{"$error":"#REF!"},null,{"$error":"#REF!"},{"$error":"#REF!"},{"$error":"#REF!"},{"$error":"#REF!"},{"$error":"#REF!"},{"$error":"#REF!"},{"$error":"#REF!"},{"$error":"#REF!"},{"$error":"#REF!"},{"$error":"#REF!"},{"$error":"#REF!"},{"$error":"#REF!"},{"$error":"#REF!"},{"$error":"#REF!"},{"$error":"#REF!"},{"$error":"#REF!"},null,{"$error":"#REF!"},"","","",null,{"$error":"#REF!"},"","","",null,{"$error":"#REF!"},{"$error":"#REF!"},{"$error":"#REF!"},{"$error":"#REF!"},{"$error":"#REF!"},{"$error":"#REF!"},{"$error":"#REF!"},{"$error":"#REF!"},{"$error":"#REF!"},{"$error":"#REF!"}]
[{"$f":"'Races, Positions & Points'!#REF!","v":{"$error":"#REF!"}},{"$f":"IF('Races, Positions & Points'!#REF!=\"\",\"\",'Races, Positions & Points'!#REF!)","v":{"$error":"#REF!"}},{"$f":"IF('Races, Positions & Points'!#REF!=\"\",\"\",'Races, Positions & Points'!#REF!)","v":{"$error":"#REF!"}},{"$f":"IF('Races, Positions & Points'!#REF!=\"\",\"\",'Races, Positions & Points'!#REF!)","v":{"$error":"#REF!"}},{"$f":"IF('Races, Positions & Points'!#REF!=\"\",\"\",'Races, Positions & Points'!#REF!)","v":{"$error":"#REF!"}},{"$f":"IF('Races, Positions & Points'!#REF!=\"\",\"\",'Races, Positions & Points'!#REF!)","v":{"$error":"#REF!"}},{"$f":"IF('Races, Positions & Points'!#REF!=\"\",\"\",'Races, Positions & Points'!#REF!)","v":{"$error":"#REF!"}},{"$f":"IF('Races, Positions & Points'!#REF!=\"\",\"\",'Races, Positions & Points'!#REF!)","v":{"$error":"#REF!"}},{"$f":"IF('Races, Positions & Points'!#REF!=\"\",\"\",'Races, Positions & Points'!#REF!)","v":{"$error":"#REF!"}},{"$f":"IF('Races, Positions & Points'!#REF!=\"\",\"\",'Races, Positions & Points'!#REF!)","v":{"$error":"#REF!"}},{"$f":"IF('Races, Positions & Points'!#REF!=\"\",\"\",'Races, Positions & Points'!#REF!)","v":{"$error":"#REF!"}},{"$f":"IF('Races, Positions & Points'!#REF!=\"\",\"\",'Races, Positions & Points'!#REF!)","v":{"$error":"#REF!"}},{"$f":"IF('Races, Positions & Points'!#REF!=\"\",\"\",'Races, Positions & Points'!#REF!)","v":{"$error":"#REF!"}},{"$f":"IF('Races, Positions & Points'!#REF!=\"\",\"\",'Races, Positions & Points'!#REF!)","v":{"$error":"#REF!"}},{"$f":"IF('Races, Positions & Points'!#REF!=\"\",\"\",'Races, Positions & Points'!#REF!)","v":{"$error":"#REF!"}},{"$f":"IF('Races, Positions & Points'!#REF!=\"\",\"\",'Races, Positions & Points'!#REF!)","v":{"$error":"#REF!"}},{"$f":"IF('Races, Positions & Points'!#REF!=\"\",\"\",'Races, Positions & Points'!#REF!)","v":{"$error":"#REF!"}},{"$f":"IF('Races, Positions & Points'!#REF!=\"\",\"\",'Races, Positions & Points'!#REF!)","v":{"$error":"#REF!"}},{"$f":"IF('Races, Positions & Points'!#REF!=\"\",\"\",'Races, Positions & Points'!#REF!)","v":{"$error":"#REF!"}},{"$f":"IF('Races, Positions & Points'!#REF!=\"\",\"\",'Races, Positions & Points'!#REF!)","v":{"$error":"#REF!"}},{"$f":"IF('Races, Positions & Points'!#REF!=\"\",\"\",'Races, Positions & Points'!#REF!)","v":{"$error":"#REF!"}},{"$f":"IF('Races, Positions & Points'!#REF!=\"\",\"\",'Races, Positions & Points'!#REF!)","v":{"$error":"#REF!"}},{"$f":"IF('Races, Positions & Points'!#REF!=\"\",\"\",'Races, Positions & Points'!#REF!)","v":{"$error":"#REF!"}},{"$f":"IF('Races, Positions & Points'!#REF!=\"\",\"\",'Races, Positions & Points'!#REF!)","v":{"$error":"#REF!"}},{"$f":"IF('Races, Positions & Points'!#REF!=\"\",\"\",'Races, Positions & Points'!#REF!)","v":{"$error":"#REF!"}},{"$f":"IF('Races, Positions & Points'!#REF!=\"\",\"\",'Races, Positions & Points'!#REF!)","v":{"$error":"#REF!"}},{"$f":"IF('Races, Positions & Points'!#REF!=\"\",\"\",'Races, Positions & Points'!#REF!)","v":{"$error":"#REF!"}},{"$f":"IF('Races, Positions & Points'!#REF!=\"\",\"\",'Races, Positions & Points'!#REF!)","v":{"$error":"#REF!"}},{"$f":"IF('Races, Positions & Points'!#REF!=\"\",\"\",'Races, Positions & Points'!#REF!)","v":{"$error":"#REF!"}},{"$f":"IF('Races, Positions & Points'!#REF!=\"\",\"\",'Races, Positions & Points'!#REF!)","v":{"$error":"#REF!"}},{"$f":"IF('Races, Positions & Points'!#REF!=\"\",\"\",'Races, Positions & Points'!#REF!)","v":{"$error":"#REF!"}},{"$f":"IF('Races, Positions & Points'!#REF!=\"\",\"\",'Races, Positions & Points'!#REF!)","v":{"$error":"#REF!"}},{"$f":"IF('Races, Positions & Points'!#REF!=\"\",\"\",'Races, Positions & Points'!#REF!)","v":{"$error":"#REF!"}},{"$f":"IF('Races, Positions & Points'!#REF!=\"\",\"\",'Races, Positions & Points'!#REF!)","v":{"$error":"#REF!"}},{"$f":"IF('Races, Positions & Points'!#REF!=\"\",\"\",'Races, Positions & Points'!#REF!)","v":{"$error":"#REF!"}},{"$f":"IF('Races, Positions & Points'!#REF!=\"\",\"\",'Races, Positions & Points'!#REF!)","v":{"$error":"#REF!"}},{"$f":"IF('Races, Positions & Points'!#REF!=\"\",\"\",'Races, Positions & Points'!#REF!)","v":{"$error":"#REF!"}},{"$f":"IF('Races, Positions & Points'!#REF!=\"\",\"\",'Races, Positions & Points'!#REF!)","v":{"$error":"#REF!"}},{"$f":"IF('Races, Positions & Points'!#REF!=\"\",\"\",'Races, Positions & Points'!#REF!)","v":{"$error":"#REF!"}},{"$f":"IF('Races, Positions & Points'!#REF!=\"\",\"\",'Races, Positions & Points'!#REF!)","v":{"$error":"#REF!"}},{"$f":"IF('Races, Positions & Points'!#REF!=\"\",\"\",'Races, Positions & Points'!#REF!)","v":{"$error":"#REF!"}},{"$f":"IF('Races, Positions & Points'!#REF!=\"\",\"\",'Races, Positions & Points'!#REF!)","v":{"$error":"#REF!"}},{"$f":"IF('Races, Positions & Points'!#REF!=\"\",\"\",'Races, Positions & Points'!#REF!)","v":{"$error":"#REF!"}},{"$f":"IF('Races, Positions & Points'!#REF!=\"\",\"\",'Races, Positions & Points'!#REF!)","v":{"$error":"#REF!"}},{"$f":"IF('Races, Positions & Points'!#REF!=\"\",\"\",'Races, Positions & Points'!#REF!)","v":{"$error":"#REF!"}},{"$f":"IF('Races, Positions & Points'!#REF!=\"\",\"\",'Races, Positions & Points'!#REF!)","v":{"$error":"#REF!"}},{"$f":"IF('Races, Positions & Points'!#REF!=\"\",\"\",'Races, Positions & Points'!#REF!)","v":{"$error":"#REF!"}},{"$f":"IF('Races, Positions & Points'!#REF!=\"\",\"\",'Races, Positions & Points'!#REF!)","v":{"$error":"#REF!"}},{"$f":"IF('Races, Positions & Points'!#REF!=\"\",\"\",'Races, Positions & Points'!#REF!)","v":{"$error":"#REF!"}},{"$f":"IF('Races, Positions & Points'!#REF!=\"\",\"\",'Races, Positions & Points'!#REF!)","v":{"$error":"#REF!"}},{"$f":"IF('Races, Positions & Points'!#REF!=\"\",\"\",'Races, Positions & Points'!#REF!)","v":{"$error":"#REF!"}},null,{"$error":"#REF!"},{"$error":"#REF!"},{"$error":"#REF!"},{"$error":"#REF!"},{"$error":"#REF!"},{"$error":"#REF!"},null,{"$f":"'Races, Positions & Points'!#REF!","v":{"$error":"#REF!"}},{"$f":"'Races, Positions & Points'!#REF!","v":{"$error":"#REF!"}},{"$error":"#REF!"},"","",{"$error":"#REF!"},"",{"$error":"#REF!"},{"$error":"#REF!"},{"$error":"#REF!"},null,{"$error":"#REF!"},"","",{"$error":"#REF!"},"",{"$error":"#REF!"},{"$error":"#REF!"},{"$error":"#REF!"},null,{"$error":"#REF!"},{"$error":"#REF!"},{"$error":"#REF!"},{"$error":"#REF!"},{"$error":"#REF!"},{"$error":"#REF!"},{"$error":"#REF!"},{"$error":"#REF!"},{"$error":"#REF!"},{"$error":"#REF!"},{"$error":"#REF!"},{"$error":"#REF!"},{"$error":"#REF!"},{"$error":"#REF!"},{"$error":"#REF!"},{"$error":"#REF!"},null,{"$error":"#REF!"},"","","",null,{"$error":"#REF!"},"","","",null,{"$error":"#REF!"},{"$error":"#REF!"},{"$error":"#REF!"},{"$error":"#REF!"},{"$error":"#REF!"},{"$error":"#REF!"},{"$error":"#REF!"},{"$error":"#REF!"},{"$error":"#REF!"},{"$error":"#REF!"}]
[{"$f":"'Races, Positions & Points'!#REF!","v":{"$error":"#REF!"}},{"$f":"IF('Races, Positions & Points'!#REF!=\"\",\"\",'Races, Positions & Points'!#REF!)","v":{"$error":"#REF!"}},{"$f":"IF('Races, Positions & Points'!#REF!=\"\",\"\",'Races, Positions & Points'!#REF!)","v":{"$error":"#REF!"}},{"$f":"IF('Races, Positions & Points'!#REF!=\"\",\"\",'Races, Positions & Points'!#REF!)","v":{"$error":"#REF!"}},{"$f":"IF('Races, Positions & Points'!#REF!=\"\",\"\",'Races, Positions & Points'!#REF!)","v":{"$error":"#REF!"}},{"$f":"IF('Races, Positions & Points'!#REF!=\"\",\"\",'Races, Positions & Points'!#REF!)","v":{"$error":"#REF!"}},{"$f":"IF('Races, Positions & Points'!#REF!=\"\",\"\",'Races, Positions & Points'!#REF!)","v":{"$error":"#REF!"}},{"$f":"IF('Races, Positions & Points'!#REF!=\"\",\"\",'Races, Positions & Points'!#REF!)","v":{"$error":"#REF!"}},{"$f":"IF('Races, Positions & Points'!#REF!=\"\",\"\",'Races, Positions & Points'!#REF!)","v":{"$error":"#REF!"}},{"$f":"IF('Races, Positions & Points'!#REF!=\"\",\"\",'Races, Positions & Points'!#REF!)","v":{"$error":"#REF!"}},{"$f":"IF('Races, Positions & Points'!#REF!=\"\",\"\",'Races, Positions & Points'!#REF!)","v":{"$error":"#REF!"}},{"$f":"IF('Races, Positions & Points'!#REF!=\"\",\"\",'Races, Positions & Points'!#REF!)","v":{"$error":"#REF!"}},{"$f":"IF('Races, Positions & Points'!#REF!=\"\",\"\",'Races, Positions & Points'!#REF!)","v":{"$error":"#REF!"}},{"$f":"IF('Races, Positions & Points'!#REF!=\"\",\"\",'Races, Positions & Points'!#REF!)","v":{"$error":"#REF!"}},{"$f":"IF('Races, Positions & Points'!#REF!=\"\",\"\",'Races, Positions & Points'!#REF!)","v":{"$error":"#REF!"}},{"$f":"IF('Races, Positions & Points'!#REF!=\"\",\"\",'Races, Positions & Points'!#REF!)","v":{"$error":"#REF!"}},{"$f":"IF('Races, Positions & Points'!#REF!=\"\",\"\",'Races, Positions & Points'!#REF!)","v":{"$error":"#REF!"}},{"$f":"IF('Races, Positions & Points'!#REF!=\"\",\"\",'Races, Positions & Points'!#REF!)","v":{"$error":"#REF!"}},{"$f":"IF('Races, Positions & Points'!#REF!=\"\",\"\",'Races, Positions & Points'!#REF!)","v":{"$error":"#REF!"}},{"$f":"IF('Races, Positions & Points'!#REF!=\"\",\"\",'Races, Positions & Points'!#REF!)","v":{"$error":"#REF!"}},{"$f":"IF('Races, Positions & Points'!#REF!=\"\",\"\",'Races, Positions & Points'!#REF!)","v":{"$error":"#REF!"}},{"$f":"IF('Races, Positions & Points'!#REF!=\"\",\"\",'Races, Positions & Points'!#REF!)","v":{"$error":"#REF!"}},{"$f":"IF('Races, Positions & Points'!#REF!=\"\",\"\",'Races, Positions & Points'!#REF!)","v":{"$error":"#REF!"}},{"$f":"IF('Races, Positions & Points'!#REF!=\"\",\"\",'Races, Positions & Points'!#REF!)","v":{"$error":"#REF!"}},{"$f":"IF('Races, Positions & Points'!#REF!=\"\",\"\",'Races, Positions & Points'!#REF!)","v":{"$error":"#REF!"}},{"$f":"IF('Races, Positions & Points'!#REF!=\"\",\"\",'Races, Positions & Points'!#REF!)","v":{"$error":"#REF!"}},{"$f":"IF('Races, Positions & Points'!#REF!=\"\",\"\",'Races, Positions & Points'!#REF!)","v":{"$error":"#REF!"}},{"$f":"IF('Races, Positions & Points'!#REF!=\"\",\"\",'Races, Positions & Points'!#REF!)","v":{"$error":"#REF!"}},{"$f":"IF('Races, Positions & Points'!#REF!=\"\",\"\",'Races, Positions & Points'!#REF!)","v":{"$error":"#REF!"}},{"$f":"IF('Races, Positions & Points'!#REF!=\"\",\"\",'Races, Positions & Points'!#REF!)","v":{"$error":"#REF!"}},{"$f":"IF('Races, Positions & Points'!#REF!=\"\",\"\",'Races, Positions & Points'!#REF!)","v":{"$error":"#REF!"}},{"$f":"IF('Races, Positions & Points'!#REF!=\"\",\"\",'Races, Positions & Points'!#REF!)","v":{"$error":"#REF!"}},{"$f":"IF('Races, Positions & Points'!#REF!=\"\",\"\",'Races, Positions & Points'!#REF!)","v":{"$error":"#REF!"}},{"$f":"IF('Races, Positions & Points'!#REF!=\"\",\"\",'Races, Positions & Points'!#REF!)","v":{"$error":"#REF!"}},{"$f":"IF('Races, Positions & Points'!#REF!=\"\",\"\",'Races, Positions & Points'!#REF!)","v":{"$error":"#REF!"}},{"$f":"IF('Races, Positions & Points'!#REF!=\"\",\"\",'Races, Positions & Points'!#REF!)","v":{"$error":"#REF!"}},{"$f":"IF('Races, Positions & Points'!#REF!=\"\",\"\",'Races, Positions & Points'!#REF!)","v":{"$error":"#REF!"}},{"$f":"IF('Races, Positions & Points'!#REF!=\"\",\"\",'Races, Positions & Points'!#REF!)","v":{"$error":"#REF!"}},{"$f":"IF('Races, Positions & Points'!#REF!=\"\",\"\",'Races, Positions & Points'!#REF!)","v":{"$error":"#REF!"}},{"$f":"IF('Races, Positions & Points'!#REF!=\"\",\"\",'Races, Positions & Points'!#REF!)","v":{"$error":"#REF!"}},{"$f":"IF('Races, Positions & Points'!#REF!=\"\",\"\",'Races, Positions & Points'!#REF!)","v":{"$error":"#REF!"}},{"$f":"IF('Races, Positions & Points'!#REF!=\"\",\"\",'Races, Positions & Points'!#REF!)","v":{"$error":"#REF!"}},{"$f":"IF('Races, Positions & Points'!#REF!=\"\",\"\",'Races, Positions & Points'!#REF!)","v":{"$error":"#REF!"}},{"$f":"IF('Races, Positions & Points'!#REF!=\"\",\"\",'Races, Positions & Points'!#REF!)","v":{"$error":"#REF!"}},{"$f":"IF('Races, Positions & Points'!#REF!=\"\",\"\",'Races, Positions & Points'!#REF!)","v":{"$error":"#REF!"}},{"$f":"IF('Races, Positions & Points'!#REF!=\"\",\"\",'Races, Positions & Points'!#REF!)","v":{"$error":"#REF!"}},{"$f":"IF('Races, Positions & Points'!#REF!=\"\",\"\",'Races, Positions & Points'!#REF!)","v":{"$error":"#REF!"}},{"$f":"IF('Races, Positions & Points'!#REF!=\"\",\"\",'Races, Positions & Points'!#REF!)","v":{"$error":"#REF!"}},{"$f":"IF('Races, Positions & Points'!#REF!=\"\",\"\",'Races, Positions & Points'!#REF!)","v":{"$error":"#REF!"}},{"$f":"IF('Races, Positions & Points'!#REF!=\"\",\"\",'Races, Positions & Points'!#REF!)","v":{"$error":"#REF!"}},{"$f":"IF('Races, Positions & Points'!#REF!=\"\",\"\",'Races, Positions & Points'!#REF!)","v":{"$error":"#REF!"}},null,{"$error":"#REF!"},{"$error":"#REF!"},{"$error":"#REF!"},{"$error":"#REF!"},{"$error":"#REF!"},{"$error":"#REF!"},null,{"$f":"'Races, Positions & Points'!#REF!","v":{"$error":"#REF!"}},{"$f":"'Races, Positions & Points'!#REF!","v":{"$error":"#REF!"}},{"$error":"#REF!"},"","",{"$error":"#REF!"},"",{"$error":"#REF!"},{"$error":"#REF!"},{"$error":"#REF!"},null,{"$error":"#REF!"},"","",{"$error":"#REF!"},"",{"$error":"#REF!"},{"$error":"#REF!"},{"$error":"#REF!"},null,{"$error":"#REF!"},{"$error":"#REF!"},{"$error":"#REF!"},{"$error":"#REF!"},{"$error":"#REF!"},{"$error":"#REF!"},{"$error":"#REF!"},{"$error":"#REF!"},{"$error":"#REF!"},{"$error":"#REF!"},{"$error":"#REF!"},{"$error":"#REF!"},{"$error":"#REF!"},{"$error":"#REF!"},{"$error":"#REF!"},{"$error":"#REF!"},null,{"$error":"#REF!"},"","","",null,{"$error":"#REF!"},"","","",null,{"$error":"#REF!"},{"$error":"#REF!"},{"$error":"#REF!"},{"$error":"#REF!"},{"$error":"#REF!"},{"$error":"#REF!"},{"$error":"#REF!"},{"$error":"#REF!"},{"$error":"#REF!"},{"$error":"#REF!"}]
[{"$f":"'Races, Positions & Points'!#REF!","v":{"$error":"#REF!"}},{"$f":"IF('Races, Positions & Points'!#REF!=\"\",\"\",'Races, Positions & Points'!#REF!)","v":{"$error":"#REF!"}},{"$f":"IF('Races, Positions & Points'!#REF!=\"\",\"\",'Races, Positions & Points'!#REF!)","v":{"$error":"#REF!"}},{"$f":"IF('Races, Positions & Points'!#REF!=\"\",\"\",'Races, Positions & Points'!#REF!)","v":{"$error":"#REF!"}},{"$f":"IF('Races, Positions & Points'!#REF!=\"\",\"\",'Races, Positions & Points'!#REF!)","v":{"$error":"#REF!"}},{"$f":"IF('Races, Positions & Points'!#REF!=\"\",\"\",'Races, Positions & Points'!#REF!)","v":{"$error":"#REF!"}},{"$f":"IF('Races, Positions & Points'!#REF!=\"\",\"\",'Races, Positions & Points'!#REF!)","v":{"$error":"#REF!"}},{"$f":"IF('Races, Positions & Points'!#REF!=\"\",\"\",'Races, Positions & Points'!#REF!)","v":{"$error":"#REF!"}},{"$f":"IF('Races, Positions & Points'!#REF!=\"\",\"\",'Races, Positions & Points'!#REF!)","v":{"$error":"#REF!"}},{"$f":"IF('Races, Positions & Points'!#REF!=\"\",\"\",'Races, Positions & Points'!#REF!)","v":{"$error":"#REF!"}},{"$f":"IF('Races, Positions & Points'!#REF!=\"\",\"\",'Races, Positions & Points'!#REF!)","v":{"$error":"#REF!"}},{"$f":"IF('Races, Positions & Points'!#REF!=\"\",\"\",'Races, Positions & Points'!#REF!)","v":{"$error":"#REF!"}},{"$f":"IF('Races, Positions & Points'!#REF!=\"\",\"\",'Races, Positions & Points'!#REF!)","v":{"$error":"#REF!"}},{"$f":"IF('Races, Positions & Points'!#REF!=\"\",\"\",'Races, Positions & Points'!#REF!)","v":{"$error":"#REF!"}},{"$f":"IF('Races, Positions & Points'!#REF!=\"\",\"\",'Races, Positions & Points'!#REF!)","v":{"$error":"#REF!"}},{"$f":"IF('Races, Positions & Points'!#REF!=\"\",\"\",'Races, Positions & Points'!#REF!)","v":{"$error":"#REF!"}},{"$f":"IF('Races, Positions & Points'!#REF!=\"\",\"\",'Races, Positions & Points'!#REF!)","v":{"$error":"#REF!"}},{"$f":"IF('Races, Positions & Points'!#REF!=\"\",\"\",'Races, Positions & Points'!#REF!)","v":{"$error":"#REF!"}},{"$f":"IF('Races, Positions & Points'!#REF!=\"\",\"\",'Races, Positions & Points'!#REF!)","v":{"$error":"#REF!"}},{"$f":"IF('Races, Positions & Points'!#REF!=\"\",\"\",'Races, Positions & Points'!#REF!)","v":{"$error":"#REF!"}},{"$f":"IF('Races, Positions & Points'!#REF!=\"\",\"\",'Races, Positions & Points'!#REF!)","v":{"$error":"#REF!"}},{"$f":"IF('Races, Positions & Points'!#REF!=\"\",\"\",'Races, Positions & Points'!#REF!)","v":{"$error":"#REF!"}},{"$f":"IF('Races, Positions & Points'!#REF!=\"\",\"\",'Races, Positions & Points'!#REF!)","v":{"$error":"#REF!"}},{"$f":"IF('Races, Positions & Points'!#REF!=\"\",\"\",'Races, Positions & Points'!#REF!)","v":{"$error":"#REF!"}},{"$f":"IF('Races, Positions & Points'!#REF!=\"\",\"\",'Races, Positions & Points'!#REF!)","v":{"$error":"#REF!"}},{"$f":"IF('Races, Positions & Points'!#REF!=\"\",\"\",'Races, Positions & Points'!#REF!)","v":{"$error":"#REF!"}},{"$f":"IF('Races, Positions & Points'!#REF!=\"\",\"\",'Races, Positions & Points'!#REF!)","v":{"$error":"#REF!"}},{"$f":"IF('Races, Positions & Points'!#REF!=\"\",\"\",'Races, Positions & Points'!#REF!)","v":{"$error":"#REF!"}},{"$f":"IF('Races, Positions & Points'!#REF!=\"\",\"\",'Races, Positions & Points'!#REF!)","v":{"$error":"#REF!"}},{"$f":"IF('Races, Positions & Points'!#REF!=\"\",\"\",'Races, Positions & Points'!#REF!)","v":{"$error":"#REF!"}},{"$f":"IF('Races, Positions & Points'!#REF!=\"\",\"\",'Races, Positions & Points'!#REF!)","v":{"$error":"#REF!"}},{"$f":"IF('Races, Positions & Points'!#REF!=\"\",\"\",'Races, Positions & Points'!#REF!)","v":{"$error":"#REF!"}},{"$f":"IF('Races, Positions & Points'!#REF!=\"\",\"\",'Races, Positions & Points'!#REF!)","v":{"$error":"#REF!"}},{"$f":"IF('Races, Positions & Points'!#REF!=\"\",\"\",'Races, Positions & Points'!#REF!)","v":{"$error":"#REF!"}},{"$f":"IF('Races, Positions & Points'!#REF!=\"\",\"\",'Races, Positions & Points'!#REF!)","v":{"$error":"#REF!"}},{"$f":"IF('Races, Positions & Points'!#REF!=\"\",\"\",'Races, Positions & Points'!#REF!)","v":{"$error":"#REF!"}},{"$f":"IF('Races, Positions & Points'!#REF!=\"\",\"\",'Races, Positions & Points'!#REF!)","v":{"$error":"#REF!"}},{"$f":"IF('Races, Positions & Points'!#REF!=\"\",\"\",'Races, Positions & Points'!#REF!)","v":{"$error":"#REF!"}},{"$f":"IF('Races, Positions & Points'!#REF!=\"\",\"\",'Races, Positions & Points'!#REF!)","v":{"$error":"#REF!"}},{"$f":"IF('Races, Positions & Points'!#REF!=\"\",\"\",'Races, Positions & Points'!#REF!)","v":{"$error":"#REF!"}},{"$f":"IF('Races, Positions & Points'!#REF!=\"\",\"\",'Races, Positions & Points'!#REF!)","v":{"$error":"#REF!"}},{"$f":"IF('Races, Positions & Points'!#REF!=\"\",\"\",'Races, Positions & Points'!#REF!)","v":{"$error":"#REF!"}},{"$f":"IF('Races, Positions & Points'!#REF!=\"\",\"\",'Races, Positions & Points'!#REF!)","v":{"$error":"#REF!"}},{"$f":"IF('Races, Positions & Points'!#REF!=\"\",\"\",'Races, Positions & Points'!#REF!)","v":{"$error":"#REF!"}},{"$f":"IF('Races, Positions & Points'!#REF!=\"\",\"\",'Races, Positions & Points'!#REF!)","v":{"$error":"#REF!"}},{"$f":"IF('Races, Positions & Points'!#REF!=\"\",\"\",'Races, Positions & Points'!#REF!)","v":{"$error":"#REF!"}},{"$f":"IF('Races, Positions & Points'!#REF!=\"\",\"\",'Races, Positions & Points'!#REF!)","v":{"$error":"#REF!"}},{"$f":"IF('Races, Positions & Points'!#REF!=\"\",\"\",'Races, Positions & Points'!#REF!)","v":{"$error":"#REF!"}},{"$f":"IF('Races, Positions & Points'!#REF!=\"\",\"\",'Races, Positions & Points'!#REF!)","v":{"$error":"#REF!"}},{"$f":"IF('Races, Positions & Points'!#REF!=\"\",\"\",'Races, Positions & Points'!#REF!)","v":{"$error":"#REF!"}},{"$f":"IF('Races, Positions & Points'!#REF!=\"\",\"\",'Races, Positions & Points'!#REF!)","v":{"$error":"#REF!"}},null,{"$error":"#REF!"},{"$error":"#REF!"},{"$error":"#REF!"},{"$error":"#REF!"},{"$error":"#REF!"},{"$error":"#REF!"},null,{"$f":"'Races, Positions & Points'!#REF!","v":{"$error":"#REF!"}},{"$f":"'Races, Positions & Points'!#REF!","v":{"$error":"#REF!"}},{"$error":"#REF!"},"","",{"$error":"#REF!"},"",{"$error":"#REF!"},{"$error":"#REF!"},{"$error":"#REF!"},null,{"$error":"#REF!"},"","",{"$error":"#REF!"},"",{"$error":"#REF!"},{"$error":"#REF!"},{"$error":"#REF!"},null,{"$error":"#REF!"},{"$error":"#REF!"},{"$error":"#REF!"},{"$error":"#REF!"},{"$error":"#REF!"},{"$error":"#REF!"},{"$error":"#REF!"},{"$error":"#REF!"},{"$error":"#REF!"},{"$error":"#REF!"},{"$error":"#REF!"},{"$error":"#REF!"},{"$error":"#REF!"},{"$error":"#REF!"},{"$error":"#REF!"},{"$error":"#REF!"},null,{"$error":"#REF!"},"","","",null,{"$error":"#REF!"},"","","",null,{"$error":"#REF!"},{"$error":"#REF!"},{"$error":"#REF!"},{"$error":"#REF!"},{"$error":"#REF!"},{"$error":"#REF!"},{"$error":"#REF!"},{"$error":"#REF!"},{"$error":"#REF!"},{"$error":"#REF!"}]
[{"$f":"'Races, Positions & Points'!#REF!","v":{"$error":"#REF!"}},{"$f":"IF('Races, Positions & Points'!#REF!=\"\",\"\",'Races, Positions & Points'!#REF!)","v":{"$error":"#REF!"}},{"$f":"IF('Races, Positions & Points'!#REF!=\"\",\"\",'Races, Positions & Points'!#REF!)","v":{"$error":"#REF!"}},{"$f":"IF('Races, Positions & Points'!#REF!=\"\",\"\",'Races, Positions & Points'!#REF!)","v":{"$error":"#REF!"}},{"$f":"IF('Races, Positions & Points'!#REF!=\"\",\"\",'Races, Positions & Points'!#REF!)","v":{"$error":"#REF!"}},{"$f":"IF('Races, Positions & Points'!#REF!=\"\",\"\",'Races, Positions & Points'!#REF!)","v":{"$error":"#REF!"}},{"$f":"IF('Races, Positions & Points'!#REF!=\"\",\"\",'Races, Positions & Points'!#REF!)","v":{"$error":"#REF!"}},{"$f":"IF('Races, Positions & Points'!#REF!=\"\",\"\",'Races, Positions & Points'!#REF!)","v":{"$error":"#REF!"}},{"$f":"IF('Races, Positions & Points'!#REF!=\"\",\"\",'Races, Positions & Points'!#REF!)","v":{"$error":"#REF!"}},{"$f":"IF('Races, Positions & Points'!#REF!=\"\",\"\",'Races, Positions & Points'!#REF!)","v":{"$error":"#REF!"}},{"$f":"IF('Races, Positions & Points'!#REF!=\"\",\"\",'Races, Positions & Points'!#REF!)","v":{"$error":"#REF!"}},{"$f":"IF('Races, Positions & Points'!#REF!=\"\",\"\",'Races, Positions & Points'!#REF!)","v":{"$error":"#REF!"}},{"$f":"IF('Races, Positions & Points'!#REF!=\"\",\"\",'Races, Positions & Points'!#REF!)","v":{"$error":"#REF!"}},{"$f":"IF('Races, Positions & Points'!#REF!=\"\",\"\",'Races, Positions & Points'!#REF!)","v":{"$error":"#REF!"}},{"$f":"IF('Races, Positions & Points'!#REF!=\"\",\"\",'Races, Positions & Points'!#REF!)","v":{"$error":"#REF!"}},{"$f":"IF('Races, Positions & Points'!#REF!=\"\",\"\",'Races, Positions & Points'!#REF!)","v":{"$error":"#REF!"}},{"$f":"IF('Races, Positions & Points'!#REF!=\"\",\"\",'Races, Positions & Points'!#REF!)","v":{"$error":"#REF!"}},{"$f":"IF('Races, Positions & Points'!#REF!=\"\",\"\",'Races, Positions & Points'!#REF!)","v":{"$error":"#REF!"}},{"$f":"IF('Races, Positions & Points'!#REF!=\"\",\"\",'Races, Positions & Points'!#REF!)","v":{"$error":"#REF!"}},{"$f":"IF('Races, Positions & Points'!#REF!=\"\",\"\",'Races, Positions & Points'!#REF!)","v":{"$error":"#REF!"}},{"$f":"IF('Races, Positions & Points'!#REF!=\"\",\"\",'Races, Positions & Points'!#REF!)","v":{"$error":"#REF!"}},{"$f":"IF('Races, Positions & Points'!#REF!=\"\",\"\",'Races, Positions & Points'!#REF!)","v":{"$error":"#REF!"}},{"$f":"IF('Races, Positions & Points'!#REF!=\"\",\"\",'Races, Positions & Points'!#REF!)","v":{"$error":"#REF!"}},{"$f":"IF('Races, Positions & Points'!#REF!=\"\",\"\",'Races, Positions & Points'!#REF!)","v":{"$error":"#REF!"}},{"$f":"IF('Races, Positions & Points'!#REF!=\"\",\"\",'Races, Positions & Points'!#REF!)","v":{"$error":"#REF!"}},{"$f":"IF('Races, Positions & Points'!#REF!=\"\",\"\",'Races, Positions & Points'!#REF!)","v":{"$error":"#REF!"}},{"$f":"IF('Races, Positions & Points'!#REF!=\"\",\"\",'Races, Positions & Points'!#REF!)","v":{"$error":"#REF!"}},{"$f":"IF('Races, Positions & Points'!#REF!=\"\",\"\",'Races, Positions & Points'!#REF!)","v":{"$error":"#REF!"}},{"$f":"IF('Races, Positions & Points'!#REF!=\"\",\"\",'Races, Positions & Points'!#REF!)","v":{"$error":"#REF!"}},{"$f":"IF('Races, Positions & Points'!#REF!=\"\",\"\",'Races, Positions & Points'!#REF!)","v":{"$error":"#REF!"}},{"$f":"IF('Races, Positions & Points'!#REF!=\"\",\"\",'Races, Positions & Points'!#REF!)","v":{"$error":"#REF!"}},{"$f":"IF('Races, Positions & Points'!#REF!=\"\",\"\",'Races, Positions & Points'!#REF!)","v":{"$error":"#REF!"}},{"$f":"IF('Races, Positions & Points'!#REF!=\"\",\"\",'Races, Positions & Points'!#REF!)","v":{"$error":"#REF!"}},{"$f":"IF('Races, Positions & Points'!#REF!=\"\",\"\",'Races, Positions & Points'!#REF!)","v":{"$error":"#REF!"}},{"$f":"IF('Races, Positions & Points'!#REF!=\"\",\"\",'Races, Positions & Points'!#REF!)","v":{"$error":"#REF!"}},{"$f":"IF('Races, Positions & Points'!#REF!=\"\",\"\",'Races, Positions & Points'!#REF!)","v":{"$error":"#REF!"}},{"$f":"IF('Races, Positions & Points'!#REF!=\"\",\"\",'Races, Positions & Points'!#REF!)","v":{"$error":"#REF!"}},{"$f":"IF('Races, Positions & Points'!#REF!=\"\",\"\",'Races, Positions & Points'!#REF!)","v":{"$error":"#REF!"}},{"$f":"IF('Races, Positions & Points'!#REF!=\"\",\"\",'Races, Positions & Points'!#REF!)","v":{"$error":"#REF!"}},{"$f":"IF('Races, Positions & Points'!#REF!=\"\",\"\",'Races, Positions & Points'!#REF!)","v":{"$error":"#REF!"}},{"$f":"IF('Races, Positions & Points'!#REF!=\"\",\"\",'Races, Positions & Points'!#REF!)","v":{"$error":"#REF!"}},{"$f":"IF('Races, Positions & Points'!#REF!=\"\",\"\",'Races, Positions & Points'!#REF!)","v":{"$error":"#REF!"}},{"$f":"IF('Races, Positions & Points'!#REF!=\"\",\"\",'Races, Positions & Points'!#REF!)","v":{"$error":"#REF!"}},{"$f":"IF('Races, Positions & Points'!#REF!=\"\",\"\",'Races, Positions & Points'!#REF!)","v":{"$error":"#REF!"}},{"$f":"IF('Races, Positions & Points'!#REF!=\"\",\"\",'Races, Positions & Points'!#REF!)","v":{"$error":"#REF!"}},{"$f":"IF('Races, Positions & Points'!#REF!=\"\",\"\",'Races, Positions & Points'!#REF!)","v":{"$error":"#REF!"}},{"$f":"IF('Races, Positions & Points'!#REF!=\"\",\"\",'Races, Positions & Points'!#REF!)","v":{"$error":"#REF!"}},{"$f":"IF('Races, Positions & Points'!#REF!=\"\",\"\",'Races, Positions & Points'!#REF!)","v":{"$error":"#REF!"}},{"$f":"IF('Races, Positions & Points'!#REF!=\"\",\"\",'Races, Positions & Points'!#REF!)","v":{"$error":"#REF!"}},{"$f":"IF('Races, Positions & Points'!#REF!=\"\",\"\",'Races, Positions & Points'!#REF!)","v":{"$error":"#REF!"}},{"$f":"IF('Races, Positions & Points'!#REF!=\"\",\"\",'Races, Positions & Points'!#REF!)","v":{"$error":"#REF!"}},null,{"$error":"#REF!"},{"$error":"#REF!"},{"$error":"#REF!"},{"$error":"#REF!"},{"$error":"#REF!"},{"$error":"#REF!"},null,{"$f":"'Races, Positions & Points'!#REF!","v":{"$error":"#REF!"}},{"$f":"'Races, Positions & Points'!#REF!","v":{"$error":"#REF!"}},{"$error":"#REF!"},"","",{"$error":"#REF!"},"",{"$error":"#REF!"},{"$error":"#REF!"},{"$error":"#REF!"},null,{"$error":"#REF!"},"","",{"$error":"#REF!"},"",{"$error":"#REF!"},{"$error":"#REF!"},{"$error":"#REF!"},null,{"$error":"#REF!"},{"$error":"#REF!"},{"$error":"#REF!"},{"$error":"#REF!"},{"$error":"#REF!"},{"$error":"#REF!"},{"$error":"#REF!"},{"$error":"#REF!"},{"$error":"#REF!"},{"$error":"#REF!"},{"$error":"#REF!"},{"$error":"#REF!"},{"$error":"#REF!"},{"$error":"#REF!"},{"$error":"#REF!"},{"$error":"#REF!"},null,{"$error":"#REF!"},"","","",null,{"$error":"#REF!"},"","","",null,{"$error":"#REF!"},{"$error":"#REF!"},{"$error":"#REF!"},{"$error":"#REF!"},{"$error":"#REF!"},{"$error":"#REF!"},{"$error":"#REF!"},{"$error":"#REF!"},{"$error":"#REF!"},{"$error":"#REF!"}]
[null,null,null,null,null,null,null,null,null,null,null,null,null,null,null,null,null,null,null,null,null,null,null,null,null,null,null,null,null,null,null,null,null,null,null,null,null,null,null,null,null,null,null,null,null,null,null,null,null,null,null,null,null,null,null,null,null,null,null,null,null,null,null,null,null,null,null,null,null,null,null,null,null,null,null,null,null,null,null,null,null,null,null,null,null,null,null,null,null,null,null,null,null,null,null,null,null,null,""]
[{"$f":"'Races, Positions & Points'!#REF!","v":{"$error":"#REF!"}},{"$f":"IF('Races, Positions & Points'!#REF!=\"\",\"\",'Races, Positions & Points'!#REF!)","v":{"$error":"#REF!"}},{"$f":"IF('Races, Positions & Points'!#REF!=\"\",\"\",'Races, Positions & Points'!#REF!)","v":{"$error":"#REF!"}},{"$f":"IF('Races, Positions & Points'!#REF!=\"\",\"\",'Races, Positions & Points'!#REF!)","v":{"$error":"#REF!"}},{"$f":"IF('Races, Positions & Points'!#REF!=\"\",\"\",'Races, Positions & Points'!#REF!)","v":{"$error":"#REF!"}},{"$f":"IF('Races, Positions & Points'!#REF!=\"\",\"\",'Races, Positions & Points'!#REF!)","v":{"$error":"#REF!"}},{"$f":"IF('Races, Positions & Points'!#REF!=\"\",\"\",'Races, Positions & Points'!#REF!)","v":{"$error":"#REF!"}},{"$f":"IF('Races, Positions & Points'!#REF!=\"\",\"\",'Races, Positions & Points'!#REF!)","v":{"$error":"#REF!"}},{"$f":"IF('Races, Positions & Points'!#REF!=\"\",\"\",'Races, Positions & Points'!#REF!)","v":{"$error":"#REF!"}},{"$f":"IF('Races, Positions & Points'!#REF!=\"\",\"\",'Races, Positions & Points'!#REF!)","v":{"$error":"#REF!"}},{"$f":"IF('Races, Positions & Points'!#REF!=\"\",\"\",'Races, Positions & Points'!#REF!)","v":{"$error":"#REF!"}},{"$f":"IF('Races, Positions & Points'!#REF!=\"\",\"\",'Races, Positions & Points'!#REF!)","v":{"$error":"#REF!"}},{"$f":"IF('Races, Positions & Points'!#REF!=\"\",\"\",'Races, Positions & Points'!#REF!)","v":{"$error":"#REF!"}},{"$f":"IF('Races, Positions & Points'!#REF!=\"\",\"\",'Races, Positions & Points'!#REF!)","v":{"$error":"#REF!"}},{"$f":"IF('Races, Positions & Points'!#REF!=\"\",\"\",'Races, Positions & Points'!#REF!)","v":{"$error":"#REF!"}},{"$f":"IF('Races, Positions & Points'!#REF!=\"\",\"\",'Races, Positions & Points'!#REF!)","v":{"$error":"#REF!"}},{"$f":"IF('Races, Positions & Points'!#REF!=\"\",\"\",'Races, Positions & Points'!#REF!)","v":{"$error":"#REF!"}},{"$f":"IF('Races, Positions & Points'!#REF!=\"\",\"\",'Races, Positions & Points'!#REF!)","v":{"$error":"#REF!"}},{"$f":"IF('Races, Positions & Points'!#REF!=\"\",\"\",'Races, Positions & Points'!#REF!)","v":{"$error":"#REF!"}},{"$f":"IF('Races, Positions & Points'!#REF!=\"\",\"\",'Races, Positions & Points'!#REF!)","v":{"$error":"#REF!"}},{"$f":"IF('Races, Positions & Points'!#REF!=\"\",\"\",'Races, Positions & Points'!#REF!)","v":{"$error":"#REF!"}},{"$f":"IF('Races, Positions & Points'!#REF!=\"\",\"\",'Races, Positions & Points'!#REF!)","v":{"$error":"#REF!"}},{"$f":"IF('Races, Positions & Points'!#REF!=\"\",\"\",'Races, Positions & Points'!#REF!)","v":{"$error":"#REF!"}},{"$f":"IF('Races, Positions & Points'!#REF!=\"\",\"\",'Races, Positions & Points'!#REF!)","v":{"$error":"#REF!"}},{"$f":"IF('Races, Positions & Points'!#REF!=\"\",\"\",'Races, Positions & Points'!#REF!)","v":{"$error":"#REF!"}},{"$f":"IF('Races, Positions & Points'!#REF!=\"\",\"\",'Races, Positions & Points'!#REF!)","v":{"$error":"#REF!"}},{"$f":"IF('Races, Positions & Points'!#REF!=\"\",\"\",'Races, Positions & Points'!#REF!)","v":{"$error":"#REF!"}},{"$f":"IF('Races, Positions & Points'!#REF!=\"\",\"\",'Races, Positions & Points'!#REF!)","v":{"$error":"#REF!"}},{"$f":"IF('Races, Positions & Points'!#REF!=\"\",\"\",'Races, Positions & Points'!#REF!)","v":{"$error":"#REF!"}},{"$f":"IF('Races, Positions & Points'!#REF!=\"\",\"\",'Races, Positions & Points'!#REF!)","v":{"$error":"#REF!"}},{"$f":"IF('Races, Positions & Points'!#REF!=\"\",\"\",'Races, Positions & Points'!#REF!)","v":{"$error":"#REF!"}},{"$f":"IF('Races, Positions & Points'!#REF!=\"\",\"\",'Races, Positions & Points'!#REF!)","v":{"$error":"#REF!"}},{"$f":"IF('Races, Positions & Points'!#REF!=\"\",\"\",'Races, Positions & Points'!#REF!)","v":{"$error":"#REF!"}},{"$f":"IF('Races, Positions & Points'!#REF!=\"\",\"\",'Races, Positions & Points'!#REF!)","v":{"$error":"#REF!"}},{"$f":"IF('Races, Positions & Points'!#REF!=\"\",\"\",'Races, Positions & Points'!#REF!)","v":{"$error":"#REF!"}},{"$f":"IF('Races, Positions & Points'!#REF!=\"\",\"\",'Races, Positions & Points'!#REF!)","v":{"$error":"#REF!"}},{"$f":"IF('Races, Positions & Points'!#REF!=\"\",\"\",'Races, Positions & Points'!#REF!)","v":{"$error":"#REF!"}},{"$f":"IF('Races, Positions & Points'!#REF!=\"\",\"\",'Races, Positions & Points'!#REF!)","v":{"$error":"#REF!"}},{"$f":"IF('Races, Positions & Points'!#REF!=\"\",\"\",'Races, Positions & Points'!#REF!)","v":{"$error":"#REF!"}},{"$f":"IF('Races, Positions & Points'!#REF!=\"\",\"\",'Races, Positions & Points'!#REF!)","v":{"$error":"#REF!"}},{"$f":"IF('Races, Positions & Points'!#REF!=\"\",\"\",'Races, Positions & Points'!#REF!)","v":{"$error":"#REF!"}},{"$f":"IF('Races, Positions & Points'!#REF!=\"\",\"\",'Races, Positions & Points'!#REF!)","v":{"$error":"#REF!"}},{"$f":"IF('Races, Positions & Points'!#REF!=\"\",\"\",'Races, Positions & Points'!#REF!)","v":{"$error":"#REF!"}},{"$f":"IF('Races, Positions & Points'!#REF!=\"\",\"\",'Races, Positions & Points'!#REF!)","v":{"$error":"#REF!"}},{"$f":"IF('Races, Positions & Points'!#REF!=\"\",\"\",'Races, Positions & Points'!#REF!)","v":{"$error":"#REF!"}},{"$f":"IF('Races, Positions & Points'!#REF!=\"\",\"\",'Races, Positions & Points'!#REF!)","v":{"$error":"#REF!"}},{"$f":"IF('Races, Positions & Points'!#REF!=\"\",\"\",'Races, Positions & Points'!#REF!)","v":{"$error":"#REF!"}},{"$f":"IF('Races, Positions & Points'!#REF!=\"\",\"\",'Races, Positions & Points'!#REF!)","v":{"$error":"#REF!"}},{"$f":"IF('Races, Positions & Points'!#REF!=\"\",\"\",'Races, Positions & Points'!#REF!)","v":{"$error":"#REF!"}},{"$f":"IF('Races, Positions & Points'!#REF!=\"\",\"\",'Races, Positions & Points'!#REF!)","v":{"$error":"#REF!"}},{"$f":"IF('Races, Positions & Points'!#REF!=\"\",\"\",'Races, Positions & Points'!#REF!)","v":{"$error":"#REF!"}},null,{"$f":"SUMPRODUCT(--(B$4:AY$4=\"In\"),--(B$3:AY$3>5),--(B$5:AY$5=\"Y\"),--(B42:AY42<>\"\"))","v":{"$error":"#REF!"}},{"$f":"SUMPRODUCT(--(B$4:AY$4=\"Out\"),--(B$3:AY$3>5),--(B$5:AY$5=\"Y\"),--(B42:AY42<>\"\"))","v":{"$error":"#REF!"}},{"$f":"SUMPRODUCT(--(B$4:AY$4=\"In\"),--(B$3:AY$3=5),--(B$5:AY$5=\"Y\"),--(B42:AY42<>\"\"))","v":{"$error":"#REF!"}},{"$f":"SUMPRODUCT(--(B$4:AY$4=\"Out\"),--(B$3:AY$3=5),--(B$5:AY$5=\"Y\"),--(B42:AY42<>\"\"))","v":{"$error":"#REF!"}},{"$f":"SUMPRODUCT(--(B$4:AY$4=\"In\"),--(B$3:AY$3=0),--(B$5:AY$5=\"Y\"),--(B42:AY42<>\"\"))","v":{"$error":"#REF!"}},{"$f":"SUMPRODUCT(--(B$4:AY$4=\"Out\"),--(B$3:AY$3=0),--(B$5:AY$5=\"Y\"),--(B42:AY42<>\"\"))","v":{"$error":"#REF!"}},null,{"$f":"'Races, Positions & Points'!#REF!","v":{"$error":"#REF!"}},{"$f":"'Races, Positions & Points'!#REF!","v":{"$error":"#REF!"}},{"$error":"#REF!"},"","",{"$error":"#REF!"},"",{"$error":"#REF!"},{"$error":"#REF!"},{"$error":"#REF!"},null,{"$error":"#REF!"},"","",{"$error":"#REF!"},"",{"$error":"#REF!"},{"$error":"#REF!"},{"$error":"#REF!"},null,{"$f":"IF(MIN(C42,K42,L42,AH42,AI42,AK42,AL42)>0,MIN(C42,K42,L42,AH42,AI42,AK42,AL42),\"\")","v":{"$error":"#REF!"}},{"$f":"IF(MIN(E42,F42,G42,H42,Z42,AF42,AG42,AP42,AQ42,AU42)>0,MIN(E42,F42,G42,H42,Z42,AF42,AG42,AP42,AQ42,AU42),\"\")","v":{"$error":"#REF!"}},{"$f":"IF(MIN(T42,V42)>0,MIN(T42,V42),\"\")","v":{"$error":"#REF!"}},{"$f":"IF(MIN(W42,X42)>0,MIN(W42,X42),\"\")","v":{"$error":"#REF!"}},{"$f":"IF(MIN(B42,M42,N42,AR42,AS42)>0,MIN(B42,M42,N42,AR42,AS42),\"\")","v":{"$error":"#REF!"}},{"$f":"IF(MIN(D42,O42,AB42,AC42,AE42)>0,MIN(D42,O42,AB42,AC42,AE42),\"\")","v":{"$error":"#REF!"}},{"$f":"IF(MIN(I42,J42)>0,MIN(I42,J42),\"\")","v":{"$error":"#REF!"}},{"$f":"IF(Q42>0,Q42,\"\")","v":{"$error":"#REF!"}},{"$f":"IF(MIN(S42,AM42,AT42,AY42)>0,MIN(S42,AM42,AT42,AY42),\"\")","v":{"$error":"#REF!"}},{"$f":"IF(MIN(P42,R42)>0,MIN(P42,R42),\"\")","v":{"$error":"#REF!"}},{"$f":"IF(U42>0,U42,\"\")","v":{"$error":"#REF!"}},{"$f":"IF(MIN(Y42,AO42)>0,MIN(Y42,AO42),\"\")","v":{"$error":"#REF!"}},{"$f":"IF(AA42>0,AA42,\"\")","v":{"$error":"#REF!"}},{"$f":"IF(AD42>0,AD42,\"\")","v":{"$error":"#REF!"}},{"$f":"IF(AJ42>0,AJ42,\"\")","v":{"$error":"#REF!"}},{"$f":"IF(MIN(AV42,AW42)>0,MIN(AV42,AW42),\"\")","v":{"$error":"#REF!"}},null,{"$error":"#REF!"},"","",{"$f":"IF(ISERROR(CS42*1.2),\"\",IF(CS42<50,CS42+10,IF(CS42<999.99,CS42*1.2,\"\")))","v":""},null,{"$error":"#REF!"},"","","",null,{"$f":"IF(MIN(C42,K42,L42,AH42,AI42,AK42,AL42)>0,MIN(C42,K42,L42,AH42,AI42,AK42,AL42),\"\")","v":{"$error":"#REF!"}},{"$f":"IF(MIN(Z42,AF42,AG42,AP42,AQ42,AU42)>0,MIN(Z42,AF42,AG42,AP42,AQ42,AU42),\"\")","v":{"$error":"#REF!"}},{"$f":"IF(MIN(T42,V42)>0,MIN(T42,V42),\"\")","v":{"$error":"#REF!"}},{"$f":"IF(MIN(M42,N42,AR42,AS42)>0,MIN(M42,N42,AR42,AS42),\"\")","v":{"$error":"#REF!"}},{"$f":"IF(MIN(O42,AE42),MIN(O42,AE42),\"\")","v":{"$error":"#REF!"}},{"$f":"IF(J42>0,J42,\"\")","v":{"$error":"#REF!"}},{"$f":"IF(MIN(AM42,AY42)>0,MIN(AM42,AY42),\"\")","v":{"$error":"#REF!"}},{"$f":"IF(R42>0,R42,\"\")","v":{"$error":"#REF!"}},{"$error":"#REF!"},{"$f":"IF(MIN(AV42,AW42),MIN(AV42,AW42),\"\")","v":{"$error":"#REF!"}}]
[{"$f":"'Races, Positions & Points'!#REF!","v":{"$error":"#REF!"}},{"$f":"IF('Races, Positions & Points'!#REF!=\"\",\"\",'Races, Positions & Points'!#REF!)","v":{"$error":"#REF!"}},{"$f":"IF('Races, Positions & Points'!#REF!=\"\",\"\",'Races, Positions & Points'!#REF!)","v":{"$error":"#REF!"}},{"$f":"IF('Races, Positions & Points'!#REF!=\"\",\"\",'Races, Positions & Points'!#REF!)","v":{"$error":"#REF!"}},{"$f":"IF('Races, Positions & Points'!#REF!=\"\",\"\",'Races, Positions & Points'!#REF!)","v":{"$error":"#REF!"}},{"$f":"IF('Races, Positions & Points'!#REF!=\"\",\"\",'Races, Positions & Points'!#REF!)","v":{"$error":"#REF!"}},{"$f":"IF('Races, Positions & Points'!#REF!=\"\",\"\",'Races, Positions & Points'!#REF!)","v":{"$error":"#REF!"}},{"$f":"IF('Races, Positions & Points'!#REF!=\"\",\"\",'Races, Positions & Points'!#REF!)","v":{"$error":"#REF!"}},{"$f":"IF('Races, Positions & Points'!#REF!=\"\",\"\",'Races, Positions & Points'!#REF!)","v":{"$error":"#REF!"}},{"$f":"IF('Races, Positions & Points'!#REF!=\"\",\"\",'Races, Positions & Points'!#REF!)","v":{"$error":"#REF!"}},{"$f":"IF('Races, Positions & Points'!#REF!=\"\",\"\",'Races, Positions & Points'!#REF!)","v":{"$error":"#REF!"}},{"$f":"IF('Races, Positions & Points'!#REF!=\"\",\"\",'Races, Positions & Points'!#REF!)","v":{"$error":"#REF!"}},{"$f":"IF('Races, Positions & Points'!#REF!=\"\",\"\",'Races, Positions & Points'!#REF!)","v":{"$error":"#REF!"}},{"$f":"IF('Races, Positions & Points'!#REF!=\"\",\"\",'Races, Positions & Points'!#REF!)","v":{"$error":"#REF!"}},{"$f":"IF('Races, Positions & Points'!#REF!=\"\",\"\",'Races, Positions & Points'!#REF!)","v":{"$error":"#REF!"}},{"$f":"IF('Races, Positions & Points'!#REF!=\"\",\"\",'Races, Positions & Points'!#REF!)","v":{"$error":"#REF!"}},{"$f":"IF('Races, Positions & Points'!#REF!=\"\",\"\",'Races, Positions & Points'!#REF!)","v":{"$error":"#REF!"}},{"$f":"IF('Races, Positions & Points'!#REF!=\"\",\"\",'Races, Positions & Points'!#REF!)","v":{"$error":"#REF!"}},{"$f":"IF('Races, Positions & Points'!#REF!=\"\",\"\",'Races, Positions & Points'!#REF!)","v":{"$error":"#REF!"}},{"$f":"IF('Races, Positions & Points'!#REF!=\"\",\"\",'Races, Positions & Points'!#REF!)","v":{"$error":"#REF!"}},{"$f":"IF('Races, Positions & Points'!#REF!=\"\",\"\",'Races, Positions & Points'!#REF!)","v":{"$error":"#REF!"}},{"$f":"IF('Races, Positions & Points'!#REF!=\"\",\"\",'Races, Positions & Points'!#REF!)","v":{"$error":"#REF!"}},{"$f":"IF('Races, Positions & Points'!#REF!=\"\",\"\",'Races, Positions & Points'!#REF!)","v":{"$error":"#REF!"}},{"$f":"IF('Races, Positions & Points'!#REF!=\"\",\"\",'Races, Positions & Points'!#REF!)","v":{"$error":"#REF!"}},{"$f":"IF('Races, Positions & Points'!#REF!=\"\",\"\",'Races, Positions & Points'!#REF!)","v":{"$error":"#REF!"}},{"$f":"IF('Races, Positions & Points'!#REF!=\"\",\"\",'Races, Positions & Points'!#REF!)","v":{"$error":"#REF!"}},{"$f":"IF('Races, Positions & Points'!#REF!=\"\",\"\",'Races, Positions & Points'!#REF!)","v":{"$error":"#REF!"}},{"$f":"IF('Races, Positions & Points'!#REF!=\"\",\"\",'Races, Positions & Points'!#REF!)","v":{"$error":"#REF!"}},{"$f":"IF('Races, Positions & Points'!#REF!=\"\",\"\",'Races, Positions & Points'!#REF!)","v":{"$error":"#REF!"}},{"$f":"IF('Races, Positions & Points'!#REF!=\"\",\"\",'Races, Positions & Points'!#REF!)","v":{"$error":"#REF!"}},{"$f":"IF('Races, Positions & Points'!#REF!=\"\",\"\",'Races, Positions & Points'!#REF!)","v":{"$error":"#REF!"}},{"$f":"IF('Races, Positions & Points'!#REF!=\"\",\"\",'Races, Positions & Points'!#REF!)","v":{"$error":"#REF!"}},{"$f":"IF('Races, Positions & Points'!#REF!=\"\",\"\",'Races, Positions & Points'!#REF!)","v":{"$error":"#REF!"}},{"$f":"IF('Races, Positions & Points'!#REF!=\"\",\"\",'Races, Positions & Points'!#REF!)","v":{"$error":"#REF!"}},{"$f":"IF('Races, Positions & Points'!#REF!=\"\",\"\",'Races, Positions & Points'!#REF!)","v":{"$error":"#REF!"}},{"$f":"IF('Races, Positions & Points'!#REF!=\"\",\"\",'Races, Positions & Points'!#REF!)","v":{"$error":"#REF!"}},{"$f":"IF('Races, Positions & Points'!#REF!=\"\",\"\",'Races, Positions & Points'!#REF!)","v":{"$error":"#REF!"}},{"$f":"IF('Races, Positions & Points'!#REF!=\"\",\"\",'Races, Positions & Points'!#REF!)","v":{"$error":"#REF!"}},{"$f":"IF('Races, Positions & Points'!#REF!=\"\",\"\",'Races, Positions & Points'!#REF!)","v":{"$error":"#REF!"}},{"$f":"IF('Races, Positions & Points'!#REF!=\"\",\"\",'Races, Positions & Points'!#REF!)","v":{"$error":"#REF!"}},{"$f":"IF('Races, Positions & Points'!#REF!=\"\",\"\",'Races, Positions & Points'!#REF!)","v":{"$error":"#REF!"}},{"$f":"IF('Races, Positions & Points'!#REF!=\"\",\"\",'Races, Positions & Points'!#REF!)","v":{"$error":"#REF!"}},{"$f":"IF('Races, Positions & Points'!#REF!=\"\",\"\",'Races, Positions & Points'!#REF!)","v":{"$error":"#REF!"}},{"$f":"IF('Races, Positions & Points'!#REF!=\"\",\"\",'Races, Positions & Points'!#REF!)","v":{"$error":"#REF!"}},{"$f":"IF('Races, Positions & Points'!#REF!=\"\",\"\",'Races, Positions & Points'!#REF!)","v":{"$error":"#REF!"}},{"$f":"IF('Races, Positions & Points'!#REF!=\"\",\"\",'Races, Positions & Points'!#REF!)","v":{"$error":"#REF!"}},{"$f":"IF('Races, Positions & Points'!#REF!=\"\",\"\",'Races, Positions & Points'!#REF!)","v":{"$error":"#REF!"}},{"$f":"IF('Races, Positions & Points'!#REF!=\"\",\"\",'Races, Positions & Points'!#REF!)","v":{"$error":"#REF!"}},{"$f":"IF('Races, Positions & Points'!#REF!=\"\",\"\",'Races, Positions & Points'!#REF!)","v":{"$error":"#REF!"}},{"$f":"IF('Races, Positions & Points'!#REF!=\"\",\"\",'Races, Positions & Points'!#REF!)","v":{"$error":"#REF!"}},{"$f":"IF('Races, Positions & Points'!#REF!=\"\",\"\",'Races, Positions & Points'!#REF!)","v":{"$error":"#REF!"}},null,{"$f":"SUMPRODUCT(--(B$4:AY$4=\"In\"),--(B$3:AY$3>5),--(B$5:AY$5=\"Y\"),--(B43:AY43<>\"\"))","v":{"$error":"#REF!"}},{"$f":"SUMPRODUCT(--(B$4:AY$4=\"Out\"),--(B$3:AY$3>5),--(B$5:AY$5=\"Y\"),--(B43:AY43<>\"\"))","v":{"$error":"#REF!"}},{"$f":"SUMPRODUCT(--(B$4:AY$4=\"In\"),--(B$3:AY$3=5),--(B$5:AY$5=\"Y\"),--(B43:AY43<>\"\"))","v":{"$error":"#REF!"}},{"$f":"SUMPRODUCT(--(B$4:AY$4=\"Out\"),--(B$3:AY$3=5),--(B$5:AY$5=\"Y\"),--(B43:AY43<>\"\"))","v":{"$error":"#REF!"}},{"$f":"SUMPRODUCT(--(B$4:AY$4=\"In\"),--(B$3:AY$3=0),--(B$5:AY$5=\"Y\"),--(B43:AY43<>\"\"))","v":{"$error":"#REF!"}},{"$f":"SUMPRODUCT(--(B$4:AY$4=\"Out\"),--(B$3:AY$3=0),--(B$5:AY$5=\"Y\"),--(B43:AY43<>\"\"))","v":{"$error":"#REF!"}},null,{"$f":"'Races, Positions & Points'!#REF!","v":{"$error":"#REF!"}},{"$f":"'Races, Positions & Points'!#REF!","v":{"$error":"#REF!"}},{"$error":"#REF!"},"","",{"$error":"#REF!"},"",{"$error":"#REF!"},{"$error":"#REF!"},{"$error":"#REF!"},null,{"$error":"#REF!"},"","",{"$error":"#REF!"},"",{"$error":"#REF!"},{"$error":"#REF!"},{"$error":"#REF!"},null,{"$f":"IF(MIN(C43,K43,L43,AH43,AI43,AK43,AL43)>0,MIN(C43,K43,L43,AH43,AI43,AK43,AL43),\"\")","v":{"$error":"#REF!"}},{"$error":"#REF!"},{"$error":"#REF!"},{"$error":"#REF!"},{"$error":"#REF!"},{"$error":"#REF!"},{"$error":"#REF!"},{"$error":"#REF!"},{"$error":"#REF!"},{"$error":"#REF!"},{"$error":"#REF!"},{"$error":"#REF!"},{"$error":"#REF!"},{"$error":"#REF!"},{"$error":"#REF!"},{"$error":"#REF!"},null,{"$error":"#REF!"},"","","",null,{"$error":"#REF!"},"","","",null,{"$error":"#REF!"},{"$error":"#REF!"},{"$error":"#REF!"},{"$error":"#REF!"},{"$error":"#REF!"},{"$error":"#REF!"},{"$error":"#REF!"},{"$error":"#REF!"},{"$error":"#REF!"},{"$error":"#REF!"}]
[{"$f":"'Races, Positions & Points'!#REF!","v":{"$error":"#REF!"}},{"$f":"IF('Races, Positions & Points'!#REF!=\"\",\"\",'Races, Positions & Points'!#REF!)","v":{"$error":"#REF!"}},{"$f":"IF('Races, Positions & Points'!#REF!=\"\",\"\",'Races, Positions & Points'!#REF!)","v":{"$error":"#REF!"}},{"$f":"IF('Races, Positions & Points'!#REF!=\"\",\"\",'Races, Positions & Points'!#REF!)","v":{"$error":"#REF!"}},{"$f":"IF('Races, Positions & Points'!#REF!=\"\",\"\",'Races, Positions & Points'!#REF!)","v":{"$error":"#REF!"}},{"$f":"IF('Races, Positions & Points'!#REF!=\"\",\"\",'Races, Positions & Points'!#REF!)","v":{"$error":"#REF!"}},{"$f":"IF('Races, Positions & Points'!#REF!=\"\",\"\",'Races, Positions & Points'!#REF!)","v":{"$error":"#REF!"}},{"$f":"IF('Races, Positions & Points'!#REF!=\"\",\"\",'Races, Positions & Points'!#REF!)","v":{"$error":"#REF!"}},{"$f":"IF('Races, Positions & Points'!#REF!=\"\",\"\",'Races, Positions & Points'!#REF!)","v":{"$error":"#REF!"}},{"$f":"IF('Races, Positions & Points'!#REF!=\"\",\"\",'Races, Positions & Points'!#REF!)","v":{"$error":"#REF!"}},{"$f":"IF('Races, Positions & Points'!#REF!=\"\",\"\",'Races, Positions & Points'!#REF!)","v":{"$error":"#REF!"}},{"$f":"IF('Races, Positions & Points'!#REF!=\"\",\"\",'Races, Positions & Points'!#REF!)","v":{"$error":"#REF!"}},{"$f":"IF('Races, Positions & Points'!#REF!=\"\",\"\",'Races, Positions & Points'!#REF!)","v":{"$error":"#REF!"}},{"$f":"IF('Races, Positions & Points'!#REF!=\"\",\"\",'Races, Positions & Points'!#REF!)","v":{"$error":"#REF!"}},{"$f":"IF('Races, Positions & Points'!#REF!=\"\",\"\",'Races, Positions & Points'!#REF!)","v":{"$error":"#REF!"}},{"$f":"IF('Races, Positions & Points'!#REF!=\"\",\"\",'Races, Positions & Points'!#REF!)","v":{"$error":"#REF!"}},{"$f":"IF('Races, Positions & Points'!#REF!=\"\",\"\",'Races, Positions & Points'!#REF!)","v":{"$error":"#REF!"}},{"$f":"IF('Races, Positions & Points'!#REF!=\"\",\"\",'Races, Positions & Points'!#REF!)","v":{"$error":"#REF!"}},{"$f":"IF('Races, Positions & Points'!#REF!=\"\",\"\",'Races, Positions & Points'!#REF!)","v":{"$error":"#REF!"}},{"$f":"IF('Races, Positions & Points'!#REF!=\"\",\"\",'Races, Positions & Points'!#REF!)","v":{"$error":"#REF!"}},{"$f":"IF('Races, Positions & Points'!#REF!=\"\",\"\",'Races, Positions & Points'!#REF!)","v":{"$error":"#REF!"}},{"$f":"IF('Races, Positions & Points'!#REF!=\"\",\"\",'Races, Positions & Points'!#REF!)","v":{"$error":"#REF!"}},{"$f":"IF('Races, Positions & Points'!#REF!=\"\",\"\",'Races, Positions & Points'!#REF!)","v":{"$error":"#REF!"}},{"$f":"IF('Races, Positions & Points'!#REF!=\"\",\"\",'Races, Positions & Points'!#REF!)","v":{"$error":"#REF!"}},{"$f":"IF('Races, Positions & Points'!#REF!=\"\",\"\",'Races, Positions & Points'!#REF!)","v":{"$error":"#REF!"}},{"$f":"IF('Races, Positions & Points'!#REF!=\"\",\"\",'Races, Positions & Points'!#REF!)","v":{"$error":"#REF!"}},{"$f":"IF('Races, Positions & Points'!#REF!=\"\",\"\",'Races, Positions & Points'!#REF!)","v":{"$error":"#REF!"}},{"$f":"IF('Races, Positions & Points'!#REF!=\"\",\"\",'Races, Positions & Points'!#REF!)","v":{"$error":"#REF!"}},{"$f":"IF('Races, Positions & Points'!#REF!=\"\",\"\",'Races, Positions & Points'!#REF!)","v":{"$error":"#REF!"}},{"$f":"IF('Races, Positions & Points'!#REF!=\"\",\"\",'Races, Positions & Points'!#REF!)","v":{"$error":"#REF!"}},{"$f":"IF('Races, Positions & Points'!#REF!=\"\",\"\",'Races, Positions & Points'!#REF!)","v":{"$error":"#REF!"}},{"$f":"IF('Races, Positions & Points'!#REF!=\"\",\"\",'Races, Positions & Points'!#REF!)","v":{"$error":"#REF!"}},{"$f":"IF('Races, Positions & Points'!#REF!=\"\",\"\",'Races, Positions & Points'!#REF!)","v":{"$error":"#REF!"}},{"$f":"IF('Races, Positions & Points'!#REF!=\"\",\"\",'Races, Positions & Points'!#REF!)","v":{"$error":"#REF!"}},{"$f":"IF('Races, Positions & Points'!#REF!=\"\",\"\",'Races, Positions & Points'!#REF!)","v":{"$error":"#REF!"}},{"$f":"IF('Races, Positions & Points'!#REF!=\"\",\"\",'Races, Positions & Points'!#REF!)","v":{"$error":"#REF!"}},{"$f":"IF('Races, Positions & Points'!#REF!=\"\",\"\",'Races, Positions & Points'!#REF!)","v":{"$error":"#REF!"}},{"$f":"IF('Races, Positions & Points'!#REF!=\"\",\"\",'Races, Positions & Points'!#REF!)","v":{"$error":"#REF!"}},{"$f":"IF('Races, Positions & Points'!#REF!=\"\",\"\",'Races, Positions & Points'!#REF!)","v":{"$error":"#REF!"}},{"$f":"IF('Races, Positions & Points'!#REF!=\"\",\"\",'Races, Positions & Points'!#REF!)","v":{"$error":"#REF!"}},{"$f":"IF('Races, Positions & Points'!#REF!=\"\",\"\",'Races, Positions & Points'!#REF!)","v":{"$error":"#REF!"}},{"$f":"IF('Races, Positions & Points'!#REF!=\"\",\"\",'Races, Positions & Points'!#REF!)","v":{"$error":"#REF!"}},{"$f":"IF('Races, Positions & Points'!#REF!=\"\",\"\",'Races, Positions & Points'!#REF!)","v":{"$error":"#REF!"}},{"$f":"IF('Races, Positions & Points'!#REF!=\"\",\"\",'Races, Positions & Points'!#REF!)","v":{"$error":"#REF!"}},{"$f":"IF('Races, Positions & Points'!#REF!=\"\",\"\",'Races, Positions & Points'!#REF!)","v":{"$error":"#REF!"}},{"$f":"IF('Races, Positions & Points'!#REF!=\"\",\"\",'Races, Positions & Points'!#REF!)","v":{"$error":"#REF!"}},{"$f":"IF('Races, Positions & Points'!#REF!=\"\",\"\",'Races, Positions & Points'!#REF!)","v":{"$error":"#REF!"}},{"$f":"IF('Races, Positions & Points'!#REF!=\"\",\"\",'Races, Positions & Points'!#REF!)","v":{"$error":"#REF!"}},{"$f":"IF('Races, Positions & Points'!#REF!=\"\",\"\",'Races, Positions & Points'!#REF!)","v":{"$error":"#REF!"}},{"$f":"IF('Races, Positions & Points'!#REF!=\"\",\"\",'Races, Positions & Points'!#REF!)","v":{"$error":"#REF!"}},{"$f":"IF('Races, Positions & Points'!#REF!=\"\",\"\",'Races, Positions & Points'!#REF!)","v":{"$error":"#REF!"}},null,{"$error":"#REF!"},{"$error":"#REF!"},{"$error":"#REF!"},{"$error":"#REF!"},{"$error":"#REF!"},{"$error":"#REF!"},null,{"$f":"'Races, Positions & Points'!#REF!","v":{"$error":"#REF!"}},{"$f":"'Races, Positions & Points'!#REF!","v":{"$error":"#REF!"}},{"$error":"#REF!"},"","",{"$error":"#REF!"},"",{"$error":"#REF!"},{"$error":"#REF!"},{"$error":"#REF!"},null,{"$error":"#REF!"},"","",{"$error":"#REF!"},"",{"$error":"#REF!"},{"$error":"#REF!"},{"$error":"#REF!"},null,{"$error":"#REF!"},{"$error":"#REF!"},{"$error":"#REF!"},{"$error":"#REF!"},{"$error":"#REF!"},{"$error":"#REF!"},{"$error":"#REF!"},{"$error":"#REF!"},{"$error":"#REF!"},{"$error":"#REF!"},{"$error":"#REF!"},{"$error":"#REF!"},{"$error":"#REF!"},{"$error":"#REF!"},{"$error":"#REF!"},{"$error":"#REF!"},null,{"$error":"#REF!"},"","","",null,{"$error":"#REF!"},"","","",null,{"$error":"#REF!"},{"$error":"#REF!"},{"$error":"#REF!"},{"$error":"#REF!"},{"$error":"#REF!"},{"$error":"#REF!"},{"$error":"#REF!"},{"$error":"#REF!"},{"$error":"#REF!"},{"$error":"#REF!"}]
[{"$f":"'Races, Positions & Points'!#REF!","v":{"$error":"#REF!"}},{"$f":"IF('Races, Positions & Points'!#REF!=\"\",\"\",'Races, Positions & Points'!#REF!)","v":{"$error":"#REF!"}},{"$f":"IF('Races, Positions & Points'!#REF!=\"\",\"\",'Races, Positions & Points'!#REF!)","v":{"$error":"#REF!"}},{"$f":"IF('Races, Positions & Points'!#REF!=\"\",\"\",'Races, Positions & Points'!#REF!)","v":{"$error":"#REF!"}},{"$f":"IF('Races, Positions & Points'!#REF!=\"\",\"\",'Races, Positions & Points'!#REF!)","v":{"$error":"#REF!"}},{"$f":"IF('Races, Positions & Points'!#REF!=\"\",\"\",'Races, Positions & Points'!#REF!)","v":{"$error":"#REF!"}},{"$f":"IF('Races, Positions & Points'!#REF!=\"\",\"\",'Races, Positions & Points'!#REF!)","v":{"$error":"#REF!"}},{"$f":"IF('Races, Positions & Points'!#REF!=\"\",\"\",'Races, Positions & Points'!#REF!)","v":{"$error":"#REF!"}},{"$f":"IF('Races, Positions & Points'!#REF!=\"\",\"\",'Races, Positions & Points'!#REF!)","v":{"$error":"#REF!"}},{"$f":"IF('Races, Positions & Points'!#REF!=\"\",\"\",'Races, Positions & Points'!#REF!)","v":{"$error":"#REF!"}},{"$f":"IF('Races, Positions & Points'!#REF!=\"\",\"\",'Races, Positions & Points'!#REF!)","v":{"$error":"#REF!"}},{"$f":"IF('Races, Positions & Points'!#REF!=\"\",\"\",'Races, Positions & Points'!#REF!)","v":{"$error":"#REF!"}},{"$f":"IF('Races, Positions & Points'!#REF!=\"\",\"\",'Races, Positions & Points'!#REF!)","v":{"$error":"#REF!"}},{"$f":"IF('Races, Positions & Points'!#REF!=\"\",\"\",'Races, Positions & Points'!#REF!)","v":{"$error":"#REF!"}},{"$f":"IF('Races, Positions & Points'!#REF!=\"\",\"\",'Races, Positions & Points'!#REF!)","v":{"$error":"#REF!"}},{"$f":"IF('Races, Positions & Points'!#REF!=\"\",\"\",'Races, Positions & Points'!#REF!)","v":{"$error":"#REF!"}},{"$f":"IF('Races, Positions & Points'!#REF!=\"\",\"\",'Races, Positions & Points'!#REF!)","v":{"$error":"#REF!"}},{"$f":"IF('Races, Positions & Points'!#REF!=\"\",\"\",'Races, Positions & Points'!#REF!)","v":{"$error":"#REF!"}},{"$f":"IF('Races, Positions & Points'!#REF!=\"\",\"\",'Races, Positions & Points'!#REF!)","v":{"$error":"#REF!"}},{"$f":"IF('Races, Positions & Points'!#REF!=\"\",\"\",'Races, Positions & Points'!#REF!)","v":{"$error":"#REF!"}},{"$f":"IF('Races, Positions & Points'!#REF!=\"\",\"\",'Races, Positions & Points'!#REF!)","v":{"$error":"#REF!"}},{"$f":"IF('Races, Positions & Points'!#REF!=\"\",\"\",'Races, Positions & Points'!#REF!)","v":{"$error":"#REF!"}},{"$f":"IF('Races, Positions & Points'!#REF!=\"\",\"\",'Races, Positions & Points'!#REF!)","v":{"$error":"#REF!"}},{"$f":"IF('Races, Positions & Points'!#REF!=\"\",\"\",'Races, Positions & Points'!#REF!)","v":{"$error":"#REF!"}},{"$f":"IF('Races, Positions & Points'!#REF!=\"\",\"\",'Races, Positions & Points'!#REF!)","v":{"$error":"#REF!"}},{"$f":"IF('Races, Positions & Points'!#REF!=\"\",\"\",'Races, Positions & Points'!#REF!)","v":{"$error":"#REF!"}},{"$f":"IF('Races, Positions & Points'!#REF!=\"\",\"\",'Races, Positions & Points'!#REF!)","v":{"$error":"#REF!"}},{"$f":"IF('Races, Positions & Points'!#REF!=\"\",\"\",'Races, Positions & Points'!#REF!)","v":{"$error":"#REF!"}},{"$f":"IF('Races, Positions & Points'!#REF!=\"\",\"\",'Races, Positions & Points'!#REF!)","v":{"$error":"#REF!"}},{"$f":"IF('Races, Positions & Points'!#REF!=\"\",\"\",'Races, Positions & Points'!#REF!)","v":{"$error":"#REF!"}},{"$f":"IF('Races, Positions & Points'!#REF!=\"\",\"\",'Races, Positions & Points'!#REF!)","v":{"$error":"#REF!"}},{"$f":"IF('Races, Positions & Points'!#REF!=\"\",\"\",'Races, Positions & Points'!#REF!)","v":{"$error":"#REF!"}},{"$f":"IF('Races, Positions & Points'!#REF!=\"\",\"\",'Races, Positions & Points'!#REF!)","v":{"$error":"#REF!"}},{"$f":"IF('Races, Positions & Points'!#REF!=\"\",\"\",'Races, Positions & Points'!#REF!)","v":{"$error":"#REF!"}},{"$f":"IF('Races, Positions & Points'!#REF!=\"\",\"\",'Races, Positions & Points'!#REF!)","v":{"$error":"#REF!"}},{"$f":"IF('Races, Positions & Points'!#REF!=\"\",\"\",'Races, Positions & Points'!#REF!)","v":{"$error":"#REF!"}},{"$f":"IF('Races, Positions & Points'!#REF!=\"\",\"\",'Races, Positions & Points'!#REF!)","v":{"$error":"#REF!"}},{"$f":"IF('Races, Positions & Points'!#REF!=\"\",\"\",'Races, Positions & Points'!#REF!)","v":{"$error":"#REF!"}},{"$f":"IF('Races, Positions & Points'!#REF!=\"\",\"\",'Races, Positions & Points'!#REF!)","v":{"$error":"#REF!"}},{"$f":"IF('Races, Positions & Points'!#REF!=\"\",\"\",'Races, Positions & Points'!#REF!)","v":{"$error":"#REF!"}},{"$f":"IF('Races, Positions & Points'!#REF!=\"\",\"\",'Races, Positions & Points'!#REF!)","v":{"$error":"#REF!"}},{"$f":"IF('Races, Positions & Points'!#REF!=\"\",\"\",'Races, Positions & Points'!#REF!)","v":{"$error":"#REF!"}},{"$f":"IF('Races, Positions & Points'!#REF!=\"\",\"\",'Races, Positions & Points'!#REF!)","v":{"$error":"#REF!"}},{"$f":"IF('Races, Positions & Points'!#REF!=\"\",\"\",'Races, Positions & Points'!#REF!)","v":{"$error":"#REF!"}},{"$f":"IF('Races, Positions & Points'!#REF!=\"\",\"\",'Races, Positions & Points'!#REF!)","v":{"$error":"#REF!"}},{"$f":"IF('Races, Positions & Points'!#REF!=\"\",\"\",'Races, Positions & Points'!#REF!)","v":{"$error":"#REF!"}},{"$f":"IF('Races, Positions & Points'!#REF!=\"\",\"\",'Races, Positions & Points'!#REF!)","v":{"$error":"#REF!"}},{"$f":"IF('Races, Positions & Points'!#REF!=\"\",\"\",'Races, Positions & Points'!#REF!)","v":{"$error":"#REF!"}},{"$f":"IF('Races, Positions & Points'!#REF!=\"\",\"\",'Races, Positions & Points'!#REF!)","v":{"$error":"#REF!"}},{"$f":"IF('Races, Positions & Points'!#REF!=\"\",\"\",'Races, Positions & Points'!#REF!)","v":{"$error":"#REF!"}},{"$f":"IF('Races, Positions & Points'!#REF!=\"\",\"\",'Races, Positions & Points'!#REF!)","v":{"$error":"#REF!"}},null,{"$error":"#REF!"},{"$error":"#REF!"},{"$error":"#REF!"},{"$error":"#REF!"},{"$error":"#REF!"},{"$error":"#REF!"},null,{"$f":"'Races, Positions & Points'!#REF!","v":{"$error":"#REF!"}},{"$f":"'Races, Positions & Points'!#REF!","v":{"$error":"#REF!"}},{"$error":"#REF!"},"","",{"$error":"#REF!"},"",{"$error":"#REF!"},{"$error":"#REF!"},{"$error":"#REF!"},null,{"$error":"#REF!"},"","",{"$error":"#REF!"},"",{"$error":"#REF!"},{"$error":"#REF!"},{"$error":"#REF!"},null,{"$error":"#REF!"},{"$error":"#REF!"},{"$error":"#REF!"},{"$error":"#REF!"},{"$error":"#REF!"},{"$error":"#REF!"},{"$error":"#REF!"},{"$error":"#REF!"},{"$error":"#REF!"},{"$error":"#REF!"},{"$error":"#REF!"},{"$error":"#REF!"},{"$error":"#REF!"},{"$error":"#REF!"},{"$error":"#REF!"},{"$error":"#REF!"},null,{"$error":"#REF!"},"","","",null,{"$error":"#REF!"},"","","",null,{"$error":"#REF!"},{"$error":"#REF!"},{"$error":"#REF!"},{"$error":"#REF!"},{"$error":"#REF!"},{"$error":"#REF!"},{"$error":"#REF!"},{"$error":"#REF!"},{"$error":"#REF!"},{"$error":"#REF!"}]
[{"$f":"'Races, Positions & Points'!#REF!","v":{"$error":"#REF!"}},{"$f":"IF('Races, Positions & Points'!#REF!=\"\",\"\",'Races, Positions & Points'!#REF!)","v":{"$error":"#REF!"}},{"$f":"IF('Races, Positions & Points'!#REF!=\"\",\"\",'Races, Positions & Points'!#REF!)","v":{"$error":"#REF!"}},{"$f":"IF('Races, Positions & Points'!#REF!=\"\",\"\",'Races, Positions & Points'!#REF!)","v":{"$error":"#REF!"}},{"$f":"IF('Races, Positions & Points'!#REF!=\"\",\"\",'Races, Positions & Points'!#REF!)","v":{"$error":"#REF!"}},{"$f":"IF('Races, Positions & Points'!#REF!=\"\",\"\",'Races, Positions & Points'!#REF!)","v":{"$error":"#REF!"}},{"$f":"IF('Races, Positions & Points'!#REF!=\"\",\"\",'Races, Positions & Points'!#REF!)","v":{"$error":"#REF!"}},{"$f":"IF('Races, Positions & Points'!#REF!=\"\",\"\",'Races, Positions & Points'!#REF!)","v":{"$error":"#REF!"}},{"$f":"IF('Races, Positions & Points'!#REF!=\"\",\"\",'Races, Positions & Points'!#REF!)","v":{"$error":"#REF!"}},{"$f":"IF('Races, Positions & Points'!#REF!=\"\",\"\",'Races, Positions & Points'!#REF!)","v":{"$error":"#REF!"}},{"$f":"IF('Races, Positions & Points'!#REF!=\"\",\"\",'Races, Positions & Points'!#REF!)","v":{"$error":"#REF!"}},{"$f":"IF('Races, Positions & Points'!#REF!=\"\",\"\",'Races, Positions & Points'!#REF!)","v":{"$error":"#REF!"}},{"$f":"IF('Races, Positions & Points'!#REF!=\"\",\"\",'Races, Positions & Points'!#REF!)","v":{"$error":"#REF!"}},{"$f":"IF('Races, Positions & Points'!#REF!=\"\",\"\",'Races, Positions & Points'!#REF!)","v":{"$error":"#REF!"}},{"$f":"IF('Races, Positions & Points'!#REF!=\"\",\"\",'Races, Positions & Points'!#REF!)","v":{"$error":"#REF!"}},{"$f":"IF('Races, Positions & Points'!#REF!=\"\",\"\",'Races, Positions & Points'!#REF!)","v":{"$error":"#REF!"}},{"$f":"IF('Races, Positions & Points'!#REF!=\"\",\"\",'Races, Positions & Points'!#REF!)","v":{"$error":"#REF!"}},{"$f":"IF('Races, Positions & Points'!#REF!=\"\",\"\",'Races, Positions & Points'!#REF!)","v":{"$error":"#REF!"}},{"$f":"IF('Races, Positions & Points'!#REF!=\"\",\"\",'Races, Positions & Points'!#REF!)","v":{"$error":"#REF!"}},{"$f":"IF('Races, Positions & Points'!#REF!=\"\",\"\",'Races, Positions & Points'!#REF!)","v":{"$error":"#REF!"}},{"$f":"IF('Races, Positions & Points'!#REF!=\"\",\"\",'Races, Positions & Points'!#REF!)","v":{"$error":"#REF!"}},{"$f":"IF('Races, Positions & Points'!#REF!=\"\",\"\",'Races, Positions & Points'!#REF!)","v":{"$error":"#REF!"}},{"$f":"IF('Races, Positions & Points'!#REF!=\"\",\"\",'Races, Positions & Points'!#REF!)","v":{"$error":"#REF!"}},{"$f":"IF('Races, Positions & Points'!#REF!=\"\",\"\",'Races, Positions & Points'!#REF!)","v":{"$error":"#REF!"}},{"$f":"IF('Races, Positions & Points'!#REF!=\"\",\"\",'Races, Positions & Points'!#REF!)","v":{"$error":"#REF!"}},{"$f":"IF('Races, Positions & Points'!#REF!=\"\",\"\",'Races, Positions & Points'!#REF!)","v":{"$error":"#REF!"}},{"$f":"IF('Races, Positions & Points'!#REF!=\"\",\"\",'Races, Positions & Points'!#REF!)","v":{"$error":"#REF!"}},{"$f":"IF('Races, Positions & Points'!#REF!=\"\",\"\",'Races, Positions & Points'!#REF!)","v":{"$error":"#REF!"}},{"$f":"IF('Races, Positions & Points'!#REF!=\"\",\"\",'Races, Positions & Points'!#REF!)","v":{"$error":"#REF!"}},{"$f":"IF('Races, Positions & Points'!#REF!=\"\",\"\",'Races, Positions & Points'!#REF!)","v":{"$error":"#REF!"}},{"$f":"IF('Races, Positions & Points'!#REF!=\"\",\"\",'Races, Positions & Points'!#REF!)","v":{"$error":"#REF!"}},{"$f":"IF('Races, Positions & Points'!#REF!=\"\",\"\",'Races, Positions & Points'!#REF!)","v":{"$error":"#REF!"}},{"$f":"IF('Races, Positions & Points'!#REF!=\"\",\"\",'Races, Positions & Points'!#REF!)","v":{"$error":"#REF!"}},{"$f":"IF('Races, Positions & Points'!#REF!=\"\",\"\",'Races, Positions & Points'!#REF!)","v":{"$error":"#REF!"}},{"$f":"IF('Races, Positions & Points'!#REF!=\"\",\"\",'Races, Positions & Points'!#REF!)","v":{"$error":"#REF!"}},{"$f":"IF('Races, Positions & Points'!#REF!=\"\",\"\",'Races, Positions & Points'!#REF!)","v":{"$error":"#REF!"}},{"$f":"IF('Races, Positions & Points'!#REF!=\"\",\"\",'Races, Positions & Points'!#REF!)","v":{"$error":"#REF!"}},{"$f":"IF('Races, Positions & Points'!#REF!=\"\",\"\",'Races, Positions & Points'!#REF!)","v":{"$error":"#REF!"}},{"$f":"IF('Races, Positions & Points'!#REF!=\"\",\"\",'Races, Positions & Points'!#REF!)","v":{"$error":"#REF!"}},{"$f":"IF('Races, Positions & Points'!#REF!=\"\",\"\",'Races, Positions & Points'!#REF!)","v":{"$error":"#REF!"}},{"$f":"IF('Races, Positions & Points'!#REF!=\"\",\"\",'Races, Positions & Points'!#REF!)","v":{"$error":"#REF!"}},{"$f":"IF('Races, Positions & Points'!#REF!=\"\",\"\",'Races, Positions & Points'!#REF!)","v":{"$error":"#REF!"}},{"$f":"IF('Races, Positions & Points'!#REF!=\"\",\"\",'Races, Positions & Points'!#REF!)","v":{"$error":"#REF!"}},{"$f":"IF('Races, Positions & Points'!#REF!=\"\",\"\",'Races, Positions & Points'!#REF!)","v":{"$error":"#REF!"}},{"$f":"IF('Races, Positions & Points'!#REF!=\"\",\"\",'Races, Positions & Points'!#REF!)","v":{"$error":"#REF!"}},{"$f":"IF('Races, Positions & Points'!#REF!=\"\",\"\",'Races, Positions & Points'!#REF!)","v":{"$error":"#REF!"}},{"$f":"IF('Races, Positions & Points'!#REF!=\"\",\"\",'Races, Positions & Points'!#REF!)","v":{"$error":"#REF!"}},{"$f":"IF('Races, Positions & Points'!#REF!=\"\",\"\",'Races, Positions & Points'!#REF!)","v":{"$error":"#REF!"}},{"$f":"IF('Races, Positions & Points'!#REF!=\"\",\"\",'Races, Positions & Points'!#REF!)","v":{"$error":"#REF!"}},{"$f":"IF('Races, Positions & Points'!#REF!=\"\",\"\",'Races, Positions & Points'!#REF!)","v":{"$error":"#REF!"}},{"$f":"IF('Races, Positions & Points'!#REF!=\"\",\"\",'Races, Positions & Points'!#REF!)","v":{"$error":"#REF!"}},null,{"$error":"#REF!"},{"$error":"#REF!"},{"$error":"#REF!"},{"$error":"#REF!"},{"$error":"#REF!"},{"$error":"#REF!"},null,{"$f":"'Races, Positions & Points'!#REF!","v":{"$error":"#REF!"}},{"$f":"'Races, Positions & Points'!#REF!","v":{"$error":"#REF!"}},{"$error":"#REF!"},"","",{"$error":"#REF!"},"",{"$error":"#REF!"},{"$error":"#REF!"},{"$error":"#REF!"},null,{"$error":"#REF!"},"","",{"$error":"#REF!"},"",{"$error":"#REF!"},{"$error":"#REF!"},{"$error":"#REF!"},null,{"$error":"#REF!"},{"$error":"#REF!"},{"$error":"#REF!"},{"$error":"#REF!"},{"$error":"#REF!"},{"$error":"#REF!"},{"$error":"#REF!"},{"$error":"#REF!"},{"$error":"#REF!"},{"$error":"#REF!"},{"$error":"#REF!"},{"$error":"#REF!"},{"$error":"#REF!"},{"$error":"#REF!"},{"$error":"#REF!"},{"$error":"#REF!"},null,{"$error":"#REF!"},"","","",null,{"$error":"#REF!"},"","","",null,{"$error":"#REF!"},{"$error":"#REF!"},{"$error":"#REF!"},{"$f":"IF(MIN(M46,N46,AR46,AS46)>0,MIN(M46,N46,AR46,AS46),\"\")","v":{"$error":"#REF!"}},{"$f":"IF(MIN(O46,AE46),MIN(O46,AE46),\"\")","v":{"$error":"#REF!"}},{"$f":"IF(J46>0,J46,\"\")","v":{"$error":"#REF!"}},{"$f":"IF(MIN(AM46,AY46)>0,MIN(AM46,AY46),\"\")","v":{"$error":"#REF!"}},{"$f":"IF(R46>0,R46,\"\")","v":{"$error":"#REF!"}},{"$error":"#REF!"},{"$f":"IF(MIN(AV46,AW46),MIN(AV46,AW46),\"\")","v":{"$error":"#REF!"}}]
[{"$f":"'Races, Positions & Points'!A24","v":"Oliver Weeks"},{"$f":"IF('Races, Positions & Points'!O24=\"\",\"\",'Races, Positions & Points'!O24)","v":""},{"$f":"IF('Races, Positions & Points'!R24=\"\",\"\",'Races, Positions & Points'!R24)","v":"-"},{"$f":"IF('Races, Positions & Points'!#REF!=\"\",\"\",'Races, Positions & Points'!#REF!)","v":{"$error":"#REF!"}},{"$f":"IF('Races, Positions & Points'!X24=\"\",\"\",'Races, Positions & Points'!X24)","v":181.75},{"$f":"IF('Races, Positions & Points'!V24=\"\",\"\",'Races, Positions & Points'!V24)","v":5},{"$f":"IF('Races, Positions & Points'!#REF!=\"\",\"\",'Races, Positions & Points'!#REF!)","v":{"$error":"#REF!"}},{"$f":"IF('Races, Positions & Points'!Y24=\"\",\"\",'Races, Positions & Points'!Y24)","v":4},{"$f":"IF('Races, Positions & Points'!#REF!=\"\",\"\",'Races, Positions & Points'!#REF!)","v":{"$error":"#REF!"}},{"$f":"IF('Races, Positions & Points'!#REF!=\"\",\"\",'Races, Positions & Points'!#REF!)","v":{"$error":"#REF!"}},{"$f":"IF('Races, Positions & Points'!AD24=\"\",\"\",'Races, Positions & Points'!AD24)","v":210.02},{"$f":"IF('Races, Positions & Points'!#REF!=\"\",\"\",'Races, Positions & Points'!#REF!)","v":{"$error":"#REF!"}},{"$f":"IF('Races, Positions & Points'!AR24=\"\",\"\",'Races, Positions & Points'!AR24)","v":""},{"$f":"IF('Races, Positions & Points'!AU24=\"\",\"\",'Races, Positions & Points'!AU24)","v":""},{"$f":"IF('Races, Positions & Points'!AX24=\"\",\"\",'Races, Positions & Points'!AX24)","v":""},{"$f":"IF('Races, Positions & Points'!BA24=\"\",\"\",'Races, Positions & Points'!BA24)","v":""},{"$f":"IF('Races, Positions & Points'!BJ24=\"\",\"\",'Races, Positions & Points'!BJ24)","v":""},{"$f":"IF('Races, Positions & Points'!BN24=\"\",\"\",'Races, Positions & Points'!BN24)","v":""},{"$f":"IF('Races, Positions & Points'!#REF!=\"\",\"\",'Races, Positions & Points'!#REF!)","v":{"$error":"#REF!"}},{"$f":"IF('Races, Positions & Points'!#REF!=\"\",\"\",'Races, Positions & Points'!#REF!)","v":{"$error":"#REF!"}},{"$f":"IF('Races, Positions & Points'!BW24=\"\",\"\",'Races, Positions & Points'!BW24)","v":""},{"$f":"IF('Races, Positions & Points'!#REF!=\"\",\"\",'Races, Positions & Points'!#REF!)","v":{"$error":"#REF!"}},{"$f":"IF('Races, Positions & Points'!#REF!=\"\",\"\",'Races, Positions & Points'!#REF!)","v":{"$error":"#REF!"}},{"$f":"IF('Races, Positions & Points'!CI24=\"\",\"\",'Races, Positions & Points'!CI24)","v":207.77},{"$f":"IF('Races, Positions & Points'!CO24=\"\",\"\",'Races, Positions & Points'!CO24)","v":"dns"},{"$f":"IF('Races, Positions & Points'!CZ24=\"\",\"\",'Races, Positions & Points'!CZ24)","v":""},{"$f":"IF('Races, Positions & Points'!CU24=\"\",\"\",'Races, Positions & Points'!CU24)","v":""},{"$f":"IF('Races, Positions & Points'!DC24=\"\",\"\",'Races, Positions & Points'!DC24)","v":""},{"$f":"IF('Races, Positions & Points'!DF24=\"\",\"\",'Races, Positions & Points'!DF24)","v":""},{"$f":"IF('Races, Positions & Points'!DP24=\"\",\"\",'Races, Positions & Points'!DP24)","v":""},{"$f":"IF('Races, Positions & Points'!DI24=\"\",\"\",'Races, Positions & Points'!DI24)","v":""},{"$f":"IF('Races, Positions & Points'!DS24=\"\",\"\",'Races, Positions & Points'!DS24)","v":""},{"$f":"IF('Races, Positions & Points'!#REF!=\"\",\"\",'Races, Positions & Points'!#REF!)","v":{"$error":"#REF!"}},{"$f":"IF('Races, Positions & Points'!DV24=\"\",\"\",'Races, Positions & Points'!DV24)","v":""},{"$f":"IF('Races, Positions & Points'!DY24=\"\",\"\",'Races, Positions & Points'!DY24)","v":""},{"$f":"IF('Races, Positions & Points'!EB24=\"\",\"\",'Races, Positions & Points'!EB24)","v":"-"},{"$f":"IF('Races, Positions & Points'!EF24=\"\",\"\",'Races, Positions & Points'!EF24)","v":18},{"$f":"IF('Races, Positions & Points'!EI24=\"\",\"\",'Races, Positions & Points'!EI24)","v":"-"},{"$f":"IF('Races, Positions & Points'!EM24=\"\",\"\",'Races, Positions & Points'!EM24)","v":"-"},{"$f":"IF('Races, Positions & Points'!EN24=\"\",\"\",'Races, Positions & Points'!EN24)","v":11},{"$f":"IF('Races, Positions & Points'!EP24=\"\",\"\",'Races, Positions & Points'!EP24)","v":""},{"$f":"IF('Races, Positions & Points'!ES24=\"\",\"\",'Races, Positions & Points'!ES24)","v":""},{"$f":"IF('Races, Positions & Points'!EV24=\"\",\"\",'Races, Positions & Points'!EV24)","v":""},{"$f":"IF('Races, Positions & Points'!EY24=\"\",\"\",'Races, Positions & Points'!EY24)","v":""},{"$f":"IF('Races, Positions & Points'!FB24=\"\",\"\",'Races, Positions & Points'!FB24)","v":""},{"$f":"IF('Races, Positions & Points'!#REF!=\"\",\"\",'Races, Positions & Points'!#REF!)","v":{"$error":"#REF!"}},{"$f":"IF('Races, Positions & Points'!#REF!=\"\",\"\",'Races, Positions & Points'!#REF!)","v":{"$error":"#REF!"}},{"$f":"IF('Races, Positions & Points'!#REF!=\"\",\"\",'Races, Positions & Points'!#REF!)","v":{"$error":"#REF!"}},{"$f":"IF('Races, Positions & Points'!#REF!=\"\",\"\",'Races, Positions & Points'!#REF!)","v":{"$error":"#REF!"}},{"$f":"IF('Races, Positions & Points'!#REF!=\"\",\"\",'Races, Positions & Points'!#REF!)","v":{"$error":"#REF!"}},{"$f":"IF('Races, Positions & Points'!#REF!=\"\",\"\",'Races, Positions & Points'!#REF!)","v":{"$error":"#REF!"}},null,{"$error":"#REF!"},{"$error":"#REF!"},{"$error":"#REF!"},{"$error":"#REF!"},{"$error":"#REF!"},{"$error":"#REF!"},null,{"$f":"'Races, Positions & Points'!E24","v":19051},{"$f":"'Races, Positions & Points'!#REF!","v":{"$error":"#REF!"}},{"$error":"#REF!"},"","",{"$error":"#REF!"},"",{"$error":"#REF!"},{"$error":"#REF!"},{"$error":"#REF!"},null,{"$error":"#REF!"},"","",{"$error":"#REF!"},"",{"$error":"#REF!"},{"$error":"#REF!"},{"$error":"#REF!"},null,{"$error":"#REF!"},{"$error":"#REF!"},{"$error":"#REF!"},{"$error":"#REF!"},"",{"$error":"#REF!"},{"$error":"#REF!"},"",{"$error":"#REF!"},"","","","","","-",{"$error":"#REF!"},null,{"$error":"#REF!"},"","","",null,{"$error":"#REF!"},"","","",null,{"$error":"#REF!"},{"$error":"#REF!"},{"$error":"#REF!"},"","",{"$error":"#REF!"},{"$error":"#REF!"},"","",{"$error":"#REF!"}]
[{"$f":"'Races, Positions & Points'!#REF!","v":{"$error":"#REF!"}},{"$f":"IF('Races, Positions & Points'!#REF!=\"\",\"\",'Races, Positions & Points'!#REF!)","v":{"$error":"#REF!"}},{"$f":"IF('Races, Positions & Points'!#REF!=\"\",\"\",'Races, Positions & Points'!#REF!)","v":{"$error":"#REF!"}},{"$f":"IF('Races, Positions & Points'!#REF!=\"\",\"\",'Races, Positions & Points'!#REF!)","v":{"$error":"#REF!"}},{"$f":"IF('Races, Positions & Points'!#REF!=\"\",\"\",'Races, Positions & Points'!#REF!)","v":{"$error":"#REF!"}},{"$f":"IF('Races, Positions & Points'!#REF!=\"\",\"\",'Races, Positions & Points'!#REF!)","v":{"$error":"#REF!"}},{"$f":"IF('Races, Positions & Points'!#REF!=\"\",\"\",'Races, Positions & Points'!#REF!)","v":{"$error":"#REF!"}},{"$f":"IF('Races, Positions & Points'!#REF!=\"\",\"\",'Races, Positions & Points'!#REF!)","v":{"$error":"#REF!"}},{"$f":"IF('Races, Positions & Points'!#REF!=\"\",\"\",'Races, Positions & Points'!#REF!)","v":{"$error":"#REF!"}},{"$f":"IF('Races, Positions & Points'!#REF!=\"\",\"\",'Races, Positions & Points'!#REF!)","v":{"$error":"#REF!"}},{"$f":"IF('Races, Positions & Points'!#REF!=\"\",\"\",'Races, Positions & Points'!#REF!)","v":{"$error":"#REF!"}},{"$f":"IF('Races, Positions & Points'!#REF!=\"\",\"\",'Races, Positions & Points'!#REF!)","v":{"$error":"#REF!"}},{"$f":"IF('Races, Positions & Points'!#REF!=\"\",\"\",'Races, Positions & Points'!#REF!)","v":{"$error":"#REF!"}},{"$f":"IF('Races, Positions & Points'!#REF!=\"\",\"\",'Races, Positions & Points'!#REF!)","v":{"$error":"#REF!"}},{"$f":"IF('Races, Positions & Points'!#REF!=\"\",\"\",'Races, Positions & Points'!#REF!)","v":{"$error":"#REF!"}},{"$f":"IF('Races, Positions & Points'!#REF!=\"\",\"\",'Races, Positions & Points'!#REF!)","v":{"$error":"#REF!"}},{"$f":"IF('Races, Positions & Points'!#REF!=\"\",\"\",'Races, Positions & Points'!#REF!)","v":{"$error":"#REF!"}},{"$f":"IF('Races, Positions & Points'!#REF!=\"\",\"\",'Races, Positions & Points'!#REF!)","v":{"$error":"#REF!"}},{"$f":"IF('Races, Positions & Points'!#REF!=\"\",\"\",'Races, Positions & Points'!#REF!)","v":{"$error":"#REF!"}},{"$f":"IF('Races, Positions & Points'!#REF!=\"\",\"\",'Races, Positions & Points'!#REF!)","v":{"$error":"#REF!"}},{"$f":"IF('Races, Positions & Points'!#REF!=\"\",\"\",'Races, Positions & Points'!#REF!)","v":{"$error":"#REF!"}},{"$f":"IF('Races, Positions & Points'!#REF!=\"\",\"\",'Races, Positions & Points'!#REF!)","v":{"$error":"#REF!"}},{"$f":"IF('Races, Positions & Points'!#REF!=\"\",\"\",'Races, Positions & Points'!#REF!)","v":{"$error":"#REF!"}},{"$f":"IF('Races, Positions & Points'!#REF!=\"\",\"\",'Races, Positions & Points'!#REF!)","v":{"$error":"#REF!"}},{"$f":"IF('Races, Positions & Points'!#REF!=\"\",\"\",'Races, Positions & Points'!#REF!)","v":{"$error":"#REF!"}},{"$f":"IF('Races, Positions & Points'!#REF!=\"\",\"\",'Races, Positions & Points'!#REF!)","v":{"$error":"#REF!"}},{"$f":"IF('Races, Positions & Points'!#REF!=\"\",\"\",'Races, Positions & Points'!#REF!)","v":{"$error":"#REF!"}},{"$f":"IF('Races, Positions & Points'!#REF!=\"\",\"\",'Races, Positions & Points'!#REF!)","v":{"$error":"#REF!"}},{"$f":"IF('Races, Positions & Points'!#REF!=\"\",\"\",'Races, Positions & Points'!#REF!)","v":{"$error":"#REF!"}},{"$f":"IF('Races, Positions & Points'!#REF!=\"\",\"\",'Races, Positions & Points'!#REF!)","v":{"$error":"#REF!"}},{"$f":"IF('Races, Positions & Points'!#REF!=\"\",\"\",'Races, Positions & Points'!#REF!)","v":{"$error":"#REF!"}},{"$f":"IF('Races, Positions & Points'!#REF!=\"\",\"\",'Races, Positions & Points'!#REF!)","v":{"$error":"#REF!"}},{"$f":"IF('Races, Positions & Points'!#REF!=\"\",\"\",'Races, Positions & Points'!#REF!)","v":{"$error":"#REF!"}},{"$f":"IF('Races, Positions & Points'!#REF!=\"\",\"\",'Races, Positions & Points'!#REF!)","v":{"$error":"#REF!"}},{"$f":"IF('Races, Positions & Points'!#REF!=\"\",\"\",'Races, Positions & Points'!#REF!)","v":{"$error":"#REF!"}},{"$f":"IF('Races, Positions & Points'!#REF!=\"\",\"\",'Races, Positions & Points'!#REF!)","v":{"$error":"#REF!"}},{"$f":"IF('Races, Positions & Points'!#REF!=\"\",\"\",'Races, Positions & Points'!#REF!)","v":{"$error":"#REF!"}},{"$f":"IF('Races, Positions & Points'!#REF!=\"\",\"\",'Races, Positions & Points'!#REF!)","v":{"$error":"#REF!"}},{"$f":"IF('Races, Positions & Points'!#REF!=\"\",\"\",'Races, Positions & Points'!#REF!)","v":{"$error":"#REF!"}},{"$f":"IF('Races, Positions & Points'!#REF!=\"\",\"\",'Races, Positions & Points'!#REF!)","v":{"$error":"#REF!"}},{"$f":"IF('Races, Positions & Points'!#REF!=\"\",\"\",'Races, Positions & Points'!#REF!)","v":{"$error":"#REF!"}},{"$f":"IF('Races, Positions & Points'!#REF!=\"\",\"\",'Races, Positions & Points'!#REF!)","v":{"$error":"#REF!"}},{"$f":"IF('Races, Positions & Points'!#REF!=\"\",\"\",'Races, Positions & Points'!#REF!)","v":{"$error":"#REF!"}},{"$f":"IF('Races, Positions & Points'!#REF!=\"\",\"\",'Races, Positions & Points'!#REF!)","v":{"$error":"#REF!"}},{"$f":"IF('Races, Positions & Points'!#REF!=\"\",\"\",'Races, Positions & Points'!#REF!)","v":{"$error":"#REF!"}},{"$f":"IF('Races, Positions & Points'!#REF!=\"\",\"\",'Races, Positions & Points'!#REF!)","v":{"$error":"#REF!"}},{"$f":"IF('Races, Positions & Points'!#REF!=\"\",\"\",'Races, Positions & Points'!#REF!)","v":{"$error":"#REF!"}},{"$f":"IF('Races, Positions & Points'!#REF!=\"\",\"\",'Races, Positions & Points'!#REF!)","v":{"$error":"#REF!"}},{"$f":"IF('Races, Positions & Points'!#REF!=\"\",\"\",'Races, Positions & Points'!#REF!)","v":{"$error":"#REF!"}},{"$f":"IF('Races, Positions & Points'!#REF!=\"\",\"\",'Races, Positions & Points'!#REF!)","v":{"$error":"#REF!"}},{"$f":"IF('Races, Positions & Points'!#REF!=\"\",\"\",'Races, Positions & Points'!#REF!)","v":{"$error":"#REF!"}},null,{"$error":"#REF!"},{"$error":"#REF!"},{"$error":"#REF!"},{"$error":"#REF!"},{"$error":"#REF!"},{"$error":"#REF!"},null,{"$f":"'Races, Positions & Points'!#REF!","v":{"$error":"#REF!"}},{"$f":"'Races, Positions & Points'!#REF!","v":{"$error":"#REF!"}},{"$error":"#REF!"},"","",{"$error":"#REF!"},"",{"$error":"#REF!"},{"$error":"#REF!"},{"$error":"#REF!"},null,{"$error":"#REF!"},"","",{"$error":"#REF!"},"",{"$error":"#REF!"},{"$error":"#REF!"},{"$error":"#REF!"},null,{"$error":"#REF!"},{"$error":"#REF!"},{"$error":"#REF!"},{"$error":"#REF!"},{"$error":"#REF!"},{"$error":"#REF!"},{"$error":"#REF!"},{"$error":"#REF!"},{"$error":"#REF!"},{"$error":"#REF!"},{"$error":"#REF!"},{"$error":"#REF!"},{"$error":"#REF!"},{"$error":"#REF!"},{"$error":"#REF!"},{"$error":"#REF!"},null,{"$error":"#REF!"},"","","",null,{"$error":"#REF!"},"","","",null,{"$error":"#REF!"},{"$error":"#REF!"},{"$error":"#REF!"},{"$error":"#REF!"},{"$error":"#REF!"},{"$error":"#REF!"},{"$error":"#REF!"},{"$error":"#REF!"},{"$error":"#REF!"},{"$error":"#REF!"}]
[{"$f":"'Races, Positions & Points'!#REF!","v":{"$error":"#REF!"}},{"$f":"IF('Races, Positions & Points'!#REF!=\"\",\"\",'Races, Positions & Points'!#REF!)","v":{"$error":"#REF!"}},{"$f":"IF('Races, Positions & Points'!#REF!=\"\",\"\",'Races, Positions & Points'!#REF!)","v":{"$error":"#REF!"}},{"$f":"IF('Races, Positions & Points'!#REF!=\"\",\"\",'Races, Positions & Points'!#REF!)","v":{"$error":"#REF!"}},{"$f":"IF('Races, Positions & Points'!#REF!=\"\",\"\",'Races, Positions & Points'!#REF!)","v":{"$error":"#REF!"}},{"$f":"IF('Races, Positions & Points'!#REF!=\"\",\"\",'Races, Positions & Points'!#REF!)","v":{"$error":"#REF!"}},{"$f":"IF('Races, Positions & Points'!#REF!=\"\",\"\",'Races, Positions & Points'!#REF!)","v":{"$error":"#REF!"}},{"$f":"IF('Races, Positions & Points'!#REF!=\"\",\"\",'Races, Positions & Points'!#REF!)","v":{"$error":"#REF!"}},{"$f":"IF('Races, Positions & Points'!#REF!=\"\",\"\",'Races, Positions & Points'!#REF!)","v":{"$error":"#REF!"}},{"$f":"IF('Races, Positions & Points'!#REF!=\"\",\"\",'Races, Positions & Points'!#REF!)","v":{"$error":"#REF!"}},{"$f":"IF('Races, Positions & Points'!#REF!=\"\",\"\",'Races, Positions & Points'!#REF!)","v":{"$error":"#REF!"}},{"$f":"IF('Races, Positions & Points'!#REF!=\"\",\"\",'Races, Positions & Points'!#REF!)","v":{"$error":"#REF!"}},{"$f":"IF('Races, Positions & Points'!#REF!=\"\",\"\",'Races, Positions & Points'!#REF!)","v":{"$error":"#REF!"}},{"$f":"IF('Races, Positions & Points'!#REF!=\"\",\"\",'Races, Positions & Points'!#REF!)","v":{"$error":"#REF!"}},{"$f":"IF('Races, Positions & Points'!#REF!=\"\",\"\",'Races, Positions & Points'!#REF!)","v":{"$error":"#REF!"}},{"$f":"IF('Races, Positions & Points'!#REF!=\"\",\"\",'Races, Positions & Points'!#REF!)","v":{"$error":"#REF!"}},{"$f":"IF('Races, Positions & Points'!#REF!=\"\",\"\",'Races, Positions & Points'!#REF!)","v":{"$error":"#REF!"}},{"$f":"IF('Races, Positions & Points'!#REF!=\"\",\"\",'Races, Positions & Points'!#REF!)","v":{"$error":"#REF!"}},{"$f":"IF('Races, Positions & Points'!#REF!=\"\",\"\",'Races, Positions & Points'!#REF!)","v":{"$error":"#REF!"}},{"$f":"IF('Races, Positions & Points'!#REF!=\"\",\"\",'Races, Positions & Points'!#REF!)","v":{"$error":"#REF!"}},{"$f":"IF('Races, Positions & Points'!#REF!=\"\",\"\",'Races, Positions & Points'!#REF!)","v":{"$error":"#REF!"}},{"$f":"IF('Races, Positions & Points'!#REF!=\"\",\"\",'Races, Positions & Points'!#REF!)","v":{"$error":"#REF!"}},{"$f":"IF('Races, Positions & Points'!#REF!=\"\",\"\",'Races, Positions & Points'!#REF!)","v":{"$error":"#REF!"}},{"$f":"IF('Races, Positions & Points'!#REF!=\"\",\"\",'Races, Positions & Points'!#REF!)","v":{"$error":"#REF!"}},{"$f":"IF('Races, Positions & Points'!#REF!=\"\",\"\",'Races, Positions & Points'!#REF!)","v":{"$error":"#REF!"}},{"$f":"IF('Races, Positions & Points'!#REF!=\"\",\"\",'Races, Positions & Points'!#REF!)","v":{"$error":"#REF!"}},{"$f":"IF('Races, Positions & Points'!#REF!=\"\",\"\",'Races, Positions & Points'!#REF!)","v":{"$error":"#REF!"}},{"$f":"IF('Races, Positions & Points'!#REF!=\"\",\"\",'Races, Positions & Points'!#REF!)","v":{"$error":"#REF!"}},{"$f":"IF('Races, Positions & Points'!#REF!=\"\",\"\",'Races, Positions & Points'!#REF!)","v":{"$error":"#REF!"}},{"$f":"IF('Races, Positions & Points'!#REF!=\"\",\"\",'Races, Positions & Points'!#REF!)","v":{"$error":"#REF!"}},{"$f":"IF('Races, Positions & Points'!#REF!=\"\",\"\",'Races, Positions & Points'!#REF!)","v":{"$error":"#REF!"}},{"$f":"IF('Races, Positions & Points'!#REF!=\"\",\"\",'Races, Positions & Points'!#REF!)","v":{"$error":"#REF!"}},{"$f":"IF('Races, Positions & Points'!#REF!=\"\",\"\",'Races, Positions & Points'!#REF!)","v":{"$error":"#REF!"}},{"$f":"IF('Races, Positions & Points'!#REF!=\"\",\"\",'Races, Positions & Points'!#REF!)","v":{"$error":"#REF!"}},{"$f":"IF('Races, Positions & Points'!#REF!=\"\",\"\",'Races, Positions & Points'!#REF!)","v":{"$error":"#REF!"}},{"$f":"IF('Races, Positions & Points'!#REF!=\"\",\"\",'Races, Positions & Points'!#REF!)","v":{"$error":"#REF!"}},{"$f":"IF('Races, Positions & Points'!#REF!=\"\",\"\",'Races, Positions & Points'!#REF!)","v":{"$error":"#REF!"}},{"$f":"IF('Races, Positions & Points'!#REF!=\"\",\"\",'Races, Positions & Points'!#REF!)","v":{"$error":"#REF!"}},{"$f":"IF('Races, Positions & Points'!#REF!=\"\",\"\",'Races, Positions & Points'!#REF!)","v":{"$error":"#REF!"}},{"$f":"IF('Races, Positions & Points'!#REF!=\"\",\"\",'Races, Positions & Points'!#REF!)","v":{"$error":"#REF!"}},{"$f":"IF('Races, Positions & Points'!#REF!=\"\",\"\",'Races, Positions & Points'!#REF!)","v":{"$error":"#REF!"}},{"$f":"IF('Races, Positions & Points'!#REF!=\"\",\"\",'Races, Positions & Points'!#REF!)","v":{"$error":"#REF!"}},{"$f":"IF('Races, Positions & Points'!#REF!=\"\",\"\",'Races, Positions & Points'!#REF!)","v":{"$error":"#REF!"}},{"$f":"IF('Races, Positions & Points'!#REF!=\"\",\"\",'Races, Positions & Points'!#REF!)","v":{"$error":"#REF!"}},{"$f":"IF('Races, Positions & Points'!#REF!=\"\",\"\",'Races, Positions & Points'!#REF!)","v":{"$error":"#REF!"}},{"$f":"IF('Races, Positions & Points'!#REF!=\"\",\"\",'Races, Positions & Points'!#REF!)","v":{"$error":"#REF!"}},{"$f":"IF('Races, Positions & Points'!#REF!=\"\",\"\",'Races, Positions & Points'!#REF!)","v":{"$error":"#REF!"}},{"$f":"IF('Races, Positions & Points'!#REF!=\"\",\"\",'Races, Positions & Points'!#REF!)","v":{"$error":"#REF!"}},{"$f":"IF('Races, Positions & Points'!#REF!=\"\",\"\",'Races, Positions & Points'!#REF!)","v":{"$error":"#REF!"}},{"$f":"IF('Races, Positions & Points'!#REF!=\"\",\"\",'Races, Positions & Points'!#REF!)","v":{"$error":"#REF!"}},{"$f":"IF('Races, Positions & Points'!#REF!=\"\",\"\",'Races, Positions & Points'!#REF!)","v":{"$error":"#REF!"}},null,{"$error":"#REF!"},{"$error":"#REF!"},{"$error":"#REF!"},{"$error":"#REF!"},{"$error":"#REF!"},{"$error":"#REF!"},null,{"$f":"'Races, Positions & Points'!#REF!","v":{"$error":"#REF!"}},{"$f":"'Races, Positions & Points'!#REF!","v":{"$error":"#REF!"}},{"$error":"#REF!"},"","",{"$error":"#REF!"},"",{"$error":"#REF!"},{"$error":"#REF!"},{"$error":"#REF!"},null,{"$error":"#REF!"},"","",{"$error":"#REF!"},"",{"$error":"#REF!"},{"$error":"#REF!"},{"$error":"#REF!"},null,{"$error":"#REF!"},{"$error":"#REF!"},{"$error":"#REF!"},{"$error":"#REF!"},{"$error":"#REF!"},{"$error":"#REF!"},{"$error":"#REF!"},{"$error":"#REF!"},{"$error":"#REF!"},{"$error":"#REF!"},{"$error":"#REF!"},{"$error":"#REF!"},{"$error":"#REF!"},{"$error":"#REF!"},{"$error":"#REF!"},{"$error":"#REF!"},null,{"$error":"#REF!"},"","","",null,{"$error":"#REF!"},"","","",null,{"$error":"#REF!"},{"$error":"#REF!"},{"$error":"#REF!"},{"$error":"#REF!"},{"$error":"#REF!"},{"$error":"#REF!"},{"$error":"#REF!"},{"$error":"#REF!"},{"$error":"#REF!"},{"$error":"#REF!"}]
[{"$f":"'Races, Positions & Points'!#REF!","v":{"$error":"#REF!"}},{"$f":"IF('Races, Positions & Points'!#REF!=\"\",\"\",'Races, Positions & Points'!#REF!)","v":{"$error":"#REF!"}},{"$f":"IF('Races, Positions & Points'!#REF!=\"\",\"\",'Races, Positions & Points'!#REF!)","v":{"$error":"#REF!"}},{"$f":"IF('Races, Positions & Points'!#REF!=\"\",\"\",'Races, Positions & Points'!#REF!)","v":{"$error":"#REF!"}},{"$f":"IF('Races, Positions & Points'!#REF!=\"\",\"\",'Races, Positions & Points'!#REF!)","v":{"$error":"#REF!"}},{"$f":"IF('Races, Positions & Points'!#REF!=\"\",\"\",'Races, Positions & Points'!#REF!)","v":{"$error":"#REF!"}},{"$f":"IF('Races, Positions & Points'!#REF!=\"\",\"\",'Races, Positions & Points'!#REF!)","v":{"$error":"#REF!"}},{"$f":"IF('Races, Positions & Points'!#REF!=\"\",\"\",'Races, Positions & Points'!#REF!)","v":{"$error":"#REF!"}},{"$f":"IF('Races, Positions & Points'!#REF!=\"\",\"\",'Races, Positions & Points'!#REF!)","v":{"$error":"#REF!"}},{"$f":"IF('Races, Positions & Points'!#REF!=\"\",\"\",'Races, Positions & Points'!#REF!)","v":{"$error":"#REF!"}},{"$f":"IF('Races, Positions & Points'!#REF!=\"\",\"\",'Races, Positions & Points'!#REF!)","v":{"$error":"#REF!"}},{"$f":"IF('Races, Positions & Points'!#REF!=\"\",\"\",'Races, Positions & Points'!#REF!)","v":{"$error":"#REF!"}},{"$f":"IF('Races, Positions & Points'!#REF!=\"\",\"\",'Races, Positions & Points'!#REF!)","v":{"$error":"#REF!"}},{"$f":"IF('Races, Positions & Points'!#REF!=\"\",\"\",'Races, Positions & Points'!#REF!)","v":{"$error":"#REF!"}},{"$f":"IF('Races, Positions & Points'!#REF!=\"\",\"\",'Races, Positions & Points'!#REF!)","v":{"$error":"#REF!"}},{"$f":"IF('Races, Positions & Points'!#REF!=\"\",\"\",'Races, Positions & Points'!#REF!)","v":{"$error":"#REF!"}},{"$f":"IF('Races, Positions & Points'!#REF!=\"\",\"\",'Races, Positions & Points'!#REF!)","v":{"$error":"#REF!"}},{"$f":"IF('Races, Positions & Points'!#REF!=\"\",\"\",'Races, Positions & Points'!#REF!)","v":{"$error":"#REF!"}},{"$f":"IF('Races, Positions & Points'!#REF!=\"\",\"\",'Races, Positions & Points'!#REF!)","v":{"$error":"#REF!"}},{"$f":"IF('Races, Positions & Points'!#REF!=\"\",\"\",'Races, Positions & Points'!#REF!)","v":{"$error":"#REF!"}},{"$f":"IF('Races, Positions & Points'!#REF!=\"\",\"\",'Races, Positions & Points'!#REF!)","v":{"$error":"#REF!"}},{"$f":"IF('Races, Positions & Points'!#REF!=\"\",\"\",'Races, Positions & Points'!#REF!)","v":{"$error":"#REF!"}},{"$f":"IF('Races, Positions & Points'!#REF!=\"\",\"\",'Races, Positions & Points'!#REF!)","v":{"$error":"#REF!"}},{"$f":"IF('Races, Positions & Points'!#REF!=\"\",\"\",'Races, Positions & Points'!#REF!)","v":{"$error":"#REF!"}},{"$f":"IF('Races, Positions & Points'!#REF!=\"\",\"\",'Races, Positions & Points'!#REF!)","v":{"$error":"#REF!"}},{"$f":"IF('Races, Positions & Points'!#REF!=\"\",\"\",'Races, Positions & Points'!#REF!)","v":{"$error":"#REF!"}},{"$f":"IF('Races, Positions & Points'!#REF!=\"\",\"\",'Races, Positions & Points'!#REF!)","v":{"$error":"#REF!"}},{"$f":"IF('Races, Positions & Points'!#REF!=\"\",\"\",'Races, Positions & Points'!#REF!)","v":{"$error":"#REF!"}},{"$f":"IF('Races, Positions & Points'!#REF!=\"\",\"\",'Races, Positions & Points'!#REF!)","v":{"$error":"#REF!"}},{"$f":"IF('Races, Positions & Points'!#REF!=\"\",\"\",'Races, Positions & Points'!#REF!)","v":{"$error":"#REF!"}},{"$f":"IF('Races, Positions & Points'!#REF!=\"\",\"\",'Races, Positions & Points'!#REF!)","v":{"$error":"#REF!"}},{"$f":"IF('Races, Positions & Points'!#REF!=\"\",\"\",'Races, Positions & Points'!#REF!)","v":{"$error":"#REF!"}},{"$f":"IF('Races, Positions & Points'!#REF!=\"\",\"\",'Races, Positions & Points'!#REF!)","v":{"$error":"#REF!"}},{"$f":"IF('Races, Positions & Points'!#REF!=\"\",\"\",'Races, Positions & Points'!#REF!)","v":{"$error":"#REF!"}},{"$f":"IF('Races, Positions & Points'!#REF!=\"\",\"\",'Races, Positions & Points'!#REF!)","v":{"$error":"#REF!"}},{"$f":"IF('Races, Positions & Points'!#REF!=\"\",\"\",'Races, Positions & Points'!#REF!)","v":{"$error":"#REF!"}},{"$f":"IF('Races, Positions & Points'!#REF!=\"\",\"\",'Races, Positions & Points'!#REF!)","v":{"$error":"#REF!"}},{"$f":"IF('Races, Positions & Points'!#REF!=\"\",\"\",'Races, Positions & Points'!#REF!)","v":{"$error":"#REF!"}},{"$f":"IF('Races, Positions & Points'!#REF!=\"\",\"\",'Races, Positions & Points'!#REF!)","v":{"$error":"#REF!"}},{"$f":"IF('Races, Positions & Points'!#REF!=\"\",\"\",'Races, Positions & Points'!#REF!)","v":{"$error":"#REF!"}},{"$f":"IF('Races, Positions & Points'!#REF!=\"\",\"\",'Races, Positions & Points'!#REF!)","v":{"$error":"#REF!"}},{"$f":"IF('Races, Positions & Points'!#REF!=\"\",\"\",'Races, Positions & Points'!#REF!)","v":{"$error":"#REF!"}},{"$f":"IF('Races, Positions & Points'!#REF!=\"\",\"\",'Races, Positions & Points'!#REF!)","v":{"$error":"#REF!"}},{"$f":"IF('Races, Positions & Points'!#REF!=\"\",\"\",'Races, Positions & Points'!#REF!)","v":{"$error":"#REF!"}},{"$f":"IF('Races, Positions & Points'!#REF!=\"\",\"\",'Races, Positions & Points'!#REF!)","v":{"$error":"#REF!"}},{"$f":"IF('Races, Positions & Points'!#REF!=\"\",\"\",'Races, Positions & Points'!#REF!)","v":{"$error":"#REF!"}},{"$f":"IF('Races, Positions & Points'!#REF!=\"\",\"\",'Races, Positions & Points'!#REF!)","v":{"$error":"#REF!"}},{"$f":"IF('Races, Positions & Points'!#REF!=\"\",\"\",'Races, Positions & Points'!#REF!)","v":{"$error":"#REF!"}},{"$f":"IF('Races, Positions & Points'!#REF!=\"\",\"\",'Races, Positions & Points'!#REF!)","v":{"$error":"#REF!"}},{"$f":"IF('Races, Positions & Points'!#REF!=\"\",\"\",'Races, Positions & Points'!#REF!)","v":{"$error":"#REF!"}},{"$f":"IF('Races, Positions & Points'!#REF!=\"\",\"\",'Races, Positions & Points'!#REF!)","v":{"$error":"#REF!"}},null,{"$error":"#REF!"},{"$error":"#REF!"},{"$error":"#REF!"},{"$error":"#REF!"},{"$error":"#REF!"},{"$error":"#REF!"},null,{"$f":"'Races, Positions & Points'!#REF!","v":{"$error":"#REF!"}},{"$f":"'Races, Positions & Points'!#REF!","v":{"$error":"#REF!"}},{"$error":"#REF!"},"","",{"$error":"#REF!"},"",{"$error":"#REF!"},{"$error":"#REF!"},{"$error":"#REF!"},null,{"$error":"#REF!"},"","",{"$error":"#REF!"},"",{"$error":"#REF!"},{"$error":"#REF!"},{"$error":"#REF!"},null,{"$error":"#REF!"},{"$error":"#REF!"},{"$error":"#REF!"},{"$error":"#REF!"},{"$error":"#REF!"},{"$error":"#REF!"},{"$error":"#REF!"},{"$error":"#REF!"},{"$error":"#REF!"},{"$error":"#REF!"},{"$error":"#REF!"},{"$error":"#REF!"},{"$error":"#REF!"},{"$error":"#REF!"},{"$error":"#REF!"},{"$error":"#REF!"},null,{"$error":"#REF!"},"","","",null,{"$error":"#REF!"},"","","",null,{"$error":"#REF!"},{"$error":"#REF!"},{"$error":"#REF!"},{"$error":"#REF!"},{"$error":"#REF!"},{"$error":"#REF!"},{"$error":"#REF!"},{"$error":"#REF!"},{"$error":"#REF!"},{"$error":"#REF!"}]
[{"$f":"'Races, Positions & Points'!#REF!","v":{"$error":"#REF!"}},{"$f":"IF('Races, Positions & Points'!#REF!=\"\",\"\",'Races, Positions & Points'!#REF!)","v":{"$error":"#REF!"}},{"$f":"IF('Races, Positions & Points'!#REF!=\"\",\"\",'Races, Positions & Points'!#REF!)","v":{"$error":"#REF!"}},{"$f":"IF('Races, Positions & Points'!#REF!=\"\",\"\",'Races, Positions & Points'!#REF!)","v":{"$error":"#REF!"}},{"$f":"IF('Races, Positions & Points'!#REF!=\"\",\"\",'Races, Positions & Points'!#REF!)","v":{"$error":"#REF!"}},{"$f":"IF('Races, Positions & Points'!#REF!=\"\",\"\",'Races, Positions & Points'!#REF!)","v":{"$error":"#REF!"}},{"$f":"IF('Races, Positions & Points'!#REF!=\"\",\"\",'Races, Positions & Points'!#REF!)","v":{"$error":"#REF!"}},{"$f":"IF('Races, Positions & Points'!#REF!=\"\",\"\",'Races, Positions & Points'!#REF!)","v":{"$error":"#REF!"}},{"$f":"IF('Races, Positions & Points'!#REF!=\"\",\"\",'Races, Positions & Points'!#REF!)","v":{"$error":"#REF!"}},{"$f":"IF('Races, Positions & Points'!#REF!=\"\",\"\",'Races, Positions & Points'!#REF!)","v":{"$error":"#REF!"}},{"$f":"IF('Races, Positions & Points'!#REF!=\"\",\"\",'Races, Positions & Points'!#REF!)","v":{"$error":"#REF!"}},{"$f":"IF('Races, Positions & Points'!#REF!=\"\",\"\",'Races, Positions & Points'!#REF!)","v":{"$error":"#REF!"}},{"$f":"IF('Races, Positions & Points'!#REF!=\"\",\"\",'Races, Positions & Points'!#REF!)","v":{"$error":"#REF!"}},{"$f":"IF('Races, Positions & Points'!#REF!=\"\",\"\",'Races, Positions & Points'!#REF!)","v":{"$error":"#REF!"}},{"$f":"IF('Races, Positions & Points'!#REF!=\"\",\"\",'Races, Positions & Points'!#REF!)","v":{"$error":"#REF!"}},{"$f":"IF('Races, Positions & Points'!#REF!=\"\",\"\",'Races, Positions & Points'!#REF!)","v":{"$error":"#REF!"}},{"$f":"IF('Races, Positions & Points'!#REF!=\"\",\"\",'Races, Positions & Points'!#REF!)","v":{"$error":"#REF!"}},{"$f":"IF('Races, Positions & Points'!#REF!=\"\",\"\",'Races, Positions & Points'!#REF!)","v":{"$error":"#REF!"}},{"$f":"IF('Races, Positions & Points'!#REF!=\"\",\"\",'Races, Positions & Points'!#REF!)","v":{"$error":"#REF!"}},{"$f":"IF('Races, Positions & Points'!#REF!=\"\",\"\",'Races, Positions & Points'!#REF!)","v":{"$error":"#REF!"}},{"$f":"IF('Races, Positions & Points'!#REF!=\"\",\"\",'Races, Positions & Points'!#REF!)","v":{"$error":"#REF!"}},{"$f":"IF('Races, Positions & Points'!#REF!=\"\",\"\",'Races, Positions & Points'!#REF!)","v":{"$error":"#REF!"}},{"$f":"IF('Races, Positions & Points'!#REF!=\"\",\"\",'Races, Positions & Points'!#REF!)","v":{"$error":"#REF!"}},{"$f":"IF('Races, Positions & Points'!#REF!=\"\",\"\",'Races, Positions & Points'!#REF!)","v":{"$error":"#REF!"}},{"$f":"IF('Races, Positions & Points'!#REF!=\"\",\"\",'Races, Positions & Points'!#REF!)","v":{"$error":"#REF!"}},{"$f":"IF('Races, Positions & Points'!#REF!=\"\",\"\",'Races, Positions & Points'!#REF!)","v":{"$error":"#REF!"}},{"$f":"IF('Races, Positions & Points'!#REF!=\"\",\"\",'Races, Positions & Points'!#REF!)","v":{"$error":"#REF!"}},{"$f":"IF('Races, Positions & Points'!#REF!=\"\",\"\",'Races, Positions & Points'!#REF!)","v":{"$error":"#REF!"}},{"$f":"IF('Races, Positions & Points'!#REF!=\"\",\"\",'Races, Positions & Points'!#REF!)","v":{"$error":"#REF!"}},{"$f":"IF('Races, Positions & Points'!#REF!=\"\",\"\",'Races, Positions & Points'!#REF!)","v":{"$error":"#REF!"}},{"$f":"IF('Races, Positions & Points'!#REF!=\"\",\"\",'Races, Positions & Points'!#REF!)","v":{"$error":"#REF!"}},{"$f":"IF('Races, Positions & Points'!#REF!=\"\",\"\",'Races, Positions & Points'!#REF!)","v":{"$error":"#REF!"}},{"$f":"IF('Races, Positions & Points'!#REF!=\"\",\"\",'Races, Positions & Points'!#REF!)","v":{"$error":"#REF!"}},{"$f":"IF('Races, Positions & Points'!#REF!=\"\",\"\",'Races, Positions & Points'!#REF!)","v":{"$error":"#REF!"}},{"$f":"IF('Races, Positions & Points'!#REF!=\"\",\"\",'Races, Positions & Points'!#REF!)","v":{"$error":"#REF!"}},{"$f":"IF('Races, Positions & Points'!#REF!=\"\",\"\",'Races, Positions & Points'!#REF!)","v":{"$error":"#REF!"}},{"$f":"IF('Races, Positions & Points'!#REF!=\"\",\"\",'Races, Positions & Points'!#REF!)","v":{"$error":"#REF!"}},{"$f":"IF('Races, Positions & Points'!#REF!=\"\",\"\",'Races, Positions & Points'!#REF!)","v":{"$error":"#REF!"}},{"$f":"IF('Races, Positions & Points'!#REF!=\"\",\"\",'Races, Positions & Points'!#REF!)","v":{"$error":"#REF!"}},{"$f":"IF('Races, Positions & Points'!#REF!=\"\",\"\",'Races, Positions & Points'!#REF!)","v":{"$error":"#REF!"}},{"$f":"IF('Races, Positions & Points'!#REF!=\"\",\"\",'Races, Positions & Points'!#REF!)","v":{"$error":"#REF!"}},{"$f":"IF('Races, Positions & Points'!#REF!=\"\",\"\",'Races, Positions & Points'!#REF!)","v":{"$error":"#REF!"}},{"$f":"IF('Races, Positions & Points'!#REF!=\"\",\"\",'Races, Positions & Points'!#REF!)","v":{"$error":"#REF!"}},{"$f":"IF('Races, Positions & Points'!#REF!=\"\",\"\",'Races, Positions & Points'!#REF!)","v":{"$error":"#REF!"}},{"$f":"IF('Races, Positions & Points'!#REF!=\"\",\"\",'Races, Positions & Points'!#REF!)","v":{"$error":"#REF!"}},{"$f":"IF('Races, Positions & Points'!#REF!=\"\",\"\",'Races, Positions & Points'!#REF!)","v":{"$error":"#REF!"}},{"$f":"IF('Races, Positions & Points'!#REF!=\"\",\"\",'Races, Positions & Points'!#REF!)","v":{"$error":"#REF!"}},{"$f":"IF('Races, Positions & Points'!#REF!=\"\",\"\",'Races, Positions & Points'!#REF!)","v":{"$error":"#REF!"}},{"$f":"IF('Races, Positions & Points'!#REF!=\"\",\"\",'Races, Positions & Points'!#REF!)","v":{"$error":"#REF!"}},{"$f":"IF('Races, Positions & Points'!#REF!=\"\",\"\",'Races, Positions & Points'!#REF!)","v":{"$error":"#REF!"}},{"$f":"IF('Races, Positions & Points'!#REF!=\"\",\"\",'Races, Positions & Points'!#REF!)","v":{"$error":"#REF!"}},null,{"$error":"#REF!"},{"$error":"#REF!"},{"$error":"#REF!"},{"$error":"#REF!"},{"$error":"#REF!"},{"$error":"#REF!"},null,{"$f":"'Races, Positions & Points'!#REF!","v":{"$error":"#REF!"}},{"$f":"'Races, Positions & Points'!#REF!","v":{"$error":"#REF!"}},{"$error":"#REF!"},"","",{"$error":"#REF!"},"",{"$error":"#REF!"},{"$error":"#REF!"},{"$error":"#REF!"},null,{"$error":"#REF!"},"","",{"$error":"#REF!"},"",{"$error":"#REF!"},{"$error":"#REF!"},{"$error":"#REF!"},null,{"$error":"#REF!"},{"$error":"#REF!"},{"$error":"#REF!"},{"$error":"#REF!"},{"$error":"#REF!"},{"$error":"#REF!"},{"$error":"#REF!"},{"$error":"#REF!"},{"$error":"#REF!"},{"$error":"#REF!"},{"$error":"#REF!"},{"$error":"#REF!"},{"$error":"#REF!"},{"$error":"#REF!"},{"$error":"#REF!"},{"$error":"#REF!"},null,{"$error":"#REF!"},"","","",null,{"$error":"#REF!"},"","","",null,{"$error":"#REF!"},{"$error":"#REF!"},{"$error":"#REF!"},{"$error":"#REF!"},{"$error":"#REF!"},{"$error":"#REF!"},{"$error":"#REF!"},{"$error":"#REF!"},{"$error":"#REF!"},{"$error":"#REF!"}]
[{"$f":"'Races, Positions & Points'!#REF!","v":{"$error":"#REF!"}},{"$f":"IF('Races, Positions & Points'!#REF!=\"\",\"\",'Races, Positions & Points'!#REF!)","v":{"$error":"#REF!"}},{"$f":"IF('Races, Positions & Points'!#REF!=\"\",\"\",'Races, Positions & Points'!#REF!)","v":{"$error":"#REF!"}},{"$f":"IF('Races, Positions & Points'!#REF!=\"\",\"\",'Races, Positions & Points'!#REF!)","v":{"$error":"#REF!"}},{"$f":"IF('Races, Positions & Points'!#REF!=\"\",\"\",'Races, Positions & Points'!#REF!)","v":{"$error":"#REF!"}},{"$f":"IF('Races, Positions & Points'!#REF!=\"\",\"\",'Races, Positions & Points'!#REF!)","v":{"$error":"#REF!"}},{"$f":"IF('Races, Positions & Points'!#REF!=\"\",\"\",'Races, Positions & Points'!#REF!)","v":{"$error":"#REF!"}},{"$f":"IF('Races, Positions & Points'!#REF!=\"\",\"\",'Races, Positions & Points'!#REF!)","v":{"$error":"#REF!"}},{"$f":"IF('Races, Positions & Points'!#REF!=\"\",\"\",'Races, Positions & Points'!#REF!)","v":{"$error":"#REF!"}},{"$f":"IF('Races, Positions & Points'!#REF!=\"\",\"\",'Races, Positions & Points'!#REF!)","v":{"$error":"#REF!"}},{"$f":"IF('Races, Positions & Points'!#REF!=\"\",\"\",'Races, Positions & Points'!#REF!)","v":{"$error":"#REF!"}},{"$f":"IF('Races, Positions & Points'!#REF!=\"\",\"\",'Races, Positions & Points'!#REF!)","v":{"$error":"#REF!"}},{"$f":"IF('Races, Positions & Points'!#REF!=\"\",\"\",'Races, Positions & Points'!#REF!)","v":{"$error":"#REF!"}},{"$f":"IF('Races, Positions & Points'!#REF!=\"\",\"\",'Races, Positions & Points'!#REF!)","v":{"$error":"#REF!"}},{"$f":"IF('Races, Positions & Points'!#REF!=\"\",\"\",'Races, Positions & Points'!#REF!)","v":{"$error":"#REF!"}},{"$f":"IF('Races, Positions & Points'!#REF!=\"\",\"\",'Races, Positions & Points'!#REF!)","v":{"$error":"#REF!"}},{"$f":"IF('Races, Positions & Points'!#REF!=\"\",\"\",'Races, Positions & Points'!#REF!)","v":{"$error":"#REF!"}},{"$f":"IF('Races, Positions & Points'!#REF!=\"\",\"\",'Races, Positions & Points'!#REF!)","v":{"$error":"#REF!"}},{"$f":"IF('Races, Positions & Points'!#REF!=\"\",\"\",'Races, Positions & Points'!#REF!)","v":{"$error":"#REF!"}},{"$f":"IF('Races, Positions & Points'!#REF!=\"\",\"\",'Races, Positions & Points'!#REF!)","v":{"$error":"#REF!"}},{"$f":"IF('Races, Positions & Points'!#REF!=\"\",\"\",'Races, Positions & Points'!#REF!)","v":{"$error":"#REF!"}},{"$f":"IF('Races, Positions & Points'!#REF!=\"\",\"\",'Races, Positions & Points'!#REF!)","v":{"$error":"#REF!"}},{"$f":"IF('Races, Positions & Points'!#REF!=\"\",\"\",'Races, Positions & Points'!#REF!)","v":{"$error":"#REF!"}},{"$f":"IF('Races, Positions & Points'!#REF!=\"\",\"\",'Races, Positions & Points'!#REF!)","v":{"$error":"#REF!"}},{"$f":"IF('Races, Positions & Points'!#REF!=\"\",\"\",'Races, Positions & Points'!#REF!)","v":{"$error":"#REF!"}},{"$f":"IF('Races, Positions & Points'!#REF!=\"\",\"\",'Races, Positions & Points'!#REF!)","v":{"$error":"#REF!"}},{"$f":"IF('Races, Positions & Points'!#REF!=\"\",\"\",'Races, Positions & Points'!#REF!)","v":{"$error":"#REF!"}},{"$f":"IF('Races, Positions & Points'!#REF!=\"\",\"\",'Races, Positions & Points'!#REF!)","v":{"$error":"#REF!"}},{"$f":"IF('Races, Positions & Points'!#REF!=\"\",\"\",'Races, Positions & Points'!#REF!)","v":{"$error":"#REF!"}},{"$f":"IF('Races, Positions & Points'!#REF!=\"\",\"\",'Races, Positions & Points'!#REF!)","v":{"$error":"#REF!"}},{"$f":"IF('Races, Positions & Points'!#REF!=\"\",\"\",'Races, Positions & Points'!#REF!)","v":{"$error":"#REF!"}},{"$f":"IF('Races, Positions & Points'!#REF!=\"\",\"\",'Races, Positions & Points'!#REF!)","v":{"$error":"#REF!"}},{"$f":"IF('Races, Positions & Points'!#REF!=\"\",\"\",'Races, Positions & Points'!#REF!)","v":{"$error":"#REF!"}},{"$f":"IF('Races, Positions & Points'!#REF!=\"\",\"\",'Races, Positions & Points'!#REF!)","v":{"$error":"#REF!"}},{"$f":"IF('Races, Positions & Points'!#REF!=\"\",\"\",'Races, Positions & Points'!#REF!)","v":{"$error":"#REF!"}},{"$f":"IF('Races, Positions & Points'!#REF!=\"\",\"\",'Races, Positions & Points'!#REF!)","v":{"$error":"#REF!"}},{"$f":"IF('Races, Positions & Points'!#REF!=\"\",\"\",'Races, Positions & Points'!#REF!)","v":{"$error":"#REF!"}},{"$f":"IF('Races, Positions & Points'!#REF!=\"\",\"\",'Races, Positions & Points'!#REF!)","v":{"$error":"#REF!"}},{"$f":"IF('Races, Positions & Points'!#REF!=\"\",\"\",'Races, Positions & Points'!#REF!)","v":{"$error":"#REF!"}},{"$f":"IF('Races, Positions & Points'!#REF!=\"\",\"\",'Races, Positions & Points'!#REF!)","v":{"$error":"#REF!"}},{"$f":"IF('Races, Positions & Points'!#REF!=\"\",\"\",'Races, Positions & Points'!#REF!)","v":{"$error":"#REF!"}},{"$f":"IF('Races, Positions & Points'!#REF!=\"\",\"\",'Races, Positions & Points'!#REF!)","v":{"$error":"#REF!"}},{"$f":"IF('Races, Positions & Points'!#REF!=\"\",\"\",'Races, Positions & Points'!#REF!)","v":{"$error":"#REF!"}},{"$f":"IF('Races, Positions & Points'!#REF!=\"\",\"\",'Races, Positions & Points'!#REF!)","v":{"$error":"#REF!"}},{"$f":"IF('Races, Positions & Points'!#REF!=\"\",\"\",'Races, Positions & Points'!#REF!)","v":{"$error":"#REF!"}},{"$f":"IF('Races, Positions & Points'!#REF!=\"\",\"\",'Races, Positions & Points'!#REF!)","v":{"$error":"#REF!"}},{"$f":"IF('Races, Positions & Points'!#REF!=\"\",\"\",'Races, Positions & Points'!#REF!)","v":{"$error":"#REF!"}},{"$f":"IF('Races, Positions & Points'!#REF!=\"\",\"\",'Races, Positions & Points'!#REF!)","v":{"$error":"#REF!"}},{"$f":"IF('Races, Positions & Points'!#REF!=\"\",\"\",'Races, Positions & Points'!#REF!)","v":{"$error":"#REF!"}},{"$f":"IF('Races, Positions & Points'!#REF!=\"\",\"\",'Races, Positions & Points'!#REF!)","v":{"$error":"#REF!"}},{"$f":"IF('Races, Positions & Points'!#REF!=\"\",\"\",'Races, Positions & Points'!#REF!)","v":{"$error":"#REF!"}},null,{"$error":"#REF!"},{"$error":"#REF!"},{"$error":"#REF!"},{"$error":"#REF!"},{"$error":"#REF!"},{"$error":"#REF!"},null,{"$f":"'Races, Positions & Points'!#REF!","v":{"$error":"#REF!"}},{"$f":"'Races, Positions & Points'!#REF!","v":{"$error":"#REF!"}},{"$error":"#REF!"},"","",{"$error":"#REF!"},"",{"$error":"#REF!"},{"$error":"#REF!"},{"$error":"#REF!"},null,{"$error":"#REF!"},"","",{"$error":"#REF!"},"",{"$error":"#REF!"},{"$error":"#REF!"},{"$error":"#REF!"},null,{"$error":"#REF!"},{"$error":"#REF!"},{"$error":"#REF!"},{"$error":"#REF!"},{"$error":"#REF!"},{"$error":"#REF!"},{"$error":"#REF!"},{"$error":"#REF!"},{"$error":"#REF!"},{"$error":"#REF!"},{"$error":"#REF!"},{"$error":"#REF!"},{"$error":"#REF!"},{"$error":"#REF!"},{"$error":"#REF!"},{"$error":"#REF!"},null,{"$error":"#REF!"},"","","",null,{"$error":"#REF!"},"","","",null,{"$error":"#REF!"},{"$error":"#REF!"},{"$error":"#REF!"},{"$error":"#REF!"},{"$error":"#REF!"},{"$error":"#REF!"},{"$error":"#REF!"},{"$error":"#REF!"},{"$error":"#REF!"},{"$error":"#REF!"}]
[{"$f":"'Races, Positions & Points'!#REF!","v":{"$error":"#REF!"}},{"$f":"IF('Races, Positions & Points'!#REF!=\"\",\"\",'Races, Positions & Points'!#REF!)","v":{"$error":"#REF!"}},{"$f":"IF('Races, Positions & Points'!#REF!=\"\",\"\",'Races, Positions & Points'!#REF!)","v":{"$error":"#REF!"}},{"$f":"IF('Races, Positions & Points'!#REF!=\"\",\"\",'Races, Positions & Points'!#REF!)","v":{"$error":"#REF!"}},{"$f":"IF('Races, Positions & Points'!#REF!=\"\",\"\",'Races, Positions & Points'!#REF!)","v":{"$error":"#REF!"}},{"$f":"IF('Races, Positions & Points'!#REF!=\"\",\"\",'Races, Positions & Points'!#REF!)","v":{"$error":"#REF!"}},{"$f":"IF('Races, Positions & Points'!#REF!=\"\",\"\",'Races, Positions & Points'!#REF!)","v":{"$error":"#REF!"}},{"$f":"IF('Races, Positions & Points'!#REF!=\"\",\"\",'Races, Positions & Points'!#REF!)","v":{"$error":"#REF!"}},{"$f":"IF('Races, Positions & Points'!#REF!=\"\",\"\",'Races, Positions & Points'!#REF!)","v":{"$error":"#REF!"}},{"$f":"IF('Races, Positions & Points'!#REF!=\"\",\"\",'Races, Positions & Points'!#REF!)","v":{"$error":"#REF!"}},{"$f":"IF('Races, Positions & Points'!#REF!=\"\",\"\",'Races, Positions & Points'!#REF!)","v":{"$error":"#REF!"}},{"$f":"IF('Races, Positions & Points'!#REF!=\"\",\"\",'Races, Positions & Points'!#REF!)","v":{"$error":"#REF!"}},{"$f":"IF('Races, Positions & Points'!#REF!=\"\",\"\",'Races, Positions & Points'!#REF!)","v":{"$error":"#REF!"}},{"$f":"IF('Races, Positions & Points'!#REF!=\"\",\"\",'Races, Positions & Points'!#REF!)","v":{"$error":"#REF!"}},{"$f":"IF('Races, Positions & Points'!#REF!=\"\",\"\",'Races, Positions & Points'!#REF!)","v":{"$error":"#REF!"}},{"$f":"IF('Races, Positions & Points'!#REF!=\"\",\"\",'Races, Positions & Points'!#REF!)","v":{"$error":"#REF!"}},{"$f":"IF('Races, Positions & Points'!#REF!=\"\",\"\",'Races, Positions & Points'!#REF!)","v":{"$error":"#REF!"}},{"$f":"IF('Races, Positions & Points'!#REF!=\"\",\"\",'Races, Positions & Points'!#REF!)","v":{"$error":"#REF!"}},{"$f":"IF('Races, Positions & Points'!#REF!=\"\",\"\",'Races, Positions & Points'!#REF!)","v":{"$error":"#REF!"}},{"$f":"IF('Races, Positions & Points'!#REF!=\"\",\"\",'Races, Positions & Points'!#REF!)","v":{"$error":"#REF!"}},{"$f":"IF('Races, Positions & Points'!#REF!=\"\",\"\",'Races, Positions & Points'!#REF!)","v":{"$error":"#REF!"}},{"$f":"IF('Races, Positions & Points'!#REF!=\"\",\"\",'Races, Positions & Points'!#REF!)","v":{"$error":"#REF!"}},{"$f":"IF('Races, Positions & Points'!#REF!=\"\",\"\",'Races, Positions & Points'!#REF!)","v":{"$error":"#REF!"}},{"$f":"IF('Races, Positions & Points'!#REF!=\"\",\"\",'Races, Positions & Points'!#REF!)","v":{"$error":"#REF!"}},{"$f":"IF('Races, Positions & Points'!#REF!=\"\",\"\",'Races, Positions & Points'!#REF!)","v":{"$error":"#REF!"}},{"$f":"IF('Races, Positions & Points'!#REF!=\"\",\"\",'Races, Positions & Points'!#REF!)","v":{"$error":"#REF!"}},{"$f":"IF('Races, Positions & Points'!#REF!=\"\",\"\",'Races, Positions & Points'!#REF!)","v":{"$error":"#REF!"}},{"$f":"IF('Races, Positions & Points'!#REF!=\"\",\"\",'Races, Positions & Points'!#REF!)","v":{"$error":"#REF!"}},{"$f":"IF('Races, Positions & Points'!#REF!=\"\",\"\",'Races, Positions & Points'!#REF!)","v":{"$error":"#REF!"}},{"$f":"IF('Races, Positions & Points'!#REF!=\"\",\"\",'Races, Positions & Points'!#REF!)","v":{"$error":"#REF!"}},{"$f":"IF('Races, Positions & Points'!#REF!=\"\",\"\",'Races, Positions & Points'!#REF!)","v":{"$error":"#REF!"}},{"$f":"IF('Races, Positions & Points'!#REF!=\"\",\"\",'Races, Positions & Points'!#REF!)","v":{"$error":"#REF!"}},{"$f":"IF('Races, Positions & Points'!#REF!=\"\",\"\",'Races, Positions & Points'!#REF!)","v":{"$error":"#REF!"}},{"$f":"IF('Races, Positions & Points'!#REF!=\"\",\"\",'Races, Positions & Points'!#REF!)","v":{"$error":"#REF!"}},{"$f":"IF('Races, Positions & Points'!#REF!=\"\",\"\",'Races, Positions & Points'!#REF!)","v":{"$error":"#REF!"}},{"$f":"IF('Races, Positions & Points'!#REF!=\"\",\"\",'Races, Positions & Points'!#REF!)","v":{"$error":"#REF!"}},{"$f":"IF('Races, Positions & Points'!#REF!=\"\",\"\",'Races, Positions & Points'!#REF!)","v":{"$error":"#REF!"}},{"$f":"IF('Races, Positions & Points'!#REF!=\"\",\"\",'Races, Positions & Points'!#REF!)","v":{"$error":"#REF!"}},{"$f":"IF('Races, Positions & Points'!#REF!=\"\",\"\",'Races, Positions & Points'!#REF!)","v":{"$error":"#REF!"}},{"$f":"IF('Races, Positions & Points'!#REF!=\"\",\"\",'Races, Positions & Points'!#REF!)","v":{"$error":"#REF!"}},{"$f":"IF('Races, Positions & Points'!#REF!=\"\",\"\",'Races, Positions & Points'!#REF!)","v":{"$error":"#REF!"}},{"$f":"IF('Races, Positions & Points'!#REF!=\"\",\"\",'Races, Positions & Points'!#REF!)","v":{"$error":"#REF!"}},{"$f":"IF('Races, Positions & Points'!#REF!=\"\",\"\",'Races, Positions & Points'!#REF!)","v":{"$error":"#REF!"}},{"$f":"IF('Races, Positions & Points'!#REF!=\"\",\"\",'Races, Positions & Points'!#REF!)","v":{"$error":"#REF!"}},{"$f":"IF('Races, Positions & Points'!#REF!=\"\",\"\",'Races, Positions & Points'!#REF!)","v":{"$error":"#REF!"}},{"$f":"IF('Races, Positions & Points'!#REF!=\"\",\"\",'Races, Positions & Points'!#REF!)","v":{"$error":"#REF!"}},{"$f":"IF('Races, Positions & Points'!#REF!=\"\",\"\",'Races, Positions & Points'!#REF!)","v":{"$error":"#REF!"}},{"$f":"IF('Races, Positions & Points'!#REF!=\"\",\"\",'Races, Positions & Points'!#REF!)","v":{"$error":"#REF!"}},{"$f":"IF('Races, Positions & Points'!#REF!=\"\",\"\",'Races, Positions & Points'!#REF!)","v":{"$error":"#REF!"}},{"$f":"IF('Races, Positions & Points'!#REF!=\"\",\"\",'Races, Positions & Points'!#REF!)","v":{"$error":"#REF!"}},{"$f":"IF('Races, Positions & Points'!#REF!=\"\",\"\",'Races, Positions & Points'!#REF!)","v":{"$error":"#REF!"}},null,{"$error":"#REF!"},{"$error":"#REF!"},{"$error":"#REF!"},{"$error":"#REF!"},{"$error":"#REF!"},{"$error":"#REF!"},null,{"$f":"'Races, Positions & Points'!#REF!","v":{"$error":"#REF!"}},{"$f":"'Races, Positions & Points'!#REF!","v":{"$error":"#REF!"}},{"$error":"#REF!"},"","",{"$error":"#REF!"},"",{"$error":"#REF!"},{"$error":"#REF!"},{"$error":"#REF!"},null,{"$error":"#REF!"},"","",{"$error":"#REF!"},"",{"$error":"#REF!"},{"$error":"#REF!"},{"$error":"#REF!"},null,{"$error":"#REF!"},{"$error":"#REF!"},{"$error":"#REF!"},{"$error":"#REF!"},{"$error":"#REF!"},{"$error":"#REF!"},{"$error":"#REF!"},{"$error":"#REF!"},{"$error":"#REF!"},{"$error":"#REF!"},{"$error":"#REF!"},{"$error":"#REF!"},{"$error":"#REF!"},{"$error":"#REF!"},{"$error":"#REF!"},{"$error":"#REF!"},null,{"$error":"#REF!"},"","","",null,{"$error":"#REF!"},"","","",null,{"$error":"#REF!"},{"$error":"#REF!"},{"$error":"#REF!"},{"$error":"#REF!"},{"$error":"#REF!"},{"$error":"#REF!"},{"$error":"#REF!"},{"$error":"#REF!"},{"$error":"#REF!"},{"$error":"#REF!"}]
[{"$f":"'Races, Positions & Points'!#REF!","v":{"$error":"#REF!"}},{"$f":"IF('Races, Positions & Points'!#REF!=\"\",\"\",'Races, Positions & Points'!#REF!)","v":{"$error":"#REF!"}},{"$f":"IF('Races, Positions & Points'!#REF!=\"\",\"\",'Races, Positions & Points'!#REF!)","v":{"$error":"#REF!"}},{"$f":"IF('Races, Positions & Points'!#REF!=\"\",\"\",'Races, Positions & Points'!#REF!)","v":{"$error":"#REF!"}},{"$f":"IF('Races, Positions & Points'!#REF!=\"\",\"\",'Races, Positions & Points'!#REF!)","v":{"$error":"#REF!"}},{"$f":"IF('Races, Positions & Points'!#REF!=\"\",\"\",'Races, Positions & Points'!#REF!)","v":{"$error":"#REF!"}},{"$f":"IF('Races, Positions & Points'!#REF!=\"\",\"\",'Races, Positions & Points'!#REF!)","v":{"$error":"#REF!"}},{"$f":"IF('Races, Positions & Points'!#REF!=\"\",\"\",'Races, Positions & Points'!#REF!)","v":{"$error":"#REF!"}},{"$f":"IF('Races, Positions & Points'!#REF!=\"\",\"\",'Races, Positions & Points'!#REF!)","v":{"$error":"#REF!"}},{"$f":"IF('Races, Positions & Points'!#REF!=\"\",\"\",'Races, Positions & Points'!#REF!)","v":{"$error":"#REF!"}},{"$f":"IF('Races, Positions & Points'!#REF!=\"\",\"\",'Races, Positions & Points'!#REF!)","v":{"$error":"#REF!"}},{"$f":"IF('Races, Positions & Points'!#REF!=\"\",\"\",'Races, Positions & Points'!#REF!)","v":{"$error":"#REF!"}},{"$f":"IF('Races, Positions & Points'!#REF!=\"\",\"\",'Races, Positions & Points'!#REF!)","v":{"$error":"#REF!"}},{"$f":"IF('Races, Positions & Points'!#REF!=\"\",\"\",'Races, Positions & Points'!#REF!)","v":{"$error":"#REF!"}},{"$f":"IF('Races, Positions & Points'!#REF!=\"\",\"\",'Races, Positions & Points'!#REF!)","v":{"$error":"#REF!"}},{"$f":"IF('Races, Positions & Points'!#REF!=\"\",\"\",'Races, Positions & Points'!#REF!)","v":{"$error":"#REF!"}},{"$f":"IF('Races, Positions & Points'!#REF!=\"\",\"\",'Races, Positions & Points'!#REF!)","v":{"$error":"#REF!"}},{"$f":"IF('Races, Positions & Points'!#REF!=\"\",\"\",'Races, Positions & Points'!#REF!)","v":{"$error":"#REF!"}},{"$f":"IF('Races, Positions & Points'!#REF!=\"\",\"\",'Races, Positions & Points'!#REF!)","v":{"$error":"#REF!"}},{"$f":"IF('Races, Positions & Points'!#REF!=\"\",\"\",'Races, Positions & Points'!#REF!)","v":{"$error":"#REF!"}},{"$f":"IF('Races, Positions & Points'!#REF!=\"\",\"\",'Races, Positions & Points'!#REF!)","v":{"$error":"#REF!"}},{"$f":"IF('Races, Positions & Points'!#REF!=\"\",\"\",'Races, Positions & Points'!#REF!)","v":{"$error":"#REF!"}},{"$f":"IF('Races, Positions & Points'!#REF!=\"\",\"\",'Races, Positions & Points'!#REF!)","v":{"$error":"#REF!"}},{"$f":"IF('Races, Positions & Points'!#REF!=\"\",\"\",'Races, Positions & Points'!#REF!)","v":{"$error":"#REF!"}},{"$f":"IF('Races, Positions & Points'!#REF!=\"\",\"\",'Races, Positions & Points'!#REF!)","v":{"$error":"#REF!"}},{"$f":"IF('Races, Positions & Points'!#REF!=\"\",\"\",'Races, Positions & Points'!#REF!)","v":{"$error":"#REF!"}},{"$f":"IF('Races, Positions & Points'!#REF!=\"\",\"\",'Races, Positions & Points'!#REF!)","v":{"$error":"#REF!"}},{"$f":"IF('Races, Positions & Points'!#REF!=\"\",\"\",'Races, Positions & Points'!#REF!)","v":{"$error":"#REF!"}},{"$f":"IF('Races, Positions & Points'!#REF!=\"\",\"\",'Races, Positions & Points'!#REF!)","v":{"$error":"#REF!"}},{"$f":"IF('Races, Positions & Points'!#REF!=\"\",\"\",'Races, Positions & Points'!#REF!)","v":{"$error":"#REF!"}},{"$f":"IF('Races, Positions & Points'!#REF!=\"\",\"\",'Races, Positions & Points'!#REF!)","v":{"$error":"#REF!"}},{"$f":"IF('Races, Positions & Points'!#REF!=\"\",\"\",'Races, Positions & Points'!#REF!)","v":{"$error":"#REF!"}},{"$f":"IF('Races, Positions & Points'!#REF!=\"\",\"\",'Races, Positions & Points'!#REF!)","v":{"$error":"#REF!"}},{"$f":"IF('Races, Positions & Points'!#REF!=\"\",\"\",'Races, Positions & Points'!#REF!)","v":{"$error":"#REF!"}},{"$f":"IF('Races, Positions & Points'!#REF!=\"\",\"\",'Races, Positions & Points'!#REF!)","v":{"$error":"#REF!"}},{"$f":"IF('Races, Positions & Points'!#REF!=\"\",\"\",'Races, Positions & Points'!#REF!)","v":{"$error":"#REF!"}},{"$f":"IF('Races, Positions & Points'!#REF!=\"\",\"\",'Races, Positions & Points'!#REF!)","v":{"$error":"#REF!"}},{"$f":"IF('Races, Positions & Points'!#REF!=\"\",\"\",'Races, Positions & Points'!#REF!)","v":{"$error":"#REF!"}},{"$f":"IF('Races, Positions & Points'!#REF!=\"\",\"\",'Races, Positions & Points'!#REF!)","v":{"$error":"#REF!"}},{"$f":"IF('Races, Positions & Points'!#REF!=\"\",\"\",'Races, Positions & Points'!#REF!)","v":{"$error":"#REF!"}},{"$f":"IF('Races, Positions & Points'!#REF!=\"\",\"\",'Races, Positions & Points'!#REF!)","v":{"$error":"#REF!"}},{"$f":"IF('Races, Positions & Points'!#REF!=\"\",\"\",'Races, Positions & Points'!#REF!)","v":{"$error":"#REF!"}},{"$f":"IF('Races, Positions & Points'!#REF!=\"\",\"\",'Races, Positions & Points'!#REF!)","v":{"$error":"#REF!"}},{"$f":"IF('Races, Positions & Points'!#REF!=\"\",\"\",'Races, Positions & Points'!#REF!)","v":{"$error":"#REF!"}},{"$f":"IF('Races, Positions & Points'!#REF!=\"\",\"\",'Races, Positions & Points'!#REF!)","v":{"$error":"#REF!"}},{"$f":"IF('Races, Positions & Points'!#REF!=\"\",\"\",'Races, Positions & Points'!#REF!)","v":{"$error":"#REF!"}},{"$f":"IF('Races, Positions & Points'!#REF!=\"\",\"\",'Races, Positions & Points'!#REF!)","v":{"$error":"#REF!"}},{"$f":"IF('Races, Positions & Points'!#REF!=\"\",\"\",'Races, Positions & Points'!#REF!)","v":{"$error":"#REF!"}},{"$f":"IF('Races, Positions & Points'!#REF!=\"\",\"\",'Races, Positions & Points'!#REF!)","v":{"$error":"#REF!"}},{"$f":"IF('Races, Positions & Points'!#REF!=\"\",\"\",'Races, Positions & Points'!#REF!)","v":{"$error":"#REF!"}},{"$f":"IF('Races, Positions & Points'!#REF!=\"\",\"\",'Races, Positions & Points'!#REF!)","v":{"$error":"#REF!"}},null,{"$error":"#REF!"},{"$error":"#REF!"},{"$error":"#REF!"},{"$error":"#REF!"},{"$error":"#REF!"},{"$error":"#REF!"},null,{"$f":"'Races, Positions & Points'!#REF!","v":{"$error":"#REF!"}},{"$f":"'Races, Positions & Points'!#REF!","v":{"$error":"#REF!"}},{"$error":"#REF!"},"","",{"$error":"#REF!"},"",{"$error":"#REF!"},{"$error":"#REF!"},{"$error":"#REF!"},null,{"$error":"#REF!"},"","",{"$error":"#REF!"},"",{"$error":"#REF!"},{"$error":"#REF!"},{"$error":"#REF!"},null,{"$error":"#REF!"},{"$error":"#REF!"},{"$error":"#REF!"},{"$error":"#REF!"},{"$error":"#REF!"},{"$error":"#REF!"},{"$error":"#REF!"},{"$error":"#REF!"},{"$error":"#REF!"},{"$error":"#REF!"},{"$error":"#REF!"},{"$error":"#REF!"},{"$error":"#REF!"},{"$error":"#REF!"},{"$error":"#REF!"},{"$error":"#REF!"},null,{"$error":"#REF!"},"","",{"$f":"IF(ISERROR(CS54*1.2),\"\",IF(CS54<50,CS54+10,IF(CS54<999.99,CS54*1.2,\"\")))","v":""},null,{"$error":"#REF!"},"","","",null,{"$error":"#REF!"},{"$error":"#REF!"},{"$error":"#REF!"},{"$error":"#REF!"},{"$error":"#REF!"},{"$error":"#REF!"},{"$error":"#REF!"},{"$error":"#REF!"},{"$error":"#REF!"},{"$error":"#REF!"}]
[{"$f":"'Races, Positions & Points'!#REF!","v":{"$error":"#REF!"}},{"$f":"IF('Races, Positions & Points'!#REF!=\"\",\"\",'Races, Positions & Points'!#REF!)","v":{"$error":"#REF!"}},{"$f":"IF('Races, Positions & Points'!#REF!=\"\",\"\",'Races, Positions & Points'!#REF!)","v":{"$error":"#REF!"}},{"$f":"IF('Races, Positions & Points'!#REF!=\"\",\"\",'Races, Positions & Points'!#REF!)","v":{"$error":"#REF!"}},{"$f":"IF('Races, Positions & Points'!#REF!=\"\",\"\",'Races, Positions & Points'!#REF!)","v":{"$error":"#REF!"}},{"$f":"IF('Races, Positions & Points'!#REF!=\"\",\"\",'Races, Positions & Points'!#REF!)","v":{"$error":"#REF!"}},{"$f":"IF('Races, Positions & Points'!#REF!=\"\",\"\",'Races, Positions & Points'!#REF!)","v":{"$error":"#REF!"}},{"$f":"IF('Races, Positions & Points'!#REF!=\"\",\"\",'Races, Positions & Points'!#REF!)","v":{"$error":"#REF!"}},{"$f":"IF('Races, Positions & Points'!#REF!=\"\",\"\",'Races, Positions & Points'!#REF!)","v":{"$error":"#REF!"}},{"$f":"IF('Races, Positions & Points'!#REF!=\"\",\"\",'Races, Positions & Points'!#REF!)","v":{"$error":"#REF!"}},{"$f":"IF('Races, Positions & Points'!#REF!=\"\",\"\",'Races, Positions & Points'!#REF!)","v":{"$error":"#REF!"}},{"$f":"IF('Races, Positions & Points'!#REF!=\"\",\"\",'Races, Positions & Points'!#REF!)","v":{"$error":"#REF!"}},{"$f":"IF('Races, Positions & Points'!#REF!=\"\",\"\",'Races, Positions & Points'!#REF!)","v":{"$error":"#REF!"}},{"$f":"IF('Races, Positions & Points'!#REF!=\"\",\"\",'Races, Positions & Points'!#REF!)","v":{"$error":"#REF!"}},{"$f":"IF('Races, Positions & Points'!#REF!=\"\",\"\",'Races, Positions & Points'!#REF!)","v":{"$error":"#REF!"}},{"$f":"IF('Races, Positions & Points'!#REF!=\"\",\"\",'Races, Positions & Points'!#REF!)","v":{"$error":"#REF!"}},{"$f":"IF('Races, Positions & Points'!#REF!=\"\",\"\",'Races, Positions & Points'!#REF!)","v":{"$error":"#REF!"}},{"$f":"IF('Races, Positions & Points'!#REF!=\"\",\"\",'Races, Positions & Points'!#REF!)","v":{"$error":"#REF!"}},{"$f":"IF('Races, Positions & Points'!#REF!=\"\",\"\",'Races, Positions & Points'!#REF!)","v":{"$error":"#REF!"}},{"$f":"IF('Races, Positions & Points'!#REF!=\"\",\"\",'Races, Positions & Points'!#REF!)","v":{"$error":"#REF!"}},{"$f":"IF('Races, Positions & Points'!#REF!=\"\",\"\",'Races, Positions & Points'!#REF!)","v":{"$error":"#REF!"}},{"$f":"IF('Races, Positions & Points'!#REF!=\"\",\"\",'Races, Positions & Points'!#REF!)","v":{"$error":"#REF!"}},{"$f":"IF('Races, Positions & Points'!#REF!=\"\",\"\",'Races, Positions & Points'!#REF!)","v":{"$error":"#REF!"}},{"$f":"IF('Races, Positions & Points'!#REF!=\"\",\"\",'Races, Positions & Points'!#REF!)","v":{"$error":"#REF!"}},{"$f":"IF('Races, Positions & Points'!#REF!=\"\",\"\",'Races, Positions & Points'!#REF!)","v":{"$error":"#REF!"}},{"$f":"IF('Races, Positions & Points'!#REF!=\"\",\"\",'Races, Positions & Points'!#REF!)","v":{"$error":"#REF!"}},{"$f":"IF('Races, Positions & Points'!#REF!=\"\",\"\",'Races, Positions & Points'!#REF!)","v":{"$error":"#REF!"}},{"$f":"IF('Races, Positions & Points'!#REF!=\"\",\"\",'Races, Positions & Points'!#REF!)","v":{"$error":"#REF!"}},{"$f":"IF('Races, Positions & Points'!#REF!=\"\",\"\",'Races, Positions & Points'!#REF!)","v":{"$error":"#REF!"}},{"$f":"IF('Races, Positions & Points'!#REF!=\"\",\"\",'Races, Positions & Points'!#REF!)","v":{"$error":"#REF!"}},{"$f":"IF('Races, Positions & Points'!#REF!=\"\",\"\",'Races, Positions & Points'!#REF!)","v":{"$error":"#REF!"}},{"$f":"IF('Races, Positions & Points'!#REF!=\"\",\"\",'Races, Positions & Points'!#REF!)","v":{"$error":"#REF!"}},{"$f":"IF('Races, Positions & Points'!#REF!=\"\",\"\",'Races, Positions & Points'!#REF!)","v":{"$error":"#REF!"}},{"$f":"IF('Races, Positions & Points'!#REF!=\"\",\"\",'Races, Positions & Points'!#REF!)","v":{"$error":"#REF!"}},{"$f":"IF('Races, Positions & Points'!#REF!=\"\",\"\",'Races, Positions & Points'!#REF!)","v":{"$error":"#REF!"}},{"$f":"IF('Races, Positions & Points'!#REF!=\"\",\"\",'Races, Positions & Points'!#REF!)","v":{"$error":"#REF!"}},{"$f":"IF('Races, Positions & Points'!#REF!=\"\",\"\",'Races, Positions & Points'!#REF!)","v":{"$error":"#REF!"}},{"$f":"IF('Races, Positions & Points'!#REF!=\"\",\"\",'Races, Positions & Points'!#REF!)","v":{"$error":"#REF!"}},{"$f":"IF('Races, Positions & Points'!#REF!=\"\",\"\",'Races, Positions & Points'!#REF!)","v":{"$error":"#REF!"}},{"$f":"IF('Races, Positions & Points'!#REF!=\"\",\"\",'Races, Positions & Points'!#REF!)","v":{"$error":"#REF!"}},{"$f":"IF('Races, Positions & Points'!#REF!=\"\",\"\",'Races, Positions & Points'!#REF!)","v":{"$error":"#REF!"}},{"$f":"IF('Races, Positions & Points'!#REF!=\"\",\"\",'Races, Positions & Points'!#REF!)","v":{"$error":"#REF!"}},{"$f":"IF('Races, Positions & Points'!#REF!=\"\",\"\",'Races, Positions & Points'!#REF!)","v":{"$error":"#REF!"}},{"$f":"IF('Races, Positions & Points'!#REF!=\"\",\"\",'Races, Positions & Points'!#REF!)","v":{"$error":"#REF!"}},{"$f":"IF('Races, Positions & Points'!#REF!=\"\",\"\",'Races, Positions & Points'!#REF!)","v":{"$error":"#REF!"}},{"$f":"IF('Races, Positions & Points'!#REF!=\"\",\"\",'Races, Positions & Points'!#REF!)","v":{"$error":"#REF!"}},{"$f":"IF('Races, Positions & Points'!#REF!=\"\",\"\",'Races, Positions & Points'!#REF!)","v":{"$error":"#REF!"}},{"$f":"IF('Races, Positions & Points'!#REF!=\"\",\"\",'Races, Positions & Points'!#REF!)","v":{"$error":"#REF!"}},{"$f":"IF('Races, Positions & Points'!#REF!=\"\",\"\",'Races, Positions & Points'!#REF!)","v":{"$error":"#REF!"}},{"$f":"IF('Races, Positions & Points'!#REF!=\"\",\"\",'Races, Positions & Points'!#REF!)","v":{"$error":"#REF!"}},{"$f":"IF('Races, Positions & Points'!#REF!=\"\",\"\",'Races, Positions & Points'!#REF!)","v":{"$error":"#REF!"}},null,{"$error":"#REF!"},{"$error":"#REF!"},{"$error":"#REF!"},{"$error":"#REF!"},{"$error":"#REF!"},{"$error":"#REF!"},null,{"$f":"'Races, Positions & Points'!#REF!","v":{"$error":"#REF!"}},{"$f":"'Races, Positions & Points'!#REF!","v":{"$error":"#REF!"}},{"$error":"#REF!"},"","",{"$error":"#REF!"},"",{"$error":"#REF!"},{"$error":"#REF!"},{"$error":"#REF!"},null,{"$error":"#REF!"},"","",{"$error":"#REF!"},"",{"$error":"#REF!"},{"$error":"#REF!"},{"$error":"#REF!"},null,{"$error":"#REF!"},{"$error":"#REF!"},{"$error":"#REF!"},{"$error":"#REF!"},{"$error":"#REF!"},{"$error":"#REF!"},{"$error":"#REF!"},{"$error":"#REF!"},{"$error":"#REF!"},{"$error":"#REF!"},{"$error":"#REF!"},{"$error":"#REF!"},{"$error":"#REF!"},{"$error":"#REF!"},{"$error":"#REF!"},{"$error":"#REF!"},null,{"$error":"#REF!"},"","",{"$f":"IF(ISERROR(CS55*1.2),\"\",IF(CS55<50,CS55+10,IF(CS55<999.99,CS55*1.2,\"\")))","v":""},null,{"$error":"#REF!"},"","","",null,{"$error":"#REF!"},{"$error":"#REF!"},{"$error":"#REF!"},{"$error":"#REF!"},{"$error":"#REF!"},{"$error":"#REF!"},{"$error":"#REF!"},{"$error":"#REF!"},{"$error":"#REF!"},{"$error":"#REF!"}]
[{"$f":"'Races, Positions & Points'!#REF!","v":{"$error":"#REF!"}},{"$f":"IF('Races, Positions & Points'!#REF!=\"\",\"\",'Races, Positions & Points'!#REF!)","v":{"$error":"#REF!"}},{"$f":"IF('Races, Positions & Points'!#REF!=\"\",\"\",'Races, Positions & Points'!#REF!)","v":{"$error":"#REF!"}},{"$f":"IF('Races, Positions & Points'!#REF!=\"\",\"\",'Races, Positions & Points'!#REF!)","v":{"$error":"#REF!"}},{"$f":"IF('Races, Positions & Points'!#REF!=\"\",\"\",'Races, Positions & Points'!#REF!)","v":{"$error":"#REF!"}},{"$f":"IF('Races, Positions & Points'!#REF!=\"\",\"\",'Races, Positions & Points'!#REF!)","v":{"$error":"#REF!"}},{"$f":"IF('Races, Positions & Points'!#REF!=\"\",\"\",'Races, Positions & Points'!#REF!)","v":{"$error":"#REF!"}},{"$f":"IF('Races, Positions & Points'!#REF!=\"\",\"\",'Races, Positions & Points'!#REF!)","v":{"$error":"#REF!"}},{"$f":"IF('Races, Positions & Points'!#REF!=\"\",\"\",'Races, Positions & Points'!#REF!)","v":{"$error":"#REF!"}},{"$f":"IF('Races, Positions & Points'!#REF!=\"\",\"\",'Races, Positions & Points'!#REF!)","v":{"$error":"#REF!"}},{"$f":"IF('Races, Positions & Points'!#REF!=\"\",\"\",'Races, Positions & Points'!#REF!)","v":{"$error":"#REF!"}},{"$f":"IF('Races, Positions & Points'!#REF!=\"\",\"\",'Races, Positions & Points'!#REF!)","v":{"$error":"#REF!"}},{"$f":"IF('Races, Positions & Points'!#REF!=\"\",\"\",'Races, Positions & Points'!#REF!)","v":{"$error":"#REF!"}},{"$f":"IF('Races, Positions & Points'!#REF!=\"\",\"\",'Races, Positions & Points'!#REF!)","v":{"$error":"#REF!"}},{"$f":"IF('Races, Positions & Points'!#REF!=\"\",\"\",'Races, Positions & Points'!#REF!)","v":{"$error":"#REF!"}},{"$f":"IF('Races, Positions & Points'!#REF!=\"\",\"\",'Races, Positions & Points'!#REF!)","v":{"$error":"#REF!"}},{"$f":"IF('Races, Positions & Points'!#REF!=\"\",\"\",'Races, Positions & Points'!#REF!)","v":{"$error":"#REF!"}},{"$f":"IF('Races, Positions & Points'!#REF!=\"\",\"\",'Races, Positions & Points'!#REF!)","v":{"$error":"#REF!"}},{"$f":"IF('Races, Positions & Points'!#REF!=\"\",\"\",'Races, Positions & Points'!#REF!)","v":{"$error":"#REF!"}},{"$f":"IF('Races, Positions & Points'!#REF!=\"\",\"\",'Races, Positions & Points'!#REF!)","v":{"$error":"#REF!"}},{"$f":"IF('Races, Positions & Points'!#REF!=\"\",\"\",'Races, Positions & Points'!#REF!)","v":{"$error":"#REF!"}},{"$f":"IF('Races, Positions & Points'!#REF!=\"\",\"\",'Races, Positions & Points'!#REF!)","v":{"$error":"#REF!"}},{"$f":"IF('Races, Positions & Points'!#REF!=\"\",\"\",'Races, Positions & Points'!#REF!)","v":{"$error":"#REF!"}},{"$f":"IF('Races, Positions & Points'!#REF!=\"\",\"\",'Races, Positions & Points'!#REF!)","v":{"$error":"#REF!"}},{"$f":"IF('Races, Positions & Points'!#REF!=\"\",\"\",'Races, Positions & Points'!#REF!)","v":{"$error":"#REF!"}},{"$f":"IF('Races, Positions & Points'!#REF!=\"\",\"\",'Races, Positions & Points'!#REF!)","v":{"$error":"#REF!"}},{"$f":"IF('Races, Positions & Points'!#REF!=\"\",\"\",'Races, Positions & Points'!#REF!)","v":{"$error":"#REF!"}},{"$f":"IF('Races, Positions & Points'!#REF!=\"\",\"\",'Races, Positions & Points'!#REF!)","v":{"$error":"#REF!"}},{"$f":"IF('Races, Positions & Points'!#REF!=\"\",\"\",'Races, Positions & Points'!#REF!)","v":{"$error":"#REF!"}},{"$f":"IF('Races, Positions & Points'!#REF!=\"\",\"\",'Races, Positions & Points'!#REF!)","v":{"$error":"#REF!"}},{"$f":"IF('Races, Positions & Points'!#REF!=\"\",\"\",'Races, Positions & Points'!#REF!)","v":{"$error":"#REF!"}},{"$f":"IF('Races, Positions & Points'!#REF!=\"\",\"\",'Races, Positions & Points'!#REF!)","v":{"$error":"#REF!"}},{"$f":"IF('Races, Positions & Points'!#REF!=\"\",\"\",'Races, Positions & Points'!#REF!)","v":{"$error":"#REF!"}},{"$f":"IF('Races, Positions & Points'!#REF!=\"\",\"\",'Races, Positions & Points'!#REF!)","v":{"$error":"#REF!"}},{"$f":"IF('Races, Positions & Points'!#REF!=\"\",\"\",'Races, Positions & Points'!#REF!)","v":{"$error":"#REF!"}},{"$f":"IF('Races, Positions & Points'!#REF!=\"\",\"\",'Races, Positions & Points'!#REF!)","v":{"$error":"#REF!"}},{"$f":"IF('Races, Positions & Points'!#REF!=\"\",\"\",'Races, Positions & Points'!#REF!)","v":{"$error":"#REF!"}},{"$f":"IF('Races, Positions & Points'!#REF!=\"\",\"\",'Races, Positions & Points'!#REF!)","v":{"$error":"#REF!"}},{"$f":"IF('Races, Positions & Points'!#REF!=\"\",\"\",'Races, Positions & Points'!#REF!)","v":{"$error":"#REF!"}},{"$f":"IF('Races, Positions & Points'!#REF!=\"\",\"\",'Races, Positions & Points'!#REF!)","v":{"$error":"#REF!"}},{"$f":"IF('Races, Positions & Points'!#REF!=\"\",\"\",'Races, Positions & Points'!#REF!)","v":{"$error":"#REF!"}},{"$f":"IF('Races, Positions & Points'!#REF!=\"\",\"\",'Races, Positions & Points'!#REF!)","v":{"$error":"#REF!"}},{"$f":"IF('Races, Positions & Points'!#REF!=\"\",\"\",'Races, Positions & Points'!#REF!)","v":{"$error":"#REF!"}},{"$f":"IF('Races, Positions & Points'!#REF!=\"\",\"\",'Races, Positions & Points'!#REF!)","v":{"$error":"#REF!"}},{"$f":"IF('Races, Positions & Points'!#REF!=\"\",\"\",'Races, Positions & Points'!#REF!)","v":{"$error":"#REF!"}},{"$f":"IF('Races, Positions & Points'!#REF!=\"\",\"\",'Races, Positions & Points'!#REF!)","v":{"$error":"#REF!"}},{"$f":"IF('Races, Positions & Points'!#REF!=\"\",\"\",'Races, Positions & Points'!#REF!)","v":{"$error":"#REF!"}},{"$f":"IF('Races, Positions & Points'!#REF!=\"\",\"\",'Races, Positions & Points'!#REF!)","v":{"$error":"#REF!"}},{"$f":"IF('Races, Positions & Points'!#REF!=\"\",\"\",'Races, Positions & Points'!#REF!)","v":{"$error":"#REF!"}},{"$f":"IF('Races, Positions & Points'!#REF!=\"\",\"\",'Races, Positions & Points'!#REF!)","v":{"$error":"#REF!"}},{"$f":"IF('Races, Positions & Points'!#REF!=\"\",\"\",'Races, Positions & Points'!#REF!)","v":{"$error":"#REF!"}},null,{"$error":"#REF!"},{"$error":"#REF!"},{"$error":"#REF!"},{"$error":"#REF!"},{"$error":"#REF!"},{"$error":"#REF!"},null,{"$f":"'Races, Positions & Points'!#REF!","v":{"$error":"#REF!"}},{"$f":"'Races, Positions & Points'!#REF!","v":{"$error":"#REF!"}},{"$error":"#REF!"},"","",{"$error":"#REF!"},"",{"$error":"#REF!"},{"$error":"#REF!"},{"$error":"#REF!"},null,{"$error":"#REF!"},"","",{"$error":"#REF!"},"",{"$error":"#REF!"},{"$error":"#REF!"},{"$error":"#REF!"},null,{"$error":"#REF!"},{"$error":"#REF!"},{"$error":"#REF!"},{"$error":"#REF!"},{"$error":"#REF!"},{"$error":"#REF!"},{"$error":"#REF!"},{"$error":"#REF!"},{"$error":"#REF!"},{"$error":"#REF!"},{"$error":"#REF!"},{"$error":"#REF!"},{"$error":"#REF!"},{"$error":"#REF!"},{"$error":"#REF!"},{"$error":"#REF!"},null,{"$error":"#REF!"},"","","",null,{"$error":"#REF!"},"","","",null,{"$error":"#REF!"},{"$error":"#REF!"},{"$error":"#REF!"},{"$error":"#REF!"},{"$error":"#REF!"},{"$error":"#REF!"},{"$error":"#REF!"},{"$error":"#REF!"},{"$error":"#REF!"},{"$error":"#REF!"}]
[{"$f":"'Races, Positions & Points'!#REF!","v":{"$error":"#REF!"}},{"$f":"IF('Races, Positions & Points'!#REF!=\"\",\"\",'Races, Positions & Points'!#REF!)","v":{"$error":"#REF!"}},{"$f":"IF('Races, Positions & Points'!#REF!=\"\",\"\",'Races, Positions & Points'!#REF!)","v":{"$error":"#REF!"}},{"$f":"IF('Races, Positions & Points'!#REF!=\"\",\"\",'Races, Positions & Points'!#REF!)","v":{"$error":"#REF!"}},{"$f":"IF('Races, Positions & Points'!#REF!=\"\",\"\",'Races, Positions & Points'!#REF!)","v":{"$error":"#REF!"}},{"$f":"IF('Races, Positions & Points'!#REF!=\"\",\"\",'Races, Positions & Points'!#REF!)","v":{"$error":"#REF!"}},{"$f":"IF('Races, Positions & Points'!#REF!=\"\",\"\",'Races, Positions & Points'!#REF!)","v":{"$error":"#REF!"}},{"$f":"IF('Races, Positions & Points'!#REF!=\"\",\"\",'Races, Positions & Points'!#REF!)","v":{"$error":"#REF!"}},{"$f":"IF('Races, Positions & Points'!#REF!=\"\",\"\",'Races, Positions & Points'!#REF!)","v":{"$error":"#REF!"}},{"$f":"IF('Races, Positions & Points'!#REF!=\"\",\"\",'Races, Positions & Points'!#REF!)","v":{"$error":"#REF!"}},{"$f":"IF('Races, Positions & Points'!#REF!=\"\",\"\",'Races, Positions & Points'!#REF!)","v":{"$error":"#REF!"}},{"$f":"IF('Races, Positions & Points'!#REF!=\"\",\"\",'Races, Positions & Points'!#REF!)","v":{"$error":"#REF!"}},{"$f":"IF('Races, Positions & Points'!#REF!=\"\",\"\",'Races, Positions & Points'!#REF!)","v":{"$error":"#REF!"}},{"$f":"IF('Races, Positions & Points'!#REF!=\"\",\"\",'Races, Positions & Points'!#REF!)","v":{"$error":"#REF!"}},{"$f":"IF('Races, Positions & Points'!#REF!=\"\",\"\",'Races, Positions & Points'!#REF!)","v":{"$error":"#REF!"}},{"$f":"IF('Races, Positions & Points'!#REF!=\"\",\"\",'Races, Positions & Points'!#REF!)","v":{"$error":"#REF!"}},{"$f":"IF('Races, Positions & Points'!#REF!=\"\",\"\",'Races, Positions & Points'!#REF!)","v":{"$error":"#REF!"}},{"$f":"IF('Races, Positions & Points'!#REF!=\"\",\"\",'Races, Positions & Points'!#REF!)","v":{"$error":"#REF!"}},{"$f":"IF('Races, Positions & Points'!#REF!=\"\",\"\",'Races, Positions & Points'!#REF!)","v":{"$error":"#REF!"}},{"$f":"IF('Races, Positions & Points'!#REF!=\"\",\"\",'Races, Positions & Points'!#REF!)","v":{"$error":"#REF!"}},{"$f":"IF('Races, Positions & Points'!#REF!=\"\",\"\",'Races, Positions & Points'!#REF!)","v":{"$error":"#REF!"}},{"$f":"IF('Races, Positions & Points'!#REF!=\"\",\"\",'Races, Positions & Points'!#REF!)","v":{"$error":"#REF!"}},{"$f":"IF('Races, Positions & Points'!#REF!=\"\",\"\",'Races, Positions & Points'!#REF!)","v":{"$error":"#REF!"}},{"$f":"IF('Races, Positions & Points'!#REF!=\"\",\"\",'Races, Positions & Points'!#REF!)","v":{"$error":"#REF!"}},{"$f":"IF('Races, Positions & Points'!#REF!=\"\",\"\",'Races, Positions & Points'!#REF!)","v":{"$error":"#REF!"}},{"$f":"IF('Races, Positions & Points'!#REF!=\"\",\"\",'Races, Positions & Points'!#REF!)","v":{"$error":"#REF!"}},{"$f":"IF('Races, Positions & Points'!#REF!=\"\",\"\",'Races, Positions & Points'!#REF!)","v":{"$error":"#REF!"}},{"$f":"IF('Races, Positions & Points'!#REF!=\"\",\"\",'Races, Positions & Points'!#REF!)","v":{"$error":"#REF!"}},{"$f":"IF('Races, Positions & Points'!#REF!=\"\",\"\",'Races, Positions & Points'!#REF!)","v":{"$error":"#REF!"}},{"$f":"IF('Races, Positions & Points'!#REF!=\"\",\"\",'Races, Positions & Points'!#REF!)","v":{"$error":"#REF!"}},{"$f":"IF('Races, Positions & Points'!#REF!=\"\",\"\",'Races, Positions & Points'!#REF!)","v":{"$error":"#REF!"}},{"$f":"IF('Races, Positions & Points'!#REF!=\"\",\"\",'Races, Positions & Points'!#REF!)","v":{"$error":"#REF!"}},{"$f":"IF('Races, Positions & Points'!#REF!=\"\",\"\",'Races, Positions & Points'!#REF!)","v":{"$error":"#REF!"}},{"$f":"IF('Races, Positions & Points'!#REF!=\"\",\"\",'Races, Positions & Points'!#REF!)","v":{"$error":"#REF!"}},{"$f":"IF('Races, Positions & Points'!#REF!=\"\",\"\",'Races, Positions & Points'!#REF!)","v":{"$error":"#REF!"}},{"$f":"IF('Races, Positions & Points'!#REF!=\"\",\"\",'Races, Positions & Points'!#REF!)","v":{"$error":"#REF!"}},{"$f":"IF('Races, Positions & Points'!#REF!=\"\",\"\",'Races, Positions & Points'!#REF!)","v":{"$error":"#REF!"}},{"$f":"IF('Races, Positions & Points'!#REF!=\"\",\"\",'Races, Positions & Points'!#REF!)","v":{"$error":"#REF!"}},{"$f":"IF('Races, Positions & Points'!#REF!=\"\",\"\",'Races, Positions & Points'!#REF!)","v":{"$error":"#REF!"}},{"$f":"IF('Races, Positions & Points'!#REF!=\"\",\"\",'Races, Positions & Points'!#REF!)","v":{"$error":"#REF!"}},{"$f":"IF('Races, Positions & Points'!#REF!=\"\",\"\",'Races, Positions & Points'!#REF!)","v":{"$error":"#REF!"}},{"$f":"IF('Races, Positions & Points'!#REF!=\"\",\"\",'Races, Positions & Points'!#REF!)","v":{"$error":"#REF!"}},{"$f":"IF('Races, Positions & Points'!#REF!=\"\",\"\",'Races, Positions & Points'!#REF!)","v":{"$error":"#REF!"}},{"$f":"IF('Races, Positions & Points'!#REF!=\"\",\"\",'Races, Positions & Points'!#REF!)","v":{"$error":"#REF!"}},{"$f":"IF('Races, Positions & Points'!#REF!=\"\",\"\",'Races, Positions & Points'!#REF!)","v":{"$error":"#REF!"}},{"$f":"IF('Races, Positions & Points'!#REF!=\"\",\"\",'Races, Positions & Points'!#REF!)","v":{"$error":"#REF!"}},{"$f":"IF('Races, Positions & Points'!#REF!=\"\",\"\",'Races, Positions & Points'!#REF!)","v":{"$error":"#REF!"}},{"$f":"IF('Races, Positions & Points'!#REF!=\"\",\"\",'Races, Positions & Points'!#REF!)","v":{"$error":"#REF!"}},{"$f":"IF('Races, Positions & Points'!#REF!=\"\",\"\",'Races, Positions & Points'!#REF!)","v":{"$error":"#REF!"}},{"$f":"IF('Races, Positions & Points'!#REF!=\"\",\"\",'Races, Positions & Points'!#REF!)","v":{"$error":"#REF!"}},{"$f":"IF('Races, Positions & Points'!#REF!=\"\",\"\",'Races, Positions & Points'!#REF!)","v":{"$error":"#REF!"}},null,{"$error":"#REF!"},{"$error":"#REF!"},{"$error":"#REF!"},{"$error":"#REF!"},{"$error":"#REF!"},{"$error":"#REF!"},null,{"$f":"'Races, Positions & Points'!#REF!","v":{"$error":"#REF!"}},{"$f":"'Races, Positions & Points'!#REF!","v":{"$error":"#REF!"}},{"$error":"#REF!"},"","",{"$error":"#REF!"},"",{"$error":"#REF!"},{"$error":"#REF!"},{"$error":"#REF!"},null,{"$error":"#REF!"},"","",{"$error":"#REF!"},"",{"$error":"#REF!"},{"$error":"#REF!"},{"$error":"#REF!"},null,{"$error":"#REF!"},{"$error":"#REF!"},{"$error":"#REF!"},{"$error":"#REF!"},{"$error":"#REF!"},{"$error":"#REF!"},{"$error":"#REF!"},{"$error":"#REF!"},{"$error":"#REF!"},{"$error":"#REF!"},{"$error":"#REF!"},{"$error":"#REF!"},{"$error":"#REF!"},{"$error":"#REF!"},{"$error":"#REF!"},{"$error":"#REF!"},null,{"$error":"#REF!"},"","","",null,{"$error":"#REF!"},"","","",null,{"$error":"#REF!"},{"$error":"#REF!"},{"$error":"#REF!"},{"$error":"#REF!"},{"$error":"#REF!"},{"$error":"#REF!"},{"$error":"#REF!"},{"$error":"#REF!"},{"$error":"#REF!"},{"$error":"#REF!"}]
[{"$f":"'Races, Positions & Points'!#REF!","v":{"$error":"#REF!"}},{"$f":"IF('Races, Positions & Points'!#REF!=\"\",\"\",'Races, Positions & Points'!#REF!)","v":{"$error":"#REF!"}},{"$f":"IF('Races, Positions & Points'!#REF!=\"\",\"\",'Races, Positions & Points'!#REF!)","v":{"$error":"#REF!"}},{"$f":"IF('Races, Positions & Points'!#REF!=\"\",\"\",'Races, Positions & Points'!#REF!)","v":{"$error":"#REF!"}},{"$f":"IF('Races, Positions & Points'!#REF!=\"\",\"\",'Races, Positions & Points'!#REF!)","v":{"$error":"#REF!"}},{"$f":"IF('Races, Positions & Points'!#REF!=\"\",\"\",'Races, Positions & Points'!#REF!)","v":{"$error":"#REF!"}},{"$f":"IF('Races, Positions & Points'!#REF!=\"\",\"\",'Races, Positions & Points'!#REF!)","v":{"$error":"#REF!"}},{"$f":"IF('Races, Positions & Points'!#REF!=\"\",\"\",'Races, Positions & Points'!#REF!)","v":{"$error":"#REF!"}},{"$f":"IF('Races, Positions & Points'!#REF!=\"\",\"\",'Races, Positions & Points'!#REF!)","v":{"$error":"#REF!"}},{"$f":"IF('Races, Positions & Points'!#REF!=\"\",\"\",'Races, Positions & Points'!#REF!)","v":{"$error":"#REF!"}},{"$f":"IF('Races, Positions & Points'!#REF!=\"\",\"\",'Races, Positions & Points'!#REF!)","v":{"$error":"#REF!"}},{"$f":"IF('Races, Positions & Points'!#REF!=\"\",\"\",'Races, Positions & Points'!#REF!)","v":{"$error":"#REF!"}},{"$f":"IF('Races, Positions & Points'!#REF!=\"\",\"\",'Races, Positions & Points'!#REF!)","v":{"$error":"#REF!"}},{"$f":"IF('Races, Positions & Points'!#REF!=\"\",\"\",'Races, Positions & Points'!#REF!)","v":{"$error":"#REF!"}},{"$f":"IF('Races, Positions & Points'!#REF!=\"\",\"\",'Races, Positions & Points'!#REF!)","v":{"$error":"#REF!"}},{"$f":"IF('Races, Positions & Points'!#REF!=\"\",\"\",'Races, Positions & Points'!#REF!)","v":{"$error":"#REF!"}},{"$f":"IF('Races, Positions & Points'!#REF!=\"\",\"\",'Races, Positions & Points'!#REF!)","v":{"$error":"#REF!"}},{"$f":"IF('Races, Positions & Points'!#REF!=\"\",\"\",'Races, Positions & Points'!#REF!)","v":{"$error":"#REF!"}},{"$f":"IF('Races, Positions & Points'!#REF!=\"\",\"\",'Races, Positions & Points'!#REF!)","v":{"$error":"#REF!"}},{"$f":"IF('Races, Positions & Points'!#REF!=\"\",\"\",'Races, Positions & Points'!#REF!)","v":{"$error":"#REF!"}},{"$f":"IF('Races, Positions & Points'!#REF!=\"\",\"\",'Races, Positions & Points'!#REF!)","v":{"$error":"#REF!"}},{"$f":"IF('Races, Positions & Points'!#REF!=\"\",\"\",'Races, Positions & Points'!#REF!)","v":{"$error":"#REF!"}},{"$f":"IF('Races, Positions & Points'!#REF!=\"\",\"\",'Races, Positions & Points'!#REF!)","v":{"$error":"#REF!"}},{"$f":"IF('Races, Positions & Points'!#REF!=\"\",\"\",'Races, Positions & Points'!#REF!)","v":{"$error":"#REF!"}},{"$f":"IF('Races, Positions & Points'!#REF!=\"\",\"\",'Races, Positions & Points'!#REF!)","v":{"$error":"#REF!"}},{"$f":"IF('Races, Positions & Points'!#REF!=\"\",\"\",'Races, Positions & Points'!#REF!)","v":{"$error":"#REF!"}},{"$f":"IF('Races, Positions & Points'!#REF!=\"\",\"\",'Races, Positions & Points'!#REF!)","v":{"$error":"#REF!"}},{"$f":"IF('Races, Positions & Points'!#REF!=\"\",\"\",'Races, Positions & Points'!#REF!)","v":{"$error":"#REF!"}},{"$f":"IF('Races, Positions & Points'!#REF!=\"\",\"\",'Races, Positions & Points'!#REF!)","v":{"$error":"#REF!"}},{"$f":"IF('Races, Positions & Points'!#REF!=\"\",\"\",'Races, Positions & Points'!#REF!)","v":{"$error":"#REF!"}},{"$f":"IF('Races, Positions & Points'!#REF!=\"\",\"\",'Races, Positions & Points'!#REF!)","v":{"$error":"#REF!"}},{"$f":"IF('Races, Positions & Points'!#REF!=\"\",\"\",'Races, Positions & Points'!#REF!)","v":{"$error":"#REF!"}},{"$f":"IF('Races, Positions & Points'!#REF!=\"\",\"\",'Races, Positions & Points'!#REF!)","v":{"$error":"#REF!"}},{"$f":"IF('Races, Positions & Points'!#REF!=\"\",\"\",'Races, Positions & Points'!#REF!)","v":{"$error":"#REF!"}},{"$f":"IF('Races, Positions & Points'!#REF!=\"\",\"\",'Races, Positions & Points'!#REF!)","v":{"$error":"#REF!"}},{"$f":"IF('Races, Positions & Points'!#REF!=\"\",\"\",'Races, Positions & Points'!#REF!)","v":{"$error":"#REF!"}},{"$f":"IF('Races, Positions & Points'!#REF!=\"\",\"\",'Races, Positions & Points'!#REF!)","v":{"$error":"#REF!"}},{"$f":"IF('Races, Positions & Points'!#REF!=\"\",\"\",'Races, Positions & Points'!#REF!)","v":{"$error":"#REF!"}},{"$f":"IF('Races, Positions & Points'!#REF!=\"\",\"\",'Races, Positions & Points'!#REF!)","v":{"$error":"#REF!"}},{"$f":"IF('Races, Positions & Points'!#REF!=\"\",\"\",'Races, Positions & Points'!#REF!)","v":{"$error":"#REF!"}},{"$f":"IF('Races, Positions & Points'!#REF!=\"\",\"\",'Races, Positions & Points'!#REF!)","v":{"$error":"#REF!"}},{"$f":"IF('Races, Positions & Points'!#REF!=\"\",\"\",'Races, Positions & Points'!#REF!)","v":{"$error":"#REF!"}},{"$f":"IF('Races, Positions & Points'!#REF!=\"\",\"\",'Races, Positions & Points'!#REF!)","v":{"$error":"#REF!"}},{"$f":"IF('Races, Positions & Points'!#REF!=\"\",\"\",'Races, Positions & Points'!#REF!)","v":{"$error":"#REF!"}},{"$f":"IF('Races, Positions & Points'!#REF!=\"\",\"\",'Races, Positions & Points'!#REF!)","v":{"$error":"#REF!"}},{"$f":"IF('Races, Positions & Points'!#REF!=\"\",\"\",'Races, Positions & Points'!#REF!)","v":{"$error":"#REF!"}},{"$f":"IF('Races, Positions & Points'!#REF!=\"\",\"\",'Races, Positions & Points'!#REF!)","v":{"$error":"#REF!"}},{"$f":"IF('Races, Positions & Points'!#REF!=\"\",\"\",'Races, Positions & Points'!#REF!)","v":{"$error":"#REF!"}},{"$f":"IF('Races, Positions & Points'!#REF!=\"\",\"\",'Races, Positions & Points'!#REF!)","v":{"$error":"#REF!"}},{"$f":"IF('Races, Positions & Points'!#REF!=\"\",\"\",'Races, Positions & Points'!#REF!)","v":{"$error":"#REF!"}},{"$f":"IF('Races, Positions & Points'!#REF!=\"\",\"\",'Races, Positions & Points'!#REF!)","v":{"$error":"#REF!"}},null,{"$error":"#REF!"},{"$error":"#REF!"},{"$error":"#REF!"},{"$error":"#REF!"},{"$error":"#REF!"},{"$error":"#REF!"},null,{"$f":"'Races, Positions & Points'!#REF!","v":{"$error":"#REF!"}},{"$f":"'Races, Positions & Points'!#REF!","v":{"$error":"#REF!"}},{"$error":"#REF!"},"","",{"$error":"#REF!"},"",{"$error":"#REF!"},{"$error":"#REF!"},{"$error":"#REF!"},null,{"$error":"#REF!"},"","",{"$error":"#REF!"},"",{"$error":"#REF!"},{"$error":"#REF!"},{"$error":"#REF!"},null,{"$error":"#REF!"},{"$error":"#REF!"},{"$error":"#REF!"},{"$error":"#REF!"},{"$error":"#REF!"},{"$error":"#REF!"},{"$error":"#REF!"},{"$error":"#REF!"},{"$error":"#REF!"},{"$error":"#REF!"},{"$error":"#REF!"},{"$error":"#REF!"},{"$error":"#REF!"},{"$error":"#REF!"},{"$error":"#REF!"},{"$error":"#REF!"},null,{"$error":"#REF!"},"","","",null,{"$error":"#REF!"},"","","",null,{"$error":"#REF!"},{"$error":"#REF!"},{"$error":"#REF!"},{"$error":"#REF!"},{"$error":"#REF!"},{"$error":"#REF!"},{"$error":"#REF!"},{"$error":"#REF!"},{"$error":"#REF!"},{"$error":"#REF!"}]
[{"$f":"'Races, Positions & Points'!#REF!","v":{"$error":"#REF!"}},{"$f":"IF('Races, Positions & Points'!#REF!=\"\",\"\",'Races, Positions & Points'!#REF!)","v":{"$error":"#REF!"}},{"$f":"IF('Races, Positions & Points'!#REF!=\"\",\"\",'Races, Positions & Points'!#REF!)","v":{"$error":"#REF!"}},{"$f":"IF('Races, Positions & Points'!#REF!=\"\",\"\",'Races, Positions & Points'!#REF!)","v":{"$error":"#REF!"}},{"$f":"IF('Races, Positions & Points'!#REF!=\"\",\"\",'Races, Positions & Points'!#REF!)","v":{"$error":"#REF!"}},{"$f":"IF('Races, Positions & Points'!#REF!=\"\",\"\",'Races, Positions & Points'!#REF!)","v":{"$error":"#REF!"}},{"$f":"IF('Races, Positions & Points'!#REF!=\"\",\"\",'Races, Positions & Points'!#REF!)","v":{"$error":"#REF!"}},{"$f":"IF('Races, Positions & Points'!#REF!=\"\",\"\",'Races, Positions & Points'!#REF!)","v":{"$error":"#REF!"}},{"$f":"IF('Races, Positions & Points'!#REF!=\"\",\"\",'Races, Positions & Points'!#REF!)","v":{"$error":"#REF!"}},{"$f":"IF('Races, Positions & Points'!#REF!=\"\",\"\",'Races, Positions & Points'!#REF!)","v":{"$error":"#REF!"}},{"$f":"IF('Races, Positions & Points'!#REF!=\"\",\"\",'Races, Positions & Points'!#REF!)","v":{"$error":"#REF!"}},{"$f":"IF('Races, Positions & Points'!#REF!=\"\",\"\",'Races, Positions & Points'!#REF!)","v":{"$error":"#REF!"}},{"$f":"IF('Races, Positions & Points'!#REF!=\"\",\"\",'Races, Positions & Points'!#REF!)","v":{"$error":"#REF!"}},{"$f":"IF('Races, Positions & Points'!#REF!=\"\",\"\",'Races, Positions & Points'!#REF!)","v":{"$error":"#REF!"}},{"$f":"IF('Races, Positions & Points'!#REF!=\"\",\"\",'Races, Positions & Points'!#REF!)","v":{"$error":"#REF!"}},{"$f":"IF('Races, Positions & Points'!#REF!=\"\",\"\",'Races, Positions & Points'!#REF!)","v":{"$error":"#REF!"}},{"$f":"IF('Races, Positions & Points'!#REF!=\"\",\"\",'Races, Positions & Points'!#REF!)","v":{"$error":"#REF!"}},{"$f":"IF('Races, Positions & Points'!#REF!=\"\",\"\",'Races, Positions & Points'!#REF!)","v":{"$error":"#REF!"}},{"$f":"IF('Races, Positions & Points'!#REF!=\"\",\"\",'Races, Positions & Points'!#REF!)","v":{"$error":"#REF!"}},{"$f":"IF('Races, Positions & Points'!#REF!=\"\",\"\",'Races, Positions & Points'!#REF!)","v":{"$error":"#REF!"}},{"$f":"IF('Races, Positions & Points'!#REF!=\"\",\"\",'Races, Positions & Points'!#REF!)","v":{"$error":"#REF!"}},{"$f":"IF('Races, Positions & Points'!#REF!=\"\",\"\",'Races, Positions & Points'!#REF!)","v":{"$error":"#REF!"}},{"$f":"IF('Races, Positions & Points'!#REF!=\"\",\"\",'Races, Positions & Points'!#REF!)","v":{"$error":"#REF!"}},{"$f":"IF('Races, Positions & Points'!#REF!=\"\",\"\",'Races, Positions & Points'!#REF!)","v":{"$error":"#REF!"}},{"$f":"IF('Races, Positions & Points'!#REF!=\"\",\"\",'Races, Positions & Points'!#REF!)","v":{"$error":"#REF!"}},{"$f":"IF('Races, Positions & Points'!#REF!=\"\",\"\",'Races, Positions & Points'!#REF!)","v":{"$error":"#REF!"}},{"$f":"IF('Races, Positions & Points'!#REF!=\"\",\"\",'Races, Positions & Points'!#REF!)","v":{"$error":"#REF!"}},{"$f":"IF('Races, Positions & Points'!#REF!=\"\",\"\",'Races, Positions & Points'!#REF!)","v":{"$error":"#REF!"}},{"$f":"IF('Races, Positions & Points'!#REF!=\"\",\"\",'Races, Positions & Points'!#REF!)","v":{"$error":"#REF!"}},{"$f":"IF('Races, Positions & Points'!#REF!=\"\",\"\",'Races, Positions & Points'!#REF!)","v":{"$error":"#REF!"}},{"$f":"IF('Races, Positions & Points'!#REF!=\"\",\"\",'Races, Positions & Points'!#REF!)","v":{"$error":"#REF!"}},{"$f":"IF('Races, Positions & Points'!#REF!=\"\",\"\",'Races, Positions & Points'!#REF!)","v":{"$error":"#REF!"}},{"$f":"IF('Races, Positions & Points'!#REF!=\"\",\"\",'Races, Positions & Points'!#REF!)","v":{"$error":"#REF!"}},{"$f":"IF('Races, Positions & Points'!#REF!=\"\",\"\",'Races, Positions & Points'!#REF!)","v":{"$error":"#REF!"}},{"$f":"IF('Races, Positions & Points'!#REF!=\"\",\"\",'Races, Positions & Points'!#REF!)","v":{"$error":"#REF!"}},{"$f":"IF('Races, Positions & Points'!#REF!=\"\",\"\",'Races, Positions & Points'!#REF!)","v":{"$error":"#REF!"}},{"$f":"IF('Races, Positions & Points'!#REF!=\"\",\"\",'Races, Positions & Points'!#REF!)","v":{"$error":"#REF!"}},{"$f":"IF('Races, Positions & Points'!#REF!=\"\",\"\",'Races, Positions & Points'!#REF!)","v":{"$error":"#REF!"}},{"$f":"IF('Races, Positions & Points'!#REF!=\"\",\"\",'Races, Positions & Points'!#REF!)","v":{"$error":"#REF!"}},{"$f":"IF('Races, Positions & Points'!#REF!=\"\",\"\",'Races, Positions & Points'!#REF!)","v":{"$error":"#REF!"}},{"$f":"IF('Races, Positions & Points'!#REF!=\"\",\"\",'Races, Positions & Points'!#REF!)","v":{"$error":"#REF!"}},{"$f":"IF('Races, Positions & Points'!#REF!=\"\",\"\",'Races, Positions & Points'!#REF!)","v":{"$error":"#REF!"}},{"$f":"IF('Races, Positions & Points'!#REF!=\"\",\"\",'Races, Positions & Points'!#REF!)","v":{"$error":"#REF!"}},{"$f":"IF('Races, Positions & Points'!#REF!=\"\",\"\",'Races, Positions & Points'!#REF!)","v":{"$error":"#REF!"}},{"$f":"IF('Races, Positions & Points'!#REF!=\"\",\"\",'Races, Positions & Points'!#REF!)","v":{"$error":"#REF!"}},{"$f":"IF('Races, Positions & Points'!#REF!=\"\",\"\",'Races, Positions & Points'!#REF!)","v":{"$error":"#REF!"}},{"$f":"IF('Races, Positions & Points'!#REF!=\"\",\"\",'Races, Positions & Points'!#REF!)","v":{"$error":"#REF!"}},{"$f":"IF('Races, Positions & Points'!#REF!=\"\",\"\",'Races, Positions & Points'!#REF!)","v":{"$error":"#REF!"}},{"$f":"IF('Races, Positions & Points'!#REF!=\"\",\"\",'Races, Positions & Points'!#REF!)","v":{"$error":"#REF!"}},{"$f":"IF('Races, Positions & Points'!#REF!=\"\",\"\",'Races, Positions & Points'!#REF!)","v":{"$error":"#REF!"}},{"$f":"IF('Races, Positions & Points'!#REF!=\"\",\"\",'Races, Positions & Points'!#REF!)","v":{"$error":"#REF!"}},null,{"$error":"#REF!"},{"$error":"#REF!"},{"$error":"#REF!"},{"$error":"#REF!"},{"$error":"#REF!"},{"$error":"#REF!"},null,{"$f":"'Races, Positions & Points'!#REF!","v":{"$error":"#REF!"}},{"$f":"'Races, Positions & Points'!#REF!","v":{"$error":"#REF!"}},{"$error":"#REF!"},"","",{"$error":"#REF!"},"",{"$error":"#REF!"},{"$error":"#REF!"},{"$error":"#REF!"},null,{"$error":"#REF!"},"","",{"$error":"#REF!"},"",{"$error":"#REF!"},{"$error":"#REF!"},{"$error":"#REF!"},null,{"$error":"#REF!"},{"$error":"#REF!"},{"$error":"#REF!"},{"$error":"#REF!"},{"$error":"#REF!"},{"$error":"#REF!"},{"$error":"#REF!"},{"$error":"#REF!"},{"$error":"#REF!"},{"$error":"#REF!"},{"$error":"#REF!"},{"$error":"#REF!"},{"$error":"#REF!"},{"$error":"#REF!"},{"$error":"#REF!"},{"$error":"#REF!"},null,{"$error":"#REF!"},"","","",null,{"$error":"#REF!"},"","","",null,{"$error":"#REF!"},{"$error":"#REF!"},{"$error":"#REF!"},{"$error":"#REF!"},{"$error":"#REF!"},{"$error":"#REF!"},{"$error":"#REF!"},{"$error":"#REF!"},{"$error":"#REF!"},{"$error":"#REF!"}]
[{"$f":"'Races, Positions & Points'!#REF!","v":{"$error":"#REF!"}},{"$f":"IF('Races, Positions & Points'!#REF!=\"\",\"\",'Races, Positions & Points'!#REF!)","v":{"$error":"#REF!"}},{"$f":"IF('Races, Positions & Points'!#REF!=\"\",\"\",'Races, Positions & Points'!#REF!)","v":{"$error":"#REF!"}},{"$f":"IF('Races, Positions & Points'!#REF!=\"\",\"\",'Races, Positions & Points'!#REF!)","v":{"$error":"#REF!"}},{"$f":"IF('Races, Positions & Points'!#REF!=\"\",\"\",'Races, Positions & Points'!#REF!)","v":{"$error":"#REF!"}},{"$f":"IF('Races, Positions & Points'!#REF!=\"\",\"\",'Races, Positions & Points'!#REF!)","v":{"$error":"#REF!"}},{"$f":"IF('Races, Positions & Points'!#REF!=\"\",\"\",'Races, Positions & Points'!#REF!)","v":{"$error":"#REF!"}},{"$f":"IF('Races, Positions & Points'!#REF!=\"\",\"\",'Races, Positions & Points'!#REF!)","v":{"$error":"#REF!"}},{"$f":"IF('Races, Positions & Points'!#REF!=\"\",\"\",'Races, Positions & Points'!#REF!)","v":{"$error":"#REF!"}},{"$f":"IF('Races, Positions & Points'!#REF!=\"\",\"\",'Races, Positions & Points'!#REF!)","v":{"$error":"#REF!"}},{"$f":"IF('Races, Positions & Points'!#REF!=\"\",\"\",'Races, Positions & Points'!#REF!)","v":{"$error":"#REF!"}},{"$f":"IF('Races, Positions & Points'!#REF!=\"\",\"\",'Races, Positions & Points'!#REF!)","v":{"$error":"#REF!"}},{"$f":"IF('Races, Positions & Points'!#REF!=\"\",\"\",'Races, Positions & Points'!#REF!)","v":{"$error":"#REF!"}},{"$f":"IF('Races, Positions & Points'!#REF!=\"\",\"\",'Races, Positions & Points'!#REF!)","v":{"$error":"#REF!"}},{"$f":"IF('Races, Positions & Points'!#REF!=\"\",\"\",'Races, Positions & Points'!#REF!)","v":{"$error":"#REF!"}},{"$f":"IF('Races, Positions & Points'!#REF!=\"\",\"\",'Races, Positions & Points'!#REF!)","v":{"$error":"#REF!"}},{"$f":"IF('Races, Positions & Points'!#REF!=\"\",\"\",'Races, Positions & Points'!#REF!)","v":{"$error":"#REF!"}},{"$f":"IF('Races, Positions & Points'!#REF!=\"\",\"\",'Races, Positions & Points'!#REF!)","v":{"$error":"#REF!"}},{"$f":"IF('Races, Positions & Points'!#REF!=\"\",\"\",'Races, Positions & Points'!#REF!)","v":{"$error":"#REF!"}},{"$f":"IF('Races, Positions & Points'!#REF!=\"\",\"\",'Races, Positions & Points'!#REF!)","v":{"$error":"#REF!"}},{"$f":"IF('Races, Positions & Points'!#REF!=\"\",\"\",'Races, Positions & Points'!#REF!)","v":{"$error":"#REF!"}},{"$f":"IF('Races, Positions & Points'!#REF!=\"\",\"\",'Races, Positions & Points'!#REF!)","v":{"$error":"#REF!"}},{"$f":"IF('Races, Positions & Points'!#REF!=\"\",\"\",'Races, Positions & Points'!#REF!)","v":{"$error":"#REF!"}},{"$f":"IF('Races, Positions & Points'!#REF!=\"\",\"\",'Races, Positions & Points'!#REF!)","v":{"$error":"#REF!"}},{"$f":"IF('Races, Positions & Points'!#REF!=\"\",\"\",'Races, Positions & Points'!#REF!)","v":{"$error":"#REF!"}},{"$f":"IF('Races, Positions & Points'!#REF!=\"\",\"\",'Races, Positions & Points'!#REF!)","v":{"$error":"#REF!"}},{"$f":"IF('Races, Positions & Points'!#REF!=\"\",\"\",'Races, Positions & Points'!#REF!)","v":{"$error":"#REF!"}},{"$f":"IF('Races, Positions & Points'!#REF!=\"\",\"\",'Races, Positions & Points'!#REF!)","v":{"$error":"#REF!"}},{"$f":"IF('Races, Positions & Points'!#REF!=\"\",\"\",'Races, Positions & Points'!#REF!)","v":{"$error":"#REF!"}},{"$f":"IF('Races, Positions & Points'!#REF!=\"\",\"\",'Races, Positions & Points'!#REF!)","v":{"$error":"#REF!"}},{"$f":"IF('Races, Positions & Points'!#REF!=\"\",\"\",'Races, Positions & Points'!#REF!)","v":{"$error":"#REF!"}},{"$f":"IF('Races, Positions & Points'!#REF!=\"\",\"\",'Races, Positions & Points'!#REF!)","v":{"$error":"#REF!"}},{"$f":"IF('Races, Positions & Points'!#REF!=\"\",\"\",'Races, Positions & Points'!#REF!)","v":{"$error":"#REF!"}},{"$f":"IF('Races, Positions & Points'!#REF!=\"\",\"\",'Races, Positions & Points'!#REF!)","v":{"$error":"#REF!"}},{"$f":"IF('Races, Positions & Points'!#REF!=\"\",\"\",'Races, Positions & Points'!#REF!)","v":{"$error":"#REF!"}},{"$f":"IF('Races, Positions & Points'!#REF!=\"\",\"\",'Races, Positions & Points'!#REF!)","v":{"$error":"#REF!"}},{"$f":"IF('Races, Positions & Points'!#REF!=\"\",\"\",'Races, Positions & Points'!#REF!)","v":{"$error":"#REF!"}},{"$f":"IF('Races, Positions & Points'!#REF!=\"\",\"\",'Races, Positions & Points'!#REF!)","v":{"$error":"#REF!"}},{"$f":"IF('Races, Positions & Points'!#REF!=\"\",\"\",'Races, Positions & Points'!#REF!)","v":{"$error":"#REF!"}},{"$f":"IF('Races, Positions & Points'!#REF!=\"\",\"\",'Races, Positions & Points'!#REF!)","v":{"$error":"#REF!"}},{"$f":"IF('Races, Positions & Points'!#REF!=\"\",\"\",'Races, Positions & Points'!#REF!)","v":{"$error":"#REF!"}},{"$f":"IF('Races, Positions & Points'!#REF!=\"\",\"\",'Races, Positions & Points'!#REF!)","v":{"$error":"#REF!"}},{"$f":"IF('Races, Positions & Points'!#REF!=\"\",\"\",'Races, Positions & Points'!#REF!)","v":{"$error":"#REF!"}},{"$f":"IF('Races, Positions & Points'!#REF!=\"\",\"\",'Races, Positions & Points'!#REF!)","v":{"$error":"#REF!"}},{"$f":"IF('Races, Positions & Points'!#REF!=\"\",\"\",'Races, Positions & Points'!#REF!)","v":{"$error":"#REF!"}},{"$f":"IF('Races, Positions & Points'!#REF!=\"\",\"\",'Races, Positions & Points'!#REF!)","v":{"$error":"#REF!"}},{"$f":"IF('Races, Positions & Points'!#REF!=\"\",\"\",'Races, Positions & Points'!#REF!)","v":{"$error":"#REF!"}},{"$f":"IF('Races, Positions & Points'!#REF!=\"\",\"\",'Races, Positions & Points'!#REF!)","v":{"$error":"#REF!"}},{"$f":"IF('Races, Positions & Points'!#REF!=\"\",\"\",'Races, Positions & Points'!#REF!)","v":{"$error":"#REF!"}},{"$f":"IF('Races, Positions & Points'!#REF!=\"\",\"\",'Races, Positions & Points'!#REF!)","v":{"$error":"#REF!"}},{"$f":"IF('Races, Positions & Points'!#REF!=\"\",\"\",'Races, Positions & Points'!#REF!)","v":{"$error":"#REF!"}},null,{"$error":"#REF!"},{"$error":"#REF!"},{"$error":"#REF!"},{"$error":"#REF!"},{"$error":"#REF!"},{"$error":"#REF!"},null,{"$f":"'Races, Positions & Points'!#REF!","v":{"$error":"#REF!"}},{"$f":"'Races, Positions & Points'!#REF!","v":{"$error":"#REF!"}},{"$error":"#REF!"},"","",{"$error":"#REF!"},"",{"$error":"#REF!"},{"$error":"#REF!"},{"$error":"#REF!"},null,{"$error":"#REF!"},"","",{"$error":"#REF!"},"",{"$error":"#REF!"},{"$error":"#REF!"},{"$error":"#REF!"},null,{"$error":"#REF!"},{"$error":"#REF!"},{"$error":"#REF!"},{"$error":"#REF!"},{"$error":"#REF!"},{"$error":"#REF!"},{"$error":"#REF!"},{"$error":"#REF!"},{"$error":"#REF!"},{"$error":"#REF!"},{"$error":"#REF!"},{"$error":"#REF!"},{"$error":"#REF!"},{"$error":"#REF!"},{"$error":"#REF!"},{"$error":"#REF!"},null,{"$error":"#REF!"},"","","",null,{"$error":"#REF!"},"","","",null,{"$error":"#REF!"},{"$error":"#REF!"},{"$error":"#REF!"},{"$error":"#REF!"},{"$error":"#REF!"},{"$error":"#REF!"},{"$error":"#REF!"},{"$error":"#REF!"},{"$error":"#REF!"},{"$error":"#REF!"}]
[{"$f":"'Races, Positions & Points'!#REF!","v":{"$error":"#REF!"}},{"$f":"IF('Races, Positions & Points'!#REF!=\"\",\"\",'Races, Positions & Points'!#REF!)","v":{"$error":"#REF!"}},{"$f":"IF('Races, Positions & Points'!#REF!=\"\",\"\",'Races, Positions & Points'!#REF!)","v":{"$error":"#REF!"}},{"$f":"IF('Races, Positions & Points'!#REF!=\"\",\"\",'Races, Positions & Points'!#REF!)","v":{"$error":"#REF!"}},{"$f":"IF('Races, Positions & Points'!#REF!=\"\",\"\",'Races, Positions & Points'!#REF!)","v":{"$error":"#REF!"}},{"$f":"IF('Races, Positions & Points'!#REF!=\"\",\"\",'Races, Positions & Points'!#REF!)","v":{"$error":"#REF!"}},{"$f":"IF('Races, Positions & Points'!#REF!=\"\",\"\",'Races, Positions & Points'!#REF!)","v":{"$error":"#REF!"}},{"$f":"IF('Races, Positions & Points'!#REF!=\"\",\"\",'Races, Positions & Points'!#REF!)","v":{"$error":"#REF!"}},{"$f":"IF('Races, Positions & Points'!#REF!=\"\",\"\",'Races, Positions & Points'!#REF!)","v":{"$error":"#REF!"}},{"$f":"IF('Races, Positions & Points'!#REF!=\"\",\"\",'Races, Positions & Points'!#REF!)","v":{"$error":"#REF!"}},{"$f":"IF('Races, Positions & Points'!#REF!=\"\",\"\",'Races, Positions & Points'!#REF!)","v":{"$error":"#REF!"}},{"$f":"IF('Races, Positions & Points'!#REF!=\"\",\"\",'Races, Positions & Points'!#REF!)","v":{"$error":"#REF!"}},{"$f":"IF('Races, Positions & Points'!#REF!=\"\",\"\",'Races, Positions & Points'!#REF!)","v":{"$error":"#REF!"}},{"$f":"IF('Races, Positions & Points'!#REF!=\"\",\"\",'Races, Positions & Points'!#REF!)","v":{"$error":"#REF!"}},{"$f":"IF('Races, Positions & Points'!#REF!=\"\",\"\",'Races, Positions & Points'!#REF!)","v":{"$error":"#REF!"}},{"$f":"IF('Races, Positions & Points'!#REF!=\"\",\"\",'Races, Positions & Points'!#REF!)","v":{"$error":"#REF!"}},{"$f":"IF('Races, Positions & Points'!#REF!=\"\",\"\",'Races, Positions & Points'!#REF!)","v":{"$error":"#REF!"}},{"$f":"IF('Races, Positions & Points'!#REF!=\"\",\"\",'Races, Positions & Points'!#REF!)","v":{"$error":"#REF!"}},{"$f":"IF('Races, Positions & Points'!#REF!=\"\",\"\",'Races, Positions & Points'!#REF!)","v":{"$error":"#REF!"}},{"$f":"IF('Races, Positions & Points'!#REF!=\"\",\"\",'Races, Positions & Points'!#REF!)","v":{"$error":"#REF!"}},{"$f":"IF('Races, Positions & Points'!#REF!=\"\",\"\",'Races, Positions & Points'!#REF!)","v":{"$error":"#REF!"}},{"$f":"IF('Races, Positions & Points'!#REF!=\"\",\"\",'Races, Positions & Points'!#REF!)","v":{"$error":"#REF!"}},{"$f":"IF('Races, Positions & Points'!#REF!=\"\",\"\",'Races, Positions & Points'!#REF!)","v":{"$error":"#REF!"}},{"$f":"IF('Races, Positions & Points'!#REF!=\"\",\"\",'Races, Positions & Points'!#REF!)","v":{"$error":"#REF!"}},{"$f":"IF('Races, Positions & Points'!#REF!=\"\",\"\",'Races, Positions & Points'!#REF!)","v":{"$error":"#REF!"}},{"$f":"IF('Races, Positions & Points'!#REF!=\"\",\"\",'Races, Positions & Points'!#REF!)","v":{"$error":"#REF!"}},{"$f":"IF('Races, Positions & Points'!#REF!=\"\",\"\",'Races, Positions & Points'!#REF!)","v":{"$error":"#REF!"}},{"$f":"IF('Races, Positions & Points'!#REF!=\"\",\"\",'Races, Positions & Points'!#REF!)","v":{"$error":"#REF!"}},{"$f":"IF('Races, Positions & Points'!#REF!=\"\",\"\",'Races, Positions & Points'!#REF!)","v":{"$error":"#REF!"}},{"$f":"IF('Races, Positions & Points'!#REF!=\"\",\"\",'Races, Positions & Points'!#REF!)","v":{"$error":"#REF!"}},{"$f":"IF('Races, Positions & Points'!#REF!=\"\",\"\",'Races, Positions & Points'!#REF!)","v":{"$error":"#REF!"}},{"$f":"IF('Races, Positions & Points'!#REF!=\"\",\"\",'Races, Positions & Points'!#REF!)","v":{"$error":"#REF!"}},{"$f":"IF('Races, Positions & Points'!#REF!=\"\",\"\",'Races, Positions & Points'!#REF!)","v":{"$error":"#REF!"}},{"$f":"IF('Races, Positions & Points'!#REF!=\"\",\"\",'Races, Positions & Points'!#REF!)","v":{"$error":"#REF!"}},{"$f":"IF('Races, Positions & Points'!#REF!=\"\",\"\",'Races, Positions & Points'!#REF!)","v":{"$error":"#REF!"}},{"$f":"IF('Races, Positions & Points'!#REF!=\"\",\"\",'Races, Positions & Points'!#REF!)","v":{"$error":"#REF!"}},{"$f":"IF('Races, Positions & Points'!#REF!=\"\",\"\",'Races, Positions & Points'!#REF!)","v":{"$error":"#REF!"}},{"$f":"IF('Races, Positions & Points'!#REF!=\"\",\"\",'Races, Positions & Points'!#REF!)","v":{"$error":"#REF!"}},{"$f":"IF('Races, Positions & Points'!#REF!=\"\",\"\",'Races, Positions & Points'!#REF!)","v":{"$error":"#REF!"}},{"$f":"IF('Races, Positions & Points'!#REF!=\"\",\"\",'Races, Positions & Points'!#REF!)","v":{"$error":"#REF!"}},{"$f":"IF('Races, Positions & Points'!#REF!=\"\",\"\",'Races, Positions & Points'!#REF!)","v":{"$error":"#REF!"}},{"$f":"IF('Races, Positions & Points'!#REF!=\"\",\"\",'Races, Positions & Points'!#REF!)","v":{"$error":"#REF!"}},{"$f":"IF('Races, Positions & Points'!#REF!=\"\",\"\",'Races, Positions & Points'!#REF!)","v":{"$error":"#REF!"}},{"$f":"IF('Races, Positions & Points'!#REF!=\"\",\"\",'Races, Positions & Points'!#REF!)","v":{"$error":"#REF!"}},{"$f":"IF('Races, Positions & Points'!#REF!=\"\",\"\",'Races, Positions & Points'!#REF!)","v":{"$error":"#REF!"}},{"$f":"IF('Races, Positions & Points'!#REF!=\"\",\"\",'Races, Positions & Points'!#REF!)","v":{"$error":"#REF!"}},{"$f":"IF('Races, Positions & Points'!#REF!=\"\",\"\",'Races, Positions & Points'!#REF!)","v":{"$error":"#REF!"}},{"$f":"IF('Races, Positions & Points'!#REF!=\"\",\"\",'Races, Positions & Points'!#REF!)","v":{"$error":"#REF!"}},{"$f":"IF('Races, Positions & Points'!#REF!=\"\",\"\",'Races, Positions & Points'!#REF!)","v":{"$error":"#REF!"}},{"$f":"IF('Races, Positions & Points'!#REF!=\"\",\"\",'Races, Positions & Points'!#REF!)","v":{"$error":"#REF!"}},{"$f":"IF('Races, Positions & Points'!#REF!=\"\",\"\",'Races, Positions & Points'!#REF!)","v":{"$error":"#REF!"}},null,{"$error":"#REF!"},{"$error":"#REF!"},{"$error":"#REF!"},{"$error":"#REF!"},{"$error":"#REF!"},{"$error":"#REF!"},null,{"$f":"'Races, Positions & Points'!#REF!","v":{"$error":"#REF!"}},{"$f":"'Races, Positions & Points'!#REF!","v":{"$error":"#REF!"}},{"$error":"#REF!"},"","",{"$error":"#REF!"},"",{"$error":"#REF!"},{"$error":"#REF!"},{"$error":"#REF!"},null,{"$error":"#REF!"},"","",{"$error":"#REF!"},"",{"$error":"#REF!"},{"$error":"#REF!"},{"$error":"#REF!"},null,{"$error":"#REF!"},{"$error":"#REF!"},{"$error":"#REF!"},{"$error":"#REF!"},{"$error":"#REF!"},{"$error":"#REF!"},{"$error":"#REF!"},{"$error":"#REF!"},{"$error":"#REF!"},{"$error":"#REF!"},{"$error":"#REF!"},{"$error":"#REF!"},{"$error":"#REF!"},{"$error":"#REF!"},{"$error":"#REF!"},{"$error":"#REF!"},null,{"$error":"#REF!"},"","","",null,{"$error":"#REF!"},"","","",null,{"$error":"#REF!"},{"$error":"#REF!"},{"$error":"#REF!"},{"$error":"#REF!"},{"$error":"#REF!"},{"$error":"#REF!"},{"$error":"#REF!"},{"$error":"#REF!"},{"$error":"#REF!"},{"$error":"#REF!"}]
[{"$f":"'Races, Positions & Points'!#REF!","v":{"$error":"#REF!"}},{"$f":"IF('Races, Positions & Points'!#REF!=\"\",\"\",'Races, Positions & Points'!#REF!)","v":{"$error":"#REF!"}},{"$f":"IF('Races, Positions & Points'!#REF!=\"\",\"\",'Races, Positions & Points'!#REF!)","v":{"$error":"#REF!"}},{"$f":"IF('Races, Positions & Points'!#REF!=\"\",\"\",'Races, Positions & Points'!#REF!)","v":{"$error":"#REF!"}},{"$f":"IF('Races, Positions & Points'!#REF!=\"\",\"\",'Races, Positions & Points'!#REF!)","v":{"$error":"#REF!"}},{"$f":"IF('Races, Positions & Points'!#REF!=\"\",\"\",'Races, Positions & Points'!#REF!)","v":{"$error":"#REF!"}},{"$f":"IF('Races, Positions & Points'!#REF!=\"\",\"\",'Races, Positions & Points'!#REF!)","v":{"$error":"#REF!"}},{"$f":"IF('Races, Positions & Points'!#REF!=\"\",\"\",'Races, Positions & Points'!#REF!)","v":{"$error":"#REF!"}},{"$f":"IF('Races, Positions & Points'!#REF!=\"\",\"\",'Races, Positions & Points'!#REF!)","v":{"$error":"#REF!"}},{"$f":"IF('Races, Positions & Points'!#REF!=\"\",\"\",'Races, Positions & Points'!#REF!)","v":{"$error":"#REF!"}},{"$f":"IF('Races, Positions & Points'!#REF!=\"\",\"\",'Races, Positions & Points'!#REF!)","v":{"$error":"#REF!"}},{"$f":"IF('Races, Positions & Points'!#REF!=\"\",\"\",'Races, Positions & Points'!#REF!)","v":{"$error":"#REF!"}},{"$f":"IF('Races, Positions & Points'!#REF!=\"\",\"\",'Races, Positions & Points'!#REF!)","v":{"$error":"#REF!"}},{"$f":"IF('Races, Positions & Points'!#REF!=\"\",\"\",'Races, Positions & Points'!#REF!)","v":{"$error":"#REF!"}},{"$f":"IF('Races, Positions & Points'!#REF!=\"\",\"\",'Races, Positions & Points'!#REF!)","v":{"$error":"#REF!"}},{"$f":"IF('Races, Positions & Points'!#REF!=\"\",\"\",'Races, Positions & Points'!#REF!)","v":{"$error":"#REF!"}},{"$f":"IF('Races, Positions & Points'!#REF!=\"\",\"\",'Races, Positions & Points'!#REF!)","v":{"$error":"#REF!"}},{"$f":"IF('Races, Positions & Points'!#REF!=\"\",\"\",'Races, Positions & Points'!#REF!)","v":{"$error":"#REF!"}},{"$f":"IF('Races, Positions & Points'!#REF!=\"\",\"\",'Races, Positions & Points'!#REF!)","v":{"$error":"#REF!"}},{"$f":"IF('Races, Positions & Points'!#REF!=\"\",\"\",'Races, Positions & Points'!#REF!)","v":{"$error":"#REF!"}},{"$f":"IF('Races, Positions & Points'!#REF!=\"\",\"\",'Races, Positions & Points'!#REF!)","v":{"$error":"#REF!"}},{"$f":"IF('Races, Positions & Points'!#REF!=\"\",\"\",'Races, Positions & Points'!#REF!)","v":{"$error":"#REF!"}},{"$f":"IF('Races, Positions & Points'!#REF!=\"\",\"\",'Races, Positions & Points'!#REF!)","v":{"$error":"#REF!"}},{"$f":"IF('Races, Positions & Points'!#REF!=\"\",\"\",'Races, Positions & Points'!#REF!)","v":{"$error":"#REF!"}},{"$f":"IF('Races, Positions & Points'!#REF!=\"\",\"\",'Races, Positions & Points'!#REF!)","v":{"$error":"#REF!"}},{"$f":"IF('Races, Positions & Points'!#REF!=\"\",\"\",'Races, Positions & Points'!#REF!)","v":{"$error":"#REF!"}},{"$f":"IF('Races, Positions & Points'!#REF!=\"\",\"\",'Races, Positions & Points'!#REF!)","v":{"$error":"#REF!"}},{"$f":"IF('Races, Positions & Points'!#REF!=\"\",\"\",'Races, Positions & Points'!#REF!)","v":{"$error":"#REF!"}},{"$f":"IF('Races, Positions & Points'!#REF!=\"\",\"\",'Races, Positions & Points'!#REF!)","v":{"$error":"#REF!"}},{"$f":"IF('Races, Positions & Points'!#REF!=\"\",\"\",'Races, Positions & Points'!#REF!)","v":{"$error":"#REF!"}},{"$f":"IF('Races, Positions & Points'!#REF!=\"\",\"\",'Races, Positions & Points'!#REF!)","v":{"$error":"#REF!"}},{"$f":"IF('Races, Positions & Points'!#REF!=\"\",\"\",'Races, Positions & Points'!#REF!)","v":{"$error":"#REF!"}},{"$f":"IF('Races, Positions & Points'!#REF!=\"\",\"\",'Races, Positions & Points'!#REF!)","v":{"$error":"#REF!"}},{"$f":"IF('Races, Positions & Points'!#REF!=\"\",\"\",'Races, Positions & Points'!#REF!)","v":{"$error":"#REF!"}},{"$f":"IF('Races, Positions & Points'!#REF!=\"\",\"\",'Races, Positions & Points'!#REF!)","v":{"$error":"#REF!"}},{"$f":"IF('Races, Positions & Points'!#REF!=\"\",\"\",'Races, Positions & Points'!#REF!)","v":{"$error":"#REF!"}},{"$f":"IF('Races, Positions & Points'!#REF!=\"\",\"\",'Races, Positions & Points'!#REF!)","v":{"$error":"#REF!"}},{"$f":"IF('Races, Positions & Points'!#REF!=\"\",\"\",'Races, Positions & Points'!#REF!)","v":{"$error":"#REF!"}},{"$f":"IF('Races, Positions & Points'!#REF!=\"\",\"\",'Races, Positions & Points'!#REF!)","v":{"$error":"#REF!"}},{"$f":"IF('Races, Positions & Points'!#REF!=\"\",\"\",'Races, Positions & Points'!#REF!)","v":{"$error":"#REF!"}},{"$f":"IF('Races, Positions & Points'!#REF!=\"\",\"\",'Races, Positions & Points'!#REF!)","v":{"$error":"#REF!"}},{"$f":"IF('Races, Positions & Points'!#REF!=\"\",\"\",'Races, Positions & Points'!#REF!)","v":{"$error":"#REF!"}},{"$f":"IF('Races, Positions & Points'!#REF!=\"\",\"\",'Races, Positions & Points'!#REF!)","v":{"$error":"#REF!"}},{"$f":"IF('Races, Positions & Points'!#REF!=\"\",\"\",'Races, Positions & Points'!#REF!)","v":{"$error":"#REF!"}},{"$f":"IF('Races, Positions & Points'!#REF!=\"\",\"\",'Races, Positions & Points'!#REF!)","v":{"$error":"#REF!"}},{"$f":"IF('Races, Positions & Points'!#REF!=\"\",\"\",'Races, Positions & Points'!#REF!)","v":{"$error":"#REF!"}},{"$f":"IF('Races, Positions & Points'!#REF!=\"\",\"\",'Races, Positions & Points'!#REF!)","v":{"$error":"#REF!"}},{"$f":"IF('Races, Positions & Points'!#REF!=\"\",\"\",'Races, Positions & Points'!#REF!)","v":{"$error":"#REF!"}},{"$f":"IF('Races, Positions & Points'!#REF!=\"\",\"\",'Races, Positions & Points'!#REF!)","v":{"$error":"#REF!"}},{"$f":"IF('Races, Positions & Points'!#REF!=\"\",\"\",'Races, Positions & Points'!#REF!)","v":{"$error":"#REF!"}},{"$f":"IF('Races, Positions & Points'!#REF!=\"\",\"\",'Races, Positions & Points'!#REF!)","v":{"$error":"#REF!"}},null,{"$error":"#REF!"},{"$error":"#REF!"},{"$error":"#REF!"},{"$error":"#REF!"},{"$error":"#REF!"},{"$error":"#REF!"},null,{"$f":"'Races, Positions & Points'!#REF!","v":{"$error":"#REF!"}},{"$f":"'Races, Positions & Points'!#REF!","v":{"$error":"#REF!"}},{"$error":"#REF!"},"","",{"$error":"#REF!"},"",{"$error":"#REF!"},{"$error":"#REF!"},{"$error":"#REF!"},null,{"$error":"#REF!"},"","",{"$error":"#REF!"},"",{"$error":"#REF!"},{"$error":"#REF!"},{"$error":"#REF!"},null,{"$error":"#REF!"},{"$error":"#REF!"},{"$error":"#REF!"},{"$error":"#REF!"},{"$error":"#REF!"},{"$error":"#REF!"},{"$error":"#REF!"},{"$error":"#REF!"},{"$error":"#REF!"},{"$error":"#REF!"},{"$error":"#REF!"},{"$error":"#REF!"},{"$error":"#REF!"},{"$error":"#REF!"},{"$error":"#REF!"},{"$error":"#REF!"},null,{"$error":"#REF!"},"","","",null,{"$error":"#REF!"},"","","",null,{"$error":"#REF!"},{"$error":"#REF!"},{"$error":"#REF!"},{"$error":"#REF!"},{"$error":"#REF!"},{"$error":"#REF!"},{"$error":"#REF!"},{"$error":"#REF!"},{"$error":"#REF!"},{"$error":"#REF!"}]
[{"$f":"'Races, Positions & Points'!#REF!","v":{"$error":"#REF!"}},{"$f":"IF('Races, Positions & Points'!#REF!=\"\",\"\",'Races, Positions & Points'!#REF!)","v":{"$error":"#REF!"}},{"$f":"IF('Races, Positions & Points'!#REF!=\"\",\"\",'Races, Positions & Points'!#REF!)","v":{"$error":"#REF!"}},{"$f":"IF('Races, Positions & Points'!#REF!=\"\",\"\",'Races, Positions & Points'!#REF!)","v":{"$error":"#REF!"}},{"$f":"IF('Races, Positions & Points'!#REF!=\"\",\"\",'Races, Positions & Points'!#REF!)","v":{"$error":"#REF!"}},{"$f":"IF('Races, Positions & Points'!#REF!=\"\",\"\",'Races, Positions & Points'!#REF!)","v":{"$error":"#REF!"}},{"$f":"IF('Races, Positions & Points'!#REF!=\"\",\"\",'Races, Positions & Points'!#REF!)","v":{"$error":"#REF!"}},{"$f":"IF('Races, Positions & Points'!#REF!=\"\",\"\",'Races, Positions & Points'!#REF!)","v":{"$error":"#REF!"}},{"$f":"IF('Races, Positions & Points'!#REF!=\"\",\"\",'Races, Positions & Points'!#REF!)","v":{"$error":"#REF!"}},{"$f":"IF('Races, Positions & Points'!#REF!=\"\",\"\",'Races, Positions & Points'!#REF!)","v":{"$error":"#REF!"}},{"$f":"IF('Races, Positions & Points'!#REF!=\"\",\"\",'Races, Positions & Points'!#REF!)","v":{"$error":"#REF!"}},{"$f":"IF('Races, Positions & Points'!#REF!=\"\",\"\",'Races, Positions & Points'!#REF!)","v":{"$error":"#REF!"}},{"$f":"IF('Races, Positions & Points'!#REF!=\"\",\"\",'Races, Positions & Points'!#REF!)","v":{"$error":"#REF!"}},{"$f":"IF('Races, Positions & Points'!#REF!=\"\",\"\",'Races, Positions & Points'!#REF!)","v":{"$error":"#REF!"}},{"$f":"IF('Races, Positions & Points'!#REF!=\"\",\"\",'Races, Positions & Points'!#REF!)","v":{"$error":"#REF!"}},{"$f":"IF('Races, Positions & Points'!#REF!=\"\",\"\",'Races, Positions & Points'!#REF!)","v":{"$error":"#REF!"}},{"$f":"IF('Races, Positions & Points'!#REF!=\"\",\"\",'Races, Positions & Points'!#REF!)","v":{"$error":"#REF!"}},{"$f":"IF('Races, Positions & Points'!#REF!=\"\",\"\",'Races, Positions & Points'!#REF!)","v":{"$error":"#REF!"}},{"$f":"IF('Races, Positions & Points'!#REF!=\"\",\"\",'Races, Positions & Points'!#REF!)","v":{"$error":"#REF!"}},{"$f":"IF('Races, Positions & Points'!#REF!=\"\",\"\",'Races, Positions & Points'!#REF!)","v":{"$error":"#REF!"}},{"$f":"IF('Races, Positions & Points'!#REF!=\"\",\"\",'Races, Positions & Points'!#REF!)","v":{"$error":"#REF!"}},{"$f":"IF('Races, Positions & Points'!#REF!=\"\",\"\",'Races, Positions & Points'!#REF!)","v":{"$error":"#REF!"}},{"$f":"IF('Races, Positions & Points'!#REF!=\"\",\"\",'Races, Positions & Points'!#REF!)","v":{"$error":"#REF!"}},{"$f":"IF('Races, Positions & Points'!#REF!=\"\",\"\",'Races, Positions & Points'!#REF!)","v":{"$error":"#REF!"}},{"$f":"IF('Races, Positions & Points'!#REF!=\"\",\"\",'Races, Positions & Points'!#REF!)","v":{"$error":"#REF!"}},{"$f":"IF('Races, Positions & Points'!#REF!=\"\",\"\",'Races, Positions & Points'!#REF!)","v":{"$error":"#REF!"}},{"$f":"IF('Races, Positions & Points'!#REF!=\"\",\"\",'Races, Positions & Points'!#REF!)","v":{"$error":"#REF!"}},{"$f":"IF('Races, Positions & Points'!#REF!=\"\",\"\",'Races, Positions & Points'!#REF!)","v":{"$error":"#REF!"}},{"$f":"IF('Races, Positions & Points'!#REF!=\"\",\"\",'Races, Positions & Points'!#REF!)","v":{"$error":"#REF!"}},{"$f":"IF('Races, Positions & Points'!#REF!=\"\",\"\",'Races, Positions & Points'!#REF!)","v":{"$error":"#REF!"}},{"$f":"IF('Races, Positions & Points'!#REF!=\"\",\"\",'Races, Positions & Points'!#REF!)","v":{"$error":"#REF!"}},{"$f":"IF('Races, Positions & Points'!#REF!=\"\",\"\",'Races, Positions & Points'!#REF!)","v":{"$error":"#REF!"}},{"$f":"IF('Races, Positions & Points'!#REF!=\"\",\"\",'Races, Positions & Points'!#REF!)","v":{"$error":"#REF!"}},{"$f":"IF('Races, Positions & Points'!#REF!=\"\",\"\",'Races, Positions & Points'!#REF!)","v":{"$error":"#REF!"}},{"$f":"IF('Races, Positions & Points'!#REF!=\"\",\"\",'Races, Positions & Points'!#REF!)","v":{"$error":"#REF!"}},{"$f":"IF('Races, Positions & Points'!#REF!=\"\",\"\",'Races, Positions & Points'!#REF!)","v":{"$error":"#REF!"}},{"$f":"IF('Races, Positions & Points'!#REF!=\"\",\"\",'Races, Positions & Points'!#REF!)","v":{"$error":"#REF!"}},{"$f":"IF('Races, Positions & Points'!#REF!=\"\",\"\",'Races, Positions & Points'!#REF!)","v":{"$error":"#REF!"}},{"$f":"IF('Races, Positions & Points'!#REF!=\"\",\"\",'Races, Positions & Points'!#REF!)","v":{"$error":"#REF!"}},{"$f":"IF('Races, Positions & Points'!#REF!=\"\",\"\",'Races, Positions & Points'!#REF!)","v":{"$error":"#REF!"}},{"$f":"IF('Races, Positions & Points'!#REF!=\"\",\"\",'Races, Positions & Points'!#REF!)","v":{"$error":"#REF!"}},{"$f":"IF('Races, Positions & Points'!#REF!=\"\",\"\",'Races, Positions & Points'!#REF!)","v":{"$error":"#REF!"}},{"$f":"IF('Races, Positions & Points'!#REF!=\"\",\"\",'Races, Positions & Points'!#REF!)","v":{"$error":"#REF!"}},{"$f":"IF('Races, Positions & Points'!#REF!=\"\",\"\",'Races, Positions & Points'!#REF!)","v":{"$error":"#REF!"}},{"$f":"IF('Races, Positions & Points'!#REF!=\"\",\"\",'Races, Positions & Points'!#REF!)","v":{"$error":"#REF!"}},{"$f":"IF('Races, Positions & Points'!#REF!=\"\",\"\",'Races, Positions & Points'!#REF!)","v":{"$error":"#REF!"}},{"$f":"IF('Races, Positions & Points'!#REF!=\"\",\"\",'Races, Positions & Points'!#REF!)","v":{"$error":"#REF!"}},{"$f":"IF('Races, Positions & Points'!#REF!=\"\",\"\",'Races, Positions & Points'!#REF!)","v":{"$error":"#REF!"}},{"$f":"IF('Races, Positions & Points'!#REF!=\"\",\"\",'Races, Positions & Points'!#REF!)","v":{"$error":"#REF!"}},{"$f":"IF('Races, Positions & Points'!#REF!=\"\",\"\",'Races, Positions & Points'!#REF!)","v":{"$error":"#REF!"}},{"$f":"IF('Races, Positions & Points'!#REF!=\"\",\"\",'Races, Positions & Points'!#REF!)","v":{"$error":"#REF!"}},null,{"$error":"#REF!"},{"$error":"#REF!"},{"$error":"#REF!"},{"$error":"#REF!"},{"$error":"#REF!"},{"$error":"#REF!"},null,{"$f":"'Races, Positions & Points'!#REF!","v":{"$error":"#REF!"}},{"$f":"'Races, Positions & Points'!#REF!","v":{"$error":"#REF!"}},{"$error":"#REF!"},"","",{"$error":"#REF!"},"",{"$error":"#REF!"},{"$error":"#REF!"},{"$error":"#REF!"},null,{"$error":"#REF!"},"","",{"$error":"#REF!"},"",{"$error":"#REF!"},{"$error":"#REF!"},{"$error":"#REF!"},null,{"$error":"#REF!"},{"$error":"#REF!"},{"$error":"#REF!"},{"$error":"#REF!"},{"$error":"#REF!"},{"$error":"#REF!"},{"$error":"#REF!"},{"$error":"#REF!"},{"$error":"#REF!"},{"$error":"#REF!"},{"$error":"#REF!"},{"$error":"#REF!"},{"$error":"#REF!"},{"$error":"#REF!"},{"$error":"#REF!"},{"$error":"#REF!"},null,{"$error":"#REF!"},"","","",null,{"$error":"#REF!"},"","","",null,{"$error":"#REF!"},{"$error":"#REF!"},{"$error":"#REF!"},{"$error":"#REF!"},{"$error":"#REF!"},{"$error":"#REF!"},{"$error":"#REF!"},{"$error":"#REF!"},{"$error":"#REF!"},{"$error":"#REF!"}]
[{"$f":"'Races, Positions & Points'!#REF!","v":{"$error":"#REF!"}},{"$f":"IF('Races, Positions & Points'!#REF!=\"\",\"\",'Races, Positions & Points'!#REF!)","v":{"$error":"#REF!"}},{"$f":"IF('Races, Positions & Points'!#REF!=\"\",\"\",'Races, Positions & Points'!#REF!)","v":{"$error":"#REF!"}},{"$f":"IF('Races, Positions & Points'!#REF!=\"\",\"\",'Races, Positions & Points'!#REF!)","v":{"$error":"#REF!"}},{"$f":"IF('Races, Positions & Points'!#REF!=\"\",\"\",'Races, Positions & Points'!#REF!)","v":{"$error":"#REF!"}},{"$f":"IF('Races, Positions & Points'!#REF!=\"\",\"\",'Races, Positions & Points'!#REF!)","v":{"$error":"#REF!"}},{"$f":"IF('Races, Positions & Points'!#REF!=\"\",\"\",'Races, Positions & Points'!#REF!)","v":{"$error":"#REF!"}},{"$f":"IF('Races, Positions & Points'!#REF!=\"\",\"\",'Races, Positions & Points'!#REF!)","v":{"$error":"#REF!"}},{"$f":"IF('Races, Positions & Points'!#REF!=\"\",\"\",'Races, Positions & Points'!#REF!)","v":{"$error":"#REF!"}},{"$f":"IF('Races, Positions & Points'!#REF!=\"\",\"\",'Races, Positions & Points'!#REF!)","v":{"$error":"#REF!"}},{"$f":"IF('Races, Positions & Points'!#REF!=\"\",\"\",'Races, Positions & Points'!#REF!)","v":{"$error":"#REF!"}},{"$f":"IF('Races, Positions & Points'!#REF!=\"\",\"\",'Races, Positions & Points'!#REF!)","v":{"$error":"#REF!"}},{"$f":"IF('Races, Positions & Points'!#REF!=\"\",\"\",'Races, Positions & Points'!#REF!)","v":{"$error":"#REF!"}},{"$f":"IF('Races, Positions & Points'!#REF!=\"\",\"\",'Races, Positions & Points'!#REF!)","v":{"$error":"#REF!"}},{"$f":"IF('Races, Positions & Points'!#REF!=\"\",\"\",'Races, Positions & Points'!#REF!)","v":{"$error":"#REF!"}},{"$f":"IF('Races, Positions & Points'!#REF!=\"\",\"\",'Races, Positions & Points'!#REF!)","v":{"$error":"#REF!"}},{"$f":"IF('Races, Positions & Points'!#REF!=\"\",\"\",'Races, Positions & Points'!#REF!)","v":{"$error":"#REF!"}},{"$f":"IF('Races, Positions & Points'!#REF!=\"\",\"\",'Races, Positions & Points'!#REF!)","v":{"$error":"#REF!"}},{"$f":"IF('Races, Positions & Points'!#REF!=\"\",\"\",'Races, Positions & Points'!#REF!)","v":{"$error":"#REF!"}},{"$f":"IF('Races, Positions & Points'!#REF!=\"\",\"\",'Races, Positions & Points'!#REF!)","v":{"$error":"#REF!"}},{"$f":"IF('Races, Positions & Points'!#REF!=\"\",\"\",'Races, Positions & Points'!#REF!)","v":{"$error":"#REF!"}},{"$f":"IF('Races, Positions & Points'!#REF!=\"\",\"\",'Races, Positions & Points'!#REF!)","v":{"$error":"#REF!"}},{"$f":"IF('Races, Positions & Points'!#REF!=\"\",\"\",'Races, Positions & Points'!#REF!)","v":{"$error":"#REF!"}},{"$f":"IF('Races, Positions & Points'!#REF!=\"\",\"\",'Races, Positions & Points'!#REF!)","v":{"$error":"#REF!"}},{"$f":"IF('Races, Positions & Points'!#REF!=\"\",\"\",'Races, Positions & Points'!#REF!)","v":{"$error":"#REF!"}},{"$f":"IF('Races, Positions & Points'!#REF!=\"\",\"\",'Races, Positions & Points'!#REF!)","v":{"$error":"#REF!"}},{"$f":"IF('Races, Positions & Points'!#REF!=\"\",\"\",'Races, Positions & Points'!#REF!)","v":{"$error":"#REF!"}},{"$f":"IF('Races, Positions & Points'!#REF!=\"\",\"\",'Races, Positions & Points'!#REF!)","v":{"$error":"#REF!"}},{"$f":"IF('Races, Positions & Points'!#REF!=\"\",\"\",'Races, Positions & Points'!#REF!)","v":{"$error":"#REF!"}},{"$f":"IF('Races, Positions & Points'!#REF!=\"\",\"\",'Races, Positions & Points'!#REF!)","v":{"$error":"#REF!"}},{"$f":"IF('Races, Positions & Points'!#REF!=\"\",\"\",'Races, Positions & Points'!#REF!)","v":{"$error":"#REF!"}},{"$f":"IF('Races, Positions & Points'!#REF!=\"\",\"\",'Races, Positions & Points'!#REF!)","v":{"$error":"#REF!"}},{"$f":"IF('Races, Positions & Points'!#REF!=\"\",\"\",'Races, Positions & Points'!#REF!)","v":{"$error":"#REF!"}},{"$f":"IF('Races, Positions & Points'!#REF!=\"\",\"\",'Races, Positions & Points'!#REF!)","v":{"$error":"#REF!"}},{"$f":"IF('Races, Positions & Points'!#REF!=\"\",\"\",'Races, Positions & Points'!#REF!)","v":{"$error":"#REF!"}},{"$f":"IF('Races, Positions & Points'!#REF!=\"\",\"\",'Races, Positions & Points'!#REF!)","v":{"$error":"#REF!"}},{"$f":"IF('Races, Positions & Points'!#REF!=\"\",\"\",'Races, Positions & Points'!#REF!)","v":{"$error":"#REF!"}},{"$f":"IF('Races, Positions & Points'!#REF!=\"\",\"\",'Races, Positions & Points'!#REF!)","v":{"$error":"#REF!"}},{"$f":"IF('Races, Positions & Points'!#REF!=\"\",\"\",'Races, Positions & Points'!#REF!)","v":{"$error":"#REF!"}},{"$f":"IF('Races, Positions & Points'!#REF!=\"\",\"\",'Races, Positions & Points'!#REF!)","v":{"$error":"#REF!"}},{"$f":"IF('Races, Positions & Points'!#REF!=\"\",\"\",'Races, Positions & Points'!#REF!)","v":{"$error":"#REF!"}},{"$f":"IF('Races, Positions & Points'!#REF!=\"\",\"\",'Races, Positions & Points'!#REF!)","v":{"$error":"#REF!"}},{"$f":"IF('Races, Positions & Points'!#REF!=\"\",\"\",'Races, Positions & Points'!#REF!)","v":{"$error":"#REF!"}},{"$f":"IF('Races, Positions & Points'!#REF!=\"\",\"\",'Races, Positions & Points'!#REF!)","v":{"$error":"#REF!"}},{"$f":"IF('Races, Positions & Points'!#REF!=\"\",\"\",'Races, Positions & Points'!#REF!)","v":{"$error":"#REF!"}},{"$f":"IF('Races, Positions & Points'!#REF!=\"\",\"\",'Races, Positions & Points'!#REF!)","v":{"$error":"#REF!"}},{"$f":"IF('Races, Positions & Points'!#REF!=\"\",\"\",'Races, Positions & Points'!#REF!)","v":{"$error":"#REF!"}},{"$f":"IF('Races, Positions & Points'!#REF!=\"\",\"\",'Races, Positions & Points'!#REF!)","v":{"$error":"#REF!"}},{"$f":"IF('Races, Positions & Points'!#REF!=\"\",\"\",'Races, Positions & Points'!#REF!)","v":{"$error":"#REF!"}},{"$f":"IF('Races, Positions & Points'!#REF!=\"\",\"\",'Races, Positions & Points'!#REF!)","v":{"$error":"#REF!"}},{"$f":"IF('Races, Positions & Points'!#REF!=\"\",\"\",'Races, Positions & Points'!#REF!)","v":{"$error":"#REF!"}},null,{"$error":"#REF!"},{"$error":"#REF!"},{"$error":"#REF!"},{"$error":"#REF!"},{"$error":"#REF!"},{"$error":"#REF!"},null,{"$f":"'Races, Positions & Points'!#REF!","v":{"$error":"#REF!"}},{"$f":"'Races, Positions & Points'!#REF!","v":{"$error":"#REF!"}},{"$error":"#REF!"},"","",{"$error":"#REF!"},"",{"$error":"#REF!"},{"$error":"#REF!"},{"$error":"#REF!"},null,{"$error":"#REF!"},"","",{"$error":"#REF!"},"",{"$error":"#REF!"},{"$error":"#REF!"},{"$error":"#REF!"},null,{"$error":"#REF!"},{"$error":"#REF!"},{"$error":"#REF!"},{"$error":"#REF!"},{"$error":"#REF!"},{"$error":"#REF!"},{"$error":"#REF!"},{"$error":"#REF!"},{"$error":"#REF!"},{"$error":"#REF!"},{"$error":"#REF!"},{"$error":"#REF!"},{"$error":"#REF!"},{"$error":"#REF!"},{"$error":"#REF!"},{"$error":"#REF!"},null,{"$error":"#REF!"},"","","",null,{"$error":"#REF!"},"","","",null,{"$error":"#REF!"},{"$error":"#REF!"},{"$error":"#REF!"},{"$error":"#REF!"},{"$error":"#REF!"},{"$error":"#REF!"},{"$error":"#REF!"},{"$error":"#REF!"},{"$error":"#REF!"},{"$error":"#REF!"}]
[{"$f":"'Races, Positions & Points'!#REF!","v":{"$error":"#REF!"}},{"$f":"IF('Races, Positions & Points'!#REF!=\"\",\"\",'Races, Positions & Points'!#REF!)","v":{"$error":"#REF!"}},{"$f":"IF('Races, Positions & Points'!#REF!=\"\",\"\",'Races, Positions & Points'!#REF!)","v":{"$error":"#REF!"}},{"$f":"IF('Races, Positions & Points'!#REF!=\"\",\"\",'Races, Positions & Points'!#REF!)","v":{"$error":"#REF!"}},{"$f":"IF('Races, Positions & Points'!#REF!=\"\",\"\",'Races, Positions & Points'!#REF!)","v":{"$error":"#REF!"}},{"$f":"IF('Races, Positions & Points'!#REF!=\"\",\"\",'Races, Positions & Points'!#REF!)","v":{"$error":"#REF!"}},{"$f":"IF('Races, Positions & Points'!#REF!=\"\",\"\",'Races, Positions & Points'!#REF!)","v":{"$error":"#REF!"}},{"$f":"IF('Races, Positions & Points'!#REF!=\"\",\"\",'Races, Positions & Points'!#REF!)","v":{"$error":"#REF!"}},{"$f":"IF('Races, Positions & Points'!#REF!=\"\",\"\",'Races, Positions & Points'!#REF!)","v":{"$error":"#REF!"}},{"$f":"IF('Races, Positions & Points'!#REF!=\"\",\"\",'Races, Positions & Points'!#REF!)","v":{"$error":"#REF!"}},{"$f":"IF('Races, Positions & Points'!#REF!=\"\",\"\",'Races, Positions & Points'!#REF!)","v":{"$error":"#REF!"}},{"$f":"IF('Races, Positions & Points'!#REF!=\"\",\"\",'Races, Positions & Points'!#REF!)","v":{"$error":"#REF!"}},{"$f":"IF('Races, Positions & Points'!#REF!=\"\",\"\",'Races, Positions & Points'!#REF!)","v":{"$error":"#REF!"}},{"$f":"IF('Races, Positions & Points'!#REF!=\"\",\"\",'Races, Positions & Points'!#REF!)","v":{"$error":"#REF!"}},{"$f":"IF('Races, Positions & Points'!#REF!=\"\",\"\",'Races, Positions & Points'!#REF!)","v":{"$error":"#REF!"}},{"$f":"IF('Races, Positions & Points'!#REF!=\"\",\"\",'Races, Positions & Points'!#REF!)","v":{"$error":"#REF!"}},{"$f":"IF('Races, Positions & Points'!#REF!=\"\",\"\",'Races, Positions & Points'!#REF!)","v":{"$error":"#REF!"}},{"$f":"IF('Races, Positions & Points'!#REF!=\"\",\"\",'Races, Positions & Points'!#REF!)","v":{"$error":"#REF!"}},{"$f":"IF('Races, Positions & Points'!#REF!=\"\",\"\",'Races, Positions & Points'!#REF!)","v":{"$error":"#REF!"}},{"$f":"IF('Races, Positions & Points'!#REF!=\"\",\"\",'Races, Positions & Points'!#REF!)","v":{"$error":"#REF!"}},{"$f":"IF('Races, Positions & Points'!#REF!=\"\",\"\",'Races, Positions & Points'!#REF!)","v":{"$error":"#REF!"}},{"$f":"IF('Races, Positions & Points'!#REF!=\"\",\"\",'Races, Positions & Points'!#REF!)","v":{"$error":"#REF!"}},{"$f":"IF('Races, Positions & Points'!#REF!=\"\",\"\",'Races, Positions & Points'!#REF!)","v":{"$error":"#REF!"}},{"$f":"IF('Races, Positions & Points'!#REF!=\"\",\"\",'Races, Positions & Points'!#REF!)","v":{"$error":"#REF!"}},{"$f":"IF('Races, Positions & Points'!#REF!=\"\",\"\",'Races, Positions & Points'!#REF!)","v":{"$error":"#REF!"}},{"$f":"IF('Races, Positions & Points'!#REF!=\"\",\"\",'Races, Positions & Points'!#REF!)","v":{"$error":"#REF!"}},{"$f":"IF('Races, Positions & Points'!#REF!=\"\",\"\",'Races, Positions & Points'!#REF!)","v":{"$error":"#REF!"}},{"$f":"IF('Races, Positions & Points'!#REF!=\"\",\"\",'Races, Positions & Points'!#REF!)","v":{"$error":"#REF!"}},{"$f":"IF('Races, Positions & Points'!#REF!=\"\",\"\",'Races, Positions & Points'!#REF!)","v":{"$error":"#REF!"}},{"$f":"IF('Races, Positions & Points'!#REF!=\"\",\"\",'Races, Positions & Points'!#REF!)","v":{"$error":"#REF!"}},{"$f":"IF('Races, Positions & Points'!#REF!=\"\",\"\",'Races, Positions & Points'!#REF!)","v":{"$error":"#REF!"}},{"$f":"IF('Races, Positions & Points'!#REF!=\"\",\"\",'Races, Positions & Points'!#REF!)","v":{"$error":"#REF!"}},{"$f":"IF('Races, Positions & Points'!#REF!=\"\",\"\",'Races, Positions & Points'!#REF!)","v":{"$error":"#REF!"}},{"$f":"IF('Races, Positions & Points'!#REF!=\"\",\"\",'Races, Positions & Points'!#REF!)","v":{"$error":"#REF!"}},{"$f":"IF('Races, Positions & Points'!#REF!=\"\",\"\",'Races, Positions & Points'!#REF!)","v":{"$error":"#REF!"}},{"$f":"IF('Races, Positions & Points'!#REF!=\"\",\"\",'Races, Positions & Points'!#REF!)","v":{"$error":"#REF!"}},{"$f":"IF('Races, Positions & Points'!#REF!=\"\",\"\",'Races, Positions & Points'!#REF!)","v":{"$error":"#REF!"}},{"$f":"IF('Races, Positions & Points'!#REF!=\"\",\"\",'Races, Positions & Points'!#REF!)","v":{"$error":"#REF!"}},{"$f":"IF('Races, Positions & Points'!#REF!=\"\",\"\",'Races, Positions & Points'!#REF!)","v":{"$error":"#REF!"}},{"$f":"IF('Races, Positions & Points'!#REF!=\"\",\"\",'Races, Positions & Points'!#REF!)","v":{"$error":"#REF!"}},{"$f":"IF('Races, Positions & Points'!#REF!=\"\",\"\",'Races, Positions & Points'!#REF!)","v":{"$error":"#REF!"}},{"$f":"IF('Races, Positions & Points'!#REF!=\"\",\"\",'Races, Positions & Points'!#REF!)","v":{"$error":"#REF!"}},{"$f":"IF('Races, Positions & Points'!#REF!=\"\",\"\",'Races, Positions & Points'!#REF!)","v":{"$error":"#REF!"}},{"$f":"IF('Races, Positions & Points'!#REF!=\"\",\"\",'Races, Positions & Points'!#REF!)","v":{"$error":"#REF!"}},{"$f":"IF('Races, Positions & Points'!#REF!=\"\",\"\",'Races, Positions & Points'!#REF!)","v":{"$error":"#REF!"}},{"$f":"IF('Races, Positions & Points'!#REF!=\"\",\"\",'Races, Positions & Points'!#REF!)","v":{"$error":"#REF!"}},{"$f":"IF('Races, Positions & Points'!#REF!=\"\",\"\",'Races, Positions & Points'!#REF!)","v":{"$error":"#REF!"}},{"$f":"IF('Races, Positions & Points'!#REF!=\"\",\"\",'Races, Positions & Points'!#REF!)","v":{"$error":"#REF!"}},{"$f":"IF('Races, Positions & Points'!#REF!=\"\",\"\",'Races, Positions & Points'!#REF!)","v":{"$error":"#REF!"}},{"$f":"IF('Races, Positions & Points'!#REF!=\"\",\"\",'Races, Positions & Points'!#REF!)","v":{"$error":"#REF!"}},{"$f":"IF('Races, Positions & Points'!#REF!=\"\",\"\",'Races, Positions & Points'!#REF!)","v":{"$error":"#REF!"}},null,{"$error":"#REF!"},{"$error":"#REF!"},{"$error":"#REF!"},{"$error":"#REF!"},{"$error":"#REF!"},{"$error":"#REF!"},null,{"$f":"'Races, Positions & Points'!#REF!","v":{"$error":"#REF!"}},{"$f":"'Races, Positions & Points'!#REF!","v":{"$error":"#REF!"}},{"$error":"#REF!"},"","",{"$error":"#REF!"},"",{"$error":"#REF!"},{"$error":"#REF!"},{"$error":"#REF!"},null,{"$error":"#REF!"},"","",{"$error":"#REF!"},"",{"$error":"#REF!"},{"$error":"#REF!"},{"$error":"#REF!"},null,{"$error":"#REF!"},{"$error":"#REF!"},{"$error":"#REF!"},{"$error":"#REF!"},{"$error":"#REF!"},{"$error":"#REF!"},{"$error":"#REF!"},{"$error":"#REF!"},{"$error":"#REF!"},{"$error":"#REF!"},{"$error":"#REF!"},{"$error":"#REF!"},{"$error":"#REF!"},{"$error":"#REF!"},{"$error":"#REF!"},{"$error":"#REF!"},null,{"$error":"#REF!"},"","","",null,{"$error":"#REF!"},"","","",null,{"$error":"#REF!"},{"$error":"#REF!"},{"$error":"#REF!"},{"$error":"#REF!"},{"$error":"#REF!"},{"$error":"#REF!"},{"$error":"#REF!"},{"$error":"#REF!"},{"$error":"#REF!"},{"$error":"#REF!"}]
[{"$f":"'Races, Positions & Points'!#REF!","v":{"$error":"#REF!"}},{"$f":"IF('Races, Positions & Points'!#REF!=\"\",\"\",'Races, Positions & Points'!#REF!)","v":{"$error":"#REF!"}},{"$f":"IF('Races, Positions & Points'!#REF!=\"\",\"\",'Races, Positions & Points'!#REF!)","v":{"$error":"#REF!"}},{"$f":"IF('Races, Positions & Points'!#REF!=\"\",\"\",'Races, Positions & Points'!#REF!)","v":{"$error":"#REF!"}},{"$f":"IF('Races, Positions & Points'!#REF!=\"\",\"\",'Races, Positions & Points'!#REF!)","v":{"$error":"#REF!"}},{"$f":"IF('Races, Positions & Points'!#REF!=\"\",\"\",'Races, Positions & Points'!#REF!)","v":{"$error":"#REF!"}},{"$f":"IF('Races, Positions & Points'!#REF!=\"\",\"\",'Races, Positions & Points'!#REF!)","v":{"$error":"#REF!"}},{"$f":"IF('Races, Positions & Points'!#REF!=\"\",\"\",'Races, Positions & Points'!#REF!)","v":{"$error":"#REF!"}},{"$f":"IF('Races, Positions & Points'!#REF!=\"\",\"\",'Races, Positions & Points'!#REF!)","v":{"$error":"#REF!"}},{"$f":"IF('Races, Positions & Points'!#REF!=\"\",\"\",'Races, Positions & Points'!#REF!)","v":{"$error":"#REF!"}},{"$f":"IF('Races, Positions & Points'!#REF!=\"\",\"\",'Races, Positions & Points'!#REF!)","v":{"$error":"#REF!"}},{"$f":"IF('Races, Positions & Points'!#REF!=\"\",\"\",'Races, Positions & Points'!#REF!)","v":{"$error":"#REF!"}},{"$f":"IF('Races, Positions & Points'!#REF!=\"\",\"\",'Races, Positions & Points'!#REF!)","v":{"$error":"#REF!"}},{"$f":"IF('Races, Positions & Points'!#REF!=\"\",\"\",'Races, Positions & Points'!#REF!)","v":{"$error":"#REF!"}},{"$f":"IF('Races, Positions & Points'!#REF!=\"\",\"\",'Races, Positions & Points'!#REF!)","v":{"$error":"#REF!"}},{"$f":"IF('Races, Positions & Points'!#REF!=\"\",\"\",'Races, Positions & Points'!#REF!)","v":{"$error":"#REF!"}},{"$f":"IF('Races, Positions & Points'!#REF!=\"\",\"\",'Races, Positions & Points'!#REF!)","v":{"$error":"#REF!"}},{"$f":"IF('Races, Positions & Points'!#REF!=\"\",\"\",'Races, Positions & Points'!#REF!)","v":{"$error":"#REF!"}},{"$f":"IF('Races, Positions & Points'!#REF!=\"\",\"\",'Races, Positions & Points'!#REF!)","v":{"$error":"#REF!"}},{"$f":"IF('Races, Positions & Points'!#REF!=\"\",\"\",'Races, Positions & Points'!#REF!)","v":{"$error":"#REF!"}},{"$f":"IF('Races, Positions & Points'!#REF!=\"\",\"\",'Races, Positions & Points'!#REF!)","v":{"$error":"#REF!"}},{"$f":"IF('Races, Positions & Points'!#REF!=\"\",\"\",'Races, Positions & Points'!#REF!)","v":{"$error":"#REF!"}},{"$f":"IF('Races, Positions & Points'!#REF!=\"\",\"\",'Races, Positions & Points'!#REF!)","v":{"$error":"#REF!"}},{"$f":"IF('Races, Positions & Points'!#REF!=\"\",\"\",'Races, Positions & Points'!#REF!)","v":{"$error":"#REF!"}},{"$f":"IF('Races, Positions & Points'!#REF!=\"\",\"\",'Races, Positions & Points'!#REF!)","v":{"$error":"#REF!"}},{"$f":"IF('Races, Positions & Points'!#REF!=\"\",\"\",'Races, Positions & Points'!#REF!)","v":{"$error":"#REF!"}},{"$f":"IF('Races, Positions & Points'!#REF!=\"\",\"\",'Races, Positions & Points'!#REF!)","v":{"$error":"#REF!"}},{"$f":"IF('Races, Positions & Points'!#REF!=\"\",\"\",'Races, Positions & Points'!#REF!)","v":{"$error":"#REF!"}},{"$f":"IF('Races, Positions & Points'!#REF!=\"\",\"\",'Races, Positions & Points'!#REF!)","v":{"$error":"#REF!"}},{"$f":"IF('Races, Positions & Points'!#REF!=\"\",\"\",'Races, Positions & Points'!#REF!)","v":{"$error":"#REF!"}},{"$f":"IF('Races, Positions & Points'!#REF!=\"\",\"\",'Races, Positions & Points'!#REF!)","v":{"$error":"#REF!"}},{"$f":"IF('Races, Positions & Points'!#REF!=\"\",\"\",'Races, Positions & Points'!#REF!)","v":{"$error":"#REF!"}},{"$f":"IF('Races, Positions & Points'!#REF!=\"\",\"\",'Races, Positions & Points'!#REF!)","v":{"$error":"#REF!"}},{"$f":"IF('Races, Positions & Points'!#REF!=\"\",\"\",'Races, Positions & Points'!#REF!)","v":{"$error":"#REF!"}},{"$f":"IF('Races, Positions & Points'!#REF!=\"\",\"\",'Races, Positions & Points'!#REF!)","v":{"$error":"#REF!"}},{"$f":"IF('Races, Positions & Points'!#REF!=\"\",\"\",'Races, Positions & Points'!#REF!)","v":{"$error":"#REF!"}},{"$f":"IF('Races, Positions & Points'!#REF!=\"\",\"\",'Races, Positions & Points'!#REF!)","v":{"$error":"#REF!"}},{"$f":"IF('Races, Positions & Points'!#REF!=\"\",\"\",'Races, Positions & Points'!#REF!)","v":{"$error":"#REF!"}},{"$f":"IF('Races, Positions & Points'!#REF!=\"\",\"\",'Races, Positions & Points'!#REF!)","v":{"$error":"#REF!"}},{"$f":"IF('Races, Positions & Points'!#REF!=\"\",\"\",'Races, Positions & Points'!#REF!)","v":{"$error":"#REF!"}},{"$f":"IF('Races, Positions & Points'!#REF!=\"\",\"\",'Races, Positions & Points'!#REF!)","v":{"$error":"#REF!"}},{"$f":"IF('Races, Positions & Points'!#REF!=\"\",\"\",'Races, Positions & Points'!#REF!)","v":{"$error":"#REF!"}},{"$f":"IF('Races, Positions & Points'!#REF!=\"\",\"\",'Races, Positions & Points'!#REF!)","v":{"$error":"#REF!"}},{"$f":"IF('Races, Positions & Points'!#REF!=\"\",\"\",'Races, Positions & Points'!#REF!)","v":{"$error":"#REF!"}},{"$f":"IF('Races, Positions & Points'!#REF!=\"\",\"\",'Races, Positions & Points'!#REF!)","v":{"$error":"#REF!"}},{"$f":"IF('Races, Positions & Points'!#REF!=\"\",\"\",'Races, Positions & Points'!#REF!)","v":{"$error":"#REF!"}},{"$f":"IF('Races, Positions & Points'!#REF!=\"\",\"\",'Races, Positions & Points'!#REF!)","v":{"$error":"#REF!"}},{"$f":"IF('Races, Positions & Points'!#REF!=\"\",\"\",'Races, Positions & Points'!#REF!)","v":{"$error":"#REF!"}},{"$f":"IF('Races, Positions & Points'!#REF!=\"\",\"\",'Races, Positions & Points'!#REF!)","v":{"$error":"#REF!"}},{"$f":"IF('Races, Positions & Points'!#REF!=\"\",\"\",'Races, Positions & Points'!#REF!)","v":{"$error":"#REF!"}},{"$f":"IF('Races, Positions & Points'!#REF!=\"\",\"\",'Races, Positions & Points'!#REF!)","v":{"$error":"#REF!"}},null,{"$error":"#REF!"},{"$error":"#REF!"},{"$error":"#REF!"},{"$error":"#REF!"},{"$error":"#REF!"},{"$error":"#REF!"},null,{"$f":"'Races, Positions & Points'!#REF!","v":{"$error":"#REF!"}},{"$f":"'Races, Positions & Points'!#REF!","v":{"$error":"#REF!"}},{"$error":"#REF!"},"","",{"$error":"#REF!"},"",{"$error":"#REF!"},{"$error":"#REF!"},{"$error":"#REF!"},null,{"$error":"#REF!"},"","",{"$error":"#REF!"},"",{"$error":"#REF!"},{"$error":"#REF!"},{"$error":"#REF!"},null,{"$error":"#REF!"},{"$error":"#REF!"},{"$error":"#REF!"},{"$error":"#REF!"},{"$error":"#REF!"},{"$error":"#REF!"},{"$error":"#REF!"},{"$error":"#REF!"},{"$error":"#REF!"},{"$error":"#REF!"},{"$error":"#REF!"},{"$error":"#REF!"},{"$error":"#REF!"},{"$error":"#REF!"},{"$error":"#REF!"},{"$error":"#REF!"},null,{"$error":"#REF!"},"","","",null,{"$error":"#REF!"},"","","",null,{"$error":"#REF!"},{"$error":"#REF!"},{"$error":"#REF!"},{"$error":"#REF!"},{"$error":"#REF!"},{"$error":"#REF!"},{"$error":"#REF!"},{"$error":"#REF!"},{"$error":"#REF!"},{"$error":"#REF!"}]
[{"$f":"'Races, Positions & Points'!#REF!","v":{"$error":"#REF!"}},{"$f":"IF('Races, Positions & Points'!#REF!=\"\",\"\",'Races, Positions & Points'!#REF!)","v":{"$error":"#REF!"}},{"$f":"IF('Races, Positions & Points'!#REF!=\"\",\"\",'Races, Positions & Points'!#REF!)","v":{"$error":"#REF!"}},{"$f":"IF('Races, Positions & Points'!#REF!=\"\",\"\",'Races, Positions & Points'!#REF!)","v":{"$error":"#REF!"}},{"$f":"IF('Races, Positions & Points'!#REF!=\"\",\"\",'Races, Positions & Points'!#REF!)","v":{"$error":"#REF!"}},{"$f":"IF('Races, Positions & Points'!#REF!=\"\",\"\",'Races, Positions & Points'!#REF!)","v":{"$error":"#REF!"}},{"$f":"IF('Races, Positions & Points'!#REF!=\"\",\"\",'Races, Positions & Points'!#REF!)","v":{"$error":"#REF!"}},{"$f":"IF('Races, Positions & Points'!#REF!=\"\",\"\",'Races, Positions & Points'!#REF!)","v":{"$error":"#REF!"}},{"$f":"IF('Races, Positions & Points'!#REF!=\"\",\"\",'Races, Positions & Points'!#REF!)","v":{"$error":"#REF!"}},{"$f":"IF('Races, Positions & Points'!#REF!=\"\",\"\",'Races, Positions & Points'!#REF!)","v":{"$error":"#REF!"}},{"$f":"IF('Races, Positions & Points'!#REF!=\"\",\"\",'Races, Positions & Points'!#REF!)","v":{"$error":"#REF!"}},{"$f":"IF('Races, Positions & Points'!#REF!=\"\",\"\",'Races, Positions & Points'!#REF!)","v":{"$error":"#REF!"}},{"$f":"IF('Races, Positions & Points'!#REF!=\"\",\"\",'Races, Positions & Points'!#REF!)","v":{"$error":"#REF!"}},{"$f":"IF('Races, Positions & Points'!#REF!=\"\",\"\",'Races, Positions & Points'!#REF!)","v":{"$error":"#REF!"}},{"$f":"IF('Races, Positions & Points'!#REF!=\"\",\"\",'Races, Positions & Points'!#REF!)","v":{"$error":"#REF!"}},{"$f":"IF('Races, Positions & Points'!#REF!=\"\",\"\",'Races, Positions & Points'!#REF!)","v":{"$error":"#REF!"}},{"$f":"IF('Races, Positions & Points'!#REF!=\"\",\"\",'Races, Positions & Points'!#REF!)","v":{"$error":"#REF!"}},{"$f":"IF('Races, Positions & Points'!#REF!=\"\",\"\",'Races, Positions & Points'!#REF!)","v":{"$error":"#REF!"}},{"$f":"IF('Races, Positions & Points'!#REF!=\"\",\"\",'Races, Positions & Points'!#REF!)","v":{"$error":"#REF!"}},{"$f":"IF('Races, Positions & Points'!#REF!=\"\",\"\",'Races, Positions & Points'!#REF!)","v":{"$error":"#REF!"}},{"$f":"IF('Races, Positions & Points'!#REF!=\"\",\"\",'Races, Positions & Points'!#REF!)","v":{"$error":"#REF!"}},{"$f":"IF('Races, Positions & Points'!#REF!=\"\",\"\",'Races, Positions & Points'!#REF!)","v":{"$error":"#REF!"}},{"$f":"IF('Races, Positions & Points'!#REF!=\"\",\"\",'Races, Positions & Points'!#REF!)","v":{"$error":"#REF!"}},{"$f":"IF('Races, Positions & Points'!#REF!=\"\",\"\",'Races, Positions & Points'!#REF!)","v":{"$error":"#REF!"}},{"$f":"IF('Races, Positions & Points'!#REF!=\"\",\"\",'Races, Positions & Points'!#REF!)","v":{"$error":"#REF!"}},{"$f":"IF('Races, Positions & Points'!#REF!=\"\",\"\",'Races, Positions & Points'!#REF!)","v":{"$error":"#REF!"}},{"$f":"IF('Races, Positions & Points'!#REF!=\"\",\"\",'Races, Positions & Points'!#REF!)","v":{"$error":"#REF!"}},{"$f":"IF('Races, Positions & Points'!#REF!=\"\",\"\",'Races, Positions & Points'!#REF!)","v":{"$error":"#REF!"}},{"$f":"IF('Races, Positions & Points'!#REF!=\"\",\"\",'Races, Positions & Points'!#REF!)","v":{"$error":"#REF!"}},{"$f":"IF('Races, Positions & Points'!#REF!=\"\",\"\",'Races, Positions & Points'!#REF!)","v":{"$error":"#REF!"}},{"$f":"IF('Races, Positions & Points'!#REF!=\"\",\"\",'Races, Positions & Points'!#REF!)","v":{"$error":"#REF!"}},{"$f":"IF('Races, Positions & Points'!#REF!=\"\",\"\",'Races, Positions & Points'!#REF!)","v":{"$error":"#REF!"}},{"$f":"IF('Races, Positions & Points'!#REF!=\"\",\"\",'Races, Positions & Points'!#REF!)","v":{"$error":"#REF!"}},{"$f":"IF('Races, Positions & Points'!#REF!=\"\",\"\",'Races, Positions & Points'!#REF!)","v":{"$error":"#REF!"}},{"$f":"IF('Races, Positions & Points'!#REF!=\"\",\"\",'Races, Positions & Points'!#REF!)","v":{"$error":"#REF!"}},{"$f":"IF('Races, Positions & Points'!#REF!=\"\",\"\",'Races, Positions & Points'!#REF!)","v":{"$error":"#REF!"}},{"$f":"IF('Races, Positions & Points'!#REF!=\"\",\"\",'Races, Positions & Points'!#REF!)","v":{"$error":"#REF!"}},{"$f":"IF('Races, Positions & Points'!#REF!=\"\",\"\",'Races, Positions & Points'!#REF!)","v":{"$error":"#REF!"}},{"$f":"IF('Races, Positions & Points'!#REF!=\"\",\"\",'Races, Positions & Points'!#REF!)","v":{"$error":"#REF!"}},{"$f":"IF('Races, Positions & Points'!#REF!=\"\",\"\",'Races, Positions & Points'!#REF!)","v":{"$error":"#REF!"}},{"$f":"IF('Races, Positions & Points'!#REF!=\"\",\"\",'Races, Positions & Points'!#REF!)","v":{"$error":"#REF!"}},{"$f":"IF('Races, Positions & Points'!#REF!=\"\",\"\",'Races, Positions & Points'!#REF!)","v":{"$error":"#REF!"}},{"$f":"IF('Races, Positions & Points'!#REF!=\"\",\"\",'Races, Positions & Points'!#REF!)","v":{"$error":"#REF!"}},{"$f":"IF('Races, Positions & Points'!#REF!=\"\",\"\",'Races, Positions & Points'!#REF!)","v":{"$error":"#REF!"}},{"$f":"IF('Races, Positions & Points'!#REF!=\"\",\"\",'Races, Positions & Points'!#REF!)","v":{"$error":"#REF!"}},{"$f":"IF('Races, Positions & Points'!#REF!=\"\",\"\",'Races, Positions & Points'!#REF!)","v":{"$error":"#REF!"}},{"$f":"IF('Races, Positions & Points'!#REF!=\"\",\"\",'Races, Positions & Points'!#REF!)","v":{"$error":"#REF!"}},{"$f":"IF('Races, Positions & Points'!#REF!=\"\",\"\",'Races, Positions & Points'!#REF!)","v":{"$error":"#REF!"}},{"$f":"IF('Races, Positions & Points'!#REF!=\"\",\"\",'Races, Positions & Points'!#REF!)","v":{"$error":"#REF!"}},{"$f":"IF('Races, Positions & Points'!#REF!=\"\",\"\",'Races, Positions & Points'!#REF!)","v":{"$error":"#REF!"}},{"$f":"IF('Races, Positions & Points'!#REF!=\"\",\"\",'Races, Positions & Points'!#REF!)","v":{"$error":"#REF!"}},null,{"$error":"#REF!"},{"$error":"#REF!"},{"$error":"#REF!"},{"$error":"#REF!"},{"$error":"#REF!"},{"$error":"#REF!"},null,{"$f":"'Races, Positions & Points'!#REF!","v":{"$error":"#REF!"}},{"$f":"'Races, Positions & Points'!#REF!","v":{"$error":"#REF!"}},{"$error":"#REF!"},"","",{"$error":"#REF!"},"",{"$error":"#REF!"},{"$error":"#REF!"},{"$error":"#REF!"},null,{"$error":"#REF!"},"","",{"$error":"#REF!"},"",{"$error":"#REF!"},{"$error":"#REF!"},{"$error":"#REF!"},null,{"$error":"#REF!"},{"$error":"#REF!"},{"$error":"#REF!"},{"$error":"#REF!"},{"$error":"#REF!"},{"$error":"#REF!"},{"$error":"#REF!"},{"$error":"#REF!"},{"$error":"#REF!"},{"$error":"#REF!"},{"$error":"#REF!"},{"$error":"#REF!"},{"$error":"#REF!"},{"$error":"#REF!"},{"$error":"#REF!"},{"$error":"#REF!"},null,{"$error":"#REF!"},"","","",null,{"$error":"#REF!"},"","","",null,{"$error":"#REF!"},{"$error":"#REF!"},{"$error":"#REF!"},{"$error":"#REF!"},{"$error":"#REF!"},{"$error":"#REF!"},{"$error":"#REF!"},{"$error":"#REF!"},{"$error":"#REF!"},{"$error":"#REF!"}]
[{"$f":"'Races, Positions & Points'!#REF!","v":{"$error":"#REF!"}},{"$f":"IF('Races, Positions & Points'!#REF!=\"\",\"\",'Races, Positions & Points'!#REF!)","v":{"$error":"#REF!"}},{"$f":"IF('Races, Positions & Points'!#REF!=\"\",\"\",'Races, Positions & Points'!#REF!)","v":{"$error":"#REF!"}},{"$f":"IF('Races, Positions & Points'!#REF!=\"\",\"\",'Races, Positions & Points'!#REF!)","v":{"$error":"#REF!"}},{"$f":"IF('Races, Positions & Points'!#REF!=\"\",\"\",'Races, Positions & Points'!#REF!)","v":{"$error":"#REF!"}},{"$f":"IF('Races, Positions & Points'!#REF!=\"\",\"\",'Races, Positions & Points'!#REF!)","v":{"$error":"#REF!"}},{"$f":"IF('Races, Positions & Points'!#REF!=\"\",\"\",'Races, Positions & Points'!#REF!)","v":{"$error":"#REF!"}},{"$f":"IF('Races, Positions & Points'!#REF!=\"\",\"\",'Races, Positions & Points'!#REF!)","v":{"$error":"#REF!"}},{"$f":"IF('Races, Positions & Points'!#REF!=\"\",\"\",'Races, Positions & Points'!#REF!)","v":{"$error":"#REF!"}},{"$f":"IF('Races, Positions & Points'!#REF!=\"\",\"\",'Races, Positions & Points'!#REF!)","v":{"$error":"#REF!"}},{"$f":"IF('Races, Positions & Points'!#REF!=\"\",\"\",'Races, Positions & Points'!#REF!)","v":{"$error":"#REF!"}},{"$f":"IF('Races, Positions & Points'!#REF!=\"\",\"\",'Races, Positions & Points'!#REF!)","v":{"$error":"#REF!"}},{"$f":"IF('Races, Positions & Points'!#REF!=\"\",\"\",'Races, Positions & Points'!#REF!)","v":{"$error":"#REF!"}},{"$f":"IF('Races, Positions & Points'!#REF!=\"\",\"\",'Races, Positions & Points'!#REF!)","v":{"$error":"#REF!"}},{"$f":"IF('Races, Positions & Points'!#REF!=\"\",\"\",'Races, Positions & Points'!#REF!)","v":{"$error":"#REF!"}},{"$f":"IF('Races, Positions & Points'!#REF!=\"\",\"\",'Races, Positions & Points'!#REF!)","v":{"$error":"#REF!"}},{"$f":"IF('Races, Positions & Points'!#REF!=\"\",\"\",'Races, Positions & Points'!#REF!)","v":{"$error":"#REF!"}},{"$f":"IF('Races, Positions & Points'!#REF!=\"\",\"\",'Races, Positions & Points'!#REF!)","v":{"$error":"#REF!"}},{"$f":"IF('Races, Positions & Points'!#REF!=\"\",\"\",'Races, Positions & Points'!#REF!)","v":{"$error":"#REF!"}},{"$f":"IF('Races, Positions & Points'!#REF!=\"\",\"\",'Races, Positions & Points'!#REF!)","v":{"$error":"#REF!"}},{"$f":"IF('Races, Positions & Points'!#REF!=\"\",\"\",'Races, Positions & Points'!#REF!)","v":{"$error":"#REF!"}},{"$f":"IF('Races, Positions & Points'!#REF!=\"\",\"\",'Races, Positions & Points'!#REF!)","v":{"$error":"#REF!"}},{"$f":"IF('Races, Positions & Points'!#REF!=\"\",\"\",'Races, Positions & Points'!#REF!)","v":{"$error":"#REF!"}},{"$f":"IF('Races, Positions & Points'!#REF!=\"\",\"\",'Races, Positions & Points'!#REF!)","v":{"$error":"#REF!"}},{"$f":"IF('Races, Positions & Points'!#REF!=\"\",\"\",'Races, Positions & Points'!#REF!)","v":{"$error":"#REF!"}},{"$f":"IF('Races, Positions & Points'!#REF!=\"\",\"\",'Races, Positions & Points'!#REF!)","v":{"$error":"#REF!"}},{"$f":"IF('Races, Positions & Points'!#REF!=\"\",\"\",'Races, Positions & Points'!#REF!)","v":{"$error":"#REF!"}},{"$f":"IF('Races, Positions & Points'!#REF!=\"\",\"\",'Races, Positions & Points'!#REF!)","v":{"$error":"#REF!"}},{"$f":"IF('Races, Positions & Points'!#REF!=\"\",\"\",'Races, Positions & Points'!#REF!)","v":{"$error":"#REF!"}},{"$f":"IF('Races, Positions & Points'!#REF!=\"\",\"\",'Races, Positions & Points'!#REF!)","v":{"$error":"#REF!"}},{"$f":"IF('Races, Positions & Points'!#REF!=\"\",\"\",'Races, Positions & Points'!#REF!)","v":{"$error":"#REF!"}},{"$f":"IF('Races, Positions & Points'!#REF!=\"\",\"\",'Races, Positions & Points'!#REF!)","v":{"$error":"#REF!"}},{"$f":"IF('Races, Positions & Points'!#REF!=\"\",\"\",'Races, Positions & Points'!#REF!)","v":{"$error":"#REF!"}},{"$f":"IF('Races, Positions & Points'!#REF!=\"\",\"\",'Races, Positions & Points'!#REF!)","v":{"$error":"#REF!"}},{"$f":"IF('Races, Positions & Points'!#REF!=\"\",\"\",'Races, Positions & Points'!#REF!)","v":{"$error":"#REF!"}},{"$f":"IF('Races, Positions & Points'!#REF!=\"\",\"\",'Races, Positions & Points'!#REF!)","v":{"$error":"#REF!"}},{"$f":"IF('Races, Positions & Points'!#REF!=\"\",\"\",'Races, Positions & Points'!#REF!)","v":{"$error":"#REF!"}},{"$f":"IF('Races, Positions & Points'!#REF!=\"\",\"\",'Races, Positions & Points'!#REF!)","v":{"$error":"#REF!"}},{"$f":"IF('Races, Positions & Points'!#REF!=\"\",\"\",'Races, Positions & Points'!#REF!)","v":{"$error":"#REF!"}},{"$f":"IF('Races, Positions & Points'!#REF!=\"\",\"\",'Races, Positions & Points'!#REF!)","v":{"$error":"#REF!"}},{"$f":"IF('Races, Positions & Points'!#REF!=\"\",\"\",'Races, Positions & Points'!#REF!)","v":{"$error":"#REF!"}},{"$f":"IF('Races, Positions & Points'!#REF!=\"\",\"\",'Races, Positions & Points'!#REF!)","v":{"$error":"#REF!"}},{"$f":"IF('Races, Positions & Points'!#REF!=\"\",\"\",'Races, Positions & Points'!#REF!)","v":{"$error":"#REF!"}},{"$f":"IF('Races, Positions & Points'!#REF!=\"\",\"\",'Races, Positions & Points'!#REF!)","v":{"$error":"#REF!"}},{"$f":"IF('Races, Positions & Points'!#REF!=\"\",\"\",'Races, Positions & Points'!#REF!)","v":{"$error":"#REF!"}},{"$f":"IF('Races, Positions & Points'!#REF!=\"\",\"\",'Races, Positions & Points'!#REF!)","v":{"$error":"#REF!"}},{"$f":"IF('Races, Positions & Points'!#REF!=\"\",\"\",'Races, Positions & Points'!#REF!)","v":{"$error":"#REF!"}},{"$f":"IF('Races, Positions & Points'!#REF!=\"\",\"\",'Races, Positions & Points'!#REF!)","v":{"$error":"#REF!"}},{"$f":"IF('Races, Positions & Points'!#REF!=\"\",\"\",'Races, Positions & Points'!#REF!)","v":{"$error":"#REF!"}},{"$f":"IF('Races, Positions & Points'!#REF!=\"\",\"\",'Races, Positions & Points'!#REF!)","v":{"$error":"#REF!"}},{"$f":"IF('Races, Positions & Points'!#REF!=\"\",\"\",'Races, Positions & Points'!#REF!)","v":{"$error":"#REF!"}},null,{"$error":"#REF!"},{"$error":"#REF!"},{"$error":"#REF!"},{"$error":"#REF!"},{"$error":"#REF!"},{"$error":"#REF!"},null,{"$f":"'Races, Positions & Points'!#REF!","v":{"$error":"#REF!"}},{"$f":"'Races, Positions & Points'!#REF!","v":{"$error":"#REF!"}},{"$error":"#REF!"},"","",{"$error":"#REF!"},"",{"$error":"#REF!"},{"$error":"#REF!"},{"$error":"#REF!"},null,{"$error":"#REF!"},"","",{"$error":"#REF!"},"",{"$error":"#REF!"},{"$error":"#REF!"},{"$error":"#REF!"},null,{"$error":"#REF!"},{"$error":"#REF!"},{"$error":"#REF!"},{"$error":"#REF!"},{"$error":"#REF!"},{"$error":"#REF!"},{"$error":"#REF!"},{"$error":"#REF!"},{"$error":"#REF!"},{"$error":"#REF!"},{"$error":"#REF!"},{"$error":"#REF!"},{"$error":"#REF!"},{"$error":"#REF!"},{"$error":"#REF!"},{"$error":"#REF!"},null,{"$error":"#REF!"},"","","",null,{"$error":"#REF!"},"","","",null,{"$error":"#REF!"},{"$error":"#REF!"},{"$error":"#REF!"},{"$error":"#REF!"},{"$error":"#REF!"},{"$error":"#REF!"},{"$error":"#REF!"},{"$error":"#REF!"},{"$error":"#REF!"},{"$error":"#REF!"}]
[{"$f":"'Races, Positions & Points'!#REF!","v":{"$error":"#REF!"}},{"$f":"IF('Races, Positions & Points'!#REF!=\"\",\"\",'Races, Positions & Points'!#REF!)","v":{"$error":"#REF!"}},{"$f":"IF('Races, Positions & Points'!#REF!=\"\",\"\",'Races, Positions & Points'!#REF!)","v":{"$error":"#REF!"}},{"$f":"IF('Races, Positions & Points'!#REF!=\"\",\"\",'Races, Positions & Points'!#REF!)","v":{"$error":"#REF!"}},{"$f":"IF('Races, Positions & Points'!#REF!=\"\",\"\",'Races, Positions & Points'!#REF!)","v":{"$error":"#REF!"}},{"$f":"IF('Races, Positions & Points'!#REF!=\"\",\"\",'Races, Positions & Points'!#REF!)","v":{"$error":"#REF!"}},{"$f":"IF('Races, Positions & Points'!#REF!=\"\",\"\",'Races, Positions & Points'!#REF!)","v":{"$error":"#REF!"}},{"$f":"IF('Races, Positions & Points'!#REF!=\"\",\"\",'Races, Positions & Points'!#REF!)","v":{"$error":"#REF!"}},{"$f":"IF('Races, Positions & Points'!#REF!=\"\",\"\",'Races, Positions & Points'!#REF!)","v":{"$error":"#REF!"}},{"$f":"IF('Races, Positions & Points'!#REF!=\"\",\"\",'Races, Positions & Points'!#REF!)","v":{"$error":"#REF!"}},{"$f":"IF('Races, Positions & Points'!#REF!=\"\",\"\",'Races, Positions & Points'!#REF!)","v":{"$error":"#REF!"}},{"$f":"IF('Races, Positions & Points'!#REF!=\"\",\"\",'Races, Positions & Points'!#REF!)","v":{"$error":"#REF!"}},{"$f":"IF('Races, Positions & Points'!#REF!=\"\",\"\",'Races, Positions & Points'!#REF!)","v":{"$error":"#REF!"}},{"$f":"IF('Races, Positions & Points'!#REF!=\"\",\"\",'Races, Positions & Points'!#REF!)","v":{"$error":"#REF!"}},{"$f":"IF('Races, Positions & Points'!#REF!=\"\",\"\",'Races, Positions & Points'!#REF!)","v":{"$error":"#REF!"}},{"$f":"IF('Races, Positions & Points'!#REF!=\"\",\"\",'Races, Positions & Points'!#REF!)","v":{"$error":"#REF!"}},{"$f":"IF('Races, Positions & Points'!#REF!=\"\",\"\",'Races, Positions & Points'!#REF!)","v":{"$error":"#REF!"}},{"$f":"IF('Races, Positions & Points'!#REF!=\"\",\"\",'Races, Positions & Points'!#REF!)","v":{"$error":"#REF!"}},{"$f":"IF('Races, Positions & Points'!#REF!=\"\",\"\",'Races, Positions & Points'!#REF!)","v":{"$error":"#REF!"}},{"$f":"IF('Races, Positions & Points'!#REF!=\"\",\"\",'Races, Positions & Points'!#REF!)","v":{"$error":"#REF!"}},{"$f":"IF('Races, Positions & Points'!#REF!=\"\",\"\",'Races, Positions & Points'!#REF!)","v":{"$error":"#REF!"}},{"$f":"IF('Races, Positions & Points'!#REF!=\"\",\"\",'Races, Positions & Points'!#REF!)","v":{"$error":"#REF!"}},{"$f":"IF('Races, Positions & Points'!#REF!=\"\",\"\",'Races, Positions & Points'!#REF!)","v":{"$error":"#REF!"}},{"$f":"IF('Races, Positions & Points'!#REF!=\"\",\"\",'Races, Positions & Points'!#REF!)","v":{"$error":"#REF!"}},{"$f":"IF('Races, Positions & Points'!#REF!=\"\",\"\",'Races, Positions & Points'!#REF!)","v":{"$error":"#REF!"}},{"$f":"IF('Races, Positions & Points'!#REF!=\"\",\"\",'Races, Positions & Points'!#REF!)","v":{"$error":"#REF!"}},{"$f":"IF('Races, Positions & Points'!#REF!=\"\",\"\",'Races, Positions & Points'!#REF!)","v":{"$error":"#REF!"}},{"$f":"IF('Races, Positions & Points'!#REF!=\"\",\"\",'Races, Positions & Points'!#REF!)","v":{"$error":"#REF!"}},{"$f":"IF('Races, Positions & Points'!#REF!=\"\",\"\",'Races, Positions & Points'!#REF!)","v":{"$error":"#REF!"}},{"$f":"IF('Races, Positions & Points'!#REF!=\"\",\"\",'Races, Positions & Points'!#REF!)","v":{"$error":"#REF!"}},{"$f":"IF('Races, Positions & Points'!#REF!=\"\",\"\",'Races, Positions & Points'!#REF!)","v":{"$error":"#REF!"}},{"$f":"IF('Races, Positions & Points'!#REF!=\"\",\"\",'Races, Positions & Points'!#REF!)","v":{"$error":"#REF!"}},{"$f":"IF('Races, Positions & Points'!#REF!=\"\",\"\",'Races, Positions & Points'!#REF!)","v":{"$error":"#REF!"}},{"$f":"IF('Races, Positions & Points'!#REF!=\"\",\"\",'Races, Positions & Points'!#REF!)","v":{"$error":"#REF!"}},{"$f":"IF('Races, Positions & Points'!#REF!=\"\",\"\",'Races, Positions & Points'!#REF!)","v":{"$error":"#REF!"}},{"$f":"IF('Races, Positions & Points'!#REF!=\"\",\"\",'Races, Positions & Points'!#REF!)","v":{"$error":"#REF!"}},{"$f":"IF('Races, Positions & Points'!#REF!=\"\",\"\",'Races, Positions & Points'!#REF!)","v":{"$error":"#REF!"}},{"$f":"IF('Races, Positions & Points'!#REF!=\"\",\"\",'Races, Positions & Points'!#REF!)","v":{"$error":"#REF!"}},{"$f":"IF('Races, Positions & Points'!#REF!=\"\",\"\",'Races, Positions & Points'!#REF!)","v":{"$error":"#REF!"}},{"$f":"IF('Races, Positions & Points'!#REF!=\"\",\"\",'Races, Positions & Points'!#REF!)","v":{"$error":"#REF!"}},{"$f":"IF('Races, Positions & Points'!#REF!=\"\",\"\",'Races, Positions & Points'!#REF!)","v":{"$error":"#REF!"}},{"$f":"IF('Races, Positions & Points'!#REF!=\"\",\"\",'Races, Positions & Points'!#REF!)","v":{"$error":"#REF!"}},{"$f":"IF('Races, Positions & Points'!#REF!=\"\",\"\",'Races, Positions & Points'!#REF!)","v":{"$error":"#REF!"}},{"$f":"IF('Races, Positions & Points'!#REF!=\"\",\"\",'Races, Positions & Points'!#REF!)","v":{"$error":"#REF!"}},{"$f":"IF('Races, Positions & Points'!#REF!=\"\",\"\",'Races, Positions & Points'!#REF!)","v":{"$error":"#REF!"}},{"$f":"IF('Races, Positions & Points'!#REF!=\"\",\"\",'Races, Positions & Points'!#REF!)","v":{"$error":"#REF!"}},{"$f":"IF('Races, Positions & Points'!#REF!=\"\",\"\",'Races, Positions & Points'!#REF!)","v":{"$error":"#REF!"}},{"$f":"IF('Races, Positions & Points'!#REF!=\"\",\"\",'Races, Positions & Points'!#REF!)","v":{"$error":"#REF!"}},{"$f":"IF('Races, Positions & Points'!#REF!=\"\",\"\",'Races, Positions & Points'!#REF!)","v":{"$error":"#REF!"}},{"$f":"IF('Races, Positions & Points'!#REF!=\"\",\"\",'Races, Positions & Points'!#REF!)","v":{"$error":"#REF!"}},{"$f":"IF('Races, Positions & Points'!#REF!=\"\",\"\",'Races, Positions & Points'!#REF!)","v":{"$error":"#REF!"}},null,{"$error":"#REF!"},{"$error":"#REF!"},{"$error":"#REF!"},{"$error":"#REF!"},{"$error":"#REF!"},{"$error":"#REF!"},null,{"$f":"'Races, Positions & Points'!#REF!","v":{"$error":"#REF!"}},{"$f":"'Races, Positions & Points'!#REF!","v":{"$error":"#REF!"}},{"$error":"#REF!"},"","",{"$error":"#REF!"},"",{"$error":"#REF!"},{"$error":"#REF!"},{"$error":"#REF!"},null,{"$error":"#REF!"},"","",{"$error":"#REF!"},"",{"$error":"#REF!"},{"$error":"#REF!"},{"$error":"#REF!"},null,{"$error":"#REF!"},{"$error":"#REF!"},{"$error":"#REF!"},{"$error":"#REF!"},{"$error":"#REF!"},{"$error":"#REF!"},{"$error":"#REF!"},{"$error":"#REF!"},{"$error":"#REF!"},{"$error":"#REF!"},{"$error":"#REF!"},{"$error":"#REF!"},{"$error":"#REF!"},{"$error":"#REF!"},{"$error":"#REF!"},{"$error":"#REF!"},null,{"$error":"#REF!"},"","","",null,{"$error":"#REF!"},"","","",null,{"$error":"#REF!"},{"$error":"#REF!"},{"$error":"#REF!"},{"$error":"#REF!"},{"$error":"#REF!"},{"$error":"#REF!"},{"$error":"#REF!"},{"$error":"#REF!"},{"$error":"#REF!"},{"$error":"#REF!"}]
[{"$f":"'Races, Positions & Points'!#REF!","v":{"$error":"#REF!"}},{"$f":"IF('Races, Positions & Points'!#REF!=\"\",\"\",'Races, Positions & Points'!#REF!)","v":{"$error":"#REF!"}},{"$f":"IF('Races, Positions & Points'!#REF!=\"\",\"\",'Races, Positions & Points'!#REF!)","v":{"$error":"#REF!"}},{"$f":"IF('Races, Positions & Points'!#REF!=\"\",\"\",'Races, Positions & Points'!#REF!)","v":{"$error":"#REF!"}},{"$f":"IF('Races, Positions & Points'!#REF!=\"\",\"\",'Races, Positions & Points'!#REF!)","v":{"$error":"#REF!"}},{"$f":"IF('Races, Positions & Points'!#REF!=\"\",\"\",'Races, Positions & Points'!#REF!)","v":{"$error":"#REF!"}},{"$f":"IF('Races, Positions & Points'!#REF!=\"\",\"\",'Races, Positions & Points'!#REF!)","v":{"$error":"#REF!"}},{"$f":"IF('Races, Positions & Points'!#REF!=\"\",\"\",'Races, Positions & Points'!#REF!)","v":{"$error":"#REF!"}},{"$f":"IF('Races, Positions & Points'!#REF!=\"\",\"\",'Races, Positions & Points'!#REF!)","v":{"$error":"#REF!"}},{"$f":"IF('Races, Positions & Points'!#REF!=\"\",\"\",'Races, Positions & Points'!#REF!)","v":{"$error":"#REF!"}},{"$f":"IF('Races, Positions & Points'!#REF!=\"\",\"\",'Races, Positions & Points'!#REF!)","v":{"$error":"#REF!"}},{"$f":"IF('Races, Positions & Points'!#REF!=\"\",\"\",'Races, Positions & Points'!#REF!)","v":{"$error":"#REF!"}},{"$f":"IF('Races, Positions & Points'!#REF!=\"\",\"\",'Races, Positions & Points'!#REF!)","v":{"$error":"#REF!"}},{"$f":"IF('Races, Positions & Points'!#REF!=\"\",\"\",'Races, Positions & Points'!#REF!)","v":{"$error":"#REF!"}},{"$f":"IF('Races, Positions & Points'!#REF!=\"\",\"\",'Races, Positions & Points'!#REF!)","v":{"$error":"#REF!"}},{"$f":"IF('Races, Positions & Points'!#REF!=\"\",\"\",'Races, Positions & Points'!#REF!)","v":{"$error":"#REF!"}},{"$f":"IF('Races, Positions & Points'!#REF!=\"\",\"\",'Races, Positions & Points'!#REF!)","v":{"$error":"#REF!"}},{"$f":"IF('Races, Positions & Points'!#REF!=\"\",\"\",'Races, Positions & Points'!#REF!)","v":{"$error":"#REF!"}},{"$f":"IF('Races, Positions & Points'!#REF!=\"\",\"\",'Races, Positions & Points'!#REF!)","v":{"$error":"#REF!"}},{"$f":"IF('Races, Positions & Points'!#REF!=\"\",\"\",'Races, Positions & Points'!#REF!)","v":{"$error":"#REF!"}},{"$f":"IF('Races, Positions & Points'!#REF!=\"\",\"\",'Races, Positions & Points'!#REF!)","v":{"$error":"#REF!"}},{"$f":"IF('Races, Positions & Points'!#REF!=\"\",\"\",'Races, Positions & Points'!#REF!)","v":{"$error":"#REF!"}},{"$f":"IF('Races, Positions & Points'!#REF!=\"\",\"\",'Races, Positions & Points'!#REF!)","v":{"$error":"#REF!"}},{"$f":"IF('Races, Positions & Points'!#REF!=\"\",\"\",'Races, Positions & Points'!#REF!)","v":{"$error":"#REF!"}},{"$f":"IF('Races, Positions & Points'!#REF!=\"\",\"\",'Races, Positions & Points'!#REF!)","v":{"$error":"#REF!"}},{"$f":"IF('Races, Positions & Points'!#REF!=\"\",\"\",'Races, Positions & Points'!#REF!)","v":{"$error":"#REF!"}},{"$f":"IF('Races, Positions & Points'!#REF!=\"\",\"\",'Races, Positions & Points'!#REF!)","v":{"$error":"#REF!"}},{"$f":"IF('Races, Positions & Points'!#REF!=\"\",\"\",'Races, Positions & Points'!#REF!)","v":{"$error":"#REF!"}},{"$f":"IF('Races, Positions & Points'!#REF!=\"\",\"\",'Races, Positions & Points'!#REF!)","v":{"$error":"#REF!"}},{"$f":"IF('Races, Positions & Points'!#REF!=\"\",\"\",'Races, Positions & Points'!#REF!)","v":{"$error":"#REF!"}},{"$f":"IF('Races, Positions & Points'!#REF!=\"\",\"\",'Races, Positions & Points'!#REF!)","v":{"$error":"#REF!"}},{"$f":"IF('Races, Positions & Points'!#REF!=\"\",\"\",'Races, Positions & Points'!#REF!)","v":{"$error":"#REF!"}},{"$f":"IF('Races, Positions & Points'!#REF!=\"\",\"\",'Races, Positions & Points'!#REF!)","v":{"$error":"#REF!"}},{"$f":"IF('Races, Positions & Points'!#REF!=\"\",\"\",'Races, Positions & Points'!#REF!)","v":{"$error":"#REF!"}},{"$f":"IF('Races, Positions & Points'!#REF!=\"\",\"\",'Races, Positions & Points'!#REF!)","v":{"$error":"#REF!"}},{"$f":"IF('Races, Positions & Points'!#REF!=\"\",\"\",'Races, Positions & Points'!#REF!)","v":{"$error":"#REF!"}},{"$f":"IF('Races, Positions & Points'!#REF!=\"\",\"\",'Races, Positions & Points'!#REF!)","v":{"$error":"#REF!"}},{"$f":"IF('Races, Positions & Points'!#REF!=\"\",\"\",'Races, Positions & Points'!#REF!)","v":{"$error":"#REF!"}},{"$f":"IF('Races, Positions & Points'!#REF!=\"\",\"\",'Races, Positions & Points'!#REF!)","v":{"$error":"#REF!"}},{"$f":"IF('Races, Positions & Points'!#REF!=\"\",\"\",'Races, Positions & Points'!#REF!)","v":{"$error":"#REF!"}},{"$f":"IF('Races, Positions & Points'!#REF!=\"\",\"\",'Races, Positions & Points'!#REF!)","v":{"$error":"#REF!"}},{"$f":"IF('Races, Positions & Points'!#REF!=\"\",\"\",'Races, Positions & Points'!#REF!)","v":{"$error":"#REF!"}},{"$f":"IF('Races, Positions & Points'!#REF!=\"\",\"\",'Races, Positions & Points'!#REF!)","v":{"$error":"#REF!"}},{"$f":"IF('Races, Positions & Points'!#REF!=\"\",\"\",'Races, Positions & Points'!#REF!)","v":{"$error":"#REF!"}},{"$f":"IF('Races, Positions & Points'!#REF!=\"\",\"\",'Races, Positions & Points'!#REF!)","v":{"$error":"#REF!"}},{"$f":"IF('Races, Positions & Points'!#REF!=\"\",\"\",'Races, Positions & Points'!#REF!)","v":{"$error":"#REF!"}},{"$f":"IF('Races, Positions & Points'!#REF!=\"\",\"\",'Races, Positions & Points'!#REF!)","v":{"$error":"#REF!"}},{"$f":"IF('Races, Positions & Points'!#REF!=\"\",\"\",'Races, Positions & Points'!#REF!)","v":{"$error":"#REF!"}},{"$f":"IF('Races, Positions & Points'!#REF!=\"\",\"\",'Races, Positions & Points'!#REF!)","v":{"$error":"#REF!"}},{"$f":"IF('Races, Positions & Points'!#REF!=\"\",\"\",'Races, Positions & Points'!#REF!)","v":{"$error":"#REF!"}},{"$f":"IF('Races, Positions & Points'!#REF!=\"\",\"\",'Races, Positions & Points'!#REF!)","v":{"$error":"#REF!"}},null,{"$error":"#REF!"},{"$error":"#REF!"},{"$error":"#REF!"},{"$error":"#REF!"},{"$error":"#REF!"},{"$error":"#REF!"},null,{"$f":"'Races, Positions & Points'!#REF!","v":{"$error":"#REF!"}},{"$f":"'Races, Positions & Points'!#REF!","v":{"$error":"#REF!"}},{"$error":"#REF!"},"","",{"$error":"#REF!"},"",{"$error":"#REF!"},{"$error":"#REF!"},{"$error":"#REF!"},null,{"$error":"#REF!"},"","",{"$error":"#REF!"},"",{"$error":"#REF!"},{"$error":"#REF!"},{"$error":"#REF!"},null,{"$error":"#REF!"},{"$error":"#REF!"},{"$error":"#REF!"},{"$error":"#REF!"},{"$error":"#REF!"},{"$error":"#REF!"},{"$error":"#REF!"},{"$error":"#REF!"},{"$error":"#REF!"},{"$error":"#REF!"},{"$error":"#REF!"},{"$error":"#REF!"},{"$error":"#REF!"},{"$error":"#REF!"},{"$error":"#REF!"},{"$error":"#REF!"},null,{"$error":"#REF!"},"","","",null,{"$error":"#REF!"},"","","",null,{"$error":"#REF!"},{"$error":"#REF!"},{"$error":"#REF!"},{"$error":"#REF!"},{"$error":"#REF!"},{"$error":"#REF!"},{"$error":"#REF!"},{"$error":"#REF!"},{"$error":"#REF!"},{"$error":"#REF!"}]
[{"$f":"'Races, Positions & Points'!#REF!","v":{"$error":"#REF!"}},{"$f":"IF('Races, Positions & Points'!#REF!=\"\",\"\",'Races, Positions & Points'!#REF!)","v":{"$error":"#REF!"}},{"$f":"IF('Races, Positions & Points'!#REF!=\"\",\"\",'Races, Positions & Points'!#REF!)","v":{"$error":"#REF!"}},{"$f":"IF('Races, Positions & Points'!#REF!=\"\",\"\",'Races, Positions & Points'!#REF!)","v":{"$error":"#REF!"}},{"$f":"IF('Races, Positions & Points'!#REF!=\"\",\"\",'Races, Positions & Points'!#REF!)","v":{"$error":"#REF!"}},{"$f":"IF('Races, Positions & Points'!#REF!=\"\",\"\",'Races, Positions & Points'!#REF!)","v":{"$error":"#REF!"}},{"$f":"IF('Races, Positions & Points'!#REF!=\"\",\"\",'Races, Positions & Points'!#REF!)","v":{"$error":"#REF!"}},{"$f":"IF('Races, Positions & Points'!#REF!=\"\",\"\",'Races, Positions & Points'!#REF!)","v":{"$error":"#REF!"}},{"$f":"IF('Races, Positions & Points'!#REF!=\"\",\"\",'Races, Positions & Points'!#REF!)","v":{"$error":"#REF!"}},{"$f":"IF('Races, Positions & Points'!#REF!=\"\",\"\",'Races, Positions & Points'!#REF!)","v":{"$error":"#REF!"}},{"$f":"IF('Races, Positions & Points'!#REF!=\"\",\"\",'Races, Positions & Points'!#REF!)","v":{"$error":"#REF!"}},{"$f":"IF('Races, Positions & Points'!#REF!=\"\",\"\",'Races, Positions & Points'!#REF!)","v":{"$error":"#REF!"}},{"$f":"IF('Races, Positions & Points'!#REF!=\"\",\"\",'Races, Positions & Points'!#REF!)","v":{"$error":"#REF!"}},{"$f":"IF('Races, Positions & Points'!#REF!=\"\",\"\",'Races, Positions & Points'!#REF!)","v":{"$error":"#REF!"}},{"$f":"IF('Races, Positions & Points'!#REF!=\"\",\"\",'Races, Positions & Points'!#REF!)","v":{"$error":"#REF!"}},{"$f":"IF('Races, Positions & Points'!#REF!=\"\",\"\",'Races, Positions & Points'!#REF!)","v":{"$error":"#REF!"}},{"$f":"IF('Races, Positions & Points'!#REF!=\"\",\"\",'Races, Positions & Points'!#REF!)","v":{"$error":"#REF!"}},{"$f":"IF('Races, Positions & Points'!#REF!=\"\",\"\",'Races, Positions & Points'!#REF!)","v":{"$error":"#REF!"}},{"$f":"IF('Races, Positions & Points'!#REF!=\"\",\"\",'Races, Positions & Points'!#REF!)","v":{"$error":"#REF!"}},{"$f":"IF('Races, Positions & Points'!#REF!=\"\",\"\",'Races, Positions & Points'!#REF!)","v":{"$error":"#REF!"}},{"$f":"IF('Races, Positions & Points'!#REF!=\"\",\"\",'Races, Positions & Points'!#REF!)","v":{"$error":"#REF!"}},{"$f":"IF('Races, Positions & Points'!#REF!=\"\",\"\",'Races, Positions & Points'!#REF!)","v":{"$error":"#REF!"}},{"$f":"IF('Races, Positions & Points'!#REF!=\"\",\"\",'Races, Positions & Points'!#REF!)","v":{"$error":"#REF!"}},{"$f":"IF('Races, Positions & Points'!#REF!=\"\",\"\",'Races, Positions & Points'!#REF!)","v":{"$error":"#REF!"}},{"$f":"IF('Races, Positions & Points'!#REF!=\"\",\"\",'Races, Positions & Points'!#REF!)","v":{"$error":"#REF!"}},{"$f":"IF('Races, Positions & Points'!#REF!=\"\",\"\",'Races, Positions & Points'!#REF!)","v":{"$error":"#REF!"}},{"$f":"IF('Races, Positions & Points'!#REF!=\"\",\"\",'Races, Positions & Points'!#REF!)","v":{"$error":"#REF!"}},{"$f":"IF('Races, Positions & Points'!#REF!=\"\",\"\",'Races, Positions & Points'!#REF!)","v":{"$error":"#REF!"}},{"$f":"IF('Races, Positions & Points'!#REF!=\"\",\"\",'Races, Positions & Points'!#REF!)","v":{"$error":"#REF!"}},{"$f":"IF('Races, Positions & Points'!#REF!=\"\",\"\",'Races, Positions & Points'!#REF!)","v":{"$error":"#REF!"}},{"$f":"IF('Races, Positions & Points'!#REF!=\"\",\"\",'Races, Positions & Points'!#REF!)","v":{"$error":"#REF!"}},{"$f":"IF('Races, Positions & Points'!#REF!=\"\",\"\",'Races, Positions & Points'!#REF!)","v":{"$error":"#REF!"}},{"$f":"IF('Races, Positions & Points'!#REF!=\"\",\"\",'Races, Positions & Points'!#REF!)","v":{"$error":"#REF!"}},{"$f":"IF('Races, Positions & Points'!#REF!=\"\",\"\",'Races, Positions & Points'!#REF!)","v":{"$error":"#REF!"}},{"$f":"IF('Races, Positions & Points'!#REF!=\"\",\"\",'Races, Positions & Points'!#REF!)","v":{"$error":"#REF!"}},{"$f":"IF('Races, Positions & Points'!#REF!=\"\",\"\",'Races, Positions & Points'!#REF!)","v":{"$error":"#REF!"}},{"$f":"IF('Races, Positions & Points'!#REF!=\"\",\"\",'Races, Positions & Points'!#REF!)","v":{"$error":"#REF!"}},{"$f":"IF('Races, Positions & Points'!#REF!=\"\",\"\",'Races, Positions & Points'!#REF!)","v":{"$error":"#REF!"}},{"$f":"IF('Races, Positions & Points'!#REF!=\"\",\"\",'Races, Positions & Points'!#REF!)","v":{"$error":"#REF!"}},{"$f":"IF('Races, Positions & Points'!#REF!=\"\",\"\",'Races, Positions & Points'!#REF!)","v":{"$error":"#REF!"}},{"$f":"IF('Races, Positions & Points'!#REF!=\"\",\"\",'Races, Positions & Points'!#REF!)","v":{"$error":"#REF!"}},{"$f":"IF('Races, Positions & Points'!#REF!=\"\",\"\",'Races, Positions & Points'!#REF!)","v":{"$error":"#REF!"}},{"$f":"IF('Races, Positions & Points'!#REF!=\"\",\"\",'Races, Positions & Points'!#REF!)","v":{"$error":"#REF!"}},{"$f":"IF('Races, Positions & Points'!#REF!=\"\",\"\",'Races, Positions & Points'!#REF!)","v":{"$error":"#REF!"}},{"$f":"IF('Races, Positions & Points'!#REF!=\"\",\"\",'Races, Positions & Points'!#REF!)","v":{"$error":"#REF!"}},{"$f":"IF('Races, Positions & Points'!#REF!=\"\",\"\",'Races, Positions & Points'!#REF!)","v":{"$error":"#REF!"}},{"$f":"IF('Races, Positions & Points'!#REF!=\"\",\"\",'Races, Positions & Points'!#REF!)","v":{"$error":"#REF!"}},{"$f":"IF('Races, Positions & Points'!#REF!=\"\",\"\",'Races, Positions & Points'!#REF!)","v":{"$error":"#REF!"}},{"$f":"IF('Races, Positions & Points'!#REF!=\"\",\"\",'Races, Positions & Points'!#REF!)","v":{"$error":"#REF!"}},{"$f":"IF('Races, Positions & Points'!#REF!=\"\",\"\",'Races, Positions & Points'!#REF!)","v":{"$error":"#REF!"}},{"$f":"IF('Races, Positions & Points'!#REF!=\"\",\"\",'Races, Positions & Points'!#REF!)","v":{"$error":"#REF!"}},null,{"$error":"#REF!"},{"$error":"#REF!"},{"$error":"#REF!"},{"$error":"#REF!"},{"$error":"#REF!"},{"$error":"#REF!"},null,{"$f":"'Races, Positions & Points'!#REF!","v":{"$error":"#REF!"}},{"$f":"'Races, Positions & Points'!#REF!","v":{"$error":"#REF!"}},{"$error":"#REF!"},"","",{"$error":"#REF!"},"",{"$error":"#REF!"},{"$error":"#REF!"},{"$error":"#REF!"},null,{"$error":"#REF!"},"","",{"$error":"#REF!"},"",{"$error":"#REF!"},{"$error":"#REF!"},{"$error":"#REF!"},null,{"$error":"#REF!"},{"$error":"#REF!"},{"$error":"#REF!"},{"$error":"#REF!"},{"$error":"#REF!"},{"$error":"#REF!"},{"$error":"#REF!"},{"$error":"#REF!"},{"$error":"#REF!"},{"$error":"#REF!"},{"$error":"#REF!"},{"$error":"#REF!"},{"$error":"#REF!"},{"$error":"#REF!"},{"$error":"#REF!"},{"$error":"#REF!"},null,{"$error":"#REF!"},"","","",null,{"$error":"#REF!"},"","","",null,{"$error":"#REF!"},{"$error":"#REF!"},{"$error":"#REF!"},{"$error":"#REF!"},{"$error":"#REF!"},{"$error":"#REF!"},{"$error":"#REF!"},{"$error":"#REF!"},{"$error":"#REF!"},{"$error":"#REF!"}]
[{"$f":"'Races, Positions & Points'!#REF!","v":{"$error":"#REF!"}},{"$f":"IF('Races, Positions & Points'!#REF!=\"\",\"\",'Races, Positions & Points'!#REF!)","v":{"$error":"#REF!"}},{"$f":"IF('Races, Positions & Points'!#REF!=\"\",\"\",'Races, Positions & Points'!#REF!)","v":{"$error":"#REF!"}},{"$f":"IF('Races, Positions & Points'!#REF!=\"\",\"\",'Races, Positions & Points'!#REF!)","v":{"$error":"#REF!"}},{"$f":"IF('Races, Positions & Points'!#REF!=\"\",\"\",'Races, Positions & Points'!#REF!)","v":{"$error":"#REF!"}},{"$f":"IF('Races, Positions & Points'!#REF!=\"\",\"\",'Races, Positions & Points'!#REF!)","v":{"$error":"#REF!"}},{"$f":"IF('Races, Positions & Points'!#REF!=\"\",\"\",'Races, Positions & Points'!#REF!)","v":{"$error":"#REF!"}},{"$f":"IF('Races, Positions & Points'!#REF!=\"\",\"\",'Races, Positions & Points'!#REF!)","v":{"$error":"#REF!"}},{"$f":"IF('Races, Positions & Points'!#REF!=\"\",\"\",'Races, Positions & Points'!#REF!)","v":{"$error":"#REF!"}},{"$f":"IF('Races, Positions & Points'!#REF!=\"\",\"\",'Races, Positions & Points'!#REF!)","v":{"$error":"#REF!"}},{"$f":"IF('Races, Positions & Points'!#REF!=\"\",\"\",'Races, Positions & Points'!#REF!)","v":{"$error":"#REF!"}},{"$f":"IF('Races, Positions & Points'!#REF!=\"\",\"\",'Races, Positions & Points'!#REF!)","v":{"$error":"#REF!"}},{"$f":"IF('Races, Positions & Points'!#REF!=\"\",\"\",'Races, Positions & Points'!#REF!)","v":{"$error":"#REF!"}},{"$f":"IF('Races, Positions & Points'!#REF!=\"\",\"\",'Races, Positions & Points'!#REF!)","v":{"$error":"#REF!"}},{"$f":"IF('Races, Positions & Points'!#REF!=\"\",\"\",'Races, Positions & Points'!#REF!)","v":{"$error":"#REF!"}},{"$f":"IF('Races, Positions & Points'!#REF!=\"\",\"\",'Races, Positions & Points'!#REF!)","v":{"$error":"#REF!"}},{"$f":"IF('Races, Positions & Points'!#REF!=\"\",\"\",'Races, Positions & Points'!#REF!)","v":{"$error":"#REF!"}},{"$f":"IF('Races, Positions & Points'!#REF!=\"\",\"\",'Races, Positions & Points'!#REF!)","v":{"$error":"#REF!"}},{"$f":"IF('Races, Positions & Points'!#REF!=\"\",\"\",'Races, Positions & Points'!#REF!)","v":{"$error":"#REF!"}},{"$f":"IF('Races, Positions & Points'!#REF!=\"\",\"\",'Races, Positions & Points'!#REF!)","v":{"$error":"#REF!"}},{"$f":"IF('Races, Positions & Points'!#REF!=\"\",\"\",'Races, Positions & Points'!#REF!)","v":{"$error":"#REF!"}},{"$f":"IF('Races, Positions & Points'!#REF!=\"\",\"\",'Races, Positions & Points'!#REF!)","v":{"$error":"#REF!"}},{"$f":"IF('Races, Positions & Points'!#REF!=\"\",\"\",'Races, Positions & Points'!#REF!)","v":{"$error":"#REF!"}},{"$f":"IF('Races, Positions & Points'!#REF!=\"\",\"\",'Races, Positions & Points'!#REF!)","v":{"$error":"#REF!"}},{"$f":"IF('Races, Positions & Points'!#REF!=\"\",\"\",'Races, Positions & Points'!#REF!)","v":{"$error":"#REF!"}},{"$f":"IF('Races, Positions & Points'!#REF!=\"\",\"\",'Races, Positions & Points'!#REF!)","v":{"$error":"#REF!"}},{"$f":"IF('Races, Positions & Points'!#REF!=\"\",\"\",'Races, Positions & Points'!#REF!)","v":{"$error":"#REF!"}},{"$f":"IF('Races, Positions & Points'!#REF!=\"\",\"\",'Races, Positions & Points'!#REF!)","v":{"$error":"#REF!"}},{"$f":"IF('Races, Positions & Points'!#REF!=\"\",\"\",'Races, Positions & Points'!#REF!)","v":{"$error":"#REF!"}},{"$f":"IF('Races, Positions & Points'!#REF!=\"\",\"\",'Races, Positions & Points'!#REF!)","v":{"$error":"#REF!"}},{"$f":"IF('Races, Positions & Points'!#REF!=\"\",\"\",'Races, Positions & Points'!#REF!)","v":{"$error":"#REF!"}},{"$f":"IF('Races, Positions & Points'!#REF!=\"\",\"\",'Races, Positions & Points'!#REF!)","v":{"$error":"#REF!"}},{"$f":"IF('Races, Positions & Points'!#REF!=\"\",\"\",'Races, Positions & Points'!#REF!)","v":{"$error":"#REF!"}},{"$f":"IF('Races, Positions & Points'!#REF!=\"\",\"\",'Races, Positions & Points'!#REF!)","v":{"$error":"#REF!"}},{"$f":"IF('Races, Positions & Points'!#REF!=\"\",\"\",'Races, Positions & Points'!#REF!)","v":{"$error":"#REF!"}},{"$f":"IF('Races, Positions & Points'!#REF!=\"\",\"\",'Races, Positions & Points'!#REF!)","v":{"$error":"#REF!"}},{"$f":"IF('Races, Positions & Points'!#REF!=\"\",\"\",'Races, Positions & Points'!#REF!)","v":{"$error":"#REF!"}},{"$f":"IF('Races, Positions & Points'!#REF!=\"\",\"\",'Races, Positions & Points'!#REF!)","v":{"$error":"#REF!"}},{"$f":"IF('Races, Positions & Points'!#REF!=\"\",\"\",'Races, Positions & Points'!#REF!)","v":{"$error":"#REF!"}},{"$f":"IF('Races, Positions & Points'!#REF!=\"\",\"\",'Races, Positions & Points'!#REF!)","v":{"$error":"#REF!"}},{"$f":"IF('Races, Positions & Points'!#REF!=\"\",\"\",'Races, Positions & Points'!#REF!)","v":{"$error":"#REF!"}},{"$f":"IF('Races, Positions & Points'!#REF!=\"\",\"\",'Races, Positions & Points'!#REF!)","v":{"$error":"#REF!"}},{"$f":"IF('Races, Positions & Points'!#REF!=\"\",\"\",'Races, Positions & Points'!#REF!)","v":{"$error":"#REF!"}},{"$f":"IF('Races, Positions & Points'!#REF!=\"\",\"\",'Races, Positions & Points'!#REF!)","v":{"$error":"#REF!"}},{"$f":"IF('Races, Positions & Points'!#REF!=\"\",\"\",'Races, Positions & Points'!#REF!)","v":{"$error":"#REF!"}},{"$f":"IF('Races, Positions & Points'!#REF!=\"\",\"\",'Races, Positions & Points'!#REF!)","v":{"$error":"#REF!"}},{"$f":"IF('Races, Positions & Points'!#REF!=\"\",\"\",'Races, Positions & Points'!#REF!)","v":{"$error":"#REF!"}},{"$f":"IF('Races, Positions & Points'!#REF!=\"\",\"\",'Races, Positions & Points'!#REF!)","v":{"$error":"#REF!"}},{"$f":"IF('Races, Positions & Points'!#REF!=\"\",\"\",'Races, Positions & Points'!#REF!)","v":{"$error":"#REF!"}},{"$f":"IF('Races, Positions & Points'!#REF!=\"\",\"\",'Races, Positions & Points'!#REF!)","v":{"$error":"#REF!"}},{"$f":"IF('Races, Positions & Points'!#REF!=\"\",\"\",'Races, Positions & Points'!#REF!)","v":{"$error":"#REF!"}},null,{"$error":"#REF!"},{"$error":"#REF!"},{"$error":"#REF!"},{"$error":"#REF!"},{"$error":"#REF!"},{"$error":"#REF!"},null,{"$f":"'Races, Positions & Points'!#REF!","v":{"$error":"#REF!"}},{"$f":"'Races, Positions & Points'!#REF!","v":{"$error":"#REF!"}},{"$error":"#REF!"},"","",{"$error":"#REF!"},"",{"$error":"#REF!"},{"$error":"#REF!"},{"$error":"#REF!"},null,{"$error":"#REF!"},"","",{"$error":"#REF!"},"",{"$error":"#REF!"},{"$error":"#REF!"},{"$error":"#REF!"},null,{"$error":"#REF!"},{"$error":"#REF!"},{"$error":"#REF!"},{"$error":"#REF!"},{"$error":"#REF!"},{"$error":"#REF!"},{"$error":"#REF!"},{"$error":"#REF!"},{"$error":"#REF!"},{"$error":"#REF!"},{"$error":"#REF!"},{"$error":"#REF!"},{"$error":"#REF!"},{"$error":"#REF!"},{"$error":"#REF!"},{"$error":"#REF!"},null,{"$error":"#REF!"},"","","",null,{"$error":"#REF!"},"","","",null,{"$error":"#REF!"},{"$error":"#REF!"},{"$error":"#REF!"},{"$error":"#REF!"},{"$error":"#REF!"},{"$error":"#REF!"},{"$error":"#REF!"},{"$error":"#REF!"},{"$error":"#REF!"},{"$error":"#REF!"}]
[{"$f":"'Races, Positions & Points'!#REF!","v":{"$error":"#REF!"}},{"$f":"IF('Races, Positions & Points'!#REF!=\"\",\"\",'Races, Positions & Points'!#REF!)","v":{"$error":"#REF!"}},{"$f":"IF('Races, Positions & Points'!#REF!=\"\",\"\",'Races, Positions & Points'!#REF!)","v":{"$error":"#REF!"}},{"$f":"IF('Races, Positions & Points'!#REF!=\"\",\"\",'Races, Positions & Points'!#REF!)","v":{"$error":"#REF!"}},{"$f":"IF('Races, Positions & Points'!#REF!=\"\",\"\",'Races, Positions & Points'!#REF!)","v":{"$error":"#REF!"}},{"$f":"IF('Races, Positions & Points'!#REF!=\"\",\"\",'Races, Positions & Points'!#REF!)","v":{"$error":"#REF!"}},{"$f":"IF('Races, Positions & Points'!#REF!=\"\",\"\",'Races, Positions & Points'!#REF!)","v":{"$error":"#REF!"}},{"$f":"IF('Races, Positions & Points'!#REF!=\"\",\"\",'Races, Positions & Points'!#REF!)","v":{"$error":"#REF!"}},{"$f":"IF('Races, Positions & Points'!#REF!=\"\",\"\",'Races, Positions & Points'!#REF!)","v":{"$error":"#REF!"}},{"$f":"IF('Races, Positions & Points'!#REF!=\"\",\"\",'Races, Positions & Points'!#REF!)","v":{"$error":"#REF!"}},{"$f":"IF('Races, Positions & Points'!#REF!=\"\",\"\",'Races, Positions & Points'!#REF!)","v":{"$error":"#REF!"}},{"$f":"IF('Races, Positions & Points'!#REF!=\"\",\"\",'Races, Positions & Points'!#REF!)","v":{"$error":"#REF!"}},{"$f":"IF('Races, Positions & Points'!#REF!=\"\",\"\",'Races, Positions & Points'!#REF!)","v":{"$error":"#REF!"}},{"$f":"IF('Races, Positions & Points'!#REF!=\"\",\"\",'Races, Positions & Points'!#REF!)","v":{"$error":"#REF!"}},{"$f":"IF('Races, Positions & Points'!#REF!=\"\",\"\",'Races, Positions & Points'!#REF!)","v":{"$error":"#REF!"}},{"$f":"IF('Races, Positions & Points'!#REF!=\"\",\"\",'Races, Positions & Points'!#REF!)","v":{"$error":"#REF!"}},{"$f":"IF('Races, Positions & Points'!#REF!=\"\",\"\",'Races, Positions & Points'!#REF!)","v":{"$error":"#REF!"}},{"$f":"IF('Races, Positions & Points'!#REF!=\"\",\"\",'Races, Positions & Points'!#REF!)","v":{"$error":"#REF!"}},{"$f":"IF('Races, Positions & Points'!#REF!=\"\",\"\",'Races, Positions & Points'!#REF!)","v":{"$error":"#REF!"}},{"$f":"IF('Races, Positions & Points'!#REF!=\"\",\"\",'Races, Positions & Points'!#REF!)","v":{"$error":"#REF!"}},{"$f":"IF('Races, Positions & Points'!#REF!=\"\",\"\",'Races, Positions & Points'!#REF!)","v":{"$error":"#REF!"}},{"$f":"IF('Races, Positions & Points'!#REF!=\"\",\"\",'Races, Positions & Points'!#REF!)","v":{"$error":"#REF!"}},{"$f":"IF('Races, Positions & Points'!#REF!=\"\",\"\",'Races, Positions & Points'!#REF!)","v":{"$error":"#REF!"}},{"$f":"IF('Races, Positions & Points'!#REF!=\"\",\"\",'Races, Positions & Points'!#REF!)","v":{"$error":"#REF!"}},{"$f":"IF('Races, Positions & Points'!#REF!=\"\",\"\",'Races, Positions & Points'!#REF!)","v":{"$error":"#REF!"}},{"$f":"IF('Races, Positions & Points'!#REF!=\"\",\"\",'Races, Positions & Points'!#REF!)","v":{"$error":"#REF!"}},{"$f":"IF('Races, Positions & Points'!#REF!=\"\",\"\",'Races, Positions & Points'!#REF!)","v":{"$error":"#REF!"}},{"$f":"IF('Races, Positions & Points'!#REF!=\"\",\"\",'Races, Positions & Points'!#REF!)","v":{"$error":"#REF!"}},{"$f":"IF('Races, Positions & Points'!#REF!=\"\",\"\",'Races, Positions & Points'!#REF!)","v":{"$error":"#REF!"}},{"$f":"IF('Races, Positions & Points'!#REF!=\"\",\"\",'Races, Positions & Points'!#REF!)","v":{"$error":"#REF!"}},{"$f":"IF('Races, Positions & Points'!#REF!=\"\",\"\",'Races, Positions & Points'!#REF!)","v":{"$error":"#REF!"}},{"$f":"IF('Races, Positions & Points'!#REF!=\"\",\"\",'Races, Positions & Points'!#REF!)","v":{"$error":"#REF!"}},{"$f":"IF('Races, Positions & Points'!#REF!=\"\",\"\",'Races, Positions & Points'!#REF!)","v":{"$error":"#REF!"}},{"$f":"IF('Races, Positions & Points'!#REF!=\"\",\"\",'Races, Positions & Points'!#REF!)","v":{"$error":"#REF!"}},{"$f":"IF('Races, Positions & Points'!#REF!=\"\",\"\",'Races, Positions & Points'!#REF!)","v":{"$error":"#REF!"}},{"$f":"IF('Races, Positions & Points'!#REF!=\"\",\"\",'Races, Positions & Points'!#REF!)","v":{"$error":"#REF!"}},{"$f":"IF('Races, Positions & Points'!#REF!=\"\",\"\",'Races, Positions & Points'!#REF!)","v":{"$error":"#REF!"}},{"$f":"IF('Races, Positions & Points'!#REF!=\"\",\"\",'Races, Positions & Points'!#REF!)","v":{"$error":"#REF!"}},{"$f":"IF('Races, Positions & Points'!#REF!=\"\",\"\",'Races, Positions & Points'!#REF!)","v":{"$error":"#REF!"}},{"$f":"IF('Races, Positions & Points'!#REF!=\"\",\"\",'Races, Positions & Points'!#REF!)","v":{"$error":"#REF!"}},{"$f":"IF('Races, Positions & Points'!#REF!=\"\",\"\",'Races, Positions & Points'!#REF!)","v":{"$error":"#REF!"}},{"$f":"IF('Races, Positions & Points'!#REF!=\"\",\"\",'Races, Positions & Points'!#REF!)","v":{"$error":"#REF!"}},{"$f":"IF('Races, Positions & Points'!#REF!=\"\",\"\",'Races, Positions & Points'!#REF!)","v":{"$error":"#REF!"}},{"$f":"IF('Races, Positions & Points'!#REF!=\"\",\"\",'Races, Positions & Points'!#REF!)","v":{"$error":"#REF!"}},{"$f":"IF('Races, Positions & Points'!#REF!=\"\",\"\",'Races, Positions & Points'!#REF!)","v":{"$error":"#REF!"}},{"$f":"IF('Races, Positions & Points'!#REF!=\"\",\"\",'Races, Positions & Points'!#REF!)","v":{"$error":"#REF!"}},{"$f":"IF('Races, Positions & Points'!#REF!=\"\",\"\",'Races, Positions & Points'!#REF!)","v":{"$error":"#REF!"}},{"$f":"IF('Races, Positions & Points'!#REF!=\"\",\"\",'Races, Positions & Points'!#REF!)","v":{"$error":"#REF!"}},{"$f":"IF('Races, Positions & Points'!#REF!=\"\",\"\",'Races, Positions & Points'!#REF!)","v":{"$error":"#REF!"}},{"$f":"IF('Races, Positions & Points'!#REF!=\"\",\"\",'Races, Positions & Points'!#REF!)","v":{"$error":"#REF!"}},{"$f":"IF('Races, Positions & Points'!#REF!=\"\",\"\",'Races, Positions & Points'!#REF!)","v":{"$error":"#REF!"}},null,{"$error":"#REF!"},{"$error":"#REF!"},{"$error":"#REF!"},{"$error":"#REF!"},{"$error":"#REF!"},{"$error":"#REF!"},null,{"$f":"'Races, Positions & Points'!#REF!","v":{"$error":"#REF!"}},{"$f":"'Races, Positions & Points'!#REF!","v":{"$error":"#REF!"}},{"$error":"#REF!"},"","",{"$error":"#REF!"},"",{"$error":"#REF!"},{"$error":"#REF!"},{"$error":"#REF!"},null,{"$error":"#REF!"},"","",{"$error":"#REF!"},"",{"$error":"#REF!"},{"$error":"#REF!"},{"$error":"#REF!"},null,{"$error":"#REF!"},{"$error":"#REF!"},{"$error":"#REF!"},{"$error":"#REF!"},{"$error":"#REF!"},{"$error":"#REF!"},{"$error":"#REF!"},{"$error":"#REF!"},{"$error":"#REF!"},{"$error":"#REF!"},{"$error":"#REF!"},{"$error":"#REF!"},{"$error":"#REF!"},{"$error":"#REF!"},{"$error":"#REF!"},{"$error":"#REF!"},null,{"$error":"#REF!"},"","","",null,{"$error":"#REF!"},"","","",null,{"$error":"#REF!"},{"$error":"#REF!"},{"$error":"#REF!"},{"$error":"#REF!"},{"$error":"#REF!"},{"$error":"#REF!"},{"$error":"#REF!"},{"$error":"#REF!"},{"$error":"#REF!"},{"$error":"#REF!"}]
[{"$f":"'Races, Positions & Points'!#REF!","v":{"$error":"#REF!"}},{"$f":"IF('Races, Positions & Points'!#REF!=\"\",\"\",'Races, Positions & Points'!#REF!)","v":{"$error":"#REF!"}},{"$f":"IF('Races, Positions & Points'!#REF!=\"\",\"\",'Races, Positions & Points'!#REF!)","v":{"$error":"#REF!"}},{"$f":"IF('Races, Positions & Points'!#REF!=\"\",\"\",'Races, Positions & Points'!#REF!)","v":{"$error":"#REF!"}},{"$f":"IF('Races, Positions & Points'!#REF!=\"\",\"\",'Races, Positions & Points'!#REF!)","v":{"$error":"#REF!"}},{"$f":"IF('Races, Positions & Points'!#REF!=\"\",\"\",'Races, Positions & Points'!#REF!)","v":{"$error":"#REF!"}},{"$f":"IF('Races, Positions & Points'!#REF!=\"\",\"\",'Races, Positions & Points'!#REF!)","v":{"$error":"#REF!"}},{"$f":"IF('Races, Positions & Points'!#REF!=\"\",\"\",'Races, Positions & Points'!#REF!)","v":{"$error":"#REF!"}},{"$f":"IF('Races, Positions & Points'!#REF!=\"\",\"\",'Races, Positions & Points'!#REF!)","v":{"$error":"#REF!"}},{"$f":"IF('Races, Positions & Points'!#REF!=\"\",\"\",'Races, Positions & Points'!#REF!)","v":{"$error":"#REF!"}},{"$f":"IF('Races, Positions & Points'!#REF!=\"\",\"\",'Races, Positions & Points'!#REF!)","v":{"$error":"#REF!"}},{"$f":"IF('Races, Positions & Points'!#REF!=\"\",\"\",'Races, Positions & Points'!#REF!)","v":{"$error":"#REF!"}},{"$f":"IF('Races, Positions & Points'!#REF!=\"\",\"\",'Races, Positions & Points'!#REF!)","v":{"$error":"#REF!"}},{"$f":"IF('Races, Positions & Points'!#REF!=\"\",\"\",'Races, Positions & Points'!#REF!)","v":{"$error":"#REF!"}},{"$f":"IF('Races, Positions & Points'!#REF!=\"\",\"\",'Races, Positions & Points'!#REF!)","v":{"$error":"#REF!"}},{"$f":"IF('Races, Positions & Points'!#REF!=\"\",\"\",'Races, Positions & Points'!#REF!)","v":{"$error":"#REF!"}},{"$f":"IF('Races, Positions & Points'!#REF!=\"\",\"\",'Races, Positions & Points'!#REF!)","v":{"$error":"#REF!"}},{"$f":"IF('Races, Positions & Points'!#REF!=\"\",\"\",'Races, Positions & Points'!#REF!)","v":{"$error":"#REF!"}},{"$f":"IF('Races, Positions & Points'!#REF!=\"\",\"\",'Races, Positions & Points'!#REF!)","v":{"$error":"#REF!"}},{"$f":"IF('Races, Positions & Points'!#REF!=\"\",\"\",'Races, Positions & Points'!#REF!)","v":{"$error":"#REF!"}},{"$f":"IF('Races, Positions & Points'!#REF!=\"\",\"\",'Races, Positions & Points'!#REF!)","v":{"$error":"#REF!"}},{"$f":"IF('Races, Positions & Points'!#REF!=\"\",\"\",'Races, Positions & Points'!#REF!)","v":{"$error":"#REF!"}},{"$f":"IF('Races, Positions & Points'!#REF!=\"\",\"\",'Races, Positions & Points'!#REF!)","v":{"$error":"#REF!"}},{"$f":"IF('Races, Positions & Points'!#REF!=\"\",\"\",'Races, Positions & Points'!#REF!)","v":{"$error":"#REF!"}},{"$f":"IF('Races, Positions & Points'!#REF!=\"\",\"\",'Races, Positions & Points'!#REF!)","v":{"$error":"#REF!"}},{"$f":"IF('Races, Positions & Points'!#REF!=\"\",\"\",'Races, Positions & Points'!#REF!)","v":{"$error":"#REF!"}},{"$f":"IF('Races, Positions & Points'!#REF!=\"\",\"\",'Races, Positions & Points'!#REF!)","v":{"$error":"#REF!"}},{"$f":"IF('Races, Positions & Points'!#REF!=\"\",\"\",'Races, Positions & Points'!#REF!)","v":{"$error":"#REF!"}},{"$f":"IF('Races, Positions & Points'!#REF!=\"\",\"\",'Races, Positions & Points'!#REF!)","v":{"$error":"#REF!"}},{"$f":"IF('Races, Positions & Points'!#REF!=\"\",\"\",'Races, Positions & Points'!#REF!)","v":{"$error":"#REF!"}},{"$f":"IF('Races, Positions & Points'!#REF!=\"\",\"\",'Races, Positions & Points'!#REF!)","v":{"$error":"#REF!"}},{"$f":"IF('Races, Positions & Points'!#REF!=\"\",\"\",'Races, Positions & Points'!#REF!)","v":{"$error":"#REF!"}},{"$f":"IF('Races, Positions & Points'!#REF!=\"\",\"\",'Races, Positions & Points'!#REF!)","v":{"$error":"#REF!"}},{"$f":"IF('Races, Positions & Points'!#REF!=\"\",\"\",'Races, Positions & Points'!#REF!)","v":{"$error":"#REF!"}},{"$f":"IF('Races, Positions & Points'!#REF!=\"\",\"\",'Races, Positions & Points'!#REF!)","v":{"$error":"#REF!"}},{"$f":"IF('Races, Positions & Points'!#REF!=\"\",\"\",'Races, Positions & Points'!#REF!)","v":{"$error":"#REF!"}},{"$f":"IF('Races, Positions & Points'!#REF!=\"\",\"\",'Races, Positions & Points'!#REF!)","v":{"$error":"#REF!"}},{"$f":"IF('Races, Positions & Points'!#REF!=\"\",\"\",'Races, Positions & Points'!#REF!)","v":{"$error":"#REF!"}},{"$f":"IF('Races, Positions & Points'!#REF!=\"\",\"\",'Races, Positions & Points'!#REF!)","v":{"$error":"#REF!"}},{"$f":"IF('Races, Positions & Points'!#REF!=\"\",\"\",'Races, Positions & Points'!#REF!)","v":{"$error":"#REF!"}},{"$f":"IF('Races, Positions & Points'!#REF!=\"\",\"\",'Races, Positions & Points'!#REF!)","v":{"$error":"#REF!"}},{"$f":"IF('Races, Positions & Points'!#REF!=\"\",\"\",'Races, Positions & Points'!#REF!)","v":{"$error":"#REF!"}},{"$f":"IF('Races, Positions & Points'!#REF!=\"\",\"\",'Races, Positions & Points'!#REF!)","v":{"$error":"#REF!"}},{"$f":"IF('Races, Positions & Points'!#REF!=\"\",\"\",'Races, Positions & Points'!#REF!)","v":{"$error":"#REF!"}},{"$f":"IF('Races, Positions & Points'!#REF!=\"\",\"\",'Races, Positions & Points'!#REF!)","v":{"$error":"#REF!"}},{"$f":"IF('Races, Positions & Points'!#REF!=\"\",\"\",'Races, Positions & Points'!#REF!)","v":{"$error":"#REF!"}},{"$f":"IF('Races, Positions & Points'!#REF!=\"\",\"\",'Races, Positions & Points'!#REF!)","v":{"$error":"#REF!"}},{"$f":"IF('Races, Positions & Points'!#REF!=\"\",\"\",'Races, Positions & Points'!#REF!)","v":{"$error":"#REF!"}},{"$f":"IF('Races, Positions & Points'!#REF!=\"\",\"\",'Races, Positions & Points'!#REF!)","v":{"$error":"#REF!"}},{"$f":"IF('Races, Positions & Points'!#REF!=\"\",\"\",'Races, Positions & Points'!#REF!)","v":{"$error":"#REF!"}},{"$f":"IF('Races, Positions & Points'!#REF!=\"\",\"\",'Races, Positions & Points'!#REF!)","v":{"$error":"#REF!"}},null,{"$error":"#REF!"},{"$error":"#REF!"},{"$error":"#REF!"},{"$error":"#REF!"},{"$error":"#REF!"},{"$error":"#REF!"},null,{"$f":"'Races, Positions & Points'!#REF!","v":{"$error":"#REF!"}},{"$f":"'Races, Positions & Points'!#REF!","v":{"$error":"#REF!"}},{"$error":"#REF!"},"","",{"$error":"#REF!"},"",{"$error":"#REF!"},{"$error":"#REF!"},{"$error":"#REF!"},null,{"$error":"#REF!"},"","",{"$error":"#REF!"},"",{"$error":"#REF!"},{"$error":"#REF!"},{"$error":"#REF!"},null,{"$error":"#REF!"},{"$error":"#REF!"},{"$error":"#REF!"},{"$error":"#REF!"},{"$error":"#REF!"},{"$error":"#REF!"},{"$error":"#REF!"},{"$error":"#REF!"},{"$error":"#REF!"},{"$error":"#REF!"},{"$error":"#REF!"},{"$error":"#REF!"},{"$error":"#REF!"},{"$error":"#REF!"},{"$error":"#REF!"},{"$error":"#REF!"},null,{"$error":"#REF!"},"","","",null,{"$error":"#REF!"},"","","",null,{"$error":"#REF!"},{"$error":"#REF!"},{"$error":"#REF!"},{"$error":"#REF!"},{"$error":"#REF!"},{"$error":"#REF!"},{"$error":"#REF!"},{"$error":"#REF!"},{"$error":"#REF!"},{"$error":"#REF!"}]
[{"$f":"'Races, Positions & Points'!#REF!","v":{"$error":"#REF!"}},{"$f":"IF('Races, Positions & Points'!#REF!=\"\",\"\",'Races, Positions & Points'!#REF!)","v":{"$error":"#REF!"}},{"$f":"IF('Races, Positions & Points'!#REF!=\"\",\"\",'Races, Positions & Points'!#REF!)","v":{"$error":"#REF!"}},{"$f":"IF('Races, Positions & Points'!#REF!=\"\",\"\",'Races, Positions & Points'!#REF!)","v":{"$error":"#REF!"}},{"$f":"IF('Races, Positions & Points'!#REF!=\"\",\"\",'Races, Positions & Points'!#REF!)","v":{"$error":"#REF!"}},{"$f":"IF('Races, Positions & Points'!#REF!=\"\",\"\",'Races, Positions & Points'!#REF!)","v":{"$error":"#REF!"}},{"$f":"IF('Races, Positions & Points'!#REF!=\"\",\"\",'Races, Positions & Points'!#REF!)","v":{"$error":"#REF!"}},{"$f":"IF('Races, Positions & Points'!#REF!=\"\",\"\",'Races, Positions & Points'!#REF!)","v":{"$error":"#REF!"}},{"$f":"IF('Races, Positions & Points'!#REF!=\"\",\"\",'Races, Positions & Points'!#REF!)","v":{"$error":"#REF!"}},{"$f":"IF('Races, Positions & Points'!#REF!=\"\",\"\",'Races, Positions & Points'!#REF!)","v":{"$error":"#REF!"}},{"$f":"IF('Races, Positions & Points'!#REF!=\"\",\"\",'Races, Positions & Points'!#REF!)","v":{"$error":"#REF!"}},{"$f":"IF('Races, Positions & Points'!#REF!=\"\",\"\",'Races, Positions & Points'!#REF!)","v":{"$error":"#REF!"}},{"$f":"IF('Races, Positions & Points'!#REF!=\"\",\"\",'Races, Positions & Points'!#REF!)","v":{"$error":"#REF!"}},{"$f":"IF('Races, Positions & Points'!#REF!=\"\",\"\",'Races, Positions & Points'!#REF!)","v":{"$error":"#REF!"}},{"$f":"IF('Races, Positions & Points'!#REF!=\"\",\"\",'Races, Positions & Points'!#REF!)","v":{"$error":"#REF!"}},{"$f":"IF('Races, Positions & Points'!#REF!=\"\",\"\",'Races, Positions & Points'!#REF!)","v":{"$error":"#REF!"}},{"$f":"IF('Races, Positions & Points'!#REF!=\"\",\"\",'Races, Positions & Points'!#REF!)","v":{"$error":"#REF!"}},{"$f":"IF('Races, Positions & Points'!#REF!=\"\",\"\",'Races, Positions & Points'!#REF!)","v":{"$error":"#REF!"}},{"$f":"IF('Races, Positions & Points'!#REF!=\"\",\"\",'Races, Positions & Points'!#REF!)","v":{"$error":"#REF!"}},{"$f":"IF('Races, Positions & Points'!#REF!=\"\",\"\",'Races, Positions & Points'!#REF!)","v":{"$error":"#REF!"}},{"$f":"IF('Races, Positions & Points'!#REF!=\"\",\"\",'Races, Positions & Points'!#REF!)","v":{"$error":"#REF!"}},{"$f":"IF('Races, Positions & Points'!#REF!=\"\",\"\",'Races, Positions & Points'!#REF!)","v":{"$error":"#REF!"}},{"$f":"IF('Races, Positions & Points'!#REF!=\"\",\"\",'Races, Positions & Points'!#REF!)","v":{"$error":"#REF!"}},{"$f":"IF('Races, Positions & Points'!#REF!=\"\",\"\",'Races, Positions & Points'!#REF!)","v":{"$error":"#REF!"}},{"$f":"IF('Races, Positions & Points'!#REF!=\"\",\"\",'Races, Positions & Points'!#REF!)","v":{"$error":"#REF!"}},{"$f":"IF('Races, Positions & Points'!#REF!=\"\",\"\",'Races, Positions & Points'!#REF!)","v":{"$error":"#REF!"}},{"$f":"IF('Races, Positions & Points'!#REF!=\"\",\"\",'Races, Positions & Points'!#REF!)","v":{"$error":"#REF!"}},{"$f":"IF('Races, Positions & Points'!#REF!=\"\",\"\",'Races, Positions & Points'!#REF!)","v":{"$error":"#REF!"}},{"$f":"IF('Races, Positions & Points'!#REF!=\"\",\"\",'Races, Positions & Points'!#REF!)","v":{"$error":"#REF!"}},{"$f":"IF('Races, Positions & Points'!#REF!=\"\",\"\",'Races, Positions & Points'!#REF!)","v":{"$error":"#REF!"}},{"$f":"IF('Races, Positions & Points'!#REF!=\"\",\"\",'Races, Positions & Points'!#REF!)","v":{"$error":"#REF!"}},{"$f":"IF('Races, Positions & Points'!#REF!=\"\",\"\",'Races, Positions & Points'!#REF!)","v":{"$error":"#REF!"}},{"$f":"IF('Races, Positions & Points'!#REF!=\"\",\"\",'Races, Positions & Points'!#REF!)","v":{"$error":"#REF!"}},{"$f":"IF('Races, Positions & Points'!#REF!=\"\",\"\",'Races, Positions & Points'!#REF!)","v":{"$error":"#REF!"}},{"$f":"IF('Races, Positions & Points'!#REF!=\"\",\"\",'Races, Positions & Points'!#REF!)","v":{"$error":"#REF!"}},{"$f":"IF('Races, Positions & Points'!#REF!=\"\",\"\",'Races, Positions & Points'!#REF!)","v":{"$error":"#REF!"}},{"$f":"IF('Races, Positions & Points'!#REF!=\"\",\"\",'Races, Positions & Points'!#REF!)","v":{"$error":"#REF!"}},{"$f":"IF('Races, Positions & Points'!#REF!=\"\",\"\",'Races, Positions & Points'!#REF!)","v":{"$error":"#REF!"}},{"$f":"IF('Races, Positions & Points'!#REF!=\"\",\"\",'Races, Positions & Points'!#REF!)","v":{"$error":"#REF!"}},{"$f":"IF('Races, Positions & Points'!#REF!=\"\",\"\",'Races, Positions & Points'!#REF!)","v":{"$error":"#REF!"}},{"$f":"IF('Races, Positions & Points'!#REF!=\"\",\"\",'Races, Positions & Points'!#REF!)","v":{"$error":"#REF!"}},{"$f":"IF('Races, Positions & Points'!#REF!=\"\",\"\",'Races, Positions & Points'!#REF!)","v":{"$error":"#REF!"}},{"$f":"IF('Races, Positions & Points'!#REF!=\"\",\"\",'Races, Positions & Points'!#REF!)","v":{"$error":"#REF!"}},{"$f":"IF('Races, Positions & Points'!#REF!=\"\",\"\",'Races, Positions & Points'!#REF!)","v":{"$error":"#REF!"}},{"$f":"IF('Races, Positions & Points'!#REF!=\"\",\"\",'Races, Positions & Points'!#REF!)","v":{"$error":"#REF!"}},{"$f":"IF('Races, Positions & Points'!#REF!=\"\",\"\",'Races, Positions & Points'!#REF!)","v":{"$error":"#REF!"}},{"$f":"IF('Races, Positions & Points'!#REF!=\"\",\"\",'Races, Positions & Points'!#REF!)","v":{"$error":"#REF!"}},{"$f":"IF('Races, Positions & Points'!#REF!=\"\",\"\",'Races, Positions & Points'!#REF!)","v":{"$error":"#REF!"}},{"$f":"IF('Races, Positions & Points'!#REF!=\"\",\"\",'Races, Positions & Points'!#REF!)","v":{"$error":"#REF!"}},{"$f":"IF('Races, Positions & Points'!#REF!=\"\",\"\",'Races, Positions & Points'!#REF!)","v":{"$error":"#REF!"}},{"$f":"IF('Races, Positions & Points'!#REF!=\"\",\"\",'Races, Positions & Points'!#REF!)","v":{"$error":"#REF!"}},null,{"$error":"#REF!"},{"$error":"#REF!"},{"$error":"#REF!"},{"$error":"#REF!"},{"$error":"#REF!"},{"$error":"#REF!"},null,{"$f":"'Races, Positions & Points'!#REF!","v":{"$error":"#REF!"}},{"$f":"'Races, Positions & Points'!#REF!","v":{"$error":"#REF!"}},{"$error":"#REF!"},"","",{"$error":"#REF!"},"",{"$error":"#REF!"},{"$error":"#REF!"},{"$error":"#REF!"},null,{"$error":"#REF!"},"","",{"$error":"#REF!"},"",{"$error":"#REF!"},{"$error":"#REF!"},{"$error":"#REF!"},null,{"$error":"#REF!"},{"$error":"#REF!"},{"$error":"#REF!"},{"$error":"#REF!"},{"$error":"#REF!"},{"$error":"#REF!"},{"$error":"#REF!"},{"$error":"#REF!"},{"$error":"#REF!"},{"$error":"#REF!"},{"$error":"#REF!"},{"$error":"#REF!"},{"$error":"#REF!"},{"$error":"#REF!"},{"$error":"#REF!"},{"$error":"#REF!"},null,{"$error":"#REF!"},"","","",null,{"$error":"#REF!"},"","","",null,{"$error":"#REF!"},{"$error":"#REF!"},{"$error":"#REF!"},{"$error":"#REF!"},{"$error":"#REF!"},{"$error":"#REF!"},{"$error":"#REF!"},{"$error":"#REF!"},{"$error":"#REF!"},{"$error":"#REF!"}]
[{"$f":"'Races, Positions & Points'!#REF!","v":{"$error":"#REF!"}},{"$f":"IF('Races, Positions & Points'!#REF!=\"\",\"\",'Races, Positions & Points'!#REF!)","v":{"$error":"#REF!"}},{"$f":"IF('Races, Positions & Points'!#REF!=\"\",\"\",'Races, Positions & Points'!#REF!)","v":{"$error":"#REF!"}},{"$f":"IF('Races, Positions & Points'!#REF!=\"\",\"\",'Races, Positions & Points'!#REF!)","v":{"$error":"#REF!"}},{"$f":"IF('Races, Positions & Points'!#REF!=\"\",\"\",'Races, Positions & Points'!#REF!)","v":{"$error":"#REF!"}},{"$f":"IF('Races, Positions & Points'!#REF!=\"\",\"\",'Races, Positions & Points'!#REF!)","v":{"$error":"#REF!"}},{"$f":"IF('Races, Positions & Points'!#REF!=\"\",\"\",'Races, Positions & Points'!#REF!)","v":{"$error":"#REF!"}},{"$f":"IF('Races, Positions & Points'!#REF!=\"\",\"\",'Races, Positions & Points'!#REF!)","v":{"$error":"#REF!"}},{"$f":"IF('Races, Positions & Points'!#REF!=\"\",\"\",'Races, Positions & Points'!#REF!)","v":{"$error":"#REF!"}},{"$f":"IF('Races, Positions & Points'!#REF!=\"\",\"\",'Races, Positions & Points'!#REF!)","v":{"$error":"#REF!"}},{"$f":"IF('Races, Positions & Points'!#REF!=\"\",\"\",'Races, Positions & Points'!#REF!)","v":{"$error":"#REF!"}},{"$f":"IF('Races, Positions & Points'!#REF!=\"\",\"\",'Races, Positions & Points'!#REF!)","v":{"$error":"#REF!"}},{"$f":"IF('Races, Positions & Points'!#REF!=\"\",\"\",'Races, Positions & Points'!#REF!)","v":{"$error":"#REF!"}},{"$f":"IF('Races, Positions & Points'!#REF!=\"\",\"\",'Races, Positions & Points'!#REF!)","v":{"$error":"#REF!"}},{"$f":"IF('Races, Positions & Points'!#REF!=\"\",\"\",'Races, Positions & Points'!#REF!)","v":{"$error":"#REF!"}},{"$f":"IF('Races, Positions & Points'!#REF!=\"\",\"\",'Races, Positions & Points'!#REF!)","v":{"$error":"#REF!"}},{"$f":"IF('Races, Positions & Points'!#REF!=\"\",\"\",'Races, Positions & Points'!#REF!)","v":{"$error":"#REF!"}},{"$f":"IF('Races, Positions & Points'!#REF!=\"\",\"\",'Races, Positions & Points'!#REF!)","v":{"$error":"#REF!"}},{"$f":"IF('Races, Positions & Points'!#REF!=\"\",\"\",'Races, Positions & Points'!#REF!)","v":{"$error":"#REF!"}},{"$f":"IF('Races, Positions & Points'!#REF!=\"\",\"\",'Races, Positions & Points'!#REF!)","v":{"$error":"#REF!"}},{"$f":"IF('Races, Positions & Points'!#REF!=\"\",\"\",'Races, Positions & Points'!#REF!)","v":{"$error":"#REF!"}},{"$f":"IF('Races, Positions & Points'!#REF!=\"\",\"\",'Races, Positions & Points'!#REF!)","v":{"$error":"#REF!"}},{"$f":"IF('Races, Positions & Points'!#REF!=\"\",\"\",'Races, Positions & Points'!#REF!)","v":{"$error":"#REF!"}},{"$f":"IF('Races, Positions & Points'!#REF!=\"\",\"\",'Races, Positions & Points'!#REF!)","v":{"$error":"#REF!"}},{"$f":"IF('Races, Positions & Points'!#REF!=\"\",\"\",'Races, Positions & Points'!#REF!)","v":{"$error":"#REF!"}},{"$f":"IF('Races, Positions & Points'!#REF!=\"\",\"\",'Races, Positions & Points'!#REF!)","v":{"$error":"#REF!"}},{"$f":"IF('Races, Positions & Points'!#REF!=\"\",\"\",'Races, Positions & Points'!#REF!)","v":{"$error":"#REF!"}},{"$f":"IF('Races, Positions & Points'!#REF!=\"\",\"\",'Races, Positions & Points'!#REF!)","v":{"$error":"#REF!"}},{"$f":"IF('Races, Positions & Points'!#REF!=\"\",\"\",'Races, Positions & Points'!#REF!)","v":{"$error":"#REF!"}},{"$f":"IF('Races, Positions & Points'!#REF!=\"\",\"\",'Races, Positions & Points'!#REF!)","v":{"$error":"#REF!"}},{"$f":"IF('Races, Positions & Points'!#REF!=\"\",\"\",'Races, Positions & Points'!#REF!)","v":{"$error":"#REF!"}},{"$f":"IF('Races, Positions & Points'!#REF!=\"\",\"\",'Races, Positions & Points'!#REF!)","v":{"$error":"#REF!"}},{"$f":"IF('Races, Positions & Points'!#REF!=\"\",\"\",'Races, Positions & Points'!#REF!)","v":{"$error":"#REF!"}},{"$f":"IF('Races, Positions & Points'!#REF!=\"\",\"\",'Races, Positions & Points'!#REF!)","v":{"$error":"#REF!"}},{"$f":"IF('Races, Positions & Points'!#REF!=\"\",\"\",'Races, Positions & Points'!#REF!)","v":{"$error":"#REF!"}},{"$f":"IF('Races, Positions & Points'!#REF!=\"\",\"\",'Races, Positions & Points'!#REF!)","v":{"$error":"#REF!"}},{"$f":"IF('Races, Positions & Points'!#REF!=\"\",\"\",'Races, Positions & Points'!#REF!)","v":{"$error":"#REF!"}},{"$f":"IF('Races, Positions & Points'!#REF!=\"\",\"\",'Races, Positions & Points'!#REF!)","v":{"$error":"#REF!"}},{"$f":"IF('Races, Positions & Points'!#REF!=\"\",\"\",'Races, Positions & Points'!#REF!)","v":{"$error":"#REF!"}},{"$f":"IF('Races, Positions & Points'!#REF!=\"\",\"\",'Races, Positions & Points'!#REF!)","v":{"$error":"#REF!"}},{"$f":"IF('Races, Positions & Points'!#REF!=\"\",\"\",'Races, Positions & Points'!#REF!)","v":{"$error":"#REF!"}},{"$f":"IF('Races, Positions & Points'!#REF!=\"\",\"\",'Races, Positions & Points'!#REF!)","v":{"$error":"#REF!"}},{"$f":"IF('Races, Positions & Points'!#REF!=\"\",\"\",'Races, Positions & Points'!#REF!)","v":{"$error":"#REF!"}},{"$f":"IF('Races, Positions & Points'!#REF!=\"\",\"\",'Races, Positions & Points'!#REF!)","v":{"$error":"#REF!"}},{"$f":"IF('Races, Positions & Points'!#REF!=\"\",\"\",'Races, Positions & Points'!#REF!)","v":{"$error":"#REF!"}},{"$f":"IF('Races, Positions & Points'!#REF!=\"\",\"\",'Races, Positions & Points'!#REF!)","v":{"$error":"#REF!"}},{"$f":"IF('Races, Positions & Points'!#REF!=\"\",\"\",'Races, Positions & Points'!#REF!)","v":{"$error":"#REF!"}},{"$f":"IF('Races, Positions & Points'!#REF!=\"\",\"\",'Races, Positions & Points'!#REF!)","v":{"$error":"#REF!"}},{"$f":"IF('Races, Positions & Points'!#REF!=\"\",\"\",'Races, Positions & Points'!#REF!)","v":{"$error":"#REF!"}},{"$f":"IF('Races, Positions & Points'!#REF!=\"\",\"\",'Races, Positions & Points'!#REF!)","v":{"$error":"#REF!"}},{"$f":"IF('Races, Positions & Points'!#REF!=\"\",\"\",'Races, Positions & Points'!#REF!)","v":{"$error":"#REF!"}},null,{"$error":"#REF!"},{"$error":"#REF!"},{"$error":"#REF!"},{"$error":"#REF!"},{"$error":"#REF!"},{"$error":"#REF!"},null,{"$f":"'Races, Positions & Points'!#REF!","v":{"$error":"#REF!"}},{"$f":"'Races, Positions & Points'!#REF!","v":{"$error":"#REF!"}},{"$error":"#REF!"},"","",{"$error":"#REF!"},"",{"$error":"#REF!"},{"$error":"#REF!"},{"$error":"#REF!"},null,{"$error":"#REF!"},"","",{"$error":"#REF!"},"",{"$error":"#REF!"},{"$error":"#REF!"},{"$error":"#REF!"},null,{"$error":"#REF!"},{"$f":"IF(MIN(E76,F76,G76,H76,Z76,AF76,AG76,AP76,AQ76,AU76)>0,MIN(E76,F76,G76,H76,Z76,AF76,AG76,AP76,AQ76,AU76),\"\")","v":{"$error":"#REF!"}},{"$f":"IF(MIN(T76,V76)>0,MIN(T76,V76),\"\")","v":{"$error":"#REF!"}},{"$f":"IF(MIN(W76,X76)>0,MIN(W76,X76),\"\")","v":{"$error":"#REF!"}},{"$f":"IF(MIN(B76,M76,N76,AR76,AS76)>0,MIN(B76,M76,N76,AR76,AS76),\"\")","v":{"$error":"#REF!"}},{"$f":"IF(MIN(D76,O76,AB76,AC76,AE76)>0,MIN(D76,O76,AB76,AC76,AE76),\"\")","v":{"$error":"#REF!"}},{"$f":"IF(MIN(I76,J76)>0,MIN(I76,J76),\"\")","v":{"$error":"#REF!"}},{"$error":"#REF!"},{"$f":"IF(MIN(S76,AM76,AT76,AY76)>0,MIN(S76,AM76,AT76,AY76),\"\")","v":{"$error":"#REF!"}},{"$f":"IF(MIN(P76,R76)>0,MIN(P76,R76),\"\")","v":{"$error":"#REF!"}},{"$error":"#REF!"},{"$error":"#REF!"},{"$error":"#REF!"},{"$error":"#REF!"},{"$error":"#REF!"},{"$f":"IF(MIN(AV76,AW76)>0,MIN(AV76,AW76),\"\")","v":{"$error":"#REF!"}},null,{"$error":"#REF!"},"","","",null,{"$error":"#REF!"},"","","",null,{"$error":"#REF!"},{"$f":"IF(MIN(Z76,AF76,AG76,AP76,AQ76,AU76)>0,MIN(Z76,AF76,AG76,AP76,AQ76,AU76),\"\")","v":{"$error":"#REF!"}},{"$f":"IF(MIN(T76,V76)>0,MIN(T76,V76),\"\")","v":{"$error":"#REF!"}},{"$f":"IF(MIN(M76,N76,AR76,AS76)>0,MIN(M76,N76,AR76,AS76),\"\")","v":{"$error":"#REF!"}},{"$f":"IF(MIN(O76,AE76),MIN(O76,AE76),\"\")","v":{"$error":"#REF!"}},{"$error":"#REF!"},{"$error":"#REF!"},{"$error":"#REF!"},{"$error":"#REF!"},{"$f":"IF(MIN(AV76,AW76),MIN(AV76,AW76),\"\")","v":{"$error":"#REF!"}}]
[{"$f":"'Races, Positions & Points'!#REF!","v":{"$error":"#REF!"}},{"$f":"IF('Races, Positions & Points'!#REF!=\"\",\"\",'Races, Positions & Points'!#REF!)","v":{"$error":"#REF!"}},{"$f":"IF('Races, Positions & Points'!#REF!=\"\",\"\",'Races, Positions & Points'!#REF!)","v":{"$error":"#REF!"}},{"$f":"IF('Races, Positions & Points'!#REF!=\"\",\"\",'Races, Positions & Points'!#REF!)","v":{"$error":"#REF!"}},{"$f":"IF('Races, Positions & Points'!#REF!=\"\",\"\",'Races, Positions & Points'!#REF!)","v":{"$error":"#REF!"}},{"$f":"IF('Races, Positions & Points'!#REF!=\"\",\"\",'Races, Positions & Points'!#REF!)","v":{"$error":"#REF!"}},{"$f":"IF('Races, Positions & Points'!#REF!=\"\",\"\",'Races, Positions & Points'!#REF!)","v":{"$error":"#REF!"}},{"$f":"IF('Races, Positions & Points'!#REF!=\"\",\"\",'Races, Positions & Points'!#REF!)","v":{"$error":"#REF!"}},{"$f":"IF('Races, Positions & Points'!#REF!=\"\",\"\",'Races, Positions & Points'!#REF!)","v":{"$error":"#REF!"}},{"$f":"IF('Races, Positions & Points'!#REF!=\"\",\"\",'Races, Positions & Points'!#REF!)","v":{"$error":"#REF!"}},{"$f":"IF('Races, Positions & Points'!#REF!=\"\",\"\",'Races, Positions & Points'!#REF!)","v":{"$error":"#REF!"}},{"$f":"IF('Races, Positions & Points'!#REF!=\"\",\"\",'Races, Positions & Points'!#REF!)","v":{"$error":"#REF!"}},{"$f":"IF('Races, Positions & Points'!#REF!=\"\",\"\",'Races, Positions & Points'!#REF!)","v":{"$error":"#REF!"}},{"$f":"IF('Races, Positions & Points'!#REF!=\"\",\"\",'Races, Positions & Points'!#REF!)","v":{"$error":"#REF!"}},{"$f":"IF('Races, Positions & Points'!#REF!=\"\",\"\",'Races, Positions & Points'!#REF!)","v":{"$error":"#REF!"}},{"$f":"IF('Races, Positions & Points'!#REF!=\"\",\"\",'Races, Positions & Points'!#REF!)","v":{"$error":"#REF!"}},{"$f":"IF('Races, Positions & Points'!#REF!=\"\",\"\",'Races, Positions & Points'!#REF!)","v":{"$error":"#REF!"}},{"$f":"IF('Races, Positions & Points'!#REF!=\"\",\"\",'Races, Positions & Points'!#REF!)","v":{"$error":"#REF!"}},{"$f":"IF('Races, Positions & Points'!#REF!=\"\",\"\",'Races, Positions & Points'!#REF!)","v":{"$error":"#REF!"}},{"$f":"IF('Races, Positions & Points'!#REF!=\"\",\"\",'Races, Positions & Points'!#REF!)","v":{"$error":"#REF!"}},{"$f":"IF('Races, Positions & Points'!#REF!=\"\",\"\",'Races, Positions & Points'!#REF!)","v":{"$error":"#REF!"}},{"$f":"IF('Races, Positions & Points'!#REF!=\"\",\"\",'Races, Positions & Points'!#REF!)","v":{"$error":"#REF!"}},{"$f":"IF('Races, Positions & Points'!#REF!=\"\",\"\",'Races, Positions & Points'!#REF!)","v":{"$error":"#REF!"}},{"$f":"IF('Races, Positions & Points'!#REF!=\"\",\"\",'Races, Positions & Points'!#REF!)","v":{"$error":"#REF!"}},{"$f":"IF('Races, Positions & Points'!#REF!=\"\",\"\",'Races, Positions & Points'!#REF!)","v":{"$error":"#REF!"}},{"$f":"IF('Races, Positions & Points'!#REF!=\"\",\"\",'Races, Positions & Points'!#REF!)","v":{"$error":"#REF!"}},{"$f":"IF('Races, Positions & Points'!#REF!=\"\",\"\",'Races, Positions & Points'!#REF!)","v":{"$error":"#REF!"}},{"$f":"IF('Races, Positions & Points'!#REF!=\"\",\"\",'Races, Positions & Points'!#REF!)","v":{"$error":"#REF!"}},{"$f":"IF('Races, Positions & Points'!#REF!=\"\",\"\",'Races, Positions & Points'!#REF!)","v":{"$error":"#REF!"}},{"$f":"IF('Races, Positions & Points'!#REF!=\"\",\"\",'Races, Positions & Points'!#REF!)","v":{"$error":"#REF!"}},{"$f":"IF('Races, Positions & Points'!#REF!=\"\",\"\",'Races, Positions & Points'!#REF!)","v":{"$error":"#REF!"}},{"$f":"IF('Races, Positions & Points'!#REF!=\"\",\"\",'Races, Positions & Points'!#REF!)","v":{"$error":"#REF!"}},{"$f":"IF('Races, Positions & Points'!#REF!=\"\",\"\",'Races, Positions & Points'!#REF!)","v":{"$error":"#REF!"}},{"$f":"IF('Races, Positions & Points'!#REF!=\"\",\"\",'Races, Positions & Points'!#REF!)","v":{"$error":"#REF!"}},{"$f":"IF('Races, Positions & Points'!#REF!=\"\",\"\",'Races, Positions & Points'!#REF!)","v":{"$error":"#REF!"}},{"$f":"IF('Races, Positions & Points'!#REF!=\"\",\"\",'Races, Positions & Points'!#REF!)","v":{"$error":"#REF!"}},{"$f":"IF('Races, Positions & Points'!#REF!=\"\",\"\",'Races, Positions & Points'!#REF!)","v":{"$error":"#REF!"}},{"$f":"IF('Races, Positions & Points'!#REF!=\"\",\"\",'Races, Positions & Points'!#REF!)","v":{"$error":"#REF!"}},{"$f":"IF('Races, Positions & Points'!#REF!=\"\",\"\",'Races, Positions & Points'!#REF!)","v":{"$error":"#REF!"}},{"$f":"IF('Races, Positions & Points'!#REF!=\"\",\"\",'Races, Positions & Points'!#REF!)","v":{"$error":"#REF!"}},{"$f":"IF('Races, Positions & Points'!#REF!=\"\",\"\",'Races, Positions & Points'!#REF!)","v":{"$error":"#REF!"}},{"$f":"IF('Races, Positions & Points'!#REF!=\"\",\"\",'Races, Positions & Points'!#REF!)","v":{"$error":"#REF!"}},{"$f":"IF('Races, Positions & Points'!#REF!=\"\",\"\",'Races, Positions & Points'!#REF!)","v":{"$error":"#REF!"}},{"$f":"IF('Races, Positions & Points'!#REF!=\"\",\"\",'Races, Positions & Points'!#REF!)","v":{"$error":"#REF!"}},{"$f":"IF('Races, Positions & Points'!#REF!=\"\",\"\",'Races, Positions & Points'!#REF!)","v":{"$error":"#REF!"}},{"$f":"IF('Races, Positions & Points'!#REF!=\"\",\"\",'Races, Positions & Points'!#REF!)","v":{"$error":"#REF!"}},{"$f":"IF('Races, Positions & Points'!#REF!=\"\",\"\",'Races, Positions & Points'!#REF!)","v":{"$error":"#REF!"}},{"$f":"IF('Races, Positions & Points'!#REF!=\"\",\"\",'Races, Positions & Points'!#REF!)","v":{"$error":"#REF!"}},{"$f":"IF('Races, Positions & Points'!#REF!=\"\",\"\",'Races, Positions & Points'!#REF!)","v":{"$error":"#REF!"}},{"$f":"IF('Races, Positions & Points'!#REF!=\"\",\"\",'Races, Positions & Points'!#REF!)","v":{"$error":"#REF!"}},{"$f":"IF('Races, Positions & Points'!#REF!=\"\",\"\",'Races, Positions & Points'!#REF!)","v":{"$error":"#REF!"}},null,{"$error":"#REF!"},{"$error":"#REF!"},{"$error":"#REF!"},{"$error":"#REF!"},{"$error":"#REF!"},{"$error":"#REF!"},null,{"$f":"'Races, Positions & Points'!#REF!","v":{"$error":"#REF!"}},{"$f":"'Races, Positions & Points'!#REF!","v":{"$error":"#REF!"}},{"$error":"#REF!"},"","",{"$error":"#REF!"},"",{"$error":"#REF!"},{"$error":"#REF!"},{"$error":"#REF!"},null,{"$error":"#REF!"},"","",{"$error":"#REF!"},"",{"$error":"#REF!"},{"$error":"#REF!"},{"$error":"#REF!"},null,{"$error":"#REF!"},{"$error":"#REF!"},{"$error":"#REF!"},{"$error":"#REF!"},{"$error":"#REF!"},{"$error":"#REF!"},{"$error":"#REF!"},{"$f":"IF(Q77>0,Q77,\"\")","v":{"$error":"#REF!"}},{"$error":"#REF!"},{"$error":"#REF!"},{"$error":"#REF!"},{"$error":"#REF!"},{"$error":"#REF!"},{"$error":"#REF!"},{"$error":"#REF!"},{"$error":"#REF!"},null,{"$error":"#REF!"},"","","",null,{"$error":"#REF!"},"","","",null,{"$error":"#REF!"},{"$error":"#REF!"},{"$error":"#REF!"},{"$error":"#REF!"},{"$error":"#REF!"},{"$error":"#REF!"},{"$error":"#REF!"},{"$error":"#REF!"},{"$error":"#REF!"},{"$error":"#REF!"}]
[{"$f":"'Races, Positions & Points'!A28","v":"Daniel Giles"},{"$f":"IF('Races, Positions & Points'!O28=\"\",\"\",'Races, Positions & Points'!O28)","v":""},{"$f":"IF('Races, Positions & Points'!R28=\"\",\"\",'Races, Positions & Points'!R28)","v":""},{"$f":"IF('Races, Positions & Points'!#REF!=\"\",\"\",'Races, Positions & Points'!#REF!)","v":{"$error":"#REF!"}},{"$f":"IF('Races, Positions & Points'!U28=\"\",\"\",'Races, Positions & Points'!U28)","v":""},{"$f":"IF('Races, Positions & Points'!V28=\"\",\"\",'Races, Positions & Points'!V28)","v":""},{"$f":"IF('Races, Positions & Points'!#REF!=\"\",\"\",'Races, Positions & Points'!#REF!)","v":{"$error":"#REF!"}},{"$f":"IF('Races, Positions & Points'!Y28=\"\",\"\",'Races, Positions & Points'!Y28)","v":""},{"$f":"IF('Races, Positions & Points'!#REF!=\"\",\"\",'Races, Positions & Points'!#REF!)","v":{"$error":"#REF!"}},{"$f":"IF('Races, Positions & Points'!#REF!=\"\",\"\",'Races, Positions & Points'!#REF!)","v":{"$error":"#REF!"}},{"$f":"IF('Races, Positions & Points'!AD28=\"\",\"\",'Races, Positions & Points'!AD28)","v":""},{"$f":"IF('Races, Positions & Points'!#REF!=\"\",\"\",'Races, Positions & Points'!#REF!)","v":{"$error":"#REF!"}},{"$f":"IF('Races, Positions & Points'!AR28=\"\",\"\",'Races, Positions & Points'!AR28)","v":""},{"$f":"IF('Races, Positions & Points'!AU28=\"\",\"\",'Races, Positions & Points'!AU28)","v":""},{"$f":"IF('Races, Positions & Points'!AX28=\"\",\"\",'Races, Positions & Points'!AX28)","v":""},{"$f":"IF('Races, Positions & Points'!BA28=\"\",\"\",'Races, Positions & Points'!BA28)","v":""},{"$f":"IF('Races, Positions & Points'!BJ28=\"\",\"\",'Races, Positions & Points'!BJ28)","v":""},{"$f":"IF('Races, Positions & Points'!BN28=\"\",\"\",'Races, Positions & Points'!BN28)","v":""},{"$f":"IF('Races, Positions & Points'!#REF!=\"\",\"\",'Races, Positions & Points'!#REF!)","v":{"$error":"#REF!"}},{"$f":"IF('Races, Positions & Points'!#REF!=\"\",\"\",'Races, Positions & Points'!#REF!)","v":{"$error":"#REF!"}},{"$f":"IF('Races, Positions & Points'!BW28=\"\",\"\",'Races, Positions & Points'!BW28)","v":""},{"$f":"IF('Races, Positions & Points'!#REF!=\"\",\"\",'Races, Positions & Points'!#REF!)","v":{"$error":"#REF!"}},{"$f":"IF('Races, Positions & Points'!#REF!=\"\",\"\",'Races, Positions & Points'!#REF!)","v":{"$error":"#REF!"}},{"$f":"IF('Races, Positions & Points'!CI28=\"\",\"\",'Races, Positions & Points'!CI28)","v":""},{"$f":"IF('Races, Positions & Points'!CO28=\"\",\"\",'Races, Positions & Points'!CO28)","v":""},{"$f":"IF('Races, Positions & Points'!CZ28=\"\",\"\",'Races, Positions & Points'!CZ28)","v":""},{"$f":"IF('Races, Positions & Points'!CU28=\"\",\"\",'Races, Positions & Points'!CU28)","v":""},{"$f":"IF('Races, Positions & Points'!DC28=\"\",\"\",'Races, Positions & Points'!DC28)","v":461.79},{"$f":"IF('Races, Positions & Points'!DF28=\"\",\"\",'Races, Positions & Points'!DF28)","v":""},{"$f":"IF('Races, Positions & Points'!DP28=\"\",\"\",'Races, Positions & Points'!DP28)","v":398.14},{"$f":"IF('Races, Positions & Points'!DI28=\"\",\"\",'Races, Positions & Points'!DI28)","v":557.13},{"$f":"IF('Races, Positions & Points'!DS28=\"\",\"\",'Races, Positions & Points'!DS28)","v":10},{"$f":"IF('Races, Positions & Points'!#REF!=\"\",\"\",'Races, Positions & Points'!#REF!)","v":{"$error":"#REF!"}},{"$f":"IF('Races, Positions & Points'!DV28=\"\",\"\",'Races, Positions & Points'!DV28)","v":""},{"$f":"IF('Races, Positions & Points'!DY28=\"\",\"\",'Races, Positions & Points'!DY28)","v":""},{"$f":"IF('Races, Positions & Points'!EB28=\"\",\"\",'Races, Positions & Points'!EB28)","v":""},{"$f":"IF('Races, Positions & Points'!#REF!=\"\",\"\",'Races, Positions & Points'!#REF!)","v":{"$error":"#REF!"}},{"$f":"IF('Races, Positions & Points'!EI28=\"\",\"\",'Races, Positions & Points'!EI28)","v":""},{"$f":"IF('Races, Positions & Points'!EM28=\"\",\"\",'Races, Positions & Points'!EM28)","v":""},{"$f":"IF('Races, Positions & Points'!EN28=\"\",\"\",'Races, Positions & Points'!EN28)","v":""},{"$f":"IF('Races, Positions & Points'!EP28=\"\",\"\",'Races, Positions & Points'!EP28)","v":""},{"$f":"IF('Races, Positions & Points'!ES28=\"\",\"\",'Races, Positions & Points'!ES28)","v":""},{"$f":"IF('Races, Positions & Points'!EV28=\"\",\"\",'Races, Positions & Points'!EV28)","v":""},{"$f":"IF('Races, Positions & Points'!EY28=\"\",\"\",'Races, Positions & Points'!EY28)","v":""},{"$f":"IF('Races, Positions & Points'!FB28=\"\",\"\",'Races, Positions & Points'!FB28)","v":""},{"$f":"IF('Races, Positions & Points'!#REF!=\"\",\"\",'Races, Positions & Points'!#REF!)","v":{"$error":"#REF!"}},{"$f":"IF('Races, Positions & Points'!#REF!=\"\",\"\",'Races, Positions & Points'!#REF!)","v":{"$error":"#REF!"}},{"$f":"IF('Races, Positions & Points'!#REF!=\"\",\"\",'Races, Positions & Points'!#REF!)","v":{"$error":"#REF!"}},{"$f":"IF('Races, Positions & Points'!#REF!=\"\",\"\",'Races, Positions & Points'!#REF!)","v":{"$error":"#REF!"}},{"$f":"IF('Races, Positions & Points'!#REF!=\"\",\"\",'Races, Positions & Points'!#REF!)","v":{"$error":"#REF!"}},{"$f":"IF('Races, Positions & Points'!#REF!=\"\",\"\",'Races, Positions & Points'!#REF!)","v":{"$error":"#REF!"}},null,{"$error":"#REF!"},{"$error":"#REF!"},{"$error":"#REF!"},{"$error":"#REF!"},{"$error":"#REF!"},{"$error":"#REF!"},null,{"$f":"'Races, Positions & Points'!E28","v":22203},{"$f":"'Races, Positions & Points'!#REF!","v":{"$error":"#REF!"}},{"$error":"#REF!"},"","",{"$error":"#REF!"},"",{"$error":"#REF!"},{"$error":"#REF!"},{"$error":"#REF!"},null,{"$error":"#REF!"},"","",{"$error":"#REF!"},"",{"$error":"#REF!"},{"$error":"#REF!"},{"$error":"#REF!"},null,{"$error":"#REF!"},{"$error":"#REF!"},{"$error":"#REF!"},{"$error":"#REF!"},"",{"$error":"#REF!"},{"$error":"#REF!"},"",{"$error":"#REF!"},"","","","",398.14,"",{"$error":"#REF!"},null,{"$error":"#REF!"},"","","",null,{"$error":"#REF!"},"","","",null,{"$error":"#REF!"},{"$error":"#REF!"},{"$error":"#REF!"},"",557.13,{"$error":"#REF!"},{"$error":"#REF!"},"","",{"$error":"#REF!"}]
[{"$f":"'Races, Positions & Points'!#REF!","v":{"$error":"#REF!"}},{"$f":"IF('Races, Positions & Points'!#REF!=\"\",\"\",'Races, Positions & Points'!#REF!)","v":{"$error":"#REF!"}},{"$f":"IF('Races, Positions & Points'!#REF!=\"\",\"\",'Races, Positions & Points'!#REF!)","v":{"$error":"#REF!"}},{"$f":"IF('Races, Positions & Points'!#REF!=\"\",\"\",'Races, Positions & Points'!#REF!)","v":{"$error":"#REF!"}},{"$f":"IF('Races, Positions & Points'!#REF!=\"\",\"\",'Races, Positions & Points'!#REF!)","v":{"$error":"#REF!"}},{"$f":"IF('Races, Positions & Points'!#REF!=\"\",\"\",'Races, Positions & Points'!#REF!)","v":{"$error":"#REF!"}},{"$f":"IF('Races, Positions & Points'!#REF!=\"\",\"\",'Races, Positions & Points'!#REF!)","v":{"$error":"#REF!"}},{"$f":"IF('Races, Positions & Points'!#REF!=\"\",\"\",'Races, Positions & Points'!#REF!)","v":{"$error":"#REF!"}},{"$f":"IF('Races, Positions & Points'!#REF!=\"\",\"\",'Races, Positions & Points'!#REF!)","v":{"$error":"#REF!"}},{"$f":"IF('Races, Positions & Points'!#REF!=\"\",\"\",'Races, Positions & Points'!#REF!)","v":{"$error":"#REF!"}},{"$f":"IF('Races, Positions & Points'!#REF!=\"\",\"\",'Races, Positions & Points'!#REF!)","v":{"$error":"#REF!"}},{"$f":"IF('Races, Positions & Points'!#REF!=\"\",\"\",'Races, Positions & Points'!#REF!)","v":{"$error":"#REF!"}},{"$f":"IF('Races, Positions & Points'!#REF!=\"\",\"\",'Races, Positions & Points'!#REF!)","v":{"$error":"#REF!"}},{"$f":"IF('Races, Positions & Points'!#REF!=\"\",\"\",'Races, Positions & Points'!#REF!)","v":{"$error":"#REF!"}},{"$f":"IF('Races, Positions & Points'!#REF!=\"\",\"\",'Races, Positions & Points'!#REF!)","v":{"$error":"#REF!"}},{"$f":"IF('Races, Positions & Points'!#REF!=\"\",\"\",'Races, Positions & Points'!#REF!)","v":{"$error":"#REF!"}},{"$f":"IF('Races, Positions & Points'!#REF!=\"\",\"\",'Races, Positions & Points'!#REF!)","v":{"$error":"#REF!"}},{"$f":"IF('Races, Positions & Points'!#REF!=\"\",\"\",'Races, Positions & Points'!#REF!)","v":{"$error":"#REF!"}},{"$f":"IF('Races, Positions & Points'!#REF!=\"\",\"\",'Races, Positions & Points'!#REF!)","v":{"$error":"#REF!"}},{"$f":"IF('Races, Positions & Points'!#REF!=\"\",\"\",'Races, Positions & Points'!#REF!)","v":{"$error":"#REF!"}},{"$f":"IF('Races, Positions & Points'!#REF!=\"\",\"\",'Races, Positions & Points'!#REF!)","v":{"$error":"#REF!"}},{"$f":"IF('Races, Positions & Points'!#REF!=\"\",\"\",'Races, Positions & Points'!#REF!)","v":{"$error":"#REF!"}},{"$f":"IF('Races, Positions & Points'!#REF!=\"\",\"\",'Races, Positions & Points'!#REF!)","v":{"$error":"#REF!"}},{"$f":"IF('Races, Positions & Points'!#REF!=\"\",\"\",'Races, Positions & Points'!#REF!)","v":{"$error":"#REF!"}},{"$f":"IF('Races, Positions & Points'!#REF!=\"\",\"\",'Races, Positions & Points'!#REF!)","v":{"$error":"#REF!"}},{"$f":"IF('Races, Positions & Points'!#REF!=\"\",\"\",'Races, Positions & Points'!#REF!)","v":{"$error":"#REF!"}},{"$f":"IF('Races, Positions & Points'!#REF!=\"\",\"\",'Races, Positions & Points'!#REF!)","v":{"$error":"#REF!"}},{"$f":"IF('Races, Positions & Points'!#REF!=\"\",\"\",'Races, Positions & Points'!#REF!)","v":{"$error":"#REF!"}},{"$f":"IF('Races, Positions & Points'!#REF!=\"\",\"\",'Races, Positions & Points'!#REF!)","v":{"$error":"#REF!"}},{"$f":"IF('Races, Positions & Points'!#REF!=\"\",\"\",'Races, Positions & Points'!#REF!)","v":{"$error":"#REF!"}},{"$f":"IF('Races, Positions & Points'!#REF!=\"\",\"\",'Races, Positions & Points'!#REF!)","v":{"$error":"#REF!"}},{"$f":"IF('Races, Positions & Points'!#REF!=\"\",\"\",'Races, Positions & Points'!#REF!)","v":{"$error":"#REF!"}},{"$f":"IF('Races, Positions & Points'!#REF!=\"\",\"\",'Races, Positions & Points'!#REF!)","v":{"$error":"#REF!"}},{"$f":"IF('Races, Positions & Points'!#REF!=\"\",\"\",'Races, Positions & Points'!#REF!)","v":{"$error":"#REF!"}},{"$f":"IF('Races, Positions & Points'!#REF!=\"\",\"\",'Races, Positions & Points'!#REF!)","v":{"$error":"#REF!"}},{"$f":"IF('Races, Positions & Points'!#REF!=\"\",\"\",'Races, Positions & Points'!#REF!)","v":{"$error":"#REF!"}},{"$f":"IF('Races, Positions & Points'!#REF!=\"\",\"\",'Races, Positions & Points'!#REF!)","v":{"$error":"#REF!"}},{"$f":"IF('Races, Positions & Points'!#REF!=\"\",\"\",'Races, Positions & Points'!#REF!)","v":{"$error":"#REF!"}},{"$f":"IF('Races, Positions & Points'!#REF!=\"\",\"\",'Races, Positions & Points'!#REF!)","v":{"$error":"#REF!"}},{"$f":"IF('Races, Positions & Points'!#REF!=\"\",\"\",'Races, Positions & Points'!#REF!)","v":{"$error":"#REF!"}},{"$f":"IF('Races, Positions & Points'!#REF!=\"\",\"\",'Races, Positions & Points'!#REF!)","v":{"$error":"#REF!"}},{"$f":"IF('Races, Positions & Points'!#REF!=\"\",\"\",'Races, Positions & Points'!#REF!)","v":{"$error":"#REF!"}},{"$f":"IF('Races, Positions & Points'!#REF!=\"\",\"\",'Races, Positions & Points'!#REF!)","v":{"$error":"#REF!"}},{"$f":"IF('Races, Positions & Points'!#REF!=\"\",\"\",'Races, Positions & Points'!#REF!)","v":{"$error":"#REF!"}},{"$f":"IF('Races, Positions & Points'!#REF!=\"\",\"\",'Races, Positions & Points'!#REF!)","v":{"$error":"#REF!"}},{"$f":"IF('Races, Positions & Points'!#REF!=\"\",\"\",'Races, Positions & Points'!#REF!)","v":{"$error":"#REF!"}},{"$f":"IF('Races, Positions & Points'!#REF!=\"\",\"\",'Races, Positions & Points'!#REF!)","v":{"$error":"#REF!"}},{"$f":"IF('Races, Positions & Points'!#REF!=\"\",\"\",'Races, Positions & Points'!#REF!)","v":{"$error":"#REF!"}},{"$f":"IF('Races, Positions & Points'!#REF!=\"\",\"\",'Races, Positions & Points'!#REF!)","v":{"$error":"#REF!"}},{"$f":"IF('Races, Positions & Points'!#REF!=\"\",\"\",'Races, Positions & Points'!#REF!)","v":{"$error":"#REF!"}},{"$f":"IF('Races, Positions & Points'!#REF!=\"\",\"\",'Races, Positions & Points'!#REF!)","v":{"$error":"#REF!"}},null,{"$error":"#REF!"},{"$error":"#REF!"},{"$error":"#REF!"},{"$error":"#REF!"},{"$error":"#REF!"},{"$error":"#REF!"},null,{"$f":"'Races, Positions & Points'!#REF!","v":{"$error":"#REF!"}},{"$f":"'Races, Positions & Points'!#REF!","v":{"$error":"#REF!"}},{"$error":"#REF!"},"","",{"$error":"#REF!"},"",{"$error":"#REF!"},{"$error":"#REF!"},{"$error":"#REF!"},null,{"$error":"#REF!"},"","",{"$error":"#REF!"},"",{"$error":"#REF!"},{"$error":"#REF!"},{"$error":"#REF!"},null,{"$error":"#REF!"},{"$error":"#REF!"},{"$error":"#REF!"},{"$error":"#REF!"},{"$error":"#REF!"},{"$error":"#REF!"},{"$error":"#REF!"},{"$error":"#REF!"},{"$error":"#REF!"},{"$error":"#REF!"},{"$error":"#REF!"},{"$error":"#REF!"},{"$error":"#REF!"},{"$error":"#REF!"},{"$error":"#REF!"},{"$error":"#REF!"},null,{"$error":"#REF!"},"","","",null,{"$error":"#REF!"},"","","",null,{"$error":"#REF!"},{"$error":"#REF!"},{"$error":"#REF!"},{"$error":"#REF!"},{"$error":"#REF!"},{"$error":"#REF!"},{"$error":"#REF!"},{"$error":"#REF!"},{"$error":"#REF!"},{"$error":"#REF!"}]
[{"$f":"'Races, Positions & Points'!#REF!","v":{"$error":"#REF!"}},{"$f":"IF('Races, Positions & Points'!#REF!=\"\",\"\",'Races, Positions & Points'!#REF!)","v":{"$error":"#REF!"}},{"$f":"IF('Races, Positions & Points'!#REF!=\"\",\"\",'Races, Positions & Points'!#REF!)","v":{"$error":"#REF!"}},{"$f":"IF('Races, Positions & Points'!#REF!=\"\",\"\",'Races, Positions & Points'!#REF!)","v":{"$error":"#REF!"}},{"$f":"IF('Races, Positions & Points'!#REF!=\"\",\"\",'Races, Positions & Points'!#REF!)","v":{"$error":"#REF!"}},{"$f":"IF('Races, Positions & Points'!#REF!=\"\",\"\",'Races, Positions & Points'!#REF!)","v":{"$error":"#REF!"}},{"$f":"IF('Races, Positions & Points'!#REF!=\"\",\"\",'Races, Positions & Points'!#REF!)","v":{"$error":"#REF!"}},{"$f":"IF('Races, Positions & Points'!#REF!=\"\",\"\",'Races, Positions & Points'!#REF!)","v":{"$error":"#REF!"}},{"$f":"IF('Races, Positions & Points'!#REF!=\"\",\"\",'Races, Positions & Points'!#REF!)","v":{"$error":"#REF!"}},{"$f":"IF('Races, Positions & Points'!#REF!=\"\",\"\",'Races, Positions & Points'!#REF!)","v":{"$error":"#REF!"}},{"$f":"IF('Races, Positions & Points'!#REF!=\"\",\"\",'Races, Positions & Points'!#REF!)","v":{"$error":"#REF!"}},{"$f":"IF('Races, Positions & Points'!#REF!=\"\",\"\",'Races, Positions & Points'!#REF!)","v":{"$error":"#REF!"}},{"$f":"IF('Races, Positions & Points'!#REF!=\"\",\"\",'Races, Positions & Points'!#REF!)","v":{"$error":"#REF!"}},{"$f":"IF('Races, Positions & Points'!#REF!=\"\",\"\",'Races, Positions & Points'!#REF!)","v":{"$error":"#REF!"}},{"$f":"IF('Races, Positions & Points'!#REF!=\"\",\"\",'Races, Positions & Points'!#REF!)","v":{"$error":"#REF!"}},{"$f":"IF('Races, Positions & Points'!#REF!=\"\",\"\",'Races, Positions & Points'!#REF!)","v":{"$error":"#REF!"}},{"$f":"IF('Races, Positions & Points'!#REF!=\"\",\"\",'Races, Positions & Points'!#REF!)","v":{"$error":"#REF!"}},{"$f":"IF('Races, Positions & Points'!#REF!=\"\",\"\",'Races, Positions & Points'!#REF!)","v":{"$error":"#REF!"}},{"$f":"IF('Races, Positions & Points'!#REF!=\"\",\"\",'Races, Positions & Points'!#REF!)","v":{"$error":"#REF!"}},{"$f":"IF('Races, Positions & Points'!#REF!=\"\",\"\",'Races, Positions & Points'!#REF!)","v":{"$error":"#REF!"}},{"$f":"IF('Races, Positions & Points'!#REF!=\"\",\"\",'Races, Positions & Points'!#REF!)","v":{"$error":"#REF!"}},{"$f":"IF('Races, Positions & Points'!#REF!=\"\",\"\",'Races, Positions & Points'!#REF!)","v":{"$error":"#REF!"}},{"$f":"IF('Races, Positions & Points'!#REF!=\"\",\"\",'Races, Positions & Points'!#REF!)","v":{"$error":"#REF!"}},{"$f":"IF('Races, Positions & Points'!#REF!=\"\",\"\",'Races, Positions & Points'!#REF!)","v":{"$error":"#REF!"}},{"$f":"IF('Races, Positions & Points'!#REF!=\"\",\"\",'Races, Positions & Points'!#REF!)","v":{"$error":"#REF!"}},{"$f":"IF('Races, Positions & Points'!#REF!=\"\",\"\",'Races, Positions & Points'!#REF!)","v":{"$error":"#REF!"}},{"$f":"IF('Races, Positions & Points'!#REF!=\"\",\"\",'Races, Positions & Points'!#REF!)","v":{"$error":"#REF!"}},{"$f":"IF('Races, Positions & Points'!#REF!=\"\",\"\",'Races, Positions & Points'!#REF!)","v":{"$error":"#REF!"}},{"$f":"IF('Races, Positions & Points'!#REF!=\"\",\"\",'Races, Positions & Points'!#REF!)","v":{"$error":"#REF!"}},{"$f":"IF('Races, Positions & Points'!#REF!=\"\",\"\",'Races, Positions & Points'!#REF!)","v":{"$error":"#REF!"}},{"$f":"IF('Races, Positions & Points'!#REF!=\"\",\"\",'Races, Positions & Points'!#REF!)","v":{"$error":"#REF!"}},{"$f":"IF('Races, Positions & Points'!#REF!=\"\",\"\",'Races, Positions & Points'!#REF!)","v":{"$error":"#REF!"}},{"$f":"IF('Races, Positions & Points'!#REF!=\"\",\"\",'Races, Positions & Points'!#REF!)","v":{"$error":"#REF!"}},{"$f":"IF('Races, Positions & Points'!#REF!=\"\",\"\",'Races, Positions & Points'!#REF!)","v":{"$error":"#REF!"}},{"$f":"IF('Races, Positions & Points'!#REF!=\"\",\"\",'Races, Positions & Points'!#REF!)","v":{"$error":"#REF!"}},{"$f":"IF('Races, Positions & Points'!#REF!=\"\",\"\",'Races, Positions & Points'!#REF!)","v":{"$error":"#REF!"}},{"$f":"IF('Races, Positions & Points'!#REF!=\"\",\"\",'Races, Positions & Points'!#REF!)","v":{"$error":"#REF!"}},{"$f":"IF('Races, Positions & Points'!#REF!=\"\",\"\",'Races, Positions & Points'!#REF!)","v":{"$error":"#REF!"}},{"$f":"IF('Races, Positions & Points'!#REF!=\"\",\"\",'Races, Positions & Points'!#REF!)","v":{"$error":"#REF!"}},{"$f":"IF('Races, Positions & Points'!#REF!=\"\",\"\",'Races, Positions & Points'!#REF!)","v":{"$error":"#REF!"}},{"$f":"IF('Races, Positions & Points'!#REF!=\"\",\"\",'Races, Positions & Points'!#REF!)","v":{"$error":"#REF!"}},{"$f":"IF('Races, Positions & Points'!#REF!=\"\",\"\",'Races, Positions & Points'!#REF!)","v":{"$error":"#REF!"}},{"$f":"IF('Races, Positions & Points'!#REF!=\"\",\"\",'Races, Positions & Points'!#REF!)","v":{"$error":"#REF!"}},{"$f":"IF('Races, Positions & Points'!#REF!=\"\",\"\",'Races, Positions & Points'!#REF!)","v":{"$error":"#REF!"}},{"$f":"IF('Races, Positions & Points'!#REF!=\"\",\"\",'Races, Positions & Points'!#REF!)","v":{"$error":"#REF!"}},{"$f":"IF('Races, Positions & Points'!#REF!=\"\",\"\",'Races, Positions & Points'!#REF!)","v":{"$error":"#REF!"}},{"$f":"IF('Races, Positions & Points'!#REF!=\"\",\"\",'Races, Positions & Points'!#REF!)","v":{"$error":"#REF!"}},{"$f":"IF('Races, Positions & Points'!#REF!=\"\",\"\",'Races, Positions & Points'!#REF!)","v":{"$error":"#REF!"}},{"$f":"IF('Races, Positions & Points'!#REF!=\"\",\"\",'Races, Positions & Points'!#REF!)","v":{"$error":"#REF!"}},{"$f":"IF('Races, Positions & Points'!#REF!=\"\",\"\",'Races, Positions & Points'!#REF!)","v":{"$error":"#REF!"}},{"$f":"IF('Races, Positions & Points'!#REF!=\"\",\"\",'Races, Positions & Points'!#REF!)","v":{"$error":"#REF!"}},null,{"$error":"#REF!"},{"$error":"#REF!"},{"$error":"#REF!"},{"$error":"#REF!"},{"$error":"#REF!"},{"$error":"#REF!"},null,{"$f":"'Races, Positions & Points'!#REF!","v":{"$error":"#REF!"}},{"$f":"'Races, Positions & Points'!#REF!","v":{"$error":"#REF!"}},{"$error":"#REF!"},"","",{"$error":"#REF!"},"",{"$error":"#REF!"},{"$error":"#REF!"},{"$error":"#REF!"},null,{"$error":"#REF!"},"","",{"$error":"#REF!"},"",{"$error":"#REF!"},{"$error":"#REF!"},{"$error":"#REF!"},null,{"$error":"#REF!"},{"$error":"#REF!"},{"$error":"#REF!"},{"$error":"#REF!"},{"$error":"#REF!"},{"$error":"#REF!"},{"$error":"#REF!"},{"$error":"#REF!"},{"$error":"#REF!"},{"$error":"#REF!"},{"$f":"IF(U80>0,U80,\"\")","v":{"$error":"#REF!"}},{"$f":"IF(MIN(Y80,AO80)>0,MIN(Y80,AO80),\"\")","v":{"$error":"#REF!"}},{"$f":"IF(AA80>0,AA80,\"\")","v":{"$error":"#REF!"}},{"$f":"IF(AD80>0,AD80,\"\")","v":{"$error":"#REF!"}},{"$f":"IF(AJ80>0,AJ80,\"\")","v":{"$error":"#REF!"}},{"$error":"#REF!"},null,{"$error":"#REF!"},"","","",null,{"$error":"#REF!"},"","","",null,{"$error":"#REF!"},{"$error":"#REF!"},{"$error":"#REF!"},{"$error":"#REF!"},{"$error":"#REF!"},{"$f":"IF(J80>0,J80,\"\")","v":{"$error":"#REF!"}},{"$f":"IF(MIN(AM80,AY80)>0,MIN(AM80,AY80),\"\")","v":{"$error":"#REF!"}},{"$f":"IF(R80>0,R80,\"\")","v":{"$error":"#REF!"}},{"$error":"#REF!"},{"$error":"#REF!"}]
[{"$f":"'Races, Positions & Points'!#REF!","v":{"$error":"#REF!"}},{"$f":"IF('Races, Positions & Points'!#REF!=\"\",\"\",'Races, Positions & Points'!#REF!)","v":{"$error":"#REF!"}},{"$f":"IF('Races, Positions & Points'!#REF!=\"\",\"\",'Races, Positions & Points'!#REF!)","v":{"$error":"#REF!"}},{"$f":"IF('Races, Positions & Points'!#REF!=\"\",\"\",'Races, Positions & Points'!#REF!)","v":{"$error":"#REF!"}},{"$f":"IF('Races, Positions & Points'!#REF!=\"\",\"\",'Races, Positions & Points'!#REF!)","v":{"$error":"#REF!"}},{"$f":"IF('Races, Positions & Points'!#REF!=\"\",\"\",'Races, Positions & Points'!#REF!)","v":{"$error":"#REF!"}},{"$f":"IF('Races, Positions & Points'!#REF!=\"\",\"\",'Races, Positions & Points'!#REF!)","v":{"$error":"#REF!"}},{"$f":"IF('Races, Positions & Points'!#REF!=\"\",\"\",'Races, Positions & Points'!#REF!)","v":{"$error":"#REF!"}},{"$f":"IF('Races, Positions & Points'!#REF!=\"\",\"\",'Races, Positions & Points'!#REF!)","v":{"$error":"#REF!"}},{"$f":"IF('Races, Positions & Points'!#REF!=\"\",\"\",'Races, Positions & Points'!#REF!)","v":{"$error":"#REF!"}},{"$f":"IF('Races, Positions & Points'!#REF!=\"\",\"\",'Races, Positions & Points'!#REF!)","v":{"$error":"#REF!"}},{"$f":"IF('Races, Positions & Points'!#REF!=\"\",\"\",'Races, Positions & Points'!#REF!)","v":{"$error":"#REF!"}},{"$f":"IF('Races, Positions & Points'!#REF!=\"\",\"\",'Races, Positions & Points'!#REF!)","v":{"$error":"#REF!"}},{"$f":"IF('Races, Positions & Points'!#REF!=\"\",\"\",'Races, Positions & Points'!#REF!)","v":{"$error":"#REF!"}},{"$f":"IF('Races, Positions & Points'!#REF!=\"\",\"\",'Races, Positions & Points'!#REF!)","v":{"$error":"#REF!"}},{"$f":"IF('Races, Positions & Points'!#REF!=\"\",\"\",'Races, Positions & Points'!#REF!)","v":{"$error":"#REF!"}},{"$f":"IF('Races, Positions & Points'!#REF!=\"\",\"\",'Races, Positions & Points'!#REF!)","v":{"$error":"#REF!"}},{"$f":"IF('Races, Positions & Points'!#REF!=\"\",\"\",'Races, Positions & Points'!#REF!)","v":{"$error":"#REF!"}},{"$f":"IF('Races, Positions & Points'!#REF!=\"\",\"\",'Races, Positions & Points'!#REF!)","v":{"$error":"#REF!"}},{"$f":"IF('Races, Positions & Points'!#REF!=\"\",\"\",'Races, Positions & Points'!#REF!)","v":{"$error":"#REF!"}},{"$f":"IF('Races, Positions & Points'!#REF!=\"\",\"\",'Races, Positions & Points'!#REF!)","v":{"$error":"#REF!"}},{"$f":"IF('Races, Positions & Points'!#REF!=\"\",\"\",'Races, Positions & Points'!#REF!)","v":{"$error":"#REF!"}},{"$f":"IF('Races, Positions & Points'!#REF!=\"\",\"\",'Races, Positions & Points'!#REF!)","v":{"$error":"#REF!"}},{"$f":"IF('Races, Positions & Points'!#REF!=\"\",\"\",'Races, Positions & Points'!#REF!)","v":{"$error":"#REF!"}},{"$f":"IF('Races, Positions & Points'!#REF!=\"\",\"\",'Races, Positions & Points'!#REF!)","v":{"$error":"#REF!"}},{"$f":"IF('Races, Positions & Points'!#REF!=\"\",\"\",'Races, Positions & Points'!#REF!)","v":{"$error":"#REF!"}},{"$f":"IF('Races, Positions & Points'!#REF!=\"\",\"\",'Races, Positions & Points'!#REF!)","v":{"$error":"#REF!"}},{"$f":"IF('Races, Positions & Points'!#REF!=\"\",\"\",'Races, Positions & Points'!#REF!)","v":{"$error":"#REF!"}},{"$f":"IF('Races, Positions & Points'!#REF!=\"\",\"\",'Races, Positions & Points'!#REF!)","v":{"$error":"#REF!"}},{"$f":"IF('Races, Positions & Points'!#REF!=\"\",\"\",'Races, Positions & Points'!#REF!)","v":{"$error":"#REF!"}},{"$f":"IF('Races, Positions & Points'!#REF!=\"\",\"\",'Races, Positions & Points'!#REF!)","v":{"$error":"#REF!"}},{"$f":"IF('Races, Positions & Points'!#REF!=\"\",\"\",'Races, Positions & Points'!#REF!)","v":{"$error":"#REF!"}},{"$f":"IF('Races, Positions & Points'!#REF!=\"\",\"\",'Races, Positions & Points'!#REF!)","v":{"$error":"#REF!"}},{"$f":"IF('Races, Positions & Points'!#REF!=\"\",\"\",'Races, Positions & Points'!#REF!)","v":{"$error":"#REF!"}},{"$f":"IF('Races, Positions & Points'!#REF!=\"\",\"\",'Races, Positions & Points'!#REF!)","v":{"$error":"#REF!"}},{"$f":"IF('Races, Positions & Points'!#REF!=\"\",\"\",'Races, Positions & Points'!#REF!)","v":{"$error":"#REF!"}},{"$f":"IF('Races, Positions & Points'!#REF!=\"\",\"\",'Races, Positions & Points'!#REF!)","v":{"$error":"#REF!"}},{"$f":"IF('Races, Positions & Points'!#REF!=\"\",\"\",'Races, Positions & Points'!#REF!)","v":{"$error":"#REF!"}},{"$f":"IF('Races, Positions & Points'!#REF!=\"\",\"\",'Races, Positions & Points'!#REF!)","v":{"$error":"#REF!"}},{"$f":"IF('Races, Positions & Points'!#REF!=\"\",\"\",'Races, Positions & Points'!#REF!)","v":{"$error":"#REF!"}},{"$f":"IF('Races, Positions & Points'!#REF!=\"\",\"\",'Races, Positions & Points'!#REF!)","v":{"$error":"#REF!"}},{"$f":"IF('Races, Positions & Points'!#REF!=\"\",\"\",'Races, Positions & Points'!#REF!)","v":{"$error":"#REF!"}},{"$f":"IF('Races, Positions & Points'!#REF!=\"\",\"\",'Races, Positions & Points'!#REF!)","v":{"$error":"#REF!"}},{"$f":"IF('Races, Positions & Points'!#REF!=\"\",\"\",'Races, Positions & Points'!#REF!)","v":{"$error":"#REF!"}},{"$f":"IF('Races, Positions & Points'!#REF!=\"\",\"\",'Races, Positions & Points'!#REF!)","v":{"$error":"#REF!"}},{"$f":"IF('Races, Positions & Points'!#REF!=\"\",\"\",'Races, Positions & Points'!#REF!)","v":{"$error":"#REF!"}},{"$f":"IF('Races, Positions & Points'!#REF!=\"\",\"\",'Races, Positions & Points'!#REF!)","v":{"$error":"#REF!"}},{"$f":"IF('Races, Positions & Points'!#REF!=\"\",\"\",'Races, Positions & Points'!#REF!)","v":{"$error":"#REF!"}},{"$f":"IF('Races, Positions & Points'!#REF!=\"\",\"\",'Races, Positions & Points'!#REF!)","v":{"$error":"#REF!"}},{"$f":"IF('Races, Positions & Points'!#REF!=\"\",\"\",'Races, Positions & Points'!#REF!)","v":{"$error":"#REF!"}},{"$f":"IF('Races, Positions & Points'!#REF!=\"\",\"\",'Races, Positions & Points'!#REF!)","v":{"$error":"#REF!"}},null,{"$error":"#REF!"},{"$error":"#REF!"},{"$error":"#REF!"},{"$error":"#REF!"},{"$error":"#REF!"},{"$error":"#REF!"},null,{"$f":"'Races, Positions & Points'!#REF!","v":{"$error":"#REF!"}},{"$f":"'Races, Positions & Points'!#REF!","v":{"$error":"#REF!"}},{"$error":"#REF!"},"","",{"$error":"#REF!"},"",{"$error":"#REF!"},{"$error":"#REF!"},{"$error":"#REF!"},null,{"$error":"#REF!"},"","",{"$error":"#REF!"},"",{"$error":"#REF!"},{"$error":"#REF!"},{"$error":"#REF!"},null,{"$error":"#REF!"},{"$error":"#REF!"},{"$error":"#REF!"},{"$error":"#REF!"},{"$error":"#REF!"},{"$error":"#REF!"},{"$error":"#REF!"},{"$error":"#REF!"},{"$error":"#REF!"},{"$error":"#REF!"},{"$f":"IF(U81>0,U81,\"\")","v":{"$error":"#REF!"}},{"$f":"IF(MIN(Y81,AO81)>0,MIN(Y81,AO81),\"\")","v":{"$error":"#REF!"}},{"$f":"IF(AA81>0,AA81,\"\")","v":{"$error":"#REF!"}},{"$f":"IF(AD81>0,AD81,\"\")","v":{"$error":"#REF!"}},{"$f":"IF(AJ81>0,AJ81,\"\")","v":{"$error":"#REF!"}},{"$error":"#REF!"},null,{"$error":"#REF!"},"","","",null,{"$error":"#REF!"},"","","",null,{"$error":"#REF!"},{"$error":"#REF!"},{"$error":"#REF!"},{"$error":"#REF!"},{"$error":"#REF!"},{"$f":"IF(J81>0,J81,\"\")","v":{"$error":"#REF!"}},{"$f":"IF(MIN(AM81,AY81)>0,MIN(AM81,AY81),\"\")","v":{"$error":"#REF!"}},{"$f":"IF(R81>0,R81,\"\")","v":{"$error":"#REF!"}},{"$error":"#REF!"},{"$error":"#REF!"}]
[{"$f":"'Races, Positions & Points'!#REF!","v":{"$error":"#REF!"}},{"$f":"IF('Races, Positions & Points'!#REF!=\"\",\"\",'Races, Positions & Points'!#REF!)","v":{"$error":"#REF!"}},{"$f":"IF('Races, Positions & Points'!#REF!=\"\",\"\",'Races, Positions & Points'!#REF!)","v":{"$error":"#REF!"}},{"$f":"IF('Races, Positions & Points'!#REF!=\"\",\"\",'Races, Positions & Points'!#REF!)","v":{"$error":"#REF!"}},{"$f":"IF('Races, Positions & Points'!#REF!=\"\",\"\",'Races, Positions & Points'!#REF!)","v":{"$error":"#REF!"}},{"$f":"IF('Races, Positions & Points'!#REF!=\"\",\"\",'Races, Positions & Points'!#REF!)","v":{"$error":"#REF!"}},{"$f":"IF('Races, Positions & Points'!#REF!=\"\",\"\",'Races, Positions & Points'!#REF!)","v":{"$error":"#REF!"}},{"$f":"IF('Races, Positions & Points'!#REF!=\"\",\"\",'Races, Positions & Points'!#REF!)","v":{"$error":"#REF!"}},{"$f":"IF('Races, Positions & Points'!#REF!=\"\",\"\",'Races, Positions & Points'!#REF!)","v":{"$error":"#REF!"}},{"$f":"IF('Races, Positions & Points'!#REF!=\"\",\"\",'Races, Positions & Points'!#REF!)","v":{"$error":"#REF!"}},{"$f":"IF('Races, Positions & Points'!#REF!=\"\",\"\",'Races, Positions & Points'!#REF!)","v":{"$error":"#REF!"}},{"$f":"IF('Races, Positions & Points'!#REF!=\"\",\"\",'Races, Positions & Points'!#REF!)","v":{"$error":"#REF!"}},{"$f":"IF('Races, Positions & Points'!#REF!=\"\",\"\",'Races, Positions & Points'!#REF!)","v":{"$error":"#REF!"}},{"$f":"IF('Races, Positions & Points'!#REF!=\"\",\"\",'Races, Positions & Points'!#REF!)","v":{"$error":"#REF!"}},{"$f":"IF('Races, Positions & Points'!#REF!=\"\",\"\",'Races, Positions & Points'!#REF!)","v":{"$error":"#REF!"}},{"$f":"IF('Races, Positions & Points'!#REF!=\"\",\"\",'Races, Positions & Points'!#REF!)","v":{"$error":"#REF!"}},{"$f":"IF('Races, Positions & Points'!#REF!=\"\",\"\",'Races, Positions & Points'!#REF!)","v":{"$error":"#REF!"}},{"$f":"IF('Races, Positions & Points'!#REF!=\"\",\"\",'Races, Positions & Points'!#REF!)","v":{"$error":"#REF!"}},{"$f":"IF('Races, Positions & Points'!#REF!=\"\",\"\",'Races, Positions & Points'!#REF!)","v":{"$error":"#REF!"}},{"$f":"IF('Races, Positions & Points'!#REF!=\"\",\"\",'Races, Positions & Points'!#REF!)","v":{"$error":"#REF!"}},{"$f":"IF('Races, Positions & Points'!#REF!=\"\",\"\",'Races, Positions & Points'!#REF!)","v":{"$error":"#REF!"}},{"$f":"IF('Races, Positions & Points'!#REF!=\"\",\"\",'Races, Positions & Points'!#REF!)","v":{"$error":"#REF!"}},{"$f":"IF('Races, Positions & Points'!#REF!=\"\",\"\",'Races, Positions & Points'!#REF!)","v":{"$error":"#REF!"}},{"$f":"IF('Races, Positions & Points'!#REF!=\"\",\"\",'Races, Positions & Points'!#REF!)","v":{"$error":"#REF!"}},{"$f":"IF('Races, Positions & Points'!#REF!=\"\",\"\",'Races, Positions & Points'!#REF!)","v":{"$error":"#REF!"}},{"$f":"IF('Races, Positions & Points'!#REF!=\"\",\"\",'Races, Positions & Points'!#REF!)","v":{"$error":"#REF!"}},{"$f":"IF('Races, Positions & Points'!#REF!=\"\",\"\",'Races, Positions & Points'!#REF!)","v":{"$error":"#REF!"}},{"$f":"IF('Races, Positions & Points'!#REF!=\"\",\"\",'Races, Positions & Points'!#REF!)","v":{"$error":"#REF!"}},{"$f":"IF('Races, Positions & Points'!#REF!=\"\",\"\",'Races, Positions & Points'!#REF!)","v":{"$error":"#REF!"}},{"$f":"IF('Races, Positions & Points'!#REF!=\"\",\"\",'Races, Positions & Points'!#REF!)","v":{"$error":"#REF!"}},{"$f":"IF('Races, Positions & Points'!#REF!=\"\",\"\",'Races, Positions & Points'!#REF!)","v":{"$error":"#REF!"}},{"$f":"IF('Races, Positions & Points'!#REF!=\"\",\"\",'Races, Positions & Points'!#REF!)","v":{"$error":"#REF!"}},{"$f":"IF('Races, Positions & Points'!#REF!=\"\",\"\",'Races, Positions & Points'!#REF!)","v":{"$error":"#REF!"}},{"$f":"IF('Races, Positions & Points'!#REF!=\"\",\"\",'Races, Positions & Points'!#REF!)","v":{"$error":"#REF!"}},{"$f":"IF('Races, Positions & Points'!#REF!=\"\",\"\",'Races, Positions & Points'!#REF!)","v":{"$error":"#REF!"}},{"$f":"IF('Races, Positions & Points'!#REF!=\"\",\"\",'Races, Positions & Points'!#REF!)","v":{"$error":"#REF!"}},{"$f":"IF('Races, Positions & Points'!#REF!=\"\",\"\",'Races, Positions & Points'!#REF!)","v":{"$error":"#REF!"}},{"$f":"IF('Races, Positions & Points'!#REF!=\"\",\"\",'Races, Positions & Points'!#REF!)","v":{"$error":"#REF!"}},{"$f":"IF('Races, Positions & Points'!#REF!=\"\",\"\",'Races, Positions & Points'!#REF!)","v":{"$error":"#REF!"}},{"$f":"IF('Races, Positions & Points'!#REF!=\"\",\"\",'Races, Positions & Points'!#REF!)","v":{"$error":"#REF!"}},{"$f":"IF('Races, Positions & Points'!#REF!=\"\",\"\",'Races, Positions & Points'!#REF!)","v":{"$error":"#REF!"}},{"$f":"IF('Races, Positions & Points'!#REF!=\"\",\"\",'Races, Positions & Points'!#REF!)","v":{"$error":"#REF!"}},{"$f":"IF('Races, Positions & Points'!#REF!=\"\",\"\",'Races, Positions & Points'!#REF!)","v":{"$error":"#REF!"}},{"$f":"IF('Races, Positions & Points'!#REF!=\"\",\"\",'Races, Positions & Points'!#REF!)","v":{"$error":"#REF!"}},{"$f":"IF('Races, Positions & Points'!#REF!=\"\",\"\",'Races, Positions & Points'!#REF!)","v":{"$error":"#REF!"}},{"$f":"IF('Races, Positions & Points'!#REF!=\"\",\"\",'Races, Positions & Points'!#REF!)","v":{"$error":"#REF!"}},{"$f":"IF('Races, Positions & Points'!#REF!=\"\",\"\",'Races, Positions & Points'!#REF!)","v":{"$error":"#REF!"}},{"$f":"IF('Races, Positions & Points'!#REF!=\"\",\"\",'Races, Positions & Points'!#REF!)","v":{"$error":"#REF!"}},{"$f":"IF('Races, Positions & Points'!#REF!=\"\",\"\",'Races, Positions & Points'!#REF!)","v":{"$error":"#REF!"}},{"$f":"IF('Races, Positions & Points'!#REF!=\"\",\"\",'Races, Positions & Points'!#REF!)","v":{"$error":"#REF!"}},{"$f":"IF('Races, Positions & Points'!#REF!=\"\",\"\",'Races, Positions & Points'!#REF!)","v":{"$error":"#REF!"}},null,{"$error":"#REF!"},{"$error":"#REF!"},{"$error":"#REF!"},{"$error":"#REF!"},{"$error":"#REF!"},{"$error":"#REF!"},null,{"$f":"'Races, Positions & Points'!#REF!","v":{"$error":"#REF!"}},{"$f":"'Races, Positions & Points'!#REF!","v":{"$error":"#REF!"}},{"$error":"#REF!"},"","",{"$error":"#REF!"},"",{"$error":"#REF!"},{"$error":"#REF!"},{"$error":"#REF!"},null,{"$error":"#REF!"},"","",{"$error":"#REF!"},"",{"$error":"#REF!"},{"$error":"#REF!"},{"$error":"#REF!"},null,{"$error":"#REF!"},{"$error":"#REF!"},{"$error":"#REF!"},{"$error":"#REF!"},{"$error":"#REF!"},{"$error":"#REF!"},{"$error":"#REF!"},{"$error":"#REF!"},{"$error":"#REF!"},{"$error":"#REF!"},{"$f":"IF(U82>0,U82,\"\")","v":{"$error":"#REF!"}},{"$f":"IF(MIN(Y82,AO82)>0,MIN(Y82,AO82),\"\")","v":{"$error":"#REF!"}},{"$f":"IF(AA82>0,AA82,\"\")","v":{"$error":"#REF!"}},{"$f":"IF(AD82>0,AD82,\"\")","v":{"$error":"#REF!"}},{"$f":"IF(AJ82>0,AJ82,\"\")","v":{"$error":"#REF!"}},{"$error":"#REF!"},null,{"$error":"#REF!"},"","","",null,{"$error":"#REF!"},"","","",null,{"$error":"#REF!"},{"$error":"#REF!"},{"$error":"#REF!"},{"$error":"#REF!"},{"$error":"#REF!"},{"$f":"IF(J82>0,J82,\"\")","v":{"$error":"#REF!"}},{"$f":"IF(MIN(AM82,AY82)>0,MIN(AM82,AY82),\"\")","v":{"$error":"#REF!"}},{"$f":"IF(R82>0,R82,\"\")","v":{"$error":"#REF!"}},{"$error":"#REF!"},{"$error":"#REF!"}]
[{"$f":"'Races, Positions & Points'!#REF!","v":{"$error":"#REF!"}},{"$f":"IF('Races, Positions & Points'!#REF!=\"\",\"\",'Races, Positions & Points'!#REF!)","v":{"$error":"#REF!"}},{"$f":"IF('Races, Positions & Points'!#REF!=\"\",\"\",'Races, Positions & Points'!#REF!)","v":{"$error":"#REF!"}},{"$f":"IF('Races, Positions & Points'!#REF!=\"\",\"\",'Races, Positions & Points'!#REF!)","v":{"$error":"#REF!"}},{"$f":"IF('Races, Positions & Points'!#REF!=\"\",\"\",'Races, Positions & Points'!#REF!)","v":{"$error":"#REF!"}},{"$f":"IF('Races, Positions & Points'!#REF!=\"\",\"\",'Races, Positions & Points'!#REF!)","v":{"$error":"#REF!"}},{"$f":"IF('Races, Positions & Points'!#REF!=\"\",\"\",'Races, Positions & Points'!#REF!)","v":{"$error":"#REF!"}},{"$f":"IF('Races, Positions & Points'!#REF!=\"\",\"\",'Races, Positions & Points'!#REF!)","v":{"$error":"#REF!"}},{"$f":"IF('Races, Positions & Points'!#REF!=\"\",\"\",'Races, Positions & Points'!#REF!)","v":{"$error":"#REF!"}},{"$f":"IF('Races, Positions & Points'!#REF!=\"\",\"\",'Races, Positions & Points'!#REF!)","v":{"$error":"#REF!"}},{"$f":"IF('Races, Positions & Points'!#REF!=\"\",\"\",'Races, Positions & Points'!#REF!)","v":{"$error":"#REF!"}},{"$f":"IF('Races, Positions & Points'!#REF!=\"\",\"\",'Races, Positions & Points'!#REF!)","v":{"$error":"#REF!"}},{"$f":"IF('Races, Positions & Points'!#REF!=\"\",\"\",'Races, Positions & Points'!#REF!)","v":{"$error":"#REF!"}},{"$f":"IF('Races, Positions & Points'!#REF!=\"\",\"\",'Races, Positions & Points'!#REF!)","v":{"$error":"#REF!"}},{"$f":"IF('Races, Positions & Points'!#REF!=\"\",\"\",'Races, Positions & Points'!#REF!)","v":{"$error":"#REF!"}},{"$f":"IF('Races, Positions & Points'!#REF!=\"\",\"\",'Races, Positions & Points'!#REF!)","v":{"$error":"#REF!"}},{"$f":"IF('Races, Positions & Points'!#REF!=\"\",\"\",'Races, Positions & Points'!#REF!)","v":{"$error":"#REF!"}},{"$f":"IF('Races, Positions & Points'!#REF!=\"\",\"\",'Races, Positions & Points'!#REF!)","v":{"$error":"#REF!"}},{"$f":"IF('Races, Positions & Points'!#REF!=\"\",\"\",'Races, Positions & Points'!#REF!)","v":{"$error":"#REF!"}},{"$f":"IF('Races, Positions & Points'!#REF!=\"\",\"\",'Races, Positions & Points'!#REF!)","v":{"$error":"#REF!"}},{"$f":"IF('Races, Positions & Points'!#REF!=\"\",\"\",'Races, Positions & Points'!#REF!)","v":{"$error":"#REF!"}},{"$f":"IF('Races, Positions & Points'!#REF!=\"\",\"\",'Races, Positions & Points'!#REF!)","v":{"$error":"#REF!"}},{"$f":"IF('Races, Positions & Points'!#REF!=\"\",\"\",'Races, Positions & Points'!#REF!)","v":{"$error":"#REF!"}},{"$f":"IF('Races, Positions & Points'!#REF!=\"\",\"\",'Races, Positions & Points'!#REF!)","v":{"$error":"#REF!"}},{"$f":"IF('Races, Positions & Points'!#REF!=\"\",\"\",'Races, Positions & Points'!#REF!)","v":{"$error":"#REF!"}},{"$f":"IF('Races, Positions & Points'!#REF!=\"\",\"\",'Races, Positions & Points'!#REF!)","v":{"$error":"#REF!"}},{"$f":"IF('Races, Positions & Points'!#REF!=\"\",\"\",'Races, Positions & Points'!#REF!)","v":{"$error":"#REF!"}},{"$f":"IF('Races, Positions & Points'!#REF!=\"\",\"\",'Races, Positions & Points'!#REF!)","v":{"$error":"#REF!"}},{"$f":"IF('Races, Positions & Points'!#REF!=\"\",\"\",'Races, Positions & Points'!#REF!)","v":{"$error":"#REF!"}},{"$f":"IF('Races, Positions & Points'!#REF!=\"\",\"\",'Races, Positions & Points'!#REF!)","v":{"$error":"#REF!"}},{"$f":"IF('Races, Positions & Points'!#REF!=\"\",\"\",'Races, Positions & Points'!#REF!)","v":{"$error":"#REF!"}},{"$f":"IF('Races, Positions & Points'!#REF!=\"\",\"\",'Races, Positions & Points'!#REF!)","v":{"$error":"#REF!"}},{"$f":"IF('Races, Positions & Points'!#REF!=\"\",\"\",'Races, Positions & Points'!#REF!)","v":{"$error":"#REF!"}},{"$f":"IF('Races, Positions & Points'!#REF!=\"\",\"\",'Races, Positions & Points'!#REF!)","v":{"$error":"#REF!"}},{"$f":"IF('Races, Positions & Points'!#REF!=\"\",\"\",'Races, Positions & Points'!#REF!)","v":{"$error":"#REF!"}},{"$f":"IF('Races, Positions & Points'!#REF!=\"\",\"\",'Races, Positions & Points'!#REF!)","v":{"$error":"#REF!"}},{"$f":"IF('Races, Positions & Points'!#REF!=\"\",\"\",'Races, Positions & Points'!#REF!)","v":{"$error":"#REF!"}},{"$f":"IF('Races, Positions & Points'!#REF!=\"\",\"\",'Races, Positions & Points'!#REF!)","v":{"$error":"#REF!"}},{"$f":"IF('Races, Positions & Points'!#REF!=\"\",\"\",'Races, Positions & Points'!#REF!)","v":{"$error":"#REF!"}},{"$f":"IF('Races, Positions & Points'!#REF!=\"\",\"\",'Races, Positions & Points'!#REF!)","v":{"$error":"#REF!"}},{"$f":"IF('Races, Positions & Points'!#REF!=\"\",\"\",'Races, Positions & Points'!#REF!)","v":{"$error":"#REF!"}},{"$f":"IF('Races, Positions & Points'!#REF!=\"\",\"\",'Races, Positions & Points'!#REF!)","v":{"$error":"#REF!"}},{"$f":"IF('Races, Positions & Points'!#REF!=\"\",\"\",'Races, Positions & Points'!#REF!)","v":{"$error":"#REF!"}},{"$f":"IF('Races, Positions & Points'!#REF!=\"\",\"\",'Races, Positions & Points'!#REF!)","v":{"$error":"#REF!"}},{"$f":"IF('Races, Positions & Points'!#REF!=\"\",\"\",'Races, Positions & Points'!#REF!)","v":{"$error":"#REF!"}},{"$f":"IF('Races, Positions & Points'!#REF!=\"\",\"\",'Races, Positions & Points'!#REF!)","v":{"$error":"#REF!"}},{"$f":"IF('Races, Positions & Points'!#REF!=\"\",\"\",'Races, Positions & Points'!#REF!)","v":{"$error":"#REF!"}},{"$f":"IF('Races, Positions & Points'!#REF!=\"\",\"\",'Races, Positions & Points'!#REF!)","v":{"$error":"#REF!"}},{"$f":"IF('Races, Positions & Points'!#REF!=\"\",\"\",'Races, Positions & Points'!#REF!)","v":{"$error":"#REF!"}},{"$f":"IF('Races, Positions & Points'!#REF!=\"\",\"\",'Races, Positions & Points'!#REF!)","v":{"$error":"#REF!"}},{"$f":"IF('Races, Positions & Points'!#REF!=\"\",\"\",'Races, Positions & Points'!#REF!)","v":{"$error":"#REF!"}},null,{"$error":"#REF!"},{"$error":"#REF!"},{"$error":"#REF!"},{"$error":"#REF!"},{"$error":"#REF!"},{"$error":"#REF!"},null,{"$f":"'Races, Positions & Points'!#REF!","v":{"$error":"#REF!"}},{"$f":"'Races, Positions & Points'!#REF!","v":{"$error":"#REF!"}},{"$error":"#REF!"},"","",{"$error":"#REF!"},"",{"$error":"#REF!"},{"$error":"#REF!"},{"$error":"#REF!"},null,{"$error":"#REF!"},"","",{"$error":"#REF!"},"",{"$error":"#REF!"},{"$error":"#REF!"},{"$error":"#REF!"},null,{"$error":"#REF!"},{"$error":"#REF!"},{"$error":"#REF!"},{"$error":"#REF!"},{"$error":"#REF!"},{"$error":"#REF!"},{"$error":"#REF!"},{"$error":"#REF!"},{"$error":"#REF!"},{"$error":"#REF!"},{"$f":"IF(U83>0,U83,\"\")","v":{"$error":"#REF!"}},{"$f":"IF(MIN(Y83,AO83)>0,MIN(Y83,AO83),\"\")","v":{"$error":"#REF!"}},{"$f":"IF(AA83>0,AA83,\"\")","v":{"$error":"#REF!"}},{"$f":"IF(AD83>0,AD83,\"\")","v":{"$error":"#REF!"}},{"$f":"IF(AJ83>0,AJ83,\"\")","v":{"$error":"#REF!"}},{"$error":"#REF!"},null,{"$error":"#REF!"},"","","",null,{"$error":"#REF!"},"","","",null,{"$error":"#REF!"},{"$error":"#REF!"},{"$error":"#REF!"},{"$error":"#REF!"},{"$error":"#REF!"},{"$f":"IF(J83>0,J83,\"\")","v":{"$error":"#REF!"}},{"$f":"IF(MIN(AM83,AY83)>0,MIN(AM83,AY83),\"\")","v":{"$error":"#REF!"}},{"$f":"IF(R83>0,R83,\"\")","v":{"$error":"#REF!"}},{"$error":"#REF!"},{"$error":"#REF!"}]

{"sheet":"Age Calculation","index":2,"n_rows":108,"n_cols":17,"rows_kept":108,"cut":false,"hidden":true,"merged":[]}
[null,"Competition Year",2011,2012,2013,2014,2015,2016,2017,2018,2019,2020,2021,2022,2023,2024,2025]
["Year of Birth"]
[1920,null,{"$f":"IF(C$1-$A3<11,\"Mini\",IF(C$1-$A3<13,\"CH1\",IF(C$1-$A3<15,\"CH2\",IF(C$1-$A3<17,\"JN1\",IF(C$1-$A3<20,\"JN2\",IF(C$1-$A3<30,\"SEN\",\"MAS\"))))))","v":"MAS"},{"$f":"IF(D$1-$A3<11,\"Mini\",IF(D$1-$A3<13,\"CH1\",IF(D$1-$A3<15,\"CH2\",IF(D$1-$A3<17,\"JN1\",IF(D$1-$A3<20,\"JN2\",IF(D$1-$A3<30,\"SEN\",\"MAS\"))))))","v":"MAS"},"MAS","MAS","MAS","MAS","MAS","MAS","MAS","MAS","MAS","MAS","MAS","MAS","MAS"]
[1921,null,{"$f":"IF(C$1-$A4<11,\"Mini\",IF(C$1-$A4<13,\"CH1\",IF(C$1-$A4<15,\"CH2\",IF(C$1-$A4<17,\"JN1\",IF(C$1-$A4<20,\"JN2\",IF(C$1-$A4<30,\"SEN\",\"MAS\"))))))","v":"MAS"},"MAS","MAS","MAS","MAS","MAS","MAS","MAS","MAS","MAS","MAS","MAS","MAS","MAS","MAS"]
[1922,null,"MAS","MAS","MAS","MAS","MAS","MAS","MAS","MAS","MAS","MAS","MAS","MAS","MAS","MAS","MAS"]
[1923,null,"MAS","MAS","MAS","MAS","MAS","MAS","MAS","MAS","MAS","MAS","MAS","MAS","MAS","MAS","MAS"]
[1924,null,"MAS","MAS","MAS","MAS","MAS","MAS","MAS","MAS","MAS","MAS","MAS","MAS","MAS","MAS","MAS"]
[1925,null,"MAS","MAS","MAS","MAS","MAS","MAS","MAS","MAS","MAS","MAS","MAS","MAS","MAS","MAS","MAS"]
[1926,null,"MAS","MAS","MAS","MAS","MAS","MAS","MAS","MAS","MAS","MAS","MAS","MAS","MAS","MAS","MAS"]
[1927,null,"MAS","MAS","MAS","MAS","MAS","MAS","MAS","MAS","MAS","MAS","MAS","MAS","MAS","MAS","MAS"]
[1928,null,"MAS","MAS","MAS","MAS","MAS","MAS","MAS","MAS","MAS","MAS","MAS","MAS","MAS","MAS","MAS"]
[1929,null,"MAS","MAS","MAS","MAS","MAS","MAS","MAS","MAS","MAS","MAS","MAS","MAS","MAS","MAS","MAS"]
[1930,null,"MAS","MAS","MAS","MAS","MAS","MAS","MAS","MAS","MAS","MAS","MAS","MAS","MAS","MAS","MAS"]
[1931,null,"MAS","MAS","MAS","MAS","MAS","MAS","MAS","MAS","MAS","MAS","MAS","MAS","MAS","MAS","MAS"]
[1932,null,"MAS","MAS","MAS","MAS","MAS","MAS","MAS","MAS","MAS","MAS","MAS","MAS","MAS","MAS","MAS"]
[1933,null,"MAS","MAS","MAS","MAS","MAS","MAS","MAS","MAS","MAS","MAS","MAS","MAS","MAS","MAS","MAS"]
[1934,null,"MAS","MAS","MAS","MAS","MAS","MAS","MAS","MAS","MAS","MAS","MAS","MAS","MAS","MAS","MAS"]
[1935,null,"MAS","MAS","MAS","MAS","MAS","MAS","MAS","MAS","MAS","MAS","MAS","MAS","MAS","MAS","MAS"]
[1936,null,"MAS","MAS","MAS","MAS","MAS","MAS","MAS","MAS","MAS","MAS","MAS","MAS","MAS","MAS","MAS"]
[1937,null,"MAS","MAS","MAS","MAS","MAS","MAS","MAS","MAS","MAS","MAS","MAS","MAS","MAS","MAS","MAS"]
[1938,null,"MAS","MAS","MAS","MAS","MAS","MAS","MAS","MAS","MAS","MAS","MAS","MAS","MAS","MAS","MAS"]
[1939,null,"MAS","MAS","MAS","MAS","MAS","MAS","MAS","MAS","MAS","MAS","MAS","MAS","MAS","MAS","MAS"]
[1940,null,"MAS","MAS","MAS","MAS","MAS","MAS","MAS","MAS","MAS","MAS","MAS","MAS","MAS","MAS","MAS"]
[1941,null,"MAS","MAS","MAS","MAS","MAS","MAS","MAS","MAS","MAS","MAS","MAS","MAS","MAS","MAS","MAS"]
[1942,null,"MAS","MAS","MAS","MAS","MAS","MAS","MAS","MAS","MAS","MAS","MAS","MAS","MAS","MAS","MAS"]
[1943,null,"MAS","MAS","MAS","MAS","MAS","MAS","MAS","MAS","MAS","MAS","MAS","MAS","MAS","MAS","MAS"]
[1944,null,"MAS","MAS","MAS","MAS","MAS","MAS","MAS","MAS","MAS","MAS","MAS","MAS","MAS","MAS","MAS"]
[1945,null,"MAS","MAS","MAS","MAS","MAS","MAS","MAS","MAS","MAS","MAS","MAS","MAS","MAS","MAS","MAS"]
[1946,null,"MAS","MAS","MAS","MAS","MAS","MAS","MAS","MAS","MAS","MAS","MAS","MAS","MAS","MAS","MAS"]
[1947,null,"MAS","MAS","MAS","MAS","MAS","MAS","MAS","MAS","MAS","MAS","MAS","MAS","MAS","MAS","MAS"]
[1948,null,"MAS","MAS","MAS","MAS","MAS","MAS","MAS","MAS","MAS","MAS","MAS","MAS","MAS","MAS","MAS"]
[1949,null,"MAS","MAS","MAS","MAS","MAS","MAS","MAS","MAS","MAS","MAS","MAS","MAS","MAS","MAS","MAS"]
[1950,null,"MAS","MAS","MAS","MAS","MAS","MAS","MAS","MAS","MAS","MAS","MAS","MAS","MAS","MAS","MAS"]
[1951,null,"MAS","MAS","MAS","MAS","MAS","MAS","MAS","MAS","MAS","MAS","MAS","MAS","MAS","MAS","MAS"]
[1952,null,{"$f":"IF(C$1-$A35<11,\"Mini\",IF(C$1-$A35<13,\"CH1\",IF(C$1-$A35<15,\"CH2\",IF(C$1-$A35<17,\"JN1\",IF(C$1-$A35<20,\"JN2\",IF(C$1-$A35<30,\"SEN\",\"MAS\"))))))","v":"MAS"},"MAS","MAS","MAS","MAS","MAS","MAS","MAS","MAS","MAS","MAS","MAS","MAS","MAS","MAS"]
[1953,null,"MAS","MAS","MAS","MAS","MAS","MAS","MAS","MAS","MAS","MAS","MAS","MAS","MAS","MAS","MAS"]
[1954,null,"MAS","MAS","MAS","MAS","MAS","MAS","MAS","MAS","MAS","MAS","MAS","MAS","MAS","MAS","MAS"]
[1955,null,"MAS","MAS","MAS","MAS","MAS","MAS","MAS","MAS","MAS","MAS","MAS","MAS","MAS","MAS","MAS"]
[1956,null,"MAS","MAS","MAS","MAS","MAS","MAS","MAS","MAS","MAS","MAS","MAS","MAS","MAS","MAS","MAS"]
[1957,null,"MAS","MAS","MAS","MAS","MAS","MAS","MAS","MAS","MAS","MAS","MAS","MAS","MAS","MAS","MAS"]
[1958,null,"MAS","MAS","MAS","MAS","MAS","MAS","MAS","MAS","MAS","MAS","MAS","MAS","MAS","MAS","MAS"]
[1959,null,"MAS","MAS","MAS","MAS","MAS","MAS","MAS","MAS","MAS","MAS","MAS","MAS","MAS","MAS","MAS"]
[1960,null,"MAS","MAS","MAS","MAS","MAS","MAS","MAS","MAS","MAS","MAS","MAS","MAS","MAS","MAS","MAS"]
[1961,null,"MAS","MAS","MAS","MAS","MAS","MAS","MAS","MAS","MAS","MAS","MAS","MAS","MAS","MAS","MAS"]
[1962,null,"MAS","MAS","MAS","MAS","MAS","MAS","MAS","MAS","MAS","MAS","MAS","MAS","MAS","MAS","MAS"]
[1963,null,"MAS","MAS","MAS","MAS","MAS","MAS","MAS","MAS","MAS","MAS","MAS","MAS","MAS","MAS","MAS"]
[1964,null,"MAS","MAS","MAS","MAS","MAS","MAS","MAS","MAS","MAS","MAS","MAS","MAS","MAS","MAS","MAS"]
[1965,null,"MAS","MAS","MAS","MAS","MAS","MAS","MAS","MAS","MAS","MAS","MAS","MAS","MAS","MAS","MAS"]
[1966,null,"MAS","MAS","MAS","MAS","MAS","MAS","MAS","MAS","MAS","MAS","MAS","MAS","MAS","MAS","MAS"]
[1967,null,"MAS","MAS","MAS","MAS","MAS","MAS","MAS","MAS","MAS","MAS","MAS","MAS","MAS","MAS","MAS"]
[1968,null,"MAS","MAS","MAS","MAS","MAS","MAS","MAS","MAS","MAS","MAS","MAS","MAS","MAS","MAS","MAS"]
[1969,null,{"$f":"IF(C$1-$A52<11,\"Mini\",IF(C$1-$A52<13,\"CH1\",IF(C$1-$A52<15,\"CH2\",IF(C$1-$A52<17,\"JN1\",IF(C$1-$A52<20,\"JN2\",IF(C$1-$A52<30,\"SEN\",\"MAS\"))))))","v":"MAS"},"MAS","MAS","MAS","MAS","MAS","MAS","MAS","MAS","MAS","MAS","MAS","MAS","MAS","MAS"]
[1970,null,"MAS","MAS","MAS","MAS","MAS","MAS","MAS","MAS","MAS","MAS","MAS","MAS","MAS","MAS","MAS"]
[1971,null,"MAS","MAS","MAS","MAS","MAS","MAS","MAS","MAS","MAS","MAS","MAS","MAS","MAS","MAS","MAS"]
[1972,null,{"$f":"IF(C$1-$A55<11,\"Mini\",IF(C$1-$A55<13,\"CH1\",IF(C$1-$A55<15,\"CH2\",IF(C$1-$A55<17,\"JN1\",IF(C$1-$A55<20,\"JN2\",IF(C$1-$A55<30,\"SEN\",\"MAS\"))))))","v":"MAS"},"MAS","MAS","MAS","MAS","MAS","MAS","MAS","MAS","MAS","MAS","MAS","MAS","MAS","MAS"]
[1973,null,"MAS","MAS","MAS","MAS","MAS","MAS","MAS","MAS","MAS","MAS","MAS","MAS","MAS","MAS","MAS"]
[1974,null,"MAS","MAS","MAS","MAS","MAS","MAS","MAS","MAS","MAS","MAS","MAS","MAS","MAS","MAS","MAS"]
[1975,null,"MAS","MAS","MAS","MAS","MAS","MAS","MAS","MAS","MAS","MAS","MAS","MAS","MAS","MAS","MAS"]
[1976,null,"MAS","MAS","MAS","MAS","MAS","MAS","MAS","MAS","MAS","MAS","MAS","MAS","MAS","MAS","MAS"]
[1977,null,"MAS","MAS","MAS","MAS","MAS","MAS","MAS","MAS","MAS","MAS","MAS","MAS","MAS","MAS","MAS"]
[1978,null,"MAS","MAS","MAS","MAS","MAS","MAS","MAS","MAS","MAS","MAS","MAS","MAS","MAS","MAS","MAS"]
[1979,null,"MAS","MAS","MAS","MAS","MAS","MAS","MAS","MAS","MAS","MAS","MAS","MAS","MAS","MAS","MAS"]
[1980,null,"MAS","MAS","MAS","MAS","MAS","MAS","MAS","MAS","MAS","MAS","MAS","MAS","MAS","MAS","MAS"]
[1981,null,"MAS","MAS","MAS","MAS","MAS","MAS","MAS","MAS","MAS","MAS","MAS","MAS","MAS","MAS","MAS"]
[1982,null,"SEN","MAS","MAS","MAS","MAS","MAS","MAS","MAS","MAS","MAS","MAS","MAS","MAS","MAS","MAS"]
[1983,null,"SEN","SEN","MAS","MAS","MAS","MAS","MAS","MAS","MAS","MAS","MAS","MAS","MAS","MAS","MAS"]
[1984,null,"SEN","SEN","SEN","MAS","MAS","MAS","MAS","MAS","MAS","MAS","MAS","MAS","MAS","MAS","MAS"]
[1985,null,"SEN",{"$f":"IF(D$1-$A68<11,\"Mini\",IF(D$1-$A68<13,\"CH1\",IF(D$1-$A68<15,\"CH2\",IF(D$1-$A68<17,\"JN1\",IF(D$1-$A68<20,\"JN2\",IF(D$1-$A68<30,\"SEN\",\"MAS\"))))))","v":"SEN"},"SEN","SEN","MAS","MAS","MAS","MAS","MAS","MAS","MAS","MAS","MAS","MAS","MAS"]
[1986,null,"SEN","SEN","SEN","SEN","SEN","MAS","MAS","MAS","MAS","MAS","MAS","MAS","MAS","MAS","MAS"]
[1987,null,"SEN","SEN","SEN","SEN","SEN","SEN","MAS","MAS","MAS","MAS","MAS","MAS","MAS","MAS","MAS"]
[1988,null,"SEN","SEN","SEN","SEN","SEN","SEN","SEN","MAS","MAS","MAS","MAS","MAS","MAS","MAS","MAS"]
[1989,null,"SEN","SEN","SEN","SEN","SEN","SEN","SEN","SEN","MAS","MAS","MAS","MAS","MAS","MAS","MAS"]
[1990,null,"SEN","SEN","SEN","SEN","SEN","SEN","SEN","SEN","SEN","MAS","MAS","MAS","MAS","MAS","MAS"]
[1991,null,"SEN","SEN","SEN","SEN","SEN","SEN","SEN","SEN","SEN","SEN","MAS","MAS","MAS","MAS","MAS"]
[1992,null,"JN2","U21",{"$f":"IF(E$1-$A75<11,\"Mini\",IF(E$1-$A75<13,\"CH1\",IF(E$1-$A75<15,\"CH2\",IF(E$1-$A75<17,\"JN1\",IF(E$1-$A75<20,\"JN2\",IF(E$1-$A75<30,\"SEN\",\"MAS\"))))))","v":"SEN"},"SEN","SEN","SEN","SEN","SEN","SEN","SEN","SEN","MAS","MAS","MAS","MAS"]
[1993,null,"JN2","U21","U21",{"$f":"IF(F$1-$A76<11,\"Mini\",IF(F$1-$A76<13,\"CH1\",IF(F$1-$A76<15,\"CH2\",IF(F$1-$A76<17,\"JN1\",IF(F$1-$A76<20,\"JN2\",IF(F$1-$A76<30,\"SEN\",\"MAS\"))))))","v":"SEN"},"SEN","SEN","SEN","SEN","SEN","SEN","SEN","SEN","MAS","MAS","MAS"]
[1994,null,"JN2","U21","U21","U21",{"$f":"IF(G$1-$A77<11,\"Mini\",IF(G$1-$A77<13,\"CH1\",IF(G$1-$A77<15,\"CH2\",IF(G$1-$A77<17,\"JN1\",IF(G$1-$A77<20,\"JN2\",IF(G$1-$A77<30,\"SEN\",\"MAS\"))))))","v":"SEN"},"SEN","SEN","SEN","SEN","SEN","SEN","SEN","SEN","MAS","MAS"]
[1995,null,"JN1","U18","U21","U21","U21",{"$f":"IF(H$1-$A78<11,\"Mini\",IF(H$1-$A78<13,\"CH1\",IF(H$1-$A78<15,\"CH2\",IF(H$1-$A78<17,\"JN1\",IF(H$1-$A78<20,\"JN2\",IF(H$1-$A78<30,\"SEN\",\"MAS\"))))))","v":"SEN"},"SEN","SEN","SEN","SEN","SEN","SEN","SEN","SEN","MAS"]
[1996,null,"JN1","U18","U18","U21","U21","U21",{"$f":"IF(I$1-$A79<11,\"Mini\",IF(I$1-$A79<13,\"CH1\",IF(I$1-$A79<15,\"CH2\",IF(I$1-$A79<17,\"JN1\",IF(I$1-$A79<20,\"JN2\",IF(I$1-$A79<30,\"SEN\",\"MAS\"))))))","v":"SEN"},"SEN","SEN","SEN","SEN","SEN","SEN","SEN","SEN"]
[1997,null,"CH2","U16","U18","U18","U21","U21","U21",{"$f":"IF(J$1-$A80<11,\"Mini\",IF(J$1-$A80<13,\"CH1\",IF(J$1-$A80<15,\"CH2\",IF(J$1-$A80<17,\"JN1\",IF(J$1-$A80<20,\"JN2\",IF(J$1-$A80<30,\"SEN\",\"MAS\"))))))","v":"SEN"},"SEN","SEN","SEN","SEN","SEN","SEN","SEN"]
[1998,null,"CH2","U16","U16","U18","U18","U21","U21","U21","SEN","SEN","SEN","SEN","SEN","SEN","SEN"]
[1999,null,"CH1","U14","U16","U16","U18","U18","U21","U21","U21","SEN","SEN","SEN","SEN","SEN","SEN"]
[2000,null,"CH1","U14","U14","U16","U16","U18","U18","U21","U21","U21","SEN","SEN","SEN","SEN","SEN"]
[2001,null,"Mini","U12","U14","U14","U16","U16","U18","U18","U21","U21","U21","SEN","SEN","SEN","SEN"]
[2002,null,"Mini","U12","U12","U14","U14","U16","U16","U18","U18","U21","U21","U21","SEN","SEN","SEN"]
[2003,null,"Mini","U10","U12","U12","U14","U14","U16","U16","U18","U18","U21","U21","U21","SEN","SEN"]
[2004,null,"Mini","U10","U10","U12","U12","U14","U14","U16","U16","U18","U18","U21","U21","U21","SEN"]
[2005,null,null,null,"U10","U10","U12","U12","U14","U14","U16","U16","U18","U18","U21","U21","U21"]
[2006,null,null,null,null,"U10","U10","U12","U12","U14","U14","U16","U16","U18","U18","U21","U21"]
[2007,null,null,null,null,null,"U10","U10","U12","U12","U14","U14","U16","U16","U18","U18","U21"]
[2008,null,null,null,null,null,null,"U10","U10","U12","U12","U14","U14","U16","U16","U18","U18"]
[2009,null,null,null,null,null,null,null,"U10","U10","U12","U12","U14","U14","U16","U16","U18"]
[2010,null,null,null,null,null,null,null,null,"U10","U10","U12","U12","U14","U14","U16","U16"]
[2011,null,null,null,null,null,null,null,null,null,"U10","U10","U12","U12","U14","U14","U16"]
[2012,null,null,null,null,null,null,null,null,null,null,"U10","U10","U12","U12","U14","U14"]
[2013,null,null,null,null,null,null,null,null,null,null,null,"U10","U10","U12","U12","U14"]
[2014,null,null,null,null,null,null,null,null,null,null,null,null,"U10","U10","U12","U12"]
[2015,null,null,null,null,null,null,null,null,null,null,null,null,null,"U10","U10","U12"]
[2016,null,null,null,null,null,null,null,null,null,null,null,null,null,null,"U10","U10"]
[2017,null,null,null,null,null,null,null,null,null,null,null,null,null,null,null,"U10"]
[2018]
[2019]
[2020]
[2021]
[2022]
[2023]
[2024]
[2025]

{"sheet":"Start of Year Points","index":3,"n_rows":71,"n_cols":193,"rows_kept":71,"cut":false,"hidden":true,"merged":[]}
["REGNO","SURNAME","FORENAME","SEX","YOB","CAT","CLUB1","CLUB2","oBARTS 14.0 PTS",null,"iBARTS 14.1 PTS","oBARTS 14.1 PTS",null,"iBARTS 14.2 PTS","oBARTS 14.2 PTS",null,"iBARTS 14.3 PTS","oBARTS 14.3 PTS",null,"iBARTS 14.4 PTS","oBARTS 14.4 PTS",null,"iBARTS 14.5 PTS","oBARTS 14.5 PTS",null,"iBARTS 14.6 PTS","oBARTS 14.6 PTS"]
[20168,"BILL","Rachel","F",1990,"SEN","MID","MID",23.81,null,23.81,23.81,null,23.81,23.81,null,null,null,null,null,null,null,null,null,null,null,null,{"$f":"VLOOKUP(A2,'Races, Positions & Points'!E$10:F$31,2,FALSE)","v":{"$error":"#N/A"}}]
[17888,"DELLER","Lucy","F",1996,"U21","MID","DRA",25.68,null,25.68,25.68,null,25.68,25.68,null,null,null,null,null,null,null,null,null,null,null,null,{"$f":"VLOOKUP(A3,'Races, Positions & Points'!E$10:F$31,2,FALSE)","v":{"$error":"#N/A"}}]
[20696,"NEWBOULT","Helena","F",1998,"U18","MID","MID",27.39,null,27.39,27.39,null,27.39,27.39,null,null,null,null,null,null,null,null,null,null,null,null,{"$f":"VLOOKUP(A4,'Races, Positions & Points'!E$10:F$31,2,FALSE)","v":{"$error":"#N/A"}}]
[13381,"VERNON","Rowan","F",1988,"SEN","MID","MID",32.840000000000003,null,32.840000000000003,32.840000000000003,null,32.840000000000003,32.840000000000003,null,null,null,null,null,null,null,null,null,null,null,null,{"$f":"VLOOKUP(A5,'Races, Positions & Points'!E$10:F$31,2,FALSE)","v":{"$error":"#N/A"}}]
[20307,"MIDDLETON","Amy","F",1995,"U21","MID",null,51.15,null,51.15,51.15,null,51.15,51.15,null,null,null,null,null,null,null,null,null,null,null,null,{"$f":"VLOOKUP(A6,'Races, Positions & Points'!E$10:F$31,2,FALSE)","v":{"$error":"#N/A"}}]
[18033,"THOMAS","Elisabeth","F",1996,"U21","MID","DRA",72.7,null,72.7,72.7,null,72.7,72.7,null,null,null,null,null,null,null,null,null,null,null,null,{"$f":"VLOOKUP(A7,'Races, Positions & Points'!E$10:F$31,2,FALSE)","v":{"$error":"#N/A"}}]
[18617,"HANCOCK","Maxine","F",1997,"U18","MID","SMK",74.28,null,74.28,74.28,null,74.28,74.28,null,null,null,null,null,null,null,null,null,null,null,null,{"$f":"VLOOKUP(A8,'Races, Positions & Points'!E$10:F$31,2,FALSE)","v":{"$error":"#N/A"}}]
[21014,"MAYHEW","Jessica","F",2000,"U16","MID","MID",84.18,null,84.18,53.98,null,84.18,48.06,null,null,null,null,null,null,null,null,null,null,null,null,{"$f":"VLOOKUP(A9,'Races, Positions & Points'!E$10:F$31,2,FALSE)","v":{"$error":"#N/A"}}]
[19833,"SHAKESHAFT","Hannah","F",1996,"U21","MID","SMK",140.29,null,140.29,140.29,null,140.29,140.29,null,null,null,null,null,null,null,null,null,null,null,null,{"$f":"VLOOKUP(A10,'Races, Positions & Points'!E$10:F$31,2,FALSE)","v":{"$error":"#N/A"}}]
[19983,"CARE","Chloe","F",1998,"U18","MID",null,203.01,null,203.01,203.01,null,203.01,203.01,null,null,null,null,null,null,null,null,null,null,null,null,{"$f":"VLOOKUP(A11,'Races, Positions & Points'!E$10:F$31,2,FALSE)","v":{"$error":"#N/A"}}]
[19165,"ELGY","Geraldine","F",1954,"MAS","MID",null,330.25,null,330.25,330.25,null,330.25,330.25,null,null,null,null,null,null,null,null,null,null,null,null,{"$f":"VLOOKUP(A12,'Races, Positions & Points'!E$10:F$31,2,FALSE)","v":{"$error":"#N/A"}}]
[20781,"NEWBOULT","Laura","F",1995,"U21","MID",null,428.94,null,428.94,428.94,null,428.94,428.94,null,null,null,null,null,null,null,null,null,null,null,null,{"$f":"VLOOKUP(A13,'Races, Positions & Points'!E$10:F$31,2,FALSE)","v":{"$error":"#N/A"}}]
[19573,"DOHERTY","Robyn","F",1996,"U21","MID",null,636.34,null,636.34,636.34,null,636.34,636.34,null,null,null,null,null,null,null,null,null,null,null,null,{"$f":"VLOOKUP(A14,'Races, Positions & Points'!E$10:F$31,2,FALSE)","v":{"$error":"#N/A"}}]
[41577,"LEE","Jane","F",1954,"MAS","MID",null,640.45000000000005,null,640.45000000000005,640.45000000000005,null,640.45000000000005,640.45000000000005,null,null,null,null,null,null,null,null,null,null,null,null,{"$f":"VLOOKUP(A15,'Races, Positions & Points'!E$10:F$31,2,FALSE)","v":{"$error":"#N/A"}}]
[20669,"TREUGE","Lauren","F",2003,"U12","MID",null,999.99,null,999.99,999.99,null,999.99,999.99,null,null,null,null,null,null,null,null,null,null,null,null,{"$f":"VLOOKUP(A16,'Races, Positions & Points'!E$10:F$31,2,FALSE)","v":{"$error":"#N/A"}}]
[20809,"O'BRIEN","Matilda","F",2004,"U12","MID",null,999.99,null,999.99,999.99,null,999.99,999.99,null,null,null,null,null,null,null,null,null,null,null,null,{"$f":"VLOOKUP(A17,'Races, Positions & Points'!E$10:F$31,2,FALSE)","v":{"$error":"#N/A"}}]
[21569,"HEMMING","Anya","F",2005,"U10","MID",null,999.99,null,999.99,999.99,null,999.99,999.99,null,null,null,null,null,null,null,null,null,null,null,null,{"$f":"VLOOKUP(A18,'Races, Positions & Points'!E$10:F$31,2,FALSE)","v":{"$error":"#N/A"}}]
[22015,"LLEWELLYN","Aaliyah","F",2006,"U10","WM","MID",999.99,null,999.99,999.99,null,999.99,999.99,null,null,null,null,null,null,null,null,null,null,null,null,{"$f":"VLOOKUP(A19,'Races, Positions & Points'!E$10:F$31,2,FALSE)","v":{"$error":"#N/A"}}]
[17356,"HORNSBY","Harry","M",1991,"SEN","MID","MID",5.41,null,5.41,5.28,null,5.41,5.28,null,null,null,null,null,null,null,null,null,null,null,null,{"$f":"VLOOKUP(A20,'Races, Positions & Points'!E$10:F$31,2,FALSE)","v":{"$error":"#N/A"}}]
[17479,"POWELL","Jonathan","M",1986,"SEN","RAV","MID",18.72,null,18.72,18.72,null,18.72,18.72,null,null,null,null,null,null,null,null,null,null,null,null,{"$f":"VLOOKUP(A21,'Races, Positions & Points'!E$10:F$31,2,FALSE)","v":{"$error":"#N/A"}}]
[12318,"DU PLESSIS","Andrew","M",1985,"SEN","MID","DHO",23.04,null,23.04,23.04,null,23.04,23.04,null,null,null,null,null,null,null,null,null,null,null,null,{"$f":"VLOOKUP(A22,'Races, Positions & Points'!E$10:F$31,2,FALSE)","v":{"$error":"#N/A"}}]
[19704,"BEARDMORE","Adam","M",1986,"SEN","MID",null,35.26,null,35.26,35.26,null,35.26,35.26,null,null,null,null,null,null,null,null,null,null,null,null,{"$f":"VLOOKUP(A23,'Races, Positions & Points'!E$10:F$31,2,FALSE)","v":{"$error":"#N/A"}}]
[41578,"LEE","Adam","M",1994,"U21","PND","MID",38.93,null,38.93,38.93,null,38.93,36.39,null,null,null,null,null,null,null,null,null,null,null,null,{"$f":"VLOOKUP(A24,'Races, Positions & Points'!E$10:F$31,2,FALSE)","v":{"$error":"#N/A"}}]
[41722,"RIGBY","Jack","M",1995,"U21","MID","IMP",50.4,null,42.49,50.4,null,42.49,50.4,null,null,null,null,null,null,null,null,null,null,null,null,{"$f":"VLOOKUP(A25,'Races, Positions & Points'!E$10:F$31,2,FALSE)","v":{"$error":"#N/A"}}]
[21084,"EMMERSON","Philip","M",1990,"SEN","MID",null,57.73,null,57.73,57.73,null,57.73,57.73,null,null,null,null,null,null,null,null,null,null,null,null,{"$f":"VLOOKUP(A26,'Races, Positions & Points'!E$10:F$31,2,FALSE)","v":{"$error":"#N/A"}}]
[19163,"HAWKINS","Mark","M",1979,"MAS","MID",null,61.45,null,61.45,58.84,null,61.45,57.1,null,null,null,null,null,null,null,null,null,null,null,null,{"$f":"VLOOKUP(A27,'Races, Positions & Points'!E$10:F$31,2,FALSE)","v":{"$error":"#N/A"}}]
[18607,"MILLER","Nicholas","M",1993,"SEN","MID",null,63.19,null,63.19,63.19,null,63.19,63.19,null,null,null,null,null,null,null,null,null,null,null,null,{"$f":"VLOOKUP(A28,'Races, Positions & Points'!E$10:F$31,2,FALSE)","v":{"$error":"#N/A"}}]
[18586,"THORLEY","Alasdair","M",1994,"U21","MID","OXU",69.650000000000006,null,69.650000000000006,69.650000000000006,null,69.650000000000006,69.650000000000006,null,null,null,null,null,null,null,null,null,null,null,null,{"$f":"VLOOKUP(A29,'Races, Positions & Points'!E$10:F$31,2,FALSE)","v":{"$error":"#N/A"}}]
[17840,"PHELPS","Nicholas","M",1997,"U18","MID","MID",70.34,null,70.34,70.34,null,70.34,70.34,null,null,null,null,null,null,null,null,null,null,null,null,{"$f":"VLOOKUP(A30,'Races, Positions & Points'!E$10:F$31,2,FALSE)","v":{"$error":"#N/A"}}]
[19051,"WEEKS","Oliver","M",2001,"U14","MID","DRA",70.989999999999995,null,70.989999999999995,70.989999999999995,null,70.989999999999995,70.989999999999995,null,null,null,null,null,null,null,null,null,null,null,null,{"$f":"VLOOKUP(A31,'Races, Positions & Points'!E$10:F$31,2,FALSE)","v":0}]
[21595,"SMITH","James","M",1992,"SEN","MID",null,72.23,null,72.23,72.23,null,72.23,72.23,null,null,null,null,null,null,null,null,null,null,null,null,{"$f":"VLOOKUP(A32,'Races, Positions & Points'!E$10:F$31,2,FALSE)","v":{"$error":"#N/A"}}]
[18509,"MILLER","Gareth","M",1994,"U21","MID","SAS",73.98,null,71.069999999999993,73.98,null,71.069999999999993,73.98,null,null,null,null,null,null,null,null,null,null,null,null,{"$f":"VLOOKUP(A33,'Races, Positions & Points'!E$10:F$31,2,FALSE)","v":{"$error":"#N/A"}}]
[14213,"WALKER","Edmund","M",1992,"SEN","MID","MID",77.16,null,77.16,77.16,null,77.16,77.16,null,null,null,null,null,null,null,null,null,null,null,null,{"$f":"VLOOKUP(A34,'Races, Positions & Points'!E$10:F$31,2,FALSE)","v":{"$error":"#N/A"}}]
[19910,"RIGBY","Jordan","M",2000,"U16","MID","IMP",111.82,null,111.82,111.82,null,111.82,111.82,null,null,null,null,null,null,null,null,null,null,null,null,{"$f":"VLOOKUP(A35,'Races, Positions & Points'!E$10:F$31,2,FALSE)","v":{"$error":"#N/A"}}]
[20846,"DEWISON","Samuel","M",1998,"U18","MID","MID",119.86,null,119.86,119.86,null,119.86,119.86,null,null,null,null,null,null,null,null,null,null,null,null,{"$f":"VLOOKUP(A36,'Races, Positions & Points'!E$10:F$31,2,FALSE)","v":{"$error":"#N/A"}}]
[5666,"CROMBLEHOLME","Roger","M",1957,"MAS","MID","TEL",120.35,null,120.35,120.35,null,120.35,120.35,null,null,null,null,null,null,null,null,null,null,null,null,{"$f":"VLOOKUP(A37,'Races, Positions & Points'!E$10:F$31,2,FALSE)","v":{"$error":"#N/A"}}]
[20677,"FROST","Joey","M",1995,"U21","MID",null,127.79,null,127.79,127.79,null,127.79,127.79,null,null,null,null,null,null,null,null,null,null,null,null,{"$f":"VLOOKUP(A38,'Races, Positions & Points'!E$10:F$31,2,FALSE)","v":{"$error":"#N/A"}}]
[41662,"LEE","Sam","M",1996,"U21","MID",null,128.82,null,128.82,128.82,null,128.82,128.82,null,null,null,null,null,null,null,null,null,null,null,null,{"$f":"VLOOKUP(A39,'Races, Positions & Points'!E$10:F$31,2,FALSE)","v":{"$error":"#N/A"}}]
[18998,"THORLEY","Duncan","M",1997,"U18","MID",null,133.94999999999999,null,133.94999999999999,133.94999999999999,null,133.94999999999999,133.94999999999999,null,null,null,null,null,null,null,null,null,null,null,null,{"$f":"VLOOKUP(A40,'Races, Positions & Points'!E$10:F$31,2,FALSE)","v":{"$error":"#N/A"}}]
[19941,"LAWRENCE","Thomas","M",1999,"U16","MID","DRA",144.61000000000001,null,144.61000000000001,144.61000000000001,null,144.61000000000001,144.61000000000001,null,null,null,null,null,null,null,null,null,null,null,null,{"$f":"VLOOKUP(A41,'Races, Positions & Points'!E$10:F$31,2,FALSE)","v":0}]
[19829,"HEMMING","Ethan","M",2001,"U14","MID","MID",150.21,null,150.21,150.21,null,150.21,138.09,null,null,null,null,null,null,null,null,null,null,null,null,{"$f":"VLOOKUP(A42,'Races, Positions & Points'!E$10:F$31,2,FALSE)","v":{"$error":"#N/A"}}]
[19166,"ELGY","James","M",1993,"SEN","MID",null,166.36,null,166.36,166.36,null,166.36,166.36,null,null,null,null,null,null,null,null,null,null,null,null,{"$f":"VLOOKUP(A43,'Races, Positions & Points'!E$10:F$31,2,FALSE)","v":{"$error":"#N/A"}}]
[21550,"TARRANT","Toby","M",1997,"U18","MID",null,186.2,null,186.2,186.2,null,186.2,186.2,null,null,null,null,null,null,null,null,null,null,null,null,{"$f":"VLOOKUP(A44,'Races, Positions & Points'!E$10:F$31,2,FALSE)","v":{"$error":"#N/A"}}]
[21051,"UPTON","Thomas","M",2001,"U14","MID",null,189.87,null,189.87,182.89,null,179.58,126.27,null,null,null,null,null,null,null,null,null,null,null,null,{"$f":"VLOOKUP(A45,'Races, Positions & Points'!E$10:F$31,2,FALSE)","v":0}]
[19379,"GUY","Edward","M",2001,"U14","TEL","MID",238.89,null,238.89,238.89,null,238.89,138.32,null,null,null,null,null,null,null,null,null,null,null,null,{"$f":"VLOOKUP(A46,'Races, Positions & Points'!E$10:F$31,2,FALSE)","v":{"$error":"#N/A"}}]
[19572,"DOHERTY","Samuel","M",1999,"U16","MID",null,257.08999999999997,null,257.08999999999997,257.08999999999997,null,257.08999999999997,257.08999999999997,null,null,null,null,null,null,null,null,null,null,null,null,{"$f":"VLOOKUP(A47,'Races, Positions & Points'!E$10:F$31,2,FALSE)","v":{"$error":"#N/A"}}]
[18616,"HANCOCK","Karl","M",1995,"U21","MID",null,259.37,null,259.37,259.37,null,259.37,259.37,null,null,null,null,null,null,null,null,null,null,null,null,{"$f":"VLOOKUP(A48,'Races, Positions & Points'!E$10:F$31,2,FALSE)","v":{"$error":"#N/A"}}]
[19164,"ELGY","John","M",1951,"MAS","MID",null,332.56,null,332.56,332.56,null,332.56,332.56,null,null,null,null,null,null,null,null,null,null,null,null,{"$f":"VLOOKUP(A49,'Races, Positions & Points'!E$10:F$31,2,FALSE)","v":{"$error":"#N/A"}}]
[21633,"KIRKLAND","Matthew","M",1992,"SEN","MID","MID",345.98,null,345.98,345.98,null,345.98,345.98,null,null,null,null,null,null,null,null,null,null,null,null,{"$f":"VLOOKUP(A50,'Races, Positions & Points'!E$10:F$31,2,FALSE)","v":{"$error":"#N/A"}}]
[17039,"DELLER","Philip","M",1959,"MAS","MID",null,780.34,null,780.34,780.34,null,780.34,780.34,null,null,null,null,null,null,null,null,null,null,null,null,{"$f":"VLOOKUP(A51,'Races, Positions & Points'!E$10:F$31,2,FALSE)","v":{"$error":"#N/A"}}]
[17037,"HANCOCK","David","M",1964,"MAS","MID","SMK",999.99,null,999.99,999.99,null,999.99,999.99,null,null,null,null,null,null,null,null,null,null,null,null,{"$f":"VLOOKUP(A52,'Races, Positions & Points'!E$10:F$31,2,FALSE)","v":{"$error":"#N/A"}}]
[21714,"BIRD","Joseph","M",1994,"U21","MID","MID",999.99,null,999.99,999.99,null,999.99,999.99,null,null,null,null,null,null,null,null,null,null,null,null,{"$f":"VLOOKUP(A53,'Races, Positions & Points'!E$10:F$31,2,FALSE)","v":{"$error":"#N/A"}}]
[21075,"HEARD","Jake","M",1998,"U18","MID",null,999.99,null,999.99,999.99,null,999.99,999.99,null,null,null,null,null,null,null,null,null,null,null,null,{"$f":"VLOOKUP(A54,'Races, Positions & Points'!E$10:F$31,2,FALSE)","v":{"$error":"#N/A"}}]
[19737,"O'BRIEN","Seamus","M",2002,"U14","MID","EVO",999.99,null,185.65,999.99,null,142.41,999.99,null,null,null,null,null,null,null,null,null,null,null,null,{"$f":"VLOOKUP(A55,'Races, Positions & Points'!E$10:F$31,2,FALSE)","v":{"$error":"#N/A"}}]
[20590,"CARE","James","M",2002,"U14","MID",null,999.99,null,999.99,398.04,null,999.99,398.04,null,null,null,null,null,null,null,null,null,null,null,null,{"$f":"VLOOKUP(A56,'Races, Positions & Points'!E$10:F$31,2,FALSE)","v":{"$error":"#N/A"}}]
[20670,"TREUGE","Matthew","M",2002,"U14","MID","MID",999.99,null,999.99,999.99,null,999.99,999.99,null,null,null,null,null,null,null,null,null,null,null,null,{"$f":"VLOOKUP(A57,'Races, Positions & Points'!E$10:F$31,2,FALSE)","v":{"$error":"#N/A"}}]
[20340,"SHAKESHAFT","James","M",2003,"U12","MID",null,999.99,null,999.99,999.99,null,999.99,999.99,null,null,null,null,null,null,null,null,null,null,null,null,{"$f":"VLOOKUP(A58,'Races, Positions & Points'!E$10:F$31,2,FALSE)","v":{"$error":"#N/A"}}]
[20719,"HADLEY","Daniel","M",2004,"U12","MID","SMK",999.99,null,999.99,999.99,null,999.99,999.99,null,null,null,null,null,null,null,null,null,null,null,null,{"$f":"VLOOKUP(A59,'Races, Positions & Points'!E$10:F$31,2,FALSE)","v":{"$error":"#N/A"}}]
[21052,"UPTON","Jack","M",2004,"U12","MID",null,999.99,null,999.99,999.99,null,999.99,999.99,null,null,null,null,null,null,null,null,null,null,null,null,{"$f":"VLOOKUP(A60,'Races, Positions & Points'!E$10:F$31,2,FALSE)","v":0}]
[20630,"TEAGUE","Jack","M",2004,"U12","MID",null,999.99,null,999.99,999.99,null,999.99,999.99,null,null,null,null,null,null,null,null,null,null,null,null,{"$f":"VLOOKUP(A61,'Races, Positions & Points'!E$10:F$31,2,FALSE)","v":{"$error":"#N/A"}}]
[21837,"WOOLLEY","Kieran","M",2005,"U10","MID","WM",999.99,null,999.99,999.99,null,999.99,999.99,null,null,null,null,null,null,null,null,null,null,null,null,{"$f":"VLOOKUP(A62,'Races, Positions & Points'!E$10:F$31,2,FALSE)","v":0}]
[21606,"VALLAT","Agathe","F",1999,"U16","ALU","WBN",{"$f":"MIN(J63,L63,AA63,AC63,AD63)","v":465.82},null,465.82,465.82,null,465.82,465.82,null,null,null,null,null,null,null,null,null,null,null,null,{"$f":"VLOOKUP(A63,'Races, Positions & Points'!E$10:F$31,2,FALSE)","v":{"$error":"#N/A"}}]
[14263,"DAWES","Emily","F",1991,"SEN",null,null,"NR",null,"NR","NR",null,"NR","NR",null,null,null,null,null,null,null,null,null,null,null,null,"NR"]
[17839,"PHELPS","Sophia","F",1994,"U21",null,null,"NR",null,"NR","NR",null,"NR","NR",null,null,null,null,null,null,null,null,null,null,null,null,"NR"]
[17516,"WALLER","Olivia","F",1994,"U21",null,null,"NR",null,"NR","NR",null,"NR","NR",null,null,null,null,null,null,null,null,null,null,null,null,"NR"]
[20676,"FROST","JJ","M",1993,"SEN",null,null,"NR",null,"NR","NR",null,"NR","NR",null,null,null,null,null,null,null,null,null,null,null,null,"NR",null,null,null,null,null,null,"","",null,null,null,null,null,null,null,null,null,null,null,null,null,null,null,null,null,null,null,null,null,null,null,null,null,null,null,null,null,null,null,null,null,null,null,null,null,null,null,null,null,null,null,null,null,null,null,null,null,null,null,null,null,null,null,null,null,null,null,null,null,null,null,null,null,null,null,null,null,null,null,null,null,null,null,null,null,null,null,null,null,null,null,null,null,null,null,null,null,null,null,null,null,null,null,null,null,null,null,null,null,null,null,null,null,null,null,null,null,null,null,null,null,null,null,null,null,null,null,null,null,null,null,null,null,null,null,null,null,null,null,null,null,null,null,null,null,null,null,null,null,null,null,0,0,null,"","","","",null,null,null,"","","",999.99]
[21130,"HALL","Ben","M",1994,"U21",null,null,"NR",null,"NR","NR",null,"NR","NR",null,null,null,null,null,null,null,null,null,null,null,null,"NR",null,null,null,null,null,null,"","",null,null,null,null,null,null,null,null,null,null,null,null,null,null,null,null,null,null,null,null,null,null,null,null,null,null,null,null,null,null,null,null,null,null,null,null,null,null,null,null,null,null,null,null,null,null,null,null,null,null,null,null,null,null,null,null,null,null,null,null,null,null,null,null,null,null,null,null,null,null,null,null,null,null,null,null,null,null,null,null,null,null,null,null,null,null,null,null,null,null,null,null,null,null,null,null,null,null,null,null,null,null,null,null,null,null,null,null,null,null,null,null,null,null,null,null,null,null,null,null,null,null,null,null,null,null,null,null,null,null,null,null,null,null,null,null,null,null,null,null,null,null,null,0,0,null,"","","","",null,null,null,"","","",999.99]
[17958,"WALLER","Matthew","M",1999,"U16",null,null,"NR",null,"NR","NR",null,"NR","NR",null,null,null,null,null,null,null,null,null,null,null,null,"NR",null,null,null,null,null,null,"","",null,null,null,null,null,null,null,null,null,null,null,null,null,null,null,null,null,null,null,null,null,null,null,null,null,null,null,null,null,null,null,null,null,null,null,null,null,null,null,null,null,null,null,null,null,null,null,null,null,null,null,null,null,null,null,null,null,null,null,null,null,null,null,null,null,null,null,null,null,null,null,null,null,null,null,null,null,null,null,null,null,null,null,null,null,null,null,null,null,null,null,null,null,null,null,null,null,null,null,null,null,null,null,null,null,null,null,null,null,null,null,null,null,null,null,null,null,null,null,null,null,null,null,null,null,null,null,null,null,null,null,null,null,null,null,null,null,null,null,null,null,null,null,0,0,null,"",398.04,"","",null,null,null,331.70000000000005,"","",398.04]
["Day",null,null,null,null,null,null,null,"NR",null,"NR","NR",null,"NR","NR",null,null,null,null,null,null,null,null,null,null,null,null,"NR",null,null,null,null,null,null,"","",null,null,null,null,null,null,null,null,null,null,null,null,null,null,null,null,null,null,null,null,null,null,null,null,null,null,null,null,null,null,null,null,null,null,null,null,null,null,null,null,null,null,null,null,null,null,null,null,null,null,null,null,null,null,null,null,null,null,null,null,null,null,null,null,null,null,null,null,null,null,null,null,null,null,null,null,null,null,null,null,null,null,null,null,null,null,null,null,null,null,null,null,null,null,null,null,null,null,null,null,null,null,null,null,null,null,null,null,null,null,null,null,null,null,null,null,null,null,null,null,null,null,null,null,null,null,null,null,null,null,null,null,null,null,null,null,null,null,null,null,null,null,null,0,0]
[22176,"GILES","Ella","F",2003,"U12","MID",null,999.99,null,999.99,999.99,null,999.99,999.99,null,null,null,null,null,null,null,null,null,null,null,null,999.99]

{"sheet":"2014.1","index":4,"n_rows":62,"n_cols":10,"rows_kept":62,"cut":false,"hidden":true,"merged":[]}
["REGNO","SURNAME","FORENAME","SEX","YOB","CAT","CLUB1","CLUB2","iBARTS 14.1 PTS","oBARTS 14.1 PTS"]
[20168,"BILL","Rachel","F",1990,"SEN","MID","MID",23.81,23.81]
[17888,"DELLER","Lucy","F",1996,"U21","MID","DRA",25.68,25.68]
[20696,"NEWBOULT","Helena","F",1998,"U18","MID","MID",27.39,27.39]
[13381,"VERNON","Rowan","F",1988,"SEN","MID","MID",32.840000000000003,32.840000000000003]
[20307,"MIDDLETON","Amy","F",1995,"U21","MID",null,51.15,51.15]
[18033,"THOMAS","Elisabeth","F",1996,"U21","MID","DRA",72.7,72.7]
[18617,"HANCOCK","Maxine","F",1997,"U18","MID","SMK",74.28,74.28]
[21014,"MAYHEW","Jessica","F",2000,"U16","MID","MID",84.18,53.98]
[19833,"SHAKESHAFT","Hannah","F",1996,"U21","MID","SMK",140.29,140.29]
[19983,"CARE","Chloe","F",1998,"U18","MID",null,203.01,203.01]
[19165,"ELGY","Geraldine","F",1954,"MAS","MID",null,330.25,330.25]
[20781,"NEWBOULT","Laura","F",1995,"U21","MID",null,428.94,428.94]
[19573,"DOHERTY","Robyn","F",1996,"U21","MID",null,636.34,636.34]
[41577,"LEE","Jane","F",1954,"MAS","MID",null,640.45000000000005,640.45000000000005]
[20669,"TREUGE","Lauren","F",2003,"U12","MID",null,999.99,999.99]
[20809,"O'BRIEN","Matilda","F",2004,"U12","MID",null,999.99,999.99]
[21569,"HEMMING","Anya","F",2005,"U10","MID",null,999.99,999.99]
[22015,"LLEWELLYN","Aaliyah","F",2006,"U10","WM","MID",999.99,999.99]
[17356,"HORNSBY","Harry","M",1991,"SEN","MID","MID",5.41,5.28]
[17479,"POWELL","Jonathan","M",1986,"SEN","RAV","MID",18.72,18.72]
[12318,"DU PLESSIS","Andrew","M",1985,"SEN","MID","DHO",23.04,23.04]
[19704,"BEARDMORE","Adam","M",1986,"SEN","MID",null,35.26,35.26]
[41578,"LEE","Adam","M",1994,"U21","PND","MID",38.93,38.93]
[41722,"RIGBY","Jack","M",1995,"U21","MID","IMP",42.49,50.4]
[21084,"EMMERSON","Philip","M",1990,"SEN","MID",null,57.73,57.73]
[19163,"HAWKINS","Mark","M",1979,"MAS","MID",null,61.45,58.84]
[18607,"MILLER","Nicholas","M",1993,"SEN","MID",null,63.19,63.19]
[18586,"THORLEY","Alasdair","M",1994,"U21","MID","OXU",69.650000000000006,69.650000000000006]
[17840,"PHELPS","Nicholas","M",1997,"U18","MID","MID",70.34,70.34]
[19051,"WEEKS","Oliver","M",2001,"U14","MID","DRA",70.989999999999995,70.989999999999995]
[18509,"MILLER","Gareth","M",1994,"U21","MID","SAS",71.069999999999993,73.98]
[21595,"SMITH","James","M",1992,"SEN","MID",null,72.23,72.23]
[14213,"WALKER","Edmund","M",1992,"SEN","MID","MID",77.16,77.16]
[19910,"RIGBY","Jordan","M",2000,"U16","MID","IMP",111.82,111.82]
[20846,"DEWISON","Samuel","M",1998,"U18","MID","MID",119.86,119.86]
[5666,"CROMBLEHOLME","Roger","M",1957,"MAS","MID","TEL",120.35,120.35]
[20677,"FROST","Joey","M",1995,"U21","MID",null,127.79,127.79]
[41662,"LEE","Sam","M",1996,"U21","MID",null,128.82,128.82]
[18998,"THORLEY","Duncan","M",1997,"U18","MID",null,133.94999999999999,133.94999999999999]
[19941,"LAWRENCE","Thomas","M",1999,"U16","MID","DRA",144.61000000000001,144.61000000000001]
[19829,"HEMMING","Ethan","M",2001,"U14","MID","MID",150.21,150.21]
[19166,"ELGY","James","M",1993,"SEN","MID",null,166.36,166.36]
[19737,"O'BRIEN","Seamus","M",2002,"U14","MID","EVO",185.65,999.99]
[21550,"TARRANT","Toby","M",1997,"U18","MID",null,186.2,186.2]
[21051,"UPTON","Thomas","M",2001,"U14","MID",null,189.87,182.89]
[19379,"GUY","Edward","M",2001,"U14","TEL","MID",238.89,238.89]
[19572,"DOHERTY","Samuel","M",1999,"U16","MID",null,257.08999999999997,257.08999999999997]
[18616,"HANCOCK","Karl","M",1995,"U21","MID",null,259.37,259.37]
[19164,"ELGY","John","M",1951,"MAS","MID",null,332.56,332.56]
[21633,"KIRKLAND","Matthew","M",1992,"SEN","MID","MID",345.98,345.98]
[17039,"DELLER","Philip","M",1959,"MAS","MID",null,780.34,780.34]
[20590,"CARE","James","M",2002,"U14","MID",null,999.99,398.04]
[17037,"HANCOCK","David","M",1964,"MAS","MID","SMK",999.99,999.99]
[21075,"HEARD","Jake","M",1998,"U18","MID",null,999.99,999.99]
[20670,"TREUGE","Matthew","M",2002,"U14","MID","MID",999.99,999.99]
[20719,"HADLEY","Daniel","M",2004,"U12","MID","SMK",999.99,999.99]
[21052,"UPTON","Jack","M",2004,"U12","MID",null,999.99,999.99]
[21837,"WOOLLEY","Kieran","M",2005,"U10","MID","WM",999.99,999.99]
[21714,"BIRD","Joseph","M",1994,"U21","MID","MID",999.99,999.99]
[20340,"SHAKESHAFT","James","M",2003,"U12","MID",null,999.99,999.99]
[20630,"TEAGUE","Jack","M",2004,"U12","MID",null,999.99,999.99]

{"sheet":"2014.2","index":5,"n_rows":1707,"n_cols":10,"rows_kept":1707,"cut":false,"hidden":true,"merged":[]}
["REGNO","SURNAME","FORENAME","SEX","YOB","CAT","CLUB1","CLUB2","iBARTS 14.2 PTS","oBARTS 14.2 PTS"]
[21762,"PORTER","Tom","M",1997,"U18","2KP","2KP",999.99,999.99]
[18659,"NAYLER","Graham","M",1959,"MAS","ASR","ALD",128.41999999999999,128.41999999999999]
[14261,"CALVERT","John","M",1949,"MAS","ASR","ALD",344.67,344.67]
[14814,"STEVENS","Anthony","M",1962,"MAS",null,"ALU",999.99,999.99]
[18234,"WHITE","Thomas","M",1992,"SEN","AMB","AMB",28.18,40.520000000000003]
[14994,"MACAULAY","Alice","F",1995,"U21","AMB","AMB",2.5,2.5]
[18454,"WIDDUP","Bethany","F",1995,"U21","AMB","AMB",15.87,15.87]
[17702,"TAYLOR","Imogen","F",1994,"U21","AMB","AMB",67.87,152.99]
[20142,"EATON","Oliver","M",1996,"U21","AMB","AMB",115.42,115.42]
[20141,"EATON","Freya","F",1998,"U18","AMB","AMB",134.16,134.16]
[18475,"ASQUITH","Max","M",1996,"U21","AMB","AMB",200.32,200.32]
[17930,"WILLIS","Robert","M",1996,"U21","AMB","AMB",497.44,497.44]
[17488,"KAHVE","Lucy","F",1998,"U18","AMB","AMB",999.99,999.99]
[20799,"POLLITT","Oliver","M",2003,"U12","AMB","AMB",999.99,999.99]
[17284,"SIEBER","James","M",1996,"U21","ASR","AMB",2.91,2.91]
[41693,"WARD","Ella","F",1999,"U16","CAR","AMB",64.91,64.91]
[41692,"WARD","Olivia","F",2000,"U16","CAR","AMB",65.78,72.61]
[41831,"DAVIES","Alex","M",2002,"U14","CAR","AMB",255.2,999.99]
[13766,"EVANS","Emily","F",1994,"U21","CHT","AMB",10,10]
[17560,"ANDERSON","Jessica","F",1998,"U18","GRV","AMB",83.53,83.53]
[20535,"PINI","Maximilian","M",2002,"U14","GRV","AMB",999.99,999.99]
[19159,"HENDERSON","Anna","F",1998,"U18","HEM","AMB",8.5500000000000007,17.5]
[19005,"NORRIS","Kieran","M",1995,"U21","HEM","AMB",16.3,16.3]
[11915,"TELLING","Marc","M",1984,"MAS","HEM","AMB",16.91,16.91]
[20639,"WOODWARD","Sarah","F",2001,"U14","HEM","AMB",93.86,93.86]
[19735,"LONG","Phoebe","F",1998,"U18","HEM","AMB",166.55,166.55]
[20543,"LODER","Edward","M",1999,"U16","HEM","AMB",194.65,194.65]
[20601,"BURNS","Madeleine","F",2001,"U14","HEM","AMB",198.9,198.9]
[21077,"LEACH","Charlie","M",2001,"U14","HEM","AMB",216.88,216.88]
[18010,"RIDDELL","Luke","M",1996,"U21","HEM","AMB",163.16,163.16]
[11619,"MESUT","Justin","M",1985,"SEN","NOR","AMB",65.62,65.62]
[20748,"DADE","Tommy","M",2003,"U12","NOR","AMB",999.99,999.99]
[19869,"LEWIS","Barney","M",1995,"U21","SMK","AMB",22.57,22.57]
[20163,"WAGHORNE","Robert","M",1997,"U18","SMK","AMB",76.41,76.41]
[18649,"RILEY","Megan","F",2000,"U16","SMK","AMB",86.47,90.08]
[19001,"GLASGOW","Sarah","F",2001,"U14","SMK","AMB",98.08,147.02000000000001]
[18912,"SMITH","Benjamin","M",1997,"U18","SPR","AMB",66.650000000000006,66.650000000000006]
[19295,"ELLISS","Jack","M",1997,"U18","SPR","AMB",999.99,999.99]
[20181,"HENDERSON","Lucas","M",2003,"U12","SRR","AMB",999.99,999.99]
[19498,"LILLYWHITE","Alexandra","F",1999,"U16","VIK","AMB",49.28,49.28]
[20687,"TROUNG","Aaron","M",2001,"U14","VIK","AMB",112.35,112.35]
[17177,"STEUDLE","Roy","M",1993,"SEN",null,"AMB",142.51,999.99]
[17686,"BUCHANAN","Alexandra","F",1994,"U21",null,"AMB",173.01,999.99]
[14103,"MILLER","Violet","F",1995,"U21",null,"AMB",999.99,999.99]
[18504,"RAPOSO","Charlie","M",1996,"U21",null,"AMB",999.99,999.99]
[21050,"HUISMAN MURO","Kaylan","M",2003,"U12",null,"AMB",999.99,999.99]
[31191,"BROWN","Rachel","F",2000,"U16","GDN","ASC",121.52,121.52]
[30830,"BROWN","Jamie","M",1996,"U21","GDN","ASC",271.08999999999997,271.08999999999997]
[31257,"LIVERSIDGE","Lauren","F",2000,"U16","GDN","ASC",999.99,999.99]
[36610,"MORRISON","Hannah","F",1999,"U16","GDN","ASC",999.99,999.99]
[31358,"PYE","Ryan","M",2004,"U12","GDN","ASC",999.99,999.99]
[31100,"LAWRIE","Alannah","F",1999,"U16","SSC","ASC",68.540000000000006,68.540000000000006]
[18618,"BOZIER","Hannah","F",1996,"U21","ASR","ASR",8.9,6.95]
[18674,"CHAPMAN","Euan","M",1997,"U18","ASR","ASR",57.61,57.61]
[22111,"HODGSON","Ellen","F",2001,"U14","ASR","ASR",999.99,285.38]
[22079,"MAYHEAD","Eve","F",2000,"U16","ASR","ASR",999.99,464.18]
[21102,"SMITH","Oscar","M",2002,"U14","ASR","ASR",999.99,192.41]
[21602,"MILNER","Archie","M",2000,"U16","ASR","ASR",188.14,188.14]
[22159,"SMITH","Ben","M",2001,"U14","ASR","ASR",999.99,999.99]
[20262,"CASE","Toby","M",2002,"U14","HEM","ASR",117.78,105.98]
[17970,"HATHWAY","Ellen","F",1994,"U21","LSU","ASR",11.59,11.59]
[21627,"TURNER","Oliver","M",2000,"U16",null,"ASR",322.12,322.12]
[21140,"BLACK","Lauren","F",2001,"U14","AVO","AVO",332.06,295.44]
[21563,"WILLIAMS","Lewis","M",1999,"U16","AVO","AVO",414.39,359.89]
[21921,"HARVEY","Michael","M",2002,"U14","AVO","AVO",999.99,253.7]
[22019,"FORD","John","M",1987,"SEN","AVO","AVO",999.99,999.99]
[22080,"SOMMERFIELD","George","M",1997,"U18","AVO","AVO",999.99,999.99]
[21555,"BLACK","Callum","M",2004,"U12","AVO","AVO",999.99,999.99]
[20649,"SCHUBERT","Maximilian","M",2003,"U12","AVO","AVO",999.99,999.99]
[21650,"GOTTS","Joey","M",1987,"SEN","BRO","BRO",153.33000000000001,153.33000000000001]
[21897,"MARTIN","Lily","F",2002,"U14","BRO","BRO",999.99,999.99]
[22151,"NABAR","Paul","M",1964,"MAS",null,"BRO",999.99,999.99]
[20930,"ABRISHAMI","Diaco","M",2002,"U14","BRO","BRS",999.99,999.99]
[21713,"BEGLIN","Thomas","M",2004,"U12","HEM","BRS",999.99,999.99]
[21595,"SMITH","James","M",1992,"SEN","MID","BRU",72.23,72.23]
[19196,"CASE","George","M",2001,"U14","AVO","BSA",999.99,188.5]
[21848,"THOMAS","Owen","M",2001,"U14","BFC","BSA",999.99,999.99]
[21063,"BULLIVANT","Peter","M",2000,"U16","BOW","BSA",999.99,999.99]
[20988,"ROBERTSON","Ewan","M",2001,"U14","BRO","BSA",145.76,145.76]
[19413,"MCCLOUD","Milo","M",1997,"U18","BSA","BSA",226.82,226.82]
[20332,"IGLINA","Sofia","F",1997,"U18","BSA","BSA",999.99,999.99]
[21528,"PANTELI","Charlotte","F",1999,"U16","BSA","BSA",999.99,999.99]
[21394,"ROGERS","Anna","F",2001,"U14","BSA","BSA",999.99,999.99]
[19421,"CHAJECKI","Sebastian","M",1997,"U18","BSA","BSA",999.99,999.99]
[19524,"DOYLE","Jake","M",2001,"U14","BSA","BSA",999.99,999.99]
[21907,"HOGAN","John","M",2000,"U16","BSA","BSA",999.99,999.99]
[20460,"PATRICK","Oliver","M",1997,"U18","BSA","BSA",999.99,999.99]
[21609,"REBERT","Ethan","M",1998,"U18","BSA","BSA",999.99,999.99]
[21395,"ROGERS","Marcus","M",1999,"U16","BSA","BSA",999.99,999.99]
[41445,"SPILL","George","M",1993,"SEN","CAR","BSA",231.48,999.99]
[31489,"PROVAN","Max","M",2001,"U14","CSC","BSA",999.99,999.99]
[21571,"LAUGHLAND","Maximilian","M",2004,"U12","FLK","BSA",999.99,999.99]
[30624,"TILLEY","Alexandra","F",1993,"SEN","GDN","BSA",43.05,46.21]
[30869,"TROUP","Kieran","M",2000,"U16","GDN","BSA",999.99,999.99]
[18740,"MARTIN-HARRINGTON","Beatrice","F",1997,"U18","GLO","BSA",60.29,60.29]
[19260,"MITCHELL","Olivia","F",2001,"U14","GLO","BSA",85.9,85.9]
[20208,"HOSKINS","Isabella","F",1999,"U16","GLO","BSA",332,332]
[31139,"MCNICOL","Archie","M",1999,"U16","GSC","BSA",999.99,999.99]
[30898,"KICK","Euan","M",1997,"U18","GSR","BSA",0.41,0.41]
[19773,"CURTIS","Marie","F",1997,"U18","HEM","BSA",49.86,49.86]
[21355,"TAPSELL","Charlotte","F",2001,"U14","HEM","BSA",136.03,144.21]
[19137,"COOPER","Yasmin","F",1998,"U18","HEM","BSA",29.99,29.99]
[19169,"MANSON","Cameron","F",1998,"U18","HEM","BSA",37.049999999999997,999.99]
[19363,"DEIGHTON","Harry","M",2000,"U16","HEM","BSA",98.2,98.2]
[19362,"DEIGHTON","Toby","M",1999,"U16","HEM","BSA",104.13,104.13]
[20360,"BUCKLAND","Amber","F",1997,"U18","HEM","BSA",204.07,204.07]
[19153,"GIBBINS","Joseph","M",1998,"U18","HEM","BSA",208.1,208.1]
[21521,"CHMIELOWSKA","Julia","F",1996,"U21","HEM","BSA",999.99,999.99]
[21924,"LOVE","Charlie","M",2001,"U14","HEM","BSA",999.99,999.99]
[20364,"TATTERSALL","James","M",1997,"U18","MSR","BSA",210.68,210.68]
[41622,"JENKINS","Nia","F",1995,"U21","NOR","BSA",8.85,10.86]
[20481,"HUDSON","Thomas","M",2001,"U14","NOR","BSA",92.4,92.4]
[12989,"RICHES","Stuart","M",1989,"SEN","NOR","BSA",7.57,7.57]
[12618,"BALDWIN","Thomas","M",1990,"SEN","NOR","BSA",17.3,17.3]
[41623,"JENKINS","Megan","F",1998,"U18","NOR","BSA",20,20]
[19564,"WAYLING","Lloyd","M",1995,"U21","NOR","BSA",32.97,32.97]
[14962,"SHAILES","Polly","F",1996,"U21","NOR","BSA",34.409999999999997,34.409999999999997]
[18810,"FENELEY","Luke","M",1997,"U18","NOR","BSA",69.23,69.23]
[19586,"BUTCHER","Jazmine","F",1997,"U18","NOR","BSA",100.59,100.59]
[18809,"FENELEY","William","M",1999,"U16","NOR","BSA",148.16,148.16]
[14899,"MERCER","Patrick","M",1995,"U21","NOR","BSA",999.99,999.99]
[19770,"COOPER","Izabelle","F",2001,"U14","SAS","BSA",999.99,999.99]
[21199,"HORTON","Siena","F",2002,"U14","SMK","BSA",132.88999999999999,999.99]
[19187,"HAY","Cameron","M",1999,"U16","SMK","BSA",261.19,999.99]
[19834,"HAY","Louis","M",2002,"U14","SMK","BSA",999.99,999.99]
[30919,"BUCHAN","Scott","M",1999,"U16","SSC","BSA",129.37,136.61000000000001]
[30633,"GUEST","Charlotte","F",1993,"SEN","SSC","BSA",129.78,129.78]
[31025,"CROCKART","Tom","M",2000,"U16","SSC","BSA",176.66,176.66]
[31034,"JOHNSTON","Hamish","M",1997,"U18","SSC","BSA",214.82,214.82]
[31068,"CROSS","Jack","M",1998,"U18","SSC","BSA",339.12,339.12]
[30779,"GUEST","Katharine","F",1995,"U21","SSC","BSA",355.6,355.6]
[30920,"GUEST","Kirsty","F",1997,"U18","SSC","BSA",659.75,659.75]
[30921,"GUEST","Christopher","M",1997,"U18","SSC","BSA",989,989]
[30883,"HUNTINGTON","Calum","M",1995,"U21","SSC","BSA",989,989]
[31249,"BARKER","Duncan","M",2003,"U12","SSC","BSA",999.99,999.99]
[17513,"FELLOWS","Jordan","M",1997,"U18","TEL","BSA",11.46,12.91]
[20216,"CAWTHORNE","Louis","M",2000,"U16","TOQ","BSA",133.80000000000001,132.69]
[20215,"CAWTHORNE","Harry","M",1999,"U16","TOQ","BSA",138.72,129.34]
[18072,"THOMAS","Cameron","M",1997,"U18","TOQ","BSA",45.79,45.79]
[20633,"CUNNINGHAM","Jake","M",2002,"U14","TOQ","BSA",999.99,999.99]
[21378,"STOCKER","Natasha","F",2001,"U14","TSN","BSA",242.44,242.44]
[21382,"STOCKER","Anastacia","F",2003,"U12","TSN","BSA",999.99,999.99]
[21397,"STOCKER","Sophie","F",2005,"U10","TSN","BSA",999.99,999.99]
[19680,"BAXTER","Phillipa","F",1998,"U18","VIK","BSA",150.13,150.13]
[21868,"GRAINGER","Christopher","M",1999,"U16","VIK","BSA",999.99,999.99]
[20366,"CHASTNEY","Rebecca","F",2002,"U14","WM","BSA",999.99,999.99]
[21331,"DILWORTH","Lucinda","F",1998,"U18",null,"BSA",104.75,104.75]
[19126,"HEGINBOTHAM","Erika","F",1998,"U18",null,"BSA",161.76,161.76]
[19125,"HEGINBOTHAM","Matthew","M",2000,"U16",null,"BSA",258.27,258.27]
[20455,"MCCALL","Oscar","M",2000,"U16",null,"BSA",375.15,375.15]
[18164,"TAYLOR","Laurie","M",1996,"U21",null,"BSA",421.44,421.44]
[21338,"BELL","Reece","F",2001,"U14",null,"BSA",999.99,999.99]
[22071,"DRUMMOND","Davina","F",2001,"U14",null,"BSA",999.99,999.99]
[22086,"DRUMMOND","Miranda","F",2002,"U14",null,"BSA",999.99,999.99]
[20620,"LEGEAIS","Marion","F",1998,"U18",null,"BSA",999.99,999.99]
[19831,"LISMORE","Sophie","F",1999,"U16",null,"BSA",999.99,999.99]
[19453,"LOEFFEN-GALLAGHER","Hannah","F",2000,"U16",null,"BSA",999.99,999.99]
[21392,"RAMPTON","Clementine","F",2001,"U14",null,"BSA",999.99,999.99]
[17803,"RICHARDS","Camille","F",1998,"U18",null,"BSA",999.99,999.99]
[21403,"SLADE","Hattie","F",1998,"U18",null,"BSA",999.99,999.99]
[21404,"SLADE","Isobel","F",1999,"U16",null,"BSA",999.99,999.99]
[20974,"BEAVIS","Riley","M",2002,"U14",null,"BSA",999.99,999.99]
[21886,"HILLMAN","Ben","M",2002,"U14",null,"BSA",999.99,999.99]
[21882,"HILLMAN","Luke","M",2001,"U14",null,"BSA",999.99,999.99]
[21562,"KEYS","Alexander","M",1998,"U18",null,"BSA",999.99,999.99]
[19830,"LISMORE","Jake","M",1997,"U18",null,"BSA",999.99,999.99]
[21401,"MATHER","Fred","M",2001,"U14",null,"BSA",999.99,999.99]
[21479,"MORGAN","Jonathan","M",1999,"U16",null,"BSA",999.99,999.99]
[20377,"O'NEILL","Jack","M",1999,"U16",null,"BSA",999.99,999.99]
[19796,"RICHARDS","Alexandre","M",2002,"U14",null,"BSA",999.99,999.99]
[21895,"RILEY","Joshua","M",1999,"U16",null,"BSA",999.99,999.99]
[21896,"RILEY","Thomas","M",2001,"U14",null,"BSA",999.99,999.99]
[20398,"TARANTELLI","Leone","M",1999,"U16",null,"BSA",999.99,999.99]
[20399,"TARANTELLI","Uberto","M",2000,"U16",null,"BSA",999.99,999.99]
[20290,"WILLS","Angus","M",1999,"U16",null,"BSA",999.99,999.99]
[22031,"GRANT","Amelia","F",2003,"U12",null,"BSA",999.99,999.99]
[21053,"GRANT","Isabelle","F",2003,"U12",null,"BSA",999.99,999.99]
[21966,"O'NEILL","Kita","F",2005,"U10",null,"BSA",999.99,999.99]
[20945,"O'NEILL","Maeve","F",2003,"U12",null,"BSA",999.99,999.99]
[22053,"JENNISON","Alexandre","M",2003,"U12",null,"BSA",999.99,999.99]
[21801,"KANE","Heathcliffe","M",2003,"U12",null,"BSA",999.99,999.99]
[21393,"RAMPTON","Thomas","M",2003,"U12",null,"BSA",999.99,999.99]
[21405,"SLADE","Ted","M",2003,"U12",null,"BSA",999.99,999.99]
[31452,"HAYWARD","Euan","M",1999,"U16","BSA","BSC",999.99,999.99]
[21536,"PARKER","Julia","F",1963,"MAS","VIK","CAD",999.99,999.99]
[41952,"RONAN","Eleanor","F",2000,"U16","SCI","CHL",370.93,370.93]
[19624,"SYMONS","Daniel","M",1995,"U21","CHT","CHT",81.8,81.8]
[10596,"BUNTON","Paul","M",1963,"MAS","CHT","CHT",122.87,122.87]
[20167,"COMELIO","Sebastian","M",2002,"U14","AVO","DHO",999.99,999.99]
[21710,"YUNG","HauTak","M",2002,"U14","BRS","DHO",999.99,999.99]
[21709,"YUNG","Adrian","M",2004,"U12","BRS","DHO",999.99,999.99]
[21150,"KARAVASILI","Zoe","F",1997,"U18","DHO","DHO",73.14,87.85]
[17950,"TODD-SAUNDERS","Samuel","M",1996,"U21","DHO","DHO",100.61,100.61]
[21149,"KARAVASILI","Leo","M",1999,"U16","DHO","DHO",158.79,158.79]
[17385,"STAMMERS","Benjamin","M",1995,"U21","DHO","DHO",445.21,445.21]
[19440,"ADAMS","Sarah","F",1997,"U18","DHO","DHO",999.99,999.99]
[20800,"DALE","Safia","F",2000,"U16","DHO","DHO",999.99,999.99]
[21785,"LEWITT","Isabelle","F",2001,"U14","DHO","DHO",999.99,999.99]
[21518,"MOONEY","Philippa","F",1999,"U16","DHO","DHO",999.99,999.99]
[17717,"STAMMERS","Sophie","F",1998,"U18","DHO","DHO",999.99,999.99]
[21889,"STOWELL","Susanna","F",2001,"U14","DHO","DHO",999.99,999.99]
[17951,"TODD-SAUNDERS","Helen","F",1999,"U16","DHO","DHO",999.99,999.99]
[20815,"DOYLE","Harrison","M",2000,"U16","DHO","DHO",999.99,999.99]
[20887,"LEAVITT","Samuel","M",1998,"U18","DHO","DHO",999.99,999.99]
[20922,"LEAVITT","William","M",1998,"U18","DHO","DHO",999.99,999.99]
[19791,"LOGUT","George-Louis","M",1996,"U21","DHO","DHO",999.99,999.99]
[20782,"MOONEY","Hugo","M",1997,"U18","DHO","DHO",999.99,999.99]
[20102,"PERETZ","Adi","M",1998,"U18","DHO","DHO",999.99,999.99]
[21922,"CHOHAN","Zacariya","M",2005,"U10","DHO","DHO",999.99,999.99]
[18807,"MROZ","Dominik","M",1993,"SEN","ESX","DHO",317.45,999.99]
[21103,"WILLIAMS-GRAVENER","David","M",2001,"U14","FLK","DHO",230.29,261.81]
[14344,"PORTER","Tobias","M",1993,"SEN","FLK","DHO",140.94,140.94]
[20122,"RABEY","Judson","M",2000,"U16","HEM","DHO",221.08,221.08]
[21923,"CHERRY","Tom","M",1996,"U21","HEM","DHO",999.99,999.99]
[12318,"DU PLESSIS","Andrew","M",1985,"SEN","MID","DHO",23.04,23.04]
[17893,"SEELEY","Grace","F",1995,"U21","RAV","DHO",466.63,466.63]
[17892,"SEELEY","Julia","F",1993,"SEN","RAV","DHO",481.91,481.91]
[8242,"ALCOTT","Chimene","F",1982,"MAS","SPR","DHO",177.16,177.16]
[18481,"ROTH","Phoebe","F",1994,"U21",null,"DHO",113.82,999.99]
[19990,"ASHMAN","Alexander","M",2000,"U16",null,"DHO",233.18,233.18]
[18990,"DONNELLON","Amy","F",1994,"U21",null,"DHO",999.99,999.99]
[21771,"FAIRHEAD","Iona","F",2000,"U16",null,"DHO",999.99,999.99]
[21940,"GALBRAITH","Clare","F",1963,"MAS",null,"DHO",999.99,999.99]
[21949,"GALBRAITH","Helena","F",2000,"U16",null,"DHO",999.99,999.99]
[21277,"MILLARD","Paige","F",2002,"U14",null,"DHO",999.99,999.99]
[21578,"YUNG","Catherine","F",1998,"U18",null,"DHO",999.99,999.99]
[21891,"BRANDT","Orlando","M",2001,"U14",null,"DHO",999.99,999.99]
[20315,"DERU","Joshua","M",1996,"U21",null,"DHO",999.99,999.99]
[21533,"DINGLE","Dominic","M",1996,"U21",null,"DHO",999.99,999.99]
[21532,"DINGLE","Timothy","M",1998,"U18",null,"DHO",999.99,999.99]
[12317,"DU PLESSIS","Stephen","M",1987,"SEN",null,"DHO",999.99,999.99]
[18246,"DUNHILL","Harry","M",1992,"SEN",null,"DHO",999.99,999.99]
[21529,"GILKINSON","Jake","M",1995,"U21",null,"DHO",999.99,999.99]
[21546,"LUKE","Charlie","M",2000,"U16",null,"DHO",999.99,999.99]
[21276,"MILLARD","Oliver","M",2000,"U16",null,"DHO",999.99,999.99]
[20125,"MYRSEP-FRANCE","Nicholas","M",1998,"U18",null,"DHO",999.99,999.99]
[14252,"NISBET","Angus","M",1993,"SEN",null,"DHO",999.99,999.99]
[20975,"OHARA","Mizuki","M",1998,"U18",null,"DHO",999.99,999.99]
[21415,"RASHCHUPKIN","Maxim","M",2002,"U14",null,"DHO",999.99,999.99]
[17818,"SHERRAS","Andrew","M",1995,"U21",null,"DHO",999.99,999.99]
[17819,"SHERRAS","Richard","M",1997,"U18",null,"DHO",999.99,999.99]
[20477,"STORER","James","M",1998,"U18",null,"DHO",999.99,999.99]
[21892,"BRANDT","Honor","F",2005,"U10",null,"DHO",999.99,999.99]
[20479,"STORER","Toby","M",2003,"U12",null,"DHO",999.99,999.99]
[19986,"USHER","Annie","F",1997,"U18","ASR","DRA",31.63,24.62]
[41480,"HOPKINS","Emily","F",1994,"U21","CAR","DRA",3.42,3.42]
[41274,"HALES","Alice","F",1992,"SEN","CAR","DRA",3.75,3.75]
[41182,"HALES","Thomas","M",1990,"SEN","CAR","DRA",5.63,5.32]
[41273,"HALES","Robert","M",1960,"MAS","CAR","DRA",61.58,55.31]
[41650,"SELLWOOD","Thomas","M",1996,"U21","CAR","DRA",98.98,67.12]
[41710,"CONSTANTINE","Joseph","M",2000,"U16","CAR","DRA",122.82,123.51]
[41816,"HYETT","Georgia","F",2000,"U16","CAR","DRA",150.21,127.45]
[41042,"WATSON","Andrew","M",1991,"SEN","CAR","DRA",0.41,0.41]
[41880,"HOPKINS","Harry","M",1999,"U16","CAR","DRA",155.06,155.06]
[41735,"CONSTANTINE","Benjamin","M",2003,"U12","CAR","DRA",999.99,999.99]
[41661,"THOMAS","Cyffin","M",2000,"U16","DRA","DRA",203.46,266.12]
[13838,"FRASER HAFTER","Fergus","M",1992,"SEN","DRA","DRA",448.5,448.5]
[41990,"CASHMORE","Edward","M",2001,"U14","EXD","DRA",225.45,217.58]
[41991,"CASHMORE","William","M",1998,"U18","EXD","DRA",243.43,205.03]
[41007,"GODDARD","Emily","F",1987,"SEN","GLO","DRA",24.64,24.64]
[41705,"HALLETT","Georgia","F",1996,"U21","GLO","DRA",24.96,23.97]
[19414,"DANNATT","Gemma","F",1996,"U21","GLO","DRA",76.08,76.08]
[19197,"PENHALE","Emma","F",2000,"U16","GLO","DRA",140.75,101.53]
[41837,"PRICE","Rhys","M",2001,"U14","GLO","DRA",201.19,180.93]
[17351,"DANNATT","Tim","M",1994,"U21","GLO","DRA",65,65]
[18676,"COOPER","Georgina","F",1996,"U21","GLO","DRA",71.180000000000007,71.180000000000007]
[41124,"JEAL","Alex","M",1990,"SEN","GLO","DRA",15.06,15.06]
[19051,"WEEKS","Oliver","M",2001,"U14","MID","DRA",70.989999999999995,70.989999999999995]
[18033,"THOMAS","Elisabeth","F",1996,"U21","MID","DRA",72.7,72.7]
[17888,"DELLER","Lucy","F",1996,"U21","MID","DRA",25.68,25.68]
[19941,"LAWRENCE","Thomas","M",1999,"U16","MID","DRA",144.61000000000001,144.61000000000001]
[14746,"LAMBDEN","Sarah","F",1995,"U21","MSR","DRA",2.5,2.5]
[14747,"OGDEN","Sophie","F",1996,"U21","MSR","DRA",4.4800000000000004,4.4800000000000004]
[17919,"RICHARDSON","Charles","M",1992,"SEN","MSR","DRA",14.73,14.73]
[13792,"KNOWLES","Michael","M",1995,"U21","MSR","DRA",32.97,32.97]
[19574,"MARTIN","Matthew","M",1995,"U21","MSR","DRA",39.96,42.98]
[18088,"RICHARDSON","George","M",1997,"U18","MSR","DRA",47.37,61.03]
[19781,"POTTER","Shannon","F",2001,"U14","MSR","DRA",62.21,78.58]
[41877,"GALE","Rhodri","M",1999,"U16","MSR","DRA",76.41,81.77]
[19019,"MCGREGOR-OGDEN","Cameron","M",2000,"U16","MSR","DRA",81.48,83.83]
[19569,"RASCAGNERES","Thomas","M",2000,"U16","MSR","DRA",79.34,87.89]
[13773,"TEE","David","M",1990,"SEN","MSR","DRA",42.98,42.98]
[19338,"MORTON","Sofia","F",1996,"U21","MSR","DRA",65.349999999999994,65.349999999999994]
[20173,"MCGREGOR-OGDEN","Holly","F",2003,"U12","MSR","DRA",999.99,999.99]
[41495,"PIERCE","Zac","M",1997,"U18","PND","DRA",255.62,255.62]
[18916,"FARR","Oliver","M",1995,"U21","PPS","DRA",29.16,34.03]
[20193,"BROWN","Cameron","M",1998,"U18","PPS","DRA",51.07,51.07]
[21107,"CARSON","Sam","M",1999,"U16","PPS","DRA",58.07,78.459999999999994]
[20717,"HALLETT","Jacob","M",1999,"U16","PPS","DRA",84.87,97.97]
[19585,"BLACK","Oliver","M",2001,"U14","PPS","DRA",151.69999999999999,153.69999999999999]
[21156,"COATES","Joseph","M",2000,"U16","PPS","DRA",181.71,181.71]
[20132,"BLACK","Grace","F",2003,"U12","PPS","DRA",999.99,999.99]
[18863,"HENERY","Deborah","F",1997,"U18","SHK","DRA",21.74,21.74]
[12972,"HEAVERSEDGE","Antony","M",1987,"SEN","SHK","DRA",48.53,999.99]
[42020,"HODDER","Lowri","F",1999,"U16","TOR","DRA",305.8,274.81]
[41719,"BUTTERWORTH","Thomas","M",2002,"U14","WWS","DRA",261.33999999999997,156.33000000000001]
[41721,"BUTTERWORTH","Daniel","M",1996,"U21","WWS","DRA",66.430000000000007,66.430000000000007]
[41966,"HODSON","Steffan","M",2005,"U10","WWS","DRA",999.99,999.99]
[41826,"BONNINGTON","Keira","F",2002,"U14",null,"DRA",999.99,999.99]
[19503,"LAWSON-TILLEY","Sarah","F",1994,"U21",null,"DRA",999.99,999.99]
[21272,"TILLEY","Katherine","F",2001,"U14",null,"DRA",999.99,999.99]
[41410,"PRITCHARD","Ray","M",1965,"MAS",null,"DRA",999.99,999.99]
[41967,"BONNINGTON","Chay","M",2005,"U10",null,"DRA",999.99,999.99]
[31424,"MUIR","Jimmy","M",2002,"U14","ASC","DSC",999.99,999.99]
[31426,"MUIR","Fiona","F",2006,"U10","ASC","DSC",999.99,999.99]
[31425,"MUIR","Kirsty","F",2004,"U12","ASC","DSC",999.99,999.99]
[20484,"BAILES","Max","M",1999,"U16","ESX","ELI",199.06,199.06]
[20805,"BAILES","Lucy","F",2001,"U14","ESX","ELI",295.49,295.49]
[21875,"HADDEN","Alexander","M",2001,"U14","ESX","ELI",999.99,999.99]
[19712,"BOTY","Carys","F",1999,"U16","HEM","ELI",130.43,130.43]
[21334,"BOTY","Nia","F",2003,"U12","HEM","ELI",999.99,999.99]
[21604,"OGDEN","Alexander","M",2005,"U10","NOR","ELI",999.99,999.99]
[20884,"THOMPSON","Joseph","M",2003,"U12","NOR","ELI",999.99,999.99]
[19504,"BROOKER","Lolli","F",2001,"U14","VIK","ELI",94.92,94.92]
[9379,"PROUDLOVE","Andrew","M",1958,"MAS","BRO","EVO",187.93,187.93]
[12458,"TELLING","Paul","M",1982,"MAS","EVO","EVO",34.03,34.03]
[13784,"BAGGIO","Max","M",1995,"U21","EVO","EVO",45.49,45.49]
[18382,"MEAD","Darcie","F",1996,"U21","EVO","EVO",47.69,47.69]
[20367,"BRUCE","Abigail","F",2000,"U16","EVO","EVO",102.67,102.67]
[20368,"BRUCE","Sasha","F",1999,"U16","EVO","EVO",129.72,129.72]
[21495,"WASHER","Piers","M",1998,"U18","EVO","EVO",138.97,138.97]
[18235,"TAYLOR","Isadora","F",1997,"U18","EVO","EVO",234.75,234.75]
[20603,"DIXON","Rory","M",1999,"U16","EVO","EVO",322.79000000000002,322.79000000000002]
[12428,"BAGGIO","Jayme","F",1991,"SEN","EVO","EVO",999.99,999.99]
[11941,"FAIRWEATHER","Sega","F",1990,"SEN","EVO","EVO",999.99,999.99]
[10812,"HUNT","Georgie","M",1984,"MAS","HEM","EVO",6.14,7.27]
[20972,"HUGEC","Nicole","F",2000,"U16","HEM","EVO",92.3,97.27]
[20832,"CALDWELL","Patrick","M",2000,"U16","HEM","EVO",116.47,132.02000000000001]
[20833,"CALDWELL","Anna","F",2002,"U14","HEM","EVO",157.79,999.99]
[20971,"HUGEC","Nadine","F",2002,"U14","HEM","EVO",154.54,999.99]
[20256,"DANENBERGSONS","Shana","F",2000,"U16","HEM","EVO",69.16,69.16]
[20761,"LEE","Dexter","M",2000,"U16","HEM","EVO",93.06,93.06]
[19510,"LOWE","Jordan","M",1998,"U18","HEM","EVO",213.67,213.67]
[21795,"MAGENES","Caterina","F",2000,"U16","HEM","EVO",999.99,999.99]
[19737,"O'BRIEN","Seamus","M",2002,"U14","MID","EVO",142.41,999.99]
[19531,"DANIELS","Daisi","F",2002,"U14","MSR","EVO",95.78,999.99]
[19275,"GREAVES","Rebecca","F",1999,"U16","MSR","EVO",144.13999999999999,144.13999999999999]
[18316,"CLISSOLD","Honor","F",1997,"U18","RAV","EVO",191.53,191.53]
[20253,"MATHEW","Oliver","M",2002,"U14","AVO","EXD",999.99,872.1]
[20146,"TAYLOR-TIPTON","Curtis","M",1996,"U21","FF","FF",233.12,233.12]
[20147,"TAYLOR-TIPTON","Justin","M",2000,"U16","FF","FF",239.23,239.23]
[21261,"TAYLOR-TIPTON","Ella","F",2004,"U12","FF","FF",999.99,999.99]
[21373,"FRY","Bradley","M",2005,"U10","FF","FF",999.99,999.99]
[19084,"BROWN","Thomas","M",1998,"U18","CHT","FLK",212.61,212.61]
[21204,"MIDSON","Poppy","F",2001,"U14","FLK","FLK",162.81,162.81]
[21205,"MIDSON","Molly","F",2003,"U12","FLK","FLK",999.99,999.99]
[19083,"BROWN","Jack","M",1995,"U21","GLO","FLK",53.19,53.19]
[30664,"ANGUS","Kate","F",1994,"U21","SSC","GDN",307.83,307.83]
[36608,"DUNCAN","Ruaraidh","M",2001,"U14","SSC","GDN",999.99,999.99]
[21811,"WELLS","Oliver","M",1994,"U21","HEM","GLO",999.99,68.53]
[20851,"BLOOM","Adam","M",1973,"MAS","WCS","GLO",100.85,100.85]
[20852,"BLOOM","Ryan","M",2001,"U14","WCS","GLO",136.66,132.22999999999999]
[36616,"CURRIE","Findlay","M",2001,"U14","BSC","GSC",999.99,999.99]
[36615,"CURRIE","Fergus","M",2005,"U10","BSC","GSC",999.99,999.99]
[31004,"MACWILLIAM","David","M",1996,"U21","BSC","GSR",72.290000000000006,72.290000000000006]
[31065,"SANDIESON","Cal","M",1998,"U18","BSC","GSR",999.99,999.99]
[30872,"JACKSON","Laura","F",1997,"U18","SSC","GSR",61.84,66.08]
[30711,"PRICE","Graeme","M",1995,"U21","SSC","GSR",63.81,63.85]
[30959,"ROFE","Thomas","M",1998,"U18","SSC","GSR",124.91,124.91]
[30927,"PRICE","Rhona","F",1999,"U16","SSC","GSR",138.06,138.06]
[30925,"STURROCK","Fraser","M",1997,"U18","SSC","GSR",140.85,140.85]
[30909,"BINGHAM","Sion","M",1997,"U18","SSC","GSR",158.87,201.69]
[21712,"CHAPLIN","Brendon","M",1996,"U21","BRS","HEM",297.33,297.33]
[21879,"LEES","James","M",2001,"U14","BSA","HEM",999.99,999.99]
[21878,"LEES","Nadia","F",2003,"U12","BSA","HEM",999.99,999.99]
[17467,"TREBILCOCK","Robert","M",1993,"SEN","HEM","HEM",13.23,13.58]
[14856,"GRANT","Thomas","M",1996,"U21","HEM","HEM",33.01,33.729999999999997]
[14809,"GREENFIELD","Max","M",1994,"U21","HEM","HEM",49.53,59.8]
[20376,"GOSS","Alfie","M",1999,"U16","HEM","HEM",150.57,572.45000000000005]
[22082,"HAWKINS","Zara","F",2001,"U14","HEM","HEM",999.99,190.45]
[19639,"BARTON","Daniel","M",1998,"U18","HEM","HEM",49.25,49.25]
[18661,"WARMINGTON","Richard","M",1997,"U18","HEM","HEM",73.569999999999993,73.569999999999993]
[20655,"SHOOTER","Hope","F",1993,"SEN","HEM","HEM",119.52,119.52]
[9129,"URQUHART","John","M",1968,"MAS","HEM","HEM",138.44999999999999,138.44999999999999]
[21219,"DEAN","Emily","F",1999,"U16","HEM","HEM",138.97,138.97]
[21188,"PARKES","Michael","M",1989,"SEN","HEM","HEM",143.43,143.43]
[20439,"STEVENS","Annecy","F",2000,"U16","HEM","HEM",193.12,193.12]
[21145,"WATERSTON","Laughlan","M",1971,"MAS","HEM","HEM",255.98,255.98]
[20890,"DAVIES","Megan","F",2001,"U14","HEM","HEM",262.36,262.36]
[21660,"NEUMANN","Sophie","F",1998,"U18","HEM","HEM",282.95,282.95]
[21196,"URQUHART","Colm","M",2001,"U14","HEM","HEM",416.92,416.92]
[22075,"CLARKE","Roisin","F",2002,"U14","HEM","HEM",999.99,999.99]
[22083,"HAWKINS","Danielle","F",2001,"U14","HEM","HEM",999.99,999.99]
[22084,"HAWKINS","Lily","F",2001,"U14","HEM","HEM",999.99,999.99]
[22049,"PETERSON","Amy","F",1999,"U16","HEM","HEM",999.99,999.99]
[21950,"STEVENS","Holly","F",1968,"MAS","HEM","HEM",999.99,999.99]
[20813,"TOH","Isabel","F",2000,"U16","HEM","HEM",999.99,999.99]
[21809,"TUTT","Anna","F",1974,"MAS","HEM","HEM",999.99,999.99]
[20725,"WARMINGTON","Harriet","F",2002,"U14","HEM","HEM",999.99,999.99]
[22091,"WOLOSZCZUK","Lucy","F",2001,"U14","HEM","HEM",999.99,999.99]
[21808,"ARLOTT","Martin","M",1971,"MAS","HEM","HEM",999.99,999.99]
[22025,"EDWARDES","Henry","M",1993,"SEN","HEM","HEM",999.99,999.99]
[22056,"SCHLOTE","Harry","M",2000,"U16","HEM","HEM",999.99,999.99]
[19077,"THURSFIELD","Emrys","M",1999,"U16","HEM","HEM",999.99,999.99]
[20811,"TOH","Alexander","M",2000,"U16","HEM","HEM",999.99,999.99]
[20812,"TOH","James","M",2000,"U16","HEM","HEM",999.99,999.99]
[22183,"PHIPPEN","Chris","M",1973,"MAS","HEM","HEM",999.99,999.99]
[20441,"STEVENS","Lilyella","F",2002,"U14","HEM","HEM",999.99,379.9]
[22110,"FAIRFULL","Madeleine","F",2006,"U10","HEM","HEM",999.99,999.99]
[21925,"MCLEISH","Emily","F",2003,"U12","HEM","HEM",999.99,999.99]
[20440,"STEVENS","Cordelia","F",2005,"U10","HEM","HEM",999.99,999.99]
[21719,"THOMAS","Sophie","F",2003,"U12","HEM","HEM",999.99,999.99]
[22076,"CLARKE","Alec","M",2004,"U12","HEM","HEM",999.99,999.99]
[22077,"CLARKE","Conall","M",2006,"U10","HEM","HEM",999.99,999.99]
[22088,"FAIRFULL","Max","M",2003,"U12","HEM","HEM",999.99,999.99]
[22026,"LOUTH","Oscar","M",2005,"U10","HEM","HEM",999.99,999.99]
[21707,"TAMANA","Hari","M",2003,"U12","HEM","HEM",999.99,999.99]
[21197,"URQUHART","Aidan","M",2004,"U12","HEM","HEM",999.99,999.99]
[14855,"GRANT","James","M",1994,"U21","LSU","HEM",24.53,24.53]
[22120,"BUTLER","Molly","F",2006,"U10","SAS","HEM",999.99,999.99]
[22060,"HUTCHINGS","Daniel","M",2005,"U10","SAS","HEM",999.99,999.99]
[20345,"GARMENT","Harriett","F",2000,"U16","WGC","HEM",465.82,465.82]
[21366,"LYONS","Alan","M",1965,"MAS",null,"HEM",221.64,221.64]
[21700,"MAGENES","Matilde","F",2002,"U14",null,"HEM",999.99,999.99]
[21411,"BUTLER","Simon","M",1962,"MAS",null,"HEM",999.99,999.99]
[21641,"WARNER","Hugo","M",2002,"U14",null,"HEM",999.99,999.99]
[22061,"MCGONIGAL","Cordelia","F",2003,"U12",null,"HEM",999.99,999.99]
[21708,"JAYARAJ","Jacob","M",2003,"U12",null,"HEM",999.99,999.99]
[20995,"SANDLER","Jameson","M",2003,"U12",null,"HEM",999.99,999.99]
[22186,"BENNETT","Harry","M",2004,"U12",null,"HEM",999.99,999.99]
[10660,"WALSH","Carrie","F",1963,"MAS","ALD","IMP",178.34,178.34]
[21167,"BANNISTER","Callum","M",1998,"U18","AVO","IMP",155.68,155.68]
[18996,"WHITTALL","Joseph","M",1995,"U21","BRS","IMP",158.19,158.19]
[41565,"EVANS","Emile","M",1996,"U21","CAR","IMP",31.94,31.94]
[19419,"WRIGHT","Alexander","M",1994,"U21","GLO","IMP",108.59,108.59]
[21349,"WANG","Alison","F",1980,"MAS","HEM","IMP",189.05,189.05]
[21545,"WANG","Matt","M",1983,"MAS","HEM","IMP",210.53,219.51]
[19361,"DEIGHTON","Oliver","M",1997,"U18","HEM","IMP",79.209999999999994,79.209999999999994]
[13289,"FLAHIVE","Niall","M",1993,"SEN","HEM","IMP",86.99,86.99]
[2743,"BROWN","Phil","M",1966,"MAS","HEM","IMP",216.42,216.42]
[20554,"DAVIES","Morgan","M",1999,"U16","HEM","IMP",223.81,223.81]
[20178,"DEIGHTON","Avelline","F",1967,"MAS","HEM","IMP",236.41,236.41]
[21657,"REES","Edward","M",1961,"MAS","IMP","IMP",297.82,297.82]
[21664,"MCCORMICK","John","M",1975,"MAS","IMP","IMP",326.95999999999998,326.95999999999998]
[21654,"IMAMZADE","Murat","M",1982,"MAS","IMP","IMP",999.99,999.99]
[41481,"FLAHIVE","Gerard","M",1992,"SEN","LSU","IMP",7.13,7.13]
[41722,"RIGBY","Jack","M",1995,"U21","MID","IMP",42.49,50.4]
[19910,"RIGBY","Jordan","M",2000,"U16","MID","IMP",111.82,111.82]
[18022,"WILLIAMS","Sam","M",1997,"U18","SAS","IMP",85.77,151.54]
[41908,"HANNA","Jordan","M",1998,"U18","SCI","IMP",130.9,130.9]
[19443,"SEAMAN","Michael","M",1986,"SEN","SZR","IMP",98.19,103.91]
[17126,"FITZPATRICK","Alexander","M",1994,"U21",null,"IMP",77.7,863.19]
[20302,"BASTOW","Milo","M",1997,"U18",null,"IMP",999.99,999.99]
[21860,"DRUMMOND","Thomas","M",1998,"U18",null,"IMP",999.99,999.99]
[17320,"RICCERI","Oliver","M",1995,"U21",null,"IMP",999.99,999.99]
[19638,"GASKIN","Sam","M",2000,"U16","BRO","K",306.05,306.05]
[21056,"SULEYMAN","Ata","M",2002,"U14","BRO","K",999.99,999.99]
[9694,"CLARK","Benjamin","M",1985,"SEN","BRO","K",27.87,27.87]
[14949,"MORGAN","Brad","M",1991,"SEN","BSA","K",20.41,20.41]
[4944,"HATCHER","Kirsty","F",1991,"SEN","CAR","K",42.03,42.03]
[13765,"EVANS","Charlotte","F",1991,"SEN","CHT","K",45.6,45.6]
[21485,"RHODES","Austin","M",1998,"U18","CHT","K",999.99,999.99]
[21484,"RHODES","Morgan","M",1998,"U18","CHT","K",999.99,999.99]
[12797,"CURTIS","Daniel","M",1991,"SEN","ESX","K",33.56,33.56]
[14575,"POTH","Robert","M",1997,"U18","HEM","K",0,13.07]
[13647,"THOMPSON","Matthew","M",1993,"SEN","HEM","K",3.71,3.71]
[19711,"PENNING-LAMBERT","Joshua","M",1998,"U18","HEM","K",53.89,53.89]
[19160,"HENDERSON","Tom","M",1996,"U21","HEM","K",101.43,104.33]
[20643,"TREW","Eleanor","F",1999,"U16","HEM","K",119.52,119.52]
[20644,"TREW","Isobel","F",1999,"U16","HEM","K",125.09,125.09]
[20645,"TREW","Richard","M",2000,"U16","HEM","K",140.69,140.69]
[19710,"PENNING- LAMBERT","Matthew","M",1996,"U21","HEM","K",146.51,146.51]
[20184,"NEWTON","William","M",2000,"U16","HEM","K",216.45,216.45]
[21059,"CHMIELOWSKA","Claudia","F",1998,"U18","HEM","K",999.99,999.99]
[21129,"LODER","Angus","M",2002,"U14","HEM","K",999.99,999.99]
[21194,"NEWTON","Charlie","M",2003,"U12","HEM","K",999.99,999.99]
[21501,"LEACH","Freddie","M",2002,"U14","HEM","K",999.99,999.99]
[14276,"JESSE","Zak","M",1994,"U21","IMP","K",352.01,521.29]
[20568,"COLEMAN","Arthur","M",1999,"U16","K","K",999.99,999.99]
[20816,"GROGAN","Max","M",2001,"U14","K","K",999.99,999.99]
[19857,"HETHERINGTON","George","M",1999,"U16","K","K",999.99,999.99]
[19856,"HETHERINGTON","Thomas","M",1995,"U21","K","K",999.99,999.99]
[21483,"MANET","Conrad","M",1998,"U18","K","K",999.99,999.99]
[19801,"SHAW","James","M",1998,"U18","K","K",999.99,999.99]
[19612,"WHITLEY","James","M",1997,"U18","K","K",999.99,999.99]
[18813,"WILLIAMS","Marcus","M",1996,"U21","NOR","K",999.99,999.99]
[10659,"RYDING","David","M",1986,"SEN","PND","K",46.6,46.6]
[41940,"MCCORMACK","Matthew","M",1998,"U18","SCI","K",114.11,136.88999999999999]
[13403,"TUCKER","Colin","M",1946,"MAS","SLP","K",989,989]
[14159,"ANDERSON","Beverley","F",1970,"MAS","VIK","K",67.87,67.87]
[10372,"ANDERSON","Christopher","M",1959,"MAS","VIK","K",163.66999999999999,163.66999999999999]
[14251,"NISBET","Kit","M",1990,"SEN",null,"K",166.85,999.99]
[12357,"SIMONDS","Franki","F",1990,"SEN",null,"K",19.7,19.7]
[10641,"DRAKE","Edward","M",1986,"SEN",null,"K",116.77,116.77]
[18918,"BINGLE-WILLIAMS","Katya","F",1999,"U16",null,"K",999.99,999.99]
[18919,"BINGLE-WILLIAMS","Lucy","F",2000,"U16",null,"K",999.99,999.99]
[20096,"BINGLE-WILLIAMS","Natasha","F",2002,"U14",null,"K",999.99,999.99]
[19535,"GORDON","Maya","F",1995,"U21",null,"K",999.99,999.99]
[18472,"STEVENSON","Elizabeth","F",1990,"SEN",null,"K",999.99,999.99]
[20308,"AGNEW","George","M",1999,"U16",null,"K",999.99,999.99]
[18917,"BINGLE-WILLIAMS","Christian","M",1998,"U18",null,"K",999.99,999.99]
[14871,"BULLEN","Robert","M",1989,"SEN",null,"K",999.99,999.99]
[17336,"FRENCH","James","M",1992,"SEN",null,"K",999.99,999.99]
[21517,"LUNN","Jake","M",2001,"U14",null,"K",999.99,999.99]
[17831,"MOYNIHAN","Nicholas","M",1994,"U21",null,"K",999.99,999.99]
[20379,"RAY","Matthew","M",1999,"U16",null,"K",999.99,999.99]
[20879,"ROBERTS","Henry","M",1999,"U16",null,"K",999.99,999.99]
[18513,"SAUNDERS","Gregory","M",1995,"U21",null,"K",999.99,999.99]
[18471,"STEVENSON","James","M",1994,"U21",null,"K",999.99,999.99]
[14808,"STRONG","Louis","M",1996,"U21",null,"K",999.99,999.99]
[14807,"STRONG","Oliver","M",1994,"U21",null,"K",999.99,999.99]
[22017,"HETHERINGTON","Max","M",2004,"U12",null,"K",999.99,999.99]
[20311,"DAVIS","Ethan","M",2001,"U14","KF","KF",999.99,999.99]
[9107,"LONSDALE","Emma","F",1984,"MAS","KND","KND",999.99,999.99]
[20314,"PETERS","Jack","M",1993,"SEN","HEM","LIO",258.74,999.99]
[17078,"HELLIWELL","Steven","M",1994,"U21","LIO","LIO",29.37,89.54]
[14382,"PARKER","Olivia","F",1993,"SEN","LIO","LIO",29.05,60.59]
[11570,"FREEMAN","Edward","M",1989,"SEN","LIO","LIO",39.700000000000003,153.91]
[20317,"WALTON","Kirsten","F",2000,"U16","LIO","LIO",54.53,88.21]
[5370,"HJORT","Andrew","M",1965,"MAS","LIO","LIO",67.64,73.290000000000006]
[20144,"BRIDGE","Oliver","M",1999,"U16","LIO","LIO",62.35,69.22]
[20143,"BRIDGE","Dominic","M",2001,"U14","LIO","LIO",94.2,97.67]
[21300,"CURRAN","John","M",1966,"MAS","LIO","LIO",231.62,999.99]
[21369,"SURMAN","Jake","M",1974,"MAS","LIO","LIO",234.05,283.97000000000003]
[21152,"DAVEY","Nathan","M",2001,"U14","LIO","LIO",223.77,257.19]
[21163,"HENDLEY","Sian","F",2000,"U16","LIO","LIO",323.5,375.25]
[20860,"BURTON","Maisie","F",2002,"U14","LIO","LIO",108.04,999.99]
[22127,"PULLAN","Aimee","F",2000,"U16","LIO","LIO",410.27,999.99]
[21968,"SULLIVAN","Ella","F",2002,"U14","LIO","LIO",378.62,999.99]
[18505,"PEXTON","Georgia","F",2000,"U16","LIO","LIO",96.16,132.28]
[10654,"BECK","Hannah","F",1987,"SEN","LIO","LIO",112.91,224.32]
[10612,"BECK","Catherine","F",1960,"MAS","LIO","LIO",138.94,271.10000000000002]
[20936,"HALL","Maria","F",1995,"U21","LIO","LIO",170.03,999.99]
[8747,"SWINDELLS","Robert","M",1965,"MAS","LIO","LIO",189.33,252.86]
[20901,"BOYCOTT","Nina","F",2000,"U16","LIO","LIO",251.24,999.99]
[20994,"SMITH","Simon","M",1974,"MAS","LIO","LIO",362.65,999.99]
[19070,"BENNETT","Russell","M",1973,"MAS","LIO","LIO",999.99,999.99]
[20700,"BENNETT","Grace","F",2005,"U10","LIO","LIO",999.99,999.99]
[20741,"WALTON","Mya","F",2004,"U12","LIO","LIO",999.99,999.99]
[19683,"BENNETT","Elliott","M",2003,"U12","LIO","LIO",999.99,999.99]
[22125,"BROWN","Joseph","M",2004,"U12","LIO","LIO",999.99,999.99]
[21666,"ELLIS","Lucas","M",2004,"U12","LIO","LIO",999.99,999.99]
[22123,"SUNDIN","Jacob","M",2006,"U10","LIO","LIO",999.99,999.99]
[19985,"THORNTON","Adam","M",2003,"U12","LIO","LIO",999.99,999.99]
[19002,"PETERS","Emma","F",1997,"U18","MSR","LIO",12.7,43.74]
[20544,"HINCHLIFFE","Jack","M",1997,"U18","PPS","LIO",99.25,99.25]
[18013,"WILCOCKSON","Melanie","F",1991,"SEN","PPS","LIO",77.150000000000006,83.01]
[17043,"TOMLINSON","Josef","M",1994,"U21","PPS","LIO",96.18,96.18]
[18745,"WEBSDALE","Cara","F",1997,"U18","RAV","LIO",158.58000000000001,999.99]
[18862,"HENERY","Sam","M",1995,"U21","SHK","LIO",128.13999999999999,156.77000000000001]
[18638,"BISHOP","Angus","M",1995,"U21","SHK","LIO",195.79,195.79]
[18729,"HENERY","David","M",1963,"MAS","SHK","LIO",386.87,386.87]
[18652,"THORNTON","Luke","M",1998,"U18",null,"LIO",110.26,132.19]
[19678,"MURRAY","Alastair","M",1996,"U21",null,"LIO",89.19,999.99]
[19679,"MURRAY","Louisa","F",1994,"U21",null,"LIO",160.84,999.99]
[21800,"RAMSDEN","Grace","F",1998,"U18",null,"LIO",999.99,999.99]
[19162,"WILLOUGHBY","Jo","F",1975,"MAS",null,"LIO",999.99,999.99]
[21509,"JEFFERSON","Jemima","F",2004,"U12",null,"LIO",999.99,999.99]
[21510,"JEFFERSON","Maisie","F",2003,"U12",null,"LIO",999.99,999.99]
[21969,"SURMAN","Evelyn","F",2003,"U12",null,"LIO",999.99,999.99]
[21970,"SURMAN","Martha","F",2005,"U10",null,"LIO",999.99,999.99]
[20976,"HARRISON","Samuel","M",2003,"U12",null,"LIO",999.99,999.99]
[13376,"SCILIMATI","Tania","F",1986,"SEN",null,"LSC",999.99,999.99]
[31512,"WOOD","Edmund","M",1999,"U16","DHO","LSR",999.99,999.99]
[31324,"GIBSON","Cameron","M",2001,"U14","GSR","LSR",217.48,217.48]
[31243,"GREENSHIELDS","Duncan","M",2002,"U14","SSC","LSR",999.99,999.99]
[30515,"GUNN","Cameron","M",1992,"SEN","SSC","LSR",55.96,55.96]
[30841,"MCBAIN","Sandy","M",1993,"SEN","SSC","LSR",83.66,83.66]
[30636,"BARKER","Katy","F",1996,"U21","SSC","LSR",104.08,104.08]
[31154,"CARRUTHERS","Harry","M",1999,"U16","SSC","LSR",127.07,127.07]
[31155,"CARRUTHERS","Philipa","F",1997,"U18","SSC","LSR",130.9,130.9]
[30936,"MACPHERSON","Stuart","M",1998,"U18","SSC","LSR",132.36000000000001,132.36000000000001]
[31102,"GREENSHIELDS","Andrew","M",1999,"U16","SSC","LSR",133.76,133.76]
[31125,"WAITT","Stuart","M",1999,"U16","SSC","LSR",183.37,183.37]
[31107,"LIVINGSTONE","Lewis","M",1999,"U16","SSC","LSR",215.71,215.71]
[31200,"MACPHERSON","Claire","F",2000,"U16","SSC","LSR",241.92,241.92]
[31394,"LAMOND","Emma","F",2002,"U14","SSC","LSR",999.99,999.99]
[18878,"SLATER","Ella","F",1991,"SEN","LSU","LSU",51.1,53.8]
[12858,"TUCKER","William","M",1991,"SEN","LSU","LSU",58.62,99.74]
[18757,"LUCIE-SMITH","Ross","M",1993,"SEN","LSU","LSU",63.53,115.43]
[21659,"BOJARSKA","Aleksandra","F",1961,"MAS","MAN","MAN",198.32,198.32]
[17356,"HORNSBY","Harry","M",1991,"SEN","MID","MID",5.41,5.28]
[14213,"WALKER","Edmund","M",1992,"SEN","MID","MID",77.16,77.16]
[21014,"MAYHEW","Jessica","F",2000,"U16","MID","MID",84.18,48.06]
[19829,"HEMMING","Ethan","M",2001,"U14","MID","MID",150.21,138.09]
[20168,"BILL","Rachel","F",1990,"SEN","MID","MID",23.81,23.81]
[20696,"NEWBOULT","Helena","F",1998,"U18","MID","MID",27.39,27.39]
[13381,"VERNON","Rowan","F",1988,"SEN","MID","MID",32.840000000000003,32.840000000000003]
[17840,"PHELPS","Nicholas","M",1997,"U18","MID","MID",70.34,70.34]
[20846,"DEWISON","Samuel","M",1998,"U18","MID","MID",119.86,119.86]
[21633,"KIRKLAND","Matthew","M",1992,"SEN","MID","MID",345.98,345.98]
[20670,"TREUGE","Matthew","M",2002,"U14","MID","MID",999.99,999.99]
[41578,"LEE","Adam","M",1994,"U21","PND","MID",38.93,36.39]
[17479,"POWELL","Jonathan","M",1986,"SEN","RAV","MID",18.72,18.72]
[19379,"GUY","Edward","M",2001,"U14","TEL","MID",238.89,138.32]
[18327,"CAVANAGH","Matthew","M",1996,"U21","DHO","MSR",136.97,136.97]
[21012,"EDWARDS","Issy","F",2001,"U14","DRA","MSR",234.22,234.22]
[19673,"MOLLIEX","Alex","M",1973,"MAS","MSR","MSR",66.2,73.209999999999994]
[19208,"BERGLINDARSON","Kristofer","M",2000,"U16","MSR","MSR",65.53,104.71]
[21139,"BURKINSHAW","Rowena","F",1979,"MAS","MSR","MSR",111.3,125.82]
[21772,"WHIPP","Edward","M",2001,"U14","MSR","MSR",200.68,259.43]
[21628,"BEGG","Alistair","M",2001,"U14","MSR","MSR",279.41000000000003,340.49]
[21642,"DOCKRY","Ben","M",2002,"U14","MSR","MSR",425.5,497.65]
[22113,"LAW","Theodore","M",1999,"U16","MSR","MSR",214.03,999.99]
[21336,"QUIGLEY","John","M",1972,"MAS","MSR","MSR",187.78,999.99]
[8067,"MCGREGOR-OGDEN","Carl","M",1961,"MAS","MSR","MSR",120.26,120.26]
[21958,"BACKHOUSE","Michael","M",1994,"U21","MSR","MSR",999.99,999.99]
[22055,"BALDWIN","Caitlin","F",2006,"U10","MSR","MSR",999.99,999.99]
[21643,"DOCKRY","Daniel","M",2006,"U10","MSR","MSR",999.99,999.99]
[21698,"STOCKS","Elliot","M",2005,"U10","MSR","MSR",999.99,999.99]
[21794,"WAGSTAFF","Lydia","F",1998,"U18","SHK","MSR",277.16000000000003,373.73]
[21007,"GLASSBROOK","Amy","F",2002,"U14",null,"MSR",277.68,319.56]
[22040,"FISHER","William","M",2000,"U16",null,"MSR",276.22000000000003,999.99]
[21815,"MUSTON","Charles","M",2002,"U14",null,"MSR",222.22,999.99]
[21753,"ATHERTON","Lucas","M",2001,"U14",null,"MSR",999.99,999.99]
[22051,"BACKHOUSE","Nicholas","M",1998,"U18",null,"MSR",999.99,999.99]
[22062,"HOWARTH","Catrin","F",2005,"U10",null,"MSR",999.99,999.99]
[21644,"HUMPHREYS","George","M",2005,"U10",null,"MSR",999.99,999.99]
[21786,"WILLIAMS","Jack","M",2005,"U10",null,"MSR",999.99,999.99]
[31097,"CHRISTEY","David","M",1999,"U16","BSA","MUC",224.95,224.95]
[31098,"CHRISTEY","Joe","M",2002,"U14","BSA","MUC",999.99,999.99]
[36633,"RONALD","James","M",1998,"U18","GSC","MUC",999.99,999.99]
[36632,"RONALD","Ross","M",2002,"U14","GSC","MUC",999.99,999.99]
[31087,"ROSS","Lyle","M",1999,"U16","SSC","MUC",88.48,88.48]
[30904,"TODD","Alison","F",1997,"U18","SSC","MUC",101.11,101.11]
[31071,"HULBERT","Jemma","F",1996,"U21","SSC","MUC",208.34,208.34]
[31070,"HULBERT","Lucy","F",1998,"U18","SSC","MUC",294.95,294.95]
[31431,"DILLON","Millie","F",2004,"U12","SSC","MUC",999.99,999.99]
[31438,"ROSS","Iona","F",2003,"U12","SSC","MUC",999.99,999.99]
[14168,"WHEATMAN","Max","M",1993,"SEN","NOR","NOR",55.27,55.27]
[20337,"SKIPPER","Megan","F",2001,"U14","NOR","NOR",106.62,106.62]
[20742,"SAMPSON","Melissa","F",1971,"MAS","NOR","NOR",137.72999999999999,137.72999999999999]
[21691,"LANE","Joshua","M",1999,"U16","NOR","NOR",145.6,145.6]
[20767,"WEBSTER","Atlanta","F",2000,"U16","NOR","NOR",185.74,185.74]
[20679,"SCOTT","Max","M",1997,"U18","NOR","NOR",189.57,189.57]
[14169,"WHEATMAN","Claire","F",1991,"SEN","NOR","NOR",296.81,296.81]
[22138,"BELLAMY","Edward","M",1987,"SEN","NOR","NOR",999.99,999.99]
[22059,"DADE","Jake","M",2006,"U10","NOR","NOR",999.99,999.99]
[19016,"SKIPPER","Sophie","F",1995,"U21","NOR","NOR",30.78,30.78]
[21568,"SPEARPOINT WALSH","Emily","F",1996,"U21","OVL","OVL",196.72,196.72]
[20779,"GOULD","David","M",1963,"MAS","OVL","OVL",999.99,999.99]
[21756,"TAFFS","Zara","F",2002,"U14","PLY","PLY",999.99,479.39]
[21198,"PITCHER","James","M",1984,"MAS","PLY","PLY",999.99,999.99]
[21448,"WALBRIDGE","James","M",1992,"SEN","PLY","PLY",288.41000000000003,288.41000000000003]
[18512,"WITTS","Kaigan","M",1994,"U21","PND","PND",52.64,52.64]
[21301,"HARRISON","Louise","F",1994,"U21","PND","PND",69.42,61.21]
[19645,"WISEMAN","Kelly","F",1993,"SEN","PND","PND",75.98,75.98]
[22012,"GATTY","Victoria","F",1999,"U16","PND","PND",188.51,101.9]
[21359,"GLOVER","Wiliam","M",1998,"U18","PND","PND",184.03,184.03]
[22132,"AUSTIN","William","M",2000,"U16","PND","PND",999.99,999.99]
[22020,"FERGUSON","Catrin","F",2006,"U10","PND","PND",999.99,999.99]
[21991,"GATTY","Persephone","F",2004,"U12","PND","PND",999.99,999.99]
[22033,"HESELTON","Rebecca","F",2003,"U12","PND","PND",999.99,999.99]
[22089,"LLOYD","Tomas","M",2003,"U12","PND","PND",999.99,999.99]
[14237,"HANDFORD-STYRING","Hannah","F",1996,"U21","PPS","PPS",742.08,999.99]
[17701,"GASH","Morgan","M",1999,"U16","SAS","PSC",114.43,131.57]
[19147,"O'MARA","Adam","M",1995,"U21","RAV","RAV",46.25,40.5]
[19676,"JACKSON","Millie","F",1999,"U16","RAV","RAV",52.11,46.16]
[19633,"FARREN","Claude","M",1971,"MAS","RAV","RAV",59.4,59.4]
[19677,"JACKSON","Lois","F",2001,"U14","RAV","RAV",88.46,83.57]
[19089,"FARREN","Rory","M",1998,"U18","RAV","RAV",36.24,36.24]
[19675,"JACKSON","Ian","M",1964,"MAS","RAV","RAV",67.989999999999995,67.989999999999995]
[21561,"HARROGATE-BRAMLEY","Cheryl","F",1962,"MAS","RAV","RAV",547.63,547.63]
[22124,"SCOTT","Benjamin","M",2003,"U12","RAV","RAV",999.99,999.99]
[19821,"BROWN","Alysha","F",2002,"U14","S2R","S2R",999.99,999.99]
[20299,"BROWN","Charlotte","F",2003,"U12","S2R","S2R",999.99,999.99]
[20694,"CATLIN","Glesni","F",2003,"U12","SMK","S2R",999.99,999.99]
[22010,"EDWARDS","Oliver","M",2005,"U10",null,"S2R",999.99,999.99]
[22032,"LONG","Timothy","M",2005,"U10",null,"S2R",999.99,999.99]
[19094,"WHITTALL","Martha","F",1997,"U18","ASR","SAS",243.55,243.55]
[18560,"JAMES","Sophie","F",1995,"U21","BRS","SAS",129.26,129.26]
[20159,"WHITTALL","Trevor","M",1958,"MAS","BRS","SAS",686.13,686.13]
[21019,"KILGOUR","Rory","M",1980,"MAS","BRS","SAS",999.99,999.99]
[19854,"BINGHAM","Jonathan","M",1999,"U16","ESX","SAS",89.66,88.17]
[19855,"BINGHAM","Nicholas","M",2002,"U14","ESX","SAS",214.16,153.08000000000001]
[19135,"NORRIS","John","M",1961,"MAS","HEM","SAS",100.98,100.98]
[19459,"REID","Judy","F",1960,"MAS","HEM","SAS",107.25,126.66]
[21658,"COLE","Hannah","F",1998,"U18","HEM","SAS",184.6,999.99]
[8713,"CLARKE","Christopher","M",1959,"MAS","HEM","SAS",340.2,358.49]
[19684,"DANNS","Jack","M",1992,"SEN","LSU","SAS",88.66,69.78]
[18509,"MILLER","Gareth","M",1994,"U21","MID","SAS",71.069999999999993,73.98]
[17002,"GREENFIELD","Hobie","M",1995,"U21","SAS","SAS",65.59,88.16]
[12522,"GASH","Richard","M",1991,"SEN","SAS","SAS",73.239999999999995,73.239999999999995]
[19628,"COOPER","Lauren","F",1999,"U16","SAS","SAS",141.43,141.43]
[19629,"COOPER","Jordan","M",1999,"U16","SAS","SAS",177.78,177.78]
[19074,"AMOS","John","M",1959,"MAS","SAS","SAS",244.28,263.81]
[19671,"GASH","Peter","M",1956,"MAS","SAS","SAS",270.86,419.66]
[18049,"GREENFIELD","Nigel","M",1962,"MAS","SAS","SAS",274.58999999999997,363.71]
[20493,"SMITH","Oliver","M",1995,"U21","SAS","SAS",999.99,999.99]
[21881,"STAYMAN","Jessica","F",2001,"U14","SOU","SAS",361.72,999.99]
[18778,"MORRISON","Michael","M",1957,"MAS","SOU","SAS",263.87,263.87]
[21880,"STAYMAN","Harry","M",2004,"U12","SOU","SAS",999.99,999.99]
[19031,"ARTHUR","April","F",2001,"U14","TSN","SAS",461.89,461.89]
[20839,"ROSS","Callum","M",2003,"U12","TSN","SAS",999.99,999.99]
[17332,"BROOKES","Philip","M",1993,"SEN",null,"SAS",225.18,225.18]
[20572,"DUNNE","Mikey","M",2002,"U14","SRR","SCM",194.78,999.99]
[31517,"SHARP","Calum","M",1997,"U18","AYR","SFR",154.43,154.43]
[31226,"FOWLER","Isla","F",2000,"U16","GSC","SFR",247.46,247.46]
[21143,"SLATER","James","M",1998,"U18","SHK","SHK",328.66,343.21]
[21826,"MARSH","Amy","F",2002,"U14","SHK","SHK",328.39,999.99]
[21825,"MARSH","Ella","F",2000,"U16","SHK","SHK",378.14,999.99]
[22114,"KNIGHTS-COOPER","Ellis","M",1996,"U21","SHK","SHK",362.39,999.99]
[22142,"ERRINGTON","Farne","M",1997,"U18","SHK","SHK",381.19,999.99]
[21171,"SLATER","Grace","F",2001,"U14","SHK","SHK",431.14,431.14]
[20904,"MARSH","Loretta","F",1975,"MAS","SHK","SHK",999.99,999.99]
[21603,"WILKINSON","Millie","F",2001,"U14","SHK","SHK",999.99,999.99]
[19394,"BLACK","Philip","M",1969,"MAS","SHK","SHK",999.99,999.99]
[20550,"OLIVER","Mark","M",1962,"MAS","BOW","SMK",163.57,163.57]
[17431,"LLEWELLYN","Joanna","F",1991,"SEN","BRO","SMK",249.31,249.31]
[20720,"RILEY","Ilana","F",2004,"U12","GRV","SMK",999.99,999.99]
[21159,"KEANE","Josh","M",1995,"U21","HEM","SMK",67.19,67.19]
[18256,"DAVIES","Finlay","M",1999,"U16","HEM","SMK",59.63,89.68]
[21074,"LEONARD","Heather","F",1973,"MAS","HEM","SMK",186.96,186.96]
[21260,"CLARKE","Edward","M",2000,"U16","HEM","SMK",201.1,201.1]
[19774,"BARTON","Dominic","M",2002,"U14","HEM","SMK",999.99,999.99]
[18617,"HANCOCK","Maxine","F",1997,"U18","MID","SMK",74.28,74.28]
[17037,"HANCOCK","David","M",1964,"MAS","MID","SMK",999.99,999.99]
[20719,"HADLEY","Daniel","M",2004,"U12","MID","SMK",999.99,999.99]
[18816,"GOLDSWORTHY","Richard","M",1995,"U21","SMK","SMK",56.27,56.27]
[21652,"ROBERTSHAW","Gavin","M",1975,"MAS","SMK","SMK",182.02,182.02]
[21206,"SMITH","Samuel","M",1997,"U18","SMK","SMK",199.95,199.95]
[20613,"WILLIS","James","M",2001,"U14","SMK","SMK",210.65,210.65]
[21695,"CROCKER","Alicia","F",1997,"U18","SMK","SMK",211.75,211.75]
[21356,"NEASHAM","Laurie","F",2000,"U16","SMK","SMK",295.16000000000003,295.16000000000003]
[20149,"BAILY","Luke","M",2002,"U14","SMK","SMK",999.99,999.99]
[21653,"SKEPPSTAM","Rasmus","M",2004,"U12","SMK","SMK",999.99,999.99]
[19702,"WEBB","Jamie","M",1998,"U18",null,"SMK",190.99,190.99]
[21226,"DRAKE","Joshua","M",2002,"U14",null,"SMK",999.99,999.99]
[21161,"ALBONE","Catherine","F",2003,"U12",null,"SMK",999.99,999.99]
[21213,"METHERINGHAM","Zachary","M",2004,"U12",null,"SMK",999.99,999.99]
[22119,"BELTON","Scarlett","F",2002,"U14","HEM","SOU",351.1,999.99]
[20595,"HAMMOND","Max","M",1994,"U21","SOU","SOU",132.9,132.9]
[20328,"HUTTNER","Maximilian","M",1997,"U18","BRS","SPR",999.99,999.99]
[20789,"HINTON","Georgina","F",2001,"U14","HEM","SPR",404.54,404.54]
[21284,"HINTON","Tilly","F",2004,"U12","HEM","SPR",999.99,999.99]
[13335,"ABSALOM","Daniel","M",1992,"SEN","LSU","SPR",47.15,47.15]
[12570,"ALLDRIDGE","Amanda","F",1991,"SEN","SMK","SPR",6.07,7.14]
[12571,"ALLDRIDGE","James","M",1988,"SEN","SMK","SPR",50.41,50.41]
[20187,"SMITH","James","M",1999,"U16","SMK","SPR",353.39,353.39]
[13814,"GREENHALGH","Eloise","F",1993,"SEN","SPR","SPR",14.33,14.33]
[19733,"DAVEY","Joseph","M",2000,"U16","SPR","SPR",118.11,118.11]
[17532,"GOWER","Jack","M",1994,"U21","SPR","SPR",120.26,999.99]
[18328,"KOCK","Evangeline","F",1994,"U21","SPR","SPR",134.01,178.01]
[20856,"FOSTER","Olivia","F",2001,"U14","SPR","SPR",154.80000000000001,154.80000000000001]
[41993,"FLUCK","Adam","M",2001,"U14","SPR","SPR",256.11,256.11]
[19273,"DENDLE","George","M",2000,"U16","SPR","SPR",292.47000000000003,292.47000000000003]
[17533,"GOWER","Rory","M",1996,"U21","SPR","SPR",322.62,999.99]
[14989,"JENSEN","Christian","M",1995,"U21","SPR","SPR",361.18,361.18]
[21283,"PATTON","Edward","M",2001,"U14","SPR","SPR",372.34,372.34]
[12359,"WHELAN","Peter","M",1989,"SEN","SPR","SPR",502.72,502.72]
[19987,"PITKETHLY","Calum","M",1999,"U16","SPR","SPR",559.46,999.99]
[21341,"CHRISTOPHER","Rebecca","F",1998,"U18","SPR","SPR",999.99,999.99]
[20352,"COLLEY","Isabella","F",1999,"U16","SPR","SPR",999.99,999.99]
[20842,"CORRIGAN","Caroline","F",2002,"U14","SPR","SPR",999.99,999.99]
[41992,"FLUCK","Catrin","F",1998,"U18","SPR","SPR",999.99,999.99]
[21919,"FROST","Eleanor","F",2002,"U14","SPR","SPR",999.99,999.99]
[21956,"HOUGHTON","Philippa","F",1999,"U16","SPR","SPR",999.99,999.99]
[21530,"HUFF","Sarah","F",1999,"U16","SPR","SPR",999.99,999.99]
[19069,"MAIKLEM","Jessica","F",1996,"U21","SPR","SPR",999.99,999.99]
[20635,"MAIKLEM","Melissa","F",1999,"U16","SPR","SPR",999.99,999.99]
[21235,"OUGRIN","Anastasia","F",2002,"U14","SPR","SPR",999.99,999.99]
[21519,"THOMPSON","Tilly","F",1999,"U16","SPR","SPR",999.99,999.99]
[21096,"VERNON","Rebecca","F",2002,"U14","SPR","SPR",999.99,999.99]
[21368,"VESELY","Cordelia","F",1999,"U16","SPR","SPR",999.99,999.99]
[21376,"VESELY","Miranda","F",2002,"U14","SPR","SPR",999.99,999.99]
[20849,"VICKERS","Katie","F",2001,"U14","SPR","SPR",999.99,999.99]
[21101,"WEEKS","Georgia","F",2001,"U14","SPR","SPR",999.99,999.99]
[21817,"ALDRIDGE-BATE","William","M",2002,"U14","SPR","SPR",999.99,999.99]
[21480,"CHRISTOV","Jonathan","M",2001,"U14","SPR","SPR",999.99,999.99]
[20353,"COLLEY","James","M",2001,"U14","SPR","SPR",999.99,999.99]
[20841,"CORRIGAN","Paul","M",2001,"U14","SPR","SPR",999.99,999.99]
[21743,"DE BOER","Nicholas","M",2000,"U16","SPR","SPR",999.99,999.99]
[19756,"ELLISS","Harry","M",2000,"U16","SPR","SPR",999.99,999.99]
[20913,"EPERON","Harrison","M",2002,"U14","SPR","SPR",999.99,999.99]
[21904,"FROST","Joshua","M",1998,"U18","SPR","SPR",999.99,999.99]
[20615,"FRYERS","Toby","M",2002,"U14","SPR","SPR",999.99,999.99]
[20880,"GILLETT","James","M",2002,"U14","SPR","SPR",999.99,999.99]
[21464,"HINTON","Marcus","M",2001,"U14","SPR","SPR",999.99,999.99]
[20309,"LEWIS","Samuel","M",1998,"U18","SPR","SPR",999.99,999.99]
[21278,"MIGUDA","Henry","M",2001,"U14","SPR","SPR",999.99,999.99]
[20871,"MORRIS","Ruaidhri","M",2001,"U14","SPR","SPR",999.99,999.99]
[20847,"SHIELLS","Bryan","M",1998,"U18","SPR","SPR",999.99,999.99]
[20692,"SHIELLS","Rory","M",1995,"U21","SPR","SPR",999.99,999.99]
[20336,"SIMPSON","Jack","M",1999,"U16","SPR","SPR",999.99,999.99]
[21527,"TATTERS","Ben","M",2001,"U14","SPR","SPR",999.99,999.99]
[21874,"TREVOR","Joseph","M",2001,"U14","SPR","SPR",999.99,999.99]
[21105,"TREVOR","Samuel","M",1999,"U16","SPR","SPR",999.99,999.99]
[20848,"VICKERS","Charlie","M",1999,"U16","SPR","SPR",999.99,999.99]
[20710,"WILMOT","Jack","M",2000,"U16","SPR","SPR",999.99,999.99]
[20855,"FOSTER","Sophie","F",2003,"U12","SPR","SPR",999.99,999.99]
[21876,"MARTIN","Allegra","F",2004,"U12","SPR","SPR",999.99,999.99]
[21377,"VESELY","Ophelia","F",2004,"U12","SPR","SPR",999.99,999.99]
[21400,"WEEKS","Ella","F",2004,"U12","SPR","SPR",999.99,999.99]
[22004,"BAKER","Giles","M",2003,"U12","SPR","SPR",999.99,999.99]
[20927,"CRUTCHFIELD","Eliot","M",2003,"U12","SPR","SPR",999.99,999.99]
[21275,"HART","Benjamin","M",2003,"U12","SPR","SPR",999.99,999.99]
[21854,"HINTON","Sam","M",2004,"U12","SPR","SPR",999.99,999.99]
[21780,"KADRNKA","Markus","M",2004,"U12","SPR","SPR",999.99,999.99]
[21810,"LEE","Rory","M",2003,"U12","SPR","SPR",999.99,999.99]
[21524,"TATTERS","Joshua","M",2003,"U12","SPR","SPR",999.99,999.99]
[21535,"HYDE","Gussie","F",2000,"U16","SUR","SPR",999.99,999.99]
[21363,"PATTON","Harriet","F",1999,"U16",null,"SPR",228.88,228.88]
[20878,"ATTARD","Oliver","M",1999,"U16",null,"SPR",999.99,999.99]
[22161,"MEYLER","Anna","F",1999,"U16",null,"SPR",999.99,999.99]
[21779,"ZIELEZNIK","Ben","M",2005,"U10",null,"SPR",999.99,999.99]
[21093,"ZIELEZNIK","Oskar","M",2004,"U12",null,"SPR",999.99,999.99]
[21522,"BOSWELL","Olivia","F",1999,"U16","SRR","SRR",189.87,189.87]
[21797,"SIM","Danyelle","F",1999,"U16","SRR","SRR",261.12,999.99]
[21798,"SIM","Lauren","F",2001,"U14","SRR","SRR",410.9,999.99]
[21796,"HOLT","Marisa","F",2001,"U14","SRR","SRR",999.99,999.99]
[22081,"HART","Michael","M",1997,"U18","SRR","SRR",999.99,999.99]
[30906,"BUCHAN","Fraser","M",1997,"U18","BSA","SSC",72.14,72.14]
[30952,"RANKIN","Charles","M",2001,"U14","BSA","SSC",162.91999999999999,162.91999999999999]
[31138,"RANKIN","Shona","F",2003,"U12","BSA","SSC",999.99,999.99]
[30852,"BANKS BROWN","Yandra","F",1996,"U21","CSC","SSC",999.99,999.99]
[36563,"LAPSLIE","Henry","M",2000,"U16","ELI","SSC",999.99,999.99]
[30832,"DICKSON","Graham","M",1996,"U21","GSR","SSC",31.18,36.01]
[30998,"WILLIAMS","Scott","M",1999,"U16","GSR","SSC",125.11,125.11]
[31128,"WILLIAMS","Conway","M",1965,"MAS","GSR","SSC",142.16,142.16]
[31007,"TAYLOR","Kate","F",1997,"U18","GSR","SSC",16.190000000000001,16.190000000000001]
[31036,"TAYLOR","Ross","M",1995,"U21","GSR","SSC",28.81,28.81]
[30964,"FERRIER","Rachael","F",1996,"U21","GSR","SSC",29.68,33.01]
[30988,"ANDERSON","Keri","F",1996,"U21","GSR","SSC",34.35,50.76]
[30555,"MCWHIRTER","Scott","M",1992,"SEN","GSR","SSC",36.270000000000003,39.74]
[30999,"WILLIAMS","Emma","F",1999,"U16","GSR","SSC",95.5,95.5]
[30965,"FERRIER","Kieran","M",1997,"U18","GSR","SSC",102.05,102.05]
[31335,"CLARKE","Jemma","F",2001,"U14","LSR","SSC",136.05000000000001,136.05000000000001]
[31348,"DALZIEL","William","M",2001,"U14","LSR","SSC",176.35,176.35]
[31336,"BARTHRAM","Alice","F",2001,"U14","LSR","SSC",226.09,226.09]
[31096,"REDPATH","Sandy","M",1996,"U21","LSR","SSC",154.51,154.51]
[31202,"MCROBB","Cameron","M",2000,"U16","LSR","SSC",166.39,166.39]
[31028,"MCBAIN","Corrie","M",1999,"U16","LSR","SSC",217.13,217.13]
[31353,"SKINNER","Eilidh","F",2001,"U14","LSR","SSC",364.38,364.38]
[31024,"JENNINGS","Euan","M",1997,"U18","LSR","SSC",586.27,586.27]
[31023,"JENNINGS","Sandy","M",1995,"U21","LSR","SSC",999.99,999.99]
[18913,"LEE","Francesca","F",1998,"U18","MSR","SSC",4.76,4.76]
[30850,"GLOISTEIN","Helen","F",1996,"U21","MUC","SSC",164.77,164.77]
[31379,"ALDRIDGE","Charlie","M",2001,"U14","MUC","SSC",288.52,288.52]
[31449,"ALDRIDGE","Iona","F",2003,"U12","MUC","SSC",999.99,999.99]
[36622,"MCKENDRICK","Lyle","F",2004,"U12","MUC","SSC",999.99,999.99]
[31553,"KELLY","Archie","M",2004,"U12","MUC","SSC",999.99,999.99]
[36621,"MACKECHNIE","Archie","M",2003,"U12","MUC","SSC",999.99,999.99]
[31236,"SMITH","Roli","M",2004,"U12","MUC","SSC",999.99,999.99]
[30388,"HENDERSON","Paul","M",1995,"U21",null,"SSC",16.88,19.54]
[31117,"GLASGOW","Peter","M",1994,"U21",null,"SSC",48.1,48.1]
[31003,"ANDREWS","Keir","M",1998,"U18",null,"SSC",93.74,93.74]
[30759,"DAULBY","Hannah","F",1995,"U21",null,"SSC",119.48,119.48]
[31105,"GALLOWAY","Duncan","M",1996,"U21",null,"SSC",124.18,124.18]
[30908,"ANDREWS","Greg","M",1997,"U18",null,"SSC",142.41999999999999,142.41999999999999]
[31135,"SANDFORD","Eliza","F",1996,"U21",null,"SSC",194.77,194.77]
[31221,"SMITH","Peter","M",2000,"U16",null,"SSC",284.42,284.42]
[31127,"SKINNER","Caroline","F",1998,"U18",null,"SSC",334.4,334.4]
[31422,"HAMLETT-HALL","Samuel","M",1998,"U18",null,"SSC",338.15,338.15]
[31322,"REED","Lewis","M",2001,"U14",null,"SSC",358.04,358.04]
[31323,"REED","Jemima","F",2003,"U12",null,"SSC",999.99,999.99]
[41999,"STADEN","Samuel","M",2001,"U14","SSP","SSP",999.99,999.99]
[21430,"TAYLOR SELT","Molly","F",1996,"U21","VIK","SUF",999.99,999.99]
[20602,"SMIDT-WALLIS","Brielle","F",2000,"U16","ASR","SUR",120.52,120.52]
[10199,"WILKEY","Sarah","F",1981,"MAS","SPR","SUR",999.99,999.99]
[18056,"YOUNG","Ella","F",1997,"U18","SUR","SUR",160,160]
[21884,"HUGHES","Rachel","F",1997,"U18","SUR","SUR",999.99,999.99]
[20651,"COLLIER","Harry","M",2002,"U14","MSR","SZR",205.48,999.99]
[20641,"HENERY","Robbie","M",1998,"U18","SHK","SZR",156.13,156.13]
[19993,"CHAPMAN","Lloyd","M",1999,"U16","SZR","SZR",73.16,83.91]
[20684,"GENTHER","Joshua","M",1998,"U18","SZR","SZR",108.93,115.55]
[22065,"DAY","Richard","M",1977,"MAS","SZR","SZR",255.03,999.99]
[19587,"BENNETT","Lucy","F",1999,"U16","SZR","SZR",112.44,112.44]
[19276,"EMERY","Jacob","M",2001,"U14","SZR","SZR",195.55,195.55]
[20277,"DUNION","Jamie","M",1999,"U16","SZR","SZR",262.45999999999998,262.45999999999998]
[20836,"FISHER","Edward","M",1999,"U16","SZR","SZR",999.99,999.99]
[21853,"KOTWICA","Dawid","M",1999,"U16","SZR","SZR",999.99,999.99]
[22002,"RYLAND","Peter","M",2001,"U14","SZR","SZR",999.99,999.99]
[20165,"COSHAM","Harry","M",2003,"U12","SZR","SZR",999.99,999.99]
[20837,"FISHER","George","M",2003,"U12","SZR","SZR",999.99,999.99]
[21967,"RYLAND","Callum","M",2003,"U12","SZR","SZR",999.99,999.99]
[21577,"CAREY","Joshua","M",2000,"U16",null,"SZR",999.99,999.99]
[21576,"CAREY","Matthew","M",1998,"U18",null,"SZR",999.99,999.99]
[20599,"SHERING","Nicole","F",2000,"U16","HEM","TEL",59.26,59.26]
[20840,"SNOW","Elise","F",1999,"U16","HEM","TEL",67.52,67.52]
[20766,"HUMPHREYS","Charles","M",2001,"U14","HEM","TEL",241.45,263.51]
[18318,"KRAHELSKI","Alicja","F",2000,"U16","HEM","TEL",33.22,33.22]
[19209,"WHEELER","William","M",1997,"U18","HEM","TEL",56.86,56.86]
[5666,"CROMBLEHOLME","Roger","M",1957,"MAS","MID","TEL",120.35,120.35]
[18704,"BEGG","Callum","M",1997,"U18","MSR","TEL",54.33,54.33]
[14661,"BULLOCK","Alexandra","F",1995,"U21","TEL","TEL",18.25,18.25]
[18571,"CONDE","Jamie","M",1992,"SEN","TEL","TEL",69.709999999999994,69.709999999999994]
[19832,"WILLIAMS","Grace","F",2000,"U16","TEL","TEL",81.400000000000006,81.400000000000006]
[19797,"STEVENSON","Christian","M",1998,"U18","TEL","TEL",144.85,93.97]
[21094,"DRUMMOND","Isabel","F",2001,"U14","TEL","TEL",272.29000000000002,324.52]
[17747,"GOULD","Charlotte","F",1992,"SEN","TEL","TEL",10.87,10.87]
[17515,"GIRLING","Kirran","M",1997,"U18","TEL","TEL",33.979999999999997,33.979999999999997]
[17787,"SHRIMPTON","Charlotte","F",1994,"U21","TEL","TEL",47,47]
[17972,"GOULD","Georgina","F",1994,"U21","TEL","TEL",51,51]
[20313,"WESTERN","Aaron","M",1998,"U18","TEL","TEL",999.99,999.99]
[21124,"DRUMMOND","Elinor","F",2003,"U12","TEL","TEL",999.99,999.99]
[20701,"FELLOWS","Charley","F",2003,"U12","TEL","TEL",999.99,999.99]
[21827,"DEEM","Charles","M",2005,"U10","TEL","TEL",999.99,999.99]
[20369,"LAW","Joshua","M",2003,"U12","TEL","TEL",999.99,999.99]
[22050,"WEBB","Andrew","M",2004,"U12","TEL","TEL",999.99,999.99]
[22073,"KING","Adam","M",1998,"U18","TKP","TKP",999.99,999.99]
[21259,"MIRACCO","Carlito","M",1999,"U16","HEM","TOQ",162.11000000000001,162.11000000000001]
[21755,"PASCOE","Eva","F",2002,"U14","PLY","TOQ",999.99,107.54]
[12123,"GEYER","Jai","M",1990,"SEN","TOQ","TOQ",25.77,42.13]
[19457,"SIMMONS","Nigel","M",1962,"MAS","TOQ","TOQ",382.33,382.33]
[21737,"MCCOLL","Ruari","M",2002,"U14","TOQ","TOQ",999.99,999.99]
[21759,"BOSWOOD-CLARK","Eve","F",2003,"U12","TOQ","TOQ",999.99,999.99]
[21736,"MCCOLL","Isla","F",2004,"U12","TOQ","TOQ",999.99,999.99]
[21556,"HUNT","Hannah","F",1997,"U18","TSD","TSD",198.29,146]
[21270,"CHAPMAN","Chloe","F",2003,"U12","TSD","TSD",999.99,999.99]
[21269,"CHAPMAN","David","M",1976,"MAS","TSD","TSD",999.99,999.99]
[21727,"STOKOE","Amy","F",2005,"U10","TSD","TSD",999.99,999.99]
[19644,"PRETTY","Antonia","F",1996,"U21","TSN","TSN",50.24,50.24]
[21718,"ROSS","David","M",1970,"MAS","TSN","TSN",195.27,195.27]
[21456,"VINCENT","Ben","M",2003,"U12","TSN","TSN",999.99,999.99]
[21901,"MANNBY","Siobhan","F",2000,"U16","VIK","VIK",999.99,999.99]
[12254,"CHAPMAN","Iain","M",1982,"MAS","VIK","VIK",999.99,999.99]
[21832,"LOCKWOOD","Marcus","M",1997,"U18","VIK","VIK",999.99,999.99]
[12334,"ROBERTSON","Stuart","M",1950,"MAS","WCS","WCS",261.93,261.93]
[20496,"SCRANAGE-HARRISON","Eleanor","F",2002,"U14","HEM","WGC",999.99,999.99]
[18931,"MILES","Joanna","F",1993,"SEN","WGC","WGC",82.33,82.33]
[19013,"HANLON","George","M",1999,"U16","FPS","WM",143,140.1]
[22015,"LLEWELLYN","Aaliyah","F",2006,"U10","MID","WM",999.99,999.99]
[21837,"WOOLLEY","Kieran","M",2005,"U10","MID","WM",999.99,999.99]
[20331,"LUCAS","Oliver","M",2002,"U14","WM","WM",999.99,999.99]
[21254,"WATSON","Josie","F",2004,"U12","WM","WM",999.99,999.99]
[19632,"GREENWAY","Daniel","M",1998,"U18",null,"WM",132.62,164.21]
[19631,"GREENWAY","Thomas","M",2001,"U14",null,"WM",137.99,188.11]
[21902,"HADLEY","Thomas","M",2000,"U16",null,"WM",999.99,999.99]
[19095,"JOHNS","Owen","M",2001,"U14",null,"WM",999.99,999.99]
[21233,"SIMPSON","Cameron","M",2002,"U14",null,"WM",999.99,999.99]
[20355,"JOHNS","Scott","M",2003,"U12",null,"WM",999.99,999.99]
[22136,"ORZEL","Emilia","F",2006,"U10",null,"WM",999.99,999.99]
[22155,"BALCHIN","Lewis","M",2000,"U16","2KP",null,999.99,999.99]
[21601,"SMITH","Anthony","M",1969,"MAS","ALD",null,228.31,228.31]
[21542,"FAWKE","Tim","M",1976,"MAS","ALD",null,999.99,999.99]
[30995,"BEATTIE","Natalie","F",1994,"U21","ARB",null,999.99,999.99]
[31488,"SHEPHERD","Calum","M",2000,"U16","ASC",null,999.99,999.99]
[31294,"RENNIE","Graham","M",1975,"MAS","ASC",null,242.18,298.95999999999998]
[31384,"GEEKIE","Alexander","M",2001,"U14","ASC",null,293.01,293.01]
[31234,"HALL","Adam","M",2000,"U16","ASC",null,297.10000000000002,297.10000000000002]
[36639,"DAVIES","Christina","F",1993,"SEN","ASC",null,999.99,999.99]
[31364,"CAMERON","Rory","M",2002,"U14","ASC",null,999.99,999.99]
[31547,"HALL","Mark","M",1964,"MAS","ASC",null,999.99,999.99]
[31567,"JACK","Fraser","M",2001,"U14","ASC",null,999.99,999.99]
[31558,"MENZIES","Fraser","M",1997,"U18","ASC",null,999.99,999.99]
[36568,"WATSON","Ralph","M",1962,"MAS","ASC",null,999.99,999.99]
[31548,"HALL","Alistair","M",2003,"U12","ASC",null,426.58,426.58]
[36592,"GIBB","Alana","F",2006,"U10","ASC",null,999.99,999.99]
[36588,"KING","Layla","F",2006,"U10","ASC",null,999.99,999.99]
[36637,"RITCHIE","Claudia","F",2007,"U8","ASC",null,999.99,999.99]
[36638,"RITCHIE","Gabriella","F",2008,"U8","ASC",null,999.99,999.99]
[36590,"BREMNER","Keilan","M",2003,"U12","ASC",null,999.99,999.99]
[36591,"GIBB","Arran","M",2003,"U12","ASC",null,999.99,999.99]
[36587,"KING","Logan","M",2003,"U12","ASC",null,999.99,999.99]
[31569,"SMITH","Cameron","M",2003,"U12","ASC",null,999.99,999.99]
[17936,"DAVIES","Jenny","F",1996,"U21","ASR",null,20.09,16.84]
[19086,"READER","Christopher","M",1996,"U21","ASR",null,30.44,30.44]
[18660,"HATHWAY","Isabella","F",1997,"U18","ASR",null,49.71,12.74]
[19686,"BRADFORD-SMITH","Jack","M",1996,"U21","ASR",null,69.319999999999993,69.319999999999993]
[20683,"SPEED","Craig","M",1999,"U16","ASR",null,95.84,85.53]
[20673,"BANNISTER","Adam","M",1999,"U16","ASR",null,118.03,99.96]
[21632,"SHEMMANS","Jake","M",2001,"U14","ASR",null,133.47,127.28]
[21594,"WORTT","Aaron","M",1999,"U16","ASR",null,159.6,137.63999999999999]
[21600,"SMITH","Euan","M",2000,"U16","ASR",null,199.42,199.42]
[21303,"BANNISTER","Lucy","F",2002,"U14","ASR",null,999.99,228.88]
[22072,"CHARLTON","Harvey","M",1998,"U18","ASR",null,999.99,110.83]
[21605,"SMITH","Nathan","M",2002,"U14","ASR",null,999.99,171.36]
[12802,"CALVERT","Peter","M",1988,"SEN","ASR",null,41.11,41.11]
[19085,"READER","William","M",1994,"U21","ASR",null,43.02,43.02]
[2657,"BANNISTER","Simon","M",1966,"MAS","ASR",null,75.36,75.36]
[14927,"DAVIES","Peter","M",1993,"SEN","ASR",null,90.28,90.28]
[17983,"WELLER","Mark","M",1992,"SEN","ASR",null,93.23,93.23]
[21004,"GIBBS","James","M",1998,"U18","ASR",null,179.46,179.46]
[19685,"BRADFORD-SMITH","George","M",1994,"U21","ASR",null,223.89,223.89]
[21612,"GIBBS","Jack","M",2001,"U14","ASR",null,269.41000000000003,269.41000000000003]
[21623,"FITZSIMMONS","Tobias","M",1999,"U16","ASR",null,691.71,691.71]
[21608,"HAIRE","Bradley","M",1998,"U18","ASR",null,999.99,999.99]
[21914,"COTTLE-BAILEY","Poppy","F",2003,"U12","ASR",null,999.99,999.99]
[21091,"LUTTERLOCH","Edward","M",2003,"U12","ASR",null,999.99,999.99]
[21645,"MELLON-HENDRY","Freddie","M",2004,"U12","ASR",null,999.99,999.99]
[22163,"COOPER-WALKER","Josef","M",2000,"U16","AVO",null,999.99,999.99]
[22167,"PRINCE","Derek","M",1964,"MAS","AVO",null,999.99,999.99]
[21387,"HUDDLESTON","David","M",1996,"U21","BAS",null,999.99,999.99]
[31008,"POGSON","Liam","M",1998,"U18","BLG",null,280.11,280.11]
[6383,"EVERITT","Simon","M",1964,"MAS","BOW",null,348.93,348.93]
[30864,"RATTRAY","Aleysha","F",1996,"U21","BRM",null,174.29,174.29]
[31303,"PETERS","Ella","F",1994,"U21","BRM",null,999.99,999.99]
[31133,"FARQUHARSON","Hamish","M",1999,"U16","BRM",null,999.99,999.99]
[31073,"PETERS","Lachlan","M",1997,"U18","BRM",null,999.99,999.99]
[19152,"LEWINGTON","Caitlin","F",1999,"U16","BRO",null,76.89,76.89]
[20584,"MCDONALD-PROCTOR","Richard","M",1998,"U18","BRO",null,99.26,99.86]
[21626,"ATKINSON","Andrew","M",1967,"MAS","BRO",null,323.20999999999998,323.20999999999998]
[20583,"MCDONALD-PROCTOR","William","M",2002,"U14","BRO",null,354.9,999.99]
[18558,"WILLOWS","Laurence","M",1996,"U21","BRO",null,38.72,38.72]
[14942,"FREEZE","Danielle","F",1990,"SEN","BRO",null,62.02,62.02]
[21357,"MOORE","Danica","F",2000,"U16","BRO",null,165.28,165.28]
[21076,"GEORGEL","Robert","M",1996,"U21","BRO",null,323.31,323.31]
[22070,"TURNER","Morgan","F",1999,"U16","BRO",null,999.99,999.99]
[21210,"WILLOWS","April","F",2002,"U14","BRO",null,999.99,999.99]
[22152,"NABAR","Antony","M",2006,"U10","BRO",null,999.99,999.99]
[21726,"HOLT","Samuel","M",1995,"U21","BRS",null,303.75,203.88]
[31469,"DAVIS","Meghan","F",2000,"U16","BSA",null,157.01,157.01]
[31173,"SCOTT","Lucy","F",1999,"U16","BSC",null,85.69,85.69]
[31134,"TURNER","Jennifer","F",2001,"U14","BSC",null,154.93,154.93]
[31519,"KEANEY","Seamus","M",2001,"U14","BSC",null,179.25,179.25]
[31326,"MURPHY","Rhys","M",1999,"U16","BSC",null,142.25,200.79]
[31540,"MCINTYRE","Scott","M",2002,"U14","BSC",null,306.83,999.99]
[31491,"MCNEILL","David","M",2000,"U16","BSC",null,999.99,999.99]
[31371,"SCOTT","Ruaraidh","M",2002,"U14","BSC",null,999.99,999.99]
[30833,"ALLAN","Katie","F",1996,"U21","BSC",null,66.62,66.62]
[31006,"ROSS","Harry","M",1998,"U18","BSC",null,108.44,108.44]
[31137,"COHN","Antony","M",1998,"U18","BSC",null,145.79,145.79]
[31204,"WATSON","Jack","M",1999,"U16","BSC",null,220.3,220.3]
[31432,"HERBERT","Calum","M",2001,"U14","BSC",null,251.3,251.3]
[31106,"CUNNINGHAM","Kyle","M",1996,"U21","BSC",null,287.86,287.86]
[30100,"CRAWFORD","Douglas","M",1987,"SEN","BSC",null,929.76,929.76]
[31493,"BRUCE","Emma","F",2000,"U16","BSC",null,999.99,999.99]
[31497,"CHAPMAN","Vaila","F",1997,"U18","BSC",null,999.99,999.99]
[31346,"MACKENZIE","Eve","F",2000,"U16","BSC",null,999.99,999.99]
[31245,"PETRIE","Aoife","F",2002,"U14","BSC",null,999.99,999.99]
[31244,"PETRIE","Isla","F",2000,"U16","BSC",null,999.99,999.99]
[30768,"VINCENTI","Anna","F",1995,"U21","BSC",null,999.99,999.99]
[31215,"ADLINGTON","Ben","M",1999,"U16","BSC",null,999.99,999.99]
[31041,"BOOTH","Harris","M",1997,"U18","BSC",null,999.99,999.99]
[31051,"BOW","Brandon","M",2001,"U14","BSC",null,999.99,999.99]
[31325,"CORRY","Matt","M",1997,"U18","BSC",null,999.99,999.99]
[36626,"DISCOMBE","Lewis","M",2002,"U14","BSC",null,999.99,999.99]
[31458,"DOHERTY","Lewis","M",1997,"U18","BSC",null,999.99,999.99]
[31570,"MACMILLAN","Fraser","M",2002,"U14","BSC",null,999.99,999.99]
[31273,"MCCORMICK","Chris","M",1998,"U18","BSC",null,999.99,999.99]
[31043,"MCGRATH","Sam","M",1997,"U18","BSC",null,999.99,999.99]
[31121,"MCKILLOP","Murray","M",1998,"U18","BSC",null,999.99,999.99]
[31403,"MCLAREN","Ronan","M",2001,"U14","BSC",null,999.99,999.99]
[36634,"SIMMERS","Robbie","M",2000,"U16","BSC",null,999.99,999.99]
[31541,"MCINTYRE","Ross","M",2004,"U12","BSC",null,999.99,999.99]
[36560,"MCKAIN","Ross","M",2003,"U12","BSC",null,999.99,999.99]
[36630,"MUNRO","Gregor","M",2004,"U12","BSC",null,999.99,999.99]
[31444,"PEEK","Harrison","M",2003,"U12","BSC",null,999.99,999.99]
[41938,"CRIDDLE","Isaac","M",2000,"U16","CAR",null,214.53,188.28]
[41987,"JONES","Iwan","M",1999,"U16","CAR",null,284.72000000000003,170.7]
[41656,"WATTS","Llewellyn","M",2001,"U14","CAR",null,291.31,222.06]
[41968,"FURLONG","Georgia","F",2000,"U16","CAR",null,229.25,184.8]
[41953,"MCNICOLL","Isla","F",1981,"MAS","CAR",null,999.99,162.26]
[42031,"JONES","Gethin","M",2001,"U14","CAR",null,999.99,201.65]
[41919,"TOUCHE","Alexandre","M",1997,"U18","CAR",null,77.94,77.94]
[42040,"HARRISON","Ursula","F",2000,"U16","CAR",null,999.99,999.99]
[42033,"COMPTON","Joseph","M",2005,"U10","CAR",null,999.99,999.99]
[41988,"CRIDDLE","Ollie","M",2004,"U12","CAR",null,999.99,999.99]
[41928,"JAMES","Lilli","F",2003,"U12","CAR",null,999.99,999.99]
[18933,"VALE","Lauren","F",2001,"U14","CHT",null,79.94,79.94]
[19623,"SYMONS","Rachel","F",1993,"SEN","CHT",null,40.1,40.1]
[18934,"VALE","Nikkie","F",1994,"U21","CHT",null,77.87,77.87]
[20239,"CHAMPION","Ben","M",1993,"SEN","CHT",null,110.46,110.46]
[21734,"ATKINSON","Molly","F",2001,"U14","CHT",null,999.99,999.99]
[21836,"WHITMARSH-ALI","Megan","F",2000,"U16","CHT",null,999.99,999.99]
[21857,"WHEELER","Ryan","M",1999,"U16","CHT",null,999.99,999.99]
[21649,"BUNTON","Ryan","M",2005,"U10","CHT",null,999.99,999.99]
[22177,"COOK","Joshua","M",2005,"U10","CHT",null,999.99,999.99]
[31433,"CRANE","Joanna","F",2001,"U14","CSC",null,999.99,999.99]
[31466,"DICKSON","Sophie","F",1999,"U16","CSC",null,999.99,999.99]
[31246,"HEWISON","Megan","F",2001,"U14","CSC",null,999.99,999.99]
[31478,"LATTO","Rosamund","F",1999,"U16","CSC",null,999.99,999.99]
[31468,"NEGRI","Daniella","F",2000,"U16","CSC",null,999.99,999.99]
[36565,"PIERCEY","Rachel","F",2001,"U14","CSC",null,999.99,999.99]
[36601,"REID","Sinead","F",2001,"U14","CSC",null,999.99,999.99]
[36609,"VAUGHAN","Molly","F",2001,"U14","CSC",null,999.99,999.99]
[31228,"ADAMSON","Alexander","M",1996,"U21","CSC",null,999.99,999.99]
[31477,"ADAMSON","Tristram","M",1997,"U18","CSC",null,999.99,999.99]
[31467,"DICKSON","Jamie","M",2001,"U14","CSC",null,999.99,999.99]
[31289,"DONALD","Daniel","M",1999,"U16","CSC",null,999.99,999.99]
[31470,"DUNCAN","Rory","M",1999,"U16","CSC",null,999.99,999.99]
[36612,"HORNSBY","Duncan","M",2000,"U16","CSC",null,999.99,999.99]
[31286,"KERR","George","M",2000,"U16","CSC",null,999.99,999.99]
[31285,"KERR","Henry","M",2000,"U16","CSC",null,999.99,999.99]
[36596,"LYNCH","Calum","M",2000,"U16","CSC",null,999.99,999.99]
[31435,"MCFADDEN","Cameron","M",2000,"U16","CSC",null,999.99,999.99]
[31446,"MCFADDEN","Iain","M",2002,"U14","CSC",null,999.99,999.99]
[31083,"MCFADDEN","Neil","M",1998,"U18","CSC",null,999.99,999.99]
[30978,"MCWILLIAM","Lewis","M",1997,"U18","CSC",null,999.99,999.99]
[31288,"PIERCEY","James","M",1997,"U18","CSC",null,999.99,999.99]
[31175,"ROBERTSON","John","M",1997,"U18","CSC",null,999.99,999.99]
[31187,"SMITH","Jack","M",1998,"U18","CSC",null,999.99,999.99]
[31305,"TATE","Thomas","M",1997,"U18","CSC",null,999.99,999.99]
[31078,"VAUGHAN","Seoras","M",1998,"U18","CSC",null,999.99,999.99]
[36606,"NEGRI","Belana","F",2003,"U12","CSC",null,999.99,999.99]
[36593,"ROBSON","Solmisty","F",2003,"U12","CSC",null,999.99,999.99]
[36584,"TATE","Emily","F",2003,"U12","CSC",null,999.99,999.99]
[36583,"TATE","Georgia","F",2004,"U12","CSC",null,999.99,999.99]
[31247,"HEWISON","Henry","M",2004,"U12","CSC",null,999.99,999.99]
[36624,"MARSHALL","Max","M",2006,"U10","CSC",null,999.99,999.99]
[36623,"MARSHALL","Zac","M",2004,"U12","CSC",null,999.99,999.99]
[36566,"PIERCEY","Michael","M",2004,"U12","CSC",null,999.99,999.99]
[22116,"ELPHICK","Alex","F",1999,"U16","ESX",null,999.99,999.99]
[638,"CAXTON","Martin","M",1955,"MAS","ESX",null,999.99,999.99]
[19128,"WILLIAMS","Beth","F",1995,"U21","FLK",null,65.22,65.22]
[17932,"SOUTHALL","Frazer","M",1997,"U18","FLK",null,69.069999999999993,69.069999999999993]
[19130,"WILLIAMS","Jamie","M",1992,"SEN","FLK",null,69.849999999999994,70.19]
[18378,"SOUTHALL","Merrick","M",2000,"U16","FLK",null,138.74,138.74]
[21169,"FOWLES","James","M",1999,"U16","FLK",null,167.1,179.94]
[21408,"MILLER-HASTINGS","Frankie","M",2000,"U16","FLK",null,175.42,197.23]
[21168,"FOWLES","Luke","M",2002,"U14","FLK",null,339.79,999.99]
[18610,"DEAKIN","William","M",1991,"SEN","FLK",null,28.84,28.84]
[21189,"BIGGS","Saul","M",1998,"U18","FLK",null,94.62,94.62]
[22162,"WESTON","Ryan","M",2000,"U16","FLK",null,999.99,999.99]
[21147,"TANDY","Joshua","M",2004,"U12","FLK",null,999.99,999.99]
[22078,"THORNTON","Eleanor","F",2000,"U16","FPS",null,999.99,189.79]
[21975,"HOCKING","Alexander","M",1999,"U16","FPS",null,999.99,257.93]
[21996,"IANNARILLI","Lia","F",2003,"U12","FPS",null,999.99,999.99]
[22058,"SMITH","Emily","F",2004,"U12","FPS",null,999.99,999.99]
[31093,"WHATFORD","Beth","F",2001,"U14","GDN",null,123.54,123.54]
[31201,"SIMPSON","Andrew","M",2000,"U16","GDN",null,178.16,178.16]
[36614,"GREEN","Eleanor","F",2001,"U14","GDN",null,999.99,999.99]
[31076,"STILL","Ella","F",1997,"U18","GDN",null,142.44999999999999,145.30000000000001]
[31208,"ALLAN","Tabitha","F",2000,"U16","GDN",null,187.21,187.21]
[30738,"PAXTON","Paul","M",1998,"U18","GDN",null,187.29,187.82]
[31209,"PRESSLIE","Jessica","F",2000,"U16","GDN",null,202.84,202.84]
[30669,"MACFIE","Euan","M",1994,"U21","GDN",null,229.93,229.93]
[31340,"ALLAN","Amelia","F",2001,"U14","GDN",null,252.74,252.74]
[30793,"CAMPBELL","Andrew","M",1995,"U21","GDN",null,271.7,271.7]
[30866,"GARVIE","Amber","F",1998,"U18","GDN",null,283.27,283.27]
[31088,"STILL","Ruby","F",1999,"U16","GDN",null,284.98,284.98]
[31206,"RASMUSEN","Erik","M",1998,"U18","GDN",null,288.04000000000002,288.04000000000002]
[31178,"ALEXANDER","Hamish","M",1999,"U16","GDN",null,301.31,301.31]
[31140,"RAY","Kathleen","F",1999,"U16","GDN",null,305.22000000000003,305.22000000000003]
[30912,"CAMPBELL","Iain","M",1997,"U18","GDN",null,334.53,334.53]
[31357,"CALDER","Emma","F",2002,"U14","GDN",null,999.99,999.99]
[31565,"DOUGLAS","Morven","F",2001,"U14","GDN",null,999.99,999.99]
[31153,"MORRISON","Rachael","F",1999,"U16","GDN",null,999.99,999.99]
[31207,"RASMUSEN","Victoria","F",2000,"U16","GDN",null,999.99,999.99]
[31504,"STEPHEN","Sadie","F",2000,"U16","GDN",null,999.99,999.99]
[36585,"STEPHEN","Wendy","F",2002,"U14","GDN",null,999.99,999.99]
[31290,"BROWN","Rory","M",1997,"U18","GDN",null,999.99,999.99]
[31230,"CAMPBELL","Graeme","M",2000,"U16","GDN",null,999.99,999.99]
[30854,"GARVIE","Scott","M",1996,"U21","GDN",null,999.99,999.99]
[36607,"MORRISON","Jack","M",2001,"U14","GDN",null,999.99,999.99]
[31255,"WILOWSKI","Kazimierz","M",2000,"U16","GDN",null,999.99,999.99]
[31436,"ALLAN","Phoebe","F",2004,"U12","GDN",null,999.99,999.99]
[31482,"BROWN","Anna","F",2006,"U10","GDN",null,999.99,999.99]
[31440,"PFLEGER","Isabella","F",2006,"U10","GDN",null,999.99,999.99]
[31447,"PRESSLIE","Sophie","F",2003,"U12","GDN",null,999.99,999.99]
[31481,"BROWN","Cameron","M",2003,"U12","GDN",null,999.99,999.99]
[31439,"PFLEGER","Harry","M",2005,"U10","GDN",null,999.99,999.99]
[36586,"STEPHEN","Gordie","M",2005,"U10","GDN",null,999.99,999.99]
[31434,"WHATFORD","Ben","M",2005,"U10","GDN",null,999.99,999.99]
[21358,"COOK","Ellie","F",1998,"U18","GLO",null,160.04,157.44]
[21255,"COOK","James","M",2002,"U14","GLO",null,999.99,269.08999999999997]
[18257,"MOZOL","James","M",1993,"SEN","GLO",null,37.020000000000003,37.020000000000003]
[20790,"SANDEMAN","Jonathan","M",1998,"U18","GLO",null,90.22,90.22]
[21224,"BENNION","James","M",1997,"U18","GLO",null,306.93,306.93]
[22182,"HILLS","Charlotte","F",1998,"U18","GLO",null,999.99,999.99]
[21580,"HOFFMAN-LITTLE","Jolie","F",2005,"U10","GLO",null,999.99,999.99]
[21258,"COOK","Alastair","M",2003,"U12","GLO",null,999.99,999.99]
[21630,"EDWARDS","Rachel","F",1963,"MAS","GRV",null,999.99,999.99]
[36602,"MACLACHLAN","Fergus","M",2002,"U14","GSC",null,999.99,999.99]
[36613,"PEDEN","Jamie","M",1998,"U18","GSC",null,999.99,999.99]
[30923,"VINTER","Owen","M",2001,"U14","GSR",null,89.77,89.77]
[31275,"MCKINLAY","Victoria","F",2000,"U16","GSR",null,107.97,107.97]
[31176,"WYLIE","Scott","M",2001,"U14","GSR",null,121.96,127.89]
[31182,"DICKSON","Bailey","M",2000,"U16","GSR",null,118.55,132.28]
[31314,"MCLEW","Christopher","M",2001,"U14","GSR",null,140.04,142.44]
[31278,"FITZPATRICK","Jimmy","M",2000,"U16","GSR",null,151.97,151.97]
[31282,"NESBITT","Kieran","M",2000,"U16","GSR",null,199.05,209.1]
[31283,"NESBITT","Ross","M",2002,"U14","GSR",null,249.1,999.99]
[31195,"WARD","Thomas","M",2002,"U14","GSR",null,220.04,999.99]
[30767,"RITCHIE","Nicole","F",1995,"U21","GSR",null,0,0]
[30831,"VINTER","Zak","M",1998,"U18","GSR",null,6.93,6.93]
[30614,"RYAN","Euan","M",1993,"SEN","GSR",null,24.17,24.17]
[30233,"MACBAIN","Scott","M",1987,"SEN","GSR",null,26.5,73.23]
[31169,"MCHUGH","Liam","M",1997,"U18","GSR",null,34.64,34.64]
[30867,"RYAN","Eilidh","F",2000,"U16","GSR",null,43.11,43.11]
[31203,"CARSON","Clare","F",1994,"U21","GSR",null,53.28,105.58]
[30931,"MIDDLETON","Fraser","M",1998,"U18","GSR",null,92.62,92.62]
[30974,"SANDLAND","Alasdair","M",2000,"U16","GSR",null,118.53,118.53]
[31130,"SANDLAND","Louise","F",2001,"U14","GSR",null,210.72,210.72]
[31161,"CAMPBELL","Erin","F",1999,"U16","GSR",null,257.23,257.23]
[31525,"WALLACE","Olivia","F",1999,"U16","GSR",null,375.43,375.43]
[31537,"PATHI","Rowan","M",1999,"U16","GSR",null,380.12,380.12]
[31552,"RATTRAY","Andrew","M",2000,"U16","GSR",null,441.81,441.81]
[31531,"BRAWLEY","Patrick","M",2000,"U16","GSR",null,447.37,447.37]
[31484,"BURKE","Olivia","F",2002,"U14","GSR",null,999.99,999.99]
[36635,"CLARK","Megan","F",1998,"U18","GSR",null,999.99,999.99]
[36604,"FITZPATRICK","Joy","F",1997,"U18","GSR",null,999.99,999.99]
[31146,"MURPHY","Louise","F",1997,"U18","GSR",null,999.99,999.99]
[31252,"OSBORNE","Jennifer","F",1991,"SEN","GSR",null,999.99,999.99]
[36562,"SZAFRANEK","Chloe","F",1992,"SEN","GSR",null,999.99,999.99]
[31524,"WALLACE","Sophia","F",2002,"U14","GSR",null,999.99,999.99]
[36618,"GRANT","Caolan","M",2002,"U14","GSR",null,999.99,999.99]
[36619,"GRANT","Taryn","M",2002,"U14","GSR",null,999.99,999.99]
[31486,"HODGSON","Ben","M",2001,"U14","GSR",null,999.99,999.99]
[36636,"JAMIESON","Fraser","M",2002,"U14","GSR",null,999.99,999.99]
[31457,"MILLER","Craig","M",2002,"U14","GSR",null,999.99,999.99]
[31450,"MILLER","Scott","M",1998,"U18","GSR",null,999.99,999.99]
[31151,"PATHI","Brogan","M",1998,"U18","GSR",null,999.99,999.99]
[31562,"TAYLOR","Calum","M",2002,"U14","GSR",null,999.99,999.99]
[30785,"WILD","Brett","M",1992,"SEN","GSR",null,999.99,999.99]
[31455,"YORK","Scott","M",2002,"U14","GSR",null,999.99,999.99]
[31532,"BRAWLEY","Ella","F",2004,"U12","GSR",null,999.99,999.99]
[31454,"FITZPATRICK","Molly","F",2003,"U12","GSR",null,999.99,999.99]
[31500,"WARD","Erin","F",2005,"U10","GSR",null,999.99,999.99]
[31464,"WARD","Isla","F",2004,"U12","GSR",null,999.99,999.99]
[31260,"WYLIE","Fiona","F",2003,"U12","GSR",null,999.99,999.99]
[31479,"BURKE","Luke","M",2004,"U12","GSR",null,999.99,999.99]
[36603,"CAMPBELL","Oliver","M",2003,"U12","GSR",null,999.99,999.99]
[31437,"MCLEW","Euan","M",2003,"U12","GSR",null,999.99,999.99]
[31129,"SANDLAND","Jamie","M",2003,"U12","GSR",null,999.99,999.99]
[31474,"SIMMONDS","Thomas","M",2003,"U12","GSR",null,999.99,999.99]
[31563,"TAYLOR","Finlay","M",2004,"U12","GSR",null,999.99,999.99]
[31523,"WYLIE","Gordon","M",2005,"U10","GSR",null,999.99,999.99]
[14350,"POTH","Daniel","M",1996,"U21","HEM",null,14.16,21.81]
[13952,"ROGERS","Rachelle","F",1995,"U21","HEM",null,11.2,999.99]
[18793,"O'NEILL","Ella","F",1997,"U18","HEM",null,27.27,30.36]
[18317,"KRAHELSKI","Oliver","M",1996,"U21","HEM",null,28.21,28.21]
[5480,"TURNOCK","Kerry","F",1972,"MAS","HEM",null,61.15,61.15]
[18467,"WHITE","Alex","M",1997,"U18","HEM",null,78.930000000000007,78.930000000000007]
[17439,"GREASBY","Alexandra","F",1994,"U21","HEM",null,111.86,111.86]
[13217,"SHARP","Anthony","M",1968,"MAS","HEM",null,140.66,140.66]
[20727,"BELL","Rosemary","F",2001,"U14","HEM",null,233.63,233.63]
[21720,"SHAIR","Tariq","M",1993,"SEN","HEM",null,281.63,281.63]
[19122,"GREASBY","Richard","M",1969,"MAS","HEM",null,758.49,758.49]
[21441,"ORCHARD","Ellie","F",2002,"U14","HEM",null,999.99,999.99]
[22009,"APPLETON","Byron","M",2001,"U14","HEM",null,999.99,999.99]
[20579,"SMITH","Gary","M",1984,"MAS","HEM",null,999.99,999.99]
[41974,"THOMAS","Pat","M",1960,"MAS","HEM",null,999.99,999.99]
[22188,"TRUST","Alex","M",2000,"U16","HEM",null,999.99,999.99]
[22121,"BENN","Jessica","F",2005,"U10","HEM",null,999.99,999.99]
[21699,"MAGENES","Edoardo","M",2004,"U12","HEM",null,999.99,999.99]
[31404,"CLUGNET","James","M",1996,"U21","HIG",null,999.99,999.99]
[36564,"MACLEAN","Beth","F",1998,"U18","HNC",null,999.99,999.99]
[31546,"GIBB","Duncan","M",1997,"U18","HNC",null,999.99,999.99]
[31396,"MACLEAN","Angus","M",1996,"U21","HNC",null,999.99,999.99]
[31392,"NICHOLLS","Harry","M",1996,"U21","HNC",null,999.99,999.99]
[31310,"YOUNG","Gregor","M",1995,"U21","HNC",null,999.99,999.99]
[36629,"LANG","Fergus","M",2000,"U16","K",null,999.99,999.99]
[20401,"MOORE","Benedict","M",2001,"U14","K",null,999.99,999.99]
[21964,"KEEN","Emily","F",2004,"U12","KF",null,999.99,999.99]
[19450,"SLATTERY","Rachel","F",1968,"MAS","KND",null,999.99,999.99]
[14393,"THEXTON","Heather","F",1990,"SEN","KND",null,999.99,999.99]
[22133,"APPLETON","Polly","F",1999,"U16","LIO",null,999.99,999.99]
[31318,"STARK","Daisy","F",2001,"U14","LSR",null,271.52,271.52]
[31199,"MORRIS","Christopher","M",2000,"U16","LSR",null,275.89,275.89]
[31333,"HANNAN","James","M",2001,"U14","LSR",null,287.01,287.01]
[31513,"PEARSON","Holly","F",2001,"U14","LSR",null,588.97,588.97]
[31109,"HEATLEY","Holly","F",1997,"U18","LSR",null,999.99,999.99]
[31339,"BURROW","Gregor","M",2002,"U14","LSR",null,999.99,999.99]
[31238,"KEITH","Mathew","M",1998,"U18","LSR",null,140.94999999999999,140.94999999999999]
[31039,"CAMERON","Alasdair","M",1995,"U21","LSR",null,165.79,165.79]
[31077,"HUNSLEY","Miriam","F",1995,"U21","LSR",null,210.12,210.12]
[31114,"SPEIR","Henry","M",1999,"U16","LSR",null,224.12,224.12]
[31029,"FLOCKHART","Sam","M",1998,"U18","LSR",null,253.4,253.4]
[31150,"GOODLAD","Finlay","M",1998,"U18","LSR",null,264.86,264.86]
[31327,"INWOOD","Morgan","F",2001,"U14","LSR",null,265,265]
[31142,"GIBB","Matthew","M",1997,"U18","LSR",null,283.04000000000002,283.04000000000002]
[31313,"MUNRO","Colin","M",1995,"U21","LSR",null,285.93,999.99]
[31157,"SPENCE","Matthew","M",2000,"U16","LSR",null,289.22000000000003,289.22000000000003]
[31265,"NAYLOR","Finlay","M",1998,"U18","LSR",null,333.83,333.83]
[31330,"MARTIN","Rebecca","F",1999,"U16","LSR",null,388.01,388.01]
[31413,"DORREN","Donald","M",2001,"U14","LSR",null,420.99,420.99]
[31258,"GIBB","Tabitha","F",2000,"U16","LSR",null,431.18,431.18]
[31233,"BEVERIDGE","Jamie","M",2000,"U16","LSR",null,433.96,433.96]
[31429,"HARPER","Callum","M",1998,"U18","LSR",null,434.07,434.07]
[31162,"DAVIDSON-MCQUEEN","Ramsay","M",1999,"U16","LSR",null,434.48,434.48]
[31164,"ODY","Robert","M",1998,"U18","LSR",null,465.51,465.51]
[31264,"GIBB","Eva","F",2000,"U16","LSR",null,470.48,470.48]
[31545,"WOOD","Milly","F",2000,"U16","LSR",null,616.37,616.37]
[31411,"BAKER","Rachel","F",2002,"U14","LSR",null,999.99,999.99]
[31317,"DAVIDSON-MCQUEEN","Cassie","F",2002,"U14","LSR",null,999.99,999.99]
[31555,"MCNUTT","Katie","F",2002,"U14","LSR",null,999.99,999.99]
[31476,"MORISETTI","Eilidh","F",2002,"U14","LSR",null,999.99,999.99]
[31507,"MYATT","Rona","F",1997,"U18","LSR",null,999.99,999.99]
[31430,"STEWART","Honor","F",2000,"U16","LSR",null,999.99,999.99]
[31400,"ARNOTT","Jack","M",2002,"U14","LSR",null,999.99,999.99]
[31520,"DUNN","Liam","M",2000,"U16","LSR",null,999.99,999.99]
[31542,"GILFILLAN","Charlie","M",2001,"U14","LSR",null,999.99,999.99]
[31508,"MARSTON","Rory","M",1999,"U16","LSR",null,999.99,999.99]
[31554,"MCNUTT","Josh","M",1998,"U18","LSR",null,999.99,999.99]
[31536,"MILLAR","Archie","M",2001,"U14","LSR",null,999.99,999.99]
[31428,"MUNN","Hamish","M",2002,"U14","LSR",null,999.99,999.99]
[31020,"SCOTT","Archie","M",1996,"U21","LSR",null,999.99,999.99]
[31557,"THORP","Cameron","M",2000,"U16","LSR",null,999.99,999.99]
[31376,"BOLE","Rebecca","F",2003,"U12","LSR",null,999.99,999.99]
[31332,"MARTIN","Annabelle","F",2003,"U12","LSR",null,999.99,999.99]
[31423,"MCKEY","Holly","F",2003,"U12","LSR",null,999.99,999.99]
[31344,"SPENCE","Rachel","F",2003,"U12","LSR",null,999.99,999.99]
[31543,"BECK","Ben","M",2003,"U12","LSR",null,999.99,999.99]
[31510,"CAMPBELL","Frederick","M",2003,"U12","LSR",null,999.99,999.99]
[31564,"CLYDE","Sam","M",2003,"U12","LSR",null,999.99,999.99]
[31515,"DALZIEL","Tom","M",2004,"U12","LSR",null,999.99,999.99]
[31516,"FLOCKHART","Ben","M",2003,"U12","LSR",null,999.99,999.99]
[31475,"GRIEVE","Joe","M",2003,"U12","LSR",null,999.99,999.99]
[31509,"HUNTER","Fraser","M",2003,"U12","LSR",null,999.99,999.99]
[31506,"MACDONALD","Finlay","M",2004,"U12","LSR",null,999.99,999.99]
[31535,"MILLAR","Jay","M",2003,"U12","LSR",null,999.99,999.99]
[36620,"MUNN","Rory","M",2004,"U12","LSR",null,999.99,999.99]
[31521,"MURRAY","Sam","M",2003,"U12","LSR",null,999.99,999.99]
[31568,"RALPH","Fergus","M",2003,"U12","LSR",null,999.99,999.99]
[31561,"SUTHERLAND","Finn","M",2003,"U12","LSR",null,999.99,999.99]
[1,"SHEDDEN","John","M",1943,"MAS","MER",null,999.99,999.99]
[20307,"MIDDLETON","Amy","F",1995,"U21","MID",null,51.15,51.15]
[21084,"EMMERSON","Philip","M",1990,"SEN","MID",null,57.73,57.73]
[19163,"HAWKINS","Mark","M",1979,"MAS","MID",null,61.45,57.1]
[41662,"LEE","Sam","M",1996,"U21","MID",null,128.82,128.82]
[21051,"UPTON","Thomas","M",2001,"U14","MID",null,179.58,126.27]
[19983,"CARE","Chloe","F",1998,"U18","MID",null,203.01,203.01]
[20590,"CARE","James","M",2002,"U14","MID",null,999.99,398.04]
[19704,"BEARDMORE","Adam","M",1986,"SEN","MID",null,35.26,35.26]
[20677,"FROST","Joey","M",1995,"U21","MID",null,127.79,127.79]
[19166,"ELGY","James","M",1993,"SEN","MID",null,166.36,166.36]
[21550,"TARRANT","Toby","M",1997,"U18","MID",null,186.2,186.2]
[19572,"DOHERTY","Samuel","M",1999,"U16","MID",null,257.08999999999997,257.08999999999997]
[19165,"ELGY","Geraldine","F",1954,"MAS","MID",null,330.25,330.25]
[19164,"ELGY","John","M",1951,"MAS","MID",null,332.56,332.56]
[19573,"DOHERTY","Robyn","F",1996,"U21","MID",null,636.34,636.34]
[17039,"DELLER","Philip","M",1959,"MAS","MID",null,780.34,780.34]
[21075,"HEARD","Jake","M",1998,"U18","MID",null,999.99,999.99]
[21569,"HEMMING","Anya","F",2005,"U10","MID",null,999.99,999.99]
[20809,"O'BRIEN","Matilda","F",2004,"U12","MID",null,999.99,999.99]
[20669,"TREUGE","Lauren","F",2003,"U12","MID",null,999.99,999.99]
[21052,"UPTON","Jack","M",2004,"U12","MID",null,999.99,999.99]
[22176,"GILES","Ella","F",2003,"U12","MID",null,999.99,999.99]
[22074,"PORTEOUS","Adrian","M",1965,"MAS","MSR",null,356.5,999.99]
[22044,"PORTEOUS","Nathan","M",2001,"U14","MSR",null,210.51,999.99]
[14806,"MACEY","Abbie","F",1994,"U21","MSR",null,54.4,115.93]
[20065,"WALKER-MORETTI","Ralph","M",1998,"U18","MSR",null,67.25,67.25]
[20552,"WHEELER","Sophie","F",2003,"U12","MSR",null,999.99,999.99]
[21908,"EDWARDS","William","M",2005,"U10","MSR",null,999.99,999.99]
[22054,"PORTEOUS","Daniel","M",2003,"U12","MSR",null,999.99,999.99]
[22170,"KELLY","Nicole","F",2006,"U10","MSR",null,999.99,999.99]
[31104,"DOUGLAS","Abigail","F",1999,"U16","MUC",null,86.78,86.78]
[31224,"MARDEN","Angus","M",2000,"U16","MUC",null,214.55,214.55]
[31216,"GALLOWAY","Drew","M",2000,"U16","MUC",null,263.73,263.73]
[31527,"LANG","Ishbel","F",2000,"U16","MUC",null,391.35,391.35]
[31533,"YOUNG","Olivia","F",2000,"U16","MUC",null,500.69,500.69]
[36597,"CALLION","Christina","F",1999,"U16","MUC",null,999.99,999.99]
[36605,"GALLOWAY","Maudie","F",2005,"U10","MUC",null,999.99,999.99]
[36598,"RAE","Lauren","F",2005,"U10","MUC",null,999.99,999.99]
[18629,"MOLLOY","Daniel","M",1993,"SEN","NOR",null,48.62,48.62]
[17438,"MOLLOY","Michael","M",1992,"SEN","NOR",null,0,0]
[20139,"COE","Megan","F",1997,"U18","NOR",null,31.87,31.87]
[20628,"RICHARDSON","Thomas","M",1997,"U18","NOR",null,46.09,46.09]
[20637,"WIGMORE","Matthew","M",1996,"U21","NOR",null,49.04,49.04]
[20754,"SPANTON","Jessica","F",1997,"U18","NOR",null,50.75,50.75]
[21120,"DAVIES","Ben","M",1995,"U21","NOR",null,65.97,65.97]
[20293,"CLAYTON","Adam","M",1996,"U21","NOR",null,82.16,82.16]
[21742,"SEWELL","Logan","M",1998,"U18","NOR",null,82.25,82.25]
[20339,"BURROUGHS","Hannah","F",2000,"U16","NOR",null,128.57,128.57]
[21253,"OLIVER","Ryan","M",1997,"U18","NOR",null,137.76,137.76]
[19749,"SPANTON","Nicholas","M",1965,"MAS","NOR",null,137.84,137.84]
[6894,"SHAILES","Darryl","M",1961,"MAS","NOR",null,139.08000000000001,139.08000000000001]
[21723,"HOWE","Charlie","M",2000,"U16","NOR",null,168.81,168.81]
[14940,"BECKETT","David","M",1960,"MAS","NOR",null,185.05,185.05]
[19738,"DEWULF-PETERS","Oliver","M",1994,"U21","NOR",null,301.87,301.87]
[22166,"HOLMES","Thomas","M",1999,"U16","NOR",null,999.99,999.99]
[22087,"PARKER","Travis","M",2005,"U10","NOR",null,999.99,999.99]
[22179,"HOLMES","Abby","F",2003,"U12","NOR",null,999.99,999.99]
[21119,"DAVIES","Harry","M",1999,"U16","NOR",null,112.44,112.44]
[21317,"BLEASDALE","Janice","F",1962,"MAS","NSC",null,999.99,999.99]
[21310,"KROLL","Ann","F",1971,"MAS","NSC",null,999.99,999.99]
[42026,"EVANS","Jac","M",2002,"U14","NW",null,999.99,999.99]
[41939,"MELIA","Tybalt","M",2000,"U16","NW",null,999.99,999.99]
[42032,"EVANS","Edward","M",2004,"U12","NW",null,999.99,999.99]
[18417,"SPEARPOINT","Nicholas","M",1966,"MAS","OVL",null,213.27,213.27]
[17435,"DAWSON","Laura","F",1993,"SEN","OVL",null,219.13,219.13]
[12400,"DAWSON","Andrew","M",1965,"MAS","OVL",null,304.49,304.49]
[41781,"BOWYER","Andy","M",1964,"MAS","OVL",null,999.99,999.99]
[5013,"HEATH","Peter","M",1944,"MAS","OVL",null,999.99,999.99]
[31459,"HALLIDAY","Duncan","M",1985,"SEN","P3",null,999.99,999.99]
[31063,"WISE","Kyle","M",1989,"SEN","P3",null,999.99,999.99]
[21750,"DAVEY","Tarran","M",2000,"U16","PLY",null,266.29000000000002,144.61000000000001]
[21757,"SPENCER","Samuel","M",1996,"U21","PLY",null,281.81,265.29000000000002]
[21748,"SAXBY","Kate","F",2002,"U14","PLY",null,999.99,426.24]
[22022,"SPENCER","Ania","F",1998,"U18","PLY",null,999.99,349.69]
[19170,"CORR","Christopher","M",1995,"U21","PND",null,6.38,5.98]
[19420,"WITTS","Callum","M",1998,"U18","PND",null,41.19,34.06]
[19146,"HUPPACH","Declan","M",1999,"U16","PND",null,52.86,34.39]
[20897,"NICKSON","Joseph","M",1996,"U21","PND",null,88.45,87.25]
[19048,"EAVES","Jonathan","M",1998,"U18","PND",null,132.28,102.89]
[20431,"HOLMES","John","M",1969,"MAS","PND",null,140.35,119.89]
[21146,"COOPER","Morgan","M",1998,"U18","PND",null,153.77000000000001,112.21]
[21651,"CULSHAW","Daniel","M",1997,"U18","PND",null,209.84,179.15]
[21625,"CORR","David","M",1998,"U18","PND",null,285.64999999999998,234.56]
[22001,"BUTTERWORTH","Samuel","M",2001,"U14","PND",null,999.99,199.99]
[20640,"FENELEY","Jack","M",2002,"U14","PND",null,999.99,153.63999999999999]
[21097,"HOLMES","Robert","M",2002,"U14","PND",null,203.54,118.28]
[19458,"HUPPACH","Josef","M",2002,"U14","PND",null,112.2,105.73]
[13389,"LEESON","Andrew","M",1989,"SEN","PND",null,28.85,28.85]
[13795,"ELLIOTT","Lauren","F",1991,"SEN","PND",null,205.38,999.99]
[10040,"EAVES","David","M",1967,"MAS","PND",null,401.52,401.52]
[22052,"VAUGHTON","Max","M",1999,"U16","PND",null,999.99,999.99]
[20428,"MURRAY","David","M",1994,"U21","PND",null,999.99,999.99]
[21597,"CULSHAW","Eleanor","F",2003,"U12","PND",null,999.99,999.99]
[20618,"EAVES","Eleanor","F",2003,"U12","PND",null,999.99,999.99]
[21621,"HOLMES","Charlotte","F",2005,"U10","PND",null,999.99,999.99]
[22034,"MARLOR","Bradley","M",2006,"U10","PND",null,999.99,999.99]
[22178,"BUTTERWORTH","Sophie","F",2005,"U10","PND",null,999.99,999.99]
[20711,"BEER","Georgina","F",1996,"U21","RAV",null,45.91,45.91]
[20712,"BEER","Lawrence","M",1998,"U18","RAV",null,71.34,71.34]
[13228,"MILSTED","James","M",1992,"SEN","RAV",null,97.83,96.13]
[21728,"BISHOP","Julian","M",1968,"MAS","RAV",null,372.62,457.09]
[13432,"NICHOL","Timothy","M",1984,"MAS","RAV",null,118.42,118.42]
[20713,"LARBY","Thomas","M",1994,"U21","RAV",null,124.41,124.41]
[17344,"LOWDON","Matthew","M",1995,"U21","RAV",null,999.99,999.99]
[21839,"HARROGATE-BRAMLEY","Alana","F",2003,"U12","RAV",null,999.99,999.99]
[41986,"EVANS","Isabel","F",2000,"U16","SAS",null,209.83,245.11]
[41985,"EVANS","Harrison","M",2000,"U16","SAS",null,210.67,203.92]
[20380,"RATCLIFFE","David","M",1998,"U18","SAS",null,302.32,302.32]
[20487,"GADZHUROV","Marko","M",1966,"MAS","SAS",null,999.99,999.99]
[20381,"RATCLIFFE","Thomas","M",2001,"U14","SAS",null,999.99,999.99]
[21862,"TOWNSEND","Alexander","M",1999,"U16","SAS",null,999.99,999.99]
[41971,"RYAN","Lee","M",2000,"U16","SCI",null,211.29,211.35]
[41969,"SINGLETON","Cillian","M",1999,"U16","SCI",null,221.6,226.36]
[41918,"DE DECKER","Carrig","M",1998,"U18","SCI",null,133.97,231.53]
[41970,"MCDOWELL","Harry","M",2000,"U16","SCI",null,236.36,236.38]
[41973,"COLUMB","Cameron","M",1999,"U16","SCI",null,187.32,365.56]
[42029,"LYNCH","Annmarie","F",2001,"U14","SCI",null,262.24,999.99]
[42036,"COLUMB","Nathan","M",2001,"U14","SCI",null,266.91000000000003,999.99]
[41608,"DOYLE","Eoin","M",1997,"U18","SCI",null,68.69,68.69]
[41764,"REILLY","Garreth","M",1999,"U16","SCI",null,79.64,79.64]
[41930,"BOLGER","Enda","M",1997,"U18","SCI",null,156.57,156.57]
[41984,"BROWN","Jack","M",2001,"U14","SCI",null,323.95999999999998,323.95999999999998]
[31261,"COWAN","Lorna","F",1998,"U18","SFR",null,161.57,161.57]
[31526,"WINNING","Charlotte","F",1998,"U18","SFR",null,371.57,371.57]
[31281,"LINKLATER","Ian","M",1953,"MAS","SFR",null,999.99,999.99]
[20391,"GRIFFITHS","Inez","F",1995,"U21","SHK",null,122.17,122.17]
[18099,"SUMMERHAYES","Molly","F",1997,"U18","SHK",null,588.37,999.99]
[8522,"ASHTON","Simon","M",1968,"MAS","SHK",null,989,989]
[17009,"HOUSTON","Alexandra","F",1994,"U21","SHK",null,999.99,999.99]
[17154,"SUMMERHAYES","Katie","F",1995,"U21","SHK",null,999.99,999.99]
[18628,"HOUSTON","Samuel","M",1996,"U21","SHK",null,999.99,999.99]
[20731,"NEASHAM","Grace","F",1998,"U18","SMK",null,131.21,131.21]
[17752,"SOMAN","Bethany","F",1997,"U18","SMK",null,91.36,91.36]
[20714,"VANBECK","Robert","M",1998,"U18","SMK",null,97.97,97.97]
[18616,"HANCOCK","Karl","M",1995,"U21","SMK",null,259.37,259.37]
[19753,"MAZE-BROWN","Riley","F",2002,"U14","SMK",null,999.99,999.99]
[20134,"SOMAN","Mia","F",2002,"U14","SMK",null,999.99,999.99]
[41910,"GORRINGE","Cerys","F",2000,"U16","SMK",null,999.99,999.99]
[19739,"ROSE","Rebecca","F",2002,"U14","SMK",null,999.99,999.99]
[41911,"GORRINGE","Giselle","F",2003,"U12","SMK",null,999.99,999.99]
[20695,"CATLIN","Osian","M",2005,"U10","SMK",null,999.99,999.99]
[21121,"STANWAY","Kayne","M",2005,"U10","SMK",null,999.99,999.99]
[21863,"TOWNSEND","Isabel","F",2002,"U14","SOU",null,999.99,999.99]
[41852,"FLUCK","Benjamin","M",1996,"U21","SPR",null,87.85,87.85]
[21963,"GREENE","Amelia","F",2002,"U14","SPR",null,999.99,999.99]
[21607,"LEIGHTON","Amie","F",2001,"U14","SPR",null,999.99,999.99]
[21406,"DEYKIN","Sebastian","M",1998,"U18","SPR",null,999.99,999.99]
[21186,"KIPPING","Lewis","M",2001,"U14","SRR",null,143.75,140.69]
[22067,"MOORE","Chris","M",2001,"U14","SRR",null,377.64,373.34]
[22068,"MOORE","Connor","M",2000,"U16","SRR",null,449.98,999.99]
[21799,"ELLISON","Molly","F",2000,"U16","SRR",null,999.99,999.99]
[22045,"HART","Rebecca","F",2005,"U10","SRR",null,999.99,999.99]
[30121,"HENDERSON","Callum","M",1989,"SEN","SSC",null,1.32,1.34]
[31089,"WRIGHT","Dewar","M",1999,"U16","SSC",null,76.430000000000007,76.430000000000007]
[30542,"MACKINNON","Christy","F",1992,"SEN","SSC",null,25.39,127.72]
[31311,"HAY","Adam","M",2001,"U14","SSC",null,226.4,226.4]
[31380,"CROOK","Andrew","M",1998,"U18","SSC",null,249.53,249.53]
[31356,"STEPHEN","Lachlan","M",2001,"U14","SSC",null,283.89999999999998,283.89999999999998]
[31148,"MCCALL","Andrew","M",2002,"U14","SSC",null,999.99,999.99]
[31319,"STEEL","Bruno","M",2002,"U14","SSC",null,999.99,999.99]
[30526,"STANG","Alastair","M",1992,"SEN","SSC",null,14.27,23.96]
[30778,"KUWALL","Duncan","M",1998,"U18","SSC",null,46.71,46.71]
[30862,"ROFE","Sean","M",1995,"U21","SSC",null,80.27,85.66]
[30646,"BALL","Elliot","M",1994,"U21","SSC",null,88.17,88.17]
[30349,"GIBSON","Gordon","M",1990,"SEN","SSC",null,103.36,103.36]
[30250,"MACFIE","Alastair","M",1989,"SEN","SSC",null,113.3,113.3]
[30827,"PATTERSON","Ross","M",1999,"U16","SSC",null,127.66,127.66]
[31032,"DILLON","Grant","M",1997,"U18","SSC",null,131.29,131.29]
[30293,"MCLEOD","Eilidh","F",1990,"SEN","SSC",null,149.04,240.23]
[31031,"INNES","Iain","M",1998,"U18","SSC",null,182.26,182.26]
[31213,"WAITT","Scott","M",2000,"U16","SSC",null,191.56,191.56]
[31197,"ANDERSON","Ewen","M",2000,"U16","SSC",null,203.39,203.39]
[31014,"BROWN","Rhys","M",1995,"U21","SSC",null,205.33,205.33]
[31241,"BROGAN","Alexandra","F",1996,"U21","SSC",null,268.7,268.7]
[31220,"CLARKE","Liam","M",1999,"U16","SSC",null,272.83999999999997,272.83999999999997]
[31308,"BROGAN","Jodie","F",1998,"U18","SSC",null,274.69,274.69]
[31375,"BOLE","Gemma","F",2001,"U14","SSC",null,306.52999999999997,306.52999999999997]
[30982,"THOMSON","Sarah","F",1996,"U21","SSC",null,327.78,327.78]
[31341,"LURRING","Connor","M",1999,"U16","SSC",null,397.31,397.31]
[31198,"INNES","Robbie","M",2000,"U16","SSC",null,406.94,406.94]
[30987,"THOMSON","Ross","M",1999,"U16","SSC",null,502.51,502.51]
[31374,"GILLIES","John","M",1999,"U16","SSC",null,557.61,557.61]
[31080,"ENGLAND","Jessica","F",1998,"U18","SSC",null,599.04,599.04]
[31132,"BROWN","Harry","M",1999,"U16","SSC",null,688.45,688.45]
[31035,"JEFFRAY","Claire","F",1977,"MAS","SSC",null,989,989]
[31316,"ANDERSON","Grace","F",2002,"U14","SSC",null,999.99,999.99]
[30868,"BROWN","Cara","F",1994,"U21","SSC",null,999.99,999.99]
[31081,"ENGLAND","Isabella","F",2000,"U16","SSC",null,999.99,999.99]
[31463,"TAYLOR","Rhona","F",2002,"U14","SSC",null,999.99,999.99]
[31021,"BARLOW","Benedict","M",1994,"U21","SSC",null,999.99,999.99]
[36628,"BARLOW","Robert","M",1954,"MAS","SSC",null,999.99,999.99]
[31115,"BARLOW","Xavier","M",1995,"U21","SSC",null,999.99,999.99]
[31067,"CHAMBET","Tom","M",2000,"U16","SSC",null,999.99,999.99]
[31398,"DALZIEL","James","M",1999,"U16","SSC",null,999.99,999.99]
[31559,"GOODMAN","Thomas","M",2001,"U14","SSC",null,999.99,999.99]
[31505,"LANGMUIR","Calum","M",2002,"U14","SSC",null,999.99,999.99]
[30953,"MCLEISH","Adam","M",1979,"MAS","SSC",null,999.99,999.99]
[31082,"PITCHERS","Brian","M",1942,"MAS","SSC",null,999.99,999.99]
[31168,"SMITH","Ossian","M",2001,"U14","SSC",null,999.99,999.99]
[31185,"TAYLOR","Lewis","M",1998,"U18","SSC",null,999.99,999.99]
[3199,"WHITTET","Jeremy","M",1967,"MAS","SSC",null,999.99,999.99]
[31499,"CROSS","Jemima","F",2003,"U12","SSC",null,999.99,999.99]
[36611,"ENGLAND","Amelia","F",2004,"U12","SSC",null,999.99,999.99]
[31483,"HAY","Ailsa","F",2004,"U12","SSC",null,999.99,999.99]
[31227,"MCCALL","Catriona","F",2004,"U12","SSC",null,999.99,999.99]
[31560,"GOODMAN","Matthew","M",2003,"U12","SSC",null,999.99,999.99]
[36594,"LIVINGSTONE","Zak","M",2003,"U12","SSC",null,999.99,999.99]
[36642,"MCKEY","Lewis","M",2006,"U10","SSC",null,999.99,999.99]
[36589,"STEEL","Luc","M",2005,"U10","SSC",null,999.99,999.99]
[30667,"MORRIS","Sarah","F",1994,"U21","STC",null,131.5,131.5]
[31188,"MORRISSEY","Anna","F",1990,"SEN","STC",null,999.99,999.99]
[30384,"CRUZ-MERMY","Alistair","M",1984,"MAS","STC",null,999.99,999.99]
[36617,"HOUSTOUN","Robert","M",1992,"SEN","STC",null,999.99,999.99]
[19723,"MATTHEWS","Brandon","M",1999,"U16","STS",null,55.38,55.38]
[20921,"DURANT","Richard","M",1967,"MAS","SUF",null,202.37,202.37]
[20108,"GODDARD","Thomas","M",1996,"U21","SUF",null,206.45,206.45]
[21154,"MARSH","Joshua","M",2001,"U14","SZR",null,197.61,197.61]
[21024,"JACKSON","Ellie","F",2002,"U14","TEL",null,202.37,167.27]
[19565,"BOWERS","Dieter","M",1996,"U21","TEL",null,120.04,120.04]
[21582,"HARPER","Thomas","M",2000,"U16","TEL",null,402.45,402.45]
[22085,"BRICKLEY","Iona","F",2006,"U10","TEL",null,999.99,999.99]
[21203,"BREESE","Thomas","M",2003,"U12","TEL",null,999.99,999.99]
[21108,"CAMPBELL","Harvey","M",2003,"U12","TEL",null,999.99,999.99]
[20729,"WILLIAMS","Matthew","M",2004,"U12","TEL",null,999.99,999.99]
[30848,"HARTE","Natalia","F",1992,"SEN","THR",null,33.97,61.09]
[31229,"HARTE","Giulia","F",1996,"U21","THR",null,999.99,999.99]
[19213,"TONGE","Charlotte","F",1994,"U21","TOQ",null,67.260000000000005,67.260000000000005]
[19211,"THOMAS","Kerry","F",1995,"U21","TOQ",null,111.71,111.71]
[21090,"KILROY-SILK","Ellaouise","F",2002,"U14","TOQ",null,999.99,999.99]
[20843,"MARSLAND","Steven","M",1970,"MAS","TOQ",null,999.99,999.99]
[41459,"GURNER","Samuel","M",1997,"U18","TOR",null,93.86,93.86]
[41702,"DAVIES","Jonathan","M",1974,"MAS","TOR",null,464.29,464.29]
[4378,"ROE","Nicholas","M",1956,"MAS","TOR",null,748.57,748.57]
[21557,"SHEPHERDSON","James","M",1999,"U16","TSD",null,309.2,309.2]
[21558,"SHEPHERDSON","Lauren","F",2003,"U12","TSD",null,999.99,999.99]
[22185,"BARTLETT","Holly","F",2003,"U12","TSD",null,999.99,999.99]
[22191,"CHAMPION","Benjamin","M",2005,"U10","TSD",null,999.99,999.99]
[21816,"TUBBS","Jessica","F",1999,"U16","TSN",null,999.99,999.99]
[21866,"MARKS KING","Alex","M",1999,"U16","TSN",null,999.99,999.99]
[22130,"STOCKER","Charley","M",1968,"MAS","TSN",null,999.99,999.99]
[22122,"THOMPSON","Niamh","F",2005,"U10","TSN",null,999.99,999.99]
[21823,"TUBBS","Charlie","M",2003,"U12","TSN",null,999.99,999.99]
[20095,"LALLY","Cameron","M",1996,"U21","VIK",null,99.55,99.55]
[17452,"WRIGHT","Natasha","F",1997,"U18","VIK",null,100.87,100.87]
[19696,"CUTHBERT","Daryl","M",1996,"U21","VIK",null,213.43,213.43]
[19235,"ROYAL","Natasha","F",1999,"U16","VIK",null,999.99,999.99]
[19700,"TOOGOOD","Natalia","F",1997,"U18","VIK",null,999.99,999.99]
[21362,"WILSON","Geoffrey","M",1996,"U21","VIK",null,999.99,999.99]
[21017,"ELLIFF","Alexa","F",2003,"U12","VIK",null,999.99,999.99]
[4777,"HATCHER","David","M",1985,"SEN","WCS",null,8.15,8.15]
[19570,"RICHMOND","Henry","M",1999,"U16","WCS",null,145.4,123.28]
[17257,"MARMENT","Christiaan","M",1997,"U18","WCS",null,113.81,113.81]
[18684,"MARMENT","Robyn","F",2000,"U16","WCS",null,218.24,218.24]
[4963,"RUDGE","Barnaby","M",1989,"SEN","WCS",null,999.99,999.99]
[21218,"BRESKAL","Bailey","M",1998,"U18","WGC",null,156.33000000000001,156.33000000000001]
[22164,"LONGSTAFF","Michael","M",2001,"U14","WGC",null,999.99,999.99]
[41841,"HORTON","Sam","M",1996,"U21","WWS",null,195.56,195.56]
[41923,"LAYTHAM","Jack","M",2000,"U16","WWS",null,999.99,999.99]
[42035,"LLEWELLYN-JONES","Aled","M",2003,"U12","WWS",null,999.99,999.99]
[42038,"WILEY","Casper","M",2006,"U10","WWS",null,999.99,999.99]
[41913,"WILEY","Lily","F",2003,"U12","WWS",null,999.99,999.99]
[1681,"PATON","Andrew","M",1968,"MAS","WYC",null,989,989]
[6231,"BARTLETT","Sally","F",1975,"MAS","WYC",null,999.99,999.99]
[12584,"BRUTON","Peter","M",1989,"SEN",null,null,10.73,16.45]
[18347,"DAVIS","George","M",1995,"U21",null,null,27.59,33.78]
[17963,"BREESE","Nathan","M",1999,"U16",null,null,89.86,93.27]
[21733,"SHAW","Benjamin","M",1999,"U16",null,null,141.97999999999999,146.18]
[21820,"GOODRIDGE","Rory","M",1998,"U18",null,null,226.44,213.98]
[18589,"MCCARTHY","Holly","F",1965,"MAS",null,null,241.88,999.99]
[17201,"CHAJECKI","Julian","M",1993,"SEN",null,null,140.94999999999999,999.99]
[21339,"REED","Matthew","M",1993,"SEN",null,null,102.74,999.99]
[42037,"WOOD","Tom","M",2000,"U16",null,null,252.43,999.99]
[14391,"BREESE","Ashley","M",1996,"U21",null,null,4,11.72]
[3940,"HARRISON","David","M",1984,"MAS",null,null,51.66,51.66]
[18346,"DAVIS","Matthew","M",1998,"U18",null,null,55.84,55.84]
[17591,"CHALKLEY","Oliver","M",1996,"U21",null,null,89.06,89.06]
[17412,"POCOCK","Elena","F",1993,"SEN",null,null,101.34,999.99]
[31000,"BARKER","Emily","F",1998,"U18",null,null,108.89,108.89]
[20347,"BROWN","Isobel","F",1999,"U16",null,null,126.85,153.08000000000001]
[19011,"KEYS","Georgia","F",2001,"U14",null,null,141.46,141.46]
[19346,"WILKINS","Simon","M",1992,"SEN",null,null,171.59,171.59]
[17692,"KIRK","Isabel","F",1997,"U18",null,null,176.65,176.65]
[18247,"ALLEN","Samuel","M",1994,"U21",null,null,188,198.97]
[13638,"CAMPBELL-WOODWARD","Sarah","F",1954,"MAS",null,null,208.53,208.53]
[31529,"PARTRIDGE","Andrew","M",1999,"U16",null,null,249.7,249.7]
[31210,"JAMIESON","Ryan","M",1996,"U21",null,null,277.64,277.64]
[20346,"BROWN","Jemima","F",2001,"U14",null,null,326.47000000000003,326.47000000000003]
[31544,"STRUTHERS","Ciorstaidh","F",2001,"U14",null,null,337.67,337.67]
[31539,"ETRI","Alim","M",1999,"U16",null,null,349.3,349.3]
[31331,"MARTIN","Oliver","M",2001,"U14",null,null,380.11,380.11]
[31309,"BREMNER","Alexander","M",2001,"U14",null,null,450.75,450.75]
[14404,"FYNN","Tarn","M",1994,"U21",null,null,672,672]
[17493,"CONNERY","Kali","M",1996,"U21",null,null,804,804]
[19199,"O'MEARA","Samuel","M",1999,"U16",null,null,960.6,999.99]
[22003,"ARNOLD","Joanna","F",1983,"MAS",null,null,999.99,999.99]
[18751,"BERRY","Laura","F",1988,"SEN",null,null,999.99,999.99]
[36640,"BRAATEN","Jaqueline","F",1998,"U18",null,null,999.99,999.99]
[36641,"BRAATEN","Yasmin","F",2000,"U16",null,null,999.99,999.99]
[21593,"COWELL","Milly","F",2002,"U14",null,null,999.99,999.99]
[21575,"DAVIES","Esmie","F",1999,"U16",null,null,999.99,999.99]
[22024,"DAVIES","Lulu","F",2002,"U14",null,null,999.99,999.99]
[41996,"ELLWOOD","Natasha","F",1992,"SEN",null,null,999.99,999.99]
[20018,"ENTWISTLE","Jacqueline","F",1959,"MAS",null,null,999.99,999.99]
[20576,"FITZGERALD","Jordan","F",1996,"U21",null,null,999.99,999.99]
[21776,"GEHRIG","Stephanie","F",1992,"SEN",null,null,999.99,999.99]
[21939,"GRIFFITHS","Nia","F",2000,"U16",null,null,999.99,999.99]
[21047,"HUTCHINSON","Elys","F",1999,"U16",null,null,999.99,999.99]
[41711,"LARGE","Sophie","F",2001,"U14",null,null,999.99,999.99]
[41682,"LEFEVRE","Paloma","F",2000,"U16",null,null,999.99,999.99]
[21972,"MORGAN","Samantha","F",2002,"U14",null,null,999.99,999.99]
[22005,"MURRAY-TACON","Alexandra","F",1997,"U18",null,null,999.99,999.99]
[21006,"NEYRINCK","Camille","F",1998,"U18",null,null,999.99,999.99]
[21735,"NICOL","Kirsty","F",1986,"SEN",null,null,999.99,999.99]
[41858,"POTTER","Maisie","F",1997,"U18",null,null,999.99,999.99]
[21900,"REBERT","Abby","F",2000,"U16",null,null,999.99,999.99]
[41980,"RESCIGNO","Giorgia","F",1993,"SEN",null,null,999.99,999.99]
[21893,"ROBERTS","Elizabeth","F",1996,"U21",null,null,999.99,999.99]
[21926,"ROBERTS","Sophie","F",1997,"U18",null,null,999.99,999.99]
[21850,"SMITH","Isobelle","F",1999,"U16",null,null,999.99,999.99]
[31566,"STEDMAN","Megan","F",2000,"U16",null,null,999.99,999.99]
[22048,"TEAL","Chloe","F",1996,"U21",null,null,999.99,999.99]
[21018,"THOMPSON","Lara","F",2000,"U16",null,null,999.99,999.99]
[22006,"VAGO","Annabel","F",2000,"U16",null,null,999.99,999.99]
[20573,"VEGTING","Amelia","F",1997,"U18",null,null,999.99,999.99]
[20612,"WHITE","Victoria","F",1994,"U21",null,null,999.99,999.99]
[36574,"WILSON","Judy","F",1952,"MAS",null,null,999.99,999.99]
[36573,"WISEMAN","Cara","F",1982,"MAS",null,null,999.99,999.99]
[36571,"YARD","Beverly","F",1900,"MAS",null,null,999.99,999.99]
[36569,"YOUNG","Maggie","F",1964,"MAS",null,null,999.99,999.99]
[8363,"ATKINSON","Michael","M",1978,"MAS",null,null,999.99,999.99]
[8362,"ATKINSON","Stuart","M",1982,"MAS",null,null,999.99,999.99]
[20416,"AVENT","Mathieu","M",1999,"U16",null,null,999.99,999.99]
[20997,"BIRAN","Itamar","M",1998,"U18",null,null,999.99,999.99]
[31461,"BOLAM","John","M",1955,"MAS",null,null,999.99,999.99]
[20586,"BRAY","Michael","M",1985,"SEN",null,null,999.99,999.99]
[20338,"BROWN","Jamie","M",1999,"U16",null,null,999.99,999.99]
[22129,"BRUNO","Benjamin","M",1999,"U16",null,null,999.99,999.99]
[30811,"BUCHAN","Murray","M",1991,"SEN",null,null,999.99,999.99]
[17380,"BUCHWISER","Lawrence","M",1995,"U21",null,null,999.99,999.99]
[19755,"BURTON","Lucas","M",2000,"U16",null,null,999.99,999.99]
[21766,"CARDON","Casey","M",1997,"U18",null,null,999.99,999.99]
[17202,"CHAJECKI","Alexander","M",1991,"SEN",null,null,999.99,999.99]
[21985,"CHERMETTE","Basile","M",1999,"U16",null,null,999.99,999.99]
[21973,"CRANE-ROBINSON","Theo","M",2001,"U14",null,null,999.99,999.99]
[21048,"DAVIES","Oliver","M",1997,"U18",null,null,999.99,999.99]
[22016,"DAVIS","Matthew","M",1999,"U16",null,null,999.99,999.99]
[31550,"DIVERS","Martin","M",1980,"MAS",null,null,999.99,999.99]
[21552,"ELLIS","Hamish","M",2002,"U14",null,null,999.99,999.99]
[31538,"ETRI","Aymen","M",1999,"U16",null,null,999.99,999.99]
[19544,"FARRELL","Jan","M",1983,"MAS",null,null,999.99,999.99]
[19728,"FIORI","Haydyn","M",2001,"U14",null,null,999.99,999.99]
[21469,"GERRETT","Sam","M",1988,"SEN",null,null,999.99,999.99]
[42025,"GUIGONNET","Edouard","M",2001,"U14",null,null,999.99,999.99]
[21859,"HARDING","Felix","M",2001,"U14",null,null,999.99,999.99]
[19674,"HEDLEY","Benja","M",1977,"MAS",null,null,999.99,999.99]
[41927,"HESLOP","Rory","M",1995,"U21",null,null,999.99,999.99]
[22046,"HODGE","Barnaby","M",2000,"U16",null,null,999.99,999.99]
[36561,"IRONSIDE","Glen","M",1999,"U16",null,null,999.99,999.99]
[31549,"JAMES","Richard","M",1965,"MAS",null,null,999.99,999.99]
[36595,"KEITH","Matthew","M",1998,"U18",null,null,999.99,999.99]
[20530,"MAJOR","Billy","M",1996,"U21",null,null,999.99,999.99]
[31171,"MATTHEW","Andrew","M",1990,"SEN",null,null,999.99,999.99]
[21043,"MEURER","Markus","M",1968,"MAS",null,null,999.99,999.99]
[41934,"MUNDAY","William","M",2000,"U16",null,null,999.99,999.99]
[21315,"NEVENS","Ted","M",1997,"U18",null,null,999.99,999.99]
[21481,"NG","Hugo","M",1997,"U18",null,null,999.99,999.99]
[21544,"OSMOND","Cosmo","M",2001,"U14",null,null,999.99,999.99]
[22043,"OSULLIVAN","Finley","M",2001,"U14",null,null,999.99,999.99]
[31530,"PARTRIDGE","Tom","M",2002,"U14",null,null,999.99,999.99]
[22036,"PICKUP","Dean","M",1967,"MAS",null,null,999.99,999.99]
[20777,"PINSENT","William","M",1955,"MAS",null,null,999.99,999.99]
[41814,"ROBERTS","Ian","M",1969,"MAS",null,null,999.99,999.99]
[22011,"RONZ","Robert","M",1982,"MAS",null,null,999.99,999.99]
[20564,"SHARROTT","Christopher","M",1978,"MAS",null,null,999.99,999.99]
[20520,"SHEPHERD","Matthew","M",1979,"MAS",null,null,999.99,999.99]
[21057,"STEINER","Toby","M",2000,"U16",null,null,999.99,999.99]
[21567,"STUART","Oliver","M",1999,"U16",null,null,999.99,999.99]
[22047,"TAYLOR","Duncan","M",2000,"U16",null,null,999.99,999.99]
[41876,"TAYLOR","Robert","M",1984,"MAS",null,null,999.99,999.99]
[31270,"TRINDER","Jamie","M",1994,"U21",null,null,999.99,999.99]
[21265,"UNDERKOFFLER","Lucas","M",1996,"U21",null,null,999.99,999.99]
[21765,"WADDINGTON","Thomas","M",1984,"MAS",null,null,999.99,999.99]
[41925,"WAJDA","Benjamin","M",1996,"U21",null,null,999.99,999.99]
[36580,"WHITE","John","M",1901,"MAS",null,null,999.99,999.99]
[36577,"WILLIAMSON","Andrew","M",1985,"SEN",null,null,999.99,999.99]
[36576,"WILLIS","Stephen","M",1976,"MAS",null,null,999.99,999.99]
[20814,"WOODWARD","Stewart","M",1955,"MAS",null,null,999.99,999.99]
[36572,"WRIGHT","Alex","M",1994,"U21",null,null,999.99,999.99]
[41977,"WYLIE","Callum","M",1999,"U16",null,null,999.99,999.99]
[36570,"YELLOWLEES","Jamie","M",1994,"U21",null,null,999.99,999.99]
[22144,"BREEN","Kate","F",2001,"U14",null,null,999.99,999.99]
[22189,"WILSON","Ceri","F",2000,"U16",null,null,999.99,999.99]
[22157,"FERGUSON","Ian","M",1960,"MAS",null,null,999.99,999.99]
[22143,"MCGONIGAL","Dominic","M",2000,"U16",null,null,999.99,999.99]
[20348,"BROWN","Elektra","F",2003,"U12",null,null,999.99,999.99]
[21769,"COOPER","Lauren","F",2005,"U10",null,null,999.99,999.99]
[21570,"JALLAT","Annabel","F",2003,"U12",null,null,999.99,999.99]
[22115,"KAMALY-ASL","Anna","F",2005,"U10",null,null,999.99,999.99]
[21887,"OSMOND","Christabel","F",2003,"U12",null,null,999.99,999.99]
[36599,"SCOTT","Cara","F",2004,"U12",null,null,999.99,999.99]
[20622,"TARANTELLI","Laudomia","F",2003,"U12",null,null,999.99,999.99]
[22007,"VAGO","Cristina","F",2003,"U12",null,null,999.99,999.99]
[31338,"CALDER","Lewis","M",2006,"U10",null,null,999.99,999.99]
[31337,"CALDER","Struan","M",2004,"U12",null,null,999.99,999.99]
[21976,"DALE-JONES","Jago","M",2004,"U12",null,null,999.99,999.99]
[21977,"DALE-JONES","Mack","M",2006,"U10",null,null,999.99,999.99]
[31345,"KELLAS","Guy","M",2003,"U12",null,null,999.99,999.99]
[21993,"MILKINS","William","M",2004,"U12",null,null,999.99,999.99]
[21965,"MOSS","Louis","M",2004,"U12",null,null,999.99,999.99]
[21888,"OSMOND","Orlando","M",2006,"U10",null,null,999.99,999.99]
[21998,"PARSONS","Oscar","M",2004,"U12",null,null,999.99,999.99]
[21663,"RIDDELL","Kelan","M",2003,"U12",null,null,999.99,999.99]
[42021,"SCANLON","Ryan","M",2004,"U12",null,null,999.99,999.99]
[22008,"VAGO","Peter","M",2005,"U10",null,null,999.99,999.99]
[21819,"WALKER","Reuben","M",2006,"U10",null,null,999.99,999.99]
[36579,"WILD","Oscar","M",2008,"U8",null,null,999.99,999.99]
[36578,"WILLIAMS","John","M",2008,"U8",null,null,999.99,999.99]
[36575,"WILSON","Inez","M",2008,"U8",null,null,999.99,999.99]
[22146,"HAMBLETON","Chloe","F",2004,"U12",null,null,999.99,999.99]

{"sheet":"2014.3","index":6,"n_rows":1808,"n_cols":10,"rows_kept":1808,"cut":false,"hidden":true,"merged":[]}
["REGNO","SURNAME","FORENAME","SEX","YOB","CAT","CLUB1","CLUB2","iBARTS 14.3 PTS","oBARTS 14.3 PTS"]
[36667,"POWELL","John","M",1967,"MAS","SFR",null,989,999.99]
[36662,"SATTAR","Zakee","M",2000,"U16","BSC",null,989,999.99]
[31455,"YORK","Scott","M",2002,"U14","GSR",null,989,999.99]
[19130,"WILLIAMS","Jamie","M",1992,"SEN","FLK",null,69.849999999999994,70.19]
[21283,"PATTON","Edward","M",2001,"U14","SPR","SPR",330.6,372.34]
[20496,"SCRANAGE-HARRISON","Eleanor","F",2002,"U14","HEM","WGC",140.30000000000001,999.99]
[21521,"CHMIELOWSKA","Julia","F",1996,"U21","HEM","BSA",109.73,999.99]
[21219,"DEAN","Emily","F",1999,"U16","HEM","HEM",122.7,138.97]
[41968,"FURLONG","Georgia","F",2000,"U16","CAR",null,190.45,184.8]
[22083,"HAWKINS","Danielle","F",2001,"U14","HEM","HEM",108.5,999.99]
[22084,"HAWKINS","Lily","F",2001,"U14","HEM","HEM",183.47,999.99]
[22082,"HAWKINS","Zara","F",2001,"U14","HEM","HEM",133.1,190.45]
[21357,"MOORE","Danica","F",2000,"U16","BRO",null,153.09,68.59]
[21378,"STOCKER","Natasha","F",2001,"U14","TSN","BSA",207.91,242.44]
[21355,"TAPSELL","Charlotte","F",2001,"U14","HEM","BSA",69.56,44]
[20644,"TREW","Isobel","F",1999,"U16","HEM","K",113.26,55.11]
[20725,"WARMINGTON","Harriet","F",2002,"U14","HEM","HEM",217.64,999.99]
[19440,"ADAMS","Sarah","F",1997,"U18","DHO","DHO",999.99,999.99]
[21161,"ALBONE","Catherine","F",2003,"U12",null,"SMK",999.99,999.99]
[8242,"ALCOTT","Chimene","F",1982,"MAS","SPR","DHO",177.16,177.16]
[31449,"ALDRIDGE","Iona","F",2003,"U12","MUC","SSC",999.99,999.99]
[31340,"ALLAN","Amelia","F",2001,"U14","GDN",null,227.04,252.74]
[30833,"ALLAN","Katie","F",1996,"U21","BSC",null,66.62,66.62]
[31436,"ALLAN","Phoebe","F",2004,"U12","GDN",null,999.99,999.99]
[31208,"ALLAN","Tabitha","F",2000,"U16","GDN",null,144.96,187.21]
[12570,"ALLDRIDGE","Amanda","F",1991,"SEN","SMK","SPR",6.07,7.14]
[14159,"ANDERSON","Beverley","F",1970,"MAS","VIK","K",67.87,67.87]
[31316,"ANDERSON","Grace","F",2002,"U14","SSC",null,999.99,999.99]
[17560,"ANDERSON","Jessica","F",1998,"U18","GRV","AMB",83.53,83.53]
[30988,"ANDERSON","Keri","F",1996,"U21","GSR","SSC",34.35,50.76]
[31312,"ANDERSON","Laura","F",1996,"U21","SSC","LSR",166.95,164]
[30664,"ANGUS","Kate","F",1994,"U21","SSC","GDN",307.83,307.83]
[22133,"APPLETON","Polly","F",1999,"U16","LIO",null,999.99,999.99]
[22003,"ARNOLD","Joanna","F",1983,"MAS",null,null,999.99,999.99]
[19031,"ARTHUR","April","F",2001,"U14","TSN","SAS",461.89,461.89]
[21734,"ATKINSON","Molly","F",2001,"U14","CHT",null,999.99,153.91999999999999]
[12428,"BAGGIO","Jayme","F",1991,"SEN","EVO","EVO",999.99,999.99]
[20805,"BAILES","Lucy","F",2001,"U14","ESX","ELI",295.49,295.49]
[31411,"BAKER","Rachel","F",2002,"U14","LSR",null,999.99,999.99]
[22055,"BALDWIN","Caitlin","F",2006,"U10","MSR","MSR",999.99,999.99]
[30852,"BANKS BROWN","Yandra","F",1996,"U21","CSC","SSC",999.99,999.99]
[21303,"BANNISTER","Lucy","F",2002,"U14","ASR",null,999.99,202.88]
[31000,"BARKER","Emily","F",1998,"U18",null,null,108.89,108.89]
[30636,"BARKER","Katy","F",1996,"U21","LSR",null,104.08,104.08]
[31336,"BARTHRAM","Alice","F",2001,"U14","LSR","SSC",226.09,226.09]
[22185,"BARTLETT","Holly","F",2003,"U12","TSD",null,999.99,999.99]
[6231,"BARTLETT","Sally","F",1975,"MAS","WYC",null,999.99,999.99]
[19680,"BAXTER","Phillipa","F",1998,"U18","VIK","BSA",150.13,150.13]
[30995,"BEATTIE","Natalie","F",1994,"U21","ARB",null,999.99,999.99]
[10612,"BECK","Catherine","F",1960,"MAS","LIO","LIO",138.94,271.10000000000002]
[10654,"BECK","Hannah","F",1987,"SEN","LIO","LIO",112.91,224.32]
[20711,"BEER","Georgina","F",1996,"U21","RAV",null,45.91,45.91]
[21338,"BELL","Reece","F",2001,"U14",null,"BSA",999.99,999.99]
[20727,"BELL","Rosemary","F",2001,"U14","HEM",null,233.63,233.63]
[22119,"BELTON","Scarlett","F",2002,"U14","HEM","SOU",351.1,999.99]
[22121,"BENN","Jessica","F",2005,"U10","HEM",null,999.99,999.99]
[20700,"BENNETT","Grace","F",2005,"U10","LIO","LIO",999.99,999.99]
[19587,"BENNETT","Lucy","F",1999,"U16","SZR","SZR",112.44,112.44]
[18751,"BERRY","Laura","F",1988,"SEN",null,null,999.99,999.99]
[20168,"BILL","Rachel","F",1990,"SEN","MID","MID",23.81,23.81]
[18918,"BINGLE-WILLIAMS","Katya","F",1999,"U16",null,"K",999.99,999.99]
[18919,"BINGLE-WILLIAMS","Lucy","F",2000,"U16",null,"K",999.99,999.99]
[20096,"BINGLE-WILLIAMS","Natasha","F",2002,"U14",null,"K",999.99,999.99]
[20132,"BLACK","Grace","F",2003,"U12","PPS","DRA",999.99,999.99]
[21140,"BLACK","Lauren","F",2001,"U14","AVO","AVO",332.06,295.44]
[21317,"BLEASDALE","Janice","F",1962,"MAS","NSC",null,999.99,999.99]
[21659,"BOJARSKA","Aleksandra","F",1961,"MAS","MAN","MAN",198.32,198.32]
[31375,"BOLE","Gemma","F",2001,"U14","SSC",null,306.52999999999997,299.58]
[31376,"BOLE","Rebecca","F",2003,"U12","LSR",null,999.99,999.99]
[41826,"BONNINGTON","Keira","F",2002,"U14",null,"DRA",999.99,999.99]
[21522,"BOSWELL","Olivia","F",1999,"U16","SRR","SRR",189.87,189.87]
[21759,"BOSWOOD-CLARK","Eve","F",2003,"U12","TOQ","TOQ",999.99,999.99]
[19712,"BOTY","Carys","F",1999,"U16","HEM","ELI",114.58,130.43]
[21334,"BOTY","Nia","F",2003,"U12","HEM","ELI",999.99,999.99]
[20901,"BOYCOTT","Nina","F",2000,"U16","LIO","LIO",251.24,999.99]
[18618,"BOZIER","Hannah","F",1996,"U21","ASR","ASR",8.9,6.95]
[36640,"BRAATEN","Jaqueline","F",1998,"U18",null,null,999.99,999.99]
[36641,"BRAATEN","Yasmin","F",2000,"U16",null,null,999.99,999.99]
[21892,"BRANDT","Honor","F",2005,"U10",null,"DHO",999.99,999.99]
[31532,"BRAWLEY","Ella","F",2004,"U12","GSR",null,999.99,999.99]
[22144,"BREEN","Kate","F",2001,"U14",null,null,999.99,999.99]
[22085,"BRICKLEY","Iona","F",2006,"U10","TEL",null,999.99,999.99]
[31241,"BROGAN","Alexandra","F",1996,"U21","SSC",null,268.7,268.7]
[31308,"BROGAN","Jodie","F",1998,"U18","SSC",null,274.69,274.69]
[19504,"BROOKER","Lolli","F",2001,"U14","VIK","ELI",94.92,94.92]
[19821,"BROWN","Alysha","F",2002,"U14","S2R","S2R",999.99,999.99]
[31482,"BROWN","Anna","F",2006,"U10","GDN",null,999.99,999.99]
[30868,"BROWN","Cara","F",1994,"U21","SSC","K",999.99,999.99]
[20299,"BROWN","Charlotte","F",2003,"U12","S2R","S2R",999.99,999.99]
[20348,"BROWN","Elektra","F",2003,"U12",null,null,999.99,999.99]
[20347,"BROWN","Isobel","F",1999,"U16",null,null,126.85,153.08000000000001]
[20346,"BROWN","Jemima","F",2001,"U14",null,null,326.47000000000003,326.47000000000003]
[31191,"BROWN","Rachel","F",2000,"U16","GDN","ASC",121.16,121.52]
[20367,"BRUCE","Abigail","F",2000,"U16","EVO","EVO",102.67,102.67]
[31493,"BRUCE","Emma","F",2000,"U16","BSC",null,227.48,175.72]
[20368,"BRUCE","Sasha","F",1999,"U16","EVO","EVO",129.72,129.72]
[17686,"BUCHANAN","Alexandra","F",1994,"U21",null,"AMB",173.01,999.99]
[20360,"BUCKLAND","Amber","F",1997,"U18","HEM","BSA",180.82,204.07]
[14661,"BULLOCK","Alexandra","F",1995,"U21","TEL","TEL",18.25,18.25]
[31484,"BURKE","Olivia","F",2002,"U14","GSR",null,999.99,999.99]
[21139,"BURKINSHAW","Rowena","F",1979,"MAS","MSR","MSR",100.78,125.82]
[20601,"BURNS","Madeleine","F",2001,"U14","HEM","AMB",198.9,198.9]
[20339,"BURROUGHS","Hannah","F",2000,"U16","NOR",null,128.57,128.57]
[20860,"BURTON","Maisie","F",2002,"U14","LIO","LIO",74.599999999999994,999.99]
[19586,"BUTCHER","Jazmine","F",1997,"U18","NOR","BSA",100.59,100.59]
[22120,"BUTLER","Molly","F",2006,"U10","SAS","HEM",999.99,999.99]
[22178,"BUTTERWORTH","Sophie","F",2005,"U10","PND",null,999.99,999.99]
[31357,"CALDER","Emma","F",2002,"U14","GDN",null,999.99,999.99]
[20833,"CALDWELL","Anna","F",2002,"U14","HEM","EVO",157.79,999.99]
[36597,"CALLION","Christina","F",1999,"U16","MUC",null,999.99,999.99]
[31161,"CAMPBELL","Erin","F",1999,"U16","GSR",null,257.23,257.23]
[13638,"CAMPBELL-WOODWARD","Sarah","F",1954,"MAS",null,null,208.53,208.53]
[19983,"CARE","Chloe","F",1998,"U18","MID",null,203.01,203.01]
[31155,"CARRUTHERS","Philipa","F",1997,"U18","SSC","LSR",130.9,130.9]
[31203,"CARSON","Clare","F",1994,"U21","GSR",null,53.28,105.58]
[20694,"CATLIN","Glesni","F",2003,"U12","SMK","S2R",999.99,999.99]
[21270,"CHAPMAN","Chloe","F",2003,"U12","TSD","TSD",999.99,999.99]
[31497,"CHAPMAN","Vaila","F",1997,"U18","BSC",null,999.99,999.99]
[20366,"CHASTNEY","Rebecca","F",2002,"U14","WM","BSA",999.99,999.99]
[21059,"CHMIELOWSKA","Claudia","F",1998,"U18","HEM","K",999.99,999.99]
[21341,"CHRISTOPHER","Rebecca","F",1998,"U18","SPR","SPR",999.99,999.99]
[36635,"CLARK","Megan","F",1998,"U18","GSR",null,999.99,999.99]
[31335,"CLARKE","Jemma","F",2001,"U14","LSR","SSC",136.05000000000001,132.55000000000001]
[22075,"CLARKE","Roisin","F",2002,"U14","HEM","HEM",999.99,999.99]
[18316,"CLISSOLD","Honor","F",1997,"U18","RAV","EVO",191.53,191.53]
[36651,"COBB","Stella","F",1999,"U16","LSR",null,999.99,378.65]
[20139,"COE","Megan","F",1997,"U18","NOR",null,31.87,21.16]
[21658,"COLE","Hannah","F",1998,"U18","HEM","SAS",184.6,999.99]
[20352,"COLLEY","Isabella","F",1999,"U16","SPR","SPR",999.99,999.99]
[21358,"COOK","Ellie","F",1998,"U18","GLO",null,160.04,157.44]
[18676,"COOPER","Georgina","F",1996,"U21","GLO","DRA",71.180000000000007,71.180000000000007]
[19770,"COOPER","Izabelle","F",2001,"U14","SAS","BSA",999.99,999.99]
[19628,"COOPER","Lauren","F",1999,"U16","SAS","SAS",141.43,141.43]
[21769,"COOPER","Lauren","F",2005,"U10",null,null,999.99,999.99]
[19137,"COOPER","Yasmin","F",1998,"U18","HEM","BSA",28.52,29.99]
[20842,"CORRIGAN","Caroline","F",2002,"U14","SPR","SPR",999.99,999.99]
[21914,"COTTLE-BAILEY","Poppy","F",2003,"U12","ASR",null,999.99,999.99]
[31261,"COWAN","Lorna","F",1998,"U18","SFR",null,161.57,161.57]
[21593,"COWELL","Milly","F",2002,"U14",null,null,999.99,999.99]
[31433,"CRANE","Joanna","F",2001,"U14","CSC",null,999.99,999.99]
[21695,"CROCKER","Alicia","F",1997,"U18","SMK","SMK",211.75,211.75]
[31499,"CROSS","Jemima","F",2003,"U12","SSC",null,999.99,999.99]
[21597,"CULSHAW","Eleanor","F",2003,"U12","PND",null,999.99,999.99]
[19773,"CURTIS","Marie","F",1997,"U18","HEM","BSA",49.86,49.86]
[20800,"DALE","Safia","F",2000,"U16","DHO","DHO",999.99,999.99]
[22308,"DANCE","Hannah","F",2001,"U14","ALD",null,999.99,999.99]
[20256,"DANENBERGSONS","Shana","F",2000,"U16","HEM","EVO",69.16,69.16]
[19531,"DANIELS","Daisi","F",2002,"U14","MSR","EVO",73.45,999.99]
[19414,"DANNATT","Gemma","F",1996,"U21","GLO","DRA",76.08,76.08]
[30759,"DAULBY","Hannah","F",1995,"U21",null,"SSC",119.48,119.48]
[31317,"DAVIDSON-MCQUEEN","Cassie","F",2002,"U14","LSR",null,999.99,398.89]
[36639,"DAVIES","Christina","F",1993,"SEN","ASC",null,999.99,237.5]
[21575,"DAVIES","Esmie","F",1999,"U16",null,null,999.99,999.99]
[17936,"DAVIES","Jenny","F",1996,"U21","ASR",null,20.09,7.5]
[22024,"DAVIES","Lulu","F",2002,"U14",null,null,999.99,999.99]
[20890,"DAVIES","Megan","F",2001,"U14","HEM","HEM",262.36,262.36]
[31469,"DAVIS","Meghan","F",2000,"U16","BSA",null,130.96,157.01]
[17435,"DAWSON","Laura","F",1993,"SEN","OVL",null,219.13,219.13]
[20178,"DEIGHTON","Avelline","F",1967,"MAS","HEM","IMP",221.22,236.41]
[17888,"DELLER","Lucy","F",1996,"U21","MID","DRA",25.68,25.68]
[31466,"DICKSON","Sophie","F",1999,"U16","CSC",null,999.99,999.99]
[31431,"DILLON","Millie","F",2004,"U12","SSC","MUC",999.99,999.99]
[21331,"DILWORTH","Lucinda","F",1998,"U18",null,"BSA",104.75,104.75]
[19573,"DOHERTY","Robyn","F",1996,"U21","MID",null,636.34,636.34]
[18990,"DONNELLON","Amy","F",1994,"U21",null,"DHO",999.99,999.99]
[31104,"DOUGLAS","Abigail","F",1999,"U16","MUC",null,86.78,86.78]
[31565,"DOUGLAS","Morven","F",2001,"U14","GDN",null,999.99,999.99]
[22071,"DRUMMOND","Davina","F",2001,"U14",null,"BSA",999.99,999.99]
[21124,"DRUMMOND","Elinor","F",2003,"U12","TEL","TEL",999.99,999.99]
[21094,"DRUMMOND","Isabel","F",2001,"U14","TEL","TEL",272.29000000000002,324.52]
[22086,"DRUMMOND","Miranda","F",2002,"U14",null,"BSA",999.99,999.99]
[20141,"EATON","Freya","F",1998,"U18","AMB","AMB",134.16,134.16]
[20618,"EAVES","Eleanor","F",2003,"U12","PND",null,999.99,999.99]
[21012,"EDWARDS","Issy","F",2001,"U14","DRA","MSR",234.22,234.22]
[21630,"EDWARDS","Rachel","F",1963,"MAS","GRV",null,999.99,999.99]
[19165,"ELGY","Geraldine","F",1954,"MAS","MID",null,330.25,330.25]
[21017,"ELLIFF","Alexa","F",2003,"U12","VIK",null,999.99,999.99]
[13795,"ELLIOTT","Lauren","F",1991,"SEN","PND",null,205.38,999.99]
[21799,"ELLISON","Molly","F",2000,"U16","SRR",null,999.99,348.23]
[41996,"ELLWOOD","Natasha","F",1992,"SEN",null,null,999.99,999.99]
[22116,"ELPHICK","Alex","F",1999,"U16","ESX",null,999.99,999.99]
[36611,"ENGLAND","Amelia","F",2004,"U12","SSC",null,999.99,999.99]
[31081,"ENGLAND","Isabella","F",2000,"U16","SSC",null,999.99,999.99]
[31080,"ENGLAND","Jessica","F",1998,"U18","SSC",null,599.04,599.04]
[20018,"ENTWISTLE","Jacqueline","F",1959,"MAS",null,null,999.99,999.99]
[13765,"EVANS","Charlotte","F",1991,"SEN","CHT","K",45.6,45.6]
[13766,"EVANS","Emily","F",1994,"U21","CHT","AMB",10,10]
[41986,"EVANS","Isabel","F",2000,"U16","SAS",null,209.83,222.05]
[22110,"FAIRFULL","Madeleine","F",2006,"U10","HEM","HEM",999.99,999.99]
[21771,"FAIRHEAD","Iona","F",2000,"U16",null,"DHO",999.99,999.99]
[11941,"FAIRWEATHER","Sega","F",1990,"SEN","EVO","EVO",999.99,999.99]
[20701,"FELLOWS","Charley","F",2003,"U12","TEL","TEL",999.99,999.99]
[22020,"FERGUSON","Catrin","F",2006,"U10","PND","PND",999.99,999.99]
[31225,"FERGUSON","Hannah","F",1999,"U16","LSR",null,999.99,999.99]
[36666,"FERGUSON","Zoe","F",2002,"U14","LSR",null,999.99,576.49]
[30964,"FERRIER","Rachael","F",1996,"U21","GSR","SSC",29.68,33.01]
[20576,"FITZGERALD","Jordan","F",1996,"U21",null,null,999.99,999.99]
[36604,"FITZPATRICK","Joy","F",1997,"U18","GSR",null,999.99,999.99]
[31454,"FITZPATRICK","Molly","F",2003,"U12","GSR",null,999.99,999.99]
[31091,"FLEMING","Alex","F",1999,"U16","SSC",null,242.05,242.05]
[41992,"FLUCK","Catrin","F",1998,"U18","SPR","SPR",999.99,999.99]
[22309,"FORBES","Hannah","F",1994,"U21","BRO",null,999.99,999.99]
[20856,"FOSTER","Olivia","F",2001,"U14","SPR","SPR",154.80000000000001,154.80000000000001]
[20855,"FOSTER","Sophie","F",2003,"U12","SPR","SPR",999.99,999.99]
[31226,"FOWLER","Isla","F",2000,"U16","GSC","SFR",188.11,247.46]
[14942,"FREEZE","Danielle","F",1990,"SEN","BRO",null,62.02,62.02]
[21919,"FROST","Eleanor","F",2002,"U14","SPR","SPR",999.99,999.99]
[21940,"GALBRAITH","Clare","F",1963,"MAS",null,"DHO",999.99,999.99]
[21949,"GALBRAITH","Helena","F",2000,"U16",null,"DHO",999.99,999.99]
[36605,"GALLOWAY","Maudie","F",2005,"U10","MUC",null,999.99,999.99]
[30500,"GARDINER","Carla-Marina","F",1989,"SEN","ESC",null,17.59,17.59]
[20345,"GARMENT","Harriett","F",2000,"U16","WGC","HEM",465.82,465.82]
[30866,"GARVIE","Amber","F",1998,"U18","GDN",null,283.27,283.27]
[21991,"GATTY","Persephone","F",2004,"U12","PND","PND",999.99,999.99]
[22012,"GATTY","Victoria","F",1999,"U16","PND","PND",188.51,64.69]
[21776,"GEHRIG","Stephanie","F",1992,"SEN",null,null,999.99,999.99]
[36592,"GIBB","Alana","F",2006,"U10","ASC",null,999.99,999.99]
[31264,"GIBB","Eva","F",2000,"U16","LSR",null,470.48,470.48]
[31258,"GIBB","Tabitha","F",2000,"U16","LSR",null,431.18,431.18]
[22176,"GILES","Ella","F",2003,"U12","MID",null,999.99,999.99]
[19001,"GLASGOW","Sarah","F",2001,"U14","SMK","AMB",87.21,147.02000000000001]
[21007,"GLASSBROOK","Amy","F",2002,"U14",null,"MSR",277.68,319.56]
[30850,"GLOISTEIN","Helen","F",1996,"U21","MUC","SSC",164.77,148.04]
[41007,"GODDARD","Emily","F",1987,"SEN","GLO","DRA",24.64,24.64]
[19535,"GORDON","Maya","F",1995,"U21",null,"K",999.99,999.99]
[41910,"GORRINGE","Cerys","F",2000,"U16","SMK",null,999.99,999.99]
[41911,"GORRINGE","Giselle","F",2003,"U12","SMK",null,999.99,999.99]
[17747,"GOULD","Charlotte","F",1992,"SEN","TEL","TEL",10.87,10.87]
[17972,"GOULD","Georgina","F",1994,"U21","TEL","TEL",51,51]
[22031,"GRANT","Amelia","F",2003,"U12",null,"BSA",999.99,999.99]
[21053,"GRANT","Isabelle","F",2003,"U12",null,"BSA",999.99,999.99]
[36669,"GRAY","Lynne","F",1998,"U18","HNC",null,999.99,999.99]
[17439,"GREASBY","Alexandra","F",1994,"U21","HEM",null,111.86,111.86]
[19275,"GREAVES","Rebecca","F",1999,"U16","MSR","EVO",144.13999999999999,144.13999999999999]
[36614,"GREEN","Eleanor","F",2001,"U14","GDN",null,588.24,528.52]
[21963,"GREENE","Amelia","F",2002,"U14","SPR",null,999.99,999.99]
[13814,"GREENHALGH","Eloise","F",1993,"SEN","SPR","SPR",14.33,14.33]
[31528,"GREIG","Anna","F",2001,"U14",null,null,999.99,999.99]
[20391,"GRIFFITHS","Inez","F",1995,"U21","SHK",null,122.17,122.17]
[21939,"GRIFFITHS","Nia","F",2000,"U16",null,null,999.99,999.99]
[30633,"GUEST","Charlotte","F",1993,"SEN","SSC",null,129.78,129.78]
[30779,"GUEST","Katharine","F",1995,"U21","SSC",null,355.6,355.6]
[30920,"GUEST","Kirsty","F",1997,"U18","BSA","SSC",659.75,659.75]
[41274,"HALES","Alice","F",1992,"SEN","CAR","DRA",3.75,3.75]
[20936,"HALL","Maria","F",1995,"U21","LIO","LIO",170.03,999.99]
[41705,"HALLETT","Georgia","F",1996,"U21","GLO","DRA",24.96,23.97]
[36652,"HALLIDAY","Grace","F",2002,"U14","LSR",null,999.99,999.99]
[22146,"HAMBLETON","Chloe","F",2004,"U12",null,null,999.99,999.99]
[18617,"HANCOCK","Maxine","F",1997,"U18","MID","SMK",74.28,74.28]
[14237,"HANDFORD-STYRING","Hannah","F",1996,"U21","PPS","PPS",742.08,999.99]
[21301,"HARRISON","Louise","F",1994,"U21","PND","PND",69.42,61.21]
[42040,"HARRISON","Ursula","F",2000,"U16","CAR",null,999.99,999.99]
[21839,"HARROGATE-BRAMLEY","Alana","F",2003,"U12","RAV",null,999.99,999.99]
[21561,"HARROGATE-BRAMLEY","Cheryl","F",1962,"MAS","RAV","RAV",547.63,445.09]
[22045,"HART","Rebecca","F",2005,"U10","SRR",null,999.99,999.99]
[31229,"HARTE","Giulia","F",1996,"U21","THR",null,999.99,999.99]
[30848,"HARTE","Natalia","F",1992,"SEN","THR",null,33.97,61.09]
[4944,"HATCHER","Kirsty","F",1991,"SEN","CAR","K",42.03,42.03]
[17970,"HATHWAY","Ellen","F",1994,"U21","LSU","ASR",11.59,11.59]
[18660,"HATHWAY","Isabella","F",1997,"U18","ASR",null,49.71,12.74]
[31483,"HAY","Ailsa","F",2004,"U12","SSC",null,999.99,999.99]
[31109,"HEATLEY","Holly","F",1997,"U18","LSR",null,999.99,152.9]
[19126,"HEGINBOTHAM","Erika","F",1998,"U18",null,"BSA",161.76,161.76]
[21569,"HEMMING","Anya","F",2005,"U10","MID",null,999.99,999.99]
[19159,"HENDERSON","Anna","F",1998,"U18","HEM","AMB",6.89,17.5]
[21163,"HENDLEY","Sian","F",2000,"U16","LIO","LIO",323.5,375.25]
[18863,"HENERY","Deborah","F",1997,"U18","SHK","DRA",21.74,21.74]
[22033,"HESELTON","Rebecca","F",2003,"U12","PND","PND",999.99,999.99]
[31246,"HEWISON","Megan","F",2001,"U14","CSC",null,999.99,999.99]
[22302,"HILLIARD","Charlotte","F",1999,"U16",null,null,999.99,999.99]
[36665,"HILLIER","Madelaine","F",2002,"U14","LSR",null,999.99,401.23]
[22182,"HILLS","Charlotte","F",1998,"U18","GLO",null,999.99,999.99]
[20789,"HINTON","Georgina","F",2001,"U14","HEM","SPR",404.54,404.54]
[21284,"HINTON","Tilly","F",2004,"U12","HEM","SPR",999.99,999.99]
[42020,"HODDER","Lowri","F",1999,"U16","TOR","DRA",305.8,260.83]
[22111,"HODGSON","Ellen","F",2001,"U14","ASR","ASR",999.99,169.11]
[21580,"HOFFMAN-LITTLE","Jolie","F",2005,"U10","GLO",null,999.99,999.99]
[22179,"HOLMES","Abby","F",2003,"U12","NOR",null,999.99,999.99]
[21621,"HOLMES","Charlotte","F",2005,"U10","PND",null,999.99,999.99]
[21796,"HOLT","Marisa","F",2001,"U14","SRR","SRR",999.99,526.09]
[41480,"HOPKINS","Emily","F",1994,"U21","CAR","DRA",3.42,3.42]
[21199,"HORTON","Siena","F",2002,"U14","SMK","BSA",132.88999999999999,999.99]
[20208,"HOSKINS","Isabella","F",1999,"U16","GLO","BSA",332,332]
[21956,"HOUGHTON","Philippa","F",1999,"U16","SPR","SPR",999.99,999.99]
[17009,"HOUSTON","Alexandra","F",1994,"U21","SHK",null,999.99,999.99]
[22062,"HOWARTH","Catrin","F",2005,"U10",null,"MSR",999.99,999.99]
[36657,"HOWAT","Emma","F",2003,"U12","MUC",null,999.99,999.99]
[21530,"HUFF","Sarah","F",1999,"U16","SPR","SPR",999.99,999.99]
[20971,"HUGEC","Nadine","F",2002,"U14","HEM","EVO",154.54,999.99]
[20972,"HUGEC","Nicole","F",2000,"U16","HEM","EVO",92.3,97.27]
[21884,"HUGHES","Rachel","F",1997,"U18","SUR","SUR",999.99,999.99]
[31071,"HULBERT","Jemma","F",1996,"U21","SSC","MUC",208.34,208.34]
[31070,"HULBERT","Lucy","F",1998,"U18","SSC","MUC",294.95,294.95]
[31077,"HUNSLEY","Miriam","F",1995,"U21","LSR",null,210.12,210.12]
[21556,"HUNT","Hannah","F",1997,"U18","TSD","TSD",198.29,146]
[21047,"HUTCHINSON","Elys","F",1999,"U16",null,null,999.99,999.99]
[21535,"HYDE","Gussie","F",2000,"U16","SUR","SPR",999.99,121.45]
[41816,"HYETT","Georgia","F",2000,"U16","CAR","DRA",150.21,127.45]
[21996,"IANNARILLI","Lia","F",2003,"U12","FPS",null,999.99,999.99]
[20332,"IGLINA","Sofia","F",1997,"U18","BSA","BSA",999.99,999.99]
[31327,"INWOOD","Morgan","F",2001,"U14","LSR",null,240.83,265]
[21024,"JACKSON","Ellie","F",2002,"U14","TEL",null,202.37,167.27]
[30872,"JACKSON","Laura","F",1997,"U18","SSC","GSR",61.84,66.08]
[19677,"JACKSON","Lois","F",2001,"U14","RAV","RAV",88.46,32.82]
[19676,"JACKSON","Millie","F",1999,"U16","RAV","RAV",52.11,26.81]
[36672,"JACOBS","Angus","F",1998,"U18","ASC",null,999.99,999.99]
[21570,"JALLAT","Annabel","F",2003,"U12",null,null,999.99,999.99]
[41928,"JAMES","Lilli","F",2003,"U12","CAR",null,999.99,999.99]
[18560,"JAMES","Sophie","F",1995,"U21","BRS","SAS",129.26,129.26]
[31266,"JAMIESON","Emily","F",2000,"U16",null,null,203.64,203.64]
[21509,"JEFFERSON","Jemima","F",2004,"U12",null,"LIO",999.99,999.99]
[21510,"JEFFERSON","Maisie","F",2003,"U12",null,"LIO",999.99,999.99]
[31035,"JEFFRAY","Claire","F",1977,"MAS","SSC",null,989,989]
[41623,"JENKINS","Megan","F",1998,"U18","NOR","BSA",20,20]
[41622,"JENKINS","Nia","F",1995,"U21","NOR","BSA",7.14,10.86]
[17488,"KAHVE","Lucy","F",1998,"U18","AMB","AMB",999.99,999.99]
[22115,"KAMALY-ASL","Anna","F",2005,"U10",null,null,999.99,999.99]
[21150,"KARAVASILI","Zoe","F",1997,"U18","DHO","DHO",73.14,87.85]
[21964,"KEEN","Emily","F",2004,"U12","KF",null,999.99,999.99]
[31382,"KELLY","Iona","F",2002,"U14","MUC","SSC",999.99,999.99]
[22170,"KELLY","Nicole","F",2006,"U10","MSR",null,999.99,999.99]
[19011,"KEYS","Georgia","F",2001,"U14",null,null,141.46,141.46]
[21090,"KILROY-SILK","Ellaouise","F",2002,"U14","TOQ",null,999.99,999.99]
[36588,"KING","Layla","F",2006,"U10","ASC",null,999.99,999.99]
[17692,"KIRK","Isabel","F",1997,"U18",null,null,176.65,176.65]
[18328,"KOCK","Evangeline","F",1994,"U21","SPR","SPR",134.01,178.01]
[18318,"KRAHELSKI","Alicja","F",2000,"U16","HEM","TEL",33.22,33.22]
[21310,"KROLL","Ann","F",1971,"MAS","NSC",null,999.99,999.99]
[14746,"LAMBDEN","Sarah","F",1995,"U21","MSR","DRA",2.5,2.5]
[31394,"LAMOND","Emma","F",2002,"U14","SSC","LSR",999.99,999.99]
[31527,"LANG","Ishbel","F",2000,"U16","MUC",null,391.35,391.35]
[41711,"LARGE","Sophie","F",2001,"U14",null,null,999.99,999.99]
[31478,"LATTO","Rosamund","F",1999,"U16","CSC",null,999.99,999.99]
[31100,"LAWRIE","Alannah","F",1999,"U16","SSC","ASC",68.540000000000006,63.81]
[19503,"LAWSON-TILLEY","Sarah","F",1994,"U21",null,"DRA",999.99,999.99]
[36654,"LEACH","Isla","F",2002,"U14","LSR",null,999.99,999.99]
[18913,"LEE","Francesca","F",1998,"U18","MSR","SSC",4.76,4.76]
[21878,"LEES","Nadia","F",2003,"U12","BSA","HEM",999.99,999.99]
[41682,"LEFEVRE","Paloma","F",2000,"U16",null,null,999.99,999.99]
[20620,"LEGEAIS","Marion","F",1998,"U18",null,"BSA",999.99,999.99]
[21607,"LEIGHTON","Amie","F",2001,"U14","SPR",null,999.99,999.99]
[21074,"LEONARD","Heather","F",1973,"MAS","HEM","SMK",186.96,186.96]
[19152,"LEWINGTON","Caitlin","F",1999,"U16","BRO",null,76.89,55.37]
[21785,"LEWITT","Isabelle","F",2001,"U14","DHO","DHO",999.99,999.99]
[19498,"LILLYWHITE","Alexandra","F",1999,"U16","VIK","AMB",49.28,34.22]
[19831,"LISMORE","Sophie","F",1999,"U16",null,"BSA",999.99,999.99]
[31257,"LIVERSIDGE","Lauren","F",2000,"U16","GDN","ASC",999.99,999.99]
[22015,"LLEWELLYN","Aaliyah","F",2006,"U10","MID","WM",999.99,999.99]
[17431,"LLEWELLYN","Joanna","F",1991,"SEN","BRO","SMK",249.31,249.31]
[19453,"LOEFFEN-GALLAGHER","Hannah","F",2000,"U16",null,"BSA",999.99,999.99]
[19735,"LONG","Phoebe","F",1998,"U18","HEM","AMB",166.55,166.55]
[9107,"LONSDALE","Emma","F",1984,"MAS","KND","KND",999.99,999.99]
[42029,"LYNCH","Annmarie","F",2001,"U14","SCI",null,262.24,999.99]
[14994,"MACAULAY","Alice","F",1995,"U21","AMB","AMB",2.5,2.5]
[14806,"MACEY","Abbie","F",1994,"U21","MSR",null,54.4,115.93]
[31346,"MACKENZIE","Eve","F",2000,"U16","BSC",null,999.99,999.99]
[30542,"MACKINNON","Christy","F",1992,"SEN","SSC",null,25.39,127.72]
[36564,"MACLEAN","Beth","F",1998,"U18","HNC",null,999.99,999.99]
[31200,"MACPHERSON","Claire","F",2000,"U16","SSC","LSR",209.39,241.92]
[21795,"MAGENES","Caterina","F",2000,"U16","HEM","EVO",999.99,999.99]
[21700,"MAGENES","Matilde","F",2002,"U14",null,"HEM",999.99,999.99]
[19069,"MAIKLEM","Jessica","F",1996,"U21","SPR","SPR",999.99,999.99]
[20635,"MAIKLEM","Melissa","F",1999,"U16","SPR","SPR",999.99,999.99]
[21901,"MANNBY","Siobhan","F",2000,"U16","VIK","VIK",999.99,999.99]
[19169,"MANSON","Cameron","F",1998,"U18","HEM","BSA",37.049999999999997,999.99]
[18684,"MARMENT","Robyn","F",2000,"U16","WCS",null,218.24,124.54]
[21826,"MARSH","Amy","F",2002,"U14","SHK","SHK",328.39,999.99]
[21825,"MARSH","Ella","F",2000,"U16","SHK","SHK",378.14,999.99]
[20904,"MARSH","Loretta","F",1975,"MAS","SHK","SHK",999.99,999.99]
[21876,"MARTIN","Allegra","F",2004,"U12","SPR","SPR",999.99,999.99]
[31332,"MARTIN","Annabelle","F",2003,"U12","LSR",null,999.99,999.99]
[21897,"MARTIN","Lily","F",2002,"U14","BRO","BRO",999.99,119.72]
[31330,"MARTIN","Rebecca","F",1999,"U16","LSR",null,388.01,313.60000000000002]
[18740,"MARTIN-HARRINGTON","Beatrice","F",1997,"U18","GLO","BSA",60.29,60.29]
[22079,"MAYHEAD","Eve","F",2000,"U16","ASR","ASR",999.99,464.18]
[21014,"MAYHEW","Jessica","F",2000,"U16","MID","MID",84.18,47.77]
[19753,"MAZE-BROWN","Riley","F",2002,"U14","SMK",null,999.99,999.99]
[31227,"MCCALL","Catriona","F",2004,"U12","SSC",null,999.99,999.99]
[18589,"MCCARTHY","Holly","F",1965,"MAS",null,null,241.88,999.99]
[21736,"MCCOLL","Isla","F",2004,"U12","TOQ","TOQ",999.99,999.99]
[22061,"MCGONIGAL","Cordelia","F",2003,"U12",null,"HEM",999.99,999.99]
[20173,"MCGREGOR-OGDEN","Holly","F",2003,"U12","MSR","DRA",999.99,999.99]
[36622,"MCKENDRICK","Lyle","F",2004,"U12","MUC","SSC",999.99,999.99]
[31423,"MCKEY","Holly","F",2003,"U12","LSR",null,999.99,999.99]
[31275,"MCKINLAY","Victoria","F",2000,"U16","GSR",null,103.63,101.88]
[21925,"MCLEISH","Emily","F",2003,"U12","HEM","HEM",999.99,999.99]
[30293,"MCLEOD","Eilidh","F",1990,"SEN","SSC",null,149.04,240.23]
[41953,"MCNICOLL","Isla","F",1981,"MAS","CAR",null,999.99,162.26]
[31555,"MCNUTT","Katie","F",2002,"U14","LSR",null,999.99,999.99]
[31556,"MCNUTT","Lucy","F",2004,"U12","LSR",null,999.99,999.99]
[18382,"MEAD","Darcie","F",1996,"U21","EVO","EVO",47.69,47.69]
[22161,"MEYLER","Anna","F",1999,"U16",null,"SPR",999.99,108.78]
[20307,"MIDDLETON","Amy","F",1995,"U21","MID",null,51.15,49.89]
[21205,"MIDSON","Molly","F",2003,"U12","FLK","FLK",999.99,999.99]
[21204,"MIDSON","Poppy","F",2001,"U14","FLK","FLK",162.81,95.38]
[18931,"MILES","Joanna","F",1993,"SEN","WGC","WGC",82.33,82.33]
[21277,"MILLARD","Paige","F",2002,"U14",null,"DHO",999.99,999.99]
[14103,"MILLER","Violet","F",1995,"U21",null,"AMB",999.99,999.99]
[19260,"MITCHELL","Olivia","F",2001,"U14","GLO","BSA",85.9,85.9]
[21518,"MOONEY","Philippa","F",1999,"U16","DHO","DHO",999.99,999.99]
[21972,"MORGAN","Samantha","F",2002,"U14",null,null,999.99,999.99]
[31476,"MORISETTI","Eilidh","F",2002,"U14","LSR",null,999.99,999.99]
[30667,"MORRIS","Sarah","F",1994,"U21","STC",null,131.5,131.5]
[36610,"MORRISON","Hannah","F",1999,"U16","GDN","ASC",999.99,999.99]
[31153,"MORRISON","Rachael","F",1999,"U16","GDN",null,999.99,999.99]
[31188,"MORRISSEY","Anna","F",1990,"SEN","STC",null,999.99,999.99]
[19338,"MORTON","Sofia","F",1996,"U21","MSR","DRA",65.349999999999994,65.349999999999994]
[31426,"MUIR","Fiona","F",2006,"U10","ASC","DSC",999.99,999.99]
[31425,"MUIR","Kirsty","F",2004,"U12","ASC","DSC",999.99,999.99]
[31146,"MURPHY","Louise","F",1997,"U18","GSR",null,999.99,999.99]
[19679,"MURRAY","Louisa","F",1994,"U21",null,"LIO",160.84,999.99]
[22005,"MURRAY-TACON","Alexandra","F",1997,"U18",null,null,999.99,999.99]
[31507,"MYATT","Rona","F",1997,"U18","LSR",null,999.99,999.99]
[20731,"NEASHAM","Grace","F",1998,"U18","SMK",null,131.21,131.21]
[21356,"NEASHAM","Laurie","F",2000,"U16","SMK","SMK",295.16000000000003,295.16000000000003]
[36606,"NEGRI","Belana","F",2003,"U12","CSC",null,999.99,999.99]
[31468,"NEGRI","Daniella","F",2000,"U16","CSC",null,999.99,999.99]
[21660,"NEUMANN","Sophie","F",1998,"U18","HEM","HEM",282.95,282.95]
[20696,"NEWBOULT","Helena","F",1998,"U18","MID","MID",27.39,27.39]
[21006,"NEYRINCK","Camille","F",1998,"U18",null,null,999.99,999.99]
[21735,"NICOL","Kirsty","F",1986,"SEN",null,null,999.99,999.99]
[20809,"O'BRIEN","Matilda","F",2004,"U12","MID",null,999.99,999.99]
[14747,"OGDEN","Sophie","F",1996,"U21","MSR","DRA",4.4800000000000004,4.4800000000000004]
[18793,"O'NEILL","Ella","F",1997,"U18","HEM",null,27.27,30.36]
[21966,"O'NEILL","Kita","F",2005,"U10",null,"BSA",999.99,999.99]
[20945,"O'NEILL","Maeve","F",2003,"U12",null,"BSA",999.99,999.99]
[21441,"ORCHARD","Ellie","F",2002,"U14","HEM",null,999.99,148.24]
[22136,"ORZEL","Emilia","F",2006,"U10",null,"WM",999.99,999.99]
[31252,"OSBORNE","Jennifer","F",1991,"SEN","GSR",null,999.99,999.99]
[21887,"OSMOND","Christabel","F",2003,"U12",null,null,999.99,999.99]
[21235,"OUGRIN","Anastasia","F",2002,"U14","SPR","SPR",999.99,999.99]
[21528,"PANTELI","Charlotte","F",1999,"U16","BSA","BSA",999.99,999.99]
[21536,"PARKER","Julia","F",1963,"MAS","VIK","CAD",999.99,999.99]
[14382,"PARKER","Olivia","F",1993,"SEN","LIO","LIO",29.05,60.59]
[21755,"PASCOE","Eva","F",2002,"U14","PLY","TOQ",999.99,107.54]
[21363,"PATTON","Harriet","F",1999,"U16",null,"SPR",228.88,228.88]
[31513,"PEARSON","Holly","F",2001,"U14","LSR",null,588.97,332.55]
[19197,"PENHALE","Emma","F",2000,"U16","GLO","DRA",140.75,96.25]
[31303,"PETERS","Ella","F",1994,"U21","BRM",null,999.99,999.99]
[19002,"PETERS","Emma","F",1997,"U18","MSR","LIO",9.14,43.74]
[22049,"PETERSON","Amy","F",1999,"U16","HEM","HEM",139.84,999.99]
[22200,"PETERSON","Lexie","F",2004,"U12","BRS","HEM",999.99,999.99]
[31245,"PETRIE","Aoife","F",2002,"U14","BSC",null,453.82,278.5]
[31244,"PETRIE","Isla","F",2000,"U16","BSC",null,229.24,999.99]
[18505,"PEXTON","Georgia","F",2000,"U16","LIO","LIO",96.16,132.28]
[31440,"PFLEGER","Isabella","F",2006,"U10","GDN",null,999.99,999.99]
[36565,"PIERCEY","Rachel","F",2001,"U14","CSC",null,999.99,999.99]
[21655,"PIRKHOFFER","Lucy","F",1999,"U16","SAS","SAS",156.72,156.72]
[17412,"POCOCK","Elena","F",1993,"SEN",null,null,101.34,999.99]
[41858,"POTTER","Maisie","F",1997,"U18",null,null,999.99,999.99]
[19781,"POTTER","Shannon","F",2001,"U14","MSR","DRA",57.92,78.58]
[31209,"PRESSLIE","Jessica","F",2000,"U16","GDN",null,158.94999999999999,202.84]
[31447,"PRESSLIE","Sophie","F",2003,"U12","GDN",null,999.99,999.99]
[19644,"PRETTY","Antonia","F",1996,"U21","TSN","TSN",50.24,50.24]
[30927,"PRICE","Rhona","F",1999,"U16","SSC","GSR",138.06,138.06]
[22127,"PULLAN","Aimee","F",2000,"U16","LIO","LIO",278.93,999.99]
[36598,"RAE","Lauren","F",2005,"U10","MUC",null,999.99,999.99]
[21392,"RAMPTON","Clementine","F",2001,"U14",null,"BSA",999.99,999.99]
[21800,"RAMSDEN","Grace","F",1998,"U18",null,"LIO",999.99,999.99]
[31138,"RANKIN","Shona","F",2003,"U12","BSA","SSC",999.99,999.99]
[31207,"RASMUSEN","Victoria","F",2000,"U16","GDN",null,293.48,999.99]
[30864,"RATTRAY","Aleysha","F",1996,"U21","BRM",null,174.29,174.29]
[31140,"RAY","Kathleen","F",1999,"U16","GDN",null,305.22000000000003,305.22000000000003]
[21900,"REBERT","Abby","F",2000,"U16",null,null,999.99,999.99]
[31323,"REED","Jemima","F",2003,"U12",null,"SSC",999.99,999.99]
[19459,"REID","Judy","F",1960,"MAS","HEM","SAS",107.25,126.66]
[36601,"REID","Sinead","F",2001,"U14","CSC",null,999.99,999.99]
[41980,"RESCIGNO","Giorgia","F",1993,"SEN",null,null,999.99,999.99]
[17803,"RICHARDS","Camille","F",1998,"U18",null,"BSA",999.99,999.99]
[20720,"RILEY","Ilana","F",2004,"U12","GRV","SMK",999.99,999.99]
[18649,"RILEY","Megan","F",2000,"U16","SMK","AMB",86.47,90.08]
[36637,"RITCHIE","Claudia","F",2007,"U8","ASC",null,999.99,999.99]
[36638,"RITCHIE","Gabriella","F",2008,"U8","ASC",null,999.99,999.99]
[30767,"RITCHIE","Nicole","F",1995,"U21","GSR",null,0,0]
[21893,"ROBERTS","Elizabeth","F",1996,"U21",null,null,999.99,999.99]
[21926,"ROBERTS","Sophie","F",1997,"U18",null,null,999.99,999.99]
[36593,"ROBSON","Solmisty","F",2003,"U12","CSC",null,999.99,999.99]
[21394,"ROGERS","Anna","F",2001,"U14","BSA","BSA",999.99,999.99]
[13952,"ROGERS","Rachelle","F",1995,"U21","HEM",null,11.2,999.99]
[41952,"RONAN","Eleanor","F",2000,"U16","SCI","CHL",370.93,370.93]
[19739,"ROSE","Rebecca","F",2002,"U14","SMK",null,999.99,999.99]
[31438,"ROSS","Iona","F",2003,"U12","SSC","MUC",999.99,999.99]
[18481,"ROTH","Phoebe","F",1994,"U21",null,"DHO",113.82,999.99]
[22217,"ROWLANDS","Alexandra","F",2004,"U12","KFS",null,999.99,999.99]
[19235,"ROYAL","Natasha","F",1999,"U16","VIK",null,999.99,45.01]
[30867,"RYAN","Eilidh","F",2000,"U16","GSC",null,43.11,43.11]
[20742,"SAMPSON","Melissa","F",1971,"MAS","NOR","NOR",137.72999999999999,118.09]
[31135,"SANDFORD","Eliza","F",1996,"U21",null,"SSC",194.77,194.77]
[31130,"SANDLAND","Louise","F",2001,"U14","GSR",null,210.72,210.72]
[21748,"SAXBY","Kate","F",2002,"U14","PLY",null,999.99,426.24]
[13376,"SCILIMATI","Tania","F",1986,"SEN",null,"LSC",999.99,999.99]
[36599,"SCOTT","Cara","F",2004,"U12",null,null,999.99,999.99]
[31173,"SCOTT","Lucy","F",1999,"U16","BSC",null,85.69,82.81]
[17893,"SEELEY","Grace","F",1995,"U21","RAV","DHO",466.63,466.63]
[17892,"SEELEY","Julia","F",1993,"SEN","RAV","DHO",481.91,481.91]
[14962,"SHAILES","Polly","F",1996,"U21","NOR","BSA",34.409999999999997,34.409999999999997]
[31350,"SHARP","Charlotte","F",2002,"U14","BSC","GSC",418.98,680.98]
[22303,"SHAW","Lara","F",2004,"U12","FF",null,999.99,999.99]
[21558,"SHEPHERDSON","Lauren","F",2003,"U12","TSD",null,999.99,999.99]
[20599,"SHERING","Nicole","F",2000,"U16","HEM","TEL",59.26,59.26]
[20655,"SHOOTER","Hope","F",1993,"SEN","HEM","HEM",119.52,119.52]
[17787,"SHRIMPTON","Charlotte","F",1994,"U21","TEL","TEL",47,47]
[21797,"SIM","Danyelle","F",1999,"U16","SRR","SRR",261.12,999.99]
[21798,"SIM","Lauren","F",2001,"U14","SRR","SRR",410.9,999.99]
[12357,"SIMONDS","Franki","F",1990,"SEN",null,"K",19.7,19.7]
[31127,"SKINNER","Caroline","F",1998,"U18",null,"SSC",334.4,334.4]
[31353,"SKINNER","Eilidh","F",2001,"U14","LSR","SSC",364.38,332.89]
[20337,"SKIPPER","Megan","F",2001,"U14","NOR","NOR",106.62,45.75]
[19016,"SKIPPER","Sophie","F",1995,"U21","NOR","NOR",30.78,23.15]
[21403,"SLADE","Hattie","F",1998,"U18",null,"BSA",999.99,999.99]
[21404,"SLADE","Isobel","F",1999,"U16",null,"BSA",999.99,999.99]
[18878,"SLATER","Ella","F",1991,"SEN","LSU","LSU",51.1,53.8]
[21171,"SLATER","Grace","F",2001,"U14","SHK","SHK",431.14,431.14]
[19450,"SLATTERY","Rachel","F",1968,"MAS","KND",null,999.99,999.99]
[20602,"SMIDT-WALLIS","Brielle","F",2000,"U16","ASR","SUR",120.52,77.849999999999994]
[22058,"SMITH","Emily","F",2004,"U12","FPS",null,999.99,999.99]
[21850,"SMITH","Isobelle","F",1999,"U16",null,null,999.99,999.99]
[20840,"SNOW","Elise","F",1999,"U16","EVO","EVO",58.41,67.52]
[17752,"SOMAN","Bethany","F",1997,"U18","SMK",null,91.36,91.36]
[20134,"SOMAN","Mia","F",2002,"U14","SMK",null,999.99,999.99]
[20754,"SPANTON","Jessica","F",1997,"U18","NOR",null,50.75,31.81]
[21568,"SPEARPOINT WALSH","Emily","F",1996,"U21","OVL","OVL",196.72,196.72]
[31471,"SPENCE","Madison","F",2005,"U10","LSR",null,999.99,999.99]
[31344,"SPENCE","Rachel","F",2003,"U12","LSR",null,999.99,999.99]
[22022,"SPENCER","Ania","F",1998,"U18","PLY",null,999.99,349.69]
[17717,"STAMMERS","Sophie","F",1998,"U18","DHO","DHO",999.99,999.99]
[31318,"STARK","Daisy","F",2001,"U14","LSR",null,271.52,271.52]
[21881,"STAYMAN","Jessica","F",2001,"U14","SOU","SAS",361.72,226.75]
[31566,"STEDMAN","Megan","F",2000,"U16",null,null,999.99,273.06]
[31504,"STEPHEN","Sadie","F",2000,"U16","GDN",null,999.99,999.99]
[36585,"STEPHEN","Wendy","F",2002,"U14","GDN",null,999.99,999.99]
[20439,"STEVENS","Annecy","F",2000,"U16","HEM","HEM",193.12,193.12]
[20440,"STEVENS","Cordelia","F",2005,"U10","HEM","HEM",999.99,999.99]
[21950,"STEVENS","Holly","F",1968,"MAS","HEM","HEM",999.99,999.99]
[20441,"STEVENS","Lilyella","F",2002,"U14","HEM","HEM",251.96,379.9]
[18472,"STEVENSON","Elizabeth","F",1990,"SEN",null,"K",999.99,999.99]
[31430,"STEWART","Honor","F",2000,"U16","LSR",null,999.99,999.99]
[31076,"STILL","Ella","F",1997,"U18","GDN",null,142.44999999999999,145.30000000000001]
[31088,"STILL","Ruby","F",1999,"U16","GDN",null,284.98,284.98]
[21382,"STOCKER","Anastacia","F",2003,"U12","TSN","BSA",999.99,999.99]
[21397,"STOCKER","Sophie","F",2005,"U10","TSN","BSA",999.99,999.99]
[21727,"STOKOE","Amy","F",2005,"U10","TSD","TSD",999.99,999.99]
[21889,"STOWELL","Susanna","F",2001,"U14","DHO","DHO",999.99,999.99]
[31544,"STRUTHERS","Ciorstaidh","F",2001,"U14","SFR",null,180.37,337.67]
[21968,"SULLIVAN","Ella","F",2002,"U14","LIO","LIO",378.62,999.99]
[17154,"SUMMERHAYES","Katie","F",1995,"U21","SHK",null,999.99,999.99]
[18099,"SUMMERHAYES","Molly","F",1997,"U18","SHK",null,588.37,999.99]
[21969,"SURMAN","Evelyn","F",2003,"U12",null,"LIO",999.99,999.99]
[21970,"SURMAN","Martha","F",2005,"U10",null,"LIO",999.99,999.99]
[19623,"SYMONS","Rachel","F",1993,"SEN","CHT",null,40.1,35.729999999999997]
[36562,"SZAFRANEK","Chloe","F",1992,"SEN","GSR",null,999.99,999.99]
[21756,"TAFFS","Zara","F",2002,"U14","PLY","PLY",999.99,479.39]
[20622,"TARANTELLI","Laudomia","F",2003,"U12",null,null,999.99,999.99]
[36584,"TATE","Emily","F",2003,"U12","CSC",null,999.99,999.99]
[36583,"TATE","Georgia","F",2004,"U12","CSC",null,999.99,999.99]
[17702,"TAYLOR","Imogen","F",1994,"U21","AMB","AMB",67.87,152.99]
[18235,"TAYLOR","Isadora","F",1997,"U18","EVO","EVO",234.75,234.75]
[31007,"TAYLOR","Kate","F",1997,"U18","GSR","SSC",16.190000000000001,16.190000000000001]
[31237,"TAYLOR","Rhiannon","F",1998,"U18","GDN",null,250.93,329.16]
[31463,"TAYLOR","Rhona","F",2002,"U14","SSC",null,999.99,999.99]
[21430,"TAYLOR SELT","Molly","F",1996,"U21","VIK","SUF",999.99,999.99]
[21261,"TAYLOR-TIPTON","Ella","F",2004,"U12","FF","FF",999.99,999.99]
[22048,"TEAL","Chloe","F",1996,"U21",null,null,999.99,999.99]
[14393,"THEXTON","Heather","F",1990,"SEN","KND",null,999.99,999.99]
[18033,"THOMAS","Elisabeth","F",1996,"U21","MID","DRA",72.7,67.69]
[19211,"THOMAS","Kerry","F",1995,"U21","TOQ",null,111.71,111.71]
[21719,"THOMAS","Sophie","F",2003,"U12","HEM","HEM",999.99,999.99]
[21018,"THOMPSON","Lara","F",2000,"U16",null,null,999.99,999.99]
[22122,"THOMPSON","Niamh","F",2005,"U10","TSN",null,999.99,999.99]
[21519,"THOMPSON","Tilly","F",1999,"U16","SPR","SPR",999.99,999.99]
[30982,"THOMSON","Sarah","F",1996,"U21","SSC",null,327.78,327.78]
[22078,"THORNTON","Eleanor","F",2000,"U16","FPS",null,999.99,189.79]
[30624,"TILLEY","Alexandra","F",1993,"SEN","GDN","BSA",43.05,46.21]
[21272,"TILLEY","Katherine","F",2001,"U14",null,"DRA",999.99,999.99]
[30904,"TODD","Alison","F",1997,"U18","SSC","MUC",101.11,101.11]
[17951,"TODD-SAUNDERS","Helen","F",1999,"U16","DHO","DHO",999.99,999.99]
[20813,"TOH","Isabel","F",2000,"U16","HEM","HEM",999.99,999.99]
[19213,"TONGE","Charlotte","F",1994,"U21","TOQ",null,67.260000000000005,67.260000000000005]
[19700,"TOOGOOD","Natalia","F",1997,"U18","VIK",null,999.99,89.15]
[21863,"TOWNSEND","Isabel","F",2002,"U14","SOU",null,999.99,999.99]
[20669,"TREUGE","Lauren","F",2003,"U12","MID",null,999.99,999.99]
[20643,"TREW","Eleanor","F",1999,"U16","HEM","K",119.52,108.27]
[22199,"TRUST","Emma","F",2004,"U12","HEM",null,999.99,999.99]
[21816,"TUBBS","Jessica","F",1999,"U16","TSN",null,999.99,999.99]
[31134,"TURNER","Jennifer","F",2001,"U14","BSC",null,133.4,139.09]
[22070,"TURNER","Morgan","F",1999,"U16","BRO",null,999.99,999.99]
[5480,"TURNOCK","Kerry","F",1972,"MAS","HEM",null,61.15,61.15]
[21809,"TUTT","Anna","F",1974,"MAS","HEM","HEM",999.99,999.99]
[19986,"USHER","Annie","F",1997,"U18","ASR","DRA",31.63,24.62]
[22006,"VAGO","Annabel","F",2000,"U16",null,null,999.99,999.99]
[22007,"VAGO","Cristina","F",2003,"U12",null,null,999.99,999.99]
[18933,"VALE","Lauren","F",2001,"U14","CHT",null,79.94,25]
[18934,"VALE","Nikkie","F",1994,"U21","CHT",null,77.87,77.87]
[36609,"VAUGHAN","Molly","F",2001,"U14","CSC",null,999.99,999.99]
[20573,"VEGTING","Amelia","F",1997,"U18",null,null,999.99,999.99]
[21096,"VERNON","Rebecca","F",2002,"U14","SPR","SPR",999.99,999.99]
[13381,"VERNON","Rowan","F",1988,"SEN","MID","MID",32.840000000000003,32.840000000000003]
[21368,"VESELY","Cordelia","F",1999,"U16","SPR","SPR",999.99,999.99]
[21376,"VESELY","Miranda","F",2002,"U14","SPR","SPR",999.99,999.99]
[21377,"VESELY","Ophelia","F",2004,"U12","SPR","SPR",999.99,999.99]
[20849,"VICKERS","Katie","F",2001,"U14","SPR","SPR",999.99,999.99]
[30768,"VINCENTI","Anna","F",1995,"U21","BSC",null,999.99,999.99]
[21794,"WAGSTAFF","Lydia","F",1998,"U18","SHK","MSR",252.54,373.73]
[31525,"WALLACE","Olivia","F",1999,"U16","GSR",null,375.43,375.43]
[31524,"WALLACE","Sophia","F",2002,"U14","GSR",null,283.45999999999998,245.24]
[10660,"WALSH","Carrie","F",1963,"MAS","ALD","IMP",178.34,178.34]
[20317,"WALTON","Kirsten","F",2000,"U16","LIO","LIO",54.53,88.21]
[20741,"WALTON","Mya","F",2004,"U12","LIO","LIO",999.99,999.99]
[21349,"WANG","Alison","F",1980,"MAS","MSR","IMP",189.05,189.05]
[41693,"WARD","Ella","F",1999,"U16","CAR","AMB",64.91,64.91]
[31500,"WARD","Erin","F",2005,"U10","GSR",null,999.99,999.99]
[31464,"WARD","Isla","F",2004,"U12","GSR",null,999.99,999.99]
[41692,"WARD","Olivia","F",2000,"U16","CAR","AMB",65.78,72.61]
[21254,"WATSON","Josie","F",2004,"U12","WM","WM",999.99,999.99]
[18745,"WEBSDALE","Cara","F",1997,"U18","RAV","LIO",158.58000000000001,999.99]
[20767,"WEBSTER","Atlanta","F",2000,"U16","NOR","NOR",185.74,155.4]
[21400,"WEEKS","Ella","F",2004,"U12","SPR","SPR",999.99,999.99]
[21101,"WEEKS","Georgia","F",2001,"U14","SPR","SPR",999.99,999.99]
[21492,"WEIR","Emer","F",1999,"U16","RAV",null,171.47,171.47]
[31093,"WHATFORD","Beth","F",2001,"U14","GDN",null,108.79,123.54]
[14169,"WHEATMAN","Claire","F",1991,"SEN","NOR","NOR",296.81,296.81]
[20552,"WHEELER","Sophie","F",2003,"U12","MSR",null,999.99,999.99]
[20612,"WHITE","Victoria","F",1994,"U21",null,null,999.99,999.99]
[22213,"WHITMARSH-ALI","Evie","F",2005,"U10","CHT",null,999.99,999.99]
[21836,"WHITMARSH-ALI","Megan","F",2000,"U16","CHT",null,999.99,138.1]
[19094,"WHITTALL","Martha","F",1997,"U18","ASR","SAS",243.55,243.55]
[18454,"WIDDUP","Bethany","F",1995,"U21","AMB","AMB",15.87,15.87]
[18013,"WILCOCKSON","Melanie","F",1991,"SEN","PPS","LIO",77.150000000000006,83.01]
[41913,"WILEY","Lily","F",2003,"U12","WWS",null,999.99,999.99]
[10199,"WILKEY","Sarah","F",1981,"MAS","SPR","SUR",999.99,999.99]
[22304,"WILKINS","Eleanor","F",2000,"U16","BRS",null,999.99,105.62]
[21603,"WILKINSON","Millie","F",2001,"U14","SHK","SHK",999.99,999.99]
[19128,"WILLIAMS","Beth","F",1995,"U21","FLK",null,65.22,65.22]
[30999,"WILLIAMS","Emma","F",1999,"U16","GSR","SSC",95.5,95.5]
[19832,"WILLIAMS","Grace","F",2000,"U16","TEL","TEL",81.400000000000006,81.400000000000006]
[19162,"WILLOUGHBY","Jo","F",1975,"MAS",null,"LIO",999.99,999.99]
[21210,"WILLOWS","April","F",2002,"U14","BRO",null,999.99,999.99]
[22189,"WILSON","Ceri","F",2000,"U16",null,null,999.99,999.99]
[36574,"WILSON","Judy","F",1952,"MAS",null,null,999.99,999.99]
[31526,"WINNING","Charlotte","F",1998,"U18","SFR",null,371.57,371.57]
[31111,"WINTHROP","Claire","F",1997,"U18","LSR",null,88.3,88.3]
[31369,"WINTHROP","Zoe","F",1999,"U16","LSR",null,175.34,175.06]
[36573,"WISEMAN","Cara","F",1982,"MAS",null,null,999.99,999.99]
[19645,"WISEMAN","Kelly","F",1993,"SEN","PND","PND",75.98,75.98]
[22091,"WOLOSZCZUK","Lucy","F",2001,"U14","HEM","HEM",999.99,999.99]
[31545,"WOOD","Milly","F",2000,"U16","LSR",null,616.37,616.37]
[20639,"WOODWARD","Sarah","F",2001,"U14","HEM","AMB",93.86,93.86]
[17452,"WRIGHT","Natasha","F",1997,"U18","VIK",null,100.87,100.87]
[31522,"WYLIE","Anna","F",1998,"U18","MUC",null,274.66000000000003,274.66000000000003]
[31260,"WYLIE","Fiona","F",2003,"U12","GSR",null,999.99,999.99]
[36571,"YARD","Beverly","F",1900,"MAS",null,null,999.99,999.99]
[18056,"YOUNG","Ella","F",1997,"U18","SUR","SUR",160,160]
[36569,"YOUNG","Maggie","F",1964,"MAS",null,null,999.99,999.99]
[31533,"YOUNG","Olivia","F",2000,"U16","MUC",null,500.69,500.69]
[21578,"YUNG","Catherine","F",1998,"U18",null,"DHO",999.99,999.99]
[20930,"ABRISHAMI","Diaco","M",2002,"U14","BRO","BRS",999.99,999.99]
[13335,"ABSALOM","Daniel","M",1992,"SEN","LSU","SPR",47.15,47.15]
[31228,"ADAMSON","Alexander","M",1996,"U21","CSC",null,999.99,999.99]
[31477,"ADAMSON","Tristram","M",1997,"U18","CSC",null,999.99,999.99]
[31215,"ADLINGTON","Ben","M",1999,"U16","BSC",null,999.99,999.99]
[20308,"AGNEW","George","M",1999,"U16",null,"K",999.99,999.99]
[31379,"ALDRIDGE","Charlie","M",2001,"U14","MUC","SSC",288.52,288.52]
[21817,"ALDRIDGE-BATE","William","M",2002,"U14","SPR","SPR",999.99,999.99]
[31178,"ALEXANDER","Hamish","M",1999,"U16","GDN",null,301.31,301.31]
[12571,"ALLDRIDGE","James","M",1988,"SEN","SMK","SPR",48.16,50.41]
[18247,"ALLEN","Samuel","M",1994,"U21",null,null,188,198.97]
[19074,"AMOS","John","M",1959,"MAS","SAS","SAS",244.28,263.81]
[10372,"ANDERSON","Christopher","M",1959,"MAS","VIK","K",163.66999999999999,153.91999999999999]
[31197,"ANDERSON","Ewen","M",2000,"U16","SSC",null,203.39,199.75]
[30908,"ANDREWS","Greg","M",1997,"U18",null,"SSC",142.41999999999999,142.41999999999999]
[31003,"ANDREWS","Keir","M",1998,"U18",null,"SSC",93.74,89.58]
[22009,"APPLETON","Byron","M",2001,"U14","HEM",null,108.94,103.79]
[21808,"ARLOTT","Martin","M",1971,"MAS","HEM","HEM",999.99,999.99]
[31400,"ARNOTT","Jack","M",2002,"U14","LSR",null,999.99,445.94]
[19990,"ASHMAN","Alexander","M",2000,"U16",null,"DHO",233.18,233.18]
[8522,"ASHTON","Simon","M",1968,"MAS","SHK",null,989,989]
[18475,"ASQUITH","Max","M",1996,"U21","AMB","AMB",200.32,200.32]
[21753,"ATHERTON","Lucas","M",2001,"U14",null,"MSR",999.99,999.99]
[21626,"ATKINSON","Andrew","M",1967,"MAS","BRO",null,238.25,123.13]
[8363,"ATKINSON","Michael","M",1978,"MAS",null,null,999.99,999.99]
[8362,"ATKINSON","Stuart","M",1982,"MAS",null,null,999.99,999.99]
[20878,"ATTARD","Oliver","M",1999,"U16",null,"SPR",999.99,999.99]
[22132,"AUSTIN","William","M",2000,"U16","PND","PND",999.99,197.18]
[20416,"AVENT","Mathieu","M",1999,"U16",null,null,999.99,999.99]
[21958,"BACKHOUSE","Michael","M",1994,"U21","MSR","MSR",999.99,999.99]
[22051,"BACKHOUSE","Nicholas","M",1998,"U18",null,"MSR",999.99,999.99]
[13784,"BAGGIO","Max","M",1995,"U21","EVO","EVO",45.49,45.49]
[20484,"BAILES","Max","M",1999,"U16","ESX","ELI",199.06,199.06]
[22198,"BAILEY","Noah","M",2006,"U10","MID","WM",999.99,999.99]
[20149,"BAILY","Luke","M",2002,"U14","SMK","SMK",999.99,999.99]
[22004,"BAKER","Giles","M",2003,"U12","SPR","SPR",999.99,999.99]
[22155,"BALCHIN","Lewis","M",2000,"U16","2KP",null,999.99,999.99]
[12618,"BALDWIN","Thomas","M",1990,"SEN","NOR","BSA",17.3,17.3]
[30646,"BALL","Elliot","M",1994,"U21","SSC",null,88.17,88.17]
[20673,"BANNISTER","Adam","M",1999,"U16","ASR",null,118.03,93.2]
[21167,"BANNISTER","Callum","M",1998,"U18","AVO","IMP",155.68,155.68]
[2657,"BANNISTER","Simon","M",1966,"MAS","ASR",null,75.36,75.36]
[31249,"BARKER","Duncan","M",2003,"U12","SSC","BSA",999.99,999.99]
[31021,"BARLOW","Benedict","M",1994,"U21","SSC",null,999.99,999.99]
[36628,"BARLOW","Robert","M",1954,"MAS","SSC",null,999.99,999.99]
[31115,"BARLOW","Xavier","M",1995,"U21","SSC",null,999.99,999.99]
[19639,"BARTON","Daniel","M",1998,"U18","HEM","HEM",43.11,49.25]
[19774,"BARTON","Dominic","M",2002,"U14","HEM","SMK",209.49,999.99]
[20302,"BASTOW","Milo","M",1997,"U18",null,"IMP",999.99,999.99]
[22202,"BAYLES","Sebastian","M",2004,"U12","SPR","SPR",999.99,999.99]
[19704,"BEARDMORE","Adam","M",1986,"SEN","MID",null,35.26,35.26]
[20974,"BEAVIS","Riley","M",2002,"U14",null,"BSA",999.99,999.99]
[31543,"BECK","Ben","M",2003,"U12","LSR",null,999.99,999.99]
[31355,"BECK","Zak","M",2001,"U14","LSR",null,500.98,389.87]
[14940,"BECKETT","David","M",1960,"MAS","NOR",null,185.05,185.05]
[20712,"BEER","Lawrence","M",1998,"U18","RAV",null,71.34,71.34]
[21628,"BEGG","Alistair","M",2001,"U14","MSR","MSR",279.41000000000003,340.49]
[18704,"BEGG","Callum","M",1997,"U18","MSR","TEL",54.33,54.33]
[21713,"BEGLIN","Thomas","M",2004,"U12","HEM","BRS",999.99,999.99]
[22138,"BELLAMY","Edward","M",1987,"SEN","NOR","NOR",999.99,257.67]
[19683,"BENNETT","Elliott","M",2003,"U12","LIO","LIO",999.99,999.99]
[22186,"BENNETT","Harry","M",2004,"U12",null,"HEM",999.99,999.99]
[19070,"BENNETT","Russell","M",1973,"MAS","LIO","LIO",999.99,999.99]
[21224,"BENNION","James","M",1997,"U18","GLO",null,306.93,306.93]
[19208,"BERGLINDARSON","Kristofer","M",2000,"U16","MSR","MSR",65.53,104.71]
[31233,"BEVERIDGE","Jamie","M",2000,"U16","LSR",null,433.96,433.96]
[21189,"BIGGS","Saul","M",1998,"U18","FLK",null,94.62,77.88]
[19854,"BINGHAM","Jonathan","M",1999,"U16","ESX","SAS",74.23,74.489999999999995]
[19855,"BINGHAM","Nicholas","M",2002,"U14","ESX","SAS",161.81,135.28]
[30909,"BINGHAM","Sion","M",1997,"U18","SSC","STC",158.87,201.69]
[18917,"BINGLE-WILLIAMS","Christian","M",1998,"U18",null,"K",999.99,999.99]
[20997,"BIRAN","Itamar","M",1998,"U18",null,null,999.99,999.99]
[18638,"BISHOP","Angus","M",1995,"U21","SHK","LIO",195.79,195.79]
[21728,"BISHOP","Julian","M",1968,"MAS","RAV",null,372.62,294.60000000000002]
[21555,"BLACK","Callum","M",2004,"U12","AVO","AVO",999.99,999.99]
[19585,"BLACK","Oliver","M",2001,"U14","PPS","DRA",151.69999999999999,153.69999999999999]
[19394,"BLACK","Philip","M",1969,"MAS","SHK","SHK",999.99,999.99]
[20851,"BLOOM","Adam","M",1973,"MAS","WCS","GLO",100.85,88.74]
[20852,"BLOOM","Ryan","M",2001,"U14","WCS","GLO",136.66,117.79]
[31461,"BOLAM","John","M",1955,"MAS",null,null,999.99,999.99]
[41930,"BOLGER","Enda","M",1997,"U18","SCI",null,156.57,156.57]
[41967,"BONNINGTON","Chay","M",2005,"U10",null,"DRA",999.99,999.99]
[31041,"BOOTH","Harris","M",1997,"U18","BSC",null,999.99,999.99]
[19713,"BOTY","Harry","M",1997,"U18","HEM","ELI",69.760000000000005,88.66]
[31051,"BOW","Brandon","M",2001,"U14","BSC",null,999.99,999.99]
[19565,"BOWERS","Dieter","M",1996,"U21","TEL",null,120.04,120.04]
[41781,"BOWYER","Andy","M",1964,"MAS","OVL",null,999.99,999.99]
[19685,"BRADFORD-SMITH","George","M",1994,"U21","ASR",null,223.89,223.89]
[19686,"BRADFORD-SMITH","Jack","M",1996,"U21","ASR",null,69.319999999999993,64.819999999999993]
[21891,"BRANDT","Orlando","M",2001,"U14",null,"DHO",999.99,999.99]
[31531,"BRAWLEY","Patrick","M",2000,"U16","GSR",null,345.08,410.87]
[20586,"BRAY","Michael","M",1985,"SEN",null,null,999.99,999.99]
[14391,"BREESE","Ashley","M",1996,"U21",null,null,4,11.72]
[17963,"BREESE","Nathan","M",1999,"U16",null,null,89.86,93.27]
[21203,"BREESE","Thomas","M",2003,"U12","TEL",null,999.99,999.99]
[31309,"BREMNER","Alexander","M",2001,"U14",null,null,450.75,450.75]
[31271,"BREMNER","Fin","M",1999,"U16","ASC",null,999.99,999.99]
[36590,"BREMNER","Keilan","M",2003,"U12","ASC",null,999.99,999.99]
[21218,"BRESKAL","Bailey","M",1998,"U18","WGC",null,156.33000000000001,156.33000000000001]
[20143,"BRIDGE","Dominic","M",2001,"U14","LIO","LIO",94.2,97.67]
[20144,"BRIDGE","Oliver","M",1999,"U16","LIO","LIO",62.35,69.22]
[17332,"BROOKES","Philip","M",1993,"SEN",null,"SAS",225.18,225.18]
[20193,"BROWN","Cameron","M",1998,"U18","PPS","DRA",51.07,51.07]
[31481,"BROWN","Cameron","M",2003,"U12","GDN",null,999.99,999.99]
[31132,"BROWN","Harry","M",1999,"U16","SSC",null,688.45,688.45]
[19083,"BROWN","Jack","M",1995,"U21","GLO","FLK",53.19,53.19]
[41984,"BROWN","Jack","M",2001,"U14","SCI",null,323.95999999999998,323.95999999999998]
[30830,"BROWN","Jamie","M",1996,"U21","GDN","ASC",271.08999999999997,271.08999999999997]
[20338,"BROWN","Jamie","M",1999,"U16",null,null,999.99,999.99]
[22125,"BROWN","Joseph","M",2004,"U12","LIO","LIO",999.99,999.99]
[2743,"BROWN","Phil","M",1966,"MAS","HEM","IMP",216.42,216.42]
[31014,"BROWN","Rhys","M",1995,"U21","SSC",null,205.33,205.33]
[31290,"BROWN","Rory","M",1997,"U18","GDN",null,999.99,999.99]
[19084,"BROWN","Thomas","M",1998,"U18","CHT","FLK",212.61,212.61]
[22129,"BRUNO","Benjamin","M",1999,"U16",null,null,999.99,999.99]
[12584,"BRUTON","Peter","M",1989,"SEN",null,null,10.73,16.45]
[30906,"BUCHAN","Fraser","M",1997,"U18","BSA","SSC",72.14,72.14]
[30811,"BUCHAN","Murray","M",1991,"SEN",null,null,999.99,999.99]
[30919,"BUCHAN","Scott","M",1999,"U16","SSC","BSA",129.37,136.61000000000001]
[17380,"BUCHWISER","Lawrence","M",1995,"U21",null,null,999.99,999.99]
[36674,"BUDGE","Andrew","M",2000,"U16","ASC",null,999.99,999.99]
[14871,"BULLEN","Robert","M",1989,"SEN",null,"K",999.99,999.99]
[21063,"BULLIVANT","Peter","M",2000,"U16","BOW","BSA",999.99,999.99]
[10596,"BUNTON","Paul","M",1963,"MAS","CHT","CHT",122.87,106.38]
[21649,"BUNTON","Ryan","M",2005,"U10","CHT",null,999.99,999.99]
[31479,"BURKE","Luke","M",2004,"U12","GSR",null,999.99,999.99]
[31339,"BURROW","Gregor","M",2002,"U14","LSR",null,999.99,323.32]
[19755,"BURTON","Lucas","M",2000,"U16",null,null,999.99,999.99]
[21411,"BUTLER","Simon","M",1962,"MAS",null,"HEM",999.99,999.99]
[41721,"BUTTERWORTH","Daniel","M",1996,"U21","WWS","DRA",66.430000000000007,66.430000000000007]
[22001,"BUTTERWORTH","Samuel","M",2001,"U14","PND",null,999.99,193.83]
[41719,"BUTTERWORTH","Thomas","M",2002,"U14","WWS","DRA",261.33999999999997,139.37]
[31338,"CALDER","Lewis","M",2006,"U10",null,null,999.99,999.99]
[31337,"CALDER","Struan","M",2004,"U12",null,null,999.99,999.99]
[20832,"CALDWELL","Patrick","M",2000,"U16","HEM","EVO",116.47,132.02000000000001]
[14261,"CALVERT","John","M",1949,"MAS","ASR","ALD",344.67,265.04000000000002]
[12802,"CALVERT","Peter","M",1988,"SEN","ASR",null,41.11,41.11]
[31039,"CAMERON","Alasdair","M",1995,"U21","LSR",null,165.79,157.27000000000001]
[31364,"CAMERON","Rory","M",2002,"U14","ASC",null,999.99,999.99]
[30793,"CAMPBELL","Andrew","M",1995,"U21","GDN",null,271.7,271.7]
[31510,"CAMPBELL","Frederick","M",2003,"U12","LSR",null,999.99,999.99]
[31230,"CAMPBELL","Graeme","M",2000,"U16","GDN",null,999.99,999.99]
[21108,"CAMPBELL","Harvey","M",2003,"U12","TEL",null,999.99,999.99]
[30912,"CAMPBELL","Iain","M",1997,"U18","GDN",null,334.53,334.53]
[36603,"CAMPBELL","Oliver","M",2003,"U12","GSR",null,999.99,999.99]
[21766,"CARDON","Casey","M",1997,"U18",null,null,999.99,999.99]
[20590,"CARE","James","M",2002,"U14","MID",null,999.99,398.04]
[21577,"CAREY","Joshua","M",2000,"U16",null,"SZR",999.99,999.99]
[21576,"CAREY","Matthew","M",1998,"U18",null,"SZR",999.99,999.99]
[31154,"CARRUTHERS","Harry","M",1999,"U16","SSC","LSR",127.07,127.07]
[21107,"CARSON","Sam","M",1999,"U16","PPS","DRA",58.07,78.459999999999994]
[19196,"CASE","George","M",2001,"U14","AVO","BSA",999.99,188.5]
[20262,"CASE","Toby","M",2002,"U14","HEM","ASR",98.02,82.18]
[41990,"CASHMORE","Edward","M",2001,"U14","EXD","DRA",225.45,217.58]
[41991,"CASHMORE","William","M",1998,"U18","EXD","DRA",243.43,205.03]
[20695,"CATLIN","Osian","M",2005,"U10","SMK",null,999.99,999.99]
[18327,"CAVANAGH","Matthew","M",1996,"U21","DHO","MSR",136.97,136.97]
[20215,"CAWTHORNE","Harry","M",1999,"U16","TOQ","BSA",138.72,129.34]
[20216,"CAWTHORNE","Louis","M",2000,"U16","TOQ","BSA",133.80000000000001,114.83]
[638,"CAXTON","Martin","M",1955,"MAS","ESX",null,999.99,999.99]
[17202,"CHAJECKI","Alexander","M",1991,"SEN",null,null,999.99,999.99]
[17201,"CHAJECKI","Julian","M",1993,"SEN",null,null,140.94999999999999,999.99]
[19421,"CHAJECKI","Sebastian","M",1997,"U18","BSA","BSA",999.99,999.99]
[17591,"CHALKLEY","Oliver","M",1996,"U21",null,null,89.06,89.06]
[31067,"CHAMBET","Tom","M",2000,"U16","SSC",null,999.99,999.99]
[20239,"CHAMPION","Ben","M",1993,"SEN","CHT",null,110.46,65.510000000000005]
[22191,"CHAMPION","Benjamin","M",2005,"U10","TSD",null,999.99,999.99]
[21712,"CHAPLIN","Brendon","M",1996,"U21","BRS","HEM",297.33,297.33]
[21269,"CHAPMAN","David","M",1976,"MAS","TSD","TSD",999.99,999.99]
[18674,"CHAPMAN","Euan","M",1997,"U18","ASR","ASR",57.61,57.61]
[12254,"CHAPMAN","Iain","M",1982,"MAS","VIK","VIK",999.99,999.99]
[19993,"CHAPMAN","Lloyd","M",1999,"U16","SZR","SZR",73.16,83.91]
[21191,"CHARLTON","Ben","M",1997,"U18","RAV",null,113.48,97.39]
[22072,"CHARLTON","Harvey","M",1998,"U18","ASR",null,999.99,81.53]
[21985,"CHERMETTE","Basile","M",1999,"U16",null,null,999.99,999.99]
[21923,"CHERRY","Tom","M",1996,"U21","HEM","DHO",999.99,999.99]
[21922,"CHOHAN","Zacariya","M",2005,"U10","DHO","DHO",999.99,999.99]
[31097,"CHRISTEY","David","M",1999,"U16","BSA","MUC",224.95,224.95]
[31098,"CHRISTEY","Joe","M",2002,"U14","BSA","MUC",999.99,999.99]
[21480,"CHRISTOV","Jonathan","M",2001,"U14","SPR","SPR",999.99,999.99]
[9694,"CLARK","Benjamin","M",1985,"SEN","BRO","K",27.87,21.74]
[22076,"CLARKE","Alec","M",2004,"U12","HEM","HEM",999.99,999.99]
[8713,"CLARKE","Christopher","M",1959,"MAS","HEM","SAS",340.2,358.49]
[22077,"CLARKE","Conall","M",2006,"U10","HEM","HEM",999.99,999.99]
[21260,"CLARKE","Edward","M",2000,"U16","HEM","SMK",140.09,201.1]
[31220,"CLARKE","Liam","M",1999,"U16","SSC",null,272.83999999999997,272.83999999999997]
[20293,"CLAYTON","Adam","M",1996,"U21","NOR",null,82.16,82.16]
[31404,"CLUGNET","James","M",1996,"U21","HIG",null,999.99,999.99]
[31564,"CLYDE","Sam","M",2003,"U12","LSR",null,999.99,999.99]
[21156,"COATES","Joseph","M",2000,"U16","PPS","DRA",181.71,181.71]
[31137,"COHN","Antony","M",1998,"U18","BSC",null,145.79,145.79]
[20568,"COLEMAN","Arthur","M",1999,"U16","K","K",999.99,999.99]
[20353,"COLLEY","James","M",2001,"U14","SPR","SPR",999.99,999.99]
[20651,"COLLIER","Harry","M",2002,"U14","MSR","SZR",194.93,999.99]
[41973,"COLUMB","Cameron","M",1999,"U16","SCI",null,187.32,365.56]
[42036,"COLUMB","Nathan","M",2001,"U14","SCI",null,266.91000000000003,999.99]
[20167,"COMELIO","Sebastian","M",2002,"U14","AVO","DHO",999.99,999.99]
[42033,"COMPTON","Joseph","M",2005,"U10","CAR",null,999.99,999.99]
[18571,"CONDE","Jamie","M",1992,"SEN","TEL","TEL",69.709999999999994,69.709999999999994]
[17493,"CONNERY","Kali","M",1996,"U21",null,null,804,804]
[41735,"CONSTANTINE","Benjamin","M",2003,"U12","CAR","DRA",999.99,999.99]
[41710,"CONSTANTINE","Joseph","M",2000,"U16","CAR","DRA",122.82,123.51]
[21258,"COOK","Alastair","M",2003,"U12","GLO",null,999.99,999.99]
[21255,"COOK","James","M",2002,"U14","GLO",null,999.99,269.08999999999997]
[22177,"COOK","Joshua","M",2005,"U10","CHT",null,999.99,999.99]
[19629,"COOPER","Jordan","M",1999,"U16","SAS","SAS",177.78,177.78]
[21146,"COOPER","Morgan","M",1998,"U18","PND",null,153.77000000000001,112.21]
[22163,"COOPER-WALKER","Josef","M",2000,"U16","AVO",null,999.99,999.99]
[19170,"CORR","Christopher","M",1995,"U21","PND",null,6.38,5.98]
[21625,"CORR","David","M",1998,"U18","PND",null,285.64999999999998,234.56]
[20841,"CORRIGAN","Paul","M",2001,"U14","SPR","SPR",999.99,999.99]
[31325,"CORRY","Matt","M",1997,"U18","BSC",null,999.99,999.99]
[20165,"COSHAM","Harry","M",2003,"U12","SZR","SZR",999.99,999.99]
[22216,"COTTAM","Bill","M",1994,"U21",null,null,999.99,999.99]
[21973,"CRANE-ROBINSON","Theo","M",2001,"U14",null,null,999.99,999.99]
[30100,"CRAWFORD","Douglas","M",1987,"SEN","BSC",null,929.76,929.76]
[41938,"CRIDDLE","Isaac","M",2000,"U16","CAR",null,214.53,188.28]
[41988,"CRIDDLE","Ollie","M",2004,"U12","CAR",null,999.99,999.99]
[31025,"CROCKART","Tom","M",2000,"U16","SSC","BSA",176.66,176.66]
[5666,"CROMBLEHOLME","Roger","M",1957,"MAS","MID","TEL",120.35,120.35]
[31380,"CROOK","Andrew","M",1998,"U18","SSC",null,249.53,246.13]
[31068,"CROSS","Jack","M",1998,"U18","SSC","BSA",339.12,339.12]
[20927,"CRUTCHFIELD","Eliot","M",2003,"U12","SPR","SPR",999.99,999.99]
[30384,"CRUZ-MERMY","Alistair","M",1984,"MAS","STC",null,999.99,999.99]
[21651,"CULSHAW","Daniel","M",1997,"U18","PND",null,209.84,179.15]
[20633,"CUNNINGHAM","Jake","M",2002,"U14","TOQ","BSA",999.99,999.99]
[31106,"CUNNINGHAM","Kyle","M",1996,"U21","BSC",null,287.86,287.86]
[21300,"CURRAN","John","M",1966,"MAS","LIO","LIO",231.62,999.99]
[36615,"CURRIE","Fergus","M",2005,"U10","BSC","GSC",999.99,999.99]
[36616,"CURRIE","Findlay","M",2001,"U14","BSC","GSC",999.99,999.99]
[12797,"CURTIS","Daniel","M",1991,"SEN","ESX","K",33.56,33.56]
[19696,"CUTHBERT","Daryl","M",1996,"U21","VIK",null,213.43,201.01]
[22059,"DADE","Jake","M",2006,"U10","NOR","NOR",999.99,999.99]
[20748,"DADE","Tommy","M",2003,"U12","NOR","AMB",999.99,999.99]
[21976,"DALE-JONES","Jago","M",2004,"U12",null,null,999.99,999.99]
[21977,"DALE-JONES","Mack","M",2006,"U10",null,null,999.99,999.99]
[31398,"DALZIEL","James","M",1999,"U16","SSC",null,999.99,999.99]
[31515,"DALZIEL","Tom","M",2004,"U12","LSR",null,999.99,999.99]
[31348,"DALZIEL","William","M",2001,"U14","LSR","SSC",176.35,176.35]
[17351,"DANNATT","Tim","M",1994,"U21","GLO","DRA",65,65]
[19684,"DANNS","Jack","M",1992,"SEN","LSU","SAS",88.66,69.78]
[19733,"DAVEY","Joseph","M",2000,"U16","SPR","SPR",101.82,118.11]
[21152,"DAVEY","Nathan","M",2001,"U14","LIO","LIO",189.77,257.19]
[21750,"DAVEY","Tarran","M",2000,"U16","PLY",null,266.29000000000002,144.61000000000001]
[31162,"DAVIDSON-MCQUEEN","Ramsay","M",1999,"U16","LSR",null,434.48,434.48]
[41831,"DAVIES","Alex","M",2002,"U14","CAR","AMB",205.28,999.99]
[21120,"DAVIES","Ben","M",1995,"U21","NOR",null,65.97,65.97]
[18256,"DAVIES","Finlay","M",1999,"U16","HEM","SMK",49.03,89.68]
[21119,"DAVIES","Harry","M",1999,"U16","NOR",null,112.44,99.51]
[41702,"DAVIES","Jonathan","M",1974,"MAS","TOR",null,464.29,464.29]
[20554,"DAVIES","Morgan","M",1999,"U16","HEM","IMP",223.81,223.81]
[21048,"DAVIES","Oliver","M",1997,"U18",null,null,999.99,999.99]
[14927,"DAVIES","Peter","M",1993,"SEN","ASR",null,90.28,90.28]
[20311,"DAVIS","Ethan","M",2001,"U14","KF","KF",999.99,999.99]
[18347,"DAVIS","George","M",1995,"U21",null,null,27.59,33.78]
[18346,"DAVIS","Matthew","M",1998,"U18",null,null,55.84,55.84]
[22016,"DAVIS","Matthew","M",1999,"U16",null,null,999.99,999.99]
[12400,"DAWSON","Andrew","M",1965,"MAS","OVL",null,304.49,304.49]
[22065,"DAY","Richard","M",1977,"MAS","SZR","SZR",255.03,999.99]
[21743,"DE BOER","Nicholas","M",2000,"U16","SPR","SPR",999.99,999.99]
[41918,"DE DECKER","Carrig","M",1998,"U18","SCI",null,133.97,231.53]
[18610,"DEAKIN","William","M",1991,"SEN","FLK",null,28.84,28.84]
[21827,"DEEM","Charles","M",2005,"U10","TEL","TEL",999.99,999.99]
[19363,"DEIGHTON","Harry","M",2000,"U16","HEM","BSA",98.2,98.2]
[19361,"DEIGHTON","Oliver","M",1997,"U18","HEM","IMP",79.209999999999994,79.209999999999994]
[19362,"DEIGHTON","Toby","M",1999,"U16","HEM","AMB",104.13,104.13]
[17039,"DELLER","Philip","M",1959,"MAS","MID",null,780.34,780.34]
[19273,"DENDLE","George","M",2000,"U16","SPR","SPR",219.05,292.47000000000003]
[20315,"DERU","Joshua","M",1996,"U21",null,"DHO",999.99,999.99]
[20846,"DEWISON","Samuel","M",1998,"U18","MID","MID",119.86,103.46]
[19738,"DEWULF-PETERS","Oliver","M",1994,"U21","NOR",null,301.87,301.87]
[21406,"DEYKIN","Sebastian","M",1998,"U18","SPR",null,999.99,999.99]
[31182,"DICKSON","Bailey","M",2000,"U16","GSR",null,105.26,129.83000000000001]
[30832,"DICKSON","Graham","M",1996,"U21","GSR","SSC",31.18,36.01]
[31467,"DICKSON","Jamie","M",2001,"U14","CSC",null,999.99,999.99]
[31032,"DILLON","Grant","M",1997,"U18","SSC",null,131.29,131.29]
[21533,"DINGLE","Dominic","M",1996,"U21",null,"DHO",999.99,999.99]
[21532,"DINGLE","Timothy","M",1998,"U18",null,"DHO",999.99,999.99]
[36626,"DISCOMBE","Lewis","M",2002,"U14","BSC",null,999.99,214.38]
[31259,"DISCOMBE","Ross","M",1998,"U18","BSC",null,192.09,202.09]
[31550,"DIVERS","Martin","M",1980,"MAS",null,null,999.99,999.99]
[20603,"DIXON","Rory","M",1999,"U16","EVO","EVO",322.79000000000002,322.79000000000002]
[21642,"DOCKRY","Ben","M",2002,"U14","MSR","MSR",425.5,497.65]
[21643,"DOCKRY","Daniel","M",2006,"U10","MSR","MSR",999.99,999.99]
[31458,"DOHERTY","Lewis","M",1997,"U18","BSC",null,999.99,999.99]
[19572,"DOHERTY","Samuel","M",1999,"U16","MID",null,257.08999999999997,257.08999999999997]
[31289,"DONALD","Daniel","M",1999,"U16","CSC",null,999.99,999.99]
[36661,"DORFMAN","Robert","M",1998,"U18","GSC",null,999.99,999.99]
[31413,"DORREN","Donald","M",2001,"U14","LSR",null,420.99,287.01]
[41608,"DOYLE","Eoin","M",1997,"U18","SCI",null,68.69,68.69]
[20815,"DOYLE","Harrison","M",2000,"U16","DHO","DHO",999.99,999.99]
[19524,"DOYLE","Jake","M",2001,"U14","BSA","BSA",999.99,999.99]
[10641,"DRAKE","Edward","M",1986,"SEN",null,"K",116.77,116.77]
[21226,"DRAKE","Joshua","M",2002,"U14",null,"SMK",999.99,999.99]
[21860,"DRUMMOND","Thomas","M",1998,"U18",null,"IMP",999.99,999.99]
[12318,"DU PLESSIS","Andrew","M",1985,"SEN","MID","DHO",23.04,23.04]
[12317,"DU PLESSIS","Stephen","M",1987,"SEN",null,"DHO",999.99,999.99]
[31361,"D'ULISSE","Ben","M",2000,"U16","SSC",null,999.99,999.99]
[31470,"DUNCAN","Rory","M",1999,"U16","CSC",null,999.99,999.99]
[36608,"DUNCAN","Ruaraidh","M",2001,"U14","SSC","GDN",999.99,999.99]
[18246,"DUNHILL","Harry","M",1992,"SEN",null,"DHO",999.99,999.99]
[20277,"DUNION","Jamie","M",1999,"U16","SZR","SZR",262.45999999999998,262.45999999999998]
[31520,"DUNN","Liam","M",2000,"U16","LSR",null,999.99,999.99]
[20572,"DUNNE","Mikey","M",2002,"U14","SRR","SCM",194.78,999.99]
[20921,"DURANT","Richard","M",1967,"MAS","SUF",null,202.37,191.63]
[20142,"EATON","Oliver","M",1996,"U21","AMB","AMB",115.42,115.42]
[10040,"EAVES","David","M",1967,"MAS","PND",null,401.52,401.52]
[19048,"EAVES","Jonathan","M",1998,"U18","PND",null,132.28,102.89]
[22025,"EDWARDES","Henry","M",1993,"SEN","HEM","HEM",999.99,999.99]
[22010,"EDWARDS","Oliver","M",2005,"U10",null,"S2R",999.99,999.99]
[21908,"EDWARDS","William","M",2005,"U10","MSR",null,999.99,999.99]
[19166,"ELGY","James","M",1993,"SEN","MID",null,166.36,166.36]
[19164,"ELGY","John","M",1951,"MAS","MID",null,332.56,332.56]
[21552,"ELLIS","Hamish","M",2002,"U14",null,null,999.99,999.99]
[21666,"ELLIS","Lucas","M",2004,"U12","LIO","LIO",999.99,999.99]
[19756,"ELLISS","Harry","M",2000,"U16","SPR","SPR",999.99,999.99]
[19295,"ELLISS","Jack","M",1997,"U18","SPR","AMB",999.99,999.99]
[19276,"EMERY","Jacob","M",2001,"U14","SZR","SZR",195.55,195.55]
[21084,"EMMERSON","Philip","M",1990,"SEN","MID",null,57.73,42.32]
[20913,"EPERON","Harrison","M",2002,"U14","SPR","SPR",999.99,999.99]
[22142,"ERRINGTON","Farne","M",1997,"U18","SHK","SHK",381.19,999.99]
[31539,"ETRI","Alim","M",1999,"U16",null,null,349.3,349.3]
[31538,"ETRI","Aymen","M",1999,"U16",null,null,999.99,999.99]
[42032,"EVANS","Edward","M",2004,"U12","NW",null,999.99,999.99]
[41565,"EVANS","Emile","M",1996,"U21","CAR","IMP",31.94,31.94]
[41985,"EVANS","Harrison","M",2000,"U16","SAS",null,210.67,188]
[42026,"EVANS","Jac","M",2002,"U14","NW",null,999.99,999.99]
[6383,"EVERITT","Simon","M",1964,"MAS","BOW",null,348.93,348.93]
[22088,"FAIRFULL","Max","M",2003,"U12","HEM","HEM",999.99,999.99]
[31133,"FARQUHARSON","Hamish","M",1999,"U16","BRM",null,999.99,999.99]
[18916,"FARR","Oliver","M",1995,"U21","PPS","DRA",29.16,34.03]
[19544,"FARRELL","Jan","M",1983,"MAS",null,null,999.99,999.99]
[19633,"FARREN","Claude","M",1971,"MAS","RAV","RAV",59.4,59.4]
[19089,"FARREN","Rory","M",1998,"U18","RAV","RAV",36.24,35.06]
[21542,"FAWKE","Tim","M",1976,"MAS","ALD",null,999.99,999.99]
[17513,"FELLOWS","Jordan","M",1997,"U18","TEL","BSA",11.46,12.91]
[20640,"FENELEY","Jack","M",2002,"U14","PND",null,999.99,153.63999999999999]
[18810,"FENELEY","Luke","M",1997,"U18","NOR","BSA",69.23,69.23]
[18809,"FENELEY","William","M",1999,"U16","NOR","BSA",148.16,148.16]
[22157,"FERGUSON","Ian","M",1960,"MAS",null,null,999.99,999.99]
[30965,"FERRIER","Kieran","M",1997,"U18","GSR","SSC",102.05,102.05]
[19728,"FIORI","Haydyn","M",2001,"U14",null,null,999.99,999.99]
[20836,"FISHER","Edward","M",1999,"U16","SZR","SZR",999.99,999.99]
[20837,"FISHER","George","M",2003,"U12","SZR","SZR",999.99,999.99]
[22040,"FISHER","William","M",2000,"U16",null,"MSR",276.22000000000003,999.99]
[17126,"FITZPATRICK","Alexander","M",1994,"U21",null,"IMP",77.7,863.19]
[31278,"FITZPATRICK","Jimmy","M",2000,"U16","GSR",null,151.97,151.97]
[22211,"FITZSIMMONS","Rupert","M",1996,"U21",null,null,999.99,999.99]
[21623,"FITZSIMMONS","Tobias","M",1999,"U16","ASR",null,691.71,691.71]
[41481,"FLAHIVE","Gerard","M",1992,"SEN","LSU","IMP",7.13,7.13]
[13289,"FLAHIVE","Niall","M",1993,"SEN","HEM","IMP",86.99,86.99]
[31090,"FLEMING","Iain","M",1997,"U18","SSC",null,202.1,202.1]
[31516,"FLOCKHART","Ben","M",2003,"U12","LSR",null,999.99,999.99]
[36650,"FLOCKHART","Jack","M",2005,"U10","LSR",null,999.99,999.99]
[31029,"FLOCKHART","Sam","M",1998,"U18","LSR",null,253.4,253.4]
[41993,"FLUCK","Adam","M",2001,"U14","SPR","SPR",167.02,256.11]
[41852,"FLUCK","Benjamin","M",1996,"U21","SPR",null,87.85,87.85]
[22019,"FORD","John","M",1987,"SEN","AVO","AVO",999.99,999.99]
[21169,"FOWLES","James","M",1999,"U16","FLK",null,167.1,114.23]
[21168,"FOWLES","Luke","M",2002,"U14","FLK",null,339.79,999.99]
[36664,"FRASER","Murdo","M",2002,"U14","LSR",null,999.99,999.99]
[31551,"FRASER","Rory","M",2003,"U12","LSR",null,999.99,999.99]
[13838,"FRASER HAFTER","Fergus","M",1992,"SEN","DRA","DRA",448.5,448.5]
[11570,"FREEMAN","Edward","M",1989,"SEN","LIO","LIO",39.700000000000003,153.91]
[17336,"FRENCH","James","M",1992,"SEN",null,"K",999.99,999.99]
[20677,"FROST","Joey","M",1995,"U21","MID",null,127.79,127.79]
[21904,"FROST","Joshua","M",1998,"U18","SPR","SPR",999.99,999.99]
[21373,"FRY","Bradley","M",2005,"U10","FF","FF",999.99,999.99]
[20615,"FRYERS","Toby","M",2002,"U14","SPR","SPR",999.99,999.99]
[14404,"FYNN","Tarn","M",1994,"U21",null,null,672,672]
[20487,"GADZHUROV","Marko","M",1966,"MAS","SAS",null,999.99,999.99]
[41877,"GALE","Rhodri","M",1999,"U16","MSR","DRA",74.11,81.77]
[31216,"GALLOWAY","Drew","M",2000,"U16","MUC",null,263.73,242.15]
[31105,"GALLOWAY","Duncan","M",1996,"U21",null,"SSC",124.18,124.18]
[30854,"GARVIE","Scott","M",1996,"U21","GDN",null,999.99,999.99]
[17701,"GASH","Morgan","M",1999,"U16","SAS","PSC",114.43,131.57]
[19671,"GASH","Peter","M",1956,"MAS","SAS","SAS",270.86,419.66]
[12522,"GASH","Richard","M",1991,"SEN","SAS","SAS",73.239999999999995,73.239999999999995]
[19638,"GASKIN","Sam","M",2000,"U16","BRO","K",306.05,306.05]
[31384,"GEEKIE","Alexander","M",2001,"U14","ASC",null,233.87,293.01]
[20684,"GENTHER","Joshua","M",1998,"U18","SZR","SZR",108.93,115.55]
[36673,"GENTLE","Fynn","M",2000,"U16","ASC",null,999.99,999.99]
[21076,"GEORGEL","Robert","M",1996,"U21","BRO",null,323.31,323.31]
[21469,"GERRETT","Sam","M",1988,"SEN",null,null,999.99,999.99]
[12123,"GEYER","Jai","M",1990,"SEN","TOQ","TOQ",25.77,42.13]
[36591,"GIBB","Arran","M",2003,"U12","ASC",null,999.99,999.99]
[31546,"GIBB","Duncan","M",1997,"U18","HNC",null,999.99,999.99]
[31142,"GIBB","Matthew","M",1997,"U18","LSR",null,283.04000000000002,283.04000000000002]
[19153,"GIBBINS","Joseph","M",1998,"U18","HEM","BSA",208.1,208.1]
[21612,"GIBBS","Jack","M",2001,"U14","ASR",null,269.41000000000003,247.48]
[21004,"GIBBS","James","M",1998,"U18","ASR",null,179.46,108.73]
[31324,"GIBSON","Cameron","M",2001,"U14","GSR","LSR",175.63,217.48]
[30349,"GIBSON","Gordon","M",1990,"SEN","SSC",null,103.36,103.36]
[22203,"GILES","Daniel","M",2003,"U12","MID",null,999.99,999.99]
[31542,"GILFILLAN","Charlie","M",2001,"U14","LSR",null,999.99,999.99]
[21529,"GILKINSON","Jake","M",1995,"U21",null,"DHO",999.99,999.99]
[20880,"GILLETT","James","M",2002,"U14","SPR","SPR",999.99,999.99]
[31374,"GILLIES","John","M",1999,"U16","SSC",null,557.61,557.61]
[36655,"GILLIES","Stuart","M",1970,"MAS","SFR",null,165.49,999.99]
[17515,"GIRLING","Kirran","M",1997,"U18","TEL","TEL",33.979999999999997,33.979999999999997]
[31117,"GLASGOW","Peter","M",1994,"U21","SSC",null,48.1,48.1]
[21359,"GLOVER","Wiliam","M",1998,"U18","PND","PND",184.03,184.03]
[22219,"GODBOLD","Owen","M",1999,"U16","NFS",null,999.99,999.99]
[20108,"GODDARD","Thomas","M",1996,"U21","SUF",null,206.45,206.45]
[18816,"GOLDSWORTHY","Richard","M",1995,"U21","SMK","SMK",56.27,56.27]
[31150,"GOODLAD","Finlay","M",1998,"U18","LSR",null,224.3,264.86]
[31560,"GOODMAN","Matthew","M",2003,"U12","SSC",null,999.99,999.99]
[31559,"GOODMAN","Thomas","M",2001,"U14","SSC",null,999.99,999.99]
[21820,"GOODRIDGE","Rory","M",1998,"U18",null,null,226.44,206.86]
[20376,"GOSS","Alfie","M",1999,"U16","HEM","HEM",120.82,572.45000000000005]
[21650,"GOTTS","Joey","M",1987,"SEN","BRO","BRO",153.33000000000001,153.33000000000001]
[20779,"GOULD","David","M",1963,"MAS","OVL","OVL",999.99,999.99]
[17532,"GOWER","Jack","M",1994,"U21","SPR","SPR",120.26,999.99]
[17533,"GOWER","Rory","M",1996,"U21","SPR","SPR",322.62,999.99]
[21868,"GRAINGER","Christopher","M",1999,"U16","VIK","BSA",999.99,209.33]
[36618,"GRANT","Caolan","M",2002,"U14","GSR",null,999.99,999.99]
[14855,"GRANT","James","M",1994,"U21","LSU","HEM",24.53,24.53]
[36619,"GRANT","Taryn","M",2002,"U14","GSR",null,999.99,999.99]
[14856,"GRANT","Thomas","M",1996,"U21","HEM","HEM",33.01,33.729999999999997]
[31395,"GRAY","Stuart","M",1996,"U21","HNC",null,999.99,999.99]
[19122,"GREASBY","Richard","M",1969,"MAS","HEM",null,758.49,758.49]
[17002,"GREENFIELD","Hobie","M",1995,"U21","SAS","SAS",65.59,88.16]
[14809,"GREENFIELD","Max","M",1994,"U21","HEM","HEM",49.53,59.8]
[18049,"GREENFIELD","Nigel","M",1962,"MAS","SAS","SAS",274.58999999999997,363.71]
[31102,"GREENSHIELDS","Andrew","M",1999,"U16","SSC","LSR",133.76,118.01]
[31243,"GREENSHIELDS","Duncan","M",2002,"U14","SSC","LSR",999.99,155.72999999999999]
[19632,"GREENWAY","Daniel","M",1998,"U18",null,"WM",132.62,164.21]
[19631,"GREENWAY","Thomas","M",2001,"U14",null,"WM",137.99,188.11]
[31475,"GRIEVE","Joe","M",2003,"U12","LSR",null,999.99,999.99]
[20816,"GROGAN","Max","M",2001,"U14","K","K",999.99,999.99]
[30921,"GUEST","Christopher","M",1997,"U18","BSA","SSC",989,989]
[42025,"GUIGONNET","Edouard","M",2001,"U14",null,null,999.99,999.99]
[30515,"GUNN","Cameron","M",1992,"SEN","SSC","LSR",55.96,55.96]
[41459,"GURNER","Samuel","M",1997,"U18","TOR",null,93.86,93.86]
[19379,"GUY","Edward","M",2001,"U14","TEL","MID",238.89,138.32]
[21875,"HADDEN","Alexander","M",2001,"U14","ESX","ELI",999.99,999.99]
[36646,"HADDEN","Campbell","M",2000,"U16","LSR",null,999.99,999.99]
[20719,"HADLEY","Daniel","M",2004,"U12","MID","SMK",999.99,999.99]
[21902,"HADLEY","Thomas","M",2000,"U16",null,"WM",999.99,999.99]
[21608,"HAIRE","Bradley","M",1998,"U18","ASR",null,999.99,999.99]
[41273,"HALES","Robert","M",1960,"MAS","CAR","DRA",61.58,55.31]
[41182,"HALES","Thomas","M",1990,"SEN","CAR","DRA",5.63,5.25]
[31234,"HALL","Adam","M",2000,"U16","ASC",null,263.83999999999997,297.10000000000002]
[31548,"HALL","Alistair","M",2003,"U12","ASC",null,426.58,426.58]
[31547,"HALL","Mark","M",1964,"MAS","ASC",null,999.99,999.99]
[20717,"HALLETT","Jacob","M",1999,"U16","PPS","DRA",84.87,97.97]
[31459,"HALLIDAY","Duncan","M",1985,"SEN","P3",null,999.99,999.99]
[31422,"HAMLETT-HALL","Samuel","M",1998,"U18",null,"SSC",338.15,338.15]
[20595,"HAMMOND","Max","M",1994,"U21","SOU","SOU",132.9,132.9]
[17037,"HANCOCK","David","M",1964,"MAS","MID","SMK",999.99,999.99]
[18616,"HANCOCK","Karl","M",1995,"U21","SMK",null,203.44,259.37]
[19013,"HANLON","George","M",1999,"U16","FPS","WM",143,140.1]
[41908,"HANNA","Jordan","M",1998,"U18","SCI","IMP",130.9,130.9]
[31333,"HANNAN","James","M",2001,"U14","LSR",null,287.01,287.01]
[21859,"HARDING","Felix","M",2001,"U14",null,null,999.99,999.99]
[31429,"HARPER","Callum","M",1998,"U18","LSR",null,434.07,434.07]
[21582,"HARPER","Thomas","M",2000,"U16","TEL",null,402.45,402.45]
[3940,"HARRISON","David","M",1984,"MAS",null,null,51.66,51.66]
[20976,"HARRISON","Samuel","M",2003,"U12",null,"LIO",999.99,999.99]
[21275,"HART","Benjamin","M",2003,"U12","SPR","SPR",999.99,999.99]
[22081,"HART","Michael","M",1997,"U18","SRR","SRR",999.99,999.99]
[21921,"HARVEY","Michael","M",2002,"U14","AVO","AVO",999.99,253.7]
[4777,"HATCHER","David","M",1985,"SEN","WCS",null,8.15,8.15]
[19163,"HAWKINS","Mark","M",1979,"MAS","MID",null,61.45,57.1]
[31311,"HAY","Adam","M",2001,"U14","SSC",null,226.4,211.73]
[19187,"HAY","Cameron","M",1999,"U16","SMK","BSA",261.19,999.99]
[19834,"HAY","Louis","M",2002,"U14","SMK","BSA",999.99,999.99]
[31452,"HAYWARD","Euan","M",1999,"U16","BSA","BSC",142.19999999999999,999.99]
[21075,"HEARD","Jake","M",1998,"U18","MID",null,999.99,999.99]
[5013,"HEATH","Peter","M",1944,"MAS","OVL",null,999.99,999.99]
[12972,"HEAVERSEDGE","Antony","M",1987,"SEN","SHK","DRA",48.53,999.99]
[19674,"HEDLEY","Benja","M",1977,"MAS",null,null,999.99,999.99]
[19125,"HEGINBOTHAM","Matthew","M",2000,"U16",null,"BSA",258.27,258.27]
[17078,"HELLIWELL","Steven","M",1994,"U21","LIO","LIO",29.37,89.54]
[19829,"HEMMING","Ethan","M",2001,"U14","MID","MID",150.21,114.45]
[30121,"HENDERSON","Callum","M",1989,"SEN","SSC",null,1.32,1.34]
[20181,"HENDERSON","Lucas","M",2003,"U12","SRR","AMB",999.99,999.99]
[30388,"HENDERSON","Paul","M",1995,"U21",null,"SSC",16.88,17.11]
[19160,"HENDERSON","Tom","M",1996,"U21","HEM","K",101.43,104.33]
[18729,"HENERY","David","M",1963,"MAS","SHK","LIO",386.87,386.87]
[20641,"HENERY","Robbie","M",1998,"U18","SHK","SZR",156.13,156.13]
[18862,"HENERY","Sam","M",1995,"U21","SHK","LIO",128.13999999999999,156.77000000000001]
[31432,"HERBERT","Calum","M",2001,"U14","BSC",null,251.3,251.3]
[41927,"HESLOP","Rory","M",1995,"U21",null,null,999.99,999.99]
[19857,"HETHERINGTON","George","M",1999,"U16","K","K",999.99,999.99]
[22017,"HETHERINGTON","Max","M",2004,"U12",null,"K",999.99,999.99]
[19856,"HETHERINGTON","Thomas","M",1995,"U21","K","K",999.99,999.99]
[31247,"HEWISON","Henry","M",2004,"U12","CSC",null,999.99,999.99]
[21886,"HILLMAN","Ben","M",2002,"U14",null,"BSA",999.99,999.99]
[21882,"HILLMAN","Luke","M",2001,"U14",null,"BSA",999.99,999.99]
[20544,"HINCHLIFFE","Jack","M",1997,"U18","PPS","LIO",99.25,99.25]
[21464,"HINTON","Marcus","M",2001,"U14","SPR","SPR",999.99,999.99]
[21854,"HINTON","Sam","M",2004,"U12","SPR","SPR",999.99,999.99]
[5370,"HJORT","Andrew","M",1965,"MAS","LIO","LIO",67.64,73.290000000000006]
[21975,"HOCKING","Alexander","M",1999,"U16","FPS",null,999.99,257.93]
[22046,"HODGE","Barnaby","M",2000,"U16",null,null,999.99,999.99]
[31486,"HODGSON","Ben","M",2001,"U14","GSR",null,999.99,999.99]
[41966,"HODSON","Steffan","M",2005,"U10","WWS","DRA",999.99,999.99]
[21907,"HOGAN","John","M",2000,"U16","BSA","BSA",999.99,999.99]
[20431,"HOLMES","John","M",1969,"MAS","PND",null,140.35,119.89]
[22220,"HOLMES","Peter","M",1966,"MAS","NOR",null,999.99,999.99]
[21097,"HOLMES","Robert","M",2002,"U14","PND",null,203.54,106.29]
[22166,"HOLMES","Thomas","M",1999,"U16","NOR",null,999.99,108.21]
[21726,"HOLT","Samuel","M",1995,"U21","BRS",null,303.75,203.88]
[22214,"HOOK","Kristian","M",1992,"SEN","ASR",null,999.99,76.73]
[41880,"HOPKINS","Harry","M",1999,"U16","CAR","DRA",155.06,155.06]
[36612,"HORNSBY","Duncan","M",2000,"U16","CSC",null,999.99,999.99]
[17356,"HORNSBY","Harry","M",1991,"SEN","MID","MID",5.41,5.28]
[41841,"HORTON","Sam","M",1996,"U21","WWS",null,195.56,195.56]
[18628,"HOUSTON","Samuel","M",1996,"U21","SHK",null,999.99,999.99]
[36617,"HOUSTOUN","Robert","M",1992,"SEN","STC",null,999.99,999.99]
[31373,"HOWARD-JOHNSTON","Philip","M",2001,"U14","SSC",null,999.99,999.99]
[21723,"HOWE","Charlie","M",2000,"U16","NOR",null,168.81,116.27]
[21387,"HUDDLESTON","David","M",1996,"U21","BAS",null,999.99,999.99]
[20481,"HUDSON","Thomas","M",2001,"U14","NOR","BSA",92.4,92.4]
[21050,"HUISMAN MURO","Kaylan","M",2003,"U12",null,"AMB",999.99,999.99]
[20766,"HUMPHREYS","Charles","M",2001,"U14","HEM","TEL",178.16,171.47]
[21644,"HUMPHREYS","George","M",2005,"U10",null,"MSR",999.99,999.99]
[10812,"HUNT","Georgie","M",1984,"MAS","HEM","EVO",5,7.27]
[31509,"HUNTER","Fraser","M",2003,"U12","LSR",null,999.99,999.99]
[30883,"HUNTINGTON","Calum","M",1995,"U21","SSC","BSA",989,989]
[19146,"HUPPACH","Declan","M",1999,"U16","PND",null,52.86,34.36]
[19458,"HUPPACH","Josef","M",2002,"U14","PND",null,112.2,88.7]
[22060,"HUTCHINGS","Daniel","M",2005,"U10","SAS","HEM",999.99,999.99]
[20328,"HUTTNER","Maximilian","M",1997,"U18","BRS","SPR",999.99,999.99]
[21654,"IMAMZADE","Murat","M",1982,"MAS","IMP","IMP",999.99,999.99]
[31031,"INNES","Iain","M",1998,"U18","SSC",null,182.26,182.26]
[31198,"INNES","Robbie","M",2000,"U16","SSC",null,406.94,406.94]
[36561,"IRONSIDE","Glen","M",1999,"U16",null,null,999.99,999.99]
[22209,"ISON","Sebastian","M",2000,"U16","HEM",null,999.99,999.99]
[31567,"JACK","Fraser","M",2001,"U14","ASC",null,999.99,999.99]
[19675,"JACKSON","Ian","M",1964,"MAS","RAV","RAV",67.989999999999995,67.989999999999995]
[31363,"JACOBS","Finlay","M",2002,"U14","ASC",null,999.99,999.99]
[31549,"JAMES","Richard","M",1965,"MAS",null,null,999.99,999.99]
[36636,"JAMIESON","Fraser","M",2002,"U14","GSR",null,999.99,999.99]
[31210,"JAMIESON","Ryan","M",1996,"U21",null,null,277.64,277.64]
[21708,"JAYARAJ","Jacob","M",2003,"U12",null,"HEM",999.99,999.99]
[41124,"JEAL","Alex","M",1990,"SEN","GLO","DRA",15.06,15.06]
[36671,"JENKINS","Kyle","M",1999,"U16","BSC",null,999.99,999.99]
[31024,"JENNINGS","Euan","M",1997,"U18","LSR","SSC",586.27,586.27]
[31023,"JENNINGS","Sandy","M",1995,"U21","LSR","SSC",999.99,999.99]
[22053,"JENNISON","Alexandre","M",2003,"U12",null,"BSA",999.99,999.99]
[14989,"JENSEN","Christian","M",1995,"U21","SPR","SPR",361.18,361.18]
[14276,"JESSE","Zak","M",1994,"U21","IMP","K",352.01,521.29]
[19095,"JOHNS","Owen","M",2001,"U14",null,"WM",999.99,999.99]
[20355,"JOHNS","Scott","M",2003,"U12",null,"WM",999.99,999.99]
[31034,"JOHNSTON","Hamish","M",1997,"U18","BSA","SSC",214.82,214.82]
[42031,"JONES","Gethin","M",2001,"U14","CAR",null,999.99,184.12]
[41987,"JONES","Iwan","M",1999,"U16","CAR",null,284.72000000000003,150.78]
[21780,"KADRNKA","Markus","M",2004,"U12","SPR","SPR",999.99,999.99]
[21801,"KANE","Heathcliffe","M",2003,"U12",null,"BSA",999.99,999.99]
[21149,"KARAVASILI","Leo","M",1999,"U16","DHO","DHO",158.79,158.79]
[21159,"KEANE","Josh","M",1995,"U21","HEM","SMK",42.32,67.19]
[31519,"KEANEY","Seamus","M",2001,"U14","BSC",null,179.25,179.25]
[31238,"KEITH","Mathew","M",1998,"U18","LSR",null,140.94999999999999,140.94999999999999]
[36595,"KEITH","Matthew","M",1998,"U18",null,null,999.99,999.99]
[31345,"KELLAS","Guy","M",2003,"U12",null,null,999.99,999.99]
[31553,"KELLY","Archie","M",2004,"U12","MUC","SSC",999.99,999.99]
[31286,"KERR","George","M",2000,"U16","CSC",null,999.99,999.99]
[31285,"KERR","Henry","M",2000,"U16","CSC",null,999.99,999.99]
[21562,"KEYS","Alexander","M",1998,"U18",null,"BSA",999.99,999.99]
[30898,"KICK","Euan","M",1997,"U18","GSR","BSA",0.41,0.41]
[21019,"KILGOUR","Rory","M",1980,"MAS","BRS","SAS",999.99,999.99]
[22073,"KING","Adam","M",1998,"U18","TKP","TKP",999.99,999.99]
[36587,"KING","Logan","M",2003,"U12","ASC",null,999.99,999.99]
[21186,"KIPPING","Lewis","M",2001,"U14","SRR",null,143.75,140.69]
[21633,"KIRKLAND","Matthew","M",1992,"SEN","MID","MID",345.98,345.98]
[22114,"KNIGHTS-COOPER","Ellis","M",1996,"U21","SHK","SHK",362.39,999.99]
[13792,"KNOWLES","Michael","M",1995,"U21","MSR","DRA",32.97,32.97]
[21853,"KOTWICA","Dawid","M",1999,"U16","SZR","SZR",999.99,999.99]
[18317,"KRAHELSKI","Oliver","M",1996,"U21","HEM",null,28.21,28.21]
[30778,"KUWALL","Duncan","M",1998,"U18","SSC",null,46.71,46.71]
[20095,"LALLY","Cameron","M",1996,"U21","VIK",null,99.55,99.55]
[21691,"LANE","Joshua","M",1999,"U16","NOR","NOR",145.6,144.49]
[36629,"LANG","Fergus","M",2000,"U16","K",null,999.99,999.99]
[31505,"LANGMUIR","Calum","M",2002,"U14","SSC",null,999.99,999.99]
[36563,"LAPSLIE","Henry","M",2000,"U16","ELI","SSC",999.99,999.99]
[20713,"LARBY","Thomas","M",1994,"U21","RAV",null,124.41,124.41]
[21571,"LAUGHLAND","Maximilian","M",2004,"U12","FLK","BSA",999.99,999.99]
[20369,"LAW","Joshua","M",2003,"U12","TEL","TEL",999.99,999.99]
[22113,"LAW","Theodore","M",1999,"U16","MSR","MSR",214.03,999.99]
[19941,"LAWRENCE","Thomas","M",1999,"U16","MID","DRA",144.61000000000001,119.4]
[41923,"LAYTHAM","Jack","M",2000,"U16","WWS",null,999.99,999.99]
[21077,"LEACH","Charlie","M",2001,"U14","HEM","AMB",172.79,216.88]
[21501,"LEACH","Freddie","M",2002,"U14","HEM","K",236.63,999.99]
[20887,"LEAVITT","Samuel","M",1998,"U18","DHO","DHO",999.99,999.99]
[20922,"LEAVITT","William","M",1998,"U18","DHO","DHO",999.99,999.99]
[41578,"LEE","Adam","M",1994,"U21","PND","MID",38.93,36.39]
[20761,"LEE","Dexter","M",2000,"U16","HEM","EVO",89.53,93.06]
[21810,"LEE","Rory","M",2003,"U12","SPR","SPR",999.99,999.99]
[41662,"LEE","Sam","M",1996,"U21","MID",null,128.82,128.82]
[21879,"LEES","James","M",2001,"U14","BSA","HEM",999.99,999.99]
[13389,"LEESON","Andrew","M",1989,"SEN","PND",null,28.85,28.85]
[31329,"LEIGHTON","Alasdair","M",2001,"U14","LSR","SSC",839.69,839.69]
[19869,"LEWIS","Barney","M",1995,"U21","SMK","AMB",22.57,22.57]
[20309,"LEWIS","Samuel","M",1998,"U18","SPR","SPR",999.99,999.99]
[31281,"LINKLATER","Ian","M",1953,"MAS","SFR",null,999.99,999.99]
[19830,"LISMORE","Jake","M",1997,"U18",null,"BSA",999.99,999.99]
[31107,"LIVINGSTONE","Lewis","M",1999,"U16","SSC","LSR",215.71,186.56]
[36594,"LIVINGSTONE","Zak","M",2003,"U12","SSC",null,999.99,999.99]
[42035,"LLEWELLYN-JONES","Aled","M",2003,"U12","WWS",null,999.99,999.99]
[22089,"LLOYD","Tomas","M",2003,"U12","PND","PND",999.99,999.99]
[21832,"LOCKWOOD","Marcus","M",1997,"U18","VIK","VIK",999.99,999.99]
[21129,"LODER","Angus","M",2002,"U14","HEM","K",999.99,999.99]
[20543,"LODER","Edward","M",1999,"U16","HEM","AMB",194.65,194.65]
[19791,"LOGUT","George-Louis","M",1996,"U21","DHO","DHO",999.99,999.99]
[22032,"LONG","Timothy","M",2005,"U10",null,"S2R",999.99,999.99]
[22164,"LONGSTAFF","Michael","M",2001,"U14","WGC",null,140.38,999.99]
[22026,"LOUTH","Oscar","M",2005,"U10","HEM","HEM",999.99,999.99]
[21924,"LOVE","Charlie","M",2001,"U14","HEM","BSA",999.99,999.99]
[17344,"LOWDON","Matthew","M",1995,"U21","RAV",null,999.99,999.99]
[19510,"LOWE","Jordan","M",1998,"U18","HEM","EVO",213.67,213.67]
[20331,"LUCAS","Oliver","M",2002,"U14","WM","WM",999.99,999.99]
[18757,"LUCIE-SMITH","Ross","M",1993,"SEN","LSU","LSU",63.53,115.43]
[21546,"LUKE","Charlie","M",2000,"U16",null,"DHO",999.99,999.99]
[21517,"LUNN","Jake","M",2001,"U14",null,"K",999.99,999.99]
[31341,"LURRING","Connor","M",1999,"U16","SSC",null,397.31,397.31]
[21091,"LUTTERLOCH","Edward","M",2003,"U12","ASR",null,999.99,999.99]
[36596,"LYNCH","Calum","M",2000,"U16","CSC",null,999.99,999.99]
[36663,"LYNCH","Shaun","M",1999,"U16","MUC",null,999.99,288.70999999999998]
[21366,"LYONS","Alan","M",1965,"MAS",null,"HEM",221.64,221.64]
[22207,"MABLEY","Benjamin","M",2001,"U14",null,"HEM",477.47,999.99]
[22208,"MABLEY","James","M",2004,"U12",null,"HEM",999.99,999.99]
[30233,"MACBAIN","Scott","M",1987,"SEN","GSR",null,26.5,73.23]
[31506,"MACDONALD","Finlay","M",2004,"U12","LSR",null,999.99,999.99]
[30250,"MACFIE","Alastair","M",1989,"SEN","SSC",null,113.3,113.3]
[30669,"MACFIE","Euan","M",1994,"U21","GDN",null,229.93,229.93]
[36621,"MACKECHNIE","Archie","M",2003,"U12","MUC","SSC",999.99,999.99]
[36602,"MACLACHLAN","Fergus","M",2002,"U14","GSC",null,329.76,999.99]
[31396,"MACLEAN","Angus","M",1996,"U21","HNC",null,999.99,999.99]
[31570,"MACMILLAN","Fraser","M",2002,"U14","BSC",null,999.99,999.99]
[30936,"MACPHERSON","Stuart","M",1998,"U18","SSC","LSR",115.94,132.36000000000001]
[31004,"MACWILLIAM","David","M",1996,"U21","BSC","GSR",70.459999999999994,72.290000000000006]
[21699,"MAGENES","Edoardo","M",2004,"U12","HEM",null,999.99,999.99]
[20530,"MAJOR","Billy","M",1996,"U21",null,null,999.99,999.99]
[21483,"MANET","Conrad","M",1998,"U18","K","K",999.99,999.99]
[31224,"MARDEN","Angus","M",2000,"U16","MUC",null,214.55,214.55]
[21866,"MARKS KING","Alex","M",1999,"U16","TSN",null,999.99,999.99]
[22034,"MARLOR","Bradley","M",2006,"U10","PND",null,999.99,999.99]
[17257,"MARMENT","Christiaan","M",1997,"U18","WCS",null,113.81,113.81]
[21154,"MARSH","Joshua","M",2001,"U14","SZR",null,197.61,197.61]
[36624,"MARSHALL","Max","M",2006,"U10","CSC",null,999.99,999.99]
[36623,"MARSHALL","Zac","M",2004,"U12","CSC",null,999.99,999.99]
[20843,"MARSLAND","Steven","M",1970,"MAS","TOQ",null,999.99,999.99]
[31508,"MARSTON","Rory","M",1999,"U16","LSR",null,999.99,999.99]
[19574,"MARTIN","Matthew","M",1995,"U21","MSR","DRA",39.96,42.98]
[31331,"MARTIN","Oliver","M",2001,"U14",null,null,380.11,380.11]
[21401,"MATHER","Fred","M",2001,"U14",null,"BSA",999.99,999.99]
[20253,"MATHEW","Oliver","M",2002,"U14","AVO","EXD",999.99,872.1]
[31171,"MATTHEW","Andrew","M",1990,"SEN",null,null,999.99,999.99]
[19723,"MATTHEWS","Brandon","M",1999,"U16","STS",null,55.38,55.38]
[22212,"MCANALLY","Ewan","M",2003,"U12",null,null,999.99,999.99]
[31028,"MCBAIN","Corrie","M",1999,"U16","LSR","SSC",217.13,217.13]
[30841,"MCBAIN","Sandy","M",1993,"SEN","SSC","LSR",83.66,83.66]
[31148,"MCCALL","Andrew","M",2002,"U14","SSC",null,999.99,246.6]
[20455,"MCCALL","Oscar","M",2000,"U16",null,"BSA",375.15,375.15]
[19413,"MCCLOUD","Milo","M",1997,"U18","BSA","BSA",226.82,226.82]
[21737,"MCCOLL","Ruari","M",2002,"U14","TOQ","TOQ",999.99,999.99]
[41940,"MCCORMACK","Matthew","M",1998,"U18","SCI","K",114.11,136.88999999999999]
[31273,"MCCORMICK","Chris","M",1998,"U18","BSC",null,999.99,999.99]
[21664,"MCCORMICK","John","M",1975,"MAS","IMP","IMP",326.95999999999998,326.95999999999998]
[20584,"MCDONALD-PROCTOR","Richard","M",1998,"U18","BRO",null,89.44,99.86]
[20583,"MCDONALD-PROCTOR","William","M",2002,"U14","BRO",null,354.9,999.99]
[41970,"MCDOWELL","Harry","M",2000,"U16","SCI",null,236.36,236.38]
[31435,"MCFADDEN","Cameron","M",2000,"U16","CSC",null,301.66000000000003,999.99]
[31446,"MCFADDEN","Iain","M",2002,"U14","CSC",null,422.76,999.99]
[31083,"MCFADDEN","Neil","M",1998,"U18","CSC",null,167.52,999.99]
[22143,"MCGONIGAL","Dominic","M",2000,"U16",null,null,999.99,999.99]
[31043,"MCGRATH","Sam","M",1997,"U18","BSC",null,999.99,999.99]
[19019,"MCGREGOR-OGDEN","Cameron","M",2000,"U16","MSR","DRA",81.48,83.83]
[8067,"MCGREGOR-OGDEN","Carl","M",1961,"MAS","MSR","MSR",120.26,120.26]
[31169,"MCHUGH","Liam","M",1997,"U18","GSR",null,33.770000000000003,34.64]
[36645,"MCINTOSH","Magnus","M",2002,"U14","LSR",null,999.99,374.52]
[31541,"MCINTYRE","Ross","M",2004,"U12","BSC",null,999.99,999.99]
[31540,"MCINTYRE","Scott","M",2002,"U14","BSC",null,177.66,181.69]
[36560,"MCKAIN","Ross","M",2003,"U12","BSC",null,999.99,999.99]
[36642,"MCKEY","Lewis","M",2006,"U10","SSC",null,999.99,999.99]
[31121,"MCKILLOP","Murray","M",1998,"U18","BSC",null,999.99,270.23]
[31403,"MCLAREN","Ronan","M",2001,"U14","BSC",null,999.99,999.99]
[30953,"MCLEISH","Adam","M",1979,"MAS","SSC",null,999.99,999.99]
[31314,"MCLEW","Christopher","M",2001,"U14","GSR",null,139.94,142.44]
[31437,"MCLEW","Euan","M",2003,"U12","GSR",null,999.99,999.99]
[31491,"MCNEILL","David","M",2000,"U16","BSC",null,312.95999999999998,207.65]
[31139,"MCNICOL","Archie","M",1999,"U16","GSC","BSA",999.99,999.99]
[31554,"MCNUTT","Josh","M",1998,"U18","LSR",null,999.99,999.99]
[31202,"MCROBB","Cameron","M",2000,"U16","LSR","SSC",139.13,166.39]
[30555,"MCWHIRTER","Scott","M",1992,"SEN","GSR","SSC",36.270000000000003,39.74]
[30978,"MCWILLIAM","Lewis","M",1997,"U18","CSC",null,999.99,999.99]
[41939,"MELIA","Tybalt","M",2000,"U16","NW",null,999.99,999.99]
[21645,"MELLON-HENDRY","Freddie","M",2004,"U12","ASR",null,999.99,999.99]
[31558,"MENZIES","Fraser","M",1997,"U18","ASC",null,999.99,999.99]
[36660,"MENZIES","Ian","M",2007,"U8","MUC",null,999.99,999.99]
[14899,"MERCER","Patrick","M",1995,"U21","NOR","BSA",999.99,64.86]
[11619,"MESUT","Justin","M",1985,"SEN","NOR","AMB",65.62,65.62]
[21213,"METHERINGHAM","Zachary","M",2004,"U12",null,"SMK",999.99,999.99]
[21043,"MEURER","Markus","M",1968,"MAS",null,null,999.99,999.99]
[30931,"MIDDLETON","Fraser","M",1998,"U18","GSR",null,92.62,92.62]
[21278,"MIGUDA","Henry","M",2001,"U14","SPR","SPR",999.99,999.99]
[21993,"MILKINS","William","M",2004,"U12",null,null,999.99,999.99]
[31536,"MILLAR","Archie","M",2001,"U14","LSR",null,999.99,541.36]
[31535,"MILLAR","Jay","M",2003,"U12","LSR",null,999.99,999.99]
[21276,"MILLARD","Oliver","M",2000,"U16",null,"DHO",999.99,999.99]
[31457,"MILLER","Craig","M",2002,"U14","GSR",null,999.99,999.99]
[18509,"MILLER","Gareth","M",1994,"U21","MID","SAS",71.069999999999993,73.98]
[31450,"MILLER","Scott","M",1998,"U18","GSR",null,999.99,999.99]
[21408,"MILLER-HASTINGS","Frankie","M",2000,"U16","FLK",null,146.69,133.96]
[21602,"MILNER","Archie","M",2000,"U16","ASR","ASR",188.14,188.14]
[13228,"MILSTED","James","M",1992,"SEN","RAV",null,97.83,89.9]
[21259,"MIRACCO","Carlito","M",1999,"U16","HEM","TOQ",162.11000000000001,162.11000000000001]
[36659,"MITCHELL","Munro","M",2002,"U14","ARB",null,536.91999999999996,999.99]
[36658,"MITCHELL","Russell","M",2002,"U14","ARB",null,999.99,999.99]
[19673,"MOLLIEX","Alex","M",1973,"MAS","MSR","MSR",63.31,73.209999999999994]
[18629,"MOLLOY","Daniel","M",1993,"SEN","NOR",null,48.62,28.17]
[17438,"MOLLOY","Michael","M",1992,"SEN","NOR",null,0,0]
[20782,"MOONEY","Hugo","M",1997,"U18","DHO","DHO",999.99,999.99]
[20401,"MOORE","Benedict","M",2001,"U14","K",null,999.99,999.99]
[22067,"MOORE","Chris","M",2001,"U14","SRR",null,377.64,252.42]
[22068,"MOORE","Connor","M",2000,"U16","SRR",null,449.98,463.6]
[14949,"MORGAN","Brad","M",1991,"SEN","BSA","K",20.41,20.41]
[21479,"MORGAN","Jonathan","M",1999,"U16",null,"BSA",999.99,999.99]
[31199,"MORRIS","Christopher","M",2000,"U16","LSR",null,275.89,274.93]
[20871,"MORRIS","Ruaidhri","M",2001,"U14","SPR","SPR",999.99,999.99]
[36607,"MORRISON","Jack","M",2001,"U14","GDN",null,999.99,999.99]
[18778,"MORRISON","Michael","M",1957,"MAS","SOU","SAS",263.87,263.87]
[21965,"MOSS","Louis","M",2004,"U12",null,null,999.99,999.99]
[17831,"MOYNIHAN","Nicholas","M",1994,"U21",null,"K",999.99,999.99]
[18257,"MOZOL","James","M",1993,"SEN","GLO",null,37.020000000000003,37.020000000000003]
[18807,"MROZ","Dominik","M",1993,"SEN","ESX","DHO",317.45,999.99]
[31424,"MUIR","Jimmy","M",2002,"U14","ASC","DSC",999.99,999.99]
[41934,"MUNDAY","William","M",2000,"U16",null,null,999.99,999.99]
[31428,"MUNN","Hamish","M",2002,"U14","LSR",null,999.99,472.08]
[36620,"MUNN","Rory","M",2004,"U12","LSR",null,999.99,999.99]
[31342,"MUNRO","Calum","M",2002,"U14","BSC",null,454.06,999.99]
[31313,"MUNRO","Colin","M",1995,"U21","LSR",null,285.93,999.99]
[36630,"MUNRO","Gregor","M",2004,"U12","BSC",null,999.99,999.99]
[31326,"MURPHY","Rhys","M",1999,"U16","BSC",null,117.97,200.79]
[19678,"MURRAY","Alastair","M",1996,"U21",null,"LIO",89.19,999.99]
[20428,"MURRAY","David","M",1994,"U21","PND",null,999.99,144.61000000000001]
[31521,"MURRAY","Sam","M",2003,"U12","LSR",null,999.99,999.99]
[21815,"MUSTON","Charles","M",2002,"U14",null,"MSR",222.22,999.99]
[20125,"MYRSEP-FRANCE","Nicholas","M",1998,"U18",null,"DHO",999.99,999.99]
[22152,"NABAR","Antony","M",2006,"U10","BRO",null,999.99,999.99]
[22151,"NABAR","Paul","M",1964,"MAS",null,"BRO",999.99,999.99]
[18659,"NAYLER","Graham","M",1959,"MAS","ASR","ALD",128.41999999999999,110.68]
[31265,"NAYLOR","Finlay","M",1998,"U18","LSR",null,333.83,333.83]
[31282,"NESBITT","Kieran","M",2000,"U16","GSR",null,151.30000000000001,163.43]
[31283,"NESBITT","Ross","M",2002,"U14","GSR",null,164.92,138.44999999999999]
[21315,"NEVENS","Ted","M",1997,"U18",null,null,999.99,999.99]
[21194,"NEWTON","Charlie","M",2003,"U12","HEM","K",999.99,999.99]
[20184,"NEWTON","William","M",2000,"U16","HEM","K",116.22,216.45]
[21481,"NG","Hugo","M",1997,"U18",null,null,999.99,999.99]
[13432,"NICHOL","Timothy","M",1984,"MAS","RAV",null,118.42,118.42]
[31392,"NICHOLLS","Harry","M",1996,"U21","HNC",null,999.99,999.99]
[20897,"NICKSON","Joseph","M",1996,"U21","PND",null,88.45,80.36]
[14252,"NISBET","Angus","M",1993,"SEN",null,"DHO",999.99,999.99]
[14251,"NISBET","Kit","M",1990,"SEN",null,"K",166.85,999.99]
[19135,"NORRIS","John","M",1961,"MAS","HEM","SAS",98.92,100.98]
[19005,"NORRIS","Kieran","M",1995,"U21","HEM","AMB",16.3,16.3]
[19737,"O'BRIEN","Seamus","M",2002,"U14","MID","EVO",122.26,999.99]
[42041,"O'CALLANAIN","Eoin","M",1998,"U18","SCI",null,999.99,999.99]
[31164,"ODY","Robert","M",1998,"U18","LSR",null,465.51,465.51]
[21604,"OGDEN","Alexander","M",2005,"U10","NOR","ELI",999.99,999.99]
[20975,"OHARA","Mizuki","M",1998,"U18",null,"DHO",999.99,999.99]
[31351,"OLDFIELD","Max","M",2002,"U14","MUC","SSC",999.99,349.27]
[20550,"OLIVER","Mark","M",1962,"MAS","BOW","SMK",163.57,163.57]
[21253,"OLIVER","Ryan","M",1997,"U18","NOR",null,137.76,137.76]
[19147,"O'MARA","Adam","M",1995,"U21","RAV","RAV",46.25,39.89]
[19199,"O'MEARA","Samuel","M",1999,"U16",null,null,960.6,999.99]
[20377,"O'NEILL","Jack","M",1999,"U16",null,"BSA",999.99,999.99]
[21544,"OSMOND","Cosmo","M",2001,"U14",null,null,999.99,999.99]
[21888,"OSMOND","Orlando","M",2006,"U10",null,null,999.99,999.99]
[22043,"OSULLIVAN","Finley","M",2001,"U14",null,null,999.99,999.99]
[22204,"OWENS","Andrew","M",1996,"U21","CHT","CHT",999.99,190.02]
[22195,"OWENS","Christopher","M",1999,"U16","CHT","CHT",131.09,80.59]
[22197,"OWENS","Timothy","M",1965,"MAS","BOW","BOW",175.07,111.14]
[22087,"PARKER","Travis","M",2005,"U10","NOR",null,999.99,999.99]
[21188,"PARKES","Michael","M",1989,"SEN","HEM","HEM",143.43,143.43]
[21998,"PARSONS","Oscar","M",2004,"U12",null,null,999.99,999.99]
[31529,"PARTRIDGE","Andrew","M",1999,"U16",null,null,249.7,249.7]
[31530,"PARTRIDGE","Tom","M",2002,"U14",null,null,999.99,999.99]
[31151,"PATHI","Brogan","M",1998,"U18","GSR",null,999.99,999.99]
[31537,"PATHI","Rowan","M",1999,"U16","GSR",null,380.12,380.12]
[1681,"PATON","Andrew","M",1968,"MAS","WYC",null,989,989]
[20460,"PATRICK","Oliver","M",1997,"U18","BSA","BSA",999.99,999.99]
[30827,"PATTERSON","Ross","M",1999,"U16","SSC",null,127.66,115.01]
[22192,"PATTINSON","Sam","M",1998,"U18","KND","KND",999.99,999.99]
[30738,"PAXTON","Paul","M",1998,"U18","GDN",null,187.29,187.82]
[36613,"PEDEN","Jamie","M",1998,"U18","GSC",null,999.99,999.99]
[31444,"PEEK","Harrison","M",2003,"U12","BSC",null,999.99,999.99]
[31445,"PEEK","Jackson","M",2004,"U12","BSC",null,999.99,999.99]
[19710,"PENNING- LAMBERT","Matthew","M",1996,"U21","HEM","K",146.51,146.51]
[19711,"PENNING-LAMBERT","Joshua","M",1998,"U18","HEM","K",53.89,53.89]
[20102,"PERETZ","Adi","M",1998,"U18","DHO","DHO",999.99,999.99]
[20314,"PETERS","Jack","M",1993,"SEN","HEM","LIO",233.81,999.99]
[31073,"PETERS","Lachlan","M",1997,"U18","BRM",null,999.99,999.99]
[31439,"PFLEGER","Harry","M",2005,"U10","GDN",null,999.99,999.99]
[17840,"PHELPS","Nicholas","M",1997,"U18","MID","MID",70.34,70.34]
[22183,"PHIPPEN","Chris","M",1973,"MAS","HEM","HEM",100.73,999.99]
[22036,"PICKUP","Dean","M",1967,"MAS",null,null,999.99,999.99]
[41495,"PIERCE","Zac","M",1997,"U18","PND","DRA",255.62,255.62]
[31288,"PIERCEY","James","M",1997,"U18","CSC",null,182.21,999.99]
[36566,"PIERCEY","Michael","M",2004,"U12","CSC",null,999.99,999.99]
[20535,"PINI","Maximilian","M",2002,"U14","GRV","AMB",999.99,999.99]
[20777,"PINSENT","William","M",1955,"MAS",null,null,999.99,999.99]
[21198,"PITCHER","James","M",1984,"MAS","PLY","PLY",999.99,999.99]
[31082,"PITCHERS","Brian","M",1942,"MAS","SSC",null,999.99,999.99]
[19987,"PITKETHLY","Calum","M",1999,"U16","SPR","SPR",559.46,999.99]
[31008,"POGSON","Liam","M",1998,"U18","BLG",null,280.11,280.11]
[20799,"POLLITT","Oliver","M",2003,"U12","AMB","AMB",999.99,999.99]
[22074,"PORTEOUS","Adrian","M",1965,"MAS","MSR",null,356.5,999.99]
[22054,"PORTEOUS","Daniel","M",2003,"U12","MSR",null,999.99,999.99]
[22044,"PORTEOUS","Nathan","M",2001,"U14","MSR",null,210.51,999.99]
[14344,"PORTER","Tobias","M",1993,"SEN","FLK","DHO",140.94,140.94]
[21762,"PORTER","Tom","M",1997,"U18","2KP","2KP",999.99,999.99]
[14350,"POTH","Daniel","M",1996,"U21","HEM",null,14.16,21.81]
[14575,"POTH","Robert","M",1997,"U18","HEM","K",0,13.07]
[17479,"POWELL","Jonathan","M",1986,"SEN","RAV","MID",18.72,18.72]
[36668,"POWELL","Nathan","M",2002,"U14","SFR",null,198.23,999.99]
[30711,"PRICE","Graeme","M",1995,"U21","SSC","GSR",63.81,63.85]
[41837,"PRICE","Rhys","M",2001,"U14","GLO","DRA",201.19,149.16999999999999]
[22167,"PRINCE","Derek","M",1964,"MAS","AVO",null,999.99,999.99]
[41410,"PRITCHARD","Ray","M",1965,"MAS",null,"DRA",999.99,999.99]
[9379,"PROUDLOVE","Andrew","M",1958,"MAS","BRO","EVO",187.93,132.79]
[31489,"PROVAN","Max","M",2001,"U14","CSC","BSA",999.99,999.99]
[31358,"PYE","Ryan","M",2004,"U12","GDN","ASC",999.99,999.99]
[21336,"QUIGLEY","John","M",1972,"MAS","MSR","MSR",187.78,999.99]
[20122,"RABEY","Judson","M",2000,"U16","HEM","DHO",221.08,221.08]
[31568,"RALPH","Fergus","M",2003,"U12","LSR",null,999.99,999.99]
[21393,"RAMPTON","Thomas","M",2003,"U12",null,"BSA",999.99,999.99]
[30952,"RANKIN","Charles","M",2001,"U14","BSA","SSC",123.48,162.91999999999999]
[18504,"RAPOSO","Charlie","M",1996,"U21",null,"AMB",999.99,999.99]
[19569,"RASCAGNERES","Thomas","M",2000,"U16","MSR","DRA",79.34,87.89]
[21415,"RASHCHUPKIN","Maxim","M",2002,"U14",null,"DHO",999.99,999.99]
[31206,"RASMUSEN","Erik","M",1998,"U18","GDN",null,259.20999999999998,288.04000000000002]
[20380,"RATCLIFFE","David","M",1998,"U18","SAS",null,302.32,302.32]
[20381,"RATCLIFFE","Thomas","M",2001,"U14","SAS",null,999.99,999.99]
[31552,"RATTRAY","Andrew","M",2000,"U16","GSR",null,301.66000000000003,441.81]
[20379,"RAY","Matthew","M",1999,"U16",null,"K",999.99,999.99]
[19086,"READER","Christopher","M",1996,"U21","ASR",null,30.44,30.44]
[19085,"READER","William","M",1994,"U21","ASR",null,43.02,36.4]
[21609,"REBERT","Ethan","M",1998,"U18","BSA","BSA",999.99,999.99]
[31096,"REDPATH","Sandy","M",1996,"U21","LSR","SSC",154.51,154.51]
[31315,"REED","Aidan","M",2001,"U14","LSR",null,427.06,413.46]
[31322,"REED","Lewis","M",2001,"U14",null,"SSC",358.04,326.45]
[21339,"REED","Matthew","M",1993,"SEN",null,null,79.78,999.99]
[22301,"REEDER","Edward","M",1997,"U18",null,null,999.99,999.99]
[21657,"REES","Edward","M",1961,"MAS","IMP","IMP",218.42,297.82]
[41764,"REILLY","Garreth","M",1999,"U16","SCI",null,79.64,79.64]
[31294,"RENNIE","Graham","M",1975,"MAS","ASC",null,242.18,298.95999999999998]
[21485,"RHODES","Austin","M",1998,"U18","CHT","K",999.99,999.99]
[21484,"RHODES","Morgan","M",1998,"U18","CHT","K",999.99,999.99]
[17320,"RICCERI","Oliver","M",1995,"U21",null,"IMP",999.99,999.99]
[19796,"RICHARDS","Alexandre","M",2002,"U14",null,"BSA",999.99,999.99]
[17919,"RICHARDSON","Charles","M",1992,"SEN","MSR","DRA",14.73,14.73]
[18088,"RICHARDSON","George","M",1997,"U18","MSR","DRA",47.37,61.03]
[20628,"RICHARDSON","Thomas","M",1997,"U18","NOR",null,46.09,46.09]
[12989,"RICHES","Stuart","M",1989,"SEN","NOR","BSA",7.57,7.57]
[19570,"RICHMOND","Henry","M",1999,"U16","WCS",null,145.4,97.02]
[21663,"RIDDELL","Kelan","M",2003,"U12",null,null,999.99,999.99]
[18010,"RIDDELL","Luke","M",1996,"U21","HEM","AMB",163.16,163.16]
[41722,"RIGBY","Jack","M",1995,"U21","MID","IMP",42.49,50.4]
[19910,"RIGBY","Jordan","M",2000,"U16","MID","IMP",111.82,111.82]
[21895,"RILEY","Joshua","M",1999,"U16",null,"BSA",999.99,999.99]
[21896,"RILEY","Thomas","M",2001,"U14",null,"BSA",999.99,999.99]
[20879,"ROBERTS","Henry","M",1999,"U16",null,"K",999.99,999.99]
[41814,"ROBERTS","Ian","M",1969,"MAS",null,null,999.99,999.99]
[21652,"ROBERTSHAW","Gavin","M",1975,"MAS","SMK","SMK",177.64,182.02]
[20988,"ROBERTSON","Ewan","M",2001,"U14","BRO","BSA",131.37,145.76]
[31175,"ROBERTSON","John","M",1997,"U18","CSC",null,999.99,999.99]
[12334,"ROBERTSON","Stuart","M",1950,"MAS","WCS","WCS",261.93,261.93]
[22201,"ROBINSON","Bertie","M",2004,"U12","SPR","SPR",999.99,999.99]
[36643,"ROBLES-THOME","David","M",2002,"U14","LSR",null,999.99,999.99]
[4378,"ROE","Nicholas","M",1956,"MAS","TOR",null,748.57,748.57]
[30862,"ROFE","Sean","M",1995,"U21","SSC",null,80.27,85.66]
[30959,"ROFE","Thomas","M",1998,"U18","SSC","GSR",124.91,124.91]
[21395,"ROGERS","Marcus","M",1999,"U16","BSA","BSA",999.99,999.99]
[36633,"RONALD","James","M",1998,"U18","GSC","MUC",999.99,999.99]
[36632,"RONALD","Ross","M",2002,"U14","GSC","MUC",328.32,999.99]
[22011,"RONZ","Robert","M",1982,"MAS",null,null,999.99,999.99]
[20839,"ROSS","Callum","M",2003,"U12","TSN","SAS",999.99,999.99]
[21718,"ROSS","David","M",1970,"MAS","TSN","TSN",195.27,83.3]
[31006,"ROSS","Harry","M",1998,"U18","BSC",null,93,108.44]
[31087,"ROSS","Lyle","M",1999,"U16","SSC","MUC",88.48,88.48]
[4963,"RUDGE","Barnaby","M",1989,"SEN","WCS",null,999.99,999.99]
[30614,"RYAN","Euan","M",1993,"SEN","GSR",null,24.17,24.17]
[41971,"RYAN","Lee","M",2000,"U16","SCI",null,211.29,211.35]
[10659,"RYDING","David","M",1986,"SEN","PND","K",46.6,46.6]
[21967,"RYLAND","Callum","M",2003,"U12","SZR","SZR",999.99,999.99]
[22002,"RYLAND","Peter","M",2001,"U14","SZR","SZR",999.99,999.99]
[36649,"SADDLER","Jack","M",2005,"U10","LSR",null,999.99,999.99]
[36648,"SADDLER","Sam","M",2002,"U14","SSC","LSR",999.99,487.44]
[20790,"SANDEMAN","Jonathan","M",1998,"U18","GLO",null,90.22,90.22]
[31065,"SANDIESON","Cal","M",1998,"U18","BSC","GSR",999.99,999.99]
[30974,"SANDLAND","Alasdair","M",2000,"U16","GSR",null,118.53,103.3]
[31129,"SANDLAND","Jamie","M",2003,"U12","GSR",null,999.99,999.99]
[20995,"SANDLER","Jameson","M",2003,"U12",null,"HEM",999.99,999.99]
[18513,"SAUNDERS","Gregory","M",1995,"U21",null,"K",999.99,999.99]
[42021,"SCANLON","Ryan","M",2004,"U12",null,null,999.99,999.99]
[22056,"SCHLOTE","Harry","M",2000,"U16","HEM","HEM",333.97,999.99]
[20649,"SCHUBERT","Maximilian","M",2003,"U12","AVO","AVO",999.99,999.99]
[31020,"SCOTT","Archie","M",1996,"U21","LSR",null,999.99,999.99]
[22124,"SCOTT","Benjamin","M",2003,"U12","RAV","RAV",999.99,999.99]
[31441,"SCOTT","Luke","M",2001,"U14","LSR",null,999.99,999.99]
[20679,"SCOTT","Max","M",1997,"U18","NOR","NOR",189.57,189.57]
[31371,"SCOTT","Ruaraidh","M",2002,"U14","BSC",null,177.08,212.14]
[19443,"SEAMAN","Michael","M",1986,"SEN","SZR","IMP",98.19,103.91]
[41650,"SELLWOOD","Thomas","M",1996,"U21","CAR","DRA",98.98,67.12]
[21742,"SEWELL","Logan","M",1998,"U18","NOR",null,82.25,44.75]
[6894,"SHAILES","Darryl","M",1961,"MAS","NOR",null,139.08000000000001,139.08000000000001]
[21720,"SHAIR","Tariq","M",1993,"SEN","HEM",null,281.63,281.63]
[13217,"SHARP","Anthony","M",1968,"MAS","HEM",null,140.66,140.66]
[31517,"SHARP","Calum","M",1997,"U18","AYR","SFR",154.43,154.43]
[20564,"SHARROTT","Christopher","M",1978,"MAS",null,null,999.99,999.99]
[36647,"SHARWOOD-SMITH","James","M",2002,"U14","LSR",null,999.99,999.99]
[21733,"SHAW","Benjamin","M",1999,"U16",null,null,141.97999999999999,146.18]
[19801,"SHAW","James","M",1998,"U18","K","K",999.99,999.99]
[1,"SHEDDEN","John","M",1943,"MAS","MER",null,999.99,999.99]
[21632,"SHEMMANS","Jake","M",2001,"U14","ASR",null,133.47,117.29]
[31488,"SHEPHERD","Calum","M",2000,"U16","ASC",null,250.09,288.07]
[20520,"SHEPHERD","Matthew","M",1979,"MAS",null,null,999.99,999.99]
[21557,"SHEPHERDSON","James","M",1999,"U16","TSD",null,309.2,273.39]
[17818,"SHERRAS","Andrew","M",1995,"U21",null,"DHO",999.99,999.99]
[17819,"SHERRAS","Richard","M",1997,"U18",null,"DHO",999.99,999.99]
[20847,"SHIELLS","Bryan","M",1998,"U18","SPR","SPR",999.99,999.99]
[20692,"SHIELLS","Rory","M",1995,"U21","SPR","SPR",999.99,999.99]
[17284,"SIEBER","James","M",1996,"U21","ASR","AMB",2.91,2.91]
[36634,"SIMMERS","Robbie","M",2000,"U16","BSC",null,999.99,999.99]
[31474,"SIMMONDS","Thomas","M",2003,"U12","GSR",null,999.99,999.99]
[19457,"SIMMONS","Nigel","M",1962,"MAS","TOQ","TOQ",382.33,382.33]
[31201,"SIMPSON","Andrew","M",2000,"U16","GDN",null,166.61,167.46]
[21233,"SIMPSON","Cameron","M",2002,"U14",null,"WM",999.99,999.99]
[20336,"SIMPSON","Jack","M",1999,"U16","SPR","SPR",999.99,999.99]
[31354,"SIMPSON","Neil","M",2002,"U14","GDN",null,999.99,567.14]
[41969,"SINGLETON","Cillian","M",1999,"U16","SCI",null,221.6,226.36]
[21653,"SKEPPSTAM","Rasmus","M",2004,"U12","SMK","SMK",999.99,999.99]
[21405,"SLADE","Ted","M",2003,"U12",null,"BSA",999.99,999.99]
[21143,"SLATER","James","M",1998,"U18","SHK","SHK",328.66,343.21]
[21601,"SMITH","Anthony","M",1969,"MAS","ALD",null,228.31,180.48]
[22159,"SMITH","Ben","M",2001,"U14","ASR","ASR",999.99,999.99]
[18912,"SMITH","Benjamin","M",1997,"U18","SPR","AMB",66.650000000000006,66.650000000000006]
[31569,"SMITH","Cameron","M",2003,"U12","ASC",null,999.99,999.99]
[21600,"SMITH","Euan","M",2000,"U16","ASR",null,199.42,137.52000000000001]
[20579,"SMITH","Gary","M",1984,"MAS","HEM",null,999.99,999.99]
[31187,"SMITH","Jack","M",1998,"U18","CSC",null,999.99,999.99]
[21595,"SMITH","James","M",1992,"SEN","MID","BRU",72.23,63.71]
[20187,"SMITH","James","M",1999,"U16","SMK","SPR",353.39,353.39]
[21605,"SMITH","Nathan","M",2002,"U14","ASR",null,999.99,138.38999999999999]
[20493,"SMITH","Oliver","M",1995,"U21","SAS","SAS",999.99,999.99]
[21102,"SMITH","Oscar","M",2002,"U14","ASR","ASR",999.99,192.41]
[31168,"SMITH","Ossian","M",2001,"U14","SSC",null,999.99,999.99]
[31221,"SMITH","Peter","M",2000,"U16",null,"SSC",284.42,256.66000000000003]
[31236,"SMITH","Roli","M",2004,"U12","MUC","SSC",999.99,999.99]
[21206,"SMITH","Samuel","M",1997,"U18","SMK","SMK",199.95,199.95]
[20994,"SMITH","Simon","M",1974,"MAS","LIO","LIO",362.65,999.99]
[22080,"SOMMERFIELD","George","M",1997,"U18","AVO","AVO",999.99,999.99]
[17932,"SOUTHALL","Frazer","M",1997,"U18","FLK",null,69.069999999999993,48.8]
[18378,"SOUTHALL","Merrick","M",2000,"U16","FLK",null,138.74,77.88]
[19749,"SPANTON","Nicholas","M",1965,"MAS","NOR",null,137.84,137.84]
[18417,"SPEARPOINT","Nicholas","M",1966,"MAS","OVL",null,213.27,213.27]
[20683,"SPEED","Craig","M",1999,"U16","ASR",null,95.84,61.38]
[31114,"SPEIR","Henry","M",1999,"U16","LSR",null,224.12,224.12]
[31157,"SPENCE","Matthew","M",2000,"U16","LSR",null,289.22000000000003,251.29]
[21757,"SPENCER","Samuel","M",1996,"U21","PLY",null,281.81,265.29000000000002]
[41445,"SPILL","George","M",1993,"SEN","CAR","BSA",231.48,999.99]
[41999,"STADEN","Samuel","M",2001,"U14","SSP","SSP",999.99,999.99]
[17385,"STAMMERS","Benjamin","M",1995,"U21","DHO","DHO",445.21,445.21]
[30526,"STANG","Alastair","M",1992,"SEN","SSC",null,14.27,23.96]
[22218,"STANLEY","Harvey","M",2005,"U10","SAS",null,999.99,999.99]
[21121,"STANWAY","Kayne","M",2005,"U10","SMK",null,999.99,999.99]
[21880,"STAYMAN","Harry","M",2004,"U12","SOU","SAS",999.99,999.99]
[36653,"STEDMAN","Joel","M",1997,"U18","MUC",null,999.99,999.99]
[31319,"STEEL","Bruno","M",2002,"U14","SSC",null,999.99,267.45]
[36589,"STEEL","Luc","M",2005,"U10","SSC",null,999.99,999.99]
[21057,"STEINER","Toby","M",2000,"U16",null,null,999.99,999.99]
[36586,"STEPHEN","Gordie","M",2005,"U10","GDN",null,999.99,999.99]
[31356,"STEPHEN","Lachlan","M",2001,"U14","SSC",null,283.89999999999998,241.2]
[17177,"STEUDLE","Roy","M",1993,"SEN",null,"AMB",142.51,999.99]
[14814,"STEVENS","Anthony","M",1962,"MAS",null,"ALU",999.99,999.99]
[19797,"STEVENSON","Christian","M",1998,"U18","TEL","TEL",144.85,93.97]
[18471,"STEVENSON","James","M",1994,"U21",null,"K",999.99,999.99]
[36644,"STEWART","James","M",2004,"U12","LSR",null,999.99,999.99]
[22130,"STOCKER","Charley","M",1968,"MAS","TSN",null,999.99,999.99]
[21698,"STOCKS","Elliot","M",2005,"U10","MSR","MSR",999.99,999.99]
[20477,"STORER","James","M",1998,"U18",null,"DHO",999.99,999.99]
[20479,"STORER","Toby","M",2003,"U12",null,"DHO",999.99,999.99]
[14808,"STRONG","Louis","M",1996,"U21",null,"K",999.99,999.99]
[14807,"STRONG","Oliver","M",1994,"U21",null,"K",999.99,999.99]
[31501,"STRUTHERS","Ailig","M",1999,"U16","SFR",null,241.69,379.54]
[21567,"STUART","Oliver","M",1999,"U16",null,null,999.99,999.99]
[30925,"STURROCK","Fraser","M",1997,"U18","SSC","GSR",140.85,140.85]
[21056,"SULEYMAN","Ata","M",2002,"U14","BRO","K",999.99,190.02]
[22123,"SUNDIN","Jacob","M",2006,"U10","LIO","LIO",999.99,999.99]
[21369,"SURMAN","Jake","M",1974,"MAS","LIO","LIO",234.05,283.97000000000003]
[31561,"SUTHERLAND","Finn","M",2003,"U12","LSR",null,999.99,999.99]
[8747,"SWINDELLS","Robert","M",1965,"MAS","LIO","LIO",189.33,252.86]
[19624,"SYMONS","Daniel","M",1995,"U21","CHT","CHT",81.8,19.899999999999999]
[21707,"TAMANA","Hari","M",2003,"U12","HEM","HEM",999.99,999.99]
[21147,"TANDY","Joshua","M",2004,"U12","FLK",null,999.99,999.99]
[20398,"TARANTELLI","Leone","M",1999,"U16",null,"BSA",999.99,999.99]
[20399,"TARANTELLI","Uberto","M",2000,"U16",null,"BSA",999.99,999.99]
[21550,"TARRANT","Toby","M",1997,"U18","MID",null,186.2,135.63]
[31305,"TATE","Thomas","M",1997,"U18","CSC",null,999.99,999.99]
[21527,"TATTERS","Ben","M",2001,"U14","SPR","SPR",999.99,999.99]
[21524,"TATTERS","Joshua","M",2003,"U12","SPR","SPR",999.99,999.99]
[20364,"TATTERSALL","James","M",1997,"U18","MSR","BSA",210.68,210.68]
[31562,"TAYLOR","Calum","M",2002,"U14","GSR",null,999.99,999.99]
[22047,"TAYLOR","Duncan","M",2000,"U16",null,null,999.99,999.99]
[31186,"TAYLOR","Finlay","M",1999,"U16","SSC",null,999.99,999.99]
[31563,"TAYLOR","Finlay","M",2004,"U12","GSR",null,999.99,999.99]
[18164,"TAYLOR","Laurie","M",1996,"U21",null,"BSA",421.44,421.44]
[31185,"TAYLOR","Lewis","M",1998,"U18","SSC",null,999.99,999.99]
[41876,"TAYLOR","Robert","M",1984,"MAS",null,null,999.99,999.99]
[31036,"TAYLOR","Ross","M",1995,"U21","GSR","SSC",28.81,28.81]
[20146,"TAYLOR-TIPTON","Curtis","M",1996,"U21","FF","FF",233.12,233.12]
[20147,"TAYLOR-TIPTON","Justin","M",2000,"U16","FF","FF",239.23,239.23]
[13773,"TEE","David","M",1990,"SEN","MSR","DRA",42.98,42.98]
[11915,"TELLING","Marc","M",1984,"MAS","HEM","AMB",16.91,16.91]
[12458,"TELLING","Paul","M",1982,"MAS","EVO","EVO",34.03,34.03]
[41851,"THOMAS","Benjamin","M",1998,"U18","CAR",null,110.74,110.74]
[18072,"THOMAS","Cameron","M",1997,"U18","TOQ","BSA",45.79,45.79]
[41661,"THOMAS","Cyffin","M",2000,"U16","DRA","DRA",167.53,266.12]
[21848,"THOMAS","Owen","M",2001,"U14","BFC","BSA",999.99,999.99]
[41974,"THOMAS","Pat","M",1960,"MAS","HEM",null,270.47000000000003,999.99]
[20884,"THOMPSON","Joseph","M",2003,"U12","NOR","ELI",999.99,999.99]
[13647,"THOMPSON","Matthew","M",1993,"SEN","HEM","K",3.71,3.71]
[20214,"THOMPSON","Peter","M",1995,"U21","KND",null,999.99,153.41999999999999]
[36670,"THOMSON","Fraser","M",2002,"U14","SFR",null,999.99,999.99]
[30987,"THOMSON","Ross","M",1999,"U16","SSC",null,502.51,502.51]
[19985,"THORNTON","Adam","M",2003,"U12","LIO","LIO",999.99,999.99]
[18652,"THORNTON","Luke","M",1998,"U18",null,"LIO",110.26,132.19]
[31557,"THORP","Cameron","M",2000,"U16","LSR",null,999.99,999.99]
[19077,"THURSFIELD","Emrys","M",1999,"U16","HEM","HEM",999.99,999.99]
[17950,"TODD-SAUNDERS","Samuel","M",1996,"U21","DHO","DHO",100.61,100.61]
[20811,"TOH","Alexander","M",2000,"U16","HEM","HEM",999.99,999.99]
[20812,"TOH","James","M",2000,"U16","HEM","HEM",999.99,999.99]
[17043,"TOMLINSON","Josef","M",1994,"U21","PPS","LIO",96.18,96.18]
[41919,"TOUCHE","Alexandre","M",1997,"U18","CAR",null,77.94,77.94]
[21862,"TOWNSEND","Alexander","M",1999,"U16","SAS",null,999.99,999.99]
[17467,"TREBILCOCK","Robert","M",1993,"SEN","HEM","HEM",13.23,13.58]
[20670,"TREUGE","Matthew","M",2002,"U14","MID","MID",999.99,999.99]
[21874,"TREVOR","Joseph","M",2001,"U14","SPR","SPR",999.99,999.99]
[21105,"TREVOR","Samuel","M",1999,"U16","SPR","SPR",999.99,999.99]
[20645,"TREW","Richard","M",2000,"U16","HEM","K",140.69,140.69]
[31270,"TRINDER","Jamie","M",1994,"U21",null,null,999.99,999.99]
[20687,"TROUNG","Aaron","M",2001,"U14","VIK","AMB",89.58,78.72]
[30869,"TROUP","Kieran","M",2000,"U16","GDN","BSA",999.99,999.99]
[22188,"TRUST","Alex","M",2000,"U16","HEM",null,999.99,168.1]
[21823,"TUBBS","Charlie","M",2003,"U12","TSN",null,999.99,999.99]
[13403,"TUCKER","Colin","M",1946,"MAS","SLP","K",989,989]
[12858,"TUCKER","William","M",1991,"SEN","LSU","LSU",58.62,99.74]
[22306,"TURNER","Alfie","M",2003,"U12","HEM",null,999.99,999.99]
[21627,"TURNER","Oliver","M",2000,"U16",null,"ASR",322.12,179.2]
[21265,"UNDERKOFFLER","Lucas","M",1996,"U21",null,null,999.99,999.99]
[21052,"UPTON","Jack","M",2004,"U12","MID",null,999.99,999.99]
[21051,"UPTON","Thomas","M",2001,"U14","MID",null,167.14,123.67]
[21197,"URQUHART","Aidan","M",2004,"U12","HEM","HEM",999.99,999.99]
[21196,"URQUHART","Colm","M",2001,"U14","HEM","HEM",416.92,416.92]
[9129,"URQUHART","John","M",1968,"MAS","HEM","HEM",138.44999999999999,138.44999999999999]
[22008,"VAGO","Peter","M",2005,"U10",null,null,999.99,999.99]
[20714,"VANBECK","Robert","M",1998,"U18","SMK",null,82.36,97.97]
[31078,"VAUGHAN","Seoras","M",1998,"U18","CSC",null,999.99,999.99]
[22052,"VAUGHTON","Max","M",1999,"U16","PND",null,999.99,999.99]
[20848,"VICKERS","Charlie","M",1999,"U16","SPR","SPR",999.99,999.99]
[21456,"VINCENT","Ben","M",2003,"U12","TSN","TSN",999.99,999.99]
[30923,"VINTER","Owen","M",2001,"U14","GSR",null,89.77,89.77]
[30831,"VINTER","Zak","M",1998,"U18","GSR",null,6.93,6.93]
[21765,"WADDINGTON","Thomas","M",1984,"MAS",null,null,999.99,999.99]
[20163,"WAGHORNE","Robert","M",1997,"U18","SMK","AMB",76.41,76.41]
[31213,"WAITT","Scott","M",2000,"U16","SSC",null,191.56,175.02]
[31125,"WAITT","Stuart","M",1999,"U16","SSC","LSR",183.37,162.04]
[41925,"WAJDA","Benjamin","M",1996,"U21",null,null,999.99,999.99]
[21448,"WALBRIDGE","James","M",1992,"SEN","PLY","PLY",288.41000000000003,288.41000000000003]
[14213,"WALKER","Edmund","M",1992,"SEN","MID","MID",77.16,54.38]
[21819,"WALKER","Reuben","M",2006,"U10",null,null,999.99,999.99]
[20065,"WALKER-MORETTI","Ralph","M",1998,"U18","MSR",null,67.25,67.25]
[21545,"WANG","Matt","M",1983,"MAS","HEM","IMP",210.53,219.51]
[31195,"WARD","Thomas","M",2002,"U14","GSR",null,175.01,999.99]
[18661,"WARMINGTON","Richard","M",1997,"U18","HEM","HEM",67.14,73.569999999999993]
[21641,"WARNER","Hugo","M",2002,"U14",null,"HEM",999.99,999.99]
[22196,"WARSOP","Rowan","M",2000,"U16","NOR",null,999.99,289.42]
[21495,"WASHER","Piers","M",1998,"U18","EVO","EVO",138.97,138.97]
[21145,"WATERSTON","Laughlan","M",1971,"MAS","HEM","HEM",255.98,255.98]
[41042,"WATSON","Andrew","M",1991,"SEN","CAR","DRA",0.41,0.41]
[31204,"WATSON","Jack","M",1999,"U16","BSC",null,220.3,220.3]
[36568,"WATSON","Ralph","M",1962,"MAS","ASC",null,403.93,999.99]
[41656,"WATTS","Llewellyn","M",2001,"U14","CAR",null,291.31,222.06]
[19564,"WAYLING","Lloyd","M",1995,"U21","NOR","BSA",32.97,32.97]
[22050,"WEBB","Andrew","M",2004,"U12","TEL","TEL",999.99,999.99]
[19702,"WEBB","Jamie","M",1998,"U18",null,"SMK",190.99,190.99]
[19051,"WEEKS","Oliver","M",2001,"U14","MID","DRA",70.989999999999995,59.18]
[17983,"WELLER","Mark","M",1992,"SEN","ASR",null,93.23,93.23]
[21811,"WELLS","Oliver","M",1994,"U21","HEM","GLO",999.99,53.4]
[36656,"WELSH","Cameron","M",2000,"U16","ASC",null,999.99,999.99]
[20313,"WESTERN","Aaron","M",1998,"U18","TEL","TEL",999.99,999.99]
[22162,"WESTON","Ryan","M",2000,"U16","FLK",null,999.99,201.62]
[31434,"WHATFORD","Ben","M",2005,"U10","GDN",null,999.99,999.99]
[14168,"WHEATMAN","Max","M",1993,"SEN","NOR","NOR",55.27,55.27]
[21857,"WHEELER","Ryan","M",1999,"U16","CHT",null,999.99,999.99]
[19209,"WHEELER","William","M",1997,"U18","HEM","TEL",56.86,56.86]
[12359,"WHELAN","Peter","M",1989,"SEN","SPR","SPR",502.72,502.72]
[21772,"WHIPP","Edward","M",2001,"U14","MSR","MSR",200.68,259.43]
[18467,"WHITE","Alex","M",1997,"U18","HEM",null,78.930000000000007,78.930000000000007]
[36580,"WHITE","John","M",1901,"MAS",null,null,999.99,999.99]
[18234,"WHITE","Thomas","M",1992,"SEN","AMB","AMB",28.18,40.520000000000003]
[19612,"WHITLEY","James","M",1997,"U18","K","K",999.99,999.99]
[18996,"WHITTALL","Joseph","M",1995,"U21","BRS","IMP",158.19,158.19]
[20159,"WHITTALL","Trevor","M",1958,"MAS","BRS","SAS",686.13,686.13]
[3199,"WHITTET","Jeremy","M",1967,"MAS","SSC",null,999.99,999.99]
[20637,"WIGMORE","Matthew","M",1996,"U21","NOR",null,49.04,47]
[30785,"WILD","Brett","M",1992,"SEN","GSR",null,999.99,999.99]
[36579,"WILD","Oscar","M",2008,"U8",null,null,999.99,999.99]
[42038,"WILEY","Casper","M",2006,"U10","WWS",null,999.99,999.99]
[19346,"WILKINS","Simon","M",1992,"SEN",null,null,171.59,171.59]
[31128,"WILLIAMS","Conway","M",1965,"MAS","GSR","SSC",142.16,142.16]
[21786,"WILLIAMS","Jack","M",2005,"U10",null,"MSR",999.99,999.99]
[36578,"WILLIAMS","John","M",2008,"U8",null,null,999.99,999.99]
[21563,"WILLIAMS","Lewis","M",1999,"U16","AVO","AVO",414.39,359.89]
[18813,"WILLIAMS","Marcus","M",1996,"U21","NOR","K",999.99,999.99]
[20729,"WILLIAMS","Matthew","M",2004,"U12","TEL",null,999.99,999.99]
[18022,"WILLIAMS","Sam","M",1997,"U18","SAS","IMP",84.66,103.02]
[30998,"WILLIAMS","Scott","M",1999,"U16","GSR","SSC",121.49,125.11]
[21103,"WILLIAMS-GRAVENER","David","M",2001,"U14","FLK","DHO",185.75,168.76]
[36577,"WILLIAMSON","Andrew","M",1985,"SEN",null,null,999.99,999.99]
[20613,"WILLIS","James","M",2001,"U14","SMK","SMK",206.92,210.65]
[17930,"WILLIS","Robert","M",1996,"U21","AMB","AMB",497.44,497.44]
[36576,"WILLIS","Stephen","M",1976,"MAS",null,null,999.99,999.99]
[18558,"WILLOWS","Laurence","M",1996,"U21","BRO",null,38.72,28.77]
[20290,"WILLS","Angus","M",1999,"U16",null,"BSA",999.99,999.99]
[20710,"WILMOT","Jack","M",2000,"U16","SPR","SPR",999.99,999.99]
[31255,"WILOWSKI","Kazimierz","M",2000,"U16","GDN",null,999.99,999.99]
[21362,"WILSON","Geoffrey","M",1996,"U21","VIK",null,999.99,275.12]
[36575,"WILSON","Inez","M",2008,"U8",null,null,999.99,999.99]
[31063,"WISE","Kyle","M",1989,"SEN","P3",null,999.99,999.99]
[19420,"WITTS","Callum","M",1998,"U18","PND",null,41.19,19.16]
[18512,"WITTS","Kaigan","M",1994,"U21","PND","PND",52.64,43.1]
[31512,"WOOD","Edmund","M",1999,"U16","DHO","LSR",186.94,999.99]
[42037,"WOOD","Tom","M",2000,"U16",null,null,252.43,999.99]
[20814,"WOODWARD","Stewart","M",1955,"MAS",null,null,999.99,999.99]
[21837,"WOOLLEY","Kieran","M",2005,"U10","MID","WM",999.99,999.99]
[21594,"WORTT","Aaron","M",1999,"U16","ASR",null,159.6,104.47]
[36572,"WRIGHT","Alex","M",1994,"U21",null,null,999.99,999.99]
[19419,"WRIGHT","Alexander","M",1994,"U21","GLO","IMP",108.59,108.59]
[31089,"WRIGHT","Dewar","M",1999,"U16","SSC",null,76.430000000000007,76.430000000000007]
[41977,"WYLIE","Callum","M",1999,"U16",null,null,999.99,999.99]
[31523,"WYLIE","Gordon","M",2005,"U10","GSR",null,999.99,999.99]
[31176,"WYLIE","Scott","M",2001,"U14","GSR",null,116.1,127.89]
[36570,"YELLOWLEES","Jamie","M",1994,"U21",null,null,999.99,999.99]
[31310,"YOUNG","Gregor","M",1995,"U21","HNC",null,999.99,999.99]
[21709,"YUNG","Adrian","M",2004,"U12","BRS","DHO",999.99,999.99]
[21710,"YUNG","HauTak","M",2002,"U14","BRS","DHO",999.99,999.99]
[21779,"ZIELEZNIK","Ben","M",2005,"U10",null,"SPR",999.99,999.99]
[21093,"ZIELEZNIK","Oskar","M",2004,"U12",null,"SPR",999.99,999.99]

{"sheet":"Latest Points (2014.3)","index":7,"n_rows":55,"n_cols":10,"rows_kept":55,"cut":false,"hidden":true,"merged":[]}
["REGNO","SURNAME","FORENAME","SEX","YOB","CAT","CLUB1","CLUB2","iBARTS 14.3 PTS","oBARTS 14.3 PTS"]
[20168,"BILL","Rachel","F",1990,"SEN","MID","MID",23.81,23.81]
[19983,"CARE","Chloe","F",1998,"U18","MID",null,203.01,203.01]
[17888,"DELLER","Lucy","F",1996,"U21","MID","DRA",25.68,25.68]
[19573,"DOHERTY","Robyn","F",1996,"U21","MID",null,636.34,636.34]
[19165,"ELGY","Geraldine","F",1954,"MAS","MID",null,330.25,330.25]
[22176,"GILES","Ella","F",2003,"U12","MID",null,999.99,999.99]
[18617,"HANCOCK","Maxine","F",1997,"U18","MID","SMK",74.28,74.28]
[21569,"HEMMING","Anya","F",2005,"U10","MID",null,999.99,999.99]
[22015,"LLEWELLYN","Aaliyah","F",2006,"U10","MID","WM",999.99,999.99]
[21014,"MAYHEW","Jessica","F",2000,"U16","MID","MID",84.18,47.77]
[20307,"MIDDLETON","Amy","F",1995,"U21","MID",null,51.15,49.89]
[20696,"NEWBOULT","Helena","F",1998,"U18","MID","MID",27.39,27.39]
[20809,"O'BRIEN","Matilda","F",2004,"U12","MID",null,999.99,999.99]
[18033,"THOMAS","Elisabeth","F",1996,"U21","MID","DRA",72.7,67.69]
[20669,"TREUGE","Lauren","F",2003,"U12","MID",null,999.99,999.99]
[13381,"VERNON","Rowan","F",1988,"SEN","MID","MID",32.840000000000003,32.840000000000003]
[22198,"BAILEY","Noah","M",2006,"U10","MID","WM",999.99,999.99]
[19704,"BEARDMORE","Adam","M",1986,"SEN","MID",null,35.26,35.26]
[20590,"CARE","James","M",2002,"U14","MID",null,999.99,398.04]
[5666,"CROMBLEHOLME","Roger","M",1957,"MAS","MID","TEL",120.35,120.35]
[17039,"DELLER","Philip","M",1959,"MAS","MID",null,780.34,780.34]
[20846,"DEWISON","Samuel","M",1998,"U18","MID","MID",119.86,103.46]
[19572,"DOHERTY","Samuel","M",1999,"U16","MID",null,257.08999999999997,257.08999999999997]
[12318,"DU PLESSIS","Andrew","M",1985,"SEN","MID","DHO",23.04,23.04]
[19166,"ELGY","James","M",1993,"SEN","MID",null,166.36,166.36]
[19164,"ELGY","John","M",1951,"MAS","MID",null,332.56,332.56]
[21084,"EMMERSON","Philip","M",1990,"SEN","MID",null,57.73,42.32]
[20677,"FROST","Joey","M",1995,"U21","MID",null,127.79,127.79]
[22203,"GILES","Daniel","M",2003,"U12","MID",null,999.99,999.99]
[20719,"HADLEY","Daniel","M",2004,"U12","MID","SMK",999.99,999.99]
[17037,"HANCOCK","David","M",1964,"MAS","MID","SMK",999.99,999.99]
[19163,"HAWKINS","Mark","M",1979,"MAS","MID",null,61.45,57.1]
[21075,"HEARD","Jake","M",1998,"U18","MID",null,999.99,999.99]
[19829,"HEMMING","Ethan","M",2001,"U14","MID","MID",150.21,114.45]
[17356,"HORNSBY","Harry","M",1991,"SEN","MID","MID",5.41,5.28]
[21633,"KIRKLAND","Matthew","M",1992,"SEN","MID","MID",345.98,345.98]
[19941,"LAWRENCE","Thomas","M",1999,"U16","MID","DRA",144.61000000000001,119.4]
[41662,"LEE","Sam","M",1996,"U21","MID",null,128.82,128.82]
[18509,"MILLER","Gareth","M",1994,"U21","MID","SAS",71.069999999999993,73.98]
[19737,"O'BRIEN","Seamus","M",2002,"U14","MID","EVO",122.26,999.99]
[17840,"PHELPS","Nicholas","M",1997,"U18","MID","MID",70.34,70.34]
[41722,"RIGBY","Jack","M",1995,"U21","MID","IMP",42.49,50.4]
[19910,"RIGBY","Jordan","M",2000,"U16","MID","IMP",111.82,111.82]
[21595,"SMITH","James","M",1992,"SEN","MID","BRU",72.23,63.71]
[21550,"TARRANT","Toby","M",1997,"U18","MID",null,186.2,135.63]
[20670,"TREUGE","Matthew","M",2002,"U14","MID","MID",999.99,999.99]
[21052,"UPTON","Jack","M",2004,"U12","MID",null,999.99,999.99]
[21051,"UPTON","Thomas","M",2001,"U14","MID",null,167.14,123.67]
[14213,"WALKER","Edmund","M",1992,"SEN","MID","MID",77.16,54.38]
[19051,"WEEKS","Oliver","M",2001,"U14","MID","DRA",70.989999999999995,59.18]
[21837,"WOOLLEY","Kieran","M",2005,"U10","MID","WM",999.99,999.99]
[41578,"LEE","Adam","M",1994,"U21","PND","MID",38.93,36.39]
[17479,"POWELL","Jonathan","M",1986,"SEN","RAV","MID",18.72,18.72]
[19379,"GUY","Edward","M",2001,"U14","TEL","MID",238.89,138.32]