{"text_format":"1","workbook":"xlsx","n_sheets":12,"sheets":["Races, Positions & Points","Points Rules","Individual Statistics","Club Statistics","Attendance","Points Calculation","Age Calculation","Start of Year Points","2014.1","2014.2","2014.3","Latest Points (2014.3)"],"not_rendered":{"charts":0,"images":0,"macros":1,"external_links":0,"defined_names":5,"comments":0,"pivot_tables":0},"unopened":[],"bounds":{"document_bytes":16777216,"sheet_cells":100000,"rows_first":2000,"rows_last":500,"rows_between":2000,"halvings":0,"cell_chars":16384,"cell_head_chars":4096},"cells_cut":0,"cells_raw":0,"read":"whole","date_system":"1900"}

{"sheet":"Races, Positions & Points","index":0,"n_rows":134,"n_cols":190,"rows_kept":134,"cut":false,"hidden":false,"merged":[[3,186,3,189],[4,181,5,181],[4,182,5,182],[4,183,5,183],[4,184,5,184],[4,186,5,186],[4,187,5,187],[4,188,5,188],[4,189,5,189],[0,143,0,144],[0,146,0,147],[0,149,0,150],[0,152,0,153],[3,175,3,179],[3,169,3,173],[3,181,3,184],[3,155,3,156],[3,158,3,159],[0,155,0,156],[0,158,0,159],[0,137,0,138],[0,80,0,81],[0,83,0,84],[0,87,0,88],[0,90,0,91],[0,93,0,94],[0,96,0,97],[0,99,0,100],[0,140,0,141],[4,56,5,56],[4,57,5,57],[4,58,5,58],[4,3,5,3],[0,123,0,124],[0,126,0,127],[0,129,0,130],[0,134,0,135],[4,74,5,74],[4,75,5,75],[4,76,5,76],[4,77,5,77],[4,62,5,62],[4,63,5,63],[4,64,5,64],[4,68,5,68],[4,69,5,69],[4,65,5,65],[4,66,5,66],[4,67,5,67],[4,87,5,87],[4,88,5,88],[4,89,5,89],[4,90,5,90],[4,1,5,1],[4,13,5,13],[4,5,5,5],[4,18,5,18],[4,21,5,21],[4,24,5,24],[4,33,5,33],[4,34,5,34],[4,35,5,35],[4,30,5,30],[4,31,5,31],[4,22,4,23],[4,91,5,91],[4,78,5,78],[4,79,5,79],[4,80,5,80],[4,81,5,81],[4,82,5,82],[4,97,5,97],[4,98,5,98],[4,99,5,99],[4,100,5,100],[4,101,5,101],[4,92,5,92],[4,93,5,93],[4,94,5,94],[4,95,5,95],[4,96,5,96],[4,107,5,107],[4,108,5,108],[4,109,5,109],[4,110,5,110],[4,111,5,111],[4,102,5,102],[4,103,5,103],[4,104,5,104],[4,105,5,105],[4,106,5,106],[4,117,5,117],[4,118,5,118],[4,119,5,119],[4,120,5,120],[4,121,5,121],[4,112,5,112],[4,113,5,113],[4,114,5,114],[4,115,5,115],[4,116,5,116],[4,127,5,127],[4,128,5,128],[4,129,5,129],[4,130,5,130],[4,131,5,131],[4,122,5,122],[4,123,5,123],[4,124,5,124],[4,125,5,125],[4,126,5,126],[4,144,5,144],[4,145,5,145],[4,146,5,146],[4,137,5,137],[4,138,5,138],[4,139,5,139],[4,140,5,140],[4,141,5,141],[4,132,5,132],[4,133,5,133],[4,134,5,134],[4,135,5,135],[4,136,5,136],[4,164,5,164],[4,161,5,161],[4,162,5,162],[4,71,5,71],[4,72,5,72],[4,73,5,73],[4,86,5,86],[4,157,5,157],[4,158,5,158],[4,159,5,159],[4,160,5,160],[4,163,5,163],[4,152,5,152],[4,153,5,153],[4,154,5,154],[4,155,5,155],[4,156,5,156],[4,147,5,147],[4,148,5,148],[4,149,5,149],[4,150,5,150],[4,151,5,151],[4,142,5,142],[4,143,5,143],[6,2,6,4],[4,36,5,36],[4,40,5,40],[4,83,5,83],[4,84,5,84],[4,85,5,85],[4,32,5,32],[4,28,5,28],[4,29,5,29],[4,25,5,25],[4,26,5,26],[4,27,5,27],[4,41,5,41],[4,42,5,42],[4,43,5,43],[4,37,5,37],[4,38,5,38],[4,39,5,39],[4,47,5,47],[4,48,5,48],[4,49,5,49],[4,44,5,44],[4,70,5,70],[4,61,5,61],[4,166,5,166],[4,167,5,167],[86,24,86,28],[3,25,3,26],[3,30,3,31],[3,44,3,45],[3,47,3,48],[3,50,3,51],[3,53,3,54],[3,56,3,57],[3,59,3,60],[3,68,3,69],[3,74,3,75],[3,80,3,81],[4,45,5,45],[4,46,5,46],[4,53,5,53],[4,54,5,54],[4,55,5,55],[4,50,5,50],[4,51,5,51],[4,52,5,52],[4,59,5,59],[4,60,5,60],[3,137,3,138],[3,140,3,141],[3,143,3,144],[3,146,3,147],[3,152,3,153],[3,149,3,150],[3,117,3,118],[3,123,3,124],[3,126,3,127],[3,129,3,130],[3,134,3,135],[3,120,3,121],[0,25,0,26],[0,30,0,31],[0,33,0,34],[0,37,0,38],[0,41,0,42],[3,87,3,88],[3,83,3,84],[3,77,3,78],[3,62,3,63],[0,44,0,45],[0,47,0,48],[0,50,0,51],[0,53,0,54],[0,56,0,57],[0,59,0,60],[0,62,0,63],[0,65,0,66],[0,68,0,69],[0,71,0,72],[0,74,0,75],[0,77,0,78],[1,120,1,122],[0,102,0,103],[0,105,0,106],[0,108,0,109],[0,111,0,112],[0,114,0,115],[3,41,3,42],[3,37,3,38],[3,33,3,34],[3,90,3,91],[3,105,3,106],[3,108,3,109],[3,111,3,112],[3,114,3,115],[3,102,3,103],[3,99,3,100],[3,96,3,97],[3,93,3,94],[0,117,0,118],[0,120,0,121]]}
[2014,null,"BARTS Points Races",null,null,null,null,null,null,null,null,null,null,null,null,null,null,null,null,null,null,null,null,null,"DATE","2014-03-08",null,1,"2014-03-12",{"$f":"1+AB1","v":2},"2014-04-19",null,{"$f":"1+AD1","v":3},"2014-04-26",null,null,{"$f":"1+AG1","v":4},"2014-04-27",null,null,{"$f":"1+AK1","v":5},"2014-05-03",null,{"$f":"1+AO1","v":6},"2014-05-04",null,{"$f":"1+AR1","v":7},"2014-05-10",null,{"$f":"1+AU1","v":8},"2014-05-11",null,{"$f":"1+AX1","v":9},"2014-05-17",null,{"$f":"1+BA1","v":10},"2014-05-18",null,{"$f":"1+BD1","v":11},"2014-05-31",null,{"$f":"1+BG1","v":12},"2014-06-07",null,{"$f":"1+BJ1","v":13},"2014-06-07",null,{"$f":"1+BM1","v":14},"2013-06-08",null,{"$f":"1+BP1","v":15},"2014-06-08",null,{"$f":"1+BS1","v":16},"2014-06-14",null,{"$f":"1+BV1","v":17},"2014-06-14",null,{"$f":"1+BY1","v":18},"2014-06-15",null,{"$f":"1+CB1","v":19},"2014-06-15",null,null,{"$f":"1+CE1","v":20},"2014-06-21",null,{"$f":"1+CI1","v":21},"2014-06-22",null,{"$f":"1+CL1","v":22},"2014-06-22",null,{"$f":"1+CO1","v":23},"2014-06-28",null,{"$f":"1+CR1","v":24},"2014-06-29",null,{"$f":"1+CU1","v":25},"2014-07-05",null,{"$f":"1+CX1","v":26},"2014-07-06",null,{"$f":"1+DA1","v":27},"2014-07-12",null,{"$f":"1+DD1","v":28},"2014-07-13",null,{"$f":"1+DG1","v":29},"2014-07-19",null,{"$f":"1+DJ1","v":30},"2014-07-20",null,{"$f":"1+DM1","v":31},"2014-07-20",null,{"$f":"1+DP1","v":32},"2014-08-16",null,{"$f":"1+DS1","v":33},"2014-08-17",null,{"$f":"1+DV1","v":34},"2014-08-23",null,{"$f":"1+DY1","v":35},"2014-08-24",{"$f":"1+EB1","v":36},"2014-08-30",null,{"$f":"1+ED1","v":37},"2014-09-06",null,{"$f":"1+EG1","v":38},"2014-09-07",null,{"$f":"1+EJ1","v":39},"2014-09-13",null,{"$f":"1+EM1","v":40},"2014-09-14",null,{"$f":"1+EP1","v":41},"2013-09-15",null,{"$f":"1+ES1","v":42},"2014-09-27",null,{"$f":"1+EV1","v":43},"2014-10-04",null,{"$f":"1+EY1","v":44},"2014-10-05",null,{"$f":"1+FB1","v":45},"?",{"$f":"1+FE1","v":46},"2014-11-09",{"$f":"1+FG1","v":47}]
["Interactive Results",null,null,null,null,null,null,null,null,null,null,null,null,null,null,null,null,null,null,null,null,null,null,null,"EVENT","Excel",null,null,"BUISC",null,"SSW Champery",null,null,"Telford CN",null,null,null,"Manchester CN",null,null,null,"Pendle CN",null,null,"GBR Outdoor #1",null,null,"GBR Indoor #1",null,null,"GBR Indoor #2",null,null,"GBR Outdoor #2",null,null,"GBR Outdoor #3",null,null,"GBR Outdoor #4",null,null,"Ravens",null,null,"Twin Peaks 1",null,null,"GBR Outdoor #5",null,null,"Twin Peaks 2",null,null,"GBR Indoor #3",null,null,"Bromley CN",null,null,"Scottish Indoor",null,null,"Hemel CN",null,null,null,"Norfolk CN",null,null,"GBR Indoor #4",null,null,"Suffolk CN",null,null,"Midland CN",null,null,"Gloucester CN",null,null,"Welwyn CN",null,null,"GBR Outdoor #6",null,null,"GBR Indoor #5",null,null,"GBR Indoor #6",null,null,"BIGP #3",null,null,"BIGP #4",null,null,"Snowsport South CN",null,null,"BIGP #5",null,null,"BIGP #6",null,null,"Scottish Champs",null,null,"Scottish GS",null,"All England",null,null,"Anglo Welsh Indoor",null,null,"British Indoor",null,null,"Welsh ",null,null,"British",null,null,"Craig McFie Classic",null,null,"BARSC Indoor",null,null,"Irish Champs",null,null,"Irish Champs",null,null,"Bairns/Lassies",null,"BUDS"]
["Race Registration",null,null,null,null,null,null,null,null,null,null,null,null,null,null,null,null,null,null,null,null,null,null,null,"VENUE","Pontypool",null,null,"Castleford",null,"Gloucester",null,null,"Chill Factore",null,null,null,"Chill Factore",null,null,null,"Pendle",null,null,"Pendle",null,null,"Castleford",null,null,"Castleford",null,null,"Pontypool",null,null,"Pontypool",null,null,"Gloucester",null,null,"Sunderland",null,null,"Firpark",null,null,"Sunderland",null,null,"HillEnd",null,null,"Braehead",null,null,"Bromley ",null,null,"Breahead",null,null,"Snow Centre",null,null,null,"Norwich",null,null,"Chill Factore",null,null,"Ipswich",null,null,"Gloucester",null,null,"Gloucester",null,null,"Welwyn CN",null,null,"Gloucester",null,null,"Chill Factore",null,null,"Chill Factore",null,null,"Castleford",null,null,"Castleford",null,null,"Southampton",null,null,"Castleford",null,null,"Castleford",null,null,"HillEnd",null,null,"HillEnd",null,"Norwich",null,null,"Chill Factore",null,null,"Chill Factore",null,null,"Pontypool",null,null,"Pontypool",null,null,"HillEnd",null,null,"Chill Factore",null,null,"Kilternan",null,null,"Kilternan",null,null,"HillEnd",null,"HillEnd"]
[null,null,null,null,null,null,null,null,null,null,null,null,null,null,null,null,null,null,null,null,null,null,null,null,"Min",40,null,"Out",5,"In",5,null,"Out",10,null,null,"In",10,null,null,"In",10,null,"Out",5,null,"Out",5,null,"In",5,null,"In",5,null,"Out",5,null,"Out",5,null,"Out",10,null,"Out",10,"pts","Out",5,null,"Out",10,"pts","Out",5,null,"In",10,null,"Out",0,null,"In",10,null,null,"In",10,null,"Out",5,null,"In",10,null,"Out",10,null,"Out",10,null,"Out",10,null,"Out",5,null,"Out",5,null,"In",5,null,"In",5,null,"In",5,null,"In",10,null,"Out",5,null,"In",5,null,"In",0,null,"Out",null,"Out",0,null,"Out",0,null,"In",0,null,"In",0,null,"Out",0,null,"Out",10,null,"Out",0,null,"In",0,null,"Out",0,null,"Out",null,"Out",0,"Out",null,null,null,null,"outdoor",null,null,null,null,null,"indoor",null,null,null,null,null,"outdoor",null,null,null,null,"indoor"]
["Britski","M/F",null,"AGE GROUP","REG","PAST","POINTS","POINTS","POINTS","POINTS","POINTS","POINTS","POINTS","CURRENT","ACTIVE","ACTIVE","NEXT","NEXT","FUTURE","POINTS","POINTS","CHANGE",2014,null,"Position/ Points","Overall","Age","Event Points","Overall","Event Points","Overall","Age","Event Points","Overall","Age","Run1 Points","Run 2 Points","Overall","Age","Run1 Points","Run 2 Points","Overall","Age","Event Points","Overall","Age","Event Points","Overall","Age","Event Points","Overall","Age","Event Points","Overall","Age","Event Points","Overall","Age","Event Points","Overall","Age","Event Points","Overall","Age","Event Points","Overall","Age","Event Points","Overall","Age","Event Points","Overall","Age","Event Points","Overall","Age","Event Points","Overall","Age","Event Points","Overall","Age","Event Points","Overall","Age","Run1 Points","Run 2 Points","Overall","Age","Event Points","Overall","Age","Event Points","Overall","Age","Event Points","Overall","Age","Event Points","Overall","Age","Event Points","Overall","Age","Event Points","Overall","Age","Event Points","Overall","Age","Event Points","Overall","Age","Event Points","Overall","Age","Event Points","Overall","Age","Event Points","Overall","Age","Event Points","Overall","Age","Event Points","Overall","Age","Event Points","Overall","Age","Event Points","Overall","Age","Overall","Age","Event Points","Overall","Age","Event Points","Overall","Age","Event Points","Overall","Age","Event Points","Overall","Age","Event Points","Overall","Age","Event Points","Overall","Age","Event Points","Overall","Age","Event Points","Overall","Age","Event Points","Overall","Age","Overall","Event Points",null,"Overall Podiums","Age Group Podiums",null,null,null,null,null,null,null,null,null,null,null,null,null,{"$f":"'Points Calculation'!BJ1","v":"Best Race Points"},{"$f":"'Points Calculation'!BK1","v":"Second Best Race Points"},{"$f":"'Points Calculation'!BL1","v":"Points Calc Based on Best Two Races"},{"$f":"'Points Calculation'!BO1","v":"Points"},null,{"$f":"'Points Calculation'!BS1","v":"Best Race Points"},{"$f":"'Points Calculation'!BT1","v":"Second Best Race Points"},{"$f":"'Points Calculation'!BU1","v":"Points Calc Based on Best Two Races"},{"$f":"'Points Calculation'!BX1","v":"Points"}]
["Seeding",null,"YEAR",null,"NUM",null,2014,"o-2014.1","i-2014.1","o-2014.2","i-2014.2","o-2014.3","i-2014.3",null,"o-2014.4","i-2014.4","o-2014.5","i-2014.5",null,"o-2014.6","i-2014.6",null,"oBARTS","iBARTS",null,null,null,null,null,null,null,null,null,null,null,null,null,null,null,null,null,null,null,null,null,null,null,null,null,null,null,null,null,null,null,null,null,null,null,null,null,null,null,null,null,null,null,null,null,null,null,null,null,null,null,null,null,null,null,null,null,null,null,null,null,null,null,null,null,null,null,null,null,null,null,null,null,null,null,null,null,null,null,null,null,null,null,null,null,null,null,null,null,null,null,null,null,null,null,null,null,null,null,null,null,null,null,null,null,null,null,null,null,null,null,null,null,null,null,null,null,null,null,null,null,null,null,null,null,null,null,null,null,null,null,null,null,null,null,null,null,null,null,null,null,null,null,null,null,"5 point ",2014,"Diff","% Diff","Start *",null,"5 point ",2014,"Diff","% Diff","Start *"]
["GIRLS",null,null,null,null,null,null,null,null,null,null,null,null,null,null,null,null,null,null,null,null,null,null,null,null,null,null,null,null,null,null,null,null,null,null,null,null,null,null,null,null,null,null,null,null,null,null,null,null,null,null,null,null,null,null,null,null,null,null,null,null,null,null,null,null,null,null,null,null,null,null,null,null,null,null,null,null,null,null,null,null,null,null,null,null,null,null,null,null,null,null,null,null,null,null,null,null,null,null,null,null,null,null,null,null,null,null,null,null,null,null,null,null,null,null,null,null,null,null,null,null,null,null,null,null,null,null,null,null,null,null,null,null,null,null,null,null,null,null,null,null,null,null,null,null,null,null,null,null,null,null,null,null,null,null,null,null,null,null,null,null,null,null,null,null,null," "," "]
["Lauren Treuge","F",2003,{"$f":"INDEX('Age Calculation'!$A$1:'Age Calculation'!$Q$108,MATCH(C8,'Age Calculation'!$A$1:'Age Calculation'!$A$108),MATCH($A$1,'Age Calculation'!$A$1:'Age Calculation'!$Q$1))","v":"U12"},20669,null,999.99,999.99,999.99,999.99,999.99,999.99,999.99,null,999.99,999.99,999.99,999.99,null,999.99,999.99,null,{"$f":"IF(E8<999.99,IF(MIN(H8,R8)<E8,MIN(H8,R8)-E8,\"\"),\"\")","v":""},{"$f":"IF(G8<999.99,IF(MIN(I8,T8)<G8,MIN(I8,T8)-G8,\"\"),\"\")","v":""},null,null,null,null,null,null,null,null,null,null,null,null,null,null,null,null,null,null,null,null,null,null,null,null,null,null,null,null,null,null,null,null,null,null,null,null,null,null,null,null,null,null,null,null,null,null,null,null,null,null,null,null,null,null,null,null,null,null,null,null,null,null,null,null,null,null,null,null,null,null,null,null,7,4,999.99,6,3,999.99,null,null,null,null,null,null,null,null,null,null,null,null,null,null,null,null,null,null,null,null,null,null,null,null,null,null,null,null,null,null,null,null,null,null,null,null,null,null,null,null,null,null,null,null,null,null,null,null,null,null,null,null,null,null,null,null,null,null,null,null,null,null,null,null,null,{"$f":"SUM((AA$5:FJ$5=\"Age\")*(AA8:FJ8<=3))-SUM((AA$5:FJ$5=\"Age\")*(AA8:FJ8=0))","v":1}]
["Tilley O'Brien","F",2004,{"$f":"INDEX('Age Calculation'!$A$1:'Age Calculation'!$Q$108,MATCH(C9,'Age Calculation'!$A$1:'Age Calculation'!$A$108),MATCH($A$1,'Age Calculation'!$A$1:'Age Calculation'!$Q$1))","v":"U12"},20809,null,999.99,999.99,999.99,999.99,999.99,999.99,999.99,null,999.99,999.99,999.99,999.99,null,999.99,999.99,null,{"$f":"IF(E9<999.99,IF(MIN(H9,R9)<E9,MIN(H9,R9)-E9,\"\"),\"\")","v":""},{"$f":"IF(G9<999.99,IF(MIN(I9,T9)<G9,MIN(I9,T9)-G9,\"\"),\"\")","v":""},null,null,null,null,null,null,null,null,null,1,1,999.99,999.99,1,1,999.99,999.99,null,null,null,null,null,null,2,2,999.99,2,2,999.99,null,null,null,null,null,null,null,null,null,null,null,null,null,null,null,null,null,null,null,null,null,null,null,null,null,null,null,null,null,null,1,1,999.99,999.99,null,null,null,null,null,null,null,null,null,null,null,null,null,null,null,null,null,null,null,null,null,null,null,null,null,null,null,1,1,999.99,1,1,999.99,null,null,null,1,1,999.99,2,2,999.99,null,null,null,null,null,null,null,null,1,1,999.99,null,null,null,null,null,null,null,null,null,null,null,null,null,null,null,null,null,null,null,null,null,null,null,null,null,null,null,{"$f":"SUM((AA$5:FJ$5=\"Age\")*(AA9:FJ9<=3))-SUM((AA$5:FJ$5=\"Age\")*(AA9:FJ9=0))","v":10}]
["Ella Giles","F",2003,{"$f":"INDEX('Age Calculation'!$A$1:'Age Calculation'!$Q$108,MATCH(C10,'Age Calculation'!$A$1:'Age Calculation'!$A$108),MATCH($A$1,'Age Calculation'!$A$1:'Age Calculation'!$Q$1))","v":"U12"},22176,null,999.99,999.99,999.99,999.99,999.99,999.99,999.99,null,999.99,999.99,999.99,999.99,null,999.99,999.99,null,{"$f":"IF(E10<999.99,IF(MIN(H10,R10)<E10,MIN(H10,R10)-E10,\"\"),\"\")","v":""},{"$f":"IF(G10<999.99,IF(MIN(I10,T10)<G10,MIN(I10,T10)-G10,\"\"),\"\")","v":""},null,null,null,null,null,null,null,null,null,null,null,null,null,null,null,null,null,null,null,null,null,null,null,null,null,null,null,null,null,null,null,null,null,null,null,null,null,null,null,null,null,null,null,null,null,null,null,null,null,null,null,null,null,null,null,null,null,null,null,null,null,null,null,null,null,null,null,null,null,null,null,null,4,2,999.99,"DNS","DNS","DNS",null,null,null,null,null,null,null,null,null,null,null,null,null,null,null,null,null,null,null,null,null,null,null,null,null,null,null,null,null,null,null,null,null,null,null,null,null,null,null,null,null,null,null,null,null,null,null,null,null,null,null,null,null,null,null,null,null,null,null,null,null,null,null,null,null,{"$f":"SUM((AA$5:FJ$5=\"Age\")*(AA10:FJ10<=3))-SUM((AA$5:FJ$5=\"Age\")*(AA10:FJ10=0))","v":1}]
["Anya Hemming","F",2005,{"$f":"INDEX('Age Calculation'!$A$1:'Age Calculation'!$Q$108,MATCH(C11,'Age Calculation'!$A$1:'Age Calculation'!$A$108),MATCH($A$1,'Age Calculation'!$A$1:'Age Calculation'!$Q$1))","v":"U10"},21569,null,999.99,999.99,999.99,999.99,999.99,999.99,999.99,null,999.99,999.99,999.99,999.99,null,999.99,999.99,null,{"$f":"IF(E11<999.99,IF(MIN(H11,R11)<E11,MIN(H11,R11)-E11,\"\"),\"\")","v":""},{"$f":"IF(G11<999.99,IF(MIN(I11,T11)<G11,MIN(I11,T11)-G11,\"\"),\"\")","v":""},null,null,null,null,null,null,null,null,null,null,null,null,null,null,null,null,null,4,2,999.99,6,3,999.99,null,null,null,null,null,null,4,2,999.99,4,2,999.99,4,3,999.99,5,3,999.99,null,null,null,4,2,999.99,null,null,null,null,null,null,2,1,999.99,null,null,null,null,null,null,null,3,1,999.99,null,null,null,7,1,999.99,9,4,999.99,8,4,999.99,2,1,999.99,null,null,null,null,null,null,null,null,null,null,null,null,null,null,null,3,2,999.99,null,null,null,null,null,null,null,null,null,null,null,null,null,null,null,null,null,null,null,null,null,null,null,null,null,null,null,null,null,null,null,null,null,null,null,null,null,null,null,null,null,null,null,null,{"$f":"SUM((AA$5:FJ$5=\"Age\")*(AA11:FJ11<=3))-SUM((AA$5:FJ$5=\"Age\")*(AA11:FJ11=0))","v":12}]
["Aaliyah Llewellyn","F",2006,{"$f":"INDEX('Age Calculation'!$A$1:'Age Calculation'!$Q$108,MATCH(C12,'Age Calculation'!$A$1:'Age Calculation'!$A$108),MATCH($A$1,'Age Calculation'!$A$1:'Age Calculation'!$Q$1))","v":"U10"},22015,null,999.99,999.99,999.99,999.99,999.99,999.99,999.99,null,999.99,999.99,999.99,999.99,null,999.99,999.99,null,null,null,null,null,null,null,null,null,null,null,null,null,null,null,null,null,null,null,null,null,null,null,null,null,null,null,null,null,null,null,null,null,null,null,null,null,null,null,null,null,null,null,null,null,null,null,null,null,null,null,null,null,null,null,null,null,null,null,null,null,null,null,null,null,null,null,null,null,null,null,null,null,null,null,null,null,null,null,null,null,null,null,null,null,null,null,null,null,null,null,null,null,null,null,null,null,null,null,null,null,null,null,null,null,null,null,null,null,null,null,null,null,null,null,null,null,null,null,null,null,null,null,null,null,null,null,null,null,null,null,null,null,null,null,null,null,null,null,null,null,null,null,null,null,null,{"$f":"SUM((AA$5:FJ$5=\"Age\")*(AA12:FJ12<=3))-SUM((AA$5:FJ$5=\"Age\")*(AA12:FJ12=0))","v":0}]
["BOYS",null,null,null,null,null,null,null,null,null,null,null,null,null,null,null,null,null,null,null,null,null,null,null,null,null,null,null,null,null,null,null,null,null,null,null,null,null,null,null,null,null,null,null,null,null,null,null,null,null,null,null,null,null,null,null,null,null,null,null,null,null,null,null,null,null,null,null,null,null,null,null,null,null,null,null,null,null,null,null,null,null,null,null,null,null,null,null,null,null,null,null,null,null,null,null,null,null,null,null,null,null,null,null,null,null,null,null,null,null,null,null,null,null,null,null,null,null,null,null,null,null,null,null,null,null,null,null,null,null,null,null,null,null,null,null,null,null,null,null,null,null,null,null,null,null,null,null,null,null,null,null,null,null,null,null,null,null,null,null,null,null,null,null,null,null," "]
["James Shakeshaft","M",2003,{"$f":"INDEX('Age Calculation'!$A$1:'Age Calculation'!$Q$108,MATCH(C14,'Age Calculation'!$A$1:'Age Calculation'!$A$108),MATCH($A$1,'Age Calculation'!$A$1:'Age Calculation'!$Q$1))","v":"U12"},20340,null,999.99,999.99,999.99,999.99,999.99,999.99,999.99,null,999.99,999.99,999.99,999.99,null,999.99,999.99,null,{"$f":"IF(E14<999.99,IF(MIN(H14,R14)<E14,MIN(H14,R14)-E14,\"\"),\"\")","v":""},{"$f":"IF(G14<999.99,IF(MIN(I14,T14)<G14,MIN(I14,T14)-G14,\"\"),\"\")","v":""},null,null,null,null,null,null,null,null,null,null,null,null,null,null,null,null,null,null,null,null,null,null,null,null,null,null,null,null,null,null,null,null,null,null,null,null,null,null,null,null,null,null,null,null,null,null,null,null,null,null,null,null,null,null,null,null,null,null,null,null,null,null,null,null,null,null,null,null,null,null,null,null,null,null,null,null,null,null,null,null,null,null,null,null,null,null,null,null,null,null,null,null,null,null,null,null,null,null,null,null,null,null,null,null,null,null,null,null,null,null,null,null,null,null,null,null,null,null,null,null,null,null,null,null,null,null,null,null,null,null,null,null,null,null,null,null,null,null,null,null,null,null,null,{"$f":"SUM((AA$5:FJ$5=\"Age\")*(AA14:FJ14<=3))-SUM((AA$5:FJ$5=\"Age\")*(AA14:FJ14=0))","v":0}]
["Daniel Hadley","M",2004,{"$f":"INDEX('Age Calculation'!$A$1:'Age Calculation'!$Q$108,MATCH(C15,'Age Calculation'!$A$1:'Age Calculation'!$A$108),MATCH($A$1,'Age Calculation'!$A$1:'Age Calculation'!$Q$1))","v":"U12"},20719,null,999.99,999.99,999.99,999.99,999.99,999.99,999.99,null,999.99,999.99,999.99,999.99,null,999.99,999.99,null,{"$f":"IF(E15<999.99,IF(MIN(H15,R15)<E15,MIN(H15,R15)-E15,\"\"),\"\")","v":""},{"$f":"IF(G15<999.99,IF(MIN(I15,T15)<G15,MIN(I15,T15)-G15,\"\"),\"\")","v":""},null,null,null,null,null,null,null,null,null,null,null,null,null,null,null,null,null,null,null,null,null,null,null,null,null,null,null,null,null,null,null,null,null,null,null,null,null,null,null,null,null,null,null,null,null,null,null,null,null,null,null,null,null,null,null,null,null,null,null,null,null,null,null,null,null,null,null,null,null,null,null,null,null,null,null,null,null,null,null,null,null,null,null,null,null,null,null,null,null,null,null,null,null,null,null,null,null,null,null,null,null,null,null,null,null,null,null,null,null,null,null,null,null,null,null,null,null,null,null,null,null,null,null,null,null,null,null,null,null,null,null,null,null,null,null,null,null,null,null,null,null,null,null,{"$f":"SUM((AA$5:FJ$5=\"Age\")*(AA15:FJ15<=3))-SUM((AA$5:FJ$5=\"Age\")*(AA15:FJ15=0))","v":0}]
["Jack Teague","M",2004,{"$f":"INDEX('Age Calculation'!$A$1:'Age Calculation'!$Q$108,MATCH(C16,'Age Calculation'!$A$1:'Age Calculation'!$A$108),MATCH($A$1,'Age Calculation'!$A$1:'Age Calculation'!$Q$1))","v":"U12"},20630,null,999.99,999.99,999.99,999.99,999.99,999.99,999.99,null,999.99,999.99,999.99,999.99,null,999.99,999.99,null,{"$f":"IF(E16<999.99,IF(MIN(H16,R16)<E16,MIN(H16,R16)-E16,\"\"),\"\")","v":""},{"$f":"IF(G16<999.99,IF(MIN(I16,T16)<G16,MIN(I16,T16)-G16,\"\"),\"\")","v":""},null,null,null,null,null,null,null,null,null,null,null,null,null,null,null,null,null,null,null,null,null,null,null,null,null,null,null,null,null,null,null,null,null,null,null,null,null,null,null,null,null,null,null,null,null,null,null,null,null,null,null,null,null,null,null,null,null,null,null,null,null,null,null,null,null,null,null,null,null,null,null,null,null,null,null,null,null,null,null,null,null,null,null,null,null,null,null,null,null,null,null,null,null,null,null,null,null,null,null,null,null,null,null,null,null,null,null,null,null,null,null,null,null,null,null,null,null,null,null,null,null,null,null,null,null,null,null,null,null,null,null,null,null,null,null,null,null,null,null,null,null,null,null,{"$f":"SUM((AA$5:FJ$5=\"Age\")*(AA16:FJ16<=3))-SUM((AA$5:FJ$5=\"Age\")*(AA16:FJ16=0))","v":0}]
["Jack Upton","M",2004,{"$f":"INDEX('Age Calculation'!$A$1:'Age Calculation'!$Q$108,MATCH(C17,'Age Calculation'!$A$1:'Age Calculation'!$A$108),MATCH($A$1,'Age Calculation'!$A$1:'Age Calculation'!$Q$1))","v":"U12"},21052,null,999.99,999.99,999.99,999.99,999.99,999.99,999.99,null,999.99,999.99,999.99,999.99,null,999.99,999.99,null,{"$f":"IF(E17<999.99,IF(MIN(H17,R17)<E17,MIN(H17,R17)-E17,\"\"),\"\")","v":""},{"$f":"IF(G17<999.99,IF(MIN(I17,T17)<G17,MIN(I17,T17)-G17,\"\"),\"\")","v":""},null,1,1,999.99,null,null,null,null,null,null,null,null,null,null,null,null,null,1,1,999.99,1,1,999.99,4,4,999.99,3,3,999.99,1,1,999.99,1,1,999.99,2,2,999.99,null,null,null,null,null,null,null,null,null,null,null,null,null,null,null,null,null,null,null,null,null,5,4,999.99,999.99,3,3,999.99,null,null,null,3,3,999.99,null,null,null,2,2,999.99,3,3,999.99,1,1,999.99,2,2,999.99,2,2,999.99,"DSQ","DSQ","DSQ",2,2,999.99,null,null,null,null,null,null,null,null,null,null,null,null,null,null,2,2,999.99,2,2,999.99,1,1,999.99,"DSQ","DSQ",999.99,1,1,999.99,null,null,null,1,1,999.99,null,null,null,null,null,null,null,null,null,null,null,null,{"$f":"SUM((AA$5:FJ$5=\"Age\")*(AA17:FJ17<=3))-SUM((AA$5:FJ$5=\"Age\")*(AA17:FJ17=0))","v":20}]
["Keiron Wooley","M",2005,"U10",21837,null,999.99,999.99,999.99,999.99,999.99,999.99,999.99,null,999.99,999.99,999.99,999.99,null,999.99,999.99,null,null,null,null,null,null,null,null,null,null,null,null,11,4,999.99,999.99,9,1,999.99,999.99,5,1,999.99,2,1,999.99,14,2,999.99,13,2,999.99,4,2,999.99,3,1,999.99,6,2,999.99,null,null,null,null,null,null,null,null,null,null,null,null,5,1,999.99,null,null,null,6,2,999.99,null,null,null,null,null,null,null,9,2,999.99,null,null,null,8,2,999.99,6,2,999.99,null,null,null,4,1,999.99,8,2,999.99,6,2,999.99,7,2,999.99,6,2,999.99,null,null,null,2,7,999.99,2,7,999.99,null,null,null,null,null,null,null,null,5,1,999.99,8,2,999.99,3,1,999.99,9,4,999.99,null,null,null,8,2,999.99,null,null,null,null,null,null,null,null,null,null,null,null,{"$f":"SUM((AA$5:FJ$5=\"Age\")*(AA18:FJ18<=3))-SUM((AA$5:FJ$5=\"Age\")*(AA18:FJ18=0))","v":22}]
["Noah Bailey","M",2006,"U10",22198,null,999.99,999.99,999.99,999.99,999.99,999.99,999.99,null,999.99,999.99,999.99,999.99,null,999.99,999.99,null,{"$f":"IF(E19<999.99,IF(MIN(H19,R19)<E19,MIN(H19,R19)-E19,\"\"),\"\")","v":""},{"$f":"IF(G19<999.99,IF(MIN(I19,T19)<G19,MIN(I19,T19)-G19,\"\"),\"\")","v":""},null,null,null,null,null,null,null,null,null,null,null,null,null,null,null,null,null,null,null,null,null,null,null,null,null,null,null,null,null,null,null,null,null,null,null,null,null,null,null,null,null,null,null,null,null,null,null,null,null,null,null,null,null,null,null,null,null,null,null,null,null,null,null,null,null,null,null,null,null,null,null,null,18,8,999.99,null,null,null,null,null,null,null,null,null,null,null,null,null,null,null,null,null,null,null,null,null,null,null,null,7,18,999.99,null,null,null,null,null,null,null,null,null,null,null,null,null,null,null,null,null,null,null,null,null,null,null,null,null,null,null,null,null,null,null,null,null,null,null,null,null,null,null,null,null,{"$f":"SUM((AA$5:FJ$5=\"Age\")*(AA19:FJ19<=3))-SUM((AA$5:FJ$5=\"Age\")*(AA19:FJ19=0))","v":0}]
["Daniel Giles","M",2003,"U12",22203,null,999.99,999.99,999.99,999.99,999.99,999.99,999.99,null,999.99,999.99,999.99,999.99,null,999.99,999.99,null,null,null,null,null,null,null,null,null,null,null,null,null,null,null,null,null,null,null,null,null,null,null,null,null,null,null,null,null,null,null,null,null,null,null,null,null,null,null,null,null,null,null,null,null,null,null,null,null,null,null,null,null,null,null,null,null,null,null,null,null,null,null,null,null,null,null,null,null,null,null,null,null,null,null,15,10,999.99,"DNS","DNS","DNS",null,null,null,null,null,null,null,null,null,null,null,null,null,null,null,null,null,null,null,null,null,null,null,null,null,null,null,null,null,null,null,null,null,null,null,null,null,null,null,null,null,null,null,null,null,null,null,null,null,null,null,null,null,null,null,null,null,null,null,null,null,null,null,null,null,{"$f":"SUM((AA$5:FJ$5=\"Age\")*(AA20:FJ20<=3))-SUM((AA$5:FJ$5=\"Age\")*(AA20:FJ20=0))","v":0}]
["FEMALES",null,null,null,null,null,null,null,null,null,null,null,null,null,null,null,null,null,null,null,null,null,{"$f":"IF(E21<999.99,IF(MIN(H21,R21)<E21,MIN(H21,R21)-E21,\"\"),\"\")","v":""},{"$f":"IF(G21<999.99,IF(MIN(I21,T21)<G21,MIN(I21,T21)-G21,\"\"),\"\")","v":""},null,null,null,null,null,null,null,null,null,null,null,null,null,null,null,null,null,null,null,null,null,null,null,null,null,null,null,null,null,null,null,null,null,null,null,null,null,null,null,null,null,null,null,null,null,null,null,null,null,null,null,null,null,null,null,null,null,null,null,null,null,null,null,null,null,null,null,null,null,null,null,null,null,null,null,null,null,null,null,null,null,null,null,null,null,null,null,null,null,null,null,null,null,null,null,null,null,null,null,null,null,null,null,null,null,null,null,null,null,null,null,null,null,null,null,null,null,null,null,null,null,null,null,null,null,null,null,null,null,null,null,null,null,null,null,null,null,null,null,null,null,null," "]
["Rachel Bill","F",1990,{"$f":"INDEX('Age Calculation'!$A$1:'Age Calculation'!$Q$108,MATCH(C22,'Age Calculation'!$A$1:'Age Calculation'!$A$108),MATCH($A$1,'Age Calculation'!$A$1:'Age Calculation'!$Q$1))","v":"SEN"},20168,null,{"$f":"VLOOKUP(E22,'Start of Year Points'!A$2:I$62,9,FALSE)","v":23.81},{"$f":"VLOOKUP(E22,'Start of Year Points'!A$2:L$62,12,FALSE)","v":23.81},{"$f":"VLOOKUP(E22,'Start of Year Points'!A$2:L$62,11,FALSE)","v":23.81},23.81,23.81,23.81,23.81,null,23.81,23.81,{"$f":"'Points Calculation'!$BO22","v":23.81},{"$f":"'Points Calculation'!$BX22","v":23.81},null,{"$f":"'Points Calculation'!BQ22","v":33.81},{"$f":"'Points Calculation'!BZ22","v":33.81},null,{"$f":"IF(G22<999.99,IF(MIN(O22,Q22)<G22,MIN(O22,Q22)-G22,\"\"),\"\")","v":""},{"$f":"IF(G22<999.99,IF(MIN(P22,R22)<G22,MIN(P22,R22)-G22,\"\"),\"\")","v":""},null,null,null,null,null,null,null,null,null,null,null,null,null,null,null,null,null,null,null,null,null,null,null,null,null,null,null,null,null,null,null,null,null,null,null,null,null,null,null,null,null,null,null,null,null,null,null,null,null,null,null,null,null,4,1,23.97,null,null,null,null,null,null,null,null,null,null,null,null,null,null,null,null,null,null,null,null,null,null,null,null,null,null,null,null,null,null,null,null,null,null,null,null,null,null,null,null,null,null,null,null,null,null,null,null,null,null,null,null,null,null,null,null,null,null,null,null,null,null,null,null,null,null,null,null,null,null,null,null,null,null,null,null,null,null,null,null,null,null,null,null,null,null,{"$f":"SUM((Z$5:FG$5=\"Overall\")*(Z22:FG22<=3))-SUM((Z$5:FG$5=\"Overall\")*(Z22:FG22=0))","v":0},{"$f":"SUM((AA$5:FJ$5=\"Age\")*(AA22:FJ22<=3))-SUM((AA$5:FJ$5=\"Age\")*(AA22:FJ22=0))","v":1},null,{"$f":"IF(MIN('Points Calculation'!CU22,'Points Calculation'!CV22)>0,MIN('Points Calculation'!CU22,'Points Calculation'!CV22),\"\")","v":""},{"$f":"IF(MIN('Points Calculation'!BL22,'Points Calculation'!BN22)>0,MIN('Points Calculation'!BL22,'Points Calculation'!BN22),\"\")","v":33.97},{"$f":"IF(FN22<>\"\",FN22-FO22,\"\")","v":""},{"$f":"IF(FN22<>\"\",FP22/FO22,\"\")","v":""},{"$f":"'Points Calculation'!$BP22","v":33.81},null,{"$f":"IF(MIN('Points Calculation'!CZ22,'Points Calculation'!DA22)>0,MIN('Points Calculation'!CZ22,'Points Calculation'!DA22),\"\")","v":""},{"$f":"IF(MIN('Points Calculation'!BU22,'Points Calculation'!BW22)>0,MIN('Points Calculation'!BU22,'Points Calculation'!BW22),\"\")","v":""},{"$f":"IF(FT22<>\"\",FT22-FU22,\"\")","v":""},{"$f":"IF(FT22<>\"\",FV22/FU22,\"\")","v":""},{"$f":"'Points Calculation'!$BP22","v":33.81},null,{"$f":"'Points Calculation'!BJ22","v":23.97},{"$f":"'Points Calculation'!BK22","v":""},{"$f":"'Points Calculation'!BL22","v":""},{"$f":"'Points Calculation'!BO22","v":23.81},null,{"$f":"'Points Calculation'!BS22","v":""},{"$f":"'Points Calculation'!BT22","v":""},{"$f":"'Points Calculation'!BU22","v":""},{"$f":"'Points Calculation'!BX22","v":23.81}]
["Lucy Deller","F",1996,{"$f":"INDEX('Age Calculation'!$A$1:'Age Calculation'!$Q$108,MATCH(C23,'Age Calculation'!$A$1:'Age Calculation'!$A$108),MATCH($A$1,'Age Calculation'!$A$1:'Age Calculation'!$Q$1))","v":"U21"},17888,null,{"$f":"VLOOKUP(E23,'Start of Year Points'!A$2:I$62,9,FALSE)","v":25.68},{"$f":"VLOOKUP(E23,'Start of Year Points'!A$2:L$62,12,FALSE)","v":25.68},{"$f":"VLOOKUP(E23,'Start of Year Points'!A$2:L$62,11,FALSE)","v":25.68},25.68,25.68,25.68,25.68,null,25.68,25.68,{"$f":"'Points Calculation'!$BO23","v":25.68},{"$f":"'Points Calculation'!$BX23","v":25.68},null,{"$f":"'Points Calculation'!BQ23","v":35.68},{"$f":"'Points Calculation'!BZ23","v":35.68},null,{"$f":"IF(G23<999.99,IF(MIN(O23,L23)<G23,MIN(O23,L23)-G23,\"\"),\"\")","v":""},{"$f":"IF(G23<999.99,IF(MIN(P23,M23)<G23,MIN(P23,M23)-G23,\"\"),\"\")","v":""},null,null,null,null,null,null,null,null,null,null,null,null,null,null,null,null,null,null,null,null,null,null,null,null,null,null,null,null,null,null,null,null,null,null,null,null,null,null,null,null,null,null,null,null,null,null,null,null,null,null,null,null,null,null,null,null,null,null,null,null,null,null,null,null,null,null,null,null,null,null,null,null,null,null,null,null,null,null,null,null,null,null,null,null,null,null,null,null,null,null,null,null,null,null,null,null,null,null,null,null,null,null,null,null,null,null,null,null,null,null,null,null,null,null,null,null,null,null,null,null,null,null,null,null,null,null,null,null,null,null,null,null,null,null,null,null,null,null,null,null,null,null,{"$f":"SUM((Z$5:FG$5=\"Overall\")*(Z23:FG23<=3))-SUM((Z$5:FG$5=\"Overall\")*(Z23:FG23=0))","v":0},{"$f":"SUM((AA$5:FJ$5=\"Age\")*(AA23:FJ23<=3))-SUM((AA$5:FJ$5=\"Age\")*(AA23:FJ23=0))","v":0},null,{"$f":"IF(MIN('Points Calculation'!CU23,'Points Calculation'!CV23)>0,MIN('Points Calculation'!CU23,'Points Calculation'!CV23),\"\")","v":""},{"$f":"IF(MIN('Points Calculation'!BL23,'Points Calculation'!BN23)>0,MIN('Points Calculation'!BL23,'Points Calculation'!BN23),\"\")","v":""},{"$f":"IF(FN23<>\"\",FN23-FO23,\"\")","v":""},{"$f":"IF(FN23<>\"\",FP23/FO23,\"\")","v":""},{"$f":"'Points Calculation'!$BP23","v":35.68},null,{"$f":"IF(MIN('Points Calculation'!CZ23,'Points Calculation'!DA23)>0,MIN('Points Calculation'!CZ23,'Points Calculation'!DA23),\"\")","v":""},{"$f":"IF(MIN('Points Calculation'!BU23,'Points Calculation'!BW23)>0,MIN('Points Calculation'!BU23,'Points Calculation'!BW23),\"\")","v":""},{"$f":"IF(FT23<>\"\",FT23-FU23,\"\")","v":""},{"$f":"IF(FT23<>\"\",FV23/FU23,\"\")","v":""},{"$f":"'Points Calculation'!$BP23","v":35.68},null,{"$f":"'Points Calculation'!BJ23","v":""},{"$f":"'Points Calculation'!BK23","v":""},{"$f":"'Points Calculation'!BL23","v":""},{"$f":"'Points Calculation'!BO23","v":25.68},null,{"$f":"'Points Calculation'!BS23","v":""},{"$f":"'Points Calculation'!BT23","v":""},{"$f":"'Points Calculation'!BU23","v":""},{"$f":"'Points Calculation'!BX23","v":25.68}]
["Helena Newboult","F",1998,{"$f":"INDEX('Age Calculation'!$A$1:'Age Calculation'!$Q$108,MATCH(C24,'Age Calculation'!$A$1:'Age Calculation'!$A$108),MATCH($A$1,'Age Calculation'!$A$1:'Age Calculation'!$Q$1))","v":"U18"},20696,null,{"$f":"VLOOKUP(E24,'Start of Year Points'!A$2:I$62,9,FALSE)","v":27.39},{"$f":"VLOOKUP(E24,'Start of Year Points'!A$2:L$62,12,FALSE)","v":27.39},{"$f":"VLOOKUP(E24,'Start of Year Points'!A$2:L$62,11,FALSE)","v":27.39},27.39,27.39,27.39,27.39,null,27.39,27.39,{"$f":"'Points Calculation'!$BO24","v":27.39},{"$f":"'Points Calculation'!$BX24","v":27.39},null,{"$f":"'Points Calculation'!BQ24","v":37.39},{"$f":"'Points Calculation'!BZ24","v":37.39},null,{"$f":"IF(G24<999.99,IF(MIN(O24,L24)<G24,MIN(O24,L24)-G24,\"\"),\"\")","v":""},{"$f":"IF(G24<999.99,IF(MIN(P24,M24)<G24,MIN(P24,M24)-G24,\"\"),\"\")","v":""},null,null,null,null,null,null,null,null,null,null,null,null,null,null,null,null,null,null,null,null,null,null,null,null,null,null,null,null,null,null,null,null,null,null,null,null,null,null,null,null,null,null,null,null,null,null,null,null,null,null,null,null,null,null,null,null,null,null,null,null,null,null,null,null,null,null,null,null,null,null,null,null,null,null,null,null,null,null,null,null,null,null,null,null,null,null,null,null,null,null,null,null,null,null,null,null,null,null,null,null,null,null,null,null,null,null,null,null,null,null,null,null,null,null,null,null,null,null,null,null,null,null,null,null,null,null,null,null,null,null,null,null,null,null,null,null,null,null,null,null,null,null,{"$f":"SUM((Z$5:FG$5=\"Overall\")*(Z24:FG24<=3))-SUM((Z$5:FG$5=\"Overall\")*(Z24:FG24=0))","v":0},{"$f":"SUM((AA$5:FJ$5=\"Age\")*(AA24:FJ24<=3))-SUM((AA$5:FJ$5=\"Age\")*(AA24:FJ24=0))","v":0},null,{"$f":"IF(MIN('Points Calculation'!CU24,'Points Calculation'!CV24)>0,MIN('Points Calculation'!CU24,'Points Calculation'!CV24),\"\")","v":""},{"$f":"IF(MIN('Points Calculation'!BL24,'Points Calculation'!BN24)>0,MIN('Points Calculation'!BL24,'Points Calculation'!BN24),\"\")","v":""},"","",{"$f":"'Points Calculation'!$BP24","v":37.39},null,{"$f":"IF(MIN('Points Calculation'!CZ24,'Points Calculation'!DA24)>0,MIN('Points Calculation'!CZ24,'Points Calculation'!DA24),\"\")","v":""},{"$f":"IF(MIN('Points Calculation'!BU24,'Points Calculation'!BW24)>0,MIN('Points Calculation'!BU24,'Points Calculation'!BW24),\"\")","v":""},"","",{"$f":"'Points Calculation'!$BP24","v":37.39},null,{"$f":"'Points Calculation'!BJ24","v":""},{"$f":"'Points Calculation'!BK24","v":""},{"$f":"'Points Calculation'!BL24","v":""},{"$f":"'Points Calculation'!BO24","v":27.39},null,{"$f":"'Points Calculation'!BS24","v":""},{"$f":"'Points Calculation'!BT24","v":""},{"$f":"'Points Calculation'!BU24","v":""},{"$f":"'Points Calculation'!BX24","v":27.39}]
["Rowan Vernon","F",1988,{"$f":"INDEX('Age Calculation'!$A$1:'Age Calculation'!$Q$108,MATCH(C25,'Age Calculation'!$A$1:'Age Calculation'!$A$108),MATCH($A$1,'Age Calculation'!$A$1:'Age Calculation'!$Q$1))","v":"SEN"},13381,null,{"$f":"VLOOKUP(E25,'Start of Year Points'!A$2:I$62,9,FALSE)","v":32.840000000000003},{"$f":"VLOOKUP(E25,'Start of Year Points'!A$2:L$62,12,FALSE)","v":32.840000000000003},{"$f":"VLOOKUP(E25,'Start of Year Points'!A$2:L$62,11,FALSE)","v":32.840000000000003},32.840000000000003,32.840000000000003,32.840000000000003,32.840000000000003,null,32.840000000000003,32.840000000000003,{"$f":"'Points Calculation'!$BO25","v":32.840000000000003},{"$f":"'Points Calculation'!$BX25","v":32.840000000000003},null,{"$f":"'Points Calculation'!BQ25","v":42.84},{"$f":"'Points Calculation'!BZ25","v":42.84},null,{"$f":"IF(G25<999.99,IF(MIN(O25,L25)<G25,MIN(O25,L25)-G25,\"\"),\"\")","v":""},{"$f":"IF(G25<999.99,IF(MIN(P25,M25)<G25,MIN(P25,M25)-G25,\"\"),\"\")","v":""},null,null,null,null,null,null,null,null,null,null,null,null,null,null,null,null,null,null,null,null,null,null,null,null,null,null,null,null,null,null,null,null,null,null,null,null,null,null,null,null,null,null,null,null,null,null,null,null,null,null,null,null,null,null,null,null,null,null,null,null,null,null,null,null,null,null,null,null,null,null,null,null,null,null,null,null,null,null,null,null,null,null,null,null,null,null,null,null,null,null,null,null,null,null,null,null,null,null,null,null,null,null,null,null,null,null,null,null,null,null,null,null,null,null,null,null,null,null,null,null,null,null,null,null,null,null,null,null,null,null,null,null,null,null,null,null,null,null,null,null,null,null,{"$f":"SUM((Z$5:FG$5=\"Overall\")*(Z25:FG25<=3))-SUM((Z$5:FG$5=\"Overall\")*(Z25:FG25=0))","v":0},{"$f":"SUM((AA$5:FJ$5=\"Age\")*(AA25:FJ25<=3))-SUM((AA$5:FJ$5=\"Age\")*(AA25:FJ25=0))","v":0},null,{"$f":"IF(MIN('Points Calculation'!CU25,'Points Calculation'!CV25)>0,MIN('Points Calculation'!CU25,'Points Calculation'!CV25),\"\")","v":""},{"$f":"IF(MIN('Points Calculation'!BL25,'Points Calculation'!BN25)>0,MIN('Points Calculation'!BL25,'Points Calculation'!BN25),\"\")","v":""},"","",{"$f":"'Points Calculation'!$BP25","v":42.84},null,{"$f":"IF(MIN('Points Calculation'!CZ25,'Points Calculation'!DA25)>0,MIN('Points Calculation'!CZ25,'Points Calculation'!DA25),\"\")","v":""},{"$f":"IF(MIN('Points Calculation'!BU25,'Points Calculation'!BW25)>0,MIN('Points Calculation'!BU25,'Points Calculation'!BW25),\"\")","v":""},"","",{"$f":"'Points Calculation'!$BP25","v":42.84},null,{"$f":"'Points Calculation'!BJ25","v":""},{"$f":"'Points Calculation'!BK25","v":""},{"$f":"'Points Calculation'!BL25","v":""},{"$f":"'Points Calculation'!BO25","v":32.840000000000003},null,{"$f":"'Points Calculation'!BS25","v":""},{"$f":"'Points Calculation'!BT25","v":""},{"$f":"'Points Calculation'!BU25","v":""},{"$f":"'Points Calculation'!BX25","v":32.840000000000003}]
["Amy Middleton","F",1995,{"$f":"INDEX('Age Calculation'!$A$1:'Age Calculation'!$Q$108,MATCH(C26,'Age Calculation'!$A$1:'Age Calculation'!$A$108),MATCH($A$1,'Age Calculation'!$A$1:'Age Calculation'!$Q$1))","v":"U21"},20307,null,{"$f":"VLOOKUP(E26,'Start of Year Points'!A$2:I$62,9,FALSE)","v":51.15},{"$f":"VLOOKUP(E26,'Start of Year Points'!A$2:L$62,12,FALSE)","v":51.15},{"$f":"VLOOKUP(E26,'Start of Year Points'!A$2:L$62,11,FALSE)","v":51.15},51.15,51.15,49.89,51.15,null,44.97,51.15,{"$f":"'Points Calculation'!$BO26","v":44.97},{"$f":"'Points Calculation'!$BX26","v":51.15},null,{"$f":"'Points Calculation'!BQ26","v":44.97},{"$f":"'Points Calculation'!BZ26","v":61.38},null,{"$f":"IF(G26<999.99,IF(MIN(O26,Q26)<G26,MIN(O26,Q26)-G26,\"\"),\"\")","v":-6.18},{"$f":"IF(G26<999.99,IF(MIN(P26,R26)<G26,MIN(P26,R26)-G26,\"\"),\"\")","v":""},null,null,null,null,null,null,8,4,54.06,null,null,null,null,null,null,null,null,null,null,null,null,null,null,null,null,null,null,null,null,null,null,null,null,null,null,null,null,null,null,null,null,null,null,null,null,null,null,null,null,null,null,null,null,10,3,55.35,null,null,null,null,null,null,null,15,4,59.4,null,null,null,8,4,48.62,7,5,60.11,6,3,41.31,null,null,null,null,null,null,null,null,null,null,null,null,null,null,null,null,null,null,8,4,58.55,null,null,null,null,null,null,null,null,null,null,null,"DNF","DNF",999.99,null,null,null,null,null,null,null,null,null,null,null,null,null,null,null,null,null,null,null,null,null,null,null,null,null,null,null,null,null,{"$f":"SUM((Z$5:FG$5=\"Overall\")*(Z26:FG26<=3))-SUM((Z$5:FG$5=\"Overall\")*(Z26:FG26=0))","v":0},{"$f":"SUM((AA$5:FJ$5=\"Age\")*(AA26:FJ26<=3))-SUM((AA$5:FJ$5=\"Age\")*(AA26:FJ26=0))","v":2},null,{"$f":"IF(MIN('Points Calculation'!CU26,'Points Calculation'!CV26)>0,MIN('Points Calculation'!CU26,'Points Calculation'!CV26),\"\")","v":""},{"$f":"IF(MIN('Points Calculation'!BL26,'Points Calculation'!BN26)>0,MIN('Points Calculation'!BL26,'Points Calculation'!BN26),\"\")","v":44.97},"","",{"$f":"'Points Calculation'!$BP26","v":61.38},null,{"$f":"IF(MIN('Points Calculation'!CZ26,'Points Calculation'!DA26)>0,MIN('Points Calculation'!CZ26,'Points Calculation'!DA26),\"\")","v":""},{"$f":"IF(MIN('Points Calculation'!BU26,'Points Calculation'!BW26)>0,MIN('Points Calculation'!BU26,'Points Calculation'!BW26),\"\")","v":""},"","",{"$f":"'Points Calculation'!$BP26","v":61.38},null,{"$f":"'Points Calculation'!BJ26","v":41.31},{"$f":"'Points Calculation'!BK26","v":48.62},{"$f":"'Points Calculation'!BL26","v":44.97},{"$f":"'Points Calculation'!BO26","v":44.97},null,{"$f":"'Points Calculation'!BS26","v":""},{"$f":"'Points Calculation'!BT26","v":""},{"$f":"'Points Calculation'!BU26","v":""},{"$f":"'Points Calculation'!BX26","v":51.15}]
["Elisabeth Thomas","F",1996,{"$f":"INDEX('Age Calculation'!$A$1:'Age Calculation'!$Q$108,MATCH(C27,'Age Calculation'!$A$1:'Age Calculation'!$A$108),MATCH($A$1,'Age Calculation'!$A$1:'Age Calculation'!$Q$1))","v":"U21"},18033,null,{"$f":"VLOOKUP(E27,'Start of Year Points'!A$2:I$62,9,FALSE)","v":72.7},{"$f":"VLOOKUP(E27,'Start of Year Points'!A$2:L$62,12,FALSE)","v":72.7},{"$f":"VLOOKUP(E27,'Start of Year Points'!A$2:L$62,11,FALSE)","v":72.7},72.7,72.7,67.69,72.7,null,41.04,72.7,{"$f":"'Points Calculation'!$BO27","v":41.04},{"$f":"'Points Calculation'!$BX27","v":72.7},null,{"$f":"'Points Calculation'!BQ27","v":41.04},{"$f":"'Points Calculation'!BZ27","v":87.24},null,-31.660000000000004,"",null,null,null,null,null,null,null,null,null,null,null,null,null,null,null,null,null,null,null,null,null,null,null,null,null,null,null,null,null,5,2,74.12,null,null,null,7,7,62.67,null,null,null,null,null,null,null,null,null,null,null,null,null,null,null,null,null,null,null,null,null,null,null,null,null,null,null,null,null,null,null,null,null,null,5,4,43.35,3,2,31.04,"DNF","DNF","DNF",5,5,33.86,null,null,null,null,null,null,null,null,null,null,null,null,6,3,56.04,null,null,null,null,null,null,null,null,null,null,null,null,null,null,null,null,null,null,null,null,null,null,null,null,null,null,null,null,null,null,null,null,null,null,null,null,null,null,null,null,null,null,null,{"$f":"SUM((Z$5:FG$5=\"Overall\")*(Z27:FG27<=3))-SUM((Z$5:FG$5=\"Overall\")*(Z27:FG27=0))","v":1},{"$f":"SUM((AA$5:FJ$5=\"Age\")*(AA27:FJ27<=3))-SUM((AA$5:FJ$5=\"Age\")*(AA27:FJ27=0))","v":3},null,{"$f":"IF(MIN('Points Calculation'!CU27,'Points Calculation'!CV27)>0,MIN('Points Calculation'!CU27,'Points Calculation'!CV27),\"\")","v":43.86},{"$f":"IF(MIN('Points Calculation'!BL27,'Points Calculation'!BN27)>0,MIN('Points Calculation'!BL27,'Points Calculation'!BN27),\"\")","v":41.04},2.8200000000000003,6.8713450292397671E-2,{"$f":"'Points Calculation'!$BP27","v":87.24},null,{"$f":"IF(MIN('Points Calculation'!CZ27,'Points Calculation'!DA27)>0,MIN('Points Calculation'!CZ27,'Points Calculation'!DA27),\"\")","v":""},{"$f":"IF(MIN('Points Calculation'!BU27,'Points Calculation'!BW27)>0,MIN('Points Calculation'!BU27,'Points Calculation'!BW27),\"\")","v":""},"","",{"$f":"'Points Calculation'!$BP27","v":87.24},null,{"$f":"'Points Calculation'!BJ27","v":31.04},{"$f":"'Points Calculation'!BK27","v":56.04},{"$f":"'Points Calculation'!BL27","v":43.54},{"$f":"'Points Calculation'!BO27","v":41.04},null,{"$f":"'Points Calculation'!BS27","v":""},{"$f":"'Points Calculation'!BT27","v":""},{"$f":"'Points Calculation'!BU27","v":""},{"$f":"'Points Calculation'!BX27","v":72.7}]
["Maxine Hancock","F",1997,{"$f":"INDEX('Age Calculation'!$A$1:'Age Calculation'!$Q$108,MATCH(C28,'Age Calculation'!$A$1:'Age Calculation'!$A$108),MATCH($A$1,'Age Calculation'!$A$1:'Age Calculation'!$Q$1))","v":"U18"},18617,null,{"$f":"VLOOKUP(E28,'Start of Year Points'!A$2:I$62,9,FALSE)","v":74.28},{"$f":"VLOOKUP(E28,'Start of Year Points'!A$2:L$62,12,FALSE)","v":74.28},{"$f":"VLOOKUP(E28,'Start of Year Points'!A$2:L$62,11,FALSE)","v":74.28},74.28,74.28,74.28,74.28,null,74.28,74.28,{"$f":"'Points Calculation'!$BO28","v":74.28},{"$f":"'Points Calculation'!$BX28","v":74.28},null,{"$f":"'Points Calculation'!BQ28","v":89.14},{"$f":"'Points Calculation'!BZ28","v":84.44},null,"","",null,null,null,null,null,null,null,null,null,null,null,null,null,null,null,null,null,null,null,null,null,null,null,18,4,143.58000000000001,15,2,132.80000000000001,null,null,null,null,null,null,null,null,null,null,null,null,null,null,null,null,null,null,null,null,null,11,4,108.11,null,null,null,10,4,92.89,null,null,null,null,null,null,null,"DNF","DNF","DNF",null,null,null,null,null,null,null,null,null,null,null,null,null,null,null,null,null,null,null,null,null,null,null,null,null,null,null,null,null,null,15,7,124.79,17,6,132.25,null,null,null,null,null,null,null,null,15,3,102.32,16,3,90.53,null,null,null,null,null,null,null,null,null,4,1,75.989999999999995,null,null,null,null,null,null,null,null,null,null,null,{"$f":"SUM((Z$5:FG$5=\"Overall\")*(Z28:FG28<=3))-SUM((Z$5:FG$5=\"Overall\")*(Z28:FG28=0))","v":0},{"$f":"SUM((AA$5:FJ$5=\"Age\")*(AA28:FJ28<=3))-SUM((AA$5:FJ$5=\"Age\")*(AA28:FJ28=0))","v":4},null,{"$f":"IF(MIN('Points Calculation'!CU28,'Points Calculation'!CV28)>0,MIN('Points Calculation'!CU28,'Points Calculation'!CV28),\"\")","v":""},{"$f":"IF(MIN('Points Calculation'!BL28,'Points Calculation'!BN28)>0,MIN('Points Calculation'!BL28,'Points Calculation'!BN28),\"\")","v":""},"","",{"$f":"'Points Calculation'!$BP28","v":89.14},null,{"$f":"IF(MIN('Points Calculation'!CZ28,'Points Calculation'!DA28)>0,MIN('Points Calculation'!CZ28,'Points Calculation'!DA28),\"\")","v":84.44},{"$f":"IF(MIN('Points Calculation'!BU28,'Points Calculation'!BW28)>0,MIN('Points Calculation'!BU28,'Points Calculation'!BW28),\"\")","v":84.44},0,0,{"$f":"'Points Calculation'!$BP28","v":89.14},null,{"$f":"'Points Calculation'!BJ28","v":""},{"$f":"'Points Calculation'!BK28","v":""},{"$f":"'Points Calculation'!BL28","v":""},{"$f":"'Points Calculation'!BO28","v":74.28},null,{"$f":"'Points Calculation'!BS28","v":75.989999999999995},{"$f":"'Points Calculation'!BT28","v":92.89},{"$f":"'Points Calculation'!BU28","v":84.44},{"$f":"'Points Calculation'!BX28","v":74.28}]
["Jessica Mayhew","F",2000,{"$f":"INDEX('Age Calculation'!$A$1:'Age Calculation'!$Q$108,MATCH(C29,'Age Calculation'!$A$1:'Age Calculation'!$A$108),MATCH($A$1,'Age Calculation'!$A$1:'Age Calculation'!$Q$1))","v":"U16"},21014,null,{"$f":"VLOOKUP(E29,'Start of Year Points'!A$2:I$62,9,FALSE)","v":84.18},{"$f":"VLOOKUP(E29,'Start of Year Points'!A$2:L$62,12,FALSE)","v":53.98},{"$f":"VLOOKUP(E29,'Start of Year Points'!A$2:L$62,11,FALSE)","v":84.18},48.06,84.18,47.77,84.18,null,47.77,84.18,{"$f":"'Points Calculation'!$BO29","v":47.77},{"$f":"'Points Calculation'!$BX29","v":84.18},null,{"$f":"'Points Calculation'!BQ29","v":47.77},{"$f":"'Points Calculation'!BZ29","v":101.02},null,-36.410000000000004,"",null,null,null,null,null,null,6,1,43.98,null,null,null,null,null,null,null,null,5,1,52.14,"DNF","DNF","DNF",null,null,null,null,null,null,6,1,81.75,2,1,null,"DSQ","DSQ","DSQ",null,null,null,null,null,null,8,3,902.26,null,null,null,null,null,null,null,null,null,null,null,null,null,null,null,null,12,3,51.56,null,null,null,15,3,62.03,11,2,66.87,10,2,65.430000000000007,null,null,null,11,4,68.900000000000006,null,null,null,null,null,null,null,null,null,null,null,null,null,null,null,null,null,null,null,null,null,null,null,null,null,null,20,4,87.31,null,null,null,null,null,null,9,5,61.94,7,4,83.13,null,null,null,null,null,null,null,null,null,null,null,null,null,null,null,null,null,{"$f":"SUM((Z$5:FG$5=\"Overall\")*(Z29:FG29<=3))-SUM((Z$5:FG$5=\"Overall\")*(Z29:FG29=0))","v":1},{"$f":"SUM((AA$5:FJ$5=\"Age\")*(AA29:FJ29<=3))-SUM((AA$5:FJ$5=\"Age\")*(AA29:FJ29=0))","v":9},null,{"$f":"IF(MIN('Points Calculation'!CU29,'Points Calculation'!CV29)>0,MIN('Points Calculation'!CU29,'Points Calculation'!CV29),\"\")","v":65.42},{"$f":"IF(MIN('Points Calculation'!BL29,'Points Calculation'!BN29)>0,MIN('Points Calculation'!BL29,'Points Calculation'!BN29),\"\")","v":47.77},17.649999999999999,0.36947875235503447,{"$f":"'Points Calculation'!$BP29","v":101.02},null,{"$f":"IF(MIN('Points Calculation'!CZ29,'Points Calculation'!DA29)>0,MIN('Points Calculation'!CZ29,'Points Calculation'!DA29),\"\")","v":""},{"$f":"IF(MIN('Points Calculation'!BU29,'Points Calculation'!BW29)>0,MIN('Points Calculation'!BU29,'Points Calculation'!BW29),\"\")","v":""},"","",{"$f":"'Points Calculation'!$BP29","v":101.02},null,{"$f":"'Points Calculation'!BJ29","v":43.98},{"$f":"'Points Calculation'!BK29","v":51.56},{"$f":"'Points Calculation'!BL29","v":47.77},{"$f":"'Points Calculation'!BO29","v":47.77},null,{"$f":"'Points Calculation'!BS29","v":""},{"$f":"'Points Calculation'!BT29","v":""},{"$f":"'Points Calculation'!BU29","v":""},{"$f":"'Points Calculation'!BX29","v":84.18}]
["Hannah Shakeshaft","F",1996,{"$f":"INDEX('Age Calculation'!$A$1:'Age Calculation'!$Q$108,MATCH(C30,'Age Calculation'!$A$1:'Age Calculation'!$A$108),MATCH($A$1,'Age Calculation'!$A$1:'Age Calculation'!$Q$1))","v":"U21"},19833,null,{"$f":"VLOOKUP(E30,'Start of Year Points'!A$2:I$62,9,FALSE)","v":140.29},{"$f":"VLOOKUP(E30,'Start of Year Points'!A$2:L$62,12,FALSE)","v":140.29},{"$f":"VLOOKUP(E30,'Start of Year Points'!A$2:L$62,11,FALSE)","v":140.29},{"$error":"#N/A"},{"$error":"#N/A"},{"$error":"#N/A"},{"$error":"#N/A"},null,140.29,140.29,{"$f":"'Points Calculation'!$BO30","v":140.29},{"$f":"'Points Calculation'!$BX30","v":140.29},null,{"$f":"'Points Calculation'!BQ30","v":168.35},{"$f":"'Points Calculation'!BZ30","v":168.35},null,"","",null,null,null,null,null,null,null,null,null,null,null,null,null,null,null,null,null,null,null,null,null,null,null,null,null,null,null,null,null,null,null,null,null,null,null,null,null,null,null,null,null,null,null,null,null,null,null,null,null,null,null,null,null,null,null,null,null,null,null,null,null,null,null,null,null,null,null,null,null,null,null,null,null,null,null,null,null,null,null,null,null,null,null,null,null,null,null,null,null,null,null,null,null,null,null,null,null,null,null,null,null,null,null,null,null,null,null,null,null,null,null,null,null,null,null,null,null,null,null,null,null,null,null,null,null,null,null,null,null,null,null,null,null,null,null,null,null,null,null,null,null,null,{"$f":"SUM((Z$5:FG$5=\"Overall\")*(Z30:FG30<=3))-SUM((Z$5:FG$5=\"Overall\")*(Z30:FG30=0))","v":0},{"$f":"SUM((AA$5:FJ$5=\"Age\")*(AA30:FJ30<=3))-SUM((AA$5:FJ$5=\"Age\")*(AA30:FJ30=0))","v":0},null,{"$f":"IF(MIN('Points Calculation'!CU30,'Points Calculation'!CV30)>0,MIN('Points Calculation'!CU30,'Points Calculation'!CV30),\"\")","v":""},{"$f":"IF(MIN('Points Calculation'!BL30,'Points Calculation'!BN30)>0,MIN('Points Calculation'!BL30,'Points Calculation'!BN30),\"\")","v":""},"","",{"$f":"'Points Calculation'!$BP30","v":168.35},null,{"$f":"IF(MIN('Points Calculation'!CZ30,'Points Calculation'!DA30)>0,MIN('Points Calculation'!CZ30,'Points Calculation'!DA30),\"\")","v":""},{"$f":"IF(MIN('Points Calculation'!BU30,'Points Calculation'!BW30)>0,MIN('Points Calculation'!BU30,'Points Calculation'!BW30),\"\")","v":""},"","",{"$f":"'Points Calculation'!$BP30","v":168.35},null,{"$f":"'Points Calculation'!BJ30","v":""},{"$f":"'Points Calculation'!BK30","v":""},{"$f":"'Points Calculation'!BL30","v":""},{"$f":"'Points Calculation'!BO30","v":140.29},null,{"$f":"'Points Calculation'!BS30","v":""},{"$f":"'Points Calculation'!BT30","v":""},{"$f":"'Points Calculation'!BU30","v":""},{"$f":"'Points Calculation'!BX30","v":140.29}]
["Chloe Care","F",1998,{"$f":"INDEX('Age Calculation'!$A$1:'Age Calculation'!$Q$108,MATCH(C31,'Age Calculation'!$A$1:'Age Calculation'!$A$108),MATCH($A$1,'Age Calculation'!$A$1:'Age Calculation'!$Q$1))","v":"U18"},19983,null,{"$f":"VLOOKUP(E31,'Start of Year Points'!A$2:I$62,9,FALSE)","v":203.01},{"$f":"VLOOKUP(E31,'Start of Year Points'!A$2:L$62,12,FALSE)","v":203.01},{"$f":"VLOOKUP(E31,'Start of Year Points'!A$2:L$62,11,FALSE)","v":203.01},203.01,203.01,203.01,203.01,null,203.01,203.01,{"$f":"'Points Calculation'!$BO31","v":203.01},{"$f":"'Points Calculation'!$BX31","v":203.01},null,{"$f":"'Points Calculation'!BQ31","v":215.55},{"$f":"'Points Calculation'!BZ31","v":243.61},null,"","",null,6,1,{"$f":"88.86+135.22","v":224.07999999999998},null,null,null,null,null,null,null,null,null,null,null,null,null,null,null,null,null,null,null,null,null,null,null,null,null,null,null,null,null,null,null,null,null,null,null,null,null,null,null,null,null,null,null,null,null,null,null,null,null,null,null,null,null,null,null,null,null,null,null,null,null,null,null,null,null,null,null,null,null,null,null,null,null,null,16,4,207.02,null,null,null,null,null,null,null,null,null,null,null,null,null,null,null,null,null,null,null,null,null,null,null,null,null,null,null,null,null,null,null,null,null,null,null,null,null,null,null,null,null,null,null,null,null,null,null,null,null,null,null,null,null,null,null,null,null,null,null,null,null,{"$f":"SUM((Z$5:FG$5=\"Overall\")*(Z31:FG31<=3))-SUM((Z$5:FG$5=\"Overall\")*(Z31:FG31=0))","v":0},{"$f":"SUM((AA$5:FJ$5=\"Age\")*(AA31:FJ31<=3))-SUM((AA$5:FJ$5=\"Age\")*(AA31:FJ31=0))","v":1},null,{"$f":"IF(MIN('Points Calculation'!CU31,'Points Calculation'!CV31)>0,MIN('Points Calculation'!CU31,'Points Calculation'!CV31),\"\")","v":""},{"$f":"IF(MIN('Points Calculation'!BL31,'Points Calculation'!BN31)>0,MIN('Points Calculation'!BL31,'Points Calculation'!BN31),\"\")","v":215.55},"","",{"$f":"'Points Calculation'!$BP31","v":243.61},null,{"$f":"IF(MIN('Points Calculation'!CZ31,'Points Calculation'!DA31)>0,MIN('Points Calculation'!CZ31,'Points Calculation'!DA31),\"\")","v":""},{"$f":"IF(MIN('Points Calculation'!BU31,'Points Calculation'!BW31)>0,MIN('Points Calculation'!BU31,'Points Calculation'!BW31),\"\")","v":""},"","",{"$f":"'Points Calculation'!$BP31","v":243.61},null,{"$f":"'Points Calculation'!BJ31","v":207.02},{"$f":"'Points Calculation'!BK31","v":224.07999999999998},{"$f":"'Points Calculation'!BL31","v":215.55},{"$f":"'Points Calculation'!BO31","v":203.01},null,{"$f":"'Points Calculation'!BS31","v":""},{"$f":"'Points Calculation'!BT31","v":""},{"$f":"'Points Calculation'!BU31","v":""},{"$f":"'Points Calculation'!BX31","v":203.01}]
["Geraldine Elgy","F",1954,{"$f":"INDEX('Age Calculation'!$A$1:'Age Calculation'!$Q$108,MATCH(C32,'Age Calculation'!$A$1:'Age Calculation'!$A$108),MATCH($A$1,'Age Calculation'!$A$1:'Age Calculation'!$Q$1))","v":"MAS"},19165,null,{"$f":"VLOOKUP(E32,'Start of Year Points'!A$2:I$62,9,FALSE)","v":330.25},{"$f":"VLOOKUP(E32,'Start of Year Points'!A$2:L$62,12,FALSE)","v":330.25},{"$f":"VLOOKUP(E32,'Start of Year Points'!A$2:L$62,11,FALSE)","v":330.25},330.25,330.25,330.25,330.25,null,330.25,330.25,{"$f":"'Points Calculation'!$BO32","v":330.25},{"$f":"'Points Calculation'!$BX32","v":330.25},null,{"$f":"'Points Calculation'!BQ32","v":396.3},{"$f":"'Points Calculation'!BZ32","v":396.3},null,"","",null,null,null,null,null,null,null,null,null,null,null,null,null,null,null,null,null,null,null,null,null,null,null,null,null,null,null,null,null,null,null,null,null,null,null,null,null,null,null,null,null,null,null,null,null,null,null,null,null,null,null,null,null,null,null,null,null,null,null,null,null,null,null,null,null,null,null,null,null,null,null,null,null,null,null,null,null,null,null,null,null,null,null,null,null,null,null,null,null,null,null,null,null,null,null,null,null,null,null,null,null,null,null,null,null,null,null,null,null,null,null,null,null,null,null,null,null,null,null,null,null,null,null,null,null,null,null,null,null,null,null,null,null,null,null,null,null,null,null,null,null,null,{"$f":"SUM((Z$5:FG$5=\"Overall\")*(Z32:FG32<=3))-SUM((Z$5:FG$5=\"Overall\")*(Z32:FG32=0))","v":0},{"$f":"SUM((AA$5:FJ$5=\"Age\")*(AA32:FJ32<=3))-SUM((AA$5:FJ$5=\"Age\")*(AA32:FJ32=0))","v":0},null,{"$f":"IF(MIN('Points Calculation'!CU32,'Points Calculation'!CV32)>0,MIN('Points Calculation'!CU32,'Points Calculation'!CV32),\"\")","v":""},{"$f":"IF(MIN('Points Calculation'!BL32,'Points Calculation'!BN32)>0,MIN('Points Calculation'!BL32,'Points Calculation'!BN32),\"\")","v":""},"","",{"$f":"'Points Calculation'!$BP32","v":396.3},null,{"$f":"IF(MIN('Points Calculation'!CZ32,'Points Calculation'!DA32)>0,MIN('Points Calculation'!CZ32,'Points Calculation'!DA32),\"\")","v":""},{"$f":"IF(MIN('Points Calculation'!BU32,'Points Calculation'!BW32)>0,MIN('Points Calculation'!BU32,'Points Calculation'!BW32),\"\")","v":""},"","",{"$f":"'Points Calculation'!$BP32","v":396.3},null,{"$f":"'Points Calculation'!BJ32","v":""},{"$f":"'Points Calculation'!BK32","v":""},{"$f":"'Points Calculation'!BL32","v":""},{"$f":"'Points Calculation'!BO32","v":330.25},null,{"$f":"'Points Calculation'!BS32","v":""},{"$f":"'Points Calculation'!BT32","v":""},{"$f":"'Points Calculation'!BU32","v":""},{"$f":"'Points Calculation'!BX32","v":330.25}]
["Laura Newboult","F",1995,{"$f":"INDEX('Age Calculation'!$A$1:'Age Calculation'!$Q$108,MATCH(C33,'Age Calculation'!$A$1:'Age Calculation'!$A$108),MATCH($A$1,'Age Calculation'!$A$1:'Age Calculation'!$Q$1))","v":"U21"},20781,null,{"$f":"VLOOKUP(E33,'Start of Year Points'!A$2:I$62,9,FALSE)","v":428.94},{"$f":"VLOOKUP(E33,'Start of Year Points'!A$2:L$62,12,FALSE)","v":428.94},{"$f":"VLOOKUP(E33,'Start of Year Points'!A$2:L$62,11,FALSE)","v":428.94},{"$error":"#N/A"},{"$error":"#N/A"},{"$error":"#N/A"},{"$error":"#N/A"},null,428.94,428.94,{"$f":"'Points Calculation'!$BO33","v":428.94},{"$f":"'Points Calculation'!$BX33","v":428.94},null,{"$f":"'Points Calculation'!BQ33","v":514.73},{"$f":"'Points Calculation'!BZ33","v":514.73},null,"","",null,null,null,null,null,null,null,null,null,null,null,null,null,null,null,null,null,null,null,null,null,null,null,null,null,null,null,null,null,null,null,null,null,null,null,null,null,null,null,null,null,null,null,null,null,null,null,null,null,null,null,null,null,null,null,null,null,null,null,null,null,null,null,null,null,null,null,null,null,null,null,null,null,null,null,null,null,null,null,null,null,null,null,null,null,null,null,null,null,null,null,null,null,null,null,null,null,null,null,null,null,null,null,null,null,null,null,null,null,null,null,null,null,null,null,null,null,null,null,null,null,null,null,null,null,null,null,null,null,null,null,null,null,null,null,null,null,null,null,null,null,null,{"$f":"SUM((Z$5:FG$5=\"Overall\")*(Z33:FG33<=3))-SUM((Z$5:FG$5=\"Overall\")*(Z33:FG33=0))","v":0},{"$f":"SUM((AA$5:FJ$5=\"Age\")*(AA33:FJ33<=3))-SUM((AA$5:FJ$5=\"Age\")*(AA33:FJ33=0))","v":0},null,{"$f":"IF(MIN('Points Calculation'!CU33,'Points Calculation'!CV33)>0,MIN('Points Calculation'!CU33,'Points Calculation'!CV33),\"\")","v":""},{"$f":"IF(MIN('Points Calculation'!BL33,'Points Calculation'!BN33)>0,MIN('Points Calculation'!BL33,'Points Calculation'!BN33),\"\")","v":""},"","",{"$f":"'Points Calculation'!$BP33","v":514.73},null,{"$f":"IF(MIN('Points Calculation'!CZ33,'Points Calculation'!DA33)>0,MIN('Points Calculation'!CZ33,'Points Calculation'!DA33),\"\")","v":""},{"$f":"IF(MIN('Points Calculation'!BU33,'Points Calculation'!BW33)>0,MIN('Points Calculation'!BU33,'Points Calculation'!BW33),\"\")","v":""},"","",{"$f":"'Points Calculation'!$BP33","v":514.73},null,{"$f":"'Points Calculation'!BJ33","v":""},{"$f":"'Points Calculation'!BK33","v":""},{"$f":"'Points Calculation'!BL33","v":""},{"$f":"'Points Calculation'!BO33","v":428.94},null,{"$f":"'Points Calculation'!BS33","v":""},{"$f":"'Points Calculation'!BT33","v":""},{"$f":"'Points Calculation'!BU33","v":""},{"$f":"'Points Calculation'!BX33","v":428.94}]
["Robyn Doherty","F",1996,{"$f":"INDEX('Age Calculation'!$A$1:'Age Calculation'!$Q$108,MATCH(C34,'Age Calculation'!$A$1:'Age Calculation'!$A$108),MATCH($A$1,'Age Calculation'!$A$1:'Age Calculation'!$Q$1))","v":"U21"},19573,null,{"$f":"VLOOKUP(E34,'Start of Year Points'!A$2:I$62,9,FALSE)","v":636.34},{"$f":"VLOOKUP(E34,'Start of Year Points'!A$2:L$62,12,FALSE)","v":636.34},{"$f":"VLOOKUP(E34,'Start of Year Points'!A$2:L$62,11,FALSE)","v":636.34},636.34,636.34,636.34,636.34,null,636.34,636.34,{"$f":"'Points Calculation'!$BO34","v":636.34},{"$f":"'Points Calculation'!$BX34","v":636.34},null,{"$f":"'Points Calculation'!BQ34","v":763.61},{"$f":"'Points Calculation'!BZ34","v":763.61},null,"","",null,null,null,null,null,null,null,null,null,null,null,null,null,null,null,null,null,null,null,null,null,null,null,null,null,null,null,null,null,null,null,null,null,null,null,null,null,null,null,null,null,null,null,null,null,null,null,null,null,null,null,null,null,null,null,null,null,null,null,null,null,null,null,null,null,null,null,null,null,null,null,null,null,null,null,null,null,null,null,null,null,null,null,null,null,null,null,null,null,null,null,null,null,null,null,null,null,null,null,null,null,null,null,null,null,null,null,null,null,null,null,null,null,null,null,null,null,null,null,null,null,null,null,null,null,null,null,null,null,null,null,null,null,null,null,null,null,null,null,null,null,null,{"$f":"SUM((Z$5:FG$5=\"Overall\")*(Z34:FG34<=3))-SUM((Z$5:FG$5=\"Overall\")*(Z34:FG34=0))","v":0},{"$f":"SUM((AA$5:FJ$5=\"Age\")*(AA34:FJ34<=3))-SUM((AA$5:FJ$5=\"Age\")*(AA34:FJ34=0))","v":0},null,{"$f":"IF(MIN('Points Calculation'!CU34,'Points Calculation'!CV34)>0,MIN('Points Calculation'!CU34,'Points Calculation'!CV34),\"\")","v":""},{"$f":"IF(MIN('Points Calculation'!BL34,'Points Calculation'!BN34)>0,MIN('Points Calculation'!BL34,'Points Calculation'!BN34),\"\")","v":""},"","",{"$f":"'Points Calculation'!$BP34","v":763.61},null,{"$f":"IF(MIN('Points Calculation'!CZ34,'Points Calculation'!DA34)>0,MIN('Points Calculation'!CZ34,'Points Calculation'!DA34),\"\")","v":""},{"$f":"IF(MIN('Points Calculation'!BU34,'Points Calculation'!BW34)>0,MIN('Points Calculation'!BU34,'Points Calculation'!BW34),\"\")","v":""},"","",{"$f":"'Points Calculation'!$BP34","v":763.61},null,{"$f":"'Points Calculation'!BJ34","v":""},{"$f":"'Points Calculation'!BK34","v":""},{"$f":"'Points Calculation'!BL34","v":""},{"$f":"'Points Calculation'!BO34","v":636.34},null,{"$f":"'Points Calculation'!BS34","v":""},{"$f":"'Points Calculation'!BT34","v":""},{"$f":"'Points Calculation'!BU34","v":""},{"$f":"'Points Calculation'!BX34","v":636.34}]
["Jane Lee","F",1954,{"$f":"INDEX('Age Calculation'!$A$1:'Age Calculation'!$Q$108,MATCH(C35,'Age Calculation'!$A$1:'Age Calculation'!$A$108),MATCH($A$1,'Age Calculation'!$A$1:'Age Calculation'!$Q$1))","v":"MAS"},41577,null,{"$f":"VLOOKUP(E35,'Start of Year Points'!A$2:I$62,9,FALSE)","v":640.45000000000005},{"$f":"VLOOKUP(E35,'Start of Year Points'!A$2:L$62,12,FALSE)","v":640.45000000000005},{"$f":"VLOOKUP(E35,'Start of Year Points'!A$2:L$62,11,FALSE)","v":640.45000000000005},{"$error":"#N/A"},{"$error":"#N/A"},{"$error":"#N/A"},{"$error":"#N/A"},null,640.45000000000005,640.45000000000005,{"$f":"'Points Calculation'!$BO35","v":640.45000000000005},{"$f":"'Points Calculation'!$BX35","v":640.45000000000005},null,{"$f":"'Points Calculation'!BQ35","v":768.54},{"$f":"'Points Calculation'!BZ35","v":768.54},null,"","",null,null,null,null,null,null,null,null,null,null,null,null,null,null,null,null,null,null,null,null,null,null,null,null,null,null,null,null,null,null,null,null,null,null,null,null,null,null,null,null,null,null,null,null,null,null,null,null,null,null,null,null,null,null,null,null,null,null,null,null,null,null,null,null,null,null,null,null,null,null,null,null,null,null,null,null,null,null,null,null,null,null,null,null,null,null,null,null,null,null,null,null,null,null,null,null,null,null,null,null,null,null,null,null,null,null,null,null,null,null,null,null,null,null,null,null,null,null,null,null,null,null,null,null,null,null,null,null,null,null,null,null,null,null,null,null,null,null,null,null,null,null,{"$f":"SUM((Z$5:FG$5=\"Overall\")*(Z35:FG35<=3))-SUM((Z$5:FG$5=\"Overall\")*(Z35:FG35=0))","v":0},{"$f":"SUM((AA$5:FJ$5=\"Age\")*(AA35:FJ35<=3))-SUM((AA$5:FJ$5=\"Age\")*(AA35:FJ35=0))","v":0},null,{"$f":"IF(MIN('Points Calculation'!CU35,'Points Calculation'!CV35)>0,MIN('Points Calculation'!CU35,'Points Calculation'!CV35),\"\")","v":""},{"$f":"IF(MIN('Points Calculation'!BL35,'Points Calculation'!BN35)>0,MIN('Points Calculation'!BL35,'Points Calculation'!BN35),\"\")","v":""},"","",{"$f":"'Points Calculation'!$BP35","v":768.54},null,{"$f":"IF(MIN('Points Calculation'!CZ35,'Points Calculation'!DA35)>0,MIN('Points Calculation'!CZ35,'Points Calculation'!DA35),\"\")","v":""},{"$f":"IF(MIN('Points Calculation'!BU35,'Points Calculation'!BW35)>0,MIN('Points Calculation'!BU35,'Points Calculation'!BW35),\"\")","v":""},"","",{"$f":"'Points Calculation'!$BP35","v":768.54},null,{"$f":"'Points Calculation'!BJ35","v":""},{"$f":"'Points Calculation'!BK35","v":""},{"$f":"'Points Calculation'!BL35","v":""},{"$f":"'Points Calculation'!BO35","v":640.45000000000005},null,{"$f":"'Points Calculation'!BS35","v":""},{"$f":"'Points Calculation'!BT35","v":""},{"$f":"'Points Calculation'!BU35","v":""},{"$f":"'Points Calculation'!BX35","v":640.45000000000005}]
["Emily Dawes","F",1991,{"$f":"INDEX('Age Calculation'!$A$1:'Age Calculation'!$Q$108,MATCH(C36,'Age Calculation'!$A$1:'Age Calculation'!$A$108),MATCH($A$1,'Age Calculation'!$A$1:'Age Calculation'!$Q$1))","v":"SEN"},14263,null,"NR","NR","NR",{"$error":"#N/A"},{"$error":"#N/A"},{"$error":"#N/A"},{"$error":"#N/A"},null,"NR","NR","NR","NR",null,"NR","NR",null,"","",null,null,null,null,null,null,null,null,null,null,null,null,null,null,null,null,null,null,null,null,null,null,null,null,null,null,null,null,null,null,null,null,null,null,null,null,null,null,null,null,null,null,null,null,null,null,null,null,null,null,null,null,null,null,null,null,null,null,null,null,null,null,null,null,null,null,null,null,null,null,null,null,null,null,null,null,null,null,null,null,null,null,null,null,null,null,null,null,null,null,null,null,null,null,null,null,null,null,null,null,null,null,null,null,null,null,null,null,null,null,null,null,null,null,null,null,null,null,null,null,null,null,null,null,null,null,null,null,null,null,null,null,null,null,null,null,null,null,null,null,null,null,{"$f":"SUM((Z$5:FG$5=\"Overall\")*(Z36:FG36<=3))-SUM((Z$5:FG$5=\"Overall\")*(Z36:FG36=0))","v":0},{"$f":"SUM((AA$5:FJ$5=\"Age\")*(AA36:FJ36<=3))-SUM((AA$5:FJ$5=\"Age\")*(AA36:FJ36=0))","v":0},null,{"$f":"IF(MIN('Points Calculation'!CU36,'Points Calculation'!CV36)>0,MIN('Points Calculation'!CU36,'Points Calculation'!CV36),\"\")","v":""},{"$f":"IF(MIN('Points Calculation'!BL36,'Points Calculation'!BN36)>0,MIN('Points Calculation'!BL36,'Points Calculation'!BN36),\"\")","v":""},"","",null,null,{"$f":"IF(MIN('Points Calculation'!CZ36,'Points Calculation'!DA36)>0,MIN('Points Calculation'!CZ36,'Points Calculation'!DA36),\"\")","v":""},{"$f":"IF(MIN('Points Calculation'!BU36,'Points Calculation'!BW36)>0,MIN('Points Calculation'!BU36,'Points Calculation'!BW36),\"\")","v":""},"","",null,null,{"$f":"'Points Calculation'!BJ36","v":""},{"$f":"'Points Calculation'!BK36","v":""},{"$f":"'Points Calculation'!BL36","v":""},null,null,{"$f":"'Points Calculation'!BS36","v":""},{"$f":"'Points Calculation'!BT36","v":""},{"$f":"'Points Calculation'!BU36","v":""}]
["Sophia Phelps","F",1994,{"$f":"INDEX('Age Calculation'!$A$1:'Age Calculation'!$Q$108,MATCH(C37,'Age Calculation'!$A$1:'Age Calculation'!$A$108),MATCH($A$1,'Age Calculation'!$A$1:'Age Calculation'!$Q$1))","v":"U21"},17839,null,"NR","NR","NR",{"$error":"#N/A"},{"$error":"#N/A"},{"$error":"#N/A"},{"$error":"#N/A"},null,"NR","NR","NR","NR",null,"NR","NR",null,"","",null,null,null,null,null,null,null,null,null,null,null,null,null,null,null,null,null,null,null,null,null,null,null,null,null,null,null,null,null,null,null,null,null,null,null,null,null,null,null,null,null,null,null,null,null,null,null,null,null,null,null,null,null,null,null,null,null,null,null,null,null,null,null,null,null,null,null,null,null,null,null,null,null,null,null,null,null,null,null,null,null,null,null,null,null,null,null,null,null,null,null,null,null,null,null,null,null,null,null,null,null,null,null,null,null,null,null,null,null,null,null,null,null,null,null,null,null,null,null,null,null,null,null,null,null,null,null,null,null,null,null,null,null,null,null,null,null,null,null,null,null,null,{"$f":"SUM((Z$5:FG$5=\"Overall\")*(Z37:FG37<=3))-SUM((Z$5:FG$5=\"Overall\")*(Z37:FG37=0))","v":0},{"$f":"SUM((AA$5:FJ$5=\"Age\")*(AA37:FJ37<=3))-SUM((AA$5:FJ$5=\"Age\")*(AA37:FJ37=0))","v":0},null,{"$f":"IF(MIN('Points Calculation'!CU37,'Points Calculation'!CV37)>0,MIN('Points Calculation'!CU37,'Points Calculation'!CV37),\"\")","v":""},{"$f":"IF(MIN('Points Calculation'!BL37,'Points Calculation'!BN37)>0,MIN('Points Calculation'!BL37,'Points Calculation'!BN37),\"\")","v":""},"","",null,null,{"$f":"IF(MIN('Points Calculation'!CZ37,'Points Calculation'!DA37)>0,MIN('Points Calculation'!CZ37,'Points Calculation'!DA37),\"\")","v":""},{"$f":"IF(MIN('Points Calculation'!BU37,'Points Calculation'!BW37)>0,MIN('Points Calculation'!BU37,'Points Calculation'!BW37),\"\")","v":""},"","",null,null,{"$f":"'Points Calculation'!BJ37","v":""},{"$f":"'Points Calculation'!BK37","v":""},{"$f":"'Points Calculation'!BL37","v":""},null,null,{"$f":"'Points Calculation'!BS37","v":""},{"$f":"'Points Calculation'!BT37","v":""},{"$f":"'Points Calculation'!BU37","v":""}]
["Olivia Waller","F",1994,{"$f":"INDEX('Age Calculation'!$A$1:'Age Calculation'!$Q$108,MATCH(C38,'Age Calculation'!$A$1:'Age Calculation'!$A$108),MATCH($A$1,'Age Calculation'!$A$1:'Age Calculation'!$Q$1))","v":"U21"},17516,null,"NR","NR","NR",{"$error":"#N/A"},{"$error":"#N/A"},{"$error":"#N/A"},{"$error":"#N/A"},null,"NR","NR","NR","NR",null,"NR","NR",null,"","",null,null,null,null,null,null,null,null,null,null,null,null,null,null,null,null,null,null,null,null,null,null,null,null,null,null,null,null,null,null,null,null,null,null,null,null,null,null,null,null,null,null,null,null,null,null,null,null,null,null,null,null,null,null,null,null,null,null,null,null,null,null,null,null,null,null,null,null,null,null,null,null,null,null,null,null,null,null,null,null,null,null,null,null,null,null,null,null,null,null,null,null,null,null,null,null,null,null,null,null,null,null,null,null,null,null,null,null,null,null,null,null,null,null,null,null,null,null,null,null,null,null,null,null,null,null,null,null,null,null,null,null,null,null,null,null,null,null,null,null,null,null,{"$f":"SUM((Z$5:FG$5=\"Overall\")*(Z38:FG38<=3))-SUM((Z$5:FG$5=\"Overall\")*(Z38:FG38=0))","v":0},{"$f":"SUM((AA$5:FJ$5=\"Age\")*(AA38:FJ38<=3))-SUM((AA$5:FJ$5=\"Age\")*(AA38:FJ38=0))","v":0},null,{"$f":"IF(MIN('Points Calculation'!CU38,'Points Calculation'!CV38)>0,MIN('Points Calculation'!CU38,'Points Calculation'!CV38),\"\")","v":""},{"$f":"IF(MIN('Points Calculation'!BL38,'Points Calculation'!BN38)>0,MIN('Points Calculation'!BL38,'Points Calculation'!BN38),\"\")","v":""},"","",null,null,{"$f":"IF(MIN('Points Calculation'!CZ38,'Points Calculation'!DA38)>0,MIN('Points Calculation'!CZ38,'Points Calculation'!DA38),\"\")","v":""},{"$f":"IF(MIN('Points Calculation'!BU38,'Points Calculation'!BW38)>0,MIN('Points Calculation'!BU38,'Points Calculation'!BW38),\"\")","v":""},"","",null,null,{"$f":"'Points Calculation'!BJ38","v":""},{"$f":"'Points Calculation'!BK38","v":""},{"$f":"'Points Calculation'!BL38","v":""},null,null,{"$f":"'Points Calculation'!BS38","v":""},{"$f":"'Points Calculation'!BT38","v":""},{"$f":"'Points Calculation'!BU38","v":""}]
["Agathe Vallat","F",1999,"U16",21606,null,465.82,465.82,465.82,465.82,465.82,465.82,465.82,null,220.08,465.82,"NR","NR",null,"NR","NR",null,-245.73999999999998,"",null,null,null,null,null,null,18,4,183.4,null,null,null,null,null,null,null,null,null,null,null,null,null,null,null,null,null,null,null,null,null,null,null,null,null,null,null,null,null,null,null,null,null,null,null,null,null,null,null,null,null,null,null,null,null,null,null,null,null,null,null,null,null,null,null,null,null,null,null,null,null,null,null,null,null,null,27,10,224.71,null,null,null,null,null,null,null,null,null,null,null,null,null,null,null,null,null,null,null,null,null,null,null,null,null,null,null,null,null,null,null,null,null,null,null,null,null,null,null,null,null,null,null,null,null,null,null,null,null,null,null,null,null,null,null,null,null,null,null,null,null,null,null,null,{"$f":"SUM((Z$5:FG$5=\"Overall\")*(Z39:FG39<=3))-SUM((Z$5:FG$5=\"Overall\")*(Z39:FG39=0))","v":0},{"$f":"SUM((AA$5:FJ$5=\"Age\")*(AA39:FJ39<=3))-SUM((AA$5:FJ$5=\"Age\")*(AA39:FJ39=0))","v":0},null,{"$f":"IF(MIN('Points Calculation'!CU39,'Points Calculation'!CV39)>0,MIN('Points Calculation'!CU39,'Points Calculation'!CV39),\"\")","v":""},{"$f":"IF(MIN('Points Calculation'!BL39,'Points Calculation'!BN39)>0,MIN('Points Calculation'!BL39,'Points Calculation'!BN39),\"\")","v":220.08},"","",{"$f":"'Points Calculation'!$BP39","v":558.98},null,{"$f":"IF(MIN('Points Calculation'!CZ39,'Points Calculation'!DA39)>0,MIN('Points Calculation'!CZ39,'Points Calculation'!DA39),\"\")","v":""},{"$f":"IF(MIN('Points Calculation'!BU39,'Points Calculation'!BW39)>0,MIN('Points Calculation'!BU39,'Points Calculation'!BW39),\"\")","v":""},"","",{"$f":"'Points Calculation'!$BP39","v":558.98},null,{"$f":"'Points Calculation'!BJ39","v":183.4},{"$f":"'Points Calculation'!BK39","v":""},{"$f":"'Points Calculation'!BL39","v":""},{"$f":"'Points Calculation'!BO39","v":220.08},null,{"$f":"'Points Calculation'!BS39","v":""},{"$f":"'Points Calculation'!BT39","v":""},{"$f":"'Points Calculation'!BU39","v":""},{"$f":"'Points Calculation'!BX39","v":465.82}]
["Rose Tinley","F",1998,"U18","Day",null,"NR","NR","NR","NR","NR","NR","NR",null,"NR","NR","NR","NR",null,"NR","NR",null,"",""]
["Rebecca Tinley","F",2000,"U16","Day",null,"NR","NR","NR","NR","NR","NR","NR",null,"NR","NR","NR","NR",null,"NR","NR",null,"",""]
["Carys Phillips","F",1999,"U16","Day",null,"NR","NR","NR","NR","NR","NR","NR",null,"NR","NR","NR","NR",null,"NR","NR",null,{"$f":"IF(G42<999.99,IF(MIN(O42,L42)<G42,MIN(O42,L42)-G42,\"\"),\"\")","v":""},{"$f":"IF(G42<999.99,IF(MIN(P42,M42)<G42,MIN(P42,M42)-G42,\"\"),\"\")","v":""},null,null,null,null,null,null,null,null,null,null,null,null,null,null,null,null,null,null,null,null,null,null,null,null,null,null,null,null,null,null,null,null,null,null,null,null,null,null,null,null,null,null,null,null,null,null,null,null,null,null,null,null,null,null,null,null,null,null,null,null,null,null,null,null,null,null,null,null,null,null,null,null,null,null,null,null,null,null,null,null,null,null,null,null,null,null,null,null,null,null,null,null,null,null,null,null,null,null,null,null,null,null,null,null,null,null,null,null,null,null,null,null,null,null,null,null,null,null,null,null,null,null,null,null,null,null,null,null,null,null,null,null,null,null,null,null,null,null,null,null,null,null,{"$f":"SUM((Z$5:FG$5=\"Overall\")*(Z42:FG42<=3))-SUM((Z$5:FG$5=\"Overall\")*(Z42:FG42=0))","v":0},{"$f":"SUM((AA$5:FJ$5=\"Age\")*(AA42:FJ42<=3))-SUM((AA$5:FJ$5=\"Age\")*(AA42:FJ42=0))","v":0},null,{"$f":"IF(MIN('Points Calculation'!CU40,'Points Calculation'!CV40)>0,MIN('Points Calculation'!CU40,'Points Calculation'!CV40),\"\")","v":""},{"$f":"IF(MIN('Points Calculation'!BL40,'Points Calculation'!BN40)>0,MIN('Points Calculation'!BL40,'Points Calculation'!BN40),\"\")","v":""},"","",null,null,{"$f":"IF(MIN('Points Calculation'!CZ40,'Points Calculation'!DA40)>0,MIN('Points Calculation'!CZ40,'Points Calculation'!DA40),\"\")","v":""},{"$f":"IF(MIN('Points Calculation'!BU40,'Points Calculation'!BW40)>0,MIN('Points Calculation'!BU40,'Points Calculation'!BW40),\"\")","v":""},"","",null,null,{"$f":"'Points Calculation'!BJ40","v":""},{"$f":"'Points Calculation'!BK40","v":""},{"$f":"'Points Calculation'!BL40","v":""},null,null,{"$f":"'Points Calculation'!BS40","v":""},{"$f":"'Points Calculation'!BT40","v":""},{"$f":"'Points Calculation'!BU40","v":""}]
["MALES",null,null,null,null,null,null,null,null,null,null,null,null,null,null,null,null,null,null,{"$f":"IF('Points Calculation'!BO44<P43,'Points Calculation'!BO44,\"\")","v":""},{"$f":"IF('Points Calculation'!CG44<O43,'Points Calculation'!CG44,\"\")","v":""},null,null,null,null,null,null,null,null,null,null,null,null,null,null,null,null,null,null,null,null,null,null,null,null,null,null,null,null,null,null,null,null,null,null,null,null,null,null,null,null,null,null,null,null,null,null,null,null,null,null,null,null,null,null,null,null,null,null,null,null,null,null,null,null,null,null,null,null,null,null,null,null,null,null,null,null,null,null,null,null,null,null,null,null,null,null,null,null,null,null,null,null,null,null,null,null,null,null,null,null,null,null,null,null,null,null,null,null,null,null,null,null,null,null,null,null,null,null,null,null,null,null,null,null,null,null,null,null,null,null,null,null,null,null,null,null,null,null,null,null,null,null,null,null,null," "]
["Harry Hornsby","M",1991,{"$f":"INDEX('Age Calculation'!$A$1:'Age Calculation'!$Q$108,MATCH(C44,'Age Calculation'!$A$1:'Age Calculation'!$A$108),MATCH($A$1,'Age Calculation'!$A$1:'Age Calculation'!$Q$1))","v":"SEN"},17356,null,{"$f":"VLOOKUP(E44,'Start of Year Points'!A$2:I$62,9,FALSE)","v":5.41},{"$f":"VLOOKUP(E44,'Start of Year Points'!A$2:L$62,12,FALSE)","v":5.28},{"$f":"VLOOKUP(E44,'Start of Year Points'!A$2:L$62,11,FALSE)","v":5.41},5.28,5.41,5.28,5.41,null,5.28,5.41,{"$f":"'Points Calculation'!$BO42","v":5.28},{"$f":"'Points Calculation'!$BX42","v":5.41},null,{"$f":"'Points Calculation'!BQ42","v":7.8},{"$f":"'Points Calculation'!BZ42","v":15.41},null,{"$f":"IF(G44<999.99,IF(MIN(O44,Q44)<G44,MIN(O44,Q44)-G44,\"\"),\"\")","v":-0.12999999999999989},{"$f":"IF(G44<999.99,IF(MIN(P44,R44)<G44,MIN(P44,R44)-G44,\"\"),\"\")","v":""},null,null,null,null,5,34.99,1,1,5.14,null,null,null,null,null,null,null,null,null,null,null,null,null,null,null,null,null,null,null,null,null,null,null,null,null,null,"DNF","DNF","DNF","DNF","DNF","DNF",null,null,null,"DNS","DNS","DNS",null,null,null,null,null,null,2,2,17.86,null,null,null,null,null,null,null,1,1,10.45,null,null,null,1,1,20.12,4,3,27.47,3,2,11.9,null,null,null,3,3,16.34,null,null,null,null,null,null,null,null,null,null,null,null,null,null,null,null,null,null,null,null,null,null,null,null,null,null,6,5,21.88,null,null,null,null,null,null,null,null,null,null,null,null,null,null,null,null,null,null,null,null,null,null,null,null,null,null,null,null,null,{"$f":"SUM((Z$5:FG$5=\"Overall\")*(Z44:FG44<=3))-SUM((Z$5:FG$5=\"Overall\")*(Z44:FG44=0))","v":6},{"$f":"SUM((AA$5:FJ$5=\"Age\")*(AA44:FJ44<=3))-SUM((AA$5:FJ$5=\"Age\")*(AA44:FJ44=0))","v":7},null,{"$f":"IF(MIN('Points Calculation'!CU42,'Points Calculation'!CV42)>0,MIN('Points Calculation'!CU42,'Points Calculation'!CV42),\"\")","v":19.11},{"$f":"IF(MIN('Points Calculation'!BL42,'Points Calculation'!BN42)>0,MIN('Points Calculation'!BL42,'Points Calculation'!BN42),\"\")","v":7.8},{"$f":"IF(FN44<>\"\",FN44-FO44,\"\")","v":11.309999999999999},{"$f":"IF(FN44<>\"\",FP44/FO44,\"\")","v":1.45},{"$f":"'Points Calculation'!$BP42","v":15.41},null,{"$f":"IF(MIN('Points Calculation'!CZ42,'Points Calculation'!DA42)>0,MIN('Points Calculation'!CZ42,'Points Calculation'!DA42),\"\")","v":44.99},{"$f":"IF(MIN('Points Calculation'!BU42,'Points Calculation'!BW42)>0,MIN('Points Calculation'!BU42,'Points Calculation'!BW42),\"\")","v":44.99},{"$f":"IF(FT44<>\"\",FT44-FU44,\"\")","v":0},{"$f":"IF(FT44<>\"\",FV44/FU44,\"\")","v":0},{"$f":"'Points Calculation'!$BP42","v":15.41},null,{"$f":"'Points Calculation'!BJ42","v":5.14},{"$f":"'Points Calculation'!BK42","v":10.45},{"$f":"'Points Calculation'!BL42","v":7.8},{"$f":"'Points Calculation'!BO42","v":5.28},null,{"$f":"'Points Calculation'!BS42","v":34.99},{"$f":"'Points Calculation'!BT42","v":""},{"$f":"'Points Calculation'!BU42","v":""},{"$f":"'Points Calculation'!BX42","v":5.41}]
["Jonny Powell","M",1986,{"$f":"INDEX('Age Calculation'!$A$1:'Age Calculation'!$Q$108,MATCH(C45,'Age Calculation'!$A$1:'Age Calculation'!$A$108),MATCH($A$1,'Age Calculation'!$A$1:'Age Calculation'!$Q$1))","v":"SEN"},17479,null,{"$f":"VLOOKUP(E45,'Start of Year Points'!A$2:I$62,9,FALSE)","v":18.72},{"$f":"VLOOKUP(E45,'Start of Year Points'!A$2:L$62,12,FALSE)","v":18.72},{"$f":"VLOOKUP(E45,'Start of Year Points'!A$2:L$62,11,FALSE)","v":18.72},18.72,18.72,18.72,18.72,null,18.72,18.72,{"$f":"'Points Calculation'!$BO43","v":18.72},{"$f":"'Points Calculation'!$BX43","v":18.72},null,{"$f":"'Points Calculation'!BQ43","v":28.72},{"$f":"'Points Calculation'!BZ43","v":28.72},null,"","",null,null,null,null,9,51.35,4,3,46.86,null,null,null,null,null,null,null,null,null,null,null,9,3,64,null,null,null,null,null,null,4,4,54.16,"DNS","DNS","DNS",null,null,null,"DNF","DNF","DNF",null,null,null,"DNS","DNS","DNS",null,null,null,null,null,null,null,null,null,null,null,null,null,null,null,null,null,null,null,null,null,null,null,null,null,null,null,null,null,null,null,null,null,null,null,null,null,null,null,null,null,null,null,null,null,null,null,null,null,null,null,null,null,null,null,null,null,null,null,null,null,null,null,null,null,null,null,null,null,null,null,null,null,null,null,null,null,null,null,null,null,null,null,null,null,null,null,null,null,null,null,null,null,null,null,{"$f":"SUM((Z$5:FG$5=\"Overall\")*(Z45:FG45<=3))-SUM((Z$5:FG$5=\"Overall\")*(Z45:FG45=0))","v":0},{"$f":"SUM((AA$5:FJ$5=\"Age\")*(AA45:FJ45<=3))-SUM((AA$5:FJ$5=\"Age\")*(AA45:FJ45=0))","v":2},null,{"$f":"IF(MIN('Points Calculation'!CU43,'Points Calculation'!CV43)>0,MIN('Points Calculation'!CU43,'Points Calculation'!CV43),\"\")","v":59.08},{"$f":"IF(MIN('Points Calculation'!BL43,'Points Calculation'!BN43)>0,MIN('Points Calculation'!BL43,'Points Calculation'!BN43),\"\")","v":50.51},8.57,0.16966937240150468,{"$f":"'Points Calculation'!$BP43","v":28.72},null,{"$f":"IF(MIN('Points Calculation'!CZ43,'Points Calculation'!DA43)>0,MIN('Points Calculation'!CZ43,'Points Calculation'!DA43),\"\")","v":61.62},{"$f":"IF(MIN('Points Calculation'!BU43,'Points Calculation'!BW43)>0,MIN('Points Calculation'!BU43,'Points Calculation'!BW43),\"\")","v":61.62},0,0,{"$f":"'Points Calculation'!$BP43","v":28.72},null,{"$f":"'Points Calculation'!BJ43","v":46.86},{"$f":"'Points Calculation'!BK43","v":54.16},{"$f":"'Points Calculation'!BL43","v":50.51},{"$f":"'Points Calculation'!BO43","v":18.72},null,{"$f":"'Points Calculation'!BS43","v":51.35},{"$f":"'Points Calculation'!BT43","v":""},{"$f":"'Points Calculation'!BU43","v":""},{"$f":"'Points Calculation'!BX43","v":18.72}]
["Andrew Du Plessis","M",1985,{"$f":"INDEX('Age Calculation'!$A$1:'Age Calculation'!$Q$108,MATCH(C46,'Age Calculation'!$A$1:'Age Calculation'!$A$108),MATCH($A$1,'Age Calculation'!$A$1:'Age Calculation'!$Q$1))","v":"SEN"},12318,null,{"$f":"VLOOKUP(E46,'Start of Year Points'!A$2:I$62,9,FALSE)","v":23.04},{"$f":"VLOOKUP(E46,'Start of Year Points'!A$2:L$62,12,FALSE)","v":23.04},{"$f":"VLOOKUP(E46,'Start of Year Points'!A$2:L$62,11,FALSE)","v":23.04},23.04,23.04,23.04,23.04,null,23.04,23.04,{"$f":"'Points Calculation'!$BO44","v":23.04},{"$f":"'Points Calculation'!$BX44","v":23.04},null,{"$f":"'Points Calculation'!BQ44","v":33.04},{"$f":"'Points Calculation'!BZ44","v":33.04},null,"","",null,null,null,null,null,null,null,null,null,null,null,null,null,null,null,null,null,null,null,null,null,null,null,null,null,null,null,null,null,null,null,null,null,null,null,null,null,null,null,null,null,null,null,null,null,null,null,null,null,null,null,null,null,6,5,26.88,null,null,null,null,null,null,null,null,null,null,null,null,null,null,null,null,null,null,null,null,null,null,null,null,null,null,null,null,null,null,null,null,null,null,null,null,null,null,null,null,null,null,null,null,null,null,null,null,null,null,null,null,null,null,null,null,null,null,null,null,null,null,null,null,null,null,null,null,null,null,null,null,null,null,null,null,null,null,null,null,null,null,null,null,null,null,{"$f":"SUM((Z$5:FG$5=\"Overall\")*(Z46:FG46<=3))-SUM((Z$5:FG$5=\"Overall\")*(Z46:FG46=0))","v":0},{"$f":"SUM((AA$5:FJ$5=\"Age\")*(AA46:FJ46<=3))-SUM((AA$5:FJ$5=\"Age\")*(AA46:FJ46=0))","v":0},null,{"$f":"IF(MIN('Points Calculation'!CU44,'Points Calculation'!CV44)>0,MIN('Points Calculation'!CU44,'Points Calculation'!CV44),\"\")","v":""},{"$f":"IF(MIN('Points Calculation'!BL44,'Points Calculation'!BN44)>0,MIN('Points Calculation'!BL44,'Points Calculation'!BN44),\"\")","v":36.879999999999995},"","",{"$f":"'Points Calculation'!$BP44","v":33.04},null,{"$f":"IF(MIN('Points Calculation'!CZ44,'Points Calculation'!DA44)>0,MIN('Points Calculation'!CZ44,'Points Calculation'!DA44),\"\")","v":""},{"$f":"IF(MIN('Points Calculation'!BU44,'Points Calculation'!BW44)>0,MIN('Points Calculation'!BU44,'Points Calculation'!BW44),\"\")","v":""},"","",{"$f":"'Points Calculation'!$BP44","v":33.04},null,{"$f":"'Points Calculation'!BJ44","v":26.88},{"$f":"'Points Calculation'!BK44","v":""},{"$f":"'Points Calculation'!BL44","v":""},{"$f":"'Points Calculation'!BO44","v":23.04},null,{"$f":"'Points Calculation'!BS44","v":""},{"$f":"'Points Calculation'!BT44","v":""},{"$f":"'Points Calculation'!BU44","v":""},{"$f":"'Points Calculation'!BX44","v":23.04}]
["Adam Beardmore","M",1986,{"$f":"INDEX('Age Calculation'!$A$1:'Age Calculation'!$Q$108,MATCH(C47,'Age Calculation'!$A$1:'Age Calculation'!$A$108),MATCH($A$1,'Age Calculation'!$A$1:'Age Calculation'!$Q$1))","v":"SEN"},19704,null,{"$f":"VLOOKUP(E47,'Start of Year Points'!A$2:I$62,9,FALSE)","v":35.26},{"$f":"VLOOKUP(E47,'Start of Year Points'!A$2:L$62,12,FALSE)","v":35.26},{"$f":"VLOOKUP(E47,'Start of Year Points'!A$2:L$62,11,FALSE)","v":35.26},35.26,35.26,35.26,35.26,null,35.26,35.26,{"$f":"'Points Calculation'!$BO45","v":35.26},{"$f":"'Points Calculation'!$BX45","v":35.26},null,{"$f":"'Points Calculation'!BQ45","v":45.26},{"$f":"'Points Calculation'!BZ45","v":45.26},null,"","",null,null,null,null,null,null,null,null,null,null,null,null,null,null,null,null,null,null,null,null,null,null,null,null,null,null,null,null,null,null,null,null,null,null,null,null,null,null,null,null,null,null,null,null,null,null,null,null,null,null,null,null,null,null,null,null,null,null,null,null,null,null,null,null,null,null,null,null,null,null,null,null,null,null,null,null,null,null,null,null,null,null,null,null,null,null,null,null,null,null,null,null,null,null,null,null,null,null,null,null,null,null,null,null,null,null,null,null,null,null,null,null,null,null,null,null,null,null,null,null,null,null,null,null,null,null,null,null,null,null,null,null,null,null,null,null,null,null,null,null,null,null,{"$f":"SUM((Z$5:FG$5=\"Overall\")*(Z47:FG47<=3))-SUM((Z$5:FG$5=\"Overall\")*(Z47:FG47=0))","v":0},{"$f":"SUM((AA$5:FJ$5=\"Age\")*(AA47:FJ47<=3))-SUM((AA$5:FJ$5=\"Age\")*(AA47:FJ47=0))","v":0},null,{"$f":"IF(MIN('Points Calculation'!CU45,'Points Calculation'!CV45)>0,MIN('Points Calculation'!CU45,'Points Calculation'!CV45),\"\")","v":""},{"$f":"IF(MIN('Points Calculation'!BL45,'Points Calculation'!BN45)>0,MIN('Points Calculation'!BL45,'Points Calculation'!BN45),\"\")","v":""},"","",{"$f":"'Points Calculation'!$BP45","v":45.26},null,{"$f":"IF(MIN('Points Calculation'!CZ45,'Points Calculation'!DA45)>0,MIN('Points Calculation'!CZ45,'Points Calculation'!DA45),\"\")","v":""},{"$f":"IF(MIN('Points Calculation'!BU45,'Points Calculation'!BW45)>0,MIN('Points Calculation'!BU45,'Points Calculation'!BW45),\"\")","v":""},"","",{"$f":"'Points Calculation'!$BP45","v":45.26},null,{"$f":"'Points Calculation'!BJ45","v":""},{"$f":"'Points Calculation'!BK45","v":""},{"$f":"'Points Calculation'!BL45","v":""},{"$f":"'Points Calculation'!BO45","v":35.26},null,{"$f":"'Points Calculation'!BS45","v":""},{"$f":"'Points Calculation'!BT45","v":""},{"$f":"'Points Calculation'!BU45","v":""},{"$f":"'Points Calculation'!BX45","v":35.26}]
["Adam. Lee","M",1994,{"$f":"INDEX('Age Calculation'!$A$1:'Age Calculation'!$Q$108,MATCH(C48,'Age Calculation'!$A$1:'Age Calculation'!$A$108),MATCH($A$1,'Age Calculation'!$A$1:'Age Calculation'!$Q$1))","v":"U21"},41578,null,{"$f":"VLOOKUP(E48,'Start of Year Points'!A$2:I$62,9,FALSE)","v":38.93},{"$f":"VLOOKUP(E48,'Start of Year Points'!A$2:L$62,12,FALSE)","v":38.93},{"$f":"VLOOKUP(E48,'Start of Year Points'!A$2:L$62,11,FALSE)","v":38.93},36.39,38.93,36.39,38.93,null,36.39,38.93,{"$f":"'Points Calculation'!$BO46","v":36.39},{"$f":"'Points Calculation'!$BX46","v":38.93},null,{"$f":"'Points Calculation'!BQ46","v":37.86},{"$f":"'Points Calculation'!BZ46","v":48.93},null,-2.5399999999999991,"",null,null,null,null,14,63.61,3,1,41.88,null,null,null,null,null,null,null,null,1,1,33.840000000000003,5,2,34.11,null,null,null,null,null,null,"DNF","DNF","DNF","DNF","DNF","DNF","DNF","DNF","DNF","DNF","DNF","DNF",null,null,null,5,1,60.14,null,null,null,null,null,null,null,null,null,null,null,null,null,null,null,null,null,null,null,null,null,null,null,null,null,12,5,44.18,"DNF","DNF","DNF",39,5,588.66999999999996,15,4,63.91,null,null,null,null,null,null,null,null,null,null,null,null,7,2,56.48,null,null,null,null,null,null,5,2,67.13,9,4,19,8,55.89,null,null,null,null,null,null,16,5,84.74,18,8,92.84,null,null,null,null,null,null,null,null,null,null,null,null,null,null,null,null,null,{"$f":"SUM((Z$5:FG$5=\"Overall\")*(Z48:FG48<=3))-SUM((Z$5:FG$5=\"Overall\")*(Z48:FG48=0))","v":2},{"$f":"SUM((AA$5:FJ$5=\"Age\")*(AA48:FJ48<=3))-SUM((AA$5:FJ$5=\"Age\")*(AA48:FJ48=0))","v":6},null,{"$f":"IF(MIN('Points Calculation'!CU46,'Points Calculation'!CV46)>0,MIN('Points Calculation'!CU46,'Points Calculation'!CV46),\"\")","v":44.11},{"$f":"IF(MIN('Points Calculation'!BL46,'Points Calculation'!BN46)>0,MIN('Points Calculation'!BL46,'Points Calculation'!BN46),\"\")","v":37.86},6.25,0.16508188061278395,{"$f":"'Points Calculation'!$BP46","v":48.93},null,{"$f":"IF(MIN('Points Calculation'!CZ46,'Points Calculation'!DA46)>0,MIN('Points Calculation'!CZ46,'Points Calculation'!DA46),\"\")","v":76.331999999999994},{"$f":"IF(MIN('Points Calculation'!BU46,'Points Calculation'!BW46)>0,MIN('Points Calculation'!BU46,'Points Calculation'!BW46),\"\")","v":76.33},1.9999999999953388E-3,2.6202017555290698E-5,{"$f":"'Points Calculation'!$BP46","v":48.93},null,{"$f":"'Points Calculation'!BJ46","v":33.840000000000003},{"$f":"'Points Calculation'!BK46","v":41.88},{"$f":"'Points Calculation'!BL46","v":37.86},{"$f":"'Points Calculation'!BO46","v":36.39},null,{"$f":"'Points Calculation'!BS46","v":63.61},{"$f":"'Points Calculation'!BT46","v":""},{"$f":"'Points Calculation'!BU46","v":""},{"$f":"'Points Calculation'!BX46","v":38.93}]
["Jack Rigby","M",1995,{"$f":"INDEX('Age Calculation'!$A$1:'Age Calculation'!$Q$108,MATCH(C49,'Age Calculation'!$A$1:'Age Calculation'!$A$108),MATCH($A$1,'Age Calculation'!$A$1:'Age Calculation'!$Q$1))","v":"U21"},41722,null,{"$f":"VLOOKUP(E49,'Start of Year Points'!A$2:I$62,9,FALSE)","v":50.4},{"$f":"VLOOKUP(E49,'Start of Year Points'!A$2:L$62,12,FALSE)","v":50.4},{"$f":"VLOOKUP(E49,'Start of Year Points'!A$2:L$62,11,FALSE)","v":42.49},50.4,42.49,50.4,42.49,null,50.4,42.49,{"$f":"'Points Calculation'!$BO47","v":50.4},{"$f":"'Points Calculation'!$BX47","v":42.49},null,{"$f":"'Points Calculation'!BQ47","v":60.48},{"$f":"'Points Calculation'!BZ47","v":44.57},null,"",-7.9099999999999966,null,null,null,null,null,null,null,null,null,16,4,66.67,115.29,4,3,42.49,34.57,null,null,null,null,null,null,9,4,61.89,"DNF","DNF","DNF",null,null,null,null,null,null,null,null,null,null,null,null,null,null,null,null,null,null,null,null,null,null,null,null,null,null,null,null,null,null,null,null,null,null,null,null,null,null,null,null,null,null,null,24,12,85.01,null,null,null,null,null,null,null,null,null,null,null,null,"DNF","DNF","DNF",null,null,null,null,null,null,null,null,null,null,null,null,null,null,null,null,null,null,null,null,null,null,null,"DNF","DNF",999.99,"DNF","DNF",999.99,null,null,null,null,null,null,null,null,null,null,null,null,null,null,null,null,null,null,null,null,null,null,null,{"$f":"SUM((Z$5:FG$5=\"Overall\")*(Z49:FG49<=3))-SUM((Z$5:FG$5=\"Overall\")*(Z49:FG49=0))","v":0},{"$f":"SUM((AA$5:FJ$5=\"Age\")*(AA49:FJ49<=3))-SUM((AA$5:FJ$5=\"Age\")*(AA49:FJ49=0))","v":1},null,{"$f":"IF(MIN('Points Calculation'!CU47,'Points Calculation'!CV47)>0,MIN('Points Calculation'!CU47,'Points Calculation'!CV47),\"\")","v":""},{"$f":"IF(MIN('Points Calculation'!BL47,'Points Calculation'!BN47)>0,MIN('Points Calculation'!BL47,'Points Calculation'!BN47),\"\")","v":102.01},"","",{"$f":"'Points Calculation'!$BP47","v":60.48},null,{"$f":"IF(MIN('Points Calculation'!CZ47,'Points Calculation'!DA47)>0,MIN('Points Calculation'!CZ47,'Points Calculation'!DA47),\"\")","v":74.268000000000001},{"$f":"IF(MIN('Points Calculation'!BU47,'Points Calculation'!BW47)>0,MIN('Points Calculation'!BU47,'Points Calculation'!BW47),\"\")","v":44.57},29.698,0.66632263854610729,{"$f":"'Points Calculation'!$BP47","v":60.48},null,{"$f":"'Points Calculation'!BJ47","v":85.01},{"$f":"'Points Calculation'!BK47","v":""},{"$f":"'Points Calculation'!BL47","v":""},{"$f":"'Points Calculation'!BO47","v":50.4},null,{"$f":"'Points Calculation'!BS47","v":34.57},{"$f":"'Points Calculation'!BT47","v":61.89},{"$f":"'Points Calculation'!BU47","v":48.23},{"$f":"'Points Calculation'!BX47","v":42.49}]
["Phil Emmerson","M",1990,{"$f":"INDEX('Age Calculation'!$A$1:'Age Calculation'!$Q$108,MATCH(C50,'Age Calculation'!$A$1:'Age Calculation'!$A$108),MATCH($A$1,'Age Calculation'!$A$1:'Age Calculation'!$Q$1))","v":"SEN"},21084,null,{"$f":"VLOOKUP(E50,'Start of Year Points'!A$2:I$62,9,FALSE)","v":57.73},{"$f":"VLOOKUP(E50,'Start of Year Points'!A$2:L$62,12,FALSE)","v":57.73},{"$f":"VLOOKUP(E50,'Start of Year Points'!A$2:L$62,11,FALSE)","v":57.73},57.73,57.73,42.32,57.73,null,42.02,57.73,{"$f":"'Points Calculation'!$BO48","v":42.02},{"$f":"'Points Calculation'!$BX48","v":57.73},null,{"$f":"'Points Calculation'!BQ48","v":42.02},{"$f":"'Points Calculation'!BZ48","v":69.28},null,-15.709999999999994,"",null,null,null,null,32,118.82,null,null,null,null,null,null,null,null,null,null,null,null,null,null,null,null,null,null,null,null,null,null,null,"DNF","DNF","DNF","DNF","DNF","DNF","DNF","DNF","DNF",6,3,43.54,null,null,null,"DNF","DNF","DNF",null,null,null,null,null,null,10,6,42.67,null,null,null,null,null,null,null,8,5,41.96,null,null,null,4,3,44.68,"DSQ","DSQ","DSQ",8,5,42.07,8,5,59.73,10,7,50.35,null,null,null,null,null,null,null,null,null,null,null,null,null,null,null,null,null,null,null,null,null,null,null,null,null,null,"DNF","DNF",999.99,null,null,null,null,null,null,"DNF","DNF",999.99,"DNF","DNF",999.99,null,null,null,null,null,null,null,null,null,null,null,null,null,null,null,null,null,{"$f":"SUM((Z$5:FG$5=\"Overall\")*(Z50:FG50<=3))-SUM((Z$5:FG$5=\"Overall\")*(Z50:FG50=0))","v":0},{"$f":"SUM((AA$5:FJ$5=\"Age\")*(AA50:FJ50<=3))-SUM((AA$5:FJ$5=\"Age\")*(AA50:FJ50=0))","v":2},null,{"$f":"IF(MIN('Points Calculation'!CU48,'Points Calculation'!CV48)>0,MIN('Points Calculation'!CU48,'Points Calculation'!CV48),\"\")","v":60.42},{"$f":"IF(MIN('Points Calculation'!BL48,'Points Calculation'!BN48)>0,MIN('Points Calculation'!BL48,'Points Calculation'!BN48),\"\")","v":42.02},18.399999999999999,0.43788672060923362,{"$f":"'Points Calculation'!$BP48","v":69.28},null,{"$f":"IF(MIN('Points Calculation'!CZ48,'Points Calculation'!DA48)>0,MIN('Points Calculation'!CZ48,'Points Calculation'!DA48),\"\")","v":142.58399999999997},{"$f":"IF(MIN('Points Calculation'!BU48,'Points Calculation'!BW48)>0,MIN('Points Calculation'!BU48,'Points Calculation'!BW48),\"\")","v":142.58000000000001},3.999999999962256E-3,2.8054425585371411E-5,{"$f":"'Points Calculation'!$BP48","v":69.28},null,{"$f":"'Points Calculation'!BJ48","v":41.96},{"$f":"'Points Calculation'!BK48","v":42.07},{"$f":"'Points Calculation'!BL48","v":42.02},{"$f":"'Points Calculation'!BO48","v":42.02},null,{"$f":"'Points Calculation'!BS48","v":118.82},{"$f":"'Points Calculation'!BT48","v":""},{"$f":"'Points Calculation'!BU48","v":""},{"$f":"'Points Calculation'!BX48","v":57.73}]
["Mark Hawkins","M",1979,{"$f":"INDEX('Age Calculation'!$A$1:'Age Calculation'!$Q$108,MATCH(C51,'Age Calculation'!$A$1:'Age Calculation'!$A$108),MATCH($A$1,'Age Calculation'!$A$1:'Age Calculation'!$Q$1))","v":"MAS"},19163,null,{"$f":"VLOOKUP(E51,'Start of Year Points'!A$2:I$62,9,FALSE)","v":61.45},{"$f":"VLOOKUP(E51,'Start of Year Points'!A$2:L$62,12,FALSE)","v":58.84},{"$f":"VLOOKUP(E51,'Start of Year Points'!A$2:L$62,11,FALSE)","v":61.45},57.1,61.45,57.1,61.45,null,55.53,61.45,{"$f":"'Points Calculation'!$BO49","v":55.53},{"$f":"'Points Calculation'!$BX49","v":61.45},null,{"$f":"'Points Calculation'!BQ49","v":55.53},{"$f":"'Points Calculation'!BZ49","v":73.739999999999995},null,-5.9200000000000017,"",null,null,null,null,null,null,7,1,56.230000000000004,null,null,null,null,null,null,null,null,9,1,69.5,"DSQ","DSQ","DSQ",null,null,null,null,null,null,6,1,67.37,9,2,57.97,14,1,70.58,null,null,null,null,null,null,null,null,null,null,null,null,null,null,null,null,null,null,null,null,null,null,null,null,null,null,null,null,null,null,null,null,null,null,"DNF","DNF","DNF",12,1,53.08,null,null,null,14,1,57.6,null,null,null,null,null,null,null,null,null,null,null,null,null,null,null,null,null,null,null,null,null,null,null,null,null,null,23,1,64.69,null,null,null,null,null,null,"DNF","DNF",999.99,14,1,85.24,null,null,null,null,null,null,null,null,null,null,null,null,null,null,null,null,null,{"$f":"SUM((Z$5:FG$5=\"Overall\")*(Z51:FG51<=3))-SUM((Z$5:FG$5=\"Overall\")*(Z51:FG51=0))","v":0},{"$f":"SUM((AA$5:FJ$5=\"Age\")*(AA51:FJ51<=3))-SUM((AA$5:FJ$5=\"Age\")*(AA51:FJ51=0))","v":9},null,{"$f":"IF(MIN('Points Calculation'!CU49,'Points Calculation'!CV49)>0,MIN('Points Calculation'!CU49,'Points Calculation'!CV49),\"\")","v":57.784999999999997},{"$f":"IF(MIN('Points Calculation'!BL49,'Points Calculation'!BN49)>0,MIN('Points Calculation'!BL49,'Points Calculation'!BN49),\"\")","v":55.53},2.2549999999999955,4.0608679992796604E-2,{"$f":"'Points Calculation'!$BP49","v":73.739999999999995},null,{"$f":"IF(MIN('Points Calculation'!CZ49,'Points Calculation'!DA49)>0,MIN('Points Calculation'!CZ49,'Points Calculation'!DA49),\"\")","v":""},{"$f":"IF(MIN('Points Calculation'!BU49,'Points Calculation'!BW49)>0,MIN('Points Calculation'!BU49,'Points Calculation'!BW49),\"\")","v":""},"","",{"$f":"'Points Calculation'!$BP49","v":73.739999999999995},null,{"$f":"'Points Calculation'!BJ49","v":53.08},{"$f":"'Points Calculation'!BK49","v":57.97},{"$f":"'Points Calculation'!BL49","v":55.53},{"$f":"'Points Calculation'!BO49","v":55.53},null,{"$f":"'Points Calculation'!BS49","v":""},{"$f":"'Points Calculation'!BT49","v":""},{"$f":"'Points Calculation'!BU49","v":""},{"$f":"'Points Calculation'!BX49","v":61.45}]
["Nick Miller","M",1993,{"$f":"INDEX('Age Calculation'!$A$1:'Age Calculation'!$Q$108,MATCH(C52,'Age Calculation'!$A$1:'Age Calculation'!$A$108),MATCH($A$1,'Age Calculation'!$A$1:'Age Calculation'!$Q$1))","v":"SEN"},18607,null,{"$f":"VLOOKUP(E52,'Start of Year Points'!A$2:I$62,9,FALSE)","v":63.19},{"$f":"VLOOKUP(E52,'Start of Year Points'!A$2:L$62,12,FALSE)","v":63.19},{"$f":"VLOOKUP(E52,'Start of Year Points'!A$2:L$62,11,FALSE)","v":63.19},63.19,63.19,63.19,63.19,null,63.19,63.19,{"$f":"'Points Calculation'!$BO50","v":63.19},{"$f":"'Points Calculation'!$BX50","v":63.19},null,{"$f":"'Points Calculation'!BQ50","v":75.83},{"$f":"'Points Calculation'!BZ50","v":75.83},null,"","",null,null,null,null,null,null,null,null,null,null,null,null,null,null,null,null,null,null,null,null,null,null,null,null,null,null,null,null,null,null,null,null,null,null,null,null,null,null,null,null,null,null,null,null,null,null,null,null,null,null,null,null,null,null,null,null,null,null,null,null,null,null,null,null,null,null,null,null,null,null,null,null,null,null,null,null,null,null,null,null,null,null,null,null,null,null,null,null,null,null,null,null,null,null,null,null,null,null,null,null,null,null,null,null,null,null,null,null,null,null,null,null,null,null,null,null,null,null,null,null,null,null,null,null,null,null,null,null,null,null,null,null,null,null,null,null,null,null,null,null,null,null,{"$f":"SUM((Z$5:FG$5=\"Overall\")*(Z52:FG52<=3))-SUM((Z$5:FG$5=\"Overall\")*(Z52:FG52=0))","v":0},{"$f":"SUM((AA$5:FJ$5=\"Age\")*(AA52:FJ52<=3))-SUM((AA$5:FJ$5=\"Age\")*(AA52:FJ52=0))","v":0},null,{"$f":"IF(MIN('Points Calculation'!CU50,'Points Calculation'!CV50)>0,MIN('Points Calculation'!CU50,'Points Calculation'!CV50),\"\")","v":""},{"$f":"IF(MIN('Points Calculation'!BL50,'Points Calculation'!BN50)>0,MIN('Points Calculation'!BL50,'Points Calculation'!BN50),\"\")","v":""},"","",{"$f":"'Points Calculation'!$BP50","v":75.83},null,{"$f":"IF(MIN('Points Calculation'!CZ50,'Points Calculation'!DA50)>0,MIN('Points Calculation'!CZ50,'Points Calculation'!DA50),\"\")","v":""},{"$f":"IF(MIN('Points Calculation'!BU50,'Points Calculation'!BW50)>0,MIN('Points Calculation'!BU50,'Points Calculation'!BW50),\"\")","v":""},"","",{"$f":"'Points Calculation'!$BP50","v":75.83},null,{"$f":"'Points Calculation'!BJ50","v":""},{"$f":"'Points Calculation'!BK50","v":""},{"$f":"'Points Calculation'!BL50","v":""},{"$f":"'Points Calculation'!BO50","v":63.19},null,{"$f":"'Points Calculation'!BS50","v":""},{"$f":"'Points Calculation'!BT50","v":""},{"$f":"'Points Calculation'!BU50","v":""},{"$f":"'Points Calculation'!BX50","v":63.19}]
["Alasdair Thorley","M",1994,{"$f":"INDEX('Age Calculation'!$A$1:'Age Calculation'!$Q$108,MATCH(C53,'Age Calculation'!$A$1:'Age Calculation'!$A$108),MATCH($A$1,'Age Calculation'!$A$1:'Age Calculation'!$Q$1))","v":"U21"},18586,null,{"$f":"VLOOKUP(E53,'Start of Year Points'!A$2:I$62,9,FALSE)","v":69.650000000000006},{"$f":"VLOOKUP(E53,'Start of Year Points'!A$2:L$62,12,FALSE)","v":69.650000000000006},{"$f":"VLOOKUP(E53,'Start of Year Points'!A$2:L$62,11,FALSE)","v":69.650000000000006},69.650000000000006,69.650000000000006,69.650000000000006,69.650000000000006,null,69.650000000000006,69.650000000000006,{"$f":"'Points Calculation'!$BO51","v":69.650000000000006},{"$f":"'Points Calculation'!$BX51","v":69.650000000000006},null,{"$f":"'Points Calculation'!BQ51","v":83.58},{"$f":"'Points Calculation'!BZ51","v":83.58},null,"","",null,null,null,null,null,null,null,null,null,null,null,null,null,null,null,null,null,null,null,null,null,null,null,null,null,null,null,null,null,null,null,null,null,null,null,null,null,null,null,null,null,null,null,null,null,null,null,null,null,null,null,null,null,null,null,null,null,null,null,null,null,null,null,null,null,null,null,null,null,null,null,null,null,null,null,null,null,null,null,null,null,null,null,null,null,null,null,null,null,null,null,null,null,null,null,null,null,null,null,null,null,null,null,null,null,null,null,null,null,null,null,null,null,null,null,null,null,null,null,null,null,null,null,null,null,null,null,null,null,null,null,null,null,null,null,null,null,null,null,null,null,null,{"$f":"SUM((Z$5:FG$5=\"Overall\")*(Z53:FG53<=3))-SUM((Z$5:FG$5=\"Overall\")*(Z53:FG53=0))","v":0},{"$f":"SUM((AA$5:FJ$5=\"Age\")*(AA53:FJ53<=3))-SUM((AA$5:FJ$5=\"Age\")*(AA53:FJ53=0))","v":0},null,{"$f":"IF(MIN('Points Calculation'!CU51,'Points Calculation'!CV51)>0,MIN('Points Calculation'!CU51,'Points Calculation'!CV51),\"\")","v":""},{"$f":"IF(MIN('Points Calculation'!BL51,'Points Calculation'!BN51)>0,MIN('Points Calculation'!BL51,'Points Calculation'!BN51),\"\")","v":""},"","",{"$f":"'Points Calculation'!$BP51","v":83.58},null,{"$f":"IF(MIN('Points Calculation'!CZ51,'Points Calculation'!DA51)>0,MIN('Points Calculation'!CZ51,'Points Calculation'!DA51),\"\")","v":""},{"$f":"IF(MIN('Points Calculation'!BU51,'Points Calculation'!BW51)>0,MIN('Points Calculation'!BU51,'Points Calculation'!BW51),\"\")","v":""},"","",{"$f":"'Points Calculation'!$BP51","v":83.58},null,{"$f":"'Points Calculation'!BJ51","v":""},{"$f":"'Points Calculation'!BK51","v":""},{"$f":"'Points Calculation'!BL51","v":""},{"$f":"'Points Calculation'!BO51","v":69.650000000000006},null,{"$f":"'Points Calculation'!BS51","v":""},{"$f":"'Points Calculation'!BT51","v":""},{"$f":"'Points Calculation'!BU51","v":""},{"$f":"'Points Calculation'!BX51","v":69.650000000000006}]
["Nick Phelps","M",1997,{"$f":"INDEX('Age Calculation'!$A$1:'Age Calculation'!$Q$108,MATCH(C54,'Age Calculation'!$A$1:'Age Calculation'!$A$108),MATCH($A$1,'Age Calculation'!$A$1:'Age Calculation'!$Q$1))","v":"U18"},17840,null,{"$f":"VLOOKUP(E54,'Start of Year Points'!A$2:I$62,9,FALSE)","v":70.34},{"$f":"VLOOKUP(E54,'Start of Year Points'!A$2:L$62,12,FALSE)","v":70.34},{"$f":"VLOOKUP(E54,'Start of Year Points'!A$2:L$62,11,FALSE)","v":70.34},70.34,70.34,70.34,70.34,null,70.34,70.34,{"$f":"'Points Calculation'!$BO52","v":70.34},{"$f":"'Points Calculation'!$BX52","v":70.34},null,{"$f":"'Points Calculation'!BQ52","v":82.81},{"$f":"'Points Calculation'!BZ52","v":84.41},null,"","",null,null,null,null,null,null,null,null,null,null,null,null,null,null,null,null,null,null,null,null,null,null,null,null,null,null,null,null,null,null,null,null,null,null,null,null,null,null,null,null,null,null,null,null,null,null,null,null,null,null,null,null,null,21,5,85.53,null,null,null,null,null,null,null,null,null,null,null,null,null,null,null,null,25,3,88.05,null,null,null,null,null,null,23,3,80.08,null,null,null,null,null,null,null,null,null,null,null,null,null,null,null,null,null,null,null,null,null,null,null,null,null,null,null,null,null,null,null,null,null,null,null,null,null,null,null,null,null,null,null,null,null,null,null,null,null,null,null,null,null,null,null,null,null,null,{"$f":"SUM((Z$5:FG$5=\"Overall\")*(Z54:FG54<=3))-SUM((Z$5:FG$5=\"Overall\")*(Z54:FG54=0))","v":0},{"$f":"SUM((AA$5:FJ$5=\"Age\")*(AA54:FJ54<=3))-SUM((AA$5:FJ$5=\"Age\")*(AA54:FJ54=0))","v":2},null,{"$f":"IF(MIN('Points Calculation'!CU52,'Points Calculation'!CV52)>0,MIN('Points Calculation'!CU52,'Points Calculation'!CV52),\"\")","v":96.095999999999989},{"$f":"IF(MIN('Points Calculation'!BL52,'Points Calculation'!BN52)>0,MIN('Points Calculation'!BL52,'Points Calculation'!BN52),\"\")","v":82.81},13.285999999999987,0.16043956043956029,{"$f":"'Points Calculation'!$BP52","v":84.41},null,{"$f":"IF(MIN('Points Calculation'!CZ52,'Points Calculation'!DA52)>0,MIN('Points Calculation'!CZ52,'Points Calculation'!DA52),\"\")","v":""},{"$f":"IF(MIN('Points Calculation'!BU52,'Points Calculation'!BW52)>0,MIN('Points Calculation'!BU52,'Points Calculation'!BW52),\"\")","v":""},"","",{"$f":"'Points Calculation'!$BP52","v":84.41},null,{"$f":"'Points Calculation'!BJ52","v":80.08},{"$f":"'Points Calculation'!BK52","v":85.53},{"$f":"'Points Calculation'!BL52","v":82.81},{"$f":"'Points Calculation'!BO52","v":70.34},null,{"$f":"'Points Calculation'!BS52","v":""},{"$f":"'Points Calculation'!BT52","v":""},{"$f":"'Points Calculation'!BU52","v":""},{"$f":"'Points Calculation'!BX52","v":70.34}]
["Oliver Weeks","M",2001,{"$f":"INDEX('Age Calculation'!$A$1:'Age Calculation'!$Q$108,MATCH(C55,'Age Calculation'!$A$1:'Age Calculation'!$A$108),MATCH($A$1,'Age Calculation'!$A$1:'Age Calculation'!$Q$1))","v":"U14"},19051,null,{"$f":"VLOOKUP(E55,'Start of Year Points'!A$2:I$62,9,FALSE)","v":70.989999999999995},{"$f":"VLOOKUP(E55,'Start of Year Points'!A$2:L$62,12,FALSE)","v":70.989999999999995},{"$f":"VLOOKUP(E55,'Start of Year Points'!A$2:L$62,11,FALSE)","v":70.989999999999995},70.989999999999995,70.989999999999995,59.18,70.989999999999995,null,53.47,67.47,{"$f":"'Points Calculation'!$BO53","v":53.47},{"$f":"'Points Calculation'!$BX53","v":66.989999999999995},null,{"$f":"'Points Calculation'!BQ53","v":53.47},{"$f":"'Points Calculation'!BZ53","v":68.08},null,-17.519999999999996,-4,null,2,1,{"$f":"26.49+102.43","v":128.92000000000002},null,null,12,1,85.7,14,1,80.12,84.93,18,1,85.62,84.33,11,1,74.990000000000009,11,1,80.849999999999994,20,1,83.16,"DNF","DNF","DNF",null,null,null,11,1,79.12,11,1,58.48,10,1,59.87,null,null,null,25,8,428.64,null,null,null,17,1,99.58,null,null,null,"DNF","DNF","DNF",null,null,null,null,13,1,70.7,14,1,86.4,null,null,null,14,1,55.57,21,1,77.37,11,1,79.75,16,1,64.290000000000006,18,1,62.99,20,2,98.99,null,null,null,null,null,null,6,1,51.37,17,1,73.16,10,1,75,null,null,null,null,null,29,2,75.150000000000006,21,2,72.12,"DNF","DNF",999.99,13,1,73.430000000000007,11,1,69.38,null,null,null,16,1,75.58,null,null,null,null,null,null,null,null,null,null,null,{"$f":"SUM((Z$5:FG$5=\"Overall\")*(Z55:FG55<=3))-SUM((Z$5:FG$5=\"Overall\")*(Z55:FG55=0))","v":1},{"$f":"SUM((AA$5:FJ$5=\"Age\")*(AA55:FJ55<=3))-SUM((AA$5:FJ$5=\"Age\")*(AA55:FJ55=0))","v":27},null,{"$f":"IF(MIN('Points Calculation'!CU53,'Points Calculation'!CV53)>0,MIN('Points Calculation'!CU53,'Points Calculation'!CV53),\"\")","v":63.929999999999993},{"$f":"IF(MIN('Points Calculation'!BL53,'Points Calculation'!BN53)>0,MIN('Points Calculation'!BL53,'Points Calculation'!BN53),\"\")","v":53.47},10.459999999999994,0.19562371423227967,{"$f":"'Points Calculation'!$BP53","v":85.19},null,{"$f":"IF(MIN('Points Calculation'!CZ53,'Points Calculation'!DA53)>0,MIN('Points Calculation'!CZ53,'Points Calculation'!DA53),\"\")","v":68.075000000000003},{"$f":"IF(MIN('Points Calculation'!BU53,'Points Calculation'!BW53)>0,MIN('Points Calculation'!BU53,'Points Calculation'!BW53),\"\")","v":68.08},-4.9999999999954525E-3,-7.3443008225550132E-5,{"$f":"'Points Calculation'!$BP53","v":85.19},null,{"$f":"'Points Calculation'!BJ53","v":51.37},{"$f":"'Points Calculation'!BK53","v":55.57},{"$f":"'Points Calculation'!BL53","v":53.47},{"$f":"'Points Calculation'!BO53","v":53.47},null,{"$f":"'Points Calculation'!BS53","v":62.99},{"$f":"'Points Calculation'!BT53","v":73.16},{"$f":"'Points Calculation'!BU53","v":68.08},{"$f":"'Points Calculation'!BX53","v":66.989999999999995}]
["James Smith","M",1992,{"$f":"INDEX('Age Calculation'!$A$1:'Age Calculation'!$Q$108,MATCH(C56,'Age Calculation'!$A$1:'Age Calculation'!$A$108),MATCH($A$1,'Age Calculation'!$A$1:'Age Calculation'!$Q$1))","v":"SEN"},21595,null,{"$f":"VLOOKUP(E56,'Start of Year Points'!A$2:I$62,9,FALSE)","v":72.23},{"$f":"VLOOKUP(E56,'Start of Year Points'!A$2:L$62,12,FALSE)","v":72.23},{"$f":"VLOOKUP(E56,'Start of Year Points'!A$2:L$62,11,FALSE)","v":72.23},72.23,72.23,63.71,72.23,null,63.71,72.23,{"$f":"'Points Calculation'!$BO54","v":63.71},{"$f":"'Points Calculation'!$BX54","v":72.23},null,{"$f":"'Points Calculation'!BQ54","v":63.71},{"$f":"'Points Calculation'!BZ54","v":86.68},null,-8.5200000000000031,"",null,null,null,null,null,null,null,null,null,null,null,null,null,null,null,null,null,null,null,null,null,null,null,null,null,null,null,null,null,null,null,null,null,null,null,null,null,null,null,null,null,null,null,null,null,null,null,null,null,null,null,null,null,null,null,null,null,null,null,null,null,null,null,12,7,69.09,null,null,null,9,6,58.33,"DSQ","DSQ","DSQ","DNF","DNF","DNF",null,null,null,null,null,null,null,null,null,null,null,null,null,null,null,null,null,null,null,null,null,null,null,null,null,null,null,null,null,null,null,null,"DSQ","DSQ",999.99,null,null,null,null,null,null,null,null,null,null,null,null,null,null,null,null,null,null,null,null,null,null,null,null,null,null,null,null,null,{"$f":"SUM((Z$5:FG$5=\"Overall\")*(Z56:FG56<=3))-SUM((Z$5:FG$5=\"Overall\")*(Z56:FG56=0))","v":0},{"$f":"SUM((AA$5:FJ$5=\"Age\")*(AA56:FJ56<=3))-SUM((AA$5:FJ$5=\"Age\")*(AA56:FJ56=0))","v":0},null,{"$f":"IF(MIN('Points Calculation'!CU54,'Points Calculation'!CV54)>0,MIN('Points Calculation'!CU54,'Points Calculation'!CV54),\"\")","v":""},{"$f":"IF(MIN('Points Calculation'!BL54,'Points Calculation'!BN54)>0,MIN('Points Calculation'!BL54,'Points Calculation'!BN54),\"\")","v":63.71},"","",{"$f":"'Points Calculation'!$BP54","v":86.68},null,{"$f":"IF(MIN('Points Calculation'!CZ54,'Points Calculation'!DA54)>0,MIN('Points Calculation'!CZ54,'Points Calculation'!DA54),\"\")","v":""},{"$f":"IF(MIN('Points Calculation'!BU54,'Points Calculation'!BW54)>0,MIN('Points Calculation'!BU54,'Points Calculation'!BW54),\"\")","v":""},"","",{"$f":"'Points Calculation'!$BP54","v":86.68},null,{"$f":"'Points Calculation'!BJ54","v":58.33},{"$f":"'Points Calculation'!BK54","v":69.09},{"$f":"'Points Calculation'!BL54","v":63.71},{"$f":"'Points Calculation'!BO54","v":63.71},null,{"$f":"'Points Calculation'!BS54","v":""},{"$f":"'Points Calculation'!BT54","v":""},{"$f":"'Points Calculation'!BU54","v":""},{"$f":"'Points Calculation'!BX54","v":72.23}]
["Gareth Miller","M",1994,{"$f":"INDEX('Age Calculation'!$A$1:'Age Calculation'!$Q$108,MATCH(C57,'Age Calculation'!$A$1:'Age Calculation'!$A$108),MATCH($A$1,'Age Calculation'!$A$1:'Age Calculation'!$Q$1))","v":"U21"},18509,null,{"$f":"VLOOKUP(E57,'Start of Year Points'!A$2:I$62,9,FALSE)","v":73.98},{"$f":"VLOOKUP(E57,'Start of Year Points'!A$2:L$62,12,FALSE)","v":73.98},{"$f":"VLOOKUP(E57,'Start of Year Points'!A$2:L$62,11,FALSE)","v":71.069999999999993},73.98,71.069999999999993,73.98,71.069999999999993,null,50.88,71.069999999999993,{"$f":"'Points Calculation'!$BO55","v":50.88},{"$f":"'Points Calculation'!$BX55","v":71.069999999999993},null,{"$f":"'Points Calculation'!BQ55","v":50.88},{"$f":"'Points Calculation'!BZ55","v":81.790000000000006},null,-23.1,-2.9100000000000108,null,null,null,null,17,68.16,null,null,null,null,null,null,null,null,null,null,null,null,null,null,null,null,null,null,null,null,null,null,null,null,null,null,null,null,null,null,null,null,null,null,null,null,null,null,null,null,null,null,null,null,null,null,null,null,null,null,null,null,null,null,null,null,null,null,null,null,null,null,null,null,null,null,"DNF","DNF","DNF",9,2,42.26,null,null,null,16,5,64.290000000000006,null,null,null,null,null,null,null,null,null,null,null,null,8,3,59.49,null,null,null,null,null,null,null,null,null,null,null,32,13,79.430000000000007,null,null,null,null,null,null,null,null,null,null,null,null,null,null,null,null,null,null,null,null,null,null,null,null,null,null,null,null,null,{"$f":"SUM((Z$5:FG$5=\"Overall\")*(Z57:FG57<=3))-SUM((Z$5:FG$5=\"Overall\")*(Z57:FG57=0))","v":0},{"$f":"SUM((AA$5:FJ$5=\"Age\")*(AA57:FJ57<=3))-SUM((AA$5:FJ$5=\"Age\")*(AA57:FJ57=0))","v":2},null,{"$f":"IF(MIN('Points Calculation'!CU55,'Points Calculation'!CV55)>0,MIN('Points Calculation'!CU55,'Points Calculation'!CV55),\"\")","v":71.860000000000014},{"$f":"IF(MIN('Points Calculation'!BL55,'Points Calculation'!BN55)>0,MIN('Points Calculation'!BL55,'Points Calculation'!BN55),\"\")","v":50.88},20.980000000000011,0.41234276729559766,{"$f":"'Points Calculation'!$BP55","v":88.78},null,{"$f":"IF(MIN('Points Calculation'!CZ55,'Points Calculation'!DA55)>0,MIN('Points Calculation'!CZ55,'Points Calculation'!DA55),\"\")","v":81.791999999999987},{"$f":"IF(MIN('Points Calculation'!BU55,'Points Calculation'!BW55)>0,MIN('Points Calculation'!BU55,'Points Calculation'!BW55),\"\")","v":81.790000000000006},1.999999999981128E-3,2.4452867098436579E-5,{"$f":"'Points Calculation'!$BP55","v":88.78},null,{"$f":"'Points Calculation'!BJ55","v":42.26},{"$f":"'Points Calculation'!BK55","v":59.49},{"$f":"'Points Calculation'!BL55","v":50.88},{"$f":"'Points Calculation'!BO55","v":50.88},null,{"$f":"'Points Calculation'!BS55","v":68.16},{"$f":"'Points Calculation'!BT55","v":""},{"$f":"'Points Calculation'!BU55","v":""},{"$f":"'Points Calculation'!BX55","v":71.069999999999993}]
["Edmund Walker","M",1992,{"$f":"INDEX('Age Calculation'!$A$1:'Age Calculation'!$Q$108,MATCH(C58,'Age Calculation'!$A$1:'Age Calculation'!$A$108),MATCH($A$1,'Age Calculation'!$A$1:'Age Calculation'!$Q$1))","v":"SEN"},14213,null,{"$f":"VLOOKUP(E58,'Start of Year Points'!A$2:I$62,9,FALSE)","v":77.16},{"$f":"VLOOKUP(E58,'Start of Year Points'!A$2:L$62,12,FALSE)","v":77.16},{"$f":"VLOOKUP(E58,'Start of Year Points'!A$2:L$62,11,FALSE)","v":77.16},77.16,77.16,54.38,77.16,null,50.77,77.16,{"$f":"'Points Calculation'!$BO56","v":50.77},{"$f":"'Points Calculation'!$BX56","v":77.16},null,{"$f":"'Points Calculation'!BQ56","v":50.77},{"$f":"'Points Calculation'!BZ56","v":92.59},null,-26.389999999999993,"",null,null,null,null,23,91.33,null,null,null,null,null,null,null,null,null,null,null,null,null,null,null,null,null,null,null,null,null,null,null,null,null,null,null,null,null,null,null,null,null,null,null,null,null,null,null,null,null,null,null,null,null,null,null,12,8,55.88,null,null,null,null,null,null,null,null,null,null,null,null,null,7,5,52.87,"DSQ","DSQ","DSQ",15,7,65.790000000000006,null,null,null,null,null,null,null,null,null,null,null,null,null,null,null,null,null,null,5,3,48.66,null,null,null,null,null,null,null,null,null,null,null,"DNF","DNF",999.99,null,null,null,null,null,null,null,null,null,null,null,null,null,null,null,null,null,null,null,null,null,null,null,null,null,null,null,null,null,{"$f":"SUM((Z$5:FG$5=\"Overall\")*(Z58:FG58<=3))-SUM((Z$5:FG$5=\"Overall\")*(Z58:FG58=0))","v":0},{"$f":"SUM((AA$5:FJ$5=\"Age\")*(AA58:FJ58<=3))-SUM((AA$5:FJ$5=\"Age\")*(AA58:FJ58=0))","v":1},null,{"$f":"IF(MIN('Points Calculation'!CU56,'Points Calculation'!CV56)>0,MIN('Points Calculation'!CU56,'Points Calculation'!CV56),\"\")","v":""},{"$f":"IF(MIN('Points Calculation'!BL56,'Points Calculation'!BN56)>0,MIN('Points Calculation'!BL56,'Points Calculation'!BN56),\"\")","v":50.77},"","",{"$f":"'Points Calculation'!$BP56","v":92.59},null,{"$f":"IF(MIN('Points Calculation'!CZ56,'Points Calculation'!DA56)>0,MIN('Points Calculation'!CZ56,'Points Calculation'!DA56),\"\")","v":109.59599999999999},{"$f":"IF(MIN('Points Calculation'!BU56,'Points Calculation'!BW56)>0,MIN('Points Calculation'!BU56,'Points Calculation'!BW56),\"\")","v":109.6},-4.0000000000048885E-3,-3.6496350365008108E-5,{"$f":"'Points Calculation'!$BP56","v":92.59},null,{"$f":"'Points Calculation'!BJ56","v":48.66},{"$f":"'Points Calculation'!BK56","v":52.87},{"$f":"'Points Calculation'!BL56","v":50.77},{"$f":"'Points Calculation'!BO56","v":50.77},null,{"$f":"'Points Calculation'!BS56","v":91.33},{"$f":"'Points Calculation'!BT56","v":""},{"$f":"'Points Calculation'!BU56","v":""},{"$f":"'Points Calculation'!BX56","v":77.16}]
["Jordan Rigby","M",2000,{"$f":"INDEX('Age Calculation'!$A$1:'Age Calculation'!$Q$108,MATCH(C59,'Age Calculation'!$A$1:'Age Calculation'!$A$108),MATCH($A$1,'Age Calculation'!$A$1:'Age Calculation'!$Q$1))","v":"U16"},19910,null,{"$f":"VLOOKUP(E59,'Start of Year Points'!A$2:I$62,9,FALSE)","v":111.82},{"$f":"VLOOKUP(E59,'Start of Year Points'!A$2:L$62,12,FALSE)","v":111.82},{"$f":"VLOOKUP(E59,'Start of Year Points'!A$2:L$62,11,FALSE)","v":111.82},111.82,111.82,111.82,111.82,null,111.82,111.82,{"$f":"'Points Calculation'!$BO57","v":111.82},{"$f":"'Points Calculation'!$BX57","v":111.82},null,{"$f":"'Points Calculation'!BQ57","v":134.18},{"$f":"'Points Calculation'!BZ57","v":134.18},null,"","",null,null,null,null,null,null,null,null,null,null,null,null,null,null,null,null,null,null,null,null,null,null,null,null,null,null,null,null,null,null,null,null,null,null,null,null,null,null,null,null,null,null,null,null,null,null,null,null,null,null,null,null,null,null,null,null,null,null,null,null,null,null,null,null,null,null,null,null,null,null,null,null,37,5,119.95,null,null,null,null,null,null,null,null,null,null,null,null,null,null,null,null,null,null,null,null,null,null,null,null,null,null,null,null,null,null,null,null,null,null,null,null,null,null,null,null,null,null,null,null,null,null,null,null,null,null,null,null,null,null,null,null,null,null,null,null,null,null,null,null,null,null,null,{"$f":"SUM((Z$5:FG$5=\"Overall\")*(Z59:FG59<=3))-SUM((Z$5:FG$5=\"Overall\")*(Z59:FG59=0))","v":0},{"$f":"SUM((AA$5:FJ$5=\"Age\")*(AA59:FJ59<=3))-SUM((AA$5:FJ$5=\"Age\")*(AA59:FJ59=0))","v":0},null,{"$f":"IF(MIN('Points Calculation'!CU57,'Points Calculation'!CV57)>0,MIN('Points Calculation'!CU57,'Points Calculation'!CV57),\"\")","v":""},{"$f":"IF(MIN('Points Calculation'!BL57,'Points Calculation'!BN57)>0,MIN('Points Calculation'!BL57,'Points Calculation'!BN57),\"\")","v":143.94},"","",{"$f":"'Points Calculation'!$BP57","v":134.18},null,{"$f":"IF(MIN('Points Calculation'!CZ57,'Points Calculation'!DA57)>0,MIN('Points Calculation'!CZ57,'Points Calculation'!DA57),\"\")","v":""},{"$f":"IF(MIN('Points Calculation'!BU57,'Points Calculation'!BW57)>0,MIN('Points Calculation'!BU57,'Points Calculation'!BW57),\"\")","v":""},"","",{"$f":"'Points Calculation'!$BP57","v":134.18},null,{"$f":"'Points Calculation'!BJ57","v":119.95},{"$f":"'Points Calculation'!BK57","v":""},{"$f":"'Points Calculation'!BL57","v":""},{"$f":"'Points Calculation'!BO57","v":111.82},null,{"$f":"'Points Calculation'!BS57","v":""},{"$f":"'Points Calculation'!BT57","v":""},{"$f":"'Points Calculation'!BU57","v":""},{"$f":"'Points Calculation'!BX57","v":111.82}]
["Sam Dewison","M",1998,{"$f":"INDEX('Age Calculation'!$A$1:'Age Calculation'!$Q$108,MATCH(C60,'Age Calculation'!$A$1:'Age Calculation'!$A$108),MATCH($A$1,'Age Calculation'!$A$1:'Age Calculation'!$Q$1))","v":"U18"},20846,null,{"$f":"VLOOKUP(E60,'Start of Year Points'!A$2:I$62,9,FALSE)","v":119.86},{"$f":"VLOOKUP(E60,'Start of Year Points'!A$2:L$62,12,FALSE)","v":119.86},{"$f":"VLOOKUP(E60,'Start of Year Points'!A$2:L$62,11,FALSE)","v":119.86},119.86,119.86,103.46,119.86,null,103.46,119.86,{"$f":"'Points Calculation'!$BO58","v":103.46},{"$f":"'Points Calculation'!$BX58","v":119.86},null,{"$f":"'Points Calculation'!BQ58","v":103.46},{"$f":"'Points Calculation'!BZ58","v":143.83000000000001},null,-16.400000000000006,"",null,null,null,null,null,null,null,null,null,null,null,null,null,null,null,null,null,null,null,null,null,null,null,null,null,null,null,null,null,null,null,null,null,null,null,null,null,null,null,null,null,null,null,null,null,null,null,null,null,null,null,null,null,null,null,null,null,null,null,null,null,null,null,24,5,105.66,null,null,null,22,5,101.25,null,null,null,null,null,null,null,null,null,null,null,null,null,null,null,null,null,null,null,null,null,null,null,null,null,null,null,null,null,null,null,null,null,null,null,null,null,null,53,9,132.69999999999999,null,null,null,null,null,null,null,null,null,null,null,null,null,null,null,null,null,null,null,null,null,null,null,null,null,null,null,null,null,{"$f":"SUM((Z$5:FG$5=\"Overall\")*(Z60:FG60<=3))-SUM((Z$5:FG$5=\"Overall\")*(Z60:FG60=0))","v":0},{"$f":"SUM((AA$5:FJ$5=\"Age\")*(AA60:FJ60<=3))-SUM((AA$5:FJ$5=\"Age\")*(AA60:FJ60=0))","v":0},null,{"$f":"IF(MIN('Points Calculation'!CU58,'Points Calculation'!CV58)>0,MIN('Points Calculation'!CU58,'Points Calculation'!CV58),\"\")","v":159.23999999999998},{"$f":"IF(MIN('Points Calculation'!BL58,'Points Calculation'!BN58)>0,MIN('Points Calculation'!BL58,'Points Calculation'!BN58),\"\")","v":103.46},55.779999999999987,0.53914556350280296,{"$f":"'Points Calculation'!$BP58","v":143.83000000000001},null,{"$f":"IF(MIN('Points Calculation'!CZ58,'Points Calculation'!DA58)>0,MIN('Points Calculation'!CZ58,'Points Calculation'!DA58),\"\")","v":""},{"$f":"IF(MIN('Points Calculation'!BU58,'Points Calculation'!BW58)>0,MIN('Points Calculation'!BU58,'Points Calculation'!BW58),\"\")","v":""},"","",{"$f":"'Points Calculation'!$BP58","v":143.83000000000001},null,{"$f":"'Points Calculation'!BJ58","v":101.25},{"$f":"'Points Calculation'!BK58","v":105.66},{"$f":"'Points Calculation'!BL58","v":103.46},{"$f":"'Points Calculation'!BO58","v":103.46},null,{"$f":"'Points Calculation'!BS58","v":""},{"$f":"'Points Calculation'!BT58","v":""},{"$f":"'Points Calculation'!BU58","v":""},{"$f":"'Points Calculation'!BX58","v":119.86}]
["Roger Crombleholme","M",1957,{"$f":"INDEX('Age Calculation'!$A$1:'Age Calculation'!$Q$108,MATCH(C61,'Age Calculation'!$A$1:'Age Calculation'!$A$108),MATCH($A$1,'Age Calculation'!$A$1:'Age Calculation'!$Q$1))","v":"MAS"},5666,null,{"$f":"VLOOKUP(E61,'Start of Year Points'!A$2:I$62,9,FALSE)","v":120.35},{"$f":"VLOOKUP(E61,'Start of Year Points'!A$2:L$62,12,FALSE)","v":120.35},{"$f":"VLOOKUP(E61,'Start of Year Points'!A$2:L$62,11,FALSE)","v":120.35},120.35,120.35,120.35,120.35,null,120.35,120.35,{"$f":"'Points Calculation'!$BO59","v":120.35},{"$f":"'Points Calculation'!$BX59","v":120.35},null,{"$f":"'Points Calculation'!BQ59","v":144.41999999999999},{"$f":"'Points Calculation'!BZ59","v":144.41999999999999},null,"","",null,null,null,null,null,null,null,null,null,null,null,null,null,null,null,null,null,null,null,null,null,null,null,null,null,null,null,null,null,null,null,null,null,null,null,null,null,null,null,null,null,null,null,null,null,null,null,null,null,null,null,null,null,null,null,null,null,null,null,null,null,null,null,null,null,null,null,null,null,null,null,null,57,6,167.61,52,6,177.57,null,null,null,null,null,null,null,null,null,null,null,null,null,null,null,null,null,null,null,null,null,null,null,null,null,null,null,null,null,null,null,null,null,null,null,null,null,null,null,null,null,null,null,null,null,null,null,null,null,null,null,null,null,null,null,null,null,null,null,null,null,null,null,null,{"$f":"SUM((Z$5:FG$5=\"Overall\")*(Z61:FG61<=3))-SUM((Z$5:FG$5=\"Overall\")*(Z61:FG61=0))","v":0},{"$f":"SUM((AA$5:FJ$5=\"Age\")*(AA61:FJ61<=3))-SUM((AA$5:FJ$5=\"Age\")*(AA61:FJ61=0))","v":0},null,{"$f":"IF(MIN('Points Calculation'!CU59,'Points Calculation'!CV59)>0,MIN('Points Calculation'!CU59,'Points Calculation'!CV59),\"\")","v":""},{"$f":"IF(MIN('Points Calculation'!BL59,'Points Calculation'!BN59)>0,MIN('Points Calculation'!BL59,'Points Calculation'!BN59),\"\")","v":201.13},"","",{"$f":"'Points Calculation'!$BP59","v":144.41999999999999},null,{"$f":"IF(MIN('Points Calculation'!CZ59,'Points Calculation'!DA59)>0,MIN('Points Calculation'!CZ59,'Points Calculation'!DA59),\"\")","v":""},{"$f":"IF(MIN('Points Calculation'!BU59,'Points Calculation'!BW59)>0,MIN('Points Calculation'!BU59,'Points Calculation'!BW59),\"\")","v":""},"","",{"$f":"'Points Calculation'!$BP59","v":144.41999999999999},null,{"$f":"'Points Calculation'!BJ59","v":167.61},{"$f":"'Points Calculation'!BK59","v":""},{"$f":"'Points Calculation'!BL59","v":""},{"$f":"'Points Calculation'!BO59","v":120.35},null,{"$f":"'Points Calculation'!BS59","v":""},{"$f":"'Points Calculation'!BT59","v":""},{"$f":"'Points Calculation'!BU59","v":""},{"$f":"'Points Calculation'!BX59","v":120.35}]
["Joey Frost","M",1995,{"$f":"INDEX('Age Calculation'!$A$1:'Age Calculation'!$Q$108,MATCH(C62,'Age Calculation'!$A$1:'Age Calculation'!$A$108),MATCH($A$1,'Age Calculation'!$A$1:'Age Calculation'!$Q$1))","v":"U21"},20677,null,{"$f":"VLOOKUP(E62,'Start of Year Points'!A$2:I$62,9,FALSE)","v":127.79},{"$f":"VLOOKUP(E62,'Start of Year Points'!A$2:L$62,12,FALSE)","v":127.79},{"$f":"VLOOKUP(E62,'Start of Year Points'!A$2:L$62,11,FALSE)","v":127.79},127.79,127.79,127.79,127.79,null,127.79,127.79,{"$f":"'Points Calculation'!$BO60","v":127.79},{"$f":"'Points Calculation'!$BX60","v":127.79},null,{"$f":"'Points Calculation'!BQ60","v":153.35},{"$f":"'Points Calculation'!BZ60","v":153.35},null,"","",null,null,null,null,null,null,null,null,null,null,null,null,null,null,null,null,null,null,null,null,null,null,null,null,null,null,null,null,null,null,null,null,null,null,null,null,null,null,null,null,null,null,null,null,null,null,null,null,null,null,null,null,null,null,null,null,null,null,null,null,null,null,null,null,null,null,null,null,null,null,null,null,null,null,null,null,null,null,null,null,null,null,null,null,null,null,null,null,null,null,null,null,null,null,null,null,null,null,null,null,null,null,null,null,null,null,null,null,null,null,null,null,null,null,null,null,null,null,null,null,null,null,null,null,null,null,null,null,null,null,null,null,null,null,null,null,null,null,null,null,null,null,{"$f":"SUM((Z$5:FG$5=\"Overall\")*(Z62:FG62<=3))-SUM((Z$5:FG$5=\"Overall\")*(Z62:FG62=0))","v":0},{"$f":"SUM((AA$5:FJ$5=\"Age\")*(AA62:FJ62<=3))-SUM((AA$5:FJ$5=\"Age\")*(AA62:FJ62=0))","v":0},null,{"$f":"IF(MIN('Points Calculation'!CU60,'Points Calculation'!CV60)>0,MIN('Points Calculation'!CU60,'Points Calculation'!CV60),\"\")","v":""},{"$f":"IF(MIN('Points Calculation'!BL60,'Points Calculation'!BN60)>0,MIN('Points Calculation'!BL60,'Points Calculation'!BN60),\"\")","v":""},"","",{"$f":"'Points Calculation'!$BP60","v":153.35},null,{"$f":"IF(MIN('Points Calculation'!CZ60,'Points Calculation'!DA60)>0,MIN('Points Calculation'!CZ60,'Points Calculation'!DA60),\"\")","v":""},{"$f":"IF(MIN('Points Calculation'!BU60,'Points Calculation'!BW60)>0,MIN('Points Calculation'!BU60,'Points Calculation'!BW60),\"\")","v":""},"","",{"$f":"'Points Calculation'!$BP60","v":153.35},null,{"$f":"'Points Calculation'!BJ60","v":""},{"$f":"'Points Calculation'!BK60","v":""},{"$f":"'Points Calculation'!BL60","v":""},{"$f":"'Points Calculation'!BO60","v":127.79},null,{"$f":"'Points Calculation'!BS60","v":""},{"$f":"'Points Calculation'!BT60","v":""},{"$f":"'Points Calculation'!BU60","v":""},{"$f":"'Points Calculation'!BX60","v":127.79}]
["Sam Lee","M",1996,{"$f":"INDEX('Age Calculation'!$A$1:'Age Calculation'!$Q$108,MATCH(C63,'Age Calculation'!$A$1:'Age Calculation'!$A$108),MATCH($A$1,'Age Calculation'!$A$1:'Age Calculation'!$Q$1))","v":"U21"},41662,null,{"$f":"VLOOKUP(E63,'Start of Year Points'!A$2:I$62,9,FALSE)","v":128.82},{"$f":"VLOOKUP(E63,'Start of Year Points'!A$2:L$62,12,FALSE)","v":128.82},{"$f":"VLOOKUP(E63,'Start of Year Points'!A$2:L$62,11,FALSE)","v":128.82},128.82,128.82,128.82,128.82,null,128.82,128.82,{"$f":"'Points Calculation'!$BO61","v":128.82},{"$f":"'Points Calculation'!$BX61","v":128.82},null,{"$f":"'Points Calculation'!BQ61","v":151.46},{"$f":"'Points Calculation'!BZ61","v":154.58000000000001},null,"","",null,13,2,{"$f":"106.28+102.43","v":208.71},null,null,38,7,205.29999999999998,null,null,null,null,null,null,null,null,34,9,129.86000000000001,29,7,215.45999999999998,null,null,null,null,null,null,27,4,188.41,32,null,182.66,36,8,173.06,null,null,null,null,null,null,null,null,null,null,null,null,null,null,null,null,null,null,null,null,null,null,null,null,null,null,null,null,null,null,null,null,null,null,"DNF","DNF","DNF",null,null,null,null,null,null,"DNF","DNF","DNF",null,null,null,null,null,null,null,null,null,null,null,null,null,null,null,null,null,null,null,null,null,null,null,null,null,null,null,null,null,null,null,null,null,null,null,null,null,null,null,null,null,null,null,null,null,null,null,null,null,null,null,null,null,null,null,null,null,null,{"$f":"SUM((Z$5:FG$5=\"Overall\")*(Z63:FG63<=3))-SUM((Z$5:FG$5=\"Overall\")*(Z63:FG63=0))","v":0},{"$f":"SUM((AA$5:FJ$5=\"Age\")*(AA63:FJ63<=3))-SUM((AA$5:FJ$5=\"Age\")*(AA63:FJ63=0))","v":1},null,{"$f":"IF(MIN('Points Calculation'!CU61,'Points Calculation'!CV61)>0,MIN('Points Calculation'!CU61,'Points Calculation'!CV61),\"\")","v":177.86},{"$f":"IF(MIN('Points Calculation'!BL61,'Points Calculation'!BN61)>0,MIN('Points Calculation'!BL61,'Points Calculation'!BN61),\"\")","v":151.46},26.400000000000006,0.17430344645450946,{"$f":"'Points Calculation'!$BP61","v":154.58000000000001},null,{"$f":"IF(MIN('Points Calculation'!CZ61,'Points Calculation'!DA61)>0,MIN('Points Calculation'!CZ61,'Points Calculation'!DA61),\"\")","v":""},{"$f":"IF(MIN('Points Calculation'!BU61,'Points Calculation'!BW61)>0,MIN('Points Calculation'!BU61,'Points Calculation'!BW61),\"\")","v":""},"","",{"$f":"'Points Calculation'!$BP61","v":154.58000000000001},null,{"$f":"'Points Calculation'!BJ61","v":129.86000000000001},{"$f":"'Points Calculation'!BK61","v":173.06},{"$f":"'Points Calculation'!BL61","v":151.46},{"$f":"'Points Calculation'!BO61","v":128.82},null,{"$f":"'Points Calculation'!BS61","v":""},{"$f":"'Points Calculation'!BT61","v":""},{"$f":"'Points Calculation'!BU61","v":""},{"$f":"'Points Calculation'!BX61","v":128.82}]
["Duncan Thorley","M",1997,{"$f":"INDEX('Age Calculation'!$A$1:'Age Calculation'!$Q$108,MATCH(C64,'Age Calculation'!$A$1:'Age Calculation'!$A$108),MATCH($A$1,'Age Calculation'!$A$1:'Age Calculation'!$Q$1))","v":"U18"},18998,null,{"$f":"VLOOKUP(E64,'Start of Year Points'!A$2:I$62,9,FALSE)","v":133.94999999999999},{"$f":"VLOOKUP(E64,'Start of Year Points'!A$2:L$62,12,FALSE)","v":133.94999999999999},{"$f":"VLOOKUP(E64,'Start of Year Points'!A$2:L$62,11,FALSE)","v":133.94999999999999},133.94999999999999,133.94999999999999,133.94999999999999,133.94999999999999,null,133.94999999999999,133.94999999999999,{"$f":"'Points Calculation'!$BO62","v":133.94999999999999},{"$f":"'Points Calculation'!$BX62","v":133.94999999999999},null,{"$f":"'Points Calculation'!BQ62","v":160.74},{"$f":"'Points Calculation'!BZ62","v":160.74},null,"","",null,null,null,null,null,null,null,null,null,null,null,null,null,null,null,null,null,null,null,null,null,null,null,null,null,null,null,null,null,null,null,null,null,null,null,null,null,null,null,null,null,null,null,null,null,null,null,null,null,null,null,null,null,null,null,null,null,null,null,null,null,null,null,null,null,null,null,null,null,null,null,null,null,null,null,null,null,null,null,null,null,null,null,null,null,null,null,null,null,null,null,null,null,null,null,null,null,null,null,null,null,null,null,null,null,null,null,null,null,null,null,null,null,null,null,null,null,null,null,null,null,null,null,null,null,null,null,null,null,null,null,null,null,null,null,null,null,null,null,null,null,null,{"$f":"SUM((Z$5:FG$5=\"Overall\")*(Z64:FG64<=3))-SUM((Z$5:FG$5=\"Overall\")*(Z64:FG64=0))","v":0},{"$f":"SUM((AA$5:FJ$5=\"Age\")*(AA64:FJ64<=3))-SUM((AA$5:FJ$5=\"Age\")*(AA64:FJ64=0))","v":0},null,{"$f":"IF(MIN('Points Calculation'!CU62,'Points Calculation'!CV62)>0,MIN('Points Calculation'!CU62,'Points Calculation'!CV62),\"\")","v":""},{"$f":"IF(MIN('Points Calculation'!BL62,'Points Calculation'!BN62)>0,MIN('Points Calculation'!BL62,'Points Calculation'!BN62),\"\")","v":""},"","",{"$f":"'Points Calculation'!$BP62","v":160.74},null,{"$f":"IF(MIN('Points Calculation'!CZ62,'Points Calculation'!DA62)>0,MIN('Points Calculation'!CZ62,'Points Calculation'!DA62),\"\")","v":""},{"$f":"IF(MIN('Points Calculation'!BU62,'Points Calculation'!BW62)>0,MIN('Points Calculation'!BU62,'Points Calculation'!BW62),\"\")","v":""},"","",{"$f":"'Points Calculation'!$BP62","v":160.74},null,{"$f":"'Points Calculation'!BJ62","v":""},{"$f":"'Points Calculation'!BK62","v":""},{"$f":"'Points Calculation'!BL62","v":""},{"$f":"'Points Calculation'!BO62","v":133.94999999999999},null,{"$f":"'Points Calculation'!BS62","v":""},{"$f":"'Points Calculation'!BT62","v":""},{"$f":"'Points Calculation'!BU62","v":""},{"$f":"'Points Calculation'!BX62","v":133.94999999999999}]
["Thomas Lawrence","M",1999,{"$f":"INDEX('Age Calculation'!$A$1:'Age Calculation'!$Q$108,MATCH(C65,'Age Calculation'!$A$1:'Age Calculation'!$A$108),MATCH($A$1,'Age Calculation'!$A$1:'Age Calculation'!$Q$1))","v":"U16"},19941,null,{"$f":"VLOOKUP(E65,'Start of Year Points'!A$2:I$62,9,FALSE)","v":144.61000000000001},{"$f":"VLOOKUP(E65,'Start of Year Points'!A$2:L$62,12,FALSE)","v":144.61000000000001},{"$f":"VLOOKUP(E65,'Start of Year Points'!A$2:L$62,11,FALSE)","v":144.61000000000001},144.61000000000001,144.61000000000001,119.4,144.61000000000001,null,103.06,144.61000000000001,{"$f":"'Points Calculation'!$BO63","v":103.06},{"$f":"'Points Calculation'!$BX63","v":144.61000000000001},null,{"$f":"'Points Calculation'!BQ63","v":103.06},{"$f":"'Points Calculation'!BZ63","v":173.53},null,-41.550000000000011,"",null,null,null,null,null,null,null,null,null,null,null,null,null,null,null,null,null,null,null,null,null,null,null,null,null,null,null,null,null,null,null,null,null,null,null,"DNF","DNF","DNF",null,null,null,null,null,null,null,null,null,null,null,null,null,null,null,31,6,101.32,null,null,null,null,null,null,null,"DSQ","DSQ","DSQ",null,null,null,36,6,137.47,"DSQ","DSQ","DSQ","DNS","DNS","DNS","DNF","DNF","DNF",29,3,104.8,null,null,null,null,null,null,null,null,null,null,null,null,null,null,null,null,null,null,null,null,null,null,null,null,null,null,54,13,135.56,null,null,null,null,null,null,36,10,174.2,38,5,192.94,null,null,null,"DNS","DNS",999.99,null,null,null,null,null,null,null,null,null,null,null,{"$f":"SUM((Z$5:FG$5=\"Overall\")*(Z65:FG65<=3))-SUM((Z$5:FG$5=\"Overall\")*(Z65:FG65=0))","v":0},{"$f":"SUM((AA$5:FJ$5=\"Age\")*(AA65:FJ65<=3))-SUM((AA$5:FJ$5=\"Age\")*(AA65:FJ65=0))","v":1},null,{"$f":"IF(MIN('Points Calculation'!CU63,'Points Calculation'!CV63)>0,MIN('Points Calculation'!CU63,'Points Calculation'!CV63),\"\")","v":120.18},{"$f":"IF(MIN('Points Calculation'!BL63,'Points Calculation'!BN63)>0,MIN('Points Calculation'!BL63,'Points Calculation'!BN63),\"\")","v":103.06},17.120000000000005,0.16611682515039786,{"$f":"'Points Calculation'!$BP63","v":173.53},null,{"$f":"IF(MIN('Points Calculation'!CZ63,'Points Calculation'!DA63)>0,MIN('Points Calculation'!CZ63,'Points Calculation'!DA63),\"\")","v":1199.9880000000001},{"$f":"IF(MIN('Points Calculation'!BU63,'Points Calculation'!BW63)>0,MIN('Points Calculation'!BU63,'Points Calculation'!BW63),\"\")","v":""},{"$error":"#VALUE!"},{"$error":"#VALUE!"},{"$f":"'Points Calculation'!$BP63","v":173.53},null,{"$f":"'Points Calculation'!BJ63","v":101.32},{"$f":"'Points Calculation'!BK63","v":104.8},{"$f":"'Points Calculation'!BL63","v":103.06},{"$f":"'Points Calculation'!BO63","v":103.06},null,{"$f":"'Points Calculation'!BS63","v":""},{"$f":"'Points Calculation'!BT63","v":""},{"$f":"'Points Calculation'!BU63","v":""},{"$f":"'Points Calculation'!BX63","v":144.61000000000001}]
["Ethan Hemming","M",2001,{"$f":"INDEX('Age Calculation'!$A$1:'Age Calculation'!$Q$108,MATCH(C66,'Age Calculation'!$A$1:'Age Calculation'!$A$108),MATCH($A$1,'Age Calculation'!$A$1:'Age Calculation'!$Q$1))","v":"U14"},19829,null,{"$f":"VLOOKUP(E66,'Start of Year Points'!A$2:I$62,9,FALSE)","v":150.21},{"$f":"VLOOKUP(E66,'Start of Year Points'!A$2:L$62,12,FALSE)","v":150.21},{"$f":"VLOOKUP(E66,'Start of Year Points'!A$2:L$62,11,FALSE)","v":150.21},138.09,150.21,114.45,150.21,null,114.45,150.21,{"$f":"'Points Calculation'!$BO64","v":114.45},{"$f":"'Points Calculation'!$BX64","v":150.21},null,{"$f":"'Points Calculation'!BQ64","v":114.45},{"$f":"'Points Calculation'!BZ64","v":180.25},null,-35.760000000000005,"",null,14,9,{"$f":"111.01+102.43","v":213.44},null,null,27,7,164.73,null,null,null,null,null,null,null,null,30,7,125.97,25,8,198.38,null,null,null,null,null,null,"DSQ","DSQ","DSQ",39,null,1183.5999999999999,38,10,179.29,28,6,185.36,null,null,null,22,7,209.25,null,null,null,null,null,null,33,3,102.93,null,null,null,null,null,null,null,"DNF","DNF","DNF",null,null,null,37,6,139.69999999999999,"DNF","DNF","DNF",51,14,174.54,null,null,null,null,null,null,null,null,null,null,null,null,null,null,null,null,null,null,26,4,134.1,null,null,null,null,null,null,null,null,null,null,null,null,null,null,null,null,null,null,null,null,null,null,null,null,null,null,null,null,null,null,null,null,null,null,null,null,null,null,null,null,null,null,null,{"$f":"SUM((Z$5:FG$5=\"Overall\")*(Z66:FG66<=3))-SUM((Z$5:FG$5=\"Overall\")*(Z66:FG66=0))","v":0},{"$f":"SUM((AA$5:FJ$5=\"Age\")*(AA66:FJ66<=3))-SUM((AA$5:FJ$5=\"Age\")*(AA66:FJ66=0))","v":1},null,{"$f":"IF(MIN('Points Calculation'!CU64,'Points Calculation'!CV64)>0,MIN('Points Calculation'!CU64,'Points Calculation'!CV64),\"\")","v":188.83499999999998},{"$f":"IF(MIN('Points Calculation'!BL64,'Points Calculation'!BN64)>0,MIN('Points Calculation'!BL64,'Points Calculation'!BN64),\"\")","v":114.45},74.384999999999977,0.649934469200524,{"$f":"'Points Calculation'!$BP64","v":180.25},null,{"$f":"IF(MIN('Points Calculation'!CZ64,'Points Calculation'!DA64)>0,MIN('Points Calculation'!CZ64,'Points Calculation'!DA64),\"\")","v":""},{"$f":"IF(MIN('Points Calculation'!BU64,'Points Calculation'!BW64)>0,MIN('Points Calculation'!BU64,'Points Calculation'!BW64),\"\")","v":""},"","",{"$f":"'Points Calculation'!$BP64","v":180.25},null,{"$f":"'Points Calculation'!BJ64","v":102.93},{"$f":"'Points Calculation'!BK64","v":125.97},{"$f":"'Points Calculation'!BL64","v":114.45},{"$f":"'Points Calculation'!BO64","v":114.45},null,{"$f":"'Points Calculation'!BS64","v":""},{"$f":"'Points Calculation'!BT64","v":""},{"$f":"'Points Calculation'!BU64","v":""},{"$f":"'Points Calculation'!BX64","v":150.21}]
["James Elgy","M",1993,{"$f":"INDEX('Age Calculation'!$A$1:'Age Calculation'!$Q$108,MATCH(C67,'Age Calculation'!$A$1:'Age Calculation'!$A$108),MATCH($A$1,'Age Calculation'!$A$1:'Age Calculation'!$Q$1))","v":"SEN"},19166,null,{"$f":"VLOOKUP(E67,'Start of Year Points'!A$2:I$62,9,FALSE)","v":166.36},{"$f":"VLOOKUP(E67,'Start of Year Points'!A$2:L$62,12,FALSE)","v":166.36},{"$f":"VLOOKUP(E67,'Start of Year Points'!A$2:L$62,11,FALSE)","v":166.36},166.36,166.36,166.36,166.36,null,166.36,166.36,{"$f":"'Points Calculation'!$BO65","v":166.36},{"$f":"'Points Calculation'!$BX65","v":166.36},null,{"$f":"'Points Calculation'!BQ65","v":199.63},{"$f":"'Points Calculation'!BZ65","v":199.63},null,"","",null,null,null,null,null,null,null,null,null,null,null,null,null,null,null,null,null,null,null,null,null,null,null,null,null,null,null,null,null,null,null,null,null,null,null,null,null,null,null,null,null,null,null,null,null,null,null,null,null,null,null,null,null,null,null,null,null,null,null,null,null,null,null,null,null,null,null,null,null,null,null,null,null,null,null,null,null,null,null,null,null,null,null,null,null,null,null,null,null,null,null,null,null,null,null,null,null,null,null,null,null,null,null,null,null,null,null,null,null,null,null,null,null,null,null,null,null,null,null,null,null,null,null,null,null,null,null,null,null,null,null,null,null,null,null,null,null,null,null,null,null,null,{"$f":"SUM((Z$5:FG$5=\"Overall\")*(Z67:FG67<=3))-SUM((Z$5:FG$5=\"Overall\")*(Z67:FG67=0))","v":0},{"$f":"SUM((AA$5:FJ$5=\"Age\")*(AA67:FJ67<=3))-SUM((AA$5:FJ$5=\"Age\")*(AA67:FJ67=0))","v":0},null,{"$f":"IF(MIN('Points Calculation'!CU65,'Points Calculation'!CV65)>0,MIN('Points Calculation'!CU65,'Points Calculation'!CV65),\"\")","v":""},{"$f":"IF(MIN('Points Calculation'!BL65,'Points Calculation'!BN65)>0,MIN('Points Calculation'!BL65,'Points Calculation'!BN65),\"\")","v":""},"","",{"$f":"'Points Calculation'!$BP65","v":199.63},null,{"$f":"IF(MIN('Points Calculation'!CZ65,'Points Calculation'!DA65)>0,MIN('Points Calculation'!CZ65,'Points Calculation'!DA65),\"\")","v":""},{"$f":"IF(MIN('Points Calculation'!BU65,'Points Calculation'!BW65)>0,MIN('Points Calculation'!BU65,'Points Calculation'!BW65),\"\")","v":""},"","",{"$f":"'Points Calculation'!$BP65","v":199.63},null,{"$f":"'Points Calculation'!BJ65","v":""},{"$f":"'Points Calculation'!BK65","v":""},{"$f":"'Points Calculation'!BL65","v":""},{"$f":"'Points Calculation'!BO65","v":166.36},null,{"$f":"'Points Calculation'!BS65","v":""},{"$f":"'Points Calculation'!BT65","v":""},{"$f":"'Points Calculation'!BU65","v":""},{"$f":"'Points Calculation'!BX65","v":166.36}]
["Toby Tarrant","M",1997,{"$f":"INDEX('Age Calculation'!$A$1:'Age Calculation'!$Q$108,MATCH(C68,'Age Calculation'!$A$1:'Age Calculation'!$A$108),MATCH($A$1,'Age Calculation'!$A$1:'Age Calculation'!$Q$1))","v":"U18"},21550,null,{"$f":"VLOOKUP(E68,'Start of Year Points'!A$2:I$62,9,FALSE)","v":186.2},{"$f":"VLOOKUP(E68,'Start of Year Points'!A$2:L$62,12,FALSE)","v":186.2},{"$f":"VLOOKUP(E68,'Start of Year Points'!A$2:L$62,11,FALSE)","v":186.2},186.2,186.2,135.63,186.2,null,135.63,186.2,{"$f":"'Points Calculation'!$BO66","v":135.63},{"$f":"'Points Calculation'!$BX66","v":186.2},null,{"$f":"'Points Calculation'!BQ66","v":135.63},{"$f":"'Points Calculation'!BZ66","v":223.44},null,-50.569999999999993,"",null,null,null,null,null,null,null,null,null,null,null,null,null,null,null,null,null,null,null,null,null,null,null,null,null,null,null,null,null,null,null,null,null,null,null,null,null,null,null,null,null,null,null,null,null,null,null,null,null,null,null,null,null,null,null,null,null,null,null,null,null,null,null,39,9,148.43,null,null,null,31,8,122.83,null,null,null,null,null,null,null,null,null,null,null,null,null,null,null,null,null,null,null,null,null,null,null,null,null,null,null,null,null,null,null,null,null,null,null,null,null,null,null,null,null,null,null,null,null,null,null,null,null,null,null,null,null,null,null,null,null,null,null,null,null,null,null,null,null,null,null,null,null,null,{"$f":"SUM((Z$5:FG$5=\"Overall\")*(Z68:FG68<=3))-SUM((Z$5:FG$5=\"Overall\")*(Z68:FG68=0))","v":0},{"$f":"SUM((AA$5:FJ$5=\"Age\")*(AA68:FJ68<=3))-SUM((AA$5:FJ$5=\"Age\")*(AA68:FJ68=0))","v":0},null,{"$f":"IF(MIN('Points Calculation'!CU66,'Points Calculation'!CV66)>0,MIN('Points Calculation'!CU66,'Points Calculation'!CV66),\"\")","v":""},{"$f":"IF(MIN('Points Calculation'!BL66,'Points Calculation'!BN66)>0,MIN('Points Calculation'!BL66,'Points Calculation'!BN66),\"\")","v":135.63},"","",{"$f":"'Points Calculation'!$BP66","v":223.44},null,{"$f":"IF(MIN('Points Calculation'!CZ66,'Points Calculation'!DA66)>0,MIN('Points Calculation'!CZ66,'Points Calculation'!DA66),\"\")","v":""},{"$f":"IF(MIN('Points Calculation'!BU66,'Points Calculation'!BW66)>0,MIN('Points Calculation'!BU66,'Points Calculation'!BW66),\"\")","v":""},"","",{"$f":"'Points Calculation'!$BP66","v":223.44},null,{"$f":"'Points Calculation'!BJ66","v":122.83},{"$f":"'Points Calculation'!BK66","v":148.43},{"$f":"'Points Calculation'!BL66","v":135.63},{"$f":"'Points Calculation'!BO66","v":135.63},null,{"$f":"'Points Calculation'!BS66","v":""},{"$f":"'Points Calculation'!BT66","v":""},{"$f":"'Points Calculation'!BU66","v":""},{"$f":"'Points Calculation'!BX66","v":186.2}]
["Thomas Upton","M",2001,{"$f":"INDEX('Age Calculation'!$A$1:'Age Calculation'!$Q$108,MATCH(C69,'Age Calculation'!$A$1:'Age Calculation'!$A$108),MATCH($A$1,'Age Calculation'!$A$1:'Age Calculation'!$Q$1))","v":"U14"},21051,null,{"$f":"VLOOKUP(E69,'Start of Year Points'!A$2:I$62,9,FALSE)","v":189.87},{"$f":"VLOOKUP(E69,'Start of Year Points'!A$2:L$62,12,FALSE)","v":182.89},{"$f":"VLOOKUP(E69,'Start of Year Points'!A$2:L$62,11,FALSE)","v":189.87},126.27,179.58,123.67,167.14,null,117.2,131.02000000000001,{"$f":"'Points Calculation'!$BO67","v":104.95},{"$f":"'Points Calculation'!$BX67","v":121.49},null,{"$f":"'Points Calculation'!BQ67","v":104.95},{"$f":"'Points Calculation'!BZ67","v":121.49},null,-84.92,-68.38000000000001,null,9,6,{"$f":"73.48+102.43","v":175.91000000000003},null,null,null,null,null,null,null,null,null,null,null,null,null,27,5,115.46000000000001,21,4,141.07999999999998,59,15,235.1,35,6,169.29,22,6,161.1,24,null,137.08000000000001,"DNF","DNF","DNF",null,null,null,null,null,null,null,null,null,null,null,null,null,null,null,null,null,null,null,null,null,43,15,164.99,240.44,32,6,131.87,null,null,null,40,7,140.69999999999999,39,3,125.83,35,6,118.93,22,4,157.9,42,10,560.14,33,4,133.75,25,5,126.84,24,5,141.73000000000002,23,4,135.20000000000002,null,null,null,null,null,null,null,null,null,null,null,null,null,null,40,4,99.17,41,11,133.9,27,5,107.77,26,5,110.73,33,7,168.8,null,null,null,null,null,null,null,null,null,null,null,null,null,null,null,null,null,{"$f":"SUM((Z$5:FG$5=\"Overall\")*(Z69:FG69<=3))-SUM((Z$5:FG$5=\"Overall\")*(Z69:FG69=0))","v":0},{"$f":"SUM((AA$5:FJ$5=\"Age\")*(AA69:FJ69<=3))-SUM((AA$5:FJ$5=\"Age\")*(AA69:FJ69=0))","v":1},null,{"$f":"IF(MIN('Points Calculation'!CU67,'Points Calculation'!CV67)>0,MIN('Points Calculation'!CU67,'Points Calculation'!CV67),\"\")","v":104.95},{"$f":"IF(MIN('Points Calculation'!BL67,'Points Calculation'!BN67)>0,MIN('Points Calculation'!BL67,'Points Calculation'!BN67),\"\")","v":104.95},0,0,{"$f":"'Points Calculation'!$BP67","v":227.84},null,{"$f":"IF(MIN('Points Calculation'!CZ67,'Points Calculation'!DA67)>0,MIN('Points Calculation'!CZ67,'Points Calculation'!DA67),\"\")","v":121.48500000000001},{"$f":"IF(MIN('Points Calculation'!BU67,'Points Calculation'!BW67)>0,MIN('Points Calculation'!BU67,'Points Calculation'!BW67),\"\")","v":121.49},-4.9999999999812417E-3,-4.1155650670682707E-5,{"$f":"'Points Calculation'!$BP67","v":227.84},null,{"$f":"'Points Calculation'!BJ67","v":99.17},{"$f":"'Points Calculation'!BK67","v":110.73},{"$f":"'Points Calculation'!BL67","v":104.95},{"$f":"'Points Calculation'!BO67","v":104.95},null,{"$f":"'Points Calculation'!BS67","v":107.77},{"$f":"'Points Calculation'!BT67","v":135.20000000000002},{"$f":"'Points Calculation'!BU67","v":121.49},{"$f":"'Points Calculation'!BX67","v":121.49}]
["Edward Guy","M",2001,{"$f":"INDEX('Age Calculation'!$A$1:'Age Calculation'!$Q$108,MATCH(C70,'Age Calculation'!$A$1:'Age Calculation'!$A$108),MATCH($A$1,'Age Calculation'!$A$1:'Age Calculation'!$Q$1))","v":"U14"},19379,null,{"$f":"VLOOKUP(E70,'Start of Year Points'!A$2:I$62,9,FALSE)","v":238.89},{"$f":"VLOOKUP(E70,'Start of Year Points'!A$2:L$62,12,FALSE)","v":238.89},{"$f":"VLOOKUP(E70,'Start of Year Points'!A$2:L$62,11,FALSE)","v":238.89},138.32,238.89,138.32,238.89,null,138.32,238.89,{"$f":"'Points Calculation'!$BO68","v":138.32},{"$f":"'Points Calculation'!$BX68","v":238.89},null,{"$f":"'Points Calculation'!BQ68","v":138.32},{"$f":"'Points Calculation'!BZ68","v":286.67},null,-100.57,"",null,null,null,null,null,null,null,null,null,null,null,null,null,null,null,null,null,29,6,123.46000000000001,"DSQ","DSQ","DSQ",null,null,null,null,null,null,21,5,153.16999999999999,28,null,154.11000000000001,null,null,null,null,null,null,null,null,null,null,null,null,null,null,null,null,null,null,null,null,null,null,null,null,null,null,null,null,null,null,null,null,null,null,null,null,null,null,null,null,null,null,null,null,null,null,37,7,172.45,null,null,null,null,null,null,null,null,null,null,null,null,null,null,null,null,null,null,null,null,null,null,null,null,null,null,57,8,158.15,null,null,null,null,null,null,null,null,null,null,null,null,null,null,null,null,null,null,null,null,null,null,null,null,null,null,null,null,null,{"$f":"SUM((Z$5:FG$5=\"Overall\")*(Z70:FG70<=3))-SUM((Z$5:FG$5=\"Overall\")*(Z70:FG70=0))","v":0},{"$f":"SUM((AA$5:FJ$5=\"Age\")*(AA70:FJ70<=3))-SUM((AA$5:FJ$5=\"Age\")*(AA70:FJ70=0))","v":0},null,{"$f":"IF(MIN('Points Calculation'!CU68,'Points Calculation'!CV68)>0,MIN('Points Calculation'!CU68,'Points Calculation'!CV68),\"\")","v":155.66},{"$f":"IF(MIN('Points Calculation'!BL68,'Points Calculation'!BN68)>0,MIN('Points Calculation'!BL68,'Points Calculation'!BN68),\"\")","v":138.32},17.340000000000003,0.12536148062463856,{"$f":"'Points Calculation'!$BP68","v":286.67},null,{"$f":"IF(MIN('Points Calculation'!CZ68,'Points Calculation'!DA68)>0,MIN('Points Calculation'!CZ68,'Points Calculation'!DA68),\"\")","v":""},{"$f":"IF(MIN('Points Calculation'!BU68,'Points Calculation'!BW68)>0,MIN('Points Calculation'!BU68,'Points Calculation'!BW68),\"\")","v":""},"","",{"$f":"'Points Calculation'!$BP68","v":286.67},null,{"$f":"'Points Calculation'!BJ68","v":123.46000000000001},{"$f":"'Points Calculation'!BK68","v":153.16999999999999},{"$f":"'Points Calculation'!BL68","v":138.32},{"$f":"'Points Calculation'!BO68","v":138.32},null,{"$f":"'Points Calculation'!BS68","v":""},{"$f":"'Points Calculation'!BT68","v":""},{"$f":"'Points Calculation'!BU68","v":""},{"$f":"'Points Calculation'!BX68","v":238.89}]
["Samuel Doherty","M",1999,{"$f":"INDEX('Age Calculation'!$A$1:'Age Calculation'!$Q$108,MATCH(C71,'Age Calculation'!$A$1:'Age Calculation'!$A$108),MATCH($A$1,'Age Calculation'!$A$1:'Age Calculation'!$Q$1))","v":"U16"},19572,null,{"$f":"VLOOKUP(E71,'Start of Year Points'!A$2:I$62,9,FALSE)","v":257.08999999999997},{"$f":"VLOOKUP(E71,'Start of Year Points'!A$2:L$62,12,FALSE)","v":257.08999999999997},{"$f":"VLOOKUP(E71,'Start of Year Points'!A$2:L$62,11,FALSE)","v":257.08999999999997},257.08999999999997,257.08999999999997,257.08999999999997,257.08999999999997,null,257.08999999999997,257.08999999999997,{"$f":"'Points Calculation'!$BO69","v":257.08999999999997},{"$f":"'Points Calculation'!$BX69","v":257.08999999999997},null,{"$f":"'Points Calculation'!BQ69","v":308.51},{"$f":"'Points Calculation'!BZ69","v":308.51},null,"","",null,null,null,null,null,null,null,null,null,null,null,null,null,null,null,null,null,null,null,null,null,null,null,null,null,null,null,null,null,null,null,null,null,null,null,null,null,null,null,null,null,null,null,null,null,null,null,null,null,null,null,null,null,null,null,null,null,null,null,null,null,null,null,null,null,null,null,null,null,null,null,null,null,null,null,null,null,null,null,null,null,null,null,null,null,null,null,null,null,null,null,null,null,null,null,null,null,null,null,null,null,null,null,null,null,null,null,null,null,null,null,null,null,null,null,null,null,null,null,null,null,null,null,null,null,null,null,null,null,null,null,null,null,null,null,null,null,null,null,null,null,null,{"$f":"SUM((Z$5:FG$5=\"Overall\")*(Z71:FG71<=3))-SUM((Z$5:FG$5=\"Overall\")*(Z71:FG71=0))","v":0},{"$f":"SUM((AA$5:FJ$5=\"Age\")*(AA71:FJ71<=3))-SUM((AA$5:FJ$5=\"Age\")*(AA71:FJ71=0))","v":0},null,{"$f":"IF(MIN('Points Calculation'!CU69,'Points Calculation'!CV69)>0,MIN('Points Calculation'!CU69,'Points Calculation'!CV69),\"\")","v":""},{"$f":"IF(MIN('Points Calculation'!BL69,'Points Calculation'!BN69)>0,MIN('Points Calculation'!BL69,'Points Calculation'!BN69),\"\")","v":""},"","",{"$f":"'Points Calculation'!$BP69","v":308.51},null,{"$f":"IF(MIN('Points Calculation'!CZ69,'Points Calculation'!DA69)>0,MIN('Points Calculation'!CZ69,'Points Calculation'!DA69),\"\")","v":""},{"$f":"IF(MIN('Points Calculation'!BU69,'Points Calculation'!BW69)>0,MIN('Points Calculation'!BU69,'Points Calculation'!BW69),\"\")","v":""},"","",{"$f":"'Points Calculation'!$BP69","v":308.51},null,{"$f":"'Points Calculation'!BJ69","v":""},{"$f":"'Points Calculation'!BK69","v":""},{"$f":"'Points Calculation'!BL69","v":""},{"$f":"'Points Calculation'!BO69","v":257.08999999999997},null,{"$f":"'Points Calculation'!BS69","v":""},{"$f":"'Points Calculation'!BT69","v":""},{"$f":"'Points Calculation'!BU69","v":""},{"$f":"'Points Calculation'!BX69","v":257.08999999999997}]
["Karl Hancock","M",1995,{"$f":"INDEX('Age Calculation'!$A$1:'Age Calculation'!$Q$108,MATCH(C72,'Age Calculation'!$A$1:'Age Calculation'!$A$108),MATCH($A$1,'Age Calculation'!$A$1:'Age Calculation'!$Q$1))","v":"U21"},18616,null,{"$f":"VLOOKUP(E72,'Start of Year Points'!A$2:I$62,9,FALSE)","v":259.37},{"$f":"VLOOKUP(E72,'Start of Year Points'!A$2:L$62,12,FALSE)","v":259.37},{"$f":"VLOOKUP(E72,'Start of Year Points'!A$2:L$62,11,FALSE)","v":259.37},259.37,259.37,259.37,203.44,null,259.37,203.44,{"$f":"'Points Calculation'!$BO70","v":259.37},{"$f":"'Points Calculation'!$BX70","v":203.44},null,{"$f":"'Points Calculation'!BQ70","v":311.24},{"$f":"'Points Calculation'!BZ70","v":203.44},null,"",-55.930000000000007,null,null,null,null,null,null,null,null,null,null,null,null,null,null,null,null,null,null,null,null,null,null,null,null,null,null,null,null,null,null,null,null,null,null,null,null,null,null,null,null,null,null,null,null,null,null,null,null,null,null,null,null,null,null,null,null,null,null,null,null,null,null,null,null,null,null,25,4,169.53,null,null,null,null,null,null,null,null,null,null,null,null,null,null,null,null,null,null,null,null,null,null,null,null,null,null,null,null,null,null,null,null,null,null,null,null,null,null,null,null,null,null,null,null,null,null,null,null,null,null,null,null,null,null,null,null,null,null,null,null,null,null,null,null,null,null,null,null,null,null,null,null,null,{"$f":"SUM((Z$5:FG$5=\"Overall\")*(Z72:FG72<=3))-SUM((Z$5:FG$5=\"Overall\")*(Z72:FG72=0))","v":0},{"$f":"SUM((AA$5:FJ$5=\"Age\")*(AA72:FJ72<=3))-SUM((AA$5:FJ$5=\"Age\")*(AA72:FJ72=0))","v":0},null,{"$f":"IF(MIN('Points Calculation'!CU70,'Points Calculation'!CV70)>0,MIN('Points Calculation'!CU70,'Points Calculation'!CV70),\"\")","v":""},{"$f":"IF(MIN('Points Calculation'!BL70,'Points Calculation'!BN70)>0,MIN('Points Calculation'!BL70,'Points Calculation'!BN70),\"\")","v":""},"","",{"$f":"'Points Calculation'!$BP70","v":311.24},null,{"$f":"IF(MIN('Points Calculation'!CZ70,'Points Calculation'!DA70)>0,MIN('Points Calculation'!CZ70,'Points Calculation'!DA70),\"\")","v":203.43600000000001},{"$f":"IF(MIN('Points Calculation'!BU70,'Points Calculation'!BW70)>0,MIN('Points Calculation'!BU70,'Points Calculation'!BW70),\"\")","v":203.44},-3.9999999999906777E-3,-1.9661816751822049E-5,{"$f":"'Points Calculation'!$BP70","v":311.24},null,{"$f":"'Points Calculation'!BJ70","v":""},{"$f":"'Points Calculation'!BK70","v":""},{"$f":"'Points Calculation'!BL70","v":""},{"$f":"'Points Calculation'!BO70","v":259.37},null,{"$f":"'Points Calculation'!BS70","v":169.53},{"$f":"'Points Calculation'!BT70","v":""},{"$f":"'Points Calculation'!BU70","v":""},{"$f":"'Points Calculation'!BX70","v":203.44}]
["John Elgy","M",1951,{"$f":"INDEX('Age Calculation'!$A$1:'Age Calculation'!$Q$108,MATCH(C73,'Age Calculation'!$A$1:'Age Calculation'!$A$108),MATCH($A$1,'Age Calculation'!$A$1:'Age Calculation'!$Q$1))","v":"MAS"},19164,null,{"$f":"VLOOKUP(E73,'Start of Year Points'!A$2:I$62,9,FALSE)","v":332.56},{"$f":"VLOOKUP(E73,'Start of Year Points'!A$2:L$62,12,FALSE)","v":332.56},{"$f":"VLOOKUP(E73,'Start of Year Points'!A$2:L$62,11,FALSE)","v":332.56},332.56,332.56,332.56,332.56,null,332.56,332.56,{"$f":"'Points Calculation'!$BO71","v":332.56},{"$f":"'Points Calculation'!$BX71","v":332.56},null,{"$f":"'Points Calculation'!BQ71","v":399.07},{"$f":"'Points Calculation'!BZ71","v":399.07},null,"","",null,null,null,null,null,null,null,null,null,null,null,null,null,null,null,null,null,null,null,null,null,null,null,null,null,null,null,null,null,null,null,null,null,null,null,null,null,null,null,null,null,null,null,null,null,null,null,null,null,null,null,null,null,null,null,null,null,null,null,null,null,null,null,null,null,null,null,null,null,null,null,null,null,null,null,null,null,null,null,null,null,null,null,null,null,null,null,null,null,null,null,null,null,null,null,null,null,null,null,null,null,null,null,null,null,null,null,null,null,null,null,null,null,null,null,null,null,null,null,null,null,null,null,null,null,null,null,null,null,null,null,null,null,null,null,null,null,null,null,null,null,null,{"$f":"SUM((Z$5:FG$5=\"Overall\")*(Z73:FG73<=3))-SUM((Z$5:FG$5=\"Overall\")*(Z73:FG73=0))","v":0},{"$f":"SUM((AA$5:FJ$5=\"Age\")*(AA73:FJ73<=3))-SUM((AA$5:FJ$5=\"Age\")*(AA73:FJ73=0))","v":0},null,{"$f":"IF(MIN('Points Calculation'!CU71,'Points Calculation'!CV71)>0,MIN('Points Calculation'!CU71,'Points Calculation'!CV71),\"\")","v":""},{"$f":"IF(MIN('Points Calculation'!BL71,'Points Calculation'!BN71)>0,MIN('Points Calculation'!BL71,'Points Calculation'!BN71),\"\")","v":""},"","",{"$f":"'Points Calculation'!$BP71","v":399.07},null,{"$f":"IF(MIN('Points Calculation'!CZ71,'Points Calculation'!DA71)>0,MIN('Points Calculation'!CZ71,'Points Calculation'!DA71),\"\")","v":""},{"$f":"IF(MIN('Points Calculation'!BU71,'Points Calculation'!BW71)>0,MIN('Points Calculation'!BU71,'Points Calculation'!BW71),\"\")","v":""},"","",{"$f":"'Points Calculation'!$BP71","v":399.07},null,{"$f":"'Points Calculation'!BJ71","v":""},{"$f":"'Points Calculation'!BK71","v":""},{"$f":"'Points Calculation'!BL71","v":""},{"$f":"'Points Calculation'!BO71","v":332.56},null,{"$f":"'Points Calculation'!BS71","v":""},{"$f":"'Points Calculation'!BT71","v":""},{"$f":"'Points Calculation'!BU71","v":""},{"$f":"'Points Calculation'!BX71","v":332.56}]
["Matthew Kirkland","M",1992,{"$f":"INDEX('Age Calculation'!$A$1:'Age Calculation'!$Q$108,MATCH(C74,'Age Calculation'!$A$1:'Age Calculation'!$A$108),MATCH($A$1,'Age Calculation'!$A$1:'Age Calculation'!$Q$1))","v":"SEN"},21633,null,{"$f":"VLOOKUP(E74,'Start of Year Points'!A$2:I$62,9,FALSE)","v":345.98},{"$f":"VLOOKUP(E74,'Start of Year Points'!A$2:L$62,12,FALSE)","v":345.98},{"$f":"VLOOKUP(E74,'Start of Year Points'!A$2:L$62,11,FALSE)","v":345.98},345.98,345.98,345.98,345.98,null,345.98,345.98,{"$f":"'Points Calculation'!$BO72","v":345.98},{"$f":"'Points Calculation'!$BX72","v":345.98},null,{"$f":"'Points Calculation'!BQ72","v":415.18},{"$f":"'Points Calculation'!BZ72","v":415.18},null,"","",null,null,null,null,null,null,null,null,null,null,null,null,null,null,null,null,null,null,null,null,null,null,null,null,null,null,null,null,null,null,null,null,null,null,null,null,null,null,null,null,null,null,null,null,null,null,null,null,null,null,null,null,null,null,null,null,null,null,null,null,null,null,null,null,null,null,null,null,null,null,null,null,null,null,null,null,null,null,null,null,null,null,null,null,null,null,null,null,null,null,null,null,null,null,null,null,null,null,null,null,null,null,null,null,null,null,null,null,null,null,null,null,null,null,null,null,null,null,null,null,null,null,null,null,null,null,null,null,null,null,null,null,null,null,null,null,null,null,null,null,null,null,{"$f":"SUM((Z$5:FG$5=\"Overall\")*(Z74:FG74<=3))-SUM((Z$5:FG$5=\"Overall\")*(Z74:FG74=0))","v":0},{"$f":"SUM((AA$5:FJ$5=\"Age\")*(AA74:FJ74<=3))-SUM((AA$5:FJ$5=\"Age\")*(AA74:FJ74=0))","v":0},null,{"$f":"IF(MIN('Points Calculation'!CU72,'Points Calculation'!CV72)>0,MIN('Points Calculation'!CU72,'Points Calculation'!CV72),\"\")","v":""},{"$f":"IF(MIN('Points Calculation'!BL72,'Points Calculation'!BN72)>0,MIN('Points Calculation'!BL72,'Points Calculation'!BN72),\"\")","v":""},"","",{"$f":"'Points Calculation'!$BP72","v":415.18},null,{"$f":"IF(MIN('Points Calculation'!CZ72,'Points Calculation'!DA72)>0,MIN('Points Calculation'!CZ72,'Points Calculation'!DA72),\"\")","v":""},{"$f":"IF(MIN('Points Calculation'!BU72,'Points Calculation'!BW72)>0,MIN('Points Calculation'!BU72,'Points Calculation'!BW72),\"\")","v":""},"","",{"$f":"'Points Calculation'!$BP72","v":415.18},null,{"$f":"'Points Calculation'!BJ72","v":""},{"$f":"'Points Calculation'!BK72","v":""},{"$f":"'Points Calculation'!BL72","v":""},{"$f":"'Points Calculation'!BO72","v":345.98},null,{"$f":"'Points Calculation'!BS72","v":""},{"$f":"'Points Calculation'!BT72","v":""},{"$f":"'Points Calculation'!BU72","v":""},{"$f":"'Points Calculation'!BX72","v":345.98}]
["Phil Deller","M",1959,{"$f":"INDEX('Age Calculation'!$A$1:'Age Calculation'!$Q$108,MATCH(C75,'Age Calculation'!$A$1:'Age Calculation'!$A$108),MATCH($A$1,'Age Calculation'!$A$1:'Age Calculation'!$Q$1))","v":"MAS"},17039,null,{"$f":"VLOOKUP(E75,'Start of Year Points'!A$2:I$62,9,FALSE)","v":780.34},{"$f":"VLOOKUP(E75,'Start of Year Points'!A$2:L$62,12,FALSE)","v":780.34},{"$f":"VLOOKUP(E75,'Start of Year Points'!A$2:L$62,11,FALSE)","v":780.34},780.34,780.34,780.34,780.34,null,780.34,780.34,{"$f":"'Points Calculation'!$BO73","v":780.34},{"$f":"'Points Calculation'!$BX73","v":780.34},null,{"$f":"'Points Calculation'!BQ73","v":936.41},{"$f":"'Points Calculation'!BZ73","v":936.41},null,"","",null,null,null,null,null,null,null,null,null,null,null,null,null,null,null,null,null,null,null,null,null,null,null,null,null,null,null,null,null,null,null,null,null,null,null,null,null,null,null,null,null,null,null,null,null,null,null,null,null,null,null,null,null,null,null,null,null,null,null,null,null,null,null,null,null,null,null,null,null,null,null,null,null,null,null,null,null,null,null,null,null,null,null,null,null,null,null,null,null,null,null,null,null,null,null,null,null,null,null,null,null,null,null,null,null,null,null,null,null,null,null,null,null,null,null,null,null,null,null,null,null,null,null,null,null,null,null,null,null,null,null,null,null,null,null,null,null,null,null,null,null,null,{"$f":"SUM((Z$5:FG$5=\"Overall\")*(Z75:FG75<=3))-SUM((Z$5:FG$5=\"Overall\")*(Z75:FG75=0))","v":0},{"$f":"SUM((AA$5:FJ$5=\"Age\")*(AA75:FJ75<=3))-SUM((AA$5:FJ$5=\"Age\")*(AA75:FJ75=0))","v":0},null,{"$f":"IF(MIN('Points Calculation'!CU73,'Points Calculation'!CV73)>0,MIN('Points Calculation'!CU73,'Points Calculation'!CV73),\"\")","v":""},{"$f":"IF(MIN('Points Calculation'!BL73,'Points Calculation'!BN73)>0,MIN('Points Calculation'!BL73,'Points Calculation'!BN73),\"\")","v":""},"","",{"$f":"'Points Calculation'!$BP73","v":936.41},null,{"$f":"IF(MIN('Points Calculation'!CZ73,'Points Calculation'!DA73)>0,MIN('Points Calculation'!CZ73,'Points Calculation'!DA73),\"\")","v":""},{"$f":"IF(MIN('Points Calculation'!BU73,'Points Calculation'!BW73)>0,MIN('Points Calculation'!BU73,'Points Calculation'!BW73),\"\")","v":""},"","",{"$f":"'Points Calculation'!$BP73","v":936.41},null,{"$f":"'Points Calculation'!BJ73","v":""},{"$f":"'Points Calculation'!BK73","v":""},{"$f":"'Points Calculation'!BL73","v":""},{"$f":"'Points Calculation'!BO73","v":780.34},null,{"$f":"'Points Calculation'!BS73","v":""},{"$f":"'Points Calculation'!BT73","v":""},{"$f":"'Points Calculation'!BU73","v":""},{"$f":"'Points Calculation'!BX73","v":780.34}]
["David Hancock","M",1964,{"$f":"INDEX('Age Calculation'!$A$1:'Age Calculation'!$Q$108,MATCH(C76,'Age Calculation'!$A$1:'Age Calculation'!$A$108),MATCH($A$1,'Age Calculation'!$A$1:'Age Calculation'!$Q$1))","v":"MAS"},17037,null,{"$f":"VLOOKUP(E76,'Start of Year Points'!A$2:I$62,9,FALSE)","v":999.99},{"$f":"VLOOKUP(E76,'Start of Year Points'!A$2:L$62,12,FALSE)","v":999.99},{"$f":"VLOOKUP(E76,'Start of Year Points'!A$2:L$62,11,FALSE)","v":999.99},999.99,999.99,999.99,999.99,null,999.99,999.99,{"$f":"'Points Calculation'!$BO74","v":999.99},{"$f":"'Points Calculation'!$BX74","v":999.99},null,{"$f":"'Points Calculation'!BQ74","v":999.99},{"$f":"'Points Calculation'!BZ74","v":999.99},null,"","",null,null,null,null,null,null,null,null,null,null,null,null,null,null,null,null,null,null,null,null,null,null,null,null,null,null,null,null,null,null,null,null,null,null,null,null,null,null,null,null,null,null,null,null,null,null,null,null,null,null,null,null,null,null,null,null,null,null,null,null,null,null,null,null,null,null,null,null,null,null,null,null,null,null,null,null,null,null,null,null,null,null,null,null,null,null,null,null,null,null,null,null,null,null,null,null,null,null,null,null,null,null,null,null,null,null,null,null,null,null,null,null,null,null,null,null,null,null,null,null,null,null,null,null,null,null,null,null,null,null,null,null,null,null,null,null,null,null,null,null,null,null,{"$f":"SUM((Z$5:FG$5=\"Overall\")*(Z76:FG76<=3))-SUM((Z$5:FG$5=\"Overall\")*(Z76:FG76=0))","v":0},{"$f":"SUM((AA$5:FJ$5=\"Age\")*(AA76:FJ76<=3))-SUM((AA$5:FJ$5=\"Age\")*(AA76:FJ76=0))","v":0},null,{"$f":"IF(MIN('Points Calculation'!CU74,'Points Calculation'!CV74)>0,MIN('Points Calculation'!CU74,'Points Calculation'!CV74),\"\")","v":""},{"$f":"IF(MIN('Points Calculation'!BL74,'Points Calculation'!BN74)>0,MIN('Points Calculation'!BL74,'Points Calculation'!BN74),\"\")","v":""},"","",{"$f":"'Points Calculation'!$BP74","v":999.99},null,{"$f":"IF(MIN('Points Calculation'!CZ74,'Points Calculation'!DA74)>0,MIN('Points Calculation'!CZ74,'Points Calculation'!DA74),\"\")","v":""},{"$f":"IF(MIN('Points Calculation'!BU74,'Points Calculation'!BW74)>0,MIN('Points Calculation'!BU74,'Points Calculation'!BW74),\"\")","v":""},"","",{"$f":"'Points Calculation'!$BP74","v":999.99},null,{"$f":"'Points Calculation'!BJ74","v":""},{"$f":"'Points Calculation'!BK74","v":""},{"$f":"'Points Calculation'!BL74","v":""},{"$f":"'Points Calculation'!BO74","v":999.99},null,{"$f":"'Points Calculation'!BS74","v":""},{"$f":"'Points Calculation'!BT74","v":""},{"$f":"'Points Calculation'!BU74","v":""},{"$f":"'Points Calculation'!BX74","v":999.99}]
["Joe Bird","M",1994,{"$f":"INDEX('Age Calculation'!$A$1:'Age Calculation'!$Q$108,MATCH(C77,'Age Calculation'!$A$1:'Age Calculation'!$A$108),MATCH($A$1,'Age Calculation'!$A$1:'Age Calculation'!$Q$1))","v":"U21"},21714,null,{"$f":"VLOOKUP(E77,'Start of Year Points'!A$2:I$62,9,FALSE)","v":999.99},{"$f":"VLOOKUP(E77,'Start of Year Points'!A$2:L$62,12,FALSE)","v":999.99},{"$f":"VLOOKUP(E77,'Start of Year Points'!A$2:L$62,11,FALSE)","v":999.99},{"$error":"#N/A"},{"$error":"#N/A"},{"$error":"#N/A"},{"$error":"#N/A"},null,999.99,999.99,{"$f":"'Points Calculation'!$BO75","v":999.99},{"$f":"'Points Calculation'!$BX75","v":999.99},null,{"$f":"'Points Calculation'!BQ75","v":999.99},{"$f":"'Points Calculation'!BZ75","v":999.99},null,"","",null,null,null,null,null,null,null,null,null,null,null,null,null,null,null,null,null,null,null,null,null,null,null,null,null,null,null,null,null,null,null,null,null,null,null,null,null,null,null,null,null,null,null,null,null,null,null,null,null,null,null,null,null,null,null,null,null,null,null,null,null,null,null,null,null,null,null,null,null,null,null,null,null,null,null,null,null,null,null,null,null,null,null,null,null,null,null,null,null,null,null,null,null,null,null,null,null,null,null,null,null,null,null,null,null,null,null,null,null,null,null,null,null,null,null,null,null,null,null,null,null,null,null,null,null,null,null,null,null,null,null,null,null,null,null,null,null,null,null,null,null,null,{"$f":"SUM((Z$5:FG$5=\"Overall\")*(Z77:FG77<=3))-SUM((Z$5:FG$5=\"Overall\")*(Z77:FG77=0))","v":0},{"$f":"SUM((AA$5:FJ$5=\"Age\")*(AA77:FJ77<=3))-SUM((AA$5:FJ$5=\"Age\")*(AA77:FJ77=0))","v":0},null,{"$f":"IF(MIN('Points Calculation'!CU75,'Points Calculation'!CV75)>0,MIN('Points Calculation'!CU75,'Points Calculation'!CV75),\"\")","v":""},{"$f":"IF(MIN('Points Calculation'!BL75,'Points Calculation'!BN75)>0,MIN('Points Calculation'!BL75,'Points Calculation'!BN75),\"\")","v":""},"","",{"$f":"'Points Calculation'!$BP75","v":999.99},null,{"$f":"IF(MIN('Points Calculation'!CZ75,'Points Calculation'!DA75)>0,MIN('Points Calculation'!CZ75,'Points Calculation'!DA75),\"\")","v":""},{"$f":"IF(MIN('Points Calculation'!BU75,'Points Calculation'!BW75)>0,MIN('Points Calculation'!BU75,'Points Calculation'!BW75),\"\")","v":""},"","",{"$f":"'Points Calculation'!$BP75","v":999.99},null,{"$f":"'Points Calculation'!BJ75","v":""},{"$f":"'Points Calculation'!BK75","v":""},{"$f":"'Points Calculation'!BL75","v":""},{"$f":"'Points Calculation'!BO75","v":999.99},null,{"$f":"'Points Calculation'!BS75","v":""},{"$f":"'Points Calculation'!BT75","v":""},{"$f":"'Points Calculation'!BU75","v":""},{"$f":"'Points Calculation'!BX75","v":999.99}]
["Jake Heard","M",1998,{"$f":"INDEX('Age Calculation'!$A$1:'Age Calculation'!$Q$108,MATCH(C78,'Age Calculation'!$A$1:'Age Calculation'!$A$108),MATCH($A$1,'Age Calculation'!$A$1:'Age Calculation'!$Q$1))","v":"U18"},21075,null,{"$f":"VLOOKUP(E78,'Start of Year Points'!A$2:I$62,9,FALSE)","v":999.99},{"$f":"VLOOKUP(E78,'Start of Year Points'!A$2:L$62,12,FALSE)","v":999.99},{"$f":"VLOOKUP(E78,'Start of Year Points'!A$2:L$62,11,FALSE)","v":999.99},999.99,999.99,999.99,999.99,null,999.99,999.99,{"$f":"'Points Calculation'!$BO76","v":999.99},{"$f":"'Points Calculation'!$BX76","v":999.99},null,{"$f":"'Points Calculation'!BQ76","v":999.99},{"$f":"'Points Calculation'!BZ76","v":999.99},null,"","",null,null,null,null,null,null,null,null,null,null,null,null,null,null,null,null,null,null,null,null,null,null,null,null,null,null,null,null,null,null,null,null,null,null,null,null,null,null,null,null,null,null,null,null,null,null,null,null,null,null,null,null,null,null,null,null,null,null,null,null,null,null,null,null,null,null,null,null,null,null,null,null,null,null,null,null,null,null,null,null,null,null,null,null,null,null,null,null,null,null,null,null,null,null,null,null,null,null,null,null,null,null,null,null,null,null,null,null,null,null,null,null,null,null,null,null,null,null,null,null,null,null,null,null,null,null,null,null,null,null,null,null,null,null,null,null,null,null,null,null,null,null,{"$f":"SUM((Z$5:FG$5=\"Overall\")*(Z78:FG78<=3))-SUM((Z$5:FG$5=\"Overall\")*(Z78:FG78=0))","v":0},{"$f":"SUM((AA$5:FJ$5=\"Age\")*(AA78:FJ78<=3))-SUM((AA$5:FJ$5=\"Age\")*(AA78:FJ78=0))","v":0},null,{"$f":"IF(MIN('Points Calculation'!CU76,'Points Calculation'!CV76)>0,MIN('Points Calculation'!CU76,'Points Calculation'!CV76),\"\")","v":""},{"$f":"IF(MIN('Points Calculation'!BL76,'Points Calculation'!BN76)>0,MIN('Points Calculation'!BL76,'Points Calculation'!BN76),\"\")","v":""},"","",{"$f":"'Points Calculation'!$BP76","v":999.99},null,{"$f":"IF(MIN('Points Calculation'!CZ76,'Points Calculation'!DA76)>0,MIN('Points Calculation'!CZ76,'Points Calculation'!DA76),\"\")","v":""},{"$f":"IF(MIN('Points Calculation'!BU76,'Points Calculation'!BW76)>0,MIN('Points Calculation'!BU76,'Points Calculation'!BW76),\"\")","v":""},"","",{"$f":"'Points Calculation'!$BP76","v":999.99},null,{"$f":"'Points Calculation'!BJ76","v":""},{"$f":"'Points Calculation'!BK76","v":""},{"$f":"'Points Calculation'!BL76","v":""},{"$f":"'Points Calculation'!BO76","v":999.99},null,{"$f":"'Points Calculation'!BS76","v":""},{"$f":"'Points Calculation'!BT76","v":""},{"$f":"'Points Calculation'!BU76","v":""},{"$f":"'Points Calculation'!BX76","v":999.99}]
["James Care","M",2002,{"$f":"INDEX('Age Calculation'!$A$1:'Age Calculation'!$Q$108,MATCH(C79,'Age Calculation'!$A$1:'Age Calculation'!$A$108),MATCH($A$1,'Age Calculation'!$A$1:'Age Calculation'!$Q$1))","v":"U14"},20590,null,{"$f":"VLOOKUP(E79,'Start of Year Points'!A$2:I$62,9,FALSE)","v":999.99},{"$f":"VLOOKUP(E79,'Start of Year Points'!A$2:L$62,12,FALSE)","v":398.04},{"$f":"VLOOKUP(E79,'Start of Year Points'!A$2:L$62,11,FALSE)","v":999.99},398.04,999.99,398.04,999.99,null,342.97,999.99,{"$f":"'Points Calculation'!$BO77","v":342.97},{"$f":"'Points Calculation'!$BX77","v":999.99},null,{"$f":"'Points Calculation'!BQ77","v":342.97},{"$f":"'Points Calculation'!BZ77","v":999.99},null,"","",null,21,14,{"$f":"229.27+102.43","v":331.70000000000005},null,null,null,null,null,null,null,null,null,null,null,null,null,null,null,null,null,null,null,null,null,null,null,null,null,null,null,null,null,null,null,null,null,null,null,null,null,null,null,null,null,null,null,null,null,null,null,null,null,null,null,null,null,null,null,null,null,null,null,null,null,null,null,null,null,null,null,null,null,null,null,null,null,null,37,13,354.23,null,null,null,null,null,null,null,null,null,null,null,null,null,null,null,null,null,null,null,null,null,null,null,null,null,null,null,null,null,null,null,null,null,null,null,null,null,null,null,null,null,null,null,null,null,null,null,null,null,null,null,null,null,null,null,null,null,null,null,null,null,{"$f":"SUM((Z$5:FG$5=\"Overall\")*(Z79:FG79<=3))-SUM((Z$5:FG$5=\"Overall\")*(Z79:FG79=0))","v":0},{"$f":"SUM((AA$5:FJ$5=\"Age\")*(AA79:FJ79<=3))-SUM((AA$5:FJ$5=\"Age\")*(AA79:FJ79=0))","v":0},null,{"$f":"IF(MIN('Points Calculation'!CU77,'Points Calculation'!CV77)>0,MIN('Points Calculation'!CU77,'Points Calculation'!CV77),\"\")","v":""},{"$f":"IF(MIN('Points Calculation'!BL77,'Points Calculation'!BN77)>0,MIN('Points Calculation'!BL77,'Points Calculation'!BN77),\"\")","v":342.97},"","",{"$f":"'Points Calculation'!$BP77","v":999.99},null,{"$f":"IF(MIN('Points Calculation'!CZ77,'Points Calculation'!DA77)>0,MIN('Points Calculation'!CZ77,'Points Calculation'!DA77),\"\")","v":""},{"$f":"IF(MIN('Points Calculation'!BU77,'Points Calculation'!BW77)>0,MIN('Points Calculation'!BU77,'Points Calculation'!BW77),\"\")","v":""},"","",{"$f":"'Points Calculation'!$BP77","v":999.99},null,{"$f":"'Points Calculation'!BJ77","v":331.70000000000005},{"$f":"'Points Calculation'!BK77","v":354.23},{"$f":"'Points Calculation'!BL77","v":342.97},{"$f":"'Points Calculation'!BO77","v":342.97},null,{"$f":"'Points Calculation'!BS77","v":""},{"$f":"'Points Calculation'!BT77","v":""},{"$f":"'Points Calculation'!BU77","v":""},{"$f":"'Points Calculation'!BX77","v":999.99}]
["Seamus O'Brien","M",2002,{"$f":"INDEX('Age Calculation'!$A$1:'Age Calculation'!$Q$108,MATCH(C80,'Age Calculation'!$A$1:'Age Calculation'!$A$108),MATCH($A$1,'Age Calculation'!$A$1:'Age Calculation'!$Q$1))","v":"U14"},19737,null,{"$f":"VLOOKUP(E80,'Start of Year Points'!A$2:I$62,9,FALSE)","v":999.99},{"$f":"VLOOKUP(E80,'Start of Year Points'!A$2:L$62,12,FALSE)","v":999.99},{"$f":"VLOOKUP(E80,'Start of Year Points'!A$2:L$62,11,FALSE)","v":185.65},999.99,142.41,999.99,122.26,null,999.99,110.43,{"$f":"'Points Calculation'!$BO78","v":999.99},{"$f":"'Points Calculation'!$BX78","v":99.19},null,{"$f":"'Points Calculation'!BQ78","v":999.99},{"$f":"'Points Calculation'!BZ78","v":99.19},null,"","",null,null,null,null,null,null,null,null,null,47,10,201.14,201,37,6,154.71,158.47,null,null,null,null,null,null,37,4,130.11000000000001,"DNF","DNF","DNF",null,null,null,null,null,null,null,null,null,null,null,null,null,null,null,null,null,null,null,null,null,null,null,null,null,null,null,null,null,null,21,5,114.4,115.54,null,null,null,null,null,null,null,null,null,null,null,null,null,null,null,null,null,null,null,null,null,null,null,null,null,null,null,18,2,114.08,15,2,106.46,null,null,null,null,null,null,null,null,null,null,null,null,null,null,null,null,null,26,4,91.92,45,15,167.19,null,null,null,null,null,null,null,null,null,null,null,null,null,null,null,null,null,null,null,null,null,null,null,{"$f":"SUM((Z$5:FG$5=\"Overall\")*(Z80:FG80<=3))-SUM((Z$5:FG$5=\"Overall\")*(Z80:FG80=0))","v":0},{"$f":"SUM((AA$5:FJ$5=\"Age\")*(AA80:FJ80<=3))-SUM((AA$5:FJ$5=\"Age\")*(AA80:FJ80=0))","v":2},null,{"$f":"IF(MIN('Points Calculation'!CU78,'Points Calculation'!CV78)>0,MIN('Points Calculation'!CU78,'Points Calculation'!CV78),\"\")","v":""},{"$f":"IF(MIN('Points Calculation'!BL78,'Points Calculation'!BN78)>0,MIN('Points Calculation'!BL78,'Points Calculation'!BN78),\"\")","v":""},"","",{"$f":"'Points Calculation'!$BP78","v":999.99},null,{"$f":"IF(MIN('Points Calculation'!CZ78,'Points Calculation'!DA78)>0,MIN('Points Calculation'!CZ78,'Points Calculation'!DA78),\"\")","v":99.19},{"$f":"IF(MIN('Points Calculation'!BU78,'Points Calculation'!BW78)>0,MIN('Points Calculation'!BU78,'Points Calculation'!BW78),\"\")","v":99.19},0,0,{"$f":"'Points Calculation'!$BP78","v":999.99},null,{"$f":"'Points Calculation'!BJ78","v":""},{"$f":"'Points Calculation'!BK78","v":""},{"$f":"'Points Calculation'!BL78","v":""},{"$f":"'Points Calculation'!BO78","v":999.99},null,{"$f":"'Points Calculation'!BS78","v":91.92},{"$f":"'Points Calculation'!BT78","v":106.46},{"$f":"'Points Calculation'!BU78","v":99.19},{"$f":"'Points Calculation'!BX78","v":99.19}]
["Matthew Treuge","M",2002,{"$f":"INDEX('Age Calculation'!$A$1:'Age Calculation'!$Q$108,MATCH(C81,'Age Calculation'!$A$1:'Age Calculation'!$A$108),MATCH($A$1,'Age Calculation'!$A$1:'Age Calculation'!$Q$1))","v":"U14"},20670,null,{"$f":"VLOOKUP(E81,'Start of Year Points'!A$2:I$62,9,FALSE)","v":999.99},{"$f":"VLOOKUP(E81,'Start of Year Points'!A$2:L$62,12,FALSE)","v":999.99},{"$f":"VLOOKUP(E81,'Start of Year Points'!A$2:L$62,11,FALSE)","v":999.99},999.99,999.99,999.99,999.99,null,307.82,999.99,{"$f":"'Points Calculation'!$BO79","v":307.82},{"$f":"'Points Calculation'!$BX79","v":999.99},null,{"$f":"'Points Calculation'!BQ79","v":307.82},{"$f":"'Points Calculation'!BZ79","v":999.99},null,"","",null,null,null,null,null,null,null,null,null,null,null,null,null,null,null,null,null,null,null,null,null,null,null,null,null,null,null,null,null,null,null,null,null,null,null,null,null,null,null,null,null,null,null,null,null,null,null,null,null,null,null,null,null,null,null,null,null,null,null,null,null,null,null,null,null,null,null,null,null,null,null,null,null,null,null,66,20,256.52,null,null,null,null,null,null,null,null,null,null,null,null,null,null,null,null,null,null,null,null,null,null,null,null,null,null,null,null,null,null,null,null,null,null,null,null,null,null,null,null,null,null,null,null,null,null,null,null,null,null,null,null,null,null,null,null,null,null,null,null,null,null,null,null,{"$f":"SUM((Z$5:FG$5=\"Overall\")*(Z81:FG81<=3))-SUM((Z$5:FG$5=\"Overall\")*(Z81:FG81=0))","v":0},{"$f":"SUM((AA$5:FJ$5=\"Age\")*(AA81:FJ81<=3))-SUM((AA$5:FJ$5=\"Age\")*(AA81:FJ81=0))","v":0},null,{"$f":"IF(MIN('Points Calculation'!CU79,'Points Calculation'!CV79)>0,MIN('Points Calculation'!CU79,'Points Calculation'!CV79),\"\")","v":""},{"$f":"IF(MIN('Points Calculation'!BL79,'Points Calculation'!BN79)>0,MIN('Points Calculation'!BL79,'Points Calculation'!BN79),\"\")","v":307.82},"","",{"$f":"'Points Calculation'!$BP79","v":999.99},null,{"$f":"IF(MIN('Points Calculation'!CZ79,'Points Calculation'!DA79)>0,MIN('Points Calculation'!CZ79,'Points Calculation'!DA79),\"\")","v":""},{"$f":"IF(MIN('Points Calculation'!BU79,'Points Calculation'!BW79)>0,MIN('Points Calculation'!BU79,'Points Calculation'!BW79),\"\")","v":""},"","",{"$f":"'Points Calculation'!$BP79","v":999.99},null,{"$f":"'Points Calculation'!BJ79","v":256.52},{"$f":"'Points Calculation'!BK79","v":""},{"$f":"'Points Calculation'!BL79","v":""},{"$f":"'Points Calculation'!BO79","v":307.82},null,{"$f":"'Points Calculation'!BS79","v":""},{"$f":"'Points Calculation'!BT79","v":""},{"$f":"'Points Calculation'!BU79","v":""},{"$f":"'Points Calculation'!BX79","v":999.99}]
["JJ Frost","M",1993,{"$f":"INDEX('Age Calculation'!$A$1:'Age Calculation'!$Q$108,MATCH(C82,'Age Calculation'!$A$1:'Age Calculation'!$A$108),MATCH($A$1,'Age Calculation'!$A$1:'Age Calculation'!$Q$1))","v":"SEN"},20676,null,"NR","NR","NR",{"$error":"#REF!"},{"$error":"#REF!"},{"$error":"#N/A"},{"$error":"#N/A"},null,"NR","NR","NR","NR",null,"NR","NR",null,"","",null,null,null,null,null,null,null,null,null,null,null,null,null,null,null,null,null,null,null,null,null,null,null,null,null,null,null,null,null,null,null,null,null,null,null,null,null,null,null,null,null,null,null,null,null,null,null,null,null,null,null,null,null,null,null,null,null,null,null,null,null,null,null,null,null,null,null,null,null,null,null,null,null,null,null,null,null,null,null,null,null,null,null,null,null,null,null,null,null,null,null,null,null,null,null,null,null,null,null,null,null,null,null,null,null,null,null,null,null,null,null,null,null,null,null,null,null,null,null,null,null,null,null,null,null,null,null,null,null,null,null,null,null,null,null,null,null,null,null,null,null,null,{"$f":"SUM((Z$5:FG$5=\"Overall\")*(Z82:FG82<=3))-SUM((Z$5:FG$5=\"Overall\")*(Z82:FG82=0))","v":0},{"$f":"SUM((AA$5:FJ$5=\"Age\")*(AA82:FJ82<=3))-SUM((AA$5:FJ$5=\"Age\")*(AA82:FJ82=0))","v":0},null,{"$f":"IF(MIN('Points Calculation'!CU80,'Points Calculation'!CV80)>0,MIN('Points Calculation'!CU80,'Points Calculation'!CV80),\"\")","v":""},{"$f":"IF(MIN('Points Calculation'!BL80,'Points Calculation'!BN80)>0,MIN('Points Calculation'!BL80,'Points Calculation'!BN80),\"\")","v":""},"","",null,null,{"$f":"IF(MIN('Points Calculation'!CZ80,'Points Calculation'!DA80)>0,MIN('Points Calculation'!CZ80,'Points Calculation'!DA80),\"\")","v":""},{"$f":"IF(MIN('Points Calculation'!BU80,'Points Calculation'!BW80)>0,MIN('Points Calculation'!BU80,'Points Calculation'!BW80),\"\")","v":""},"","",null,null,{"$f":"'Points Calculation'!BJ80","v":""},{"$f":"'Points Calculation'!BK80","v":""},{"$f":"'Points Calculation'!BL80","v":""},null,null,{"$f":"'Points Calculation'!BS80","v":""},{"$f":"'Points Calculation'!BT80","v":""},{"$f":"'Points Calculation'!BU80","v":""}]
["Ben Hall","M",1994,{"$f":"INDEX('Age Calculation'!$A$1:'Age Calculation'!$Q$108,MATCH(C83,'Age Calculation'!$A$1:'Age Calculation'!$A$108),MATCH($A$1,'Age Calculation'!$A$1:'Age Calculation'!$Q$1))","v":"U21"},21130,null,"NR","NR","NR",{"$error":"#REF!"},{"$error":"#REF!"},{"$error":"#N/A"},{"$error":"#N/A"},null,"NR","NR","NR","NR",null,"NR","NR",null,"","",null,null,null,null,null,null,null,null,null,null,null,null,null,null,null,null,null,null,null,null,null,null,null,null,null,null,null,null,null,null,null,null,null,null,null,null,null,null,null,null,null,null,null,null,null,null,null,null,null,null,null,null,null,null,null,null,null,null,null,null,null,null,null,null,null,null,null,null,null,null,null,null,null,null,null,null,null,null,null,null,null,null,null,null,null,null,null,null,null,null,null,null,null,null,null,null,null,null,null,null,null,null,null,null,null,null,null,null,null,null,null,null,null,null,null,null,null,null,null,null,null,null,null,null,null,null,null,null,null,null,null,null,null,null,null,null,null,null,null,null,null,null,{"$f":"SUM((Z$5:FG$5=\"Overall\")*(Z83:FG83<=3))-SUM((Z$5:FG$5=\"Overall\")*(Z83:FG83=0))","v":0},{"$f":"SUM((AA$5:FJ$5=\"Age\")*(AA83:FJ83<=3))-SUM((AA$5:FJ$5=\"Age\")*(AA83:FJ83=0))","v":0},null,{"$f":"IF(MIN('Points Calculation'!CU81,'Points Calculation'!CV81)>0,MIN('Points Calculation'!CU81,'Points Calculation'!CV81),\"\")","v":""},{"$f":"IF(MIN('Points Calculation'!BL81,'Points Calculation'!BN81)>0,MIN('Points Calculation'!BL81,'Points Calculation'!BN81),\"\")","v":""},"","",null,null,{"$f":"IF(MIN('Points Calculation'!CZ81,'Points Calculation'!DA81)>0,MIN('Points Calculation'!CZ81,'Points Calculation'!DA81),\"\")","v":""},{"$f":"IF(MIN('Points Calculation'!BU81,'Points Calculation'!BW81)>0,MIN('Points Calculation'!BU81,'Points Calculation'!BW81),\"\")","v":""},"","",null,null,{"$f":"'Points Calculation'!BJ81","v":""},{"$f":"'Points Calculation'!BK81","v":""},{"$f":"'Points Calculation'!BL81","v":""},null,null,{"$f":"'Points Calculation'!BS81","v":""},{"$f":"'Points Calculation'!BT81","v":""},{"$f":"'Points Calculation'!BU81","v":""}]
["Matthew Waller","M",1999,{"$f":"INDEX('Age Calculation'!$A$1:'Age Calculation'!$Q$108,MATCH(C84,'Age Calculation'!$A$1:'Age Calculation'!$A$108),MATCH($A$1,'Age Calculation'!$A$1:'Age Calculation'!$Q$1))","v":"U16"},17958,null,"NR","NR","NR",{"$error":"#REF!"},{"$error":"#REF!"},{"$error":"#N/A"},{"$error":"#N/A"},null,"NR","NR","NR","NR",null,"NR","NR",null,"","",null,null,null,null,null,null,null,null,null,null,null,null,null,null,null,null,null,null,null,null,null,null,null,null,null,null,null,null,null,null,null,null,null,null,null,null,null,null,null,null,null,null,null,null,null,null,null,null,null,null,null,null,null,null,null,null,null,null,null,null,null,null,null,null,null,null,null,null,null,null,null,null,null,null,null,null,null,null,null,null,null,null,null,null,null,null,null,null,null,null,null,null,null,null,null,null,null,null,null,null,null,null,null,null,null,null,null,null,null,null,null,null,null,null,null,null,null,null,null,null,null,null,null,null,null,null,null,null,null,null,null,null,null,null,null,null,null,null,null,null,null,null,{"$f":"SUM((Z$5:FG$5=\"Overall\")*(Z84:FG84<=3))-SUM((Z$5:FG$5=\"Overall\")*(Z84:FG84=0))","v":0},{"$f":"SUM((AA$5:FJ$5=\"Age\")*(AA84:FJ84<=3))-SUM((AA$5:FJ$5=\"Age\")*(AA84:FJ84=0))","v":0},null,{"$f":"IF(MIN('Points Calculation'!CU82,'Points Calculation'!CV82)>0,MIN('Points Calculation'!CU82,'Points Calculation'!CV82),\"\")","v":""},{"$f":"IF(MIN('Points Calculation'!BL82,'Points Calculation'!BN82)>0,MIN('Points Calculation'!BL82,'Points Calculation'!BN82),\"\")","v":""},"","",null,null,{"$f":"IF(MIN('Points Calculation'!CZ82,'Points Calculation'!DA82)>0,MIN('Points Calculation'!CZ82,'Points Calculation'!DA82),\"\")","v":""},{"$f":"IF(MIN('Points Calculation'!BU82,'Points Calculation'!BW82)>0,MIN('Points Calculation'!BU82,'Points Calculation'!BW82),\"\")","v":""},"","",null,null,{"$f":"'Points Calculation'!BJ82","v":""},{"$f":"'Points Calculation'!BK82","v":""},{"$f":"'Points Calculation'!BL82","v":""},null,null,{"$f":"'Points Calculation'!BS82","v":""},{"$f":"'Points Calculation'!BT82","v":""},{"$f":"'Points Calculation'!BU82","v":""}]
["Patrick Kelly","M",2000,"U16","Day",null,"NR","NR","NR","NR","NR","NR","NR",null,"NR","NR","NR","NR",null,"NR","NR",null,"","",null,null,null,null,null,null,null,null,null,null,null,null,null,null,null,null,null,null,null,null,null,null,null,null,null,null,null,null,null,null,null,null,null,null,null,null,null,null,null,null,null,null,null,null,null,null,null,null,null,null,null,null,null,null,null,null,null,null,null,null,null,null,null,null,null,null,null,null,null,null,null,null,"DNF","DNF","DNF",null,null,null,null,null,null,null,null,null,null,null,null,null,null,null,null,null,null,null,null,null,null,null,null,null,null,null,null,null,null,null,null,null,null,null,null,null,null,null,null,null,null,null,null,null,null,null,null,null,null,null,null,null,null,null,null,null,null,null,null,null,null,null,null,null,null,null,{"$f":"SUM((Z$5:FG$5=\"Overall\")*(Z85:FG85<=3))-SUM((Z$5:FG$5=\"Overall\")*(Z85:FG85=0))","v":0},{"$f":"SUM((AA$5:FJ$5=\"Age\")*(AA85:FJ85<=3))-SUM((AA$5:FJ$5=\"Age\")*(AA85:FJ85=0))","v":0},null,{"$f":"IF(MIN('Points Calculation'!CU82,'Points Calculation'!CV82)>0,MIN('Points Calculation'!CU82,'Points Calculation'!CV82),\"\")","v":""},{"$f":"IF(MIN('Points Calculation'!BL82,'Points Calculation'!BN82)>0,MIN('Points Calculation'!BL82,'Points Calculation'!BN82),\"\")","v":""},{"$f":"IF(FN85<>\"\",FN85-FO85,\"\")","v":""},{"$f":"IF(FN85<>\"\",FP85/FO85,\"\")","v":""},null,null,{"$f":"IF(MIN('Points Calculation'!CZ82,'Points Calculation'!DA82)>0,MIN('Points Calculation'!CZ82,'Points Calculation'!DA82),\"\")","v":""},{"$f":"IF(MIN('Points Calculation'!BU82,'Points Calculation'!BW82)>0,MIN('Points Calculation'!BU82,'Points Calculation'!BW82),\"\")","v":""},{"$f":"IF(FT85<>\"\",FT85-FU85,\"\")","v":""},{"$f":"IF(FT85<>\"\",FV85/FU85,\"\")","v":""},null,null,{"$f":"'Points Calculation'!BJ82","v":""},{"$f":"'Points Calculation'!BK82","v":""},{"$f":"'Points Calculation'!BL82","v":""},null,null,{"$f":"'Points Calculation'!BS82","v":""},{"$f":"'Points Calculation'!BT82","v":""},{"$f":"'Points Calculation'!BU82","v":""}]
["Macaulay Clover","M",2002,{"$f":"INDEX('Age Calculation'!$A$1:'Age Calculation'!$Q$108,MATCH(C86,'Age Calculation'!$A$1:'Age Calculation'!$A$108),MATCH($A$1,'Age Calculation'!$A$1:'Age Calculation'!$Q$1))","v":"U14"},"Day",null,"NR","NR","NR",{"$error":"#REF!"},{"$error":"#REF!"},{"$error":"#N/A"},{"$error":"#N/A"},null,"NR","NR","NR","NR",null,"NR","NR",null,{"$f":"IF(G86<999.99,IF(MIN(O86,L86)<G86,MIN(O86,L86)-G86,\"\"),\"\")","v":""},null,null,null,null,null,null,null,null,null,null,null,null,null,null,null,null,null,null,null,null,null,null,null,null,null,null,null,null,null,null,null,null,null,null,null,null,null,null,null,null,null,null,null,null,null,null,null,null,null,null,null,null,null,null,null,null,null,null,null,null,null,null,null,null,null,null,null,null,null,null,null,null,null,null,null,null,null,null,null,null,null,null,null,null,null,null,null,null,null,null,null,null,null,null,null,null,null,null,null,null,null,null,null,null,null,null,null,null,null,null,null,null,null,null,null,null,null,null,null,null,null,null,null,null,null,null,null,null,null,null,null,null,null,null,null,null,null,null,null,null,null,null,null,{"$f":"SUM((Z$5:FG$5=\"Overall\")*(Z86:FG86<=3))-SUM((Z$5:FG$5=\"Overall\")*(Z86:FG86=0))","v":0},{"$f":"SUM((AA$5:FJ$5=\"Age\")*(AA86:FJ86<=3))-SUM((AA$5:FJ$5=\"Age\")*(AA86:FJ86=0))","v":0},null,{"$f":"IF(MIN('Points Calculation'!CU83,'Points Calculation'!CV83)>0,MIN('Points Calculation'!CU83,'Points Calculation'!CV83),\"\")","v":""},{"$f":"IF(MIN('Points Calculation'!BL83,'Points Calculation'!BN83)>0,MIN('Points Calculation'!BL83,'Points Calculation'!BN83),\"\")","v":""},"","",null,null,{"$f":"IF(MIN('Points Calculation'!CZ83,'Points Calculation'!DA83)>0,MIN('Points Calculation'!CZ83,'Points Calculation'!DA83),\"\")","v":""},{"$f":"IF(MIN('Points Calculation'!BU83,'Points Calculation'!BW83)>0,MIN('Points Calculation'!BU83,'Points Calculation'!BW83),\"\")","v":""},"","",null,null,{"$f":"'Points Calculation'!BJ83","v":""},{"$f":"'Points Calculation'!BK83","v":""},{"$f":"'Points Calculation'!BL83","v":""},null,null,{"$f":"'Points Calculation'!BS83","v":""},{"$f":"'Points Calculation'!BT83","v":""},{"$f":"'Points Calculation'!BU83","v":""}]
[null,null,null,null,null,null,null,null,null,null,null,null,null,null,null,null,null,null,null,null,null,null,null,null,"Podiums/ Participants",null,null,null,null,{"$f":"COUNTA(AD8:AD86)","v":6},{"$f":"COUNTIF(AE22:AE86,\"<=3\")","v":2},{"$f":"COUNTIF(AF8:AF86,\"<=3\")","v":6},{"$f":"COUNTA(AG8:AG86)","v":10},{"$f":"COUNTIF(AH22:AH86,\"<=3\")","v":0},{"$f":"COUNTIF(AI8:AI86,\"<=3\")","v":2},{"$f":"COUNTA(AJ8:AJ86)","v":5},{"$f":"COUNTA(AK8:AK86)","v":5},{"$f":"COUNTIF(AL22:AL86,\"<=3\")","v":0},{"$f":"COUNTIF(AM8:AM86,\"<=3\")","v":4},{"$f":"COUNTA(AN8:AN86)","v":5},{"$f":"COUNTA(AO8:AO86)","v":5},{"$f":"COUNTIF(AP22:AP86,\"<=3\")","v":1},{"$f":"COUNTIF(AQ8:AQ86,\"<=3\")","v":7},{"$f":"COUNTA(AR8:AR86)","v":11},{"$f":"COUNTIF(AS22:AS86,\"<=3\")","v":0},{"$f":"COUNTIF(AT8:AT86,\"<=3\")","v":6},{"$f":"COUNTA(AU8:AU86)","v":12},{"$f":"COUNTIF(AV22:AV86,\"<=3\")","v":0},{"$f":"COUNTIF(AW8:AW86,\"<=3\")","v":3},{"$f":"COUNTA(AX8:AX86)","v":8},{"$f":"COUNTIF(AY22:AY86,\"<=3\")","v":0},{"$f":"COUNTIF(AZ8:AZ86,\"<=3\")","v":4},{"$f":"COUNTA(BA8:BA86)","v":8},{"$f":"COUNTIF(BB22:BB86,\"<=3\")","v":0},{"$f":"COUNTIF(BC8:BC86,\"<=3\")","v":6},{"$f":"COUNTA(BD8:BD86)","v":13},{"$f":"COUNTIF(BE22:BE86,\"<=3\")","v":1},{"$f":"COUNTIF(BF8:BF86,\"<=3\")","v":6},{"$f":"COUNTA(BG8:BG86)","v":12},{"$f":"COUNTIF(BH22:BH86,\"<=3\")","v":0},{"$f":"COUNTIF(BI8:BI86,\"<=3\")","v":5},{"$f":"COUNTA(BJ8:BJ86)","v":14},{"$f":"COUNTIF(BK22:BK86,\"<=3\")","v":0},{"$f":"COUNTIF(BL8:BL86,\"<=3\")","v":3},{"$f":"COUNTA(BM8:BM86)","v":7},{"$f":"COUNTIF(BN22:BN86,\"<=3\")","v":0},{"$f":"COUNTIF(BO8:BO86,\"<=3\")","v":0},{"$f":"COUNTA(BP8:BP86)","v":0},{"$f":"COUNTIF(BQ22:BQ86,\"<=3\")","v":0},{"$f":"COUNTIF(BR8:BR86,\"<=3\")","v":3},{"$f":"COUNTA(BS8:BS86)","v":8},{"$f":"COUNTIF(BT22:BT86,\"<=3\")","v":0},{"$f":"COUNTIF(BU8:BU86,\"<=3\")","v":0},{"$f":"COUNTA(BV8:BV86)","v":0},{"$f":"COUNTIF(BW22:BW86,\"<=3\")","v":0},{"$f":"COUNTIF(BX8:BX86,\"<=3\")","v":2},{"$f":"COUNTA(BY8:BY86)","v":3},{"$f":"COUNTIF(BZ22:BZ86,\"<=3\")","v":1},{"$f":"COUNTIF(CA8:CA86,\"<=3\")","v":5},{"$f":"COUNTA(CB8:CB86)","v":10},{"$f":"COUNTIF(CC22:CC86,\"<=3\")","v":0},{"$f":"COUNTIF(CD8:CD86,\"<=3\")","v":1},{"$f":"COUNTA(CE8:CE86)","v":3},{"$f":"COUNTIF(CF22:CF86,\"<=3\")","v":0},{"$f":"COUNTIF(CG8:CG86,\"<=3\")","v":1},{"$f":"COUNTA(CH8:CH86)","v":4},{"$f":"COUNTA(CI8:CI86)","v":4},{"$f":"COUNTIF(CJ22:CJ86,\"<=3\")","v":1},{"$f":"COUNTIF(CK8:CK86,\"<=3\")","v":5},{"$f":"COUNTA(CL8:CL86)","v":13},{"$f":"COUNTIF(CM22:CM86,\"<=3\")","v":0},{"$f":"COUNTIF(CN8:CN86,\"<=3\")","v":2},{"$f":"COUNTA(CO8:CO86)","v":4},{"$f":"COUNTIF(CP22:CP86,\"<=3\")","v":1},{"$f":"COUNTIF(CQ8:CQ86,\"<=3\")","v":5},{"$f":"COUNTA(CR8:CR86)","v":13},{"$f":"COUNTIF(CS22:CS86,\"<=3\")","v":0},{"$f":"COUNTIF(CT8:CT86,\"<=3\")","v":7},{"$f":"COUNT(CU8:CU86)","v":17},{"$f":"COUNTIF(CV22:CV86,\"<=3\")","v":2},{"$f":"COUNTIF(CW8:CW86,\"<=3\")","v":10},{"$f":"COUNT(CX8:CX86)","v":18},{"$f":"COUNTIF(CY22:CY86,\"<=3\")","v":0},{"$f":"COUNTIF(CZ8:CZ86,\"<=3\")","v":3},{"$f":"COUNT(DA8:DA86)","v":8},{"$f":"COUNTIF(DB22:DB86,\"<=3\")","v":1},{"$f":"COUNTIF(DC8:DC86,\"<=3\")","v":7},{"$f":"COUNT(DD8:DD86)","v":14},{"$f":"COUNTIF(DE22:DE86,\"<=3\")","v":0},{"$f":"COUNTIF(DF8:DF86,\"<=3\")","v":3},{"$f":"COUNT(DG8:DG86)","v":4},{"$f":"COUNTIF(DH22:DH86,\"<=3\")","v":0},{"$f":"COUNTIF(DI8:DI86,\"<=3\")","v":3},{"$f":"COUNT(DJ8:DJ86)","v":4},{"$f":"COUNTIF(DK22:DK86,\"<=3\")","v":0},{"$f":"COUNTIF(DL8:DL86,\"<=3\")","v":3},{"$f":"COUNT(DM8:DM86)","v":4},{"$f":"COUNTIF(DN22:DN86,\"<=3\")","v":0},{"$f":"COUNTIF(DO8:DO86,\"<=3\")","v":4},{"$f":"COUNT(DP8:DP86)","v":5},{"$f":"COUNTIF(DQ22:DQ86,\"<=3\")","v":0},{"$f":"COUNTIF(DR8:DR86,\"<=3\")","v":6},{"$f":"COUNT(DS8:DS86)","v":8},{"$f":"COUNTIF(DT22:DT86,\"<=3\")","v":0},{"$f":"COUNTIF(DU8:DU86,\"<=3\")","v":2},{"$f":"COUNT(DV8:DV86)","v":5},{"$f":"COUNTIF(DW22:DW86,\"<=3\")","v":0},{"$f":"COUNTIF(DX8:DX86,\"<=3\")","v":2},{"$f":"COUNT(DY8:DY86)","v":4},{"$f":"COUNTIF(DZ22:DZ86,\"<=3\")","v":0},{"$f":"COUNTIF(EA8:EA86,\"<=3\")","v":1},{"$f":"COUNT(EB8:EB86)","v":1},{"$f":"COUNTIF(EC22:EC86,\"<=3\")","v":0},{"$f":"COUNTIF(ED8:ED86,\"<=3\")","v":0},{"$f":"COUNTIF(EE22:EE86,\"<=3\")","v":0},{"$f":"COUNTIF(EF8:EF86,\"<=3\")","v":3},{"$f":"COUNT(EG8:EG86)","v":15},{"$f":"COUNTIF(EH22:EH86,\"<=3\")","v":0},{"$f":"COUNTIF(EI8:EI86,\"<=3\")","v":5},{"$f":"COUNT(EJ8:EJ86)","v":8},{"$f":"COUNTIF(EK22:EK86,\"<=3\")","v":0},{"$f":"COUNTIF(EL8:EL86,\"<=3\")","v":3},{"$f":"COUNT(EM8:EM86)","v":7},{"$f":"COUNTIF(EN22:EN86,\"<=3\")","v":0},{"$f":"COUNTIF(EO8:EO86,\"<=3\")","v":2},{"$f":"COUNT(EP8:EP86)","v":9},{"$f":"COUNTIF(EQ22:EQ86,\"<=3\")","v":0},{"$f":"COUNTIF(ER8:ER86,\"<=3\")","v":3},{"$f":"COUNT(ES8:ES86)","v":9},{"$f":"COUNTIF(ET22:ET86,\"<=3\")","v":0},{"$f":"COUNTIF(EU8:EU86,\"<=3\")","v":0},{"$f":"COUNT(EV8:EV86)","v":0},{"$f":"COUNTIF(EW22:EW86,\"<=3\")","v":0},{"$f":"COUNTIF(EX8:EX86,\"<=3\")","v":4},{"$f":"COUNT(EY8:EY86)","v":5},{"$f":"COUNTIF(EZ22:EZ86,\"<=3\")","v":0},{"$f":"COUNTIF(FA8:FA86,\"<=3\")","v":0},{"$f":"COUNT(FB8:FB86)","v":0},{"$f":"COUNTIF(FC22:FC86,\"<=3\")","v":0},{"$f":"COUNTIF(FD8:FD86,\"<=3\")","v":0},{"$f":"COUNT(FE8:FE86)","v":0},{"$f":"COUNTIF(FF22:FF86,\"<=3\")","v":0},{"$f":"COUNTIF(FG8:FG86,\"<=3\")","v":0},{"$f":"COUNTIF(FH22:FH86,\"<=3\")","v":0},{"$f":"COUNT(FI8:FI86)","v":0},null,{"$f":"SUM(FK8:FK83)","v":11},{"$f":"SUM(FL8:FL83)","v":151}," "]
[]
["Figures in red (outdoor) or blue (indoor) - used for current year seed point calculations"]
["Note: Final seed point list cannot use start of year in the calculation unless used alone",null,null,null,null,null,null,null,null,null,null,null,null,null,null,null,null,null,null,null,null,null,null,null,null,null,null,null,null,null,null,null,null,null," ",null,null,null,null,null,null,null,null,null,null,null,null,null,null,null,null,null,null,null,null,null,null,null,null,null,null,null,null,null,null,null,null,null,null,null,null,null,null,null,null,null,null,null,null,null,null,null,null,null,null,null,null,null,null,null,null,null,null,null,null,null,null,null,null,null,null,null,null,null,null,null,null,null,null,null,null,null,null,null,null,null,null,null,null,null,null,null,null,null,null,null,null,null,null,null,null,null,null,null,null,null,null,null,null,null,null,null,null,null,null,null,null,null,null,null,null,null,null,null,null,null,null,null,null,null,null,null,null,null,null,null,"5 point - only 2014 - 5 or zero point races"]
[]
[null,null,null,null,null,null,null,null,null,null,null,null,null,null,null,null,null,null,null,null,null,null,null,null,null,null,null,null,null,null,null,null,null,null,null,null,null,null,null,null,null,null,null,null,null,null,null,null,null,null,null,null,null,null,null,null,null,null,null,null,null,null,null,null,null,null,null,null,null,null,null,null,null,null,null,null,null,null,null,null,null,null,null,null,null,null,null,null,null,null,null,null,null,null,null,null,null,null,null,null,null,null,null,null,null,null,null,null,null,null,null,null,null,null,null,null,null,null,null,null,null,null,null,null,null,null,null,null,null,null,null,null,null,null,null,null,null,null,null,null,null,null,null,null,null,null,null,null,null,null,null,null,null,null,null,null,null,null,null,null,null,null,null,null,null,null,"Start * - result based on start of season, x1.2 or +10"]
[]
[]
[null,null,null,"Number of Registered Racers",{"$f":"COUNTIFS(G8:G86,\">0\")","v":65}]
[null,null,null,"Number of Unregistered Racers",{"$f":"COUNTIF(G8:G86,\"=NR\")","v":11}]
[null,null,null,null,null,null,"Number of Seeded Racers",{"$f":"COUNTIFS(H22:H86,\">0\")","v":53}]
[]
[null,null,null,null,"Number of Point Reductions",null,null,null,null,null,null,null,null,null,null,null,null,null,null,null,null,null,{"$f":"COUNTIF(W8:W86,\"<0\")","v":18},{"$f":"COUNTIF(X8:X86,\"<0\")","v":5}]
[]
[]
[]
["Data collection for club statistics sheet below:"]
[null,null,null,null,"Mini Age 1st",null,null,null,null,null,null,null,null,null,null,null,null,null,null,null,null,null,null,null,{"$f":"SUM(Z104:FH104)","v":28},null,{"$f":"COUNTIFS(AA$8:AA$86,\"=1\",$D$8:$D$86,\"=U10\")+COUNTIFS(AA$8:AA$86,\"=1\",$D$8:$D$86,\"=U12\")","v":1},null,null,null,null,{"$f":"COUNTIFS(AF$8:AF$86,\"=1\",$D$8:$D$86,\"=U10\")+COUNTIFS(AF$8:AF$86,\"=1\",$D$8:$D$86,\"=U12\")","v":0},null,null,{"$f":"COUNTIFS(AI$8:AI$86,\"=1\",$D$8:$D$86,\"=U10\")+COUNTIFS(AI$8:AI$86,\"=1\",$D$8:$D$86,\"=U12\")","v":1},null,null,null,{"$f":"COUNTIFS(AM$8:AM$86,\"=1\",$D$8:$D$86,\"=U10\")+COUNTIFS(AM$8:AM$86,\"=1\",$D$8:$D$86,\"=U12\")","v":2},null,null,null,{"$f":"COUNTIFS(AQ$8:AQ$86,\"=1\",$D$8:$D$86,\"=U10\")+COUNTIFS(AQ$8:AQ$86,\"=1\",$D$8:$D$86,\"=U12\")","v":2},null,null,{"$f":"COUNTIFS(AT$8:AT$86,\"=1\",$D$8:$D$86,\"=U10\")+COUNTIFS(AT$8:AT$86,\"=1\",$D$8:$D$86,\"=U12\")","v":2},null,null,{"$f":"COUNTIFS(AW$8:AW$86,\"=1\",$D$8:$D$86,\"=U10\")+COUNTIFS(AW$8:AW$86,\"=1\",$D$8:$D$86,\"=U12\")","v":0},null,null,{"$f":"COUNTIFS(AZ$8:AZ$86,\"=1\",$D$8:$D$86,\"=U10\")+COUNTIFS(AZ$8:AZ$86,\"=1\",$D$8:$D$86,\"=U12\")","v":0},null,null,{"$f":"COUNTIFS(BC$8:BC$86,\"=1\",$D$8:$D$86,\"=U10\")+COUNTIFS(BC$8:BC$86,\"=1\",$D$8:$D$86,\"=U12\")","v":1},null,null,{"$f":"COUNTIFS(BF$8:BF$86,\"=1\",$D$8:$D$86,\"=U10\")+COUNTIFS(BF$8:BF$86,\"=1\",$D$8:$D$86,\"=U12\")","v":2},null,null,{"$f":"COUNTIFS(BI$8:BI$86,\"=1\",$D$8:$D$86,\"=U10\")+COUNTIFS(BI$8:BI$86,\"=1\",$D$8:$D$86,\"=U12\")","v":0},null,null,{"$f":"COUNTIFS(BL$8:BL$86,\"=1\",$D$8:$D$86,\"=U10\")+COUNTIFS(BL$8:BL$86,\"=1\",$D$8:$D$86,\"=U12\")","v":0},null,null,{"$f":"COUNTIFS(BO$8:BO$86,\"=1\",$D$8:$D$86,\"=U10\")+COUNTIFS(BO$8:BO$86,\"=1\",$D$8:$D$86,\"=U12\")","v":0},null,null,{"$f":"COUNTIFS(BR$8:BR$86,\"=1\",$D$8:$D$86,\"=U10\")+COUNTIFS(BR$8:BR$86,\"=1\",$D$8:$D$86,\"=U12\")","v":0},null,null,{"$f":"COUNTIFS(BU$8:BU$86,\"=1\",$D$8:$D$86,\"=U10\")+COUNTIFS(BU$8:BU$86,\"=1\",$D$8:$D$86,\"=U12\")","v":0},null,null,{"$f":"COUNTIFS(BX$8:BX$86,\"=1\",$D$8:$D$86,\"=U10\")+COUNTIFS(BX$8:BX$86,\"=1\",$D$8:$D$86,\"=U12\")","v":1},null,null,{"$f":"COUNTIFS(CA$8:CA$86,\"=1\",$D$8:$D$86,\"=U10\")+COUNTIFS(CA$8:CA$86,\"=1\",$D$8:$D$86,\"=U12\")","v":1},null,null,{"$f":"COUNTIFS(CD$8:CD$86,\"=1\",$D$8:$D$86,\"=U10\")+COUNTIFS(CD$8:CD$86,\"=1\",$D$8:$D$86,\"=U12\")","v":0},null,null,{"$f":"COUNTIFS(CG$8:CG$86,\"=1\",$D$8:$D$86,\"=U10\")+COUNTIFS(CG$8:CG$86,\"=1\",$D$8:$D$86,\"=U12\")","v":1},null,null,null,{"$f":"COUNTIFS(CK$8:CK$86,\"=1\",$D$8:$D$86,\"=U10\")+COUNTIFS(CK$8:CK$86,\"=1\",$D$8:$D$86,\"=U12\")","v":1},null,null,{"$f":"COUNTIFS(CN$8:CN$86,\"=1\",$D$8:$D$86,\"=U10\")+COUNTIFS(CN$8:CN$86,\"=1\",$D$8:$D$86,\"=U12\")","v":0},null,null,{"$f":"COUNTIFS(CQ$8:CQ$86,\"=1\",$D$8:$D$86,\"=U10\")+COUNTIFS(CQ$8:CQ$86,\"=1\",$D$8:$D$86,\"=U12\")","v":1},null,null,{"$f":"COUNTIFS(CT$8:CT$86,\"=1\",$D$8:$D$86,\"=U10\")+COUNTIFS(CT$8:CT$86,\"=1\",$D$8:$D$86,\"=U12\")","v":0},null,null,{"$f":"COUNTIFS(CW$8:CW$86,\"=1\",$D$8:$D$86,\"=U10\")+COUNTIFS(CW$8:CW$86,\"=1\",$D$8:$D$86,\"=U12\")","v":0},null,null,{"$f":"COUNTIFS(CZ$8:CZ$86,\"=1\",$D$8:$D$86,\"=U10\")+COUNTIFS(CZ$8:CZ$86,\"=1\",$D$8:$D$86,\"=U12\")","v":1},null,null,{"$f":"COUNTIFS(DC$8:DC$86,\"=1\",$D$8:$D$86,\"=U10\")+COUNTIFS(DC$8:DC$86,\"=1\",$D$8:$D$86,\"=U12\")","v":2},null,null,{"$f":"COUNTIFS(DF$8:DF$86,\"=1\",$D$8:$D$86,\"=U10\")+COUNTIFS(DF$8:DF$86,\"=1\",$D$8:$D$86,\"=U12\")","v":0},null,null,{"$f":"COUNTIFS(DI$8:DI$86,\"=1\",$D$8:$D$86,\"=U10\")+COUNTIFS(DI$8:DI$86,\"=1\",$D$8:$D$86,\"=U12\")","v":0},null,null,{"$f":"COUNTIFS(DL$8:DL$86,\"=1\",$D$8:$D$86,\"=U10\")+COUNTIFS(DL$8:DL$86,\"=1\",$D$8:$D$86,\"=U12\")","v":1},null,null,{"$f":"COUNTIFS(DO$8:DO$86,\"=1\",$D$8:$D$86,\"=U10\")+COUNTIFS(DO$8:DO$86,\"=1\",$D$8:$D$86,\"=U12\")","v":1},null,null,{"$f":"COUNTIFS(DR$8:DR$86,\"=1\",$D$8:$D$86,\"=U10\")+COUNTIFS(DR$8:DR$86,\"=1\",$D$8:$D$86,\"=U12\")","v":0},null,null,{"$f":"COUNTIFS(DU$8:DU$86,\"=1\",$D$8:$D$86,\"=U10\")+COUNTIFS(DU$8:DU$86,\"=1\",$D$8:$D$86,\"=U12\")","v":1},null,null,{"$f":"COUNTIFS(DX$8:DX$86,\"=1\",$D$8:$D$86,\"=U10\")+COUNTIFS(DX$8:DX$86,\"=1\",$D$8:$D$86,\"=U12\")","v":0},null,null,{"$f":"COUNTIFS(EA$8:EA$86,\"=1\",$D$8:$D$86,\"=U10\")+COUNTIFS(EA$8:EA$86,\"=1\",$D$8:$D$86,\"=U12\")","v":0},null,null,{"$f":"COUNTIFS(ED$8:ED$86,\"=1\",$D$8:$D$86,\"=U10\")+COUNTIFS(ED$8:ED$86,\"=1\",$D$8:$D$86,\"=U12\")","v":0},null,{"$f":"COUNTIFS(EF$8:EF$86,\"=1\",$D$8:$D$86,\"=U10\")+COUNTIFS(EF$8:EF$86,\"=1\",$D$8:$D$86,\"=U12\")","v":0},null,null,{"$f":"COUNTIFS(EI$8:EI$86,\"=1\",$D$8:$D$86,\"=U10\")+COUNTIFS(EI$8:EI$86,\"=1\",$D$8:$D$86,\"=U12\")","v":2},null,null,{"$f":"COUNTIFS(EL$8:EL$86,\"=1\",$D$8:$D$86,\"=U10\")+COUNTIFS(EL$8:EL$86,\"=1\",$D$8:$D$86,\"=U12\")","v":1},null,null,{"$f":"COUNTIFS(EO$8:EO$86,\"=1\",$D$8:$D$86,\"=U10\")+COUNTIFS(EO$8:EO$86,\"=1\",$D$8:$D$86,\"=U12\")","v":1},null,null,{"$f":"COUNTIFS(ER$8:ER$86,\"=1\",$D$8:$D$86,\"=U10\")+COUNTIFS(ER$8:ER$86,\"=1\",$D$8:$D$86,\"=U12\")","v":1},null,null,{"$f":"COUNTIFS(EU$8:EU$86,\"=1\",$D$8:$D$86,\"=U10\")+COUNTIFS(EU$8:EU$86,\"=1\",$D$8:$D$86,\"=U12\")","v":0},null,null,{"$f":"COUNTIFS(EX$8:EX$86,\"=1\",$D$8:$D$86,\"=U10\")+COUNTIFS(EX$8:EX$86,\"=1\",$D$8:$D$86,\"=U12\")","v":1},null,null,{"$f":"COUNTIFS(FA$8:FA$86,\"=1\",$D$8:$D$86,\"=U10\")+COUNTIFS(FA$8:FA$86,\"=1\",$D$8:$D$86,\"=U12\")","v":0},null,null,{"$f":"COUNTIFS(FD$8:FD$86,\"=1\",$D$8:$D$86,\"=U10\")+COUNTIFS(FD$8:FD$86,\"=1\",$D$8:$D$86,\"=U12\")","v":0},null,null,{"$f":"COUNTIFS(FG$8:FG$86,\"=1\",$D$8:$D$86,\"=U10\")+COUNTIFS(FG$8:FG$86,\"=1\",$D$8:$D$86,\"=U12\")","v":0}]
[null,null,null,null,"Mini Age 2nd",null,null,null,null,null,null,null,null,null,null,null,null,null,null,null,null,null,null,null,30,null,{"$f":"COUNTIFS(AA$8:AA$86,\"=2\",$D$8:$D$86,\"=U10\")+COUNTIFS(AA$8:AA$86,\"=2\",$D$8:$D$86,\"=U12\")","v":0},null,null,null,null,{"$f":"COUNTIFS(AF$8:AF$86,\"=2\",$D$8:$D$86,\"=U10\")+COUNTIFS(AF$8:AF$86,\"=2\",$D$8:$D$86,\"=U12\")","v":0},null,null,{"$f":"COUNTIFS(AI$8:AI$86,\"=2\",$D$8:$D$86,\"=U10\")+COUNTIFS(AI$8:AI$86,\"=2\",$D$8:$D$86,\"=U12\")","v":0},null,null,null,{"$f":"COUNTIFS(AM$8:AM$86,\"=2\",$D$8:$D$86,\"=U10\")+COUNTIFS(AM$8:AM$86,\"=2\",$D$8:$D$86,\"=U12\")","v":0},null,null,null,{"$f":"COUNTIFS(AQ$8:AQ$86,\"=2\",$D$8:$D$86,\"=U10\")+COUNTIFS(AQ$8:AQ$86,\"=2\",$D$8:$D$86,\"=U12\")","v":1},null,null,{"$f":"COUNTIFS(AT$8:AT$86,\"=2\",$D$8:$D$86,\"=U10\")+COUNTIFS(AT$8:AT$86,\"=2\",$D$8:$D$86,\"=U12\")","v":0},null,null,{"$f":"COUNTIFS(AW$8:AW$86,\"=2\",$D$8:$D$86,\"=U10\")+COUNTIFS(AW$8:AW$86,\"=2\",$D$8:$D$86,\"=U12\")","v":2},null,null,{"$f":"COUNTIFS(AZ$8:AZ$86,\"=2\",$D$8:$D$86,\"=U10\")+COUNTIFS(AZ$8:AZ$86,\"=2\",$D$8:$D$86,\"=U12\")","v":2},null,null,{"$f":"COUNTIFS(BC$8:BC$86,\"=2\",$D$8:$D$86,\"=U10\")+COUNTIFS(BC$8:BC$86,\"=2\",$D$8:$D$86,\"=U12\")","v":2},null,null,{"$f":"COUNTIFS(BF$8:BF$86,\"=2\",$D$8:$D$86,\"=U10\")+COUNTIFS(BF$8:BF$86,\"=2\",$D$8:$D$86,\"=U12\")","v":1},null,null,{"$f":"COUNTIFS(BI$8:BI$86,\"=2\",$D$8:$D$86,\"=U10\")+COUNTIFS(BI$8:BI$86,\"=2\",$D$8:$D$86,\"=U12\")","v":2},null,null,{"$f":"COUNTIFS(BL$8:BL$86,\"=2\",$D$8:$D$86,\"=U10\")+COUNTIFS(BL$8:BL$86,\"=2\",$D$8:$D$86,\"=U12\")","v":0},null,null,{"$f":"COUNTIFS(BO$8:BO$86,\"=2\",$D$8:$D$86,\"=U10\")+COUNTIFS(BO$8:BO$86,\"=2\",$D$8:$D$86,\"=U12\")","v":0},null,null,{"$f":"COUNTIFS(BR$8:BR$86,\"=2\",$D$8:$D$86,\"=U10\")+COUNTIFS(BR$8:BR$86,\"=2\",$D$8:$D$86,\"=U12\")","v":1},null,null,{"$f":"COUNTIFS(BU$8:BU$86,\"=2\",$D$8:$D$86,\"=U10\")+COUNTIFS(BU$8:BU$86,\"=2\",$D$8:$D$86,\"=U12\")","v":0},null,null,{"$f":"COUNTIFS(BX$8:BX$86,\"=2\",$D$8:$D$86,\"=U10\")+COUNTIFS(BX$8:BX$86,\"=2\",$D$8:$D$86,\"=U12\")","v":0},null,null,{"$f":"COUNTIFS(CA$8:CA$86,\"=2\",$D$8:$D$86,\"=U10\")+COUNTIFS(CA$8:CA$86,\"=2\",$D$8:$D$86,\"=U12\")","v":0},null,null,{"$f":"COUNTIFS(CD$8:CD$86,\"=2\",$D$8:$D$86,\"=U10\")+COUNTIFS(CD$8:CD$86,\"=2\",$D$8:$D$86,\"=U12\")","v":1},null,null,{"$f":"COUNTIFS(CG$8:CG$86,\"=2\",$D$8:$D$86,\"=U10\")+COUNTIFS(CG$8:CG$86,\"=2\",$D$8:$D$86,\"=U12\")","v":0},null,null,null,{"$f":"COUNTIFS(CK$8:CK$86,\"=2\",$D$8:$D$86,\"=U10\")+COUNTIFS(CK$8:CK$86,\"=2\",$D$8:$D$86,\"=U12\")","v":0},null,null,{"$f":"COUNTIFS(CN$8:CN$86,\"=2\",$D$8:$D$86,\"=U10\")+COUNTIFS(CN$8:CN$86,\"=2\",$D$8:$D$86,\"=U12\")","v":1},null,null,{"$f":"COUNTIFS(CQ$8:CQ$86,\"=2\",$D$8:$D$86,\"=U10\")+COUNTIFS(CQ$8:CQ$86,\"=2\",$D$8:$D$86,\"=U12\")","v":0},null,null,{"$f":"COUNTIFS(CT$8:CT$86,\"=2\",$D$8:$D$86,\"=U10\")+COUNTIFS(CT$8:CT$86,\"=2\",$D$8:$D$86,\"=U12\")","v":2},null,null,{"$f":"COUNTIFS(CW$8:CW$86,\"=2\",$D$8:$D$86,\"=U10\")+COUNTIFS(CW$8:CW$86,\"=2\",$D$8:$D$86,\"=U12\")","v":2},null,null,{"$f":"COUNTIFS(CZ$8:CZ$86,\"=2\",$D$8:$D$86,\"=U10\")+COUNTIFS(CZ$8:CZ$86,\"=2\",$D$8:$D$86,\"=U12\")","v":0},null,null,{"$f":"COUNTIFS(DC$8:DC$86,\"=2\",$D$8:$D$86,\"=U10\")+COUNTIFS(DC$8:DC$86,\"=2\",$D$8:$D$86,\"=U12\")","v":0},null,null,{"$f":"COUNTIFS(DF$8:DF$86,\"=2\",$D$8:$D$86,\"=U10\")+COUNTIFS(DF$8:DF$86,\"=2\",$D$8:$D$86,\"=U12\")","v":2},null,null,{"$f":"COUNTIFS(DI$8:DI$86,\"=2\",$D$8:$D$86,\"=U10\")+COUNTIFS(DI$8:DI$86,\"=2\",$D$8:$D$86,\"=U12\")","v":2},null,null,{"$f":"COUNTIFS(DL$8:DL$86,\"=2\",$D$8:$D$86,\"=U10\")+COUNTIFS(DL$8:DL$86,\"=2\",$D$8:$D$86,\"=U12\")","v":1},null,null,{"$f":"COUNTIFS(DO$8:DO$86,\"=2\",$D$8:$D$86,\"=U10\")+COUNTIFS(DO$8:DO$86,\"=2\",$D$8:$D$86,\"=U12\")","v":2},null,null,{"$f":"COUNTIFS(DR$8:DR$86,\"=2\",$D$8:$D$86,\"=U10\")+COUNTIFS(DR$8:DR$86,\"=2\",$D$8:$D$86,\"=U12\")","v":1},null,null,{"$f":"COUNTIFS(DU$8:DU$86,\"=2\",$D$8:$D$86,\"=U10\")+COUNTIFS(DU$8:DU$86,\"=2\",$D$8:$D$86,\"=U12\")","v":0},null,null,{"$f":"COUNTIFS(DX$8:DX$86,\"=2\",$D$8:$D$86,\"=U10\")+COUNTIFS(DX$8:DX$86,\"=2\",$D$8:$D$86,\"=U12\")","v":1},null,null,{"$f":"COUNTIFS(EA$8:EA$86,\"=2\",$D$8:$D$86,\"=U10\")+COUNTIFS(EA$8:EA$86,\"=2\",$D$8:$D$86,\"=U12\")","v":0},null,null,{"$f":"COUNTIFS(ED$8:ED$86,\"=2\",$D$8:$D$86,\"=U10\")+COUNTIFS(ED$8:ED$86,\"=2\",$D$8:$D$86,\"=U12\")","v":0},null,{"$f":"COUNTIFS(EF$8:EF$86,\"=2\",$D$8:$D$86,\"=U10\")+COUNTIFS(EF$8:EF$86,\"=2\",$D$8:$D$86,\"=U12\")","v":1},null,null,{"$f":"COUNTIFS(EI$8:EI$86,\"=2\",$D$8:$D$86,\"=U10\")+COUNTIFS(EI$8:EI$86,\"=2\",$D$8:$D$86,\"=U12\")","v":1},null,null,{"$f":"COUNTIFS(EL$8:EL$86,\"=2\",$D$8:$D$86,\"=U10\")+COUNTIFS(EL$8:EL$86,\"=2\",$D$8:$D$86,\"=U12\")","v":1},null,null,{"$f":"COUNTIFS(EO$8:EO$86,\"=2\",$D$8:$D$86,\"=U10\")+COUNTIFS(EO$8:EO$86,\"=2\",$D$8:$D$86,\"=U12\")","v":0},null,null,{"$f":"COUNTIFS(ER$8:ER$86,\"=2\",$D$8:$D$86,\"=U10\")+COUNTIFS(ER$8:ER$86,\"=2\",$D$8:$D$86,\"=U12\")","v":0},null,null,{"$f":"COUNTIFS(EU$8:EU$86,\"=2\",$D$8:$D$86,\"=U10\")+COUNTIFS(EU$8:EU$86,\"=2\",$D$8:$D$86,\"=U12\")","v":0},null,null,{"$f":"COUNTIFS(EX$8:EX$86,\"=2\",$D$8:$D$86,\"=U10\")+COUNTIFS(EX$8:EX$86,\"=2\",$D$8:$D$86,\"=U12\")","v":1},null,null,{"$f":"COUNTIFS(FA$8:FA$86,\"=2\",$D$8:$D$86,\"=U10\")+COUNTIFS(FA$8:FA$86,\"=2\",$D$8:$D$86,\"=U12\")","v":0},null,null,{"$f":"COUNTIFS(FD$8:FD$86,\"=2\",$D$8:$D$86,\"=U10\")+COUNTIFS(FD$8:FD$86,\"=2\",$D$8:$D$86,\"=U12\")","v":0},null,null,{"$f":"COUNTIFS(FG$8:FG$86,\"=2\",$D$8:$D$86,\"=U10\")+COUNTIFS(FG$8:FG$86,\"=2\",$D$8:$D$86,\"=U12\")","v":0}]
[null,null,null,null,"Mini Age 3rd",null,null,null,null,null,null,null,null,null,null,null,null,null,null,null,null,null,null,null,8,null,{"$f":"COUNTIFS(AA$8:AA$86,\"=3\",$D$8:$D$86,\"=U10\")+COUNTIFS(AA$8:AA$86,\"=3\",$D$8:$D$86,\"=U12\")","v":0},null,null,null,null,{"$f":"COUNTIFS(AF$8:AF$86,\"=3\",$D$8:$D$86,\"=U10\")+COUNTIFS(AF$8:AF$86,\"=3\",$D$8:$D$86,\"=U12\")","v":0},null,null,{"$f":"COUNTIFS(AI$8:AI$86,\"=3\",$D$8:$D$86,\"=U10\")+COUNTIFS(AI$8:AI$86,\"=3\",$D$8:$D$86,\"=U12\")","v":0},null,null,null,{"$f":"COUNTIFS(AM$8:AM$86,\"=3\",$D$8:$D$86,\"=U10\")+COUNTIFS(AM$8:AM$86,\"=3\",$D$8:$D$86,\"=U12\")","v":0},null,null,null,{"$f":"COUNTIFS(AQ$8:AQ$86,\"=3\",$D$8:$D$86,\"=U10\")+COUNTIFS(AQ$8:AQ$86,\"=3\",$D$8:$D$86,\"=U12\")","v":0},null,null,{"$f":"COUNTIFS(AT$8:AT$86,\"=3\",$D$8:$D$86,\"=U10\")+COUNTIFS(AT$8:AT$86,\"=3\",$D$8:$D$86,\"=U12\")","v":1},null,null,{"$f":"COUNTIFS(AW$8:AW$86,\"=3\",$D$8:$D$86,\"=U10\")+COUNTIFS(AW$8:AW$86,\"=3\",$D$8:$D$86,\"=U12\")","v":0},null,null,{"$f":"COUNTIFS(AZ$8:AZ$86,\"=3\",$D$8:$D$86,\"=U10\")+COUNTIFS(AZ$8:AZ$86,\"=3\",$D$8:$D$86,\"=U12\")","v":1},null,null,{"$f":"COUNTIFS(BC$8:BC$86,\"=3\",$D$8:$D$86,\"=U10\")+COUNTIFS(BC$8:BC$86,\"=3\",$D$8:$D$86,\"=U12\")","v":0},null,null,{"$f":"COUNTIFS(BF$8:BF$86,\"=3\",$D$8:$D$86,\"=U10\")+COUNTIFS(BF$8:BF$86,\"=3\",$D$8:$D$86,\"=U12\")","v":0},null,null,{"$f":"COUNTIFS(BI$8:BI$86,\"=3\",$D$8:$D$86,\"=U10\")+COUNTIFS(BI$8:BI$86,\"=3\",$D$8:$D$86,\"=U12\")","v":1},null,null,{"$f":"COUNTIFS(BL$8:BL$86,\"=3\",$D$8:$D$86,\"=U10\")+COUNTIFS(BL$8:BL$86,\"=3\",$D$8:$D$86,\"=U12\")","v":1},null,null,{"$f":"COUNTIFS(BO$8:BO$86,\"=3\",$D$8:$D$86,\"=U10\")+COUNTIFS(BO$8:BO$86,\"=3\",$D$8:$D$86,\"=U12\")","v":0},null,null,{"$f":"COUNTIFS(BR$8:BR$86,\"=3\",$D$8:$D$86,\"=U10\")+COUNTIFS(BR$8:BR$86,\"=3\",$D$8:$D$86,\"=U12\")","v":0},null,null,{"$f":"COUNTIFS(BU$8:BU$86,\"=3\",$D$8:$D$86,\"=U10\")+COUNTIFS(BU$8:BU$86,\"=3\",$D$8:$D$86,\"=U12\")","v":0},null,null,{"$f":"COUNTIFS(BX$8:BX$86,\"=3\",$D$8:$D$86,\"=U10\")+COUNTIFS(BX$8:BX$86,\"=3\",$D$8:$D$86,\"=U12\")","v":0},null,null,{"$f":"COUNTIFS(CA$8:CA$86,\"=3\",$D$8:$D$86,\"=U10\")+COUNTIFS(CA$8:CA$86,\"=3\",$D$8:$D$86,\"=U12\")","v":0},null,null,{"$f":"COUNTIFS(CD$8:CD$86,\"=3\",$D$8:$D$86,\"=U10\")+COUNTIFS(CD$8:CD$86,\"=3\",$D$8:$D$86,\"=U12\")","v":0},null,null,{"$f":"COUNTIFS(CG$8:CG$86,\"=3\",$D$8:$D$86,\"=U10\")+COUNTIFS(CG$8:CG$86,\"=3\",$D$8:$D$86,\"=U12\")","v":0},null,null,null,{"$f":"COUNTIFS(CK$8:CK$86,\"=3\",$D$8:$D$86,\"=U10\")+COUNTIFS(CK$8:CK$86,\"=3\",$D$8:$D$86,\"=U12\")","v":1},null,null,{"$f":"COUNTIFS(CN$8:CN$86,\"=3\",$D$8:$D$86,\"=U10\")+COUNTIFS(CN$8:CN$86,\"=3\",$D$8:$D$86,\"=U12\")","v":0},null,null,{"$f":"COUNTIFS(CQ$8:CQ$86,\"=3\",$D$8:$D$86,\"=U10\")+COUNTIFS(CQ$8:CQ$86,\"=3\",$D$8:$D$86,\"=U12\")","v":1},null,null,{"$f":"COUNTIFS(CT$8:CT$86,\"=3\",$D$8:$D$86,\"=U10\")+COUNTIFS(CT$8:CT$86,\"=3\",$D$8:$D$86,\"=U12\")","v":0},null,null,{"$f":"COUNTIFS(CW$8:CW$86,\"=3\",$D$8:$D$86,\"=U10\")+COUNTIFS(CW$8:CW$86,\"=3\",$D$8:$D$86,\"=U12\")","v":1},null,null,{"$f":"COUNTIFS(CZ$8:CZ$86,\"=3\",$D$8:$D$86,\"=U10\")+COUNTIFS(CZ$8:CZ$86,\"=3\",$D$8:$D$86,\"=U12\")","v":1},null,null,{"$f":"COUNTIFS(DC$8:DC$86,\"=3\",$D$8:$D$86,\"=U10\")+COUNTIFS(DC$8:DC$86,\"=3\",$D$8:$D$86,\"=U12\")","v":0},null,null,{"$f":"COUNTIFS(DF$8:DF$86,\"=3\",$D$8:$D$86,\"=U10\")+COUNTIFS(DF$8:DF$86,\"=3\",$D$8:$D$86,\"=U12\")","v":0},null,null,{"$f":"COUNTIFS(DI$8:DI$86,\"=3\",$D$8:$D$86,\"=U10\")+COUNTIFS(DI$8:DI$86,\"=3\",$D$8:$D$86,\"=U12\")","v":0},null,null,{"$f":"COUNTIFS(DL$8:DL$86,\"=3\",$D$8:$D$86,\"=U10\")+COUNTIFS(DL$8:DL$86,\"=3\",$D$8:$D$86,\"=U12\")","v":0},null,null,{"$f":"COUNTIFS(DO$8:DO$86,\"=3\",$D$8:$D$86,\"=U10\")+COUNTIFS(DO$8:DO$86,\"=3\",$D$8:$D$86,\"=U12\")","v":0},null,null,{"$f":"COUNTIFS(DR$8:DR$86,\"=3\",$D$8:$D$86,\"=U10\")+COUNTIFS(DR$8:DR$86,\"=3\",$D$8:$D$86,\"=U12\")","v":0},null,null,{"$f":"COUNTIFS(DU$8:DU$86,\"=3\",$D$8:$D$86,\"=U10\")+COUNTIFS(DU$8:DU$86,\"=3\",$D$8:$D$86,\"=U12\")","v":0},null,null,{"$f":"COUNTIFS(DX$8:DX$86,\"=3\",$D$8:$D$86,\"=U10\")+COUNTIFS(DX$8:DX$86,\"=3\",$D$8:$D$86,\"=U12\")","v":0},null,null,{"$f":"COUNTIFS(EA$8:EA$86,\"=3\",$D$8:$D$86,\"=U10\")+COUNTIFS(EA$8:EA$86,\"=3\",$D$8:$D$86,\"=U12\")","v":0},null,null,{"$f":"COUNTIFS(ED$8:ED$86,\"=3\",$D$8:$D$86,\"=U10\")+COUNTIFS(ED$8:ED$86,\"=3\",$D$8:$D$86,\"=U12\")","v":0},null,{"$f":"COUNTIFS(EF$8:EF$86,\"=3\",$D$8:$D$86,\"=U10\")+COUNTIFS(EF$8:EF$86,\"=3\",$D$8:$D$86,\"=U12\")","v":0},null,null,{"$f":"COUNTIFS(EI$8:EI$86,\"=3\",$D$8:$D$86,\"=U10\")+COUNTIFS(EI$8:EI$86,\"=3\",$D$8:$D$86,\"=U12\")","v":0},null,null,{"$f":"COUNTIFS(EL$8:EL$86,\"=3\",$D$8:$D$86,\"=U10\")+COUNTIFS(EL$8:EL$86,\"=3\",$D$8:$D$86,\"=U12\")","v":0},null,null,{"$f":"COUNTIFS(EO$8:EO$86,\"=3\",$D$8:$D$86,\"=U10\")+COUNTIFS(EO$8:EO$86,\"=3\",$D$8:$D$86,\"=U12\")","v":0},null,null,{"$f":"COUNTIFS(ER$8:ER$86,\"=3\",$D$8:$D$86,\"=U10\")+COUNTIFS(ER$8:ER$86,\"=3\",$D$8:$D$86,\"=U12\")","v":0},null,null,{"$f":"COUNTIFS(EU$8:EU$86,\"=3\",$D$8:$D$86,\"=U10\")+COUNTIFS(EU$8:EU$86,\"=3\",$D$8:$D$86,\"=U12\")","v":0},null,null,{"$f":"COUNTIFS(EX$8:EX$86,\"=3\",$D$8:$D$86,\"=U10\")+COUNTIFS(EX$8:EX$86,\"=3\",$D$8:$D$86,\"=U12\")","v":0},null,null,{"$f":"COUNTIFS(FA$8:FA$86,\"=3\",$D$8:$D$86,\"=U10\")+COUNTIFS(FA$8:FA$86,\"=3\",$D$8:$D$86,\"=U12\")","v":0},null,null,{"$f":"COUNTIFS(FD$8:FD$86,\"=3\",$D$8:$D$86,\"=U10\")+COUNTIFS(FD$8:FD$86,\"=3\",$D$8:$D$86,\"=U12\")","v":0},null,null,{"$f":"COUNTIFS(FG$8:FG$86,\"=3\",$D$8:$D$86,\"=U10\")+COUNTIFS(FG$8:FG$86,\"=3\",$D$8:$D$86,\"=U12\")","v":0}]
[null,null,null,null,"CH Age 1st",null,null,null,null,null,null,null,null,null,null,null,null,null,null,null,null,null,null,null,28,null,{"$f":"COUNTIFS(AA$8:AA$86,\"=1\",$D8:$D86,\"=U14\")+COUNTIFS(AA$8:AA$86,\"=1\",$D8:$D86,\"=U16\")","v":1},null,null,null,null,{"$f":"COUNTIFS(AF$8:AF$86,\"=1\",$D8:$D86,\"=U14\")+COUNTIFS(AF$8:AF$86,\"=1\",$D8:$D86,\"=U16\")","v":2},null,null,{"$f":"COUNTIFS(AI$8:AI$86,\"=1\",$D8:$D86,\"=U14\")+COUNTIFS(AI$8:AI$86,\"=1\",$D8:$D86,\"=U16\")","v":1},null,null,null,{"$f":"COUNTIFS(AM$8:AM$86,\"=1\",$D8:$D86,\"=U14\")+COUNTIFS(AM$8:AM$86,\"=1\",$D8:$D86,\"=U16\")","v":1},null,null,null,{"$f":"COUNTIFS(AQ$8:AQ$86,\"=1\",$D8:$D86,\"=U14\")+COUNTIFS(AQ$8:AQ$86,\"=1\",$D8:$D86,\"=U16\")","v":2},null,null,{"$f":"COUNTIFS(AT$8:AT$86,\"=1\",$D8:$D86,\"=U14\")+COUNTIFS(AT$8:AT$86,\"=1\",$D8:$D86,\"=U16\")","v":1},null,null,{"$f":"COUNTIFS(AW$8:AW$86,\"=1\",$D8:$D86,\"=U14\")+COUNTIFS(AW$8:AW$86,\"=1\",$D8:$D86,\"=U16\")","v":1},null,null,{"$f":"COUNTIFS(AZ$8:AZ$86,\"=1\",$D8:$D86,\"=U14\")+COUNTIFS(AZ$8:AZ$86,\"=1\",$D8:$D86,\"=U16\")","v":0},null,null,{"$f":"COUNTIFS(BC$8:BC$86,\"=1\",$D8:$D86,\"=U14\")+COUNTIFS(BC$8:BC$86,\"=1\",$D8:$D86,\"=U16\")","v":1},null,null,{"$f":"COUNTIFS(BF$8:BF$86,\"=1\",$D8:$D86,\"=U14\")+COUNTIFS(BF$8:BF$86,\"=1\",$D8:$D86,\"=U16\")","v":2},null,null,{"$f":"COUNTIFS(BI$8:BI$86,\"=1\",$D8:$D86,\"=U14\")+COUNTIFS(BI$8:BI$86,\"=1\",$D8:$D86,\"=U16\")","v":1},null,null,{"$f":"COUNTIFS(BL$8:BL$86,\"=1\",$D8:$D86,\"=U14\")+COUNTIFS(BL$8:BL$86,\"=1\",$D8:$D86,\"=U16\")","v":1},null,null,{"$f":"COUNTIFS(BO$8:BO$86,\"=1\",$D8:$D86,\"=U14\")+COUNTIFS(BO$8:BO$86,\"=1\",$D8:$D86,\"=U16\")","v":0},null,null,{"$f":"COUNTIFS(BR$8:BR$86,\"=1\",$D8:$D86,\"=U14\")+COUNTIFS(BR$8:BR$86,\"=1\",$D8:$D86,\"=U16\")","v":0},null,null,{"$f":"COUNTIFS(BU$8:BU$86,\"=1\",$D8:$D86,\"=U14\")+COUNTIFS(BU$8:BU$86,\"=1\",$D8:$D86,\"=U16\")","v":0},null,null,{"$f":"COUNTIFS(BX$8:BX$86,\"=1\",$D8:$D86,\"=U14\")+COUNTIFS(BX$8:BX$86,\"=1\",$D8:$D86,\"=U16\")","v":1},null,null,{"$f":"COUNTIFS(CA$8:CA$86,\"=1\",$D8:$D86,\"=U14\")+COUNTIFS(CA$8:CA$86,\"=1\",$D8:$D86,\"=U16\")","v":0},null,null,{"$f":"COUNTIFS(CD$8:CD$86,\"=1\",$D8:$D86,\"=U14\")+COUNTIFS(CD$8:CD$86,\"=1\",$D8:$D86,\"=U16\")","v":0},null,null,{"$f":"COUNTIFS(CG$8:CG$86,\"=1\",$D8:$D86,\"=U14\")+COUNTIFS(CG$8:CG$86,\"=1\",$D8:$D86,\"=U16\")","v":0},null,null,null,{"$f":"COUNTIFS(CK$8:CK$86,\"=1\",$D8:$D86,\"=U14\")+COUNTIFS(CK$8:CK$86,\"=1\",$D8:$D86,\"=U16\")","v":1},null,null,{"$f":"COUNTIFS(CN$8:CN$86,\"=1\",$D8:$D86,\"=U14\")+COUNTIFS(CN$8:CN$86,\"=1\",$D8:$D86,\"=U16\")","v":1},null,null,{"$f":"COUNTIFS(CQ$8:CQ$86,\"=1\",$D8:$D86,\"=U14\")+COUNTIFS(CQ$8:CQ$86,\"=1\",$D8:$D86,\"=U16\")","v":0},null,null,{"$f":"COUNTIFS(CT$8:CT$86,\"=1\",$D8:$D86,\"=U14\")+COUNTIFS(CT$8:CT$86,\"=1\",$D8:$D86,\"=U16\")","v":1},null,null,{"$f":"COUNTIFS(CW$8:CW$86,\"=1\",$D8:$D86,\"=U14\")+COUNTIFS(CW$8:CW$86,\"=1\",$D8:$D86,\"=U16\")","v":1},null,null,{"$f":"COUNTIFS(CZ$8:CZ$86,\"=1\",$D8:$D86,\"=U14\")+COUNTIFS(CZ$8:CZ$86,\"=1\",$D8:$D86,\"=U16\")","v":1},null,null,{"$f":"COUNTIFS(DC$8:DC$86,\"=1\",$D8:$D86,\"=U14\")+COUNTIFS(DC$8:DC$86,\"=1\",$D8:$D86,\"=U16\")","v":1},null,null,{"$f":"COUNTIFS(DF$8:DF$86,\"=1\",$D8:$D86,\"=U14\")+COUNTIFS(DF$8:DF$86,\"=1\",$D8:$D86,\"=U16\")","v":1},null,null,{"$f":"COUNTIFS(DI$8:DI$86,\"=1\",$D8:$D86,\"=U14\")+COUNTIFS(DI$8:DI$86,\"=1\",$D8:$D86,\"=U16\")","v":0},null,null,{"$f":"COUNTIFS(DL$8:DL$86,\"=1\",$D8:$D86,\"=U14\")+COUNTIFS(DL$8:DL$86,\"=1\",$D8:$D86,\"=U16\")","v":0},null,null,{"$f":"COUNTIFS(DO$8:DO$86,\"=1\",$D8:$D86,\"=U14\")+COUNTIFS(DO$8:DO$86,\"=1\",$D8:$D86,\"=U16\")","v":0},null,null,{"$f":"COUNTIFS(DR$8:DR$86,\"=1\",$D8:$D86,\"=U14\")+COUNTIFS(DR$8:DR$86,\"=1\",$D8:$D86,\"=U16\")","v":1},null,null,{"$f":"COUNTIFS(DU$8:DU$86,\"=1\",$D8:$D86,\"=U14\")+COUNTIFS(DU$8:DU$86,\"=1\",$D8:$D86,\"=U16\")","v":1},null,null,{"$f":"COUNTIFS(DX$8:DX$86,\"=1\",$D8:$D86,\"=U14\")+COUNTIFS(DX$8:DX$86,\"=1\",$D8:$D86,\"=U16\")","v":1},null,null,{"$f":"COUNTIFS(EA$8:EA$86,\"=1\",$D8:$D86,\"=U14\")+COUNTIFS(EA$8:EA$86,\"=1\",$D8:$D86,\"=U16\")","v":0},null,null,{"$f":"COUNTIFS(ED$8:ED$86,\"=1\",$D8:$D86,\"=U14\")+COUNTIFS(ED$8:ED$86,\"=1\",$D8:$D86,\"=U16\")","v":0},null,{"$f":"COUNTIFS(EF$8:EF$86,\"=1\",$D8:$D86,\"=U14\")+COUNTIFS(EF$8:EF$86,\"=1\",$D8:$D86,\"=U16\")","v":0},null,null,{"$f":"COUNTIFS(EI$8:EI$86,\"=1\",$D8:$D86,\"=U14\")+COUNTIFS(EI$8:EI$86,\"=1\",$D8:$D86,\"=U16\")","v":0},null,null,{"$f":"COUNTIFS(EL$8:EL$86,\"=1\",$D8:$D86,\"=U14\")+COUNTIFS(EL$8:EL$86,\"=1\",$D8:$D86,\"=U16\")","v":0},null,null,{"$f":"COUNTIFS(EO$8:EO$86,\"=1\",$D8:$D86,\"=U14\")+COUNTIFS(EO$8:EO$86,\"=1\",$D8:$D86,\"=U16\")","v":1},null,null,{"$f":"COUNTIFS(ER$8:ER$86,\"=1\",$D8:$D86,\"=U14\")+COUNTIFS(ER$8:ER$86,\"=1\",$D8:$D86,\"=U16\")","v":1},null,null,{"$f":"COUNTIFS(EU$8:EU$86,\"=1\",$D8:$D86,\"=U14\")+COUNTIFS(EU$8:EU$86,\"=1\",$D8:$D86,\"=U16\")","v":0},null,null,{"$f":"COUNTIFS(EX$8:EX$86,\"=1\",$D8:$D86,\"=U14\")+COUNTIFS(EX$8:EX$86,\"=1\",$D8:$D86,\"=U16\")","v":1},null,null,{"$f":"COUNTIFS(FA$8:FA$86,\"=1\",$D8:$D86,\"=U14\")+COUNTIFS(FA$8:FA$86,\"=1\",$D8:$D86,\"=U16\")","v":0},null,null,{"$f":"COUNTIFS(FD$8:FD$86,\"=1\",$D8:$D86,\"=U14\")+COUNTIFS(FD$8:FD$86,\"=1\",$D8:$D86,\"=U16\")","v":0},null,null,{"$f":"COUNTIFS(FG$8:FG$86,\"=1\",$D8:$D86,\"=U14\")+COUNTIFS(FG$8:FG$86,\"=1\",$D8:$D86,\"=U16\")","v":0}]
[null,null,null,null,"CH Age 2nd",null,null,null,null,null,null,null,null,null,null,null,null,null,null,null,null,null,null,null,7,null,{"$f":"COUNTIFS(AA$8:AA$86,\"=2\",$D$8:$D$86,\"=U14\")+COUNTIFS(AA$8:AA$86,\"=2\",$D$8:$D$86,\"=U16\")","v":0},null,null,null,null,{"$f":"COUNTIFS(AF$8:AF$86,\"=2\",$D$8:$D$86,\"=U14\")+COUNTIFS(AF$8:AF$86,\"=2\",$D$8:$D$86,\"=U16\")","v":0},null,null,{"$f":"COUNTIFS(AI$8:AI$86,\"=2\",$D$8:$D$86,\"=U14\")+COUNTIFS(AI$8:AI$86,\"=2\",$D$8:$D$86,\"=U16\")","v":0},null,null,null,{"$f":"COUNTIFS(AM$8:AM$86,\"=2\",$D$8:$D$86,\"=U14\")+COUNTIFS(AM$8:AM$86,\"=2\",$D$8:$D$86,\"=U16\")","v":0},null,null,null,{"$f":"COUNTIFS(AQ$8:AQ$86,\"=2\",$D$8:$D$86,\"=U14\")+COUNTIFS(AQ$8:AQ$86,\"=2\",$D$8:$D$86,\"=U16\")","v":0},null,null,{"$f":"COUNTIFS(AT$8:AT$86,\"=2\",$D$8:$D$86,\"=U14\")+COUNTIFS(AT$8:AT$86,\"=2\",$D$8:$D$86,\"=U16\")","v":0},null,null,{"$f":"COUNTIFS(AW$8:AW$86,\"=2\",$D$8:$D$86,\"=U14\")+COUNTIFS(AW$8:AW$86,\"=2\",$D$8:$D$86,\"=U16\")","v":0},null,null,{"$f":"COUNTIFS(AZ$8:AZ$86,\"=2\",$D$8:$D$86,\"=U14\")+COUNTIFS(AZ$8:AZ$86,\"=2\",$D$8:$D$86,\"=U16\")","v":0},null,null,{"$f":"COUNTIFS(BC$8:BC$86,\"=2\",$D$8:$D$86,\"=U14\")+COUNTIFS(BC$8:BC$86,\"=2\",$D$8:$D$86,\"=U16\")","v":0},null,null,{"$f":"COUNTIFS(BF$8:BF$86,\"=2\",$D$8:$D$86,\"=U14\")+COUNTIFS(BF$8:BF$86,\"=2\",$D$8:$D$86,\"=U16\")","v":0},null,null,{"$f":"COUNTIFS(BI$8:BI$86,\"=2\",$D$8:$D$86,\"=U14\")+COUNTIFS(BI$8:BI$86,\"=2\",$D$8:$D$86,\"=U16\")","v":0},null,null,{"$f":"COUNTIFS(BL$8:BL$86,\"=2\",$D$8:$D$86,\"=U14\")+COUNTIFS(BL$8:BL$86,\"=2\",$D$8:$D$86,\"=U16\")","v":0},null,null,{"$f":"COUNTIFS(BO$8:BO$86,\"=2\",$D$8:$D$86,\"=U14\")+COUNTIFS(BO$8:BO$86,\"=2\",$D$8:$D$86,\"=U16\")","v":0},null,null,{"$f":"COUNTIFS(BR$8:BR$86,\"=2\",$D$8:$D$86,\"=U14\")+COUNTIFS(BR$8:BR$86,\"=2\",$D$8:$D$86,\"=U16\")","v":0},null,null,{"$f":"COUNTIFS(BU$8:BU$86,\"=2\",$D$8:$D$86,\"=U14\")+COUNTIFS(BU$8:BU$86,\"=2\",$D$8:$D$86,\"=U16\")","v":0},null,null,{"$f":"COUNTIFS(BX$8:BX$86,\"=2\",$D$8:$D$86,\"=U14\")+COUNTIFS(BX$8:BX$86,\"=2\",$D$8:$D$86,\"=U16\")","v":0},null,null,{"$f":"COUNTIFS(CA$8:CA$86,\"=2\",$D$8:$D$86,\"=U14\")+COUNTIFS(CA$8:CA$86,\"=2\",$D$8:$D$86,\"=U16\")","v":0},null,null,{"$f":"COUNTIFS(CD$8:CD$86,\"=2\",$D$8:$D$86,\"=U14\")+COUNTIFS(CD$8:CD$86,\"=2\",$D$8:$D$86,\"=U16\")","v":0},null,null,{"$f":"COUNTIFS(CG$8:CG$86,\"=2\",$D$8:$D$86,\"=U14\")+COUNTIFS(CG$8:CG$86,\"=2\",$D$8:$D$86,\"=U16\")","v":0},null,null,null,{"$f":"COUNTIFS(CK$8:CK$86,\"=2\",$D$8:$D$86,\"=U14\")+COUNTIFS(CK$8:CK$86,\"=2\",$D$8:$D$86,\"=U16\")","v":0},null,null,{"$f":"COUNTIFS(CN$8:CN$86,\"=2\",$D$8:$D$86,\"=U14\")+COUNTIFS(CN$8:CN$86,\"=2\",$D$8:$D$86,\"=U16\")","v":0},null,null,{"$f":"COUNTIFS(CQ$8:CQ$86,\"=2\",$D$8:$D$86,\"=U14\")+COUNTIFS(CQ$8:CQ$86,\"=2\",$D$8:$D$86,\"=U16\")","v":0},null,null,{"$f":"COUNTIFS(CT$8:CT$86,\"=2\",$D$8:$D$86,\"=U14\")+COUNTIFS(CT$8:CT$86,\"=2\",$D$8:$D$86,\"=U16\")","v":1},null,null,{"$f":"COUNTIFS(CW$8:CW$86,\"=2\",$D$8:$D$86,\"=U14\")+COUNTIFS(CW$8:CW$86,\"=2\",$D$8:$D$86,\"=U16\")","v":1},null,null,{"$f":"COUNTIFS(CZ$8:CZ$86,\"=2\",$D$8:$D$86,\"=U14\")+COUNTIFS(CZ$8:CZ$86,\"=2\",$D$8:$D$86,\"=U16\")","v":0},null,null,{"$f":"COUNTIFS(DC$8:DC$86,\"=2\",$D$8:$D$86,\"=U14\")+COUNTIFS(DC$8:DC$86,\"=2\",$D$8:$D$86,\"=U16\")","v":0},null,null,{"$f":"COUNTIFS(DF$8:DF$86,\"=2\",$D$8:$D$86,\"=U14\")+COUNTIFS(DF$8:DF$86,\"=2\",$D$8:$D$86,\"=U16\")","v":0},null,null,{"$f":"COUNTIFS(DI$8:DI$86,\"=2\",$D$8:$D$86,\"=U14\")+COUNTIFS(DI$8:DI$86,\"=2\",$D$8:$D$86,\"=U16\")","v":1},null,null,{"$f":"COUNTIFS(DL$8:DL$86,\"=2\",$D$8:$D$86,\"=U14\")+COUNTIFS(DL$8:DL$86,\"=2\",$D$8:$D$86,\"=U16\")","v":1},null,null,{"$f":"COUNTIFS(DO$8:DO$86,\"=2\",$D$8:$D$86,\"=U14\")+COUNTIFS(DO$8:DO$86,\"=2\",$D$8:$D$86,\"=U16\")","v":1},null,null,{"$f":"COUNTIFS(DR$8:DR$86,\"=2\",$D$8:$D$86,\"=U14\")+COUNTIFS(DR$8:DR$86,\"=2\",$D$8:$D$86,\"=U16\")","v":0},null,null,{"$f":"COUNTIFS(DU$8:DU$86,\"=2\",$D$8:$D$86,\"=U14\")+COUNTIFS(DU$8:DU$86,\"=2\",$D$8:$D$86,\"=U16\")","v":0},null,null,{"$f":"COUNTIFS(DX$8:DX$86,\"=2\",$D$8:$D$86,\"=U14\")+COUNTIFS(DX$8:DX$86,\"=2\",$D$8:$D$86,\"=U16\")","v":0},null,null,{"$f":"COUNTIFS(EA$8:EA$86,\"=2\",$D$8:$D$86,\"=U14\")+COUNTIFS(EA$8:EA$86,\"=2\",$D$8:$D$86,\"=U16\")","v":0},null,null,{"$f":"COUNTIFS(ED$8:ED$86,\"=2\",$D$8:$D$86,\"=U14\")+COUNTIFS(ED$8:ED$86,\"=2\",$D$8:$D$86,\"=U16\")","v":0},null,{"$f":"COUNTIFS(EF$8:EF$86,\"=2\",$D$8:$D$86,\"=U14\")+COUNTIFS(EF$8:EF$86,\"=2\",$D$8:$D$86,\"=U16\")","v":1},null,null,{"$f":"COUNTIFS(EI$8:EI$86,\"=2\",$D$8:$D$86,\"=U14\")+COUNTIFS(EI$8:EI$86,\"=2\",$D$8:$D$86,\"=U16\")","v":1},null,null,{"$f":"COUNTIFS(EL$8:EL$86,\"=2\",$D$8:$D$86,\"=U14\")+COUNTIFS(EL$8:EL$86,\"=2\",$D$8:$D$86,\"=U16\")","v":0},null,null,{"$f":"COUNTIFS(EO$8:EO$86,\"=2\",$D$8:$D$86,\"=U14\")+COUNTIFS(EO$8:EO$86,\"=2\",$D$8:$D$86,\"=U16\")","v":0},null,null,{"$f":"COUNTIFS(ER$8:ER$86,\"=2\",$D$8:$D$86,\"=U14\")+COUNTIFS(ER$8:ER$86,\"=2\",$D$8:$D$86,\"=U16\")","v":0},null,null,{"$f":"COUNTIFS(EU$8:EU$86,\"=2\",$D$8:$D$86,\"=U14\")+COUNTIFS(EU$8:EU$86,\"=2\",$D$8:$D$86,\"=U16\")","v":0},null,null,{"$f":"COUNTIFS(EX$8:EX$86,\"=2\",$D$8:$D$86,\"=U14\")+COUNTIFS(EX$8:EX$86,\"=2\",$D$8:$D$86,\"=U16\")","v":0},null,null,{"$f":"COUNTIFS(FA$8:FA$86,\"=2\",$D$8:$D$86,\"=U14\")+COUNTIFS(FA$8:FA$86,\"=2\",$D$8:$D$86,\"=U16\")","v":0},null,null,{"$f":"COUNTIFS(FD$8:FD$86,\"=2\",$D$8:$D$86,\"=U14\")+COUNTIFS(FD$8:FD$86,\"=2\",$D$8:$D$86,\"=U16\")","v":0},null,null,{"$f":"COUNTIFS(FG$8:FG$86,\"=2\",$D$8:$D$86,\"=U14\")+COUNTIFS(FG$8:FG$86,\"=2\",$D$8:$D$86,\"=U16\")","v":0}]
[null,null,null,null,"CH Age 3rd",null,null,null,null,null,null,null,null,null,null,null,null,null,null,null,null,null,null,null,6,null,{"$f":"COUNTIFS(AA$8:AA$86,\"=3\",$D$8:$D$86,\"=U14\")+COUNTIFS(AA$8:AA$86,\"=3\",$D$8:$D$86,\"=U16\")","v":0},null,null,null,null,{"$f":"COUNTIFS(AF$8:AF$86,\"=3\",$D$8:$D$86,\"=U14\")+COUNTIFS(AF$8:AF$86,\"=3\",$D$8:$D$86,\"=U16\")","v":0},null,null,{"$f":"COUNTIFS(AI$8:AI$86,\"=3\",$D$8:$D$86,\"=U14\")+COUNTIFS(AI$8:AI$86,\"=3\",$D$8:$D$86,\"=U16\")","v":0},null,null,null,{"$f":"COUNTIFS(AM$8:AM$86,\"=3\",$D$8:$D$86,\"=U14\")+COUNTIFS(AM$8:AM$86,\"=3\",$D$8:$D$86,\"=U16\")","v":0},null,null,null,{"$f":"COUNTIFS(AQ$8:AQ$86,\"=3\",$D$8:$D$86,\"=U14\")+COUNTIFS(AQ$8:AQ$86,\"=3\",$D$8:$D$86,\"=U16\")","v":0},null,null,{"$f":"COUNTIFS(AT$8:AT$86,\"=3\",$D$8:$D$86,\"=U14\")+COUNTIFS(AT$8:AT$86,\"=3\",$D$8:$D$86,\"=U16\")","v":0},null,null,{"$f":"COUNTIFS(AW$8:AW$86,\"=3\",$D$8:$D$86,\"=U14\")+COUNTIFS(AW$8:AW$86,\"=3\",$D$8:$D$86,\"=U16\")","v":0},null,null,{"$f":"COUNTIFS(AZ$8:AZ$86,\"=3\",$D$8:$D$86,\"=U14\")+COUNTIFS(AZ$8:AZ$86,\"=3\",$D$8:$D$86,\"=U16\")","v":0},null,null,{"$f":"COUNTIFS(BC$8:BC$86,\"=3\",$D$8:$D$86,\"=U14\")+COUNTIFS(BC$8:BC$86,\"=3\",$D$8:$D$86,\"=U16\")","v":0},null,null,{"$f":"COUNTIFS(BF$8:BF$86,\"=3\",$D$8:$D$86,\"=U14\")+COUNTIFS(BF$8:BF$86,\"=3\",$D$8:$D$86,\"=U16\")","v":0},null,null,{"$f":"COUNTIFS(BI$8:BI$86,\"=3\",$D$8:$D$86,\"=U14\")+COUNTIFS(BI$8:BI$86,\"=3\",$D$8:$D$86,\"=U16\")","v":0},null,null,{"$f":"COUNTIFS(BL$8:BL$86,\"=3\",$D$8:$D$86,\"=U14\")+COUNTIFS(BL$8:BL$86,\"=3\",$D$8:$D$86,\"=U16\")","v":0},null,null,{"$f":"COUNTIFS(BO$8:BO$86,\"=3\",$D$8:$D$86,\"=U14\")+COUNTIFS(BO$8:BO$86,\"=3\",$D$8:$D$86,\"=U16\")","v":0},null,null,{"$f":"COUNTIFS(BR$8:BR$86,\"=3\",$D$8:$D$86,\"=U14\")+COUNTIFS(BR$8:BR$86,\"=3\",$D$8:$D$86,\"=U16\")","v":1},null,null,{"$f":"COUNTIFS(BU$8:BU$86,\"=3\",$D$8:$D$86,\"=U14\")+COUNTIFS(BU$8:BU$86,\"=3\",$D$8:$D$86,\"=U16\")","v":0},null,null,{"$f":"COUNTIFS(BX$8:BX$86,\"=3\",$D$8:$D$86,\"=U14\")+COUNTIFS(BX$8:BX$86,\"=3\",$D$8:$D$86,\"=U16\")","v":0},null,null,{"$f":"COUNTIFS(CA$8:CA$86,\"=3\",$D$8:$D$86,\"=U14\")+COUNTIFS(CA$8:CA$86,\"=3\",$D$8:$D$86,\"=U16\")","v":1},null,null,{"$f":"COUNTIFS(CD$8:CD$86,\"=3\",$D$8:$D$86,\"=U14\")+COUNTIFS(CD$8:CD$86,\"=3\",$D$8:$D$86,\"=U16\")","v":0},null,null,{"$f":"COUNTIFS(CG$8:CG$86,\"=3\",$D$8:$D$86,\"=U14\")+COUNTIFS(CG$8:CG$86,\"=3\",$D$8:$D$86,\"=U16\")","v":0},null,null,null,{"$f":"COUNTIFS(CK$8:CK$86,\"=3\",$D$8:$D$86,\"=U14\")+COUNTIFS(CK$8:CK$86,\"=3\",$D$8:$D$86,\"=U16\")","v":1},null,null,{"$f":"COUNTIFS(CN$8:CN$86,\"=3\",$D$8:$D$86,\"=U14\")+COUNTIFS(CN$8:CN$86,\"=3\",$D$8:$D$86,\"=U16\")","v":0},null,null,{"$f":"COUNTIFS(CQ$8:CQ$86,\"=3\",$D$8:$D$86,\"=U14\")+COUNTIFS(CQ$8:CQ$86,\"=3\",$D$8:$D$86,\"=U16\")","v":1},null,null,{"$f":"COUNTIFS(CT$8:CT$86,\"=3\",$D$8:$D$86,\"=U14\")+COUNTIFS(CT$8:CT$86,\"=3\",$D$8:$D$86,\"=U16\")","v":1},null,null,{"$f":"COUNTIFS(CW$8:CW$86,\"=3\",$D$8:$D$86,\"=U14\")+COUNTIFS(CW$8:CW$86,\"=3\",$D$8:$D$86,\"=U16\")","v":0},null,null,{"$f":"COUNTIFS(CZ$8:CZ$86,\"=3\",$D$8:$D$86,\"=U14\")+COUNTIFS(CZ$8:CZ$86,\"=3\",$D$8:$D$86,\"=U16\")","v":0},null,null,{"$f":"COUNTIFS(DC$8:DC$86,\"=3\",$D$8:$D$86,\"=U14\")+COUNTIFS(DC$8:DC$86,\"=3\",$D$8:$D$86,\"=U16\")","v":1},null,null,{"$f":"COUNTIFS(DF$8:DF$86,\"=3\",$D$8:$D$86,\"=U14\")+COUNTIFS(DF$8:DF$86,\"=3\",$D$8:$D$86,\"=U16\")","v":0},null,null,{"$f":"COUNTIFS(DI$8:DI$86,\"=3\",$D$8:$D$86,\"=U14\")+COUNTIFS(DI$8:DI$86,\"=3\",$D$8:$D$86,\"=U16\")","v":0},null,null,{"$f":"COUNTIFS(DL$8:DL$86,\"=3\",$D$8:$D$86,\"=U14\")+COUNTIFS(DL$8:DL$86,\"=3\",$D$8:$D$86,\"=U16\")","v":0},null,null,{"$f":"COUNTIFS(DO$8:DO$86,\"=3\",$D$8:$D$86,\"=U14\")+COUNTIFS(DO$8:DO$86,\"=3\",$D$8:$D$86,\"=U16\")","v":0},null,null,{"$f":"COUNTIFS(DR$8:DR$86,\"=3\",$D$8:$D$86,\"=U14\")+COUNTIFS(DR$8:DR$86,\"=3\",$D$8:$D$86,\"=U16\")","v":0},null,null,{"$f":"COUNTIFS(DU$8:DU$86,\"=3\",$D$8:$D$86,\"=U14\")+COUNTIFS(DU$8:DU$86,\"=3\",$D$8:$D$86,\"=U16\")","v":0},null,null,{"$f":"COUNTIFS(DX$8:DX$86,\"=3\",$D$8:$D$86,\"=U14\")+COUNTIFS(DX$8:DX$86,\"=3\",$D$8:$D$86,\"=U16\")","v":0},null,null,{"$f":"COUNTIFS(EA$8:EA$86,\"=3\",$D$8:$D$86,\"=U14\")+COUNTIFS(EA$8:EA$86,\"=3\",$D$8:$D$86,\"=U16\")","v":0},null,null,{"$f":"COUNTIFS(ED$8:ED$86,\"=3\",$D$8:$D$86,\"=U14\")+COUNTIFS(ED$8:ED$86,\"=3\",$D$8:$D$86,\"=U16\")","v":0},null,{"$f":"COUNTIFS(EF$8:EF$86,\"=3\",$D$8:$D$86,\"=U14\")+COUNTIFS(EF$8:EF$86,\"=3\",$D$8:$D$86,\"=U16\")","v":0},null,null,{"$f":"COUNTIFS(EI$8:EI$86,\"=3\",$D$8:$D$86,\"=U14\")+COUNTIFS(EI$8:EI$86,\"=3\",$D$8:$D$86,\"=U16\")","v":0},null,null,{"$f":"COUNTIFS(EL$8:EL$86,\"=3\",$D$8:$D$86,\"=U14\")+COUNTIFS(EL$8:EL$86,\"=3\",$D$8:$D$86,\"=U16\")","v":0},null,null,{"$f":"COUNTIFS(EO$8:EO$86,\"=3\",$D$8:$D$86,\"=U14\")+COUNTIFS(EO$8:EO$86,\"=3\",$D$8:$D$86,\"=U16\")","v":0},null,null,{"$f":"COUNTIFS(ER$8:ER$86,\"=3\",$D$8:$D$86,\"=U14\")+COUNTIFS(ER$8:ER$86,\"=3\",$D$8:$D$86,\"=U16\")","v":0},null,null,{"$f":"COUNTIFS(EU$8:EU$86,\"=3\",$D$8:$D$86,\"=U14\")+COUNTIFS(EU$8:EU$86,\"=3\",$D$8:$D$86,\"=U16\")","v":0},null,null,{"$f":"COUNTIFS(EX$8:EX$86,\"=3\",$D$8:$D$86,\"=U14\")+COUNTIFS(EX$8:EX$86,\"=3\",$D$8:$D$86,\"=U16\")","v":0},null,null,{"$f":"COUNTIFS(FA$8:FA$86,\"=3\",$D$8:$D$86,\"=U14\")+COUNTIFS(FA$8:FA$86,\"=3\",$D$8:$D$86,\"=U16\")","v":0},null,null,{"$f":"COUNTIFS(FD$8:FD$86,\"=3\",$D$8:$D$86,\"=U14\")+COUNTIFS(FD$8:FD$86,\"=3\",$D$8:$D$86,\"=U16\")","v":0},null,null,{"$f":"COUNTIFS(FG$8:FG$86,\"=3\",$D$8:$D$86,\"=U14\")+COUNTIFS(FG$8:FG$86,\"=3\",$D$8:$D$86,\"=U16\")","v":0}]
[null,null,null,null,"JN Age 1st",null,null,null,null,null,null,null,null,null,null,null,null,null,null,null,null,null,null,null,5,null,{"$f":"COUNTIFS(AA$8:AA$86,\"=1\",$D$8:$D$86,\"=U18\")+COUNTIFS(AA$8:AA$86,\"=1\",$D$8:$D$86,\"=U21\")","v":1},null,null,null,null,{"$f":"COUNTIFS(AF$8:AF$86,\"=1\",$D$8:$D$86,\"=U18\")+COUNTIFS(AF$8:AF$86,\"=1\",$D$8:$D$86,\"=U21\")","v":1},null,null,{"$f":"COUNTIFS(AI$8:AI$86,\"=1\",$D$8:$D$86,\"=U18\")+COUNTIFS(AI$8:AI$86,\"=1\",$D$8:$D$86,\"=U21\")","v":0},null,null,null,{"$f":"COUNTIFS(AM$8:AM$86,\"=1\",$D$8:$D$86,\"=U18\")+COUNTIFS(AM$8:AM$86,\"=1\",$D$8:$D$86,\"=U21\")","v":0},null,null,null,{"$f":"COUNTIFS(AQ$8:AQ$86,\"=1\",$D$8:$D$86,\"=U18\")+COUNTIFS(AQ$8:AQ$86,\"=1\",$D$8:$D$86,\"=U21\")","v":1},null,null,{"$f":"COUNTIFS(AT$8:AT$86,\"=1\",$D$8:$D$86,\"=U18\")+COUNTIFS(AT$8:AT$86,\"=1\",$D$8:$D$86,\"=U21\")","v":0},null,null,{"$f":"COUNTIFS(AW$8:AW$86,\"=1\",$D$8:$D$86,\"=U18\")+COUNTIFS(AW$8:AW$86,\"=1\",$D$8:$D$86,\"=U21\")","v":0},null,null,{"$f":"COUNTIFS(AZ$8:AZ$86,\"=1\",$D$8:$D$86,\"=U18\")+COUNTIFS(AZ$8:AZ$86,\"=1\",$D$8:$D$86,\"=U21\")","v":0},null,null,{"$f":"COUNTIFS(BC$8:BC$86,\"=1\",$D$8:$D$86,\"=U18\")+COUNTIFS(BC$8:BC$86,\"=1\",$D$8:$D$86,\"=U21\")","v":0},null,null,{"$f":"COUNTIFS(BF$8:BF$86,\"=1\",$D$8:$D$86,\"=U18\")+COUNTIFS(BF$8:BF$86,\"=1\",$D$8:$D$86,\"=U21\")","v":0},null,null,{"$f":"COUNTIFS(BI$8:BI$86,\"=1\",$D$8:$D$86,\"=U18\")+COUNTIFS(BI$8:BI$86,\"=1\",$D$8:$D$86,\"=U21\")","v":0},null,null,{"$f":"COUNTIFS(BL$8:BL$86,\"=1\",$D$8:$D$86,\"=U18\")+COUNTIFS(BL$8:BL$86,\"=1\",$D$8:$D$86,\"=U21\")","v":0},null,null,{"$f":"COUNTIFS(BO$8:BO$86,\"=1\",$D$8:$D$86,\"=U18\")+COUNTIFS(BO$8:BO$86,\"=1\",$D$8:$D$86,\"=U21\")","v":0},null,null,{"$f":"COUNTIFS(BR$8:BR$86,\"=1\",$D$8:$D$86,\"=U18\")+COUNTIFS(BR$8:BR$86,\"=1\",$D$8:$D$86,\"=U21\")","v":1},null,null,{"$f":"COUNTIFS(BU$8:BU$86,\"=1\",$D$8:$D$86,\"=U18\")+COUNTIFS(BU$8:BU$86,\"=1\",$D$8:$D$86,\"=U21\")","v":0},null,null,{"$f":"COUNTIFS(BX$8:BX$86,\"=1\",$D$8:$D$86,\"=U18\")+COUNTIFS(BX$8:BX$86,\"=1\",$D$8:$D$86,\"=U21\")","v":0},null,null,{"$f":"COUNTIFS(CA$8:CA$86,\"=1\",$D$8:$D$86,\"=U18\")+COUNTIFS(CA$8:CA$86,\"=1\",$D$8:$D$86,\"=U21\")","v":0},null,null,{"$f":"COUNTIFS(CD$8:CD$86,\"=1\",$D$8:$D$86,\"=U18\")+COUNTIFS(CD$8:CD$86,\"=1\",$D$8:$D$86,\"=U21\")","v":0},null,null,{"$f":"COUNTIFS(CG$8:CG$86,\"=1\",$D$8:$D$86,\"=U18\")+COUNTIFS(CG$8:CG$86,\"=1\",$D$8:$D$86,\"=U21\")","v":0},null,null,null,{"$f":"COUNTIFS(CK$8:CK$86,\"=1\",$D$8:$D$86,\"=U18\")+COUNTIFS(CK$8:CK$86,\"=1\",$D$8:$D$86,\"=U21\")","v":0},null,null,{"$f":"COUNTIFS(CN$8:CN$86,\"=1\",$D$8:$D$86,\"=U18\")+COUNTIFS(CN$8:CN$86,\"=1\",$D$8:$D$86,\"=U21\")","v":0},null,null,{"$f":"COUNTIFS(CQ$8:CQ$86,\"=1\",$D$8:$D$86,\"=U18\")+COUNTIFS(CQ$8:CQ$86,\"=1\",$D$8:$D$86,\"=U21\")","v":0},null,null,{"$f":"COUNTIFS(CT$8:CT$86,\"=1\",$D$8:$D$86,\"=U18\")+COUNTIFS(CT$8:CT$86,\"=1\",$D$8:$D$86,\"=U21\")","v":0},null,null,{"$f":"COUNTIFS(CW$8:CW$86,\"=1\",$D$8:$D$86,\"=U18\")+COUNTIFS(CW$8:CW$86,\"=1\",$D$8:$D$86,\"=U21\")","v":0},null,null,{"$f":"COUNTIFS(CZ$8:CZ$86,\"=1\",$D$8:$D$86,\"=U18\")+COUNTIFS(CZ$8:CZ$86,\"=1\",$D$8:$D$86,\"=U21\")","v":0},null,null,{"$f":"COUNTIFS(DC$8:DC$86,\"=1\",$D$8:$D$86,\"=U18\")+COUNTIFS(DC$8:DC$86,\"=1\",$D$8:$D$86,\"=U21\")","v":0},null,null,{"$f":"COUNTIFS(DF$8:DF$86,\"=1\",$D$8:$D$86,\"=U18\")+COUNTIFS(DF$8:DF$86,\"=1\",$D$8:$D$86,\"=U21\")","v":0},null,null,{"$f":"COUNTIFS(DI$8:DI$86,\"=1\",$D$8:$D$86,\"=U18\")+COUNTIFS(DI$8:DI$86,\"=1\",$D$8:$D$86,\"=U21\")","v":0},null,null,{"$f":"COUNTIFS(DL$8:DL$86,\"=1\",$D$8:$D$86,\"=U18\")+COUNTIFS(DL$8:DL$86,\"=1\",$D$8:$D$86,\"=U21\")","v":0},null,null,{"$f":"COUNTIFS(DO$8:DO$86,\"=1\",$D$8:$D$86,\"=U18\")+COUNTIFS(DO$8:DO$86,\"=1\",$D$8:$D$86,\"=U21\")","v":0},null,null,{"$f":"COUNTIFS(DR$8:DR$86,\"=1\",$D$8:$D$86,\"=U18\")+COUNTIFS(DR$8:DR$86,\"=1\",$D$8:$D$86,\"=U21\")","v":0},null,null,{"$f":"COUNTIFS(DU$8:DU$86,\"=1\",$D$8:$D$86,\"=U18\")+COUNTIFS(DU$8:DU$86,\"=1\",$D$8:$D$86,\"=U21\")","v":0},null,null,{"$f":"COUNTIFS(DX$8:DX$86,\"=1\",$D$8:$D$86,\"=U18\")+COUNTIFS(DX$8:DX$86,\"=1\",$D$8:$D$86,\"=U21\")","v":0},null,null,{"$f":"COUNTIFS(EA$8:EA$86,\"=1\",$D$8:$D$86,\"=U18\")+COUNTIFS(EA$8:EA$86,\"=1\",$D$8:$D$86,\"=U21\")","v":0},null,null,{"$f":"COUNTIFS(ED$8:ED$86,\"=1\",$D$8:$D$86,\"=U18\")+COUNTIFS(ED$8:ED$86,\"=1\",$D$8:$D$86,\"=U21\")","v":0},null,{"$f":"COUNTIFS(EF$8:EF$86,\"=1\",$D$8:$D$86,\"=U18\")+COUNTIFS(EF$8:EF$86,\"=1\",$D$8:$D$86,\"=U21\")","v":0},null,null,{"$f":"COUNTIFS(EI$8:EI$86,\"=1\",$D$8:$D$86,\"=U18\")+COUNTIFS(EI$8:EI$86,\"=1\",$D$8:$D$86,\"=U21\")","v":0},null,null,{"$f":"COUNTIFS(EL$8:EL$86,\"=1\",$D$8:$D$86,\"=U18\")+COUNTIFS(EL$8:EL$86,\"=1\",$D$8:$D$86,\"=U21\")","v":0},null,null,{"$f":"COUNTIFS(EO$8:EO$86,\"=1\",$D$8:$D$86,\"=U18\")+COUNTIFS(EO$8:EO$86,\"=1\",$D$8:$D$86,\"=U21\")","v":0},null,null,{"$f":"COUNTIFS(ER$8:ER$86,\"=1\",$D$8:$D$86,\"=U18\")+COUNTIFS(ER$8:ER$86,\"=1\",$D$8:$D$86,\"=U21\")","v":0},null,null,{"$f":"COUNTIFS(EU$8:EU$86,\"=1\",$D$8:$D$86,\"=U18\")+COUNTIFS(EU$8:EU$86,\"=1\",$D$8:$D$86,\"=U21\")","v":0},null,null,{"$f":"COUNTIFS(EX$8:EX$86,\"=1\",$D$8:$D$86,\"=U18\")+COUNTIFS(EX$8:EX$86,\"=1\",$D$8:$D$86,\"=U21\")","v":1},null,null,{"$f":"COUNTIFS(FA$8:FA$86,\"=1\",$D$8:$D$86,\"=U18\")+COUNTIFS(FA$8:FA$86,\"=1\",$D$8:$D$86,\"=U21\")","v":0},null,null,{"$f":"COUNTIFS(FD$8:FD$86,\"=1\",$D$8:$D$86,\"=U18\")+COUNTIFS(FD$8:FD$86,\"=1\",$D$8:$D$86,\"=U21\")","v":0},null,null,{"$f":"COUNTIFS(FG$8:FG$86,\"=1\",$D$8:$D$86,\"=U18\")+COUNTIFS(FG$8:FG$86,\"=1\",$D$8:$D$86,\"=U21\")","v":0}]
[null,null,null,null,"JN Age 2nd",null,null,null,null,null,null,null,null,null,null,null,null,null,null,null,null,null,null,null,8,null,{"$f":"COUNTIFS(AA$8:AA$86,\"=2\",$D$8:$D$86,\"=U18\")+COUNTIFS(AA$8:AA$86,\"=2\",$D$8:$D$86,\"=U21\")","v":1},null,null,null,null,{"$f":"COUNTIFS(AF$8:AF$86,\"=2\",$D$8:$D$86,\"=U18\")+COUNTIFS(AF$8:AF$86,\"=2\",$D$8:$D$86,\"=U21\")","v":0},null,null,{"$f":"COUNTIFS(AI$8:AI$86,\"=2\",$D$8:$D$86,\"=U18\")+COUNTIFS(AI$8:AI$86,\"=2\",$D$8:$D$86,\"=U21\")","v":0},null,null,null,{"$f":"COUNTIFS(AM$8:AM$86,\"=2\",$D$8:$D$86,\"=U18\")+COUNTIFS(AM$8:AM$86,\"=2\",$D$8:$D$86,\"=U21\")","v":0},null,null,null,{"$f":"COUNTIFS(AQ$8:AQ$86,\"=2\",$D$8:$D$86,\"=U18\")+COUNTIFS(AQ$8:AQ$86,\"=2\",$D$8:$D$86,\"=U21\")","v":0},null,null,{"$f":"COUNTIFS(AT$8:AT$86,\"=2\",$D$8:$D$86,\"=U18\")+COUNTIFS(AT$8:AT$86,\"=2\",$D$8:$D$86,\"=U21\")","v":1},null,null,{"$f":"COUNTIFS(AW$8:AW$86,\"=2\",$D$8:$D$86,\"=U18\")+COUNTIFS(AW$8:AW$86,\"=2\",$D$8:$D$86,\"=U21\")","v":0},null,null,{"$f":"COUNTIFS(AZ$8:AZ$86,\"=2\",$D$8:$D$86,\"=U18\")+COUNTIFS(AZ$8:AZ$86,\"=2\",$D$8:$D$86,\"=U21\")","v":1},null,null,{"$f":"COUNTIFS(BC$8:BC$86,\"=2\",$D$8:$D$86,\"=U18\")+COUNTIFS(BC$8:BC$86,\"=2\",$D$8:$D$86,\"=U21\")","v":1},null,null,{"$f":"COUNTIFS(BF$8:BF$86,\"=2\",$D$8:$D$86,\"=U18\")+COUNTIFS(BF$8:BF$86,\"=2\",$D$8:$D$86,\"=U21\")","v":0},null,null,{"$f":"COUNTIFS(BI$8:BI$86,\"=2\",$D$8:$D$86,\"=U18\")+COUNTIFS(BI$8:BI$86,\"=2\",$D$8:$D$86,\"=U21\")","v":0},null,null,{"$f":"COUNTIFS(BL$8:BL$86,\"=2\",$D$8:$D$86,\"=U18\")+COUNTIFS(BL$8:BL$86,\"=2\",$D$8:$D$86,\"=U21\")","v":0},null,null,{"$f":"COUNTIFS(BO$8:BO$86,\"=2\",$D$8:$D$86,\"=U18\")+COUNTIFS(BO$8:BO$86,\"=2\",$D$8:$D$86,\"=U21\")","v":0},null,null,{"$f":"COUNTIFS(BR$8:BR$86,\"=2\",$D$8:$D$86,\"=U18\")+COUNTIFS(BR$8:BR$86,\"=2\",$D$8:$D$86,\"=U21\")","v":0},null,null,{"$f":"COUNTIFS(BU$8:BU$86,\"=2\",$D$8:$D$86,\"=U18\")+COUNTIFS(BU$8:BU$86,\"=2\",$D$8:$D$86,\"=U21\")","v":0},null,null,{"$f":"COUNTIFS(BX$8:BX$86,\"=2\",$D$8:$D$86,\"=U18\")+COUNTIFS(BX$8:BX$86,\"=2\",$D$8:$D$86,\"=U21\")","v":0},null,null,{"$f":"COUNTIFS(CA$8:CA$86,\"=2\",$D$8:$D$86,\"=U18\")+COUNTIFS(CA$8:CA$86,\"=2\",$D$8:$D$86,\"=U21\")","v":0},null,null,{"$f":"COUNTIFS(CD$8:CD$86,\"=2\",$D$8:$D$86,\"=U18\")+COUNTIFS(CD$8:CD$86,\"=2\",$D$8:$D$86,\"=U21\")","v":0},null,null,{"$f":"COUNTIFS(CG$8:CG$86,\"=2\",$D$8:$D$86,\"=U18\")+COUNTIFS(CG$8:CG$86,\"=2\",$D$8:$D$86,\"=U21\")","v":0},null,null,null,{"$f":"COUNTIFS(CK$8:CK$86,\"=2\",$D$8:$D$86,\"=U18\")+COUNTIFS(CK$8:CK$86,\"=2\",$D$8:$D$86,\"=U21\")","v":0},null,null,{"$f":"COUNTIFS(CN$8:CN$86,\"=2\",$D$8:$D$86,\"=U18\")+COUNTIFS(CN$8:CN$86,\"=2\",$D$8:$D$86,\"=U21\")","v":0},null,null,{"$f":"COUNTIFS(CQ$8:CQ$86,\"=2\",$D$8:$D$86,\"=U18\")+COUNTIFS(CQ$8:CQ$86,\"=2\",$D$8:$D$86,\"=U21\")","v":0},null,null,{"$f":"COUNTIFS(CT$8:CT$86,\"=2\",$D$8:$D$86,\"=U18\")+COUNTIFS(CT$8:CT$86,\"=2\",$D$8:$D$86,\"=U21\")","v":0},null,null,{"$f":"COUNTIFS(CW$8:CW$86,\"=2\",$D$8:$D$86,\"=U18\")+COUNTIFS(CW$8:CW$86,\"=2\",$D$8:$D$86,\"=U21\")","v":2},null,null,{"$f":"COUNTIFS(CZ$8:CZ$86,\"=2\",$D$8:$D$86,\"=U18\")+COUNTIFS(CZ$8:CZ$86,\"=2\",$D$8:$D$86,\"=U21\")","v":0},null,null,{"$f":"COUNTIFS(DC$8:DC$86,\"=2\",$D$8:$D$86,\"=U18\")+COUNTIFS(DC$8:DC$86,\"=2\",$D$8:$D$86,\"=U21\")","v":0},null,null,{"$f":"COUNTIFS(DF$8:DF$86,\"=2\",$D$8:$D$86,\"=U18\")+COUNTIFS(DF$8:DF$86,\"=2\",$D$8:$D$86,\"=U21\")","v":0},null,null,{"$f":"COUNTIFS(DI$8:DI$86,\"=2\",$D$8:$D$86,\"=U18\")+COUNTIFS(DI$8:DI$86,\"=2\",$D$8:$D$86,\"=U21\")","v":0},null,null,{"$f":"COUNTIFS(DL$8:DL$86,\"=2\",$D$8:$D$86,\"=U18\")+COUNTIFS(DL$8:DL$86,\"=2\",$D$8:$D$86,\"=U21\")","v":0},null,null,{"$f":"COUNTIFS(DO$8:DO$86,\"=2\",$D$8:$D$86,\"=U18\")+COUNTIFS(DO$8:DO$86,\"=2\",$D$8:$D$86,\"=U21\")","v":0},null,null,{"$f":"COUNTIFS(DR$8:DR$86,\"=2\",$D$8:$D$86,\"=U18\")+COUNTIFS(DR$8:DR$86,\"=2\",$D$8:$D$86,\"=U21\")","v":1},null,null,{"$f":"COUNTIFS(DU$8:DU$86,\"=2\",$D$8:$D$86,\"=U18\")+COUNTIFS(DU$8:DU$86,\"=2\",$D$8:$D$86,\"=U21\")","v":0},null,null,{"$f":"COUNTIFS(DX$8:DX$86,\"=2\",$D$8:$D$86,\"=U18\")+COUNTIFS(DX$8:DX$86,\"=2\",$D$8:$D$86,\"=U21\")","v":0},null,null,{"$f":"COUNTIFS(EA$8:EA$86,\"=2\",$D$8:$D$86,\"=U18\")+COUNTIFS(EA$8:EA$86,\"=2\",$D$8:$D$86,\"=U21\")","v":1},null,null,{"$f":"COUNTIFS(ED$8:ED$86,\"=2\",$D$8:$D$86,\"=U18\")+COUNTIFS(ED$8:ED$86,\"=2\",$D$8:$D$86,\"=U21\")","v":0},null,{"$f":"COUNTIFS(EF$8:EF$86,\"=2\",$D$8:$D$86,\"=U18\")+COUNTIFS(EF$8:EF$86,\"=2\",$D$8:$D$86,\"=U21\")","v":0},null,null,{"$f":"COUNTIFS(EI$8:EI$86,\"=2\",$D$8:$D$86,\"=U18\")+COUNTIFS(EI$8:EI$86,\"=2\",$D$8:$D$86,\"=U21\")","v":0},null,null,{"$f":"COUNTIFS(EL$8:EL$86,\"=2\",$D$8:$D$86,\"=U18\")+COUNTIFS(EL$8:EL$86,\"=2\",$D$8:$D$86,\"=U21\")","v":0},null,null,{"$f":"COUNTIFS(EO$8:EO$86,\"=2\",$D$8:$D$86,\"=U18\")+COUNTIFS(EO$8:EO$86,\"=2\",$D$8:$D$86,\"=U21\")","v":0},null,null,{"$f":"COUNTIFS(ER$8:ER$86,\"=2\",$D$8:$D$86,\"=U18\")+COUNTIFS(ER$8:ER$86,\"=2\",$D$8:$D$86,\"=U21\")","v":0},null,null,{"$f":"COUNTIFS(EU$8:EU$86,\"=2\",$D$8:$D$86,\"=U18\")+COUNTIFS(EU$8:EU$86,\"=2\",$D$8:$D$86,\"=U21\")","v":0},null,null,{"$f":"COUNTIFS(EX$8:EX$86,\"=2\",$D$8:$D$86,\"=U18\")+COUNTIFS(EX$8:EX$86,\"=2\",$D$8:$D$86,\"=U21\")","v":0},null,null,{"$f":"COUNTIFS(FA$8:FA$86,\"=2\",$D$8:$D$86,\"=U18\")+COUNTIFS(FA$8:FA$86,\"=2\",$D$8:$D$86,\"=U21\")","v":0},null,null,{"$f":"COUNTIFS(FD$8:FD$86,\"=2\",$D$8:$D$86,\"=U18\")+COUNTIFS(FD$8:FD$86,\"=2\",$D$8:$D$86,\"=U21\")","v":0},null,null,{"$f":"COUNTIFS(FG$8:FG$86,\"=2\",$D$8:$D$86,\"=U18\")+COUNTIFS(FG$8:FG$86,\"=2\",$D$8:$D$86,\"=U21\")","v":0}]
[null,null,null,null,"JN Age 3rd",null,null,null,null,null,null,null,null,null,null,null,null,null,null,null,null,null,null,null,9,null,{"$f":"COUNTIFS(AA$8:AA$86,\"=3\",$D$8:$D$86,\"=U18\")+COUNTIFS(AA$8:AA$86,\"=3\",$D$8:$D$86,\"=U21\")","v":0},null,null,null,null,{"$f":"COUNTIFS(AF$8:AF$86,\"=3\",$D$8:$D$86,\"=U18\")+COUNTIFS(AF$8:AF$86,\"=3\",$D$8:$D$86,\"=U21\")","v":0},null,null,{"$f":"COUNTIFS(AI$8:AI$86,\"=3\",$D$8:$D$86,\"=U18\")+COUNTIFS(AI$8:AI$86,\"=3\",$D$8:$D$86,\"=U21\")","v":0},null,null,null,{"$f":"COUNTIFS(AM$8:AM$86,\"=3\",$D$8:$D$86,\"=U18\")+COUNTIFS(AM$8:AM$86,\"=3\",$D$8:$D$86,\"=U21\")","v":1},null,null,null,{"$f":"COUNTIFS(AQ$8:AQ$86,\"=3\",$D$8:$D$86,\"=U18\")+COUNTIFS(AQ$8:AQ$86,\"=3\",$D$8:$D$86,\"=U21\")","v":0},null,null,{"$f":"COUNTIFS(AT$8:AT$86,\"=3\",$D$8:$D$86,\"=U18\")+COUNTIFS(AT$8:AT$86,\"=3\",$D$8:$D$86,\"=U21\")","v":0},null,null,{"$f":"COUNTIFS(AW$8:AW$86,\"=3\",$D$8:$D$86,\"=U18\")+COUNTIFS(AW$8:AW$86,\"=3\",$D$8:$D$86,\"=U21\")","v":0},null,null,{"$f":"COUNTIFS(AZ$8:AZ$86,\"=3\",$D$8:$D$86,\"=U18\")+COUNTIFS(AZ$8:AZ$86,\"=3\",$D$8:$D$86,\"=U21\")","v":0},null,null,{"$f":"COUNTIFS(BC$8:BC$86,\"=3\",$D$8:$D$86,\"=U18\")+COUNTIFS(BC$8:BC$86,\"=3\",$D$8:$D$86,\"=U21\")","v":0},null,null,{"$f":"COUNTIFS(BF$8:BF$86,\"=3\",$D$8:$D$86,\"=U18\")+COUNTIFS(BF$8:BF$86,\"=3\",$D$8:$D$86,\"=U21\")","v":0},null,null,{"$f":"COUNTIFS(BI$8:BI$86,\"=3\",$D$8:$D$86,\"=U18\")+COUNTIFS(BI$8:BI$86,\"=3\",$D$8:$D$86,\"=U21\")","v":0},null,null,{"$f":"COUNTIFS(BL$8:BL$86,\"=3\",$D$8:$D$86,\"=U18\")+COUNTIFS(BL$8:BL$86,\"=3\",$D$8:$D$86,\"=U21\")","v":0},null,null,{"$f":"COUNTIFS(BO$8:BO$86,\"=3\",$D$8:$D$86,\"=U18\")+COUNTIFS(BO$8:BO$86,\"=3\",$D$8:$D$86,\"=U21\")","v":0},null,null,{"$f":"COUNTIFS(BR$8:BR$86,\"=3\",$D$8:$D$86,\"=U18\")+COUNTIFS(BR$8:BR$86,\"=3\",$D$8:$D$86,\"=U21\")","v":0},null,null,{"$f":"COUNTIFS(BU$8:BU$86,\"=3\",$D$8:$D$86,\"=U18\")+COUNTIFS(BU$8:BU$86,\"=3\",$D$8:$D$86,\"=U21\")","v":0},null,null,{"$f":"COUNTIFS(BX$8:BX$86,\"=3\",$D$8:$D$86,\"=U18\")+COUNTIFS(BX$8:BX$86,\"=3\",$D$8:$D$86,\"=U21\")","v":0},null,null,{"$f":"COUNTIFS(CA$8:CA$86,\"=3\",$D$8:$D$86,\"=U18\")+COUNTIFS(CA$8:CA$86,\"=3\",$D$8:$D$86,\"=U21\")","v":1},null,null,{"$f":"COUNTIFS(CD$8:CD$86,\"=3\",$D$8:$D$86,\"=U18\")+COUNTIFS(CD$8:CD$86,\"=3\",$D$8:$D$86,\"=U21\")","v":0},null,null,{"$f":"COUNTIFS(CG$8:CG$86,\"=3\",$D$8:$D$86,\"=U18\")+COUNTIFS(CG$8:CG$86,\"=3\",$D$8:$D$86,\"=U21\")","v":0},null,null,null,{"$f":"COUNTIFS(CK$8:CK$86,\"=3\",$D$8:$D$86,\"=U18\")+COUNTIFS(CK$8:CK$86,\"=3\",$D$8:$D$86,\"=U21\")","v":0},null,null,{"$f":"COUNTIFS(CN$8:CN$86,\"=3\",$D$8:$D$86,\"=U18\")+COUNTIFS(CN$8:CN$86,\"=3\",$D$8:$D$86,\"=U21\")","v":0},null,null,{"$f":"COUNTIFS(CQ$8:CQ$86,\"=3\",$D$8:$D$86,\"=U18\")+COUNTIFS(CQ$8:CQ$86,\"=3\",$D$8:$D$86,\"=U21\")","v":0},null,null,{"$f":"COUNTIFS(CT$8:CT$86,\"=3\",$D$8:$D$86,\"=U18\")+COUNTIFS(CT$8:CT$86,\"=3\",$D$8:$D$86,\"=U21\")","v":1},null,null,{"$f":"COUNTIFS(CW$8:CW$86,\"=3\",$D$8:$D$86,\"=U18\")+COUNTIFS(CW$8:CW$86,\"=3\",$D$8:$D$86,\"=U21\")","v":1},null,null,{"$f":"COUNTIFS(CZ$8:CZ$86,\"=3\",$D$8:$D$86,\"=U18\")+COUNTIFS(CZ$8:CZ$86,\"=3\",$D$8:$D$86,\"=U21\")","v":0},null,null,{"$f":"COUNTIFS(DC$8:DC$86,\"=3\",$D$8:$D$86,\"=U18\")+COUNTIFS(DC$8:DC$86,\"=3\",$D$8:$D$86,\"=U21\")","v":1},null,null,{"$f":"COUNTIFS(DF$8:DF$86,\"=3\",$D$8:$D$86,\"=U18\")+COUNTIFS(DF$8:DF$86,\"=3\",$D$8:$D$86,\"=U21\")","v":0},null,null,{"$f":"COUNTIFS(DI$8:DI$86,\"=3\",$D$8:$D$86,\"=U18\")+COUNTIFS(DI$8:DI$86,\"=3\",$D$8:$D$86,\"=U21\")","v":0},null,null,{"$f":"COUNTIFS(DL$8:DL$86,\"=3\",$D$8:$D$86,\"=U18\")+COUNTIFS(DL$8:DL$86,\"=3\",$D$8:$D$86,\"=U21\")","v":0},null,null,{"$f":"COUNTIFS(DO$8:DO$86,\"=3\",$D$8:$D$86,\"=U18\")+COUNTIFS(DO$8:DO$86,\"=3\",$D$8:$D$86,\"=U21\")","v":0},null,null,{"$f":"COUNTIFS(DR$8:DR$86,\"=3\",$D$8:$D$86,\"=U18\")+COUNTIFS(DR$8:DR$86,\"=3\",$D$8:$D$86,\"=U21\")","v":2},null,null,{"$f":"COUNTIFS(DU$8:DU$86,\"=3\",$D$8:$D$86,\"=U18\")+COUNTIFS(DU$8:DU$86,\"=3\",$D$8:$D$86,\"=U21\")","v":0},null,null,{"$f":"COUNTIFS(DX$8:DX$86,\"=3\",$D$8:$D$86,\"=U18\")+COUNTIFS(DX$8:DX$86,\"=3\",$D$8:$D$86,\"=U21\")","v":0},null,null,{"$f":"COUNTIFS(EA$8:EA$86,\"=3\",$D$8:$D$86,\"=U18\")+COUNTIFS(EA$8:EA$86,\"=3\",$D$8:$D$86,\"=U21\")","v":0},null,null,{"$f":"COUNTIFS(ED$8:ED$86,\"=3\",$D$8:$D$86,\"=U18\")+COUNTIFS(ED$8:ED$86,\"=3\",$D$8:$D$86,\"=U21\")","v":0},null,{"$f":"COUNTIFS(EF$8:EF$86,\"=3\",$D$8:$D$86,\"=U18\")+COUNTIFS(EF$8:EF$86,\"=3\",$D$8:$D$86,\"=U21\")","v":0},null,null,{"$f":"COUNTIFS(EI$8:EI$86,\"=3\",$D$8:$D$86,\"=U18\")+COUNTIFS(EI$8:EI$86,\"=3\",$D$8:$D$86,\"=U21\")","v":1},null,null,{"$f":"COUNTIFS(EL$8:EL$86,\"=3\",$D$8:$D$86,\"=U18\")+COUNTIFS(EL$8:EL$86,\"=3\",$D$8:$D$86,\"=U21\")","v":1},null,null,{"$f":"COUNTIFS(EO$8:EO$86,\"=3\",$D$8:$D$86,\"=U18\")+COUNTIFS(EO$8:EO$86,\"=3\",$D$8:$D$86,\"=U21\")","v":0},null,null,{"$f":"COUNTIFS(ER$8:ER$86,\"=3\",$D$8:$D$86,\"=U18\")+COUNTIFS(ER$8:ER$86,\"=3\",$D$8:$D$86,\"=U21\")","v":0},null,null,{"$f":"COUNTIFS(EU$8:EU$86,\"=3\",$D$8:$D$86,\"=U18\")+COUNTIFS(EU$8:EU$86,\"=3\",$D$8:$D$86,\"=U21\")","v":0},null,null,{"$f":"COUNTIFS(EX$8:EX$86,\"=3\",$D$8:$D$86,\"=U18\")+COUNTIFS(EX$8:EX$86,\"=3\",$D$8:$D$86,\"=U21\")","v":0},null,null,{"$f":"COUNTIFS(FA$8:FA$86,\"=3\",$D$8:$D$86,\"=U18\")+COUNTIFS(FA$8:FA$86,\"=3\",$D$8:$D$86,\"=U21\")","v":0},null,null,{"$f":"COUNTIFS(FD$8:FD$86,\"=3\",$D$8:$D$86,\"=U18\")+COUNTIFS(FD$8:FD$86,\"=3\",$D$8:$D$86,\"=U21\")","v":0},null,null,{"$f":"COUNTIFS(FG$8:FG$86,\"=3\",$D$8:$D$86,\"=U18\")+COUNTIFS(FG$8:FG$86,\"=3\",$D$8:$D$86,\"=U21\")","v":0}]
[null,null,null,null,"SEN Age 1st",null,null,null,null,null,null,null,null,null,null,null,null,null,null,null,null,null,null,null,4,null,{"$f":"COUNTIFS(AA$8:AA$86,\"=1\",$D$8:$D$86,\"=SEN\")","v":0},null,null,null,null,{"$f":"COUNTIFS(AF$8:AF$86,\"=1\",$D$8:$D$86,\"=SEN\")","v":1},null,null,{"$f":"COUNTIFS(AI$8:AI$86,\"=1\",$D$8:$D$86,\"=SEN\")","v":0},null,null,null,{"$f":"COUNTIFS(AM$8:AM$86,\"=1\",$D$8:$D$86,\"=SEN\")","v":0},null,null,null,{"$f":"COUNTIFS(AQ$8:AQ$86,\"=1\",$D$8:$D$86,\"=SEN\")","v":0},null,null,{"$f":"COUNTIFS(AT$8:AT$86,\"=1\",$D$8:$D$86,\"=SEN\")","v":0},null,null,{"$f":"COUNTIFS(AW$8:AW$86,\"=1\",$D$8:$D$86,\"=SEN\")","v":0},null,null,{"$f":"COUNTIFS(AZ$8:AZ$86,\"=1\",$D$8:$D$86,\"=SEN\")","v":0},null,null,{"$f":"COUNTIFS(BC$8:BC$86,\"=1\",$D$8:$D$86,\"=SEN\")","v":0},null,null,{"$f":"COUNTIFS(BF$8:BF$86,\"=1\",$D$8:$D$86,\"=SEN\")","v":0},null,null,{"$f":"COUNTIFS(BI$8:BI$86,\"=1\",$D$8:$D$86,\"=SEN\")","v":0},null,null,{"$f":"COUNTIFS(BL$8:BL$86,\"=1\",$D$8:$D$86,\"=SEN\")","v":0},null,null,{"$f":"COUNTIFS(BO$8:BO$86,\"=1\",$D$8:$D$86,\"=SEN\")","v":0},null,null,{"$f":"COUNTIFS(BR$8:BR$86,\"=1\",$D$8:$D$86,\"=SEN\")","v":0},null,null,{"$f":"COUNTIFS(BU$8:BU$86,\"=1\",$D$8:$D$86,\"=SEN\")","v":0},null,null,{"$f":"COUNTIFS(BX$8:BX$86,\"=1\",$D$8:$D$86,\"=SEN\")","v":0},null,null,{"$f":"COUNTIFS(CA$8:CA$86,\"=1\",$D$8:$D$86,\"=SEN\")","v":1},null,null,{"$f":"COUNTIFS(CD$8:CD$86,\"=1\",$D$8:$D$86,\"=SEN\")","v":0},null,null,{"$f":"COUNTIFS(CG$8:CG$86,\"=1\",$D$8:$D$86,\"=SEN\")","v":0},null,null,null,{"$f":"COUNTIFS(CK$8:CK$86,\"=1\",$D$8:$D$86,\"=SEN\")","v":1},null,null,{"$f":"COUNTIFS(CN$8:CN$86,\"=1\",$D$8:$D$86,\"=SEN\")","v":0},null,null,{"$f":"COUNTIFS(CQ$8:CQ$86,\"=1\",$D$8:$D$86,\"=SEN\")","v":1},null,null,{"$f":"COUNTIFS(CT$8:CT$86,\"=1\",$D$8:$D$86,\"=SEN\")","v":0},null,null,{"$f":"COUNTIFS(CW$8:CW$86,\"=1\",$D$8:$D$86,\"=SEN\")","v":0},null,null,{"$f":"COUNTIFS(CZ$8:CZ$86,\"=1\",$D$8:$D$86,\"=SEN\")","v":0},null,null,{"$f":"COUNTIFS(DC$8:DC$86,\"=1\",$D$8:$D$86,\"=SEN\")","v":0},null,null,{"$f":"COUNTIFS(DF$8:DF$86,\"=1\",$D$8:$D$86,\"=SEN\")","v":0},null,null,{"$f":"COUNTIFS(DI$8:DI$86,\"=1\",$D$8:$D$86,\"=SEN\")","v":0},null,null,{"$f":"COUNTIFS(DL$8:DL$86,\"=1\",$D$8:$D$86,\"=SEN\")","v":0},null,null,{"$f":"COUNTIFS(DO$8:DO$86,\"=1\",$D$8:$D$86,\"=SEN\")","v":0},null,null,{"$f":"COUNTIFS(DR$8:DR$86,\"=1\",$D$8:$D$86,\"=SEN\")","v":0},null,null,{"$f":"COUNTIFS(DU$8:DU$86,\"=1\",$D$8:$D$86,\"=SEN\")","v":0},null,null,{"$f":"COUNTIFS(DX$8:DX$86,\"=1\",$D$8:$D$86,\"=SEN\")","v":0},null,null,{"$f":"COUNTIFS(EA$8:EA$86,\"=1\",$D$8:$D$86,\"=SEN\")","v":0},null,null,{"$f":"COUNTIFS(ED$8:ED$86,\"=1\",$D$8:$D$86,\"=SEN\")","v":0},null,{"$f":"COUNTIFS(EF$8:EF$86,\"=1\",$D$8:$D$86,\"=SEN\")","v":0},null,null,{"$f":"COUNTIFS(EI$8:EI$86,\"=1\",$D$8:$D$86,\"=SEN\")","v":0},null,null,{"$f":"COUNTIFS(EL$8:EL$86,\"=1\",$D$8:$D$86,\"=SEN\")","v":0},null,null,{"$f":"COUNTIFS(EO$8:EO$86,\"=1\",$D$8:$D$86,\"=SEN\")","v":0},null,null,{"$f":"COUNTIFS(ER$8:ER$86,\"=1\",$D$8:$D$86,\"=SEN\")","v":0},null,null,{"$f":"COUNTIFS(EU$8:EU$86,\"=1\",$D$8:$D$86,\"=SEN\")","v":0},null,null,{"$f":"COUNTIFS(EX$8:EX$86,\"=1\",$D$8:$D$86,\"=SEN\")","v":0},null,null,{"$f":"COUNTIFS(FA$8:FA$86,\"=1\",$D$8:$D$86,\"=SEN\")","v":0},null,null,{"$f":"COUNTIFS(FD$8:FD$86,\"=1\",$D$8:$D$86,\"=SEN\")","v":0},null,null,{"$f":"COUNTIFS(FG$8:FG$86,\"=1\",$D$8:$D$86,\"=SEN\")","v":0}]
[null,null,null,null,"SEN Age 2nd",null,null,null,null,null,null,null,null,null,null,null,null,null,null,null,null,null,null,null,2,null,{"$f":"COUNTIFS(AA$8:AA$86,\"=2\",$D$8:$D$86,\"=SEN\")","v":0},null,null,null,null,{"$f":"COUNTIFS(AF$8:AF$86,\"=2\",$D$8:$D$86,\"=SEN\")","v":0},null,null,{"$f":"COUNTIFS(AI$8:AI$86,\"=2\",$D$8:$D$86,\"=SEN\")","v":0},null,null,null,{"$f":"COUNTIFS(AM$8:AM$86,\"=2\",$D$8:$D$86,\"=SEN\")","v":0},null,null,null,{"$f":"COUNTIFS(AQ$8:AQ$86,\"=2\",$D$8:$D$86,\"=SEN\")","v":0},null,null,{"$f":"COUNTIFS(AT$8:AT$86,\"=2\",$D$8:$D$86,\"=SEN\")","v":0},null,null,{"$f":"COUNTIFS(AW$8:AW$86,\"=2\",$D$8:$D$86,\"=SEN\")","v":0},null,null,{"$f":"COUNTIFS(AZ$8:AZ$86,\"=2\",$D$8:$D$86,\"=SEN\")","v":0},null,null,{"$f":"COUNTIFS(BC$8:BC$86,\"=2\",$D$8:$D$86,\"=SEN\")","v":0},null,null,{"$f":"COUNTIFS(BF$8:BF$86,\"=2\",$D$8:$D$86,\"=SEN\")","v":0},null,null,{"$f":"COUNTIFS(BI$8:BI$86,\"=2\",$D$8:$D$86,\"=SEN\")","v":0},null,null,{"$f":"COUNTIFS(BL$8:BL$86,\"=2\",$D$8:$D$86,\"=SEN\")","v":0},null,null,{"$f":"COUNTIFS(BO$8:BO$86,\"=2\",$D$8:$D$86,\"=SEN\")","v":0},null,null,{"$f":"COUNTIFS(BR$8:BR$86,\"=2\",$D$8:$D$86,\"=SEN\")","v":0},null,null,{"$f":"COUNTIFS(BU$8:BU$86,\"=2\",$D$8:$D$86,\"=SEN\")","v":0},null,null,{"$f":"COUNTIFS(BX$8:BX$86,\"=2\",$D$8:$D$86,\"=SEN\")","v":0},null,null,{"$f":"COUNTIFS(CA$8:CA$86,\"=2\",$D$8:$D$86,\"=SEN\")","v":1},null,null,{"$f":"COUNTIFS(CD$8:CD$86,\"=2\",$D$8:$D$86,\"=SEN\")","v":0},null,null,{"$f":"COUNTIFS(CG$8:CG$86,\"=2\",$D$8:$D$86,\"=SEN\")","v":0},null,null,null,{"$f":"COUNTIFS(CK$8:CK$86,\"=2\",$D$8:$D$86,\"=SEN\")","v":0},null,null,{"$f":"COUNTIFS(CN$8:CN$86,\"=2\",$D$8:$D$86,\"=SEN\")","v":0},null,null,{"$f":"COUNTIFS(CQ$8:CQ$86,\"=2\",$D$8:$D$86,\"=SEN\")","v":0},null,null,{"$f":"COUNTIFS(CT$8:CT$86,\"=2\",$D$8:$D$86,\"=SEN\")","v":0},null,null,{"$f":"COUNTIFS(CW$8:CW$86,\"=2\",$D$8:$D$86,\"=SEN\")","v":1},null,null,{"$f":"COUNTIFS(CZ$8:CZ$86,\"=2\",$D$8:$D$86,\"=SEN\")","v":0},null,null,{"$f":"COUNTIFS(DC$8:DC$86,\"=2\",$D$8:$D$86,\"=SEN\")","v":0},null,null,{"$f":"COUNTIFS(DF$8:DF$86,\"=2\",$D$8:$D$86,\"=SEN\")","v":0},null,null,{"$f":"COUNTIFS(DI$8:DI$86,\"=2\",$D$8:$D$86,\"=SEN\")","v":0},null,null,{"$f":"COUNTIFS(DL$8:DL$86,\"=2\",$D$8:$D$86,\"=SEN\")","v":0},null,null,{"$f":"COUNTIFS(DO$8:DO$86,\"=2\",$D$8:$D$86,\"=SEN\")","v":0},null,null,{"$f":"COUNTIFS(DR$8:DR$86,\"=2\",$D$8:$D$86,\"=SEN\")","v":0},null,null,{"$f":"COUNTIFS(DU$8:DU$86,\"=2\",$D$8:$D$86,\"=SEN\")","v":0},null,null,{"$f":"COUNTIFS(DX$8:DX$86,\"=2\",$D$8:$D$86,\"=SEN\")","v":0},null,null,{"$f":"COUNTIFS(EA$8:EA$86,\"=2\",$D$8:$D$86,\"=SEN\")","v":0},null,null,{"$f":"COUNTIFS(ED$8:ED$86,\"=2\",$D$8:$D$86,\"=SEN\")","v":0},null,{"$f":"COUNTIFS(EF$8:EF$86,\"=2\",$D$8:$D$86,\"=SEN\")","v":0},null,null,{"$f":"COUNTIFS(EI$8:EI$86,\"=2\",$D$8:$D$86,\"=SEN\")","v":0},null,null,{"$f":"COUNTIFS(EL$8:EL$86,\"=2\",$D$8:$D$86,\"=SEN\")","v":0},null,null,{"$f":"COUNTIFS(EO$8:EO$86,\"=2\",$D$8:$D$86,\"=SEN\")","v":0},null,null,{"$f":"COUNTIFS(ER$8:ER$86,\"=2\",$D$8:$D$86,\"=SEN\")","v":0},null,null,{"$f":"COUNTIFS(EU$8:EU$86,\"=2\",$D$8:$D$86,\"=SEN\")","v":0},null,null,{"$f":"COUNTIFS(EX$8:EX$86,\"=2\",$D$8:$D$86,\"=SEN\")","v":0},null,null,{"$f":"COUNTIFS(FA$8:FA$86,\"=2\",$D$8:$D$86,\"=SEN\")","v":0},null,null,{"$f":"COUNTIFS(FD$8:FD$86,\"=2\",$D$8:$D$86,\"=SEN\")","v":0},null,null,{"$f":"COUNTIFS(FG$8:FG$86,\"=2\",$D$8:$D$86,\"=SEN\")","v":0}]
[null,null,null,null,"SEN Age 3rd",null,null,null,null,null,null,null,null,null,null,null,null,null,null,null,null,null,null,null,7,null,{"$f":"COUNTIFS(AA$8:AA$86,\"=3\",$D$8:$D$86,\"=SEN\")","v":0},null,null,null,null,{"$f":"COUNTIFS(AF$8:AF$86,\"=3\",$D$8:$D$86,\"=SEN\")","v":1},null,null,{"$f":"COUNTIFS(AI$8:AI$86,\"=3\",$D$8:$D$86,\"=SEN\")","v":0},null,null,null,{"$f":"COUNTIFS(AM$8:AM$86,\"=3\",$D$8:$D$86,\"=SEN\")","v":0},null,null,null,{"$f":"COUNTIFS(AQ$8:AQ$86,\"=3\",$D$8:$D$86,\"=SEN\")","v":0},null,null,{"$f":"COUNTIFS(AT$8:AT$86,\"=3\",$D$8:$D$86,\"=SEN\")","v":1},null,null,{"$f":"COUNTIFS(AW$8:AW$86,\"=3\",$D$8:$D$86,\"=SEN\")","v":0},null,null,{"$f":"COUNTIFS(AZ$8:AZ$86,\"=3\",$D$8:$D$86,\"=SEN\")","v":0},null,null,{"$f":"COUNTIFS(BC$8:BC$86,\"=3\",$D$8:$D$86,\"=SEN\")","v":0},null,null,{"$f":"COUNTIFS(BF$8:BF$86,\"=3\",$D$8:$D$86,\"=SEN\")","v":0},null,null,{"$f":"COUNTIFS(BI$8:BI$86,\"=3\",$D$8:$D$86,\"=SEN\")","v":0},null,null,{"$f":"COUNTIFS(BL$8:BL$86,\"=3\",$D$8:$D$86,\"=SEN\")","v":1},null,null,{"$f":"COUNTIFS(BO$8:BO$86,\"=3\",$D$8:$D$86,\"=SEN\")","v":0},null,null,{"$f":"COUNTIFS(BR$8:BR$86,\"=3\",$D$8:$D$86,\"=SEN\")","v":0},null,null,{"$f":"COUNTIFS(BU$8:BU$86,\"=3\",$D$8:$D$86,\"=SEN\")","v":0},null,null,{"$f":"COUNTIFS(BX$8:BX$86,\"=3\",$D$8:$D$86,\"=SEN\")","v":0},null,null,{"$f":"COUNTIFS(CA$8:CA$86,\"=3\",$D$8:$D$86,\"=SEN\")","v":0},null,null,{"$f":"COUNTIFS(CD$8:CD$86,\"=3\",$D$8:$D$86,\"=SEN\")","v":0},null,null,{"$f":"COUNTIFS(CG$8:CG$86,\"=3\",$D$8:$D$86,\"=SEN\")","v":0},null,null,null,{"$f":"COUNTIFS(CK$8:CK$86,\"=3\",$D$8:$D$86,\"=SEN\")","v":0},null,null,{"$f":"COUNTIFS(CN$8:CN$86,\"=3\",$D$8:$D$86,\"=SEN\")","v":0},null,null,{"$f":"COUNTIFS(CQ$8:CQ$86,\"=3\",$D$8:$D$86,\"=SEN\")","v":1},null,null,{"$f":"COUNTIFS(CT$8:CT$86,\"=3\",$D$8:$D$86,\"=SEN\")","v":1},null,null,{"$f":"COUNTIFS(CW$8:CW$86,\"=3\",$D$8:$D$86,\"=SEN\")","v":0},null,null,{"$f":"COUNTIFS(CZ$8:CZ$86,\"=3\",$D$8:$D$86,\"=SEN\")","v":0},null,null,{"$f":"COUNTIFS(DC$8:DC$86,\"=3\",$D$8:$D$86,\"=SEN\")","v":1},null,null,{"$f":"COUNTIFS(DF$8:DF$86,\"=3\",$D$8:$D$86,\"=SEN\")","v":0},null,null,{"$f":"COUNTIFS(DI$8:DI$86,\"=3\",$D$8:$D$86,\"=SEN\")","v":0},null,null,{"$f":"COUNTIFS(DL$8:DL$86,\"=3\",$D$8:$D$86,\"=SEN\")","v":0},null,null,{"$f":"COUNTIFS(DO$8:DO$86,\"=3\",$D$8:$D$86,\"=SEN\")","v":0},null,null,{"$f":"COUNTIFS(DR$8:DR$86,\"=3\",$D$8:$D$86,\"=SEN\")","v":1},null,null,{"$f":"COUNTIFS(DU$8:DU$86,\"=3\",$D$8:$D$86,\"=SEN\")","v":0},null,null,{"$f":"COUNTIFS(DX$8:DX$86,\"=3\",$D$8:$D$86,\"=SEN\")","v":0},null,null,{"$f":"COUNTIFS(EA$8:EA$86,\"=3\",$D$8:$D$86,\"=SEN\")","v":0},null,null,{"$f":"COUNTIFS(ED$8:ED$86,\"=3\",$D$8:$D$86,\"=SEN\")","v":0},null,{"$f":"COUNTIFS(EF$8:EF$86,\"=3\",$D$8:$D$86,\"=SEN\")","v":0},null,null,{"$f":"COUNTIFS(EI$8:EI$86,\"=3\",$D$8:$D$86,\"=SEN\")","v":0},null,null,{"$f":"COUNTIFS(EL$8:EL$86,\"=3\",$D$8:$D$86,\"=SEN\")","v":0},null,null,{"$f":"COUNTIFS(EO$8:EO$86,\"=3\",$D$8:$D$86,\"=SEN\")","v":0},null,null,{"$f":"COUNTIFS(ER$8:ER$86,\"=3\",$D$8:$D$86,\"=SEN\")","v":0},null,null,{"$f":"COUNTIFS(EU$8:EU$86,\"=3\",$D$8:$D$86,\"=SEN\")","v":0},null,null,{"$f":"COUNTIFS(EX$8:EX$86,\"=3\",$D$8:$D$86,\"=SEN\")","v":0},null,null,{"$f":"COUNTIFS(FA$8:FA$86,\"=3\",$D$8:$D$86,\"=SEN\")","v":0},null,null,{"$f":"COUNTIFS(FD$8:FD$86,\"=3\",$D$8:$D$86,\"=SEN\")","v":0},null,null,{"$f":"COUNTIFS(FG$8:FG$86,\"=3\",$D$8:$D$86,\"=SEN\")","v":0}]
[null,null,null,null,"MAS Age 1st",null,null,null,null,null,null,null,null,null,null,null,null,null,null,null,null,null,null,null,8,null,{"$f":"COUNTIFS(AA$8:AA$86,\"=1\",$D$8:$D$86,\"=MAS\")","v":0},null,null,null,null,{"$f":"COUNTIFS(AF$8:AF$86,\"=1\",$D$8:$D$86,\"=MAS\")","v":1},null,null,{"$f":"COUNTIFS(AI$8:AI$86,\"=1\",$D$8:$D$86,\"=MAS\")","v":0},null,null,null,{"$f":"COUNTIFS(AM$8:AM$86,\"=1\",$D$8:$D$86,\"=MAS\")","v":0},null,null,null,{"$f":"COUNTIFS(AQ$8:AQ$86,\"=1\",$D$8:$D$86,\"=MAS\")","v":1},null,null,{"$f":"COUNTIFS(AT$8:AT$86,\"=1\",$D$8:$D$86,\"=MAS\")","v":0},null,null,{"$f":"COUNTIFS(AW$8:AW$86,\"=1\",$D$8:$D$86,\"=MAS\")","v":0},null,null,{"$f":"COUNTIFS(AZ$8:AZ$86,\"=1\",$D$8:$D$86,\"=MAS\")","v":0},null,null,{"$f":"COUNTIFS(BC$8:BC$86,\"=1\",$D$8:$D$86,\"=MAS\")","v":1},null,null,{"$f":"COUNTIFS(BF$8:BF$86,\"=1\",$D$8:$D$86,\"=MAS\")","v":0},null,null,{"$f":"COUNTIFS(BI$8:BI$86,\"=1\",$D$8:$D$86,\"=MAS\")","v":1},null,null,{"$f":"COUNTIFS(BL$8:BL$86,\"=1\",$D$8:$D$86,\"=MAS\")","v":0},null,null,{"$f":"COUNTIFS(BO$8:BO$86,\"=1\",$D$8:$D$86,\"=MAS\")","v":0},null,null,{"$f":"COUNTIFS(BR$8:BR$86,\"=1\",$D$8:$D$86,\"=MAS\")","v":0},null,null,{"$f":"COUNTIFS(BU$8:BU$86,\"=1\",$D$8:$D$86,\"=MAS\")","v":0},null,null,{"$f":"COUNTIFS(BX$8:BX$86,\"=1\",$D$8:$D$86,\"=MAS\")","v":0},null,null,{"$f":"COUNTIFS(CA$8:CA$86,\"=1\",$D$8:$D$86,\"=MAS\")","v":0},null,null,{"$f":"COUNTIFS(CD$8:CD$86,\"=1\",$D$8:$D$86,\"=MAS\")","v":0},null,null,{"$f":"COUNTIFS(CG$8:CG$86,\"=1\",$D$8:$D$86,\"=MAS\")","v":0},null,null,null,{"$f":"COUNTIFS(CK$8:CK$86,\"=1\",$D$8:$D$86,\"=MAS\")","v":0},null,null,{"$f":"COUNTIFS(CN$8:CN$86,\"=1\",$D$8:$D$86,\"=MAS\")","v":0},null,null,{"$f":"COUNTIFS(CQ$8:CQ$86,\"=1\",$D$8:$D$86,\"=MAS\")","v":0},null,null,{"$f":"COUNTIFS(CT$8:CT$86,\"=1\",$D$8:$D$86,\"=MAS\")","v":0},null,null,{"$f":"COUNTIFS(CW$8:CW$86,\"=1\",$D$8:$D$86,\"=MAS\")","v":1},null,null,{"$f":"COUNTIFS(CZ$8:CZ$86,\"=1\",$D$8:$D$86,\"=MAS\")","v":0},null,null,{"$f":"COUNTIFS(DC$8:DC$86,\"=1\",$D$8:$D$86,\"=MAS\")","v":1},null,null,{"$f":"COUNTIFS(DF$8:DF$86,\"=1\",$D$8:$D$86,\"=MAS\")","v":0},null,null,{"$f":"COUNTIFS(DI$8:DI$86,\"=1\",$D$8:$D$86,\"=MAS\")","v":0},null,null,{"$f":"COUNTIFS(DL$8:DL$86,\"=1\",$D$8:$D$86,\"=MAS\")","v":0},null,null,{"$f":"COUNTIFS(DO$8:DO$86,\"=1\",$D$8:$D$86,\"=MAS\")","v":0},null,null,{"$f":"COUNTIFS(DR$8:DR$86,\"=1\",$D$8:$D$86,\"=MAS\")","v":0},null,null,{"$f":"COUNTIFS(DU$8:DU$86,\"=1\",$D$8:$D$86,\"=MAS\")","v":0},null,null,{"$f":"COUNTIFS(DX$8:DX$86,\"=1\",$D$8:$D$86,\"=MAS\")","v":0},null,null,{"$f":"COUNTIFS(EA$8:EA$86,\"=1\",$D$8:$D$86,\"=MAS\")","v":0},null,null,{"$f":"COUNTIFS(ED$8:ED$86,\"=1\",$D$8:$D$86,\"=MAS\")","v":0},null,{"$f":"COUNTIFS(EF$8:EF$86,\"=1\",$D$8:$D$86,\"=MAS\")","v":1},null,null,{"$f":"COUNTIFS(EI$8:EI$86,\"=1\",$D$8:$D$86,\"=MAS\")","v":0},null,null,{"$f":"COUNTIFS(EL$8:EL$86,\"=1\",$D$8:$D$86,\"=MAS\")","v":0},null,null,{"$f":"COUNTIFS(EO$8:EO$86,\"=1\",$D$8:$D$86,\"=MAS\")","v":0},null,null,{"$f":"COUNTIFS(ER$8:ER$86,\"=1\",$D$8:$D$86,\"=MAS\")","v":1},null,null,{"$f":"COUNTIFS(EU$8:EU$86,\"=1\",$D$8:$D$86,\"=MAS\")","v":0},null,null,{"$f":"COUNTIFS(EX$8:EX$86,\"=1\",$D$8:$D$86,\"=MAS\")","v":0},null,null,{"$f":"COUNTIFS(FA$8:FA$86,\"=1\",$D$8:$D$86,\"=MAS\")","v":0},null,null,{"$f":"COUNTIFS(FD$8:FD$86,\"=1\",$D$8:$D$86,\"=MAS\")","v":0},null,null,{"$f":"COUNTIFS(FG$8:FG$86,\"=1\",$D$8:$D$86,\"=MAS\")","v":0}]
[null,null,null,null,"MAS Age 2nd",null,null,null,null,null,null,null,null,null,null,null,null,null,null,null,null,null,null,null,1,null,{"$f":"COUNTIFS(AA$8:AA$86,\"=2\",$D$8:$D$86,\"=MAS\")","v":0},null,null,null,null,{"$f":"COUNTIFS(AF$8:AF$86,\"=2\",$D$8:$D$86,\"=MAS\")","v":0},null,null,{"$f":"COUNTIFS(AI$8:AI$86,\"=2\",$D$8:$D$86,\"=MAS\")","v":0},null,null,null,{"$f":"COUNTIFS(AM$8:AM$86,\"=2\",$D$8:$D$86,\"=MAS\")","v":0},null,null,null,{"$f":"COUNTIFS(AQ$8:AQ$86,\"=2\",$D$8:$D$86,\"=MAS\")","v":0},null,null,{"$f":"COUNTIFS(AT$8:AT$86,\"=2\",$D$8:$D$86,\"=MAS\")","v":0},null,null,{"$f":"COUNTIFS(AW$8:AW$86,\"=2\",$D$8:$D$86,\"=MAS\")","v":0},null,null,{"$f":"COUNTIFS(AZ$8:AZ$86,\"=2\",$D$8:$D$86,\"=MAS\")","v":0},null,null,{"$f":"COUNTIFS(BC$8:BC$86,\"=2\",$D$8:$D$86,\"=MAS\")","v":0},null,null,{"$f":"COUNTIFS(BF$8:BF$86,\"=2\",$D$8:$D$86,\"=MAS\")","v":1},null,null,{"$f":"COUNTIFS(BI$8:BI$86,\"=2\",$D$8:$D$86,\"=MAS\")","v":0},null,null,{"$f":"COUNTIFS(BL$8:BL$86,\"=2\",$D$8:$D$86,\"=MAS\")","v":0},null,null,{"$f":"COUNTIFS(BO$8:BO$86,\"=2\",$D$8:$D$86,\"=MAS\")","v":0},null,null,{"$f":"COUNTIFS(BR$8:BR$86,\"=2\",$D$8:$D$86,\"=MAS\")","v":0},null,null,{"$f":"COUNTIFS(BU$8:BU$86,\"=2\",$D$8:$D$86,\"=MAS\")","v":0},null,null,{"$f":"COUNTIFS(BX$8:BX$86,\"=2\",$D$8:$D$86,\"=MAS\")","v":0},null,null,{"$f":"COUNTIFS(CA$8:CA$86,\"=2\",$D$8:$D$86,\"=MAS\")","v":0},null,null,{"$f":"COUNTIFS(CD$8:CD$86,\"=2\",$D$8:$D$86,\"=MAS\")","v":0},null,null,{"$f":"COUNTIFS(CG$8:CG$86,\"=2\",$D$8:$D$86,\"=MAS\")","v":0},null,null,null,{"$f":"COUNTIFS(CK$8:CK$86,\"=2\",$D$8:$D$86,\"=MAS\")","v":0},null,null,{"$f":"COUNTIFS(CN$8:CN$86,\"=2\",$D$8:$D$86,\"=MAS\")","v":0},null,null,{"$f":"COUNTIFS(CQ$8:CQ$86,\"=2\",$D$8:$D$86,\"=MAS\")","v":0},null,null,{"$f":"COUNTIFS(CT$8:CT$86,\"=2\",$D$8:$D$86,\"=MAS\")","v":0},null,null,{"$f":"COUNTIFS(CW$8:CW$86,\"=2\",$D$8:$D$86,\"=MAS\")","v":0},null,null,{"$f":"COUNTIFS(CZ$8:CZ$86,\"=2\",$D$8:$D$86,\"=MAS\")","v":0},null,null,{"$f":"COUNTIFS(DC$8:DC$86,\"=2\",$D$8:$D$86,\"=MAS\")","v":0},null,null,{"$f":"COUNTIFS(DF$8:DF$86,\"=2\",$D$8:$D$86,\"=MAS\")","v":0},null,null,{"$f":"COUNTIFS(DI$8:DI$86,\"=2\",$D$8:$D$86,\"=MAS\")","v":0},null,null,{"$f":"COUNTIFS(DL$8:DL$86,\"=2\",$D$8:$D$86,\"=MAS\")","v":0},null,null,{"$f":"COUNTIFS(DO$8:DO$86,\"=2\",$D$8:$D$86,\"=MAS\")","v":0},null,null,{"$f":"COUNTIFS(DR$8:DR$86,\"=2\",$D$8:$D$86,\"=MAS\")","v":0},null,null,{"$f":"COUNTIFS(DU$8:DU$86,\"=2\",$D$8:$D$86,\"=MAS\")","v":0},null,null,{"$f":"COUNTIFS(DX$8:DX$86,\"=2\",$D$8:$D$86,\"=MAS\")","v":0},null,null,{"$f":"COUNTIFS(EA$8:EA$86,\"=2\",$D$8:$D$86,\"=MAS\")","v":0},null,null,{"$f":"COUNTIFS(ED$8:ED$86,\"=2\",$D$8:$D$86,\"=MAS\")","v":0},null,{"$f":"COUNTIFS(EF$8:EF$86,\"=2\",$D$8:$D$86,\"=MAS\")","v":0},null,null,{"$f":"COUNTIFS(EI$8:EI$86,\"=2\",$D$8:$D$86,\"=MAS\")","v":0},null,null,{"$f":"COUNTIFS(EL$8:EL$86,\"=2\",$D$8:$D$86,\"=MAS\")","v":0},null,null,{"$f":"COUNTIFS(EO$8:EO$86,\"=2\",$D$8:$D$86,\"=MAS\")","v":0},null,null,{"$f":"COUNTIFS(ER$8:ER$86,\"=2\",$D$8:$D$86,\"=MAS\")","v":0},null,null,{"$f":"COUNTIFS(EU$8:EU$86,\"=2\",$D$8:$D$86,\"=MAS\")","v":0},null,null,{"$f":"COUNTIFS(EX$8:EX$86,\"=2\",$D$8:$D$86,\"=MAS\")","v":0},null,null,{"$f":"COUNTIFS(FA$8:FA$86,\"=2\",$D$8:$D$86,\"=MAS\")","v":0},null,null,{"$f":"COUNTIFS(FD$8:FD$86,\"=2\",$D$8:$D$86,\"=MAS\")","v":0},null,null,{"$f":"COUNTIFS(FG$8:FG$86,\"=2\",$D$8:$D$86,\"=MAS\")","v":0}]
[null,null,null,null,"MAS Age 3rd",null,null,null,null,null,null,null,null,null,null,null,null,null,null,null,null,null,null,null,0,null,{"$f":"COUNTIFS(AA$8:AA$86,\"=3\",$D$8:$D$86,\"=MAS\")","v":0},null,null,null,null,{"$f":"COUNTIFS(AF$8:AF$86,\"=3\",$D$8:$D$86,\"=MAS\")","v":0},null,null,{"$f":"COUNTIFS(AI$8:AI$86,\"=3\",$D$8:$D$86,\"=MAS\")","v":0},null,null,null,{"$f":"COUNTIFS(AM$8:AM$86,\"=3\",$D$8:$D$86,\"=MAS\")","v":0},null,null,null,{"$f":"COUNTIFS(AQ$8:AQ$86,\"=3\",$D$8:$D$86,\"=MAS\")","v":0},null,null,{"$f":"COUNTIFS(AT$8:AT$86,\"=3\",$D$8:$D$86,\"=MAS\")","v":0},null,null,{"$f":"COUNTIFS(AW$8:AW$86,\"=3\",$D$8:$D$86,\"=MAS\")","v":0},null,null,{"$f":"COUNTIFS(AZ$8:AZ$86,\"=3\",$D$8:$D$86,\"=MAS\")","v":0},null,null,{"$f":"COUNTIFS(BC$8:BC$86,\"=3\",$D$8:$D$86,\"=MAS\")","v":0},null,null,{"$f":"COUNTIFS(BF$8:BF$86,\"=3\",$D$8:$D$86,\"=MAS\")","v":0},null,null,{"$f":"COUNTIFS(BI$8:BI$86,\"=3\",$D$8:$D$86,\"=MAS\")","v":0},null,null,{"$f":"COUNTIFS(BL$8:BL$86,\"=3\",$D$8:$D$86,\"=MAS\")","v":0},null,null,{"$f":"COUNTIFS(BO$8:BO$86,\"=3\",$D$8:$D$86,\"=MAS\")","v":0},null,null,{"$f":"COUNTIFS(BR$8:BR$86,\"=3\",$D$8:$D$86,\"=MAS\")","v":0},null,null,{"$f":"COUNTIFS(BU$8:BU$86,\"=3\",$D$8:$D$86,\"=MAS\")","v":0},null,null,{"$f":"COUNTIFS(BX$8:BX$86,\"=3\",$D$8:$D$86,\"=MAS\")","v":0},null,null,{"$f":"COUNTIFS(CA$8:CA$86,\"=3\",$D$8:$D$86,\"=MAS\")","v":0},null,null,{"$f":"COUNTIFS(CD$8:CD$86,\"=3\",$D$8:$D$86,\"=MAS\")","v":0},null,null,{"$f":"COUNTIFS(CG$8:CG$86,\"=3\",$D$8:$D$86,\"=MAS\")","v":0},null,null,null,{"$f":"COUNTIFS(CK$8:CK$86,\"=3\",$D$8:$D$86,\"=MAS\")","v":0},null,null,{"$f":"COUNTIFS(CN$8:CN$86,\"=3\",$D$8:$D$86,\"=MAS\")","v":0},null,null,{"$f":"COUNTIFS(CQ$8:CQ$86,\"=3\",$D$8:$D$86,\"=MAS\")","v":0},null,null,{"$f":"COUNTIFS(CT$8:CT$86,\"=3\",$D$8:$D$86,\"=MAS\")","v":0},null,null,{"$f":"COUNTIFS(CW$8:CW$86,\"=3\",$D$8:$D$86,\"=MAS\")","v":0},null,null,{"$f":"COUNTIFS(CZ$8:CZ$86,\"=3\",$D$8:$D$86,\"=MAS\")","v":0},null,null,{"$f":"COUNTIFS(DC$8:DC$86,\"=3\",$D$8:$D$86,\"=MAS\")","v":0},null,null,{"$f":"COUNTIFS(DF$8:DF$86,\"=3\",$D$8:$D$86,\"=MAS\")","v":0},null,null,{"$f":"COUNTIFS(DI$8:DI$86,\"=3\",$D$8:$D$86,\"=MAS\")","v":0},null,null,{"$f":"COUNTIFS(DL$8:DL$86,\"=3\",$D$8:$D$86,\"=MAS\")","v":0},null,null,{"$f":"COUNTIFS(DO$8:DO$86,\"=3\",$D$8:$D$86,\"=MAS\")","v":0},null,null,{"$f":"COUNTIFS(DR$8:DR$86,\"=3\",$D$8:$D$86,\"=MAS\")","v":0},null,null,{"$f":"COUNTIFS(DU$8:DU$86,\"=3\",$D$8:$D$86,\"=MAS\")","v":0},null,null,{"$f":"COUNTIFS(DX$8:DX$86,\"=3\",$D$8:$D$86,\"=MAS\")","v":0},null,null,{"$f":"COUNTIFS(EA$8:EA$86,\"=3\",$D$8:$D$86,\"=MAS\")","v":0},null,null,{"$f":"COUNTIFS(ED$8:ED$86,\"=3\",$D$8:$D$86,\"=MAS\")","v":0},null,{"$f":"COUNTIFS(EF$8:EF$86,\"=3\",$D$8:$D$86,\"=MAS\")","v":0},null,null,{"$f":"COUNTIFS(EI$8:EI$86,\"=3\",$D$8:$D$86,\"=MAS\")","v":0},null,null,{"$f":"COUNTIFS(EL$8:EL$86,\"=3\",$D$8:$D$86,\"=MAS\")","v":0},null,null,{"$f":"COUNTIFS(EO$8:EO$86,\"=3\",$D$8:$D$86,\"=MAS\")","v":0},null,null,{"$f":"COUNTIFS(ER$8:ER$86,\"=3\",$D$8:$D$86,\"=MAS\")","v":0},null,null,{"$f":"COUNTIFS(EU$8:EU$86,\"=3\",$D$8:$D$86,\"=MAS\")","v":0},null,null,{"$f":"COUNTIFS(EX$8:EX$86,\"=3\",$D$8:$D$86,\"=MAS\")","v":0},null,null,{"$f":"COUNTIFS(FA$8:FA$86,\"=3\",$D$8:$D$86,\"=MAS\")","v":0},null,null,{"$f":"COUNTIFS(FD$8:FD$86,\"=3\",$D$8:$D$86,\"=MAS\")","v":0},null,null,{"$f":"COUNTIFS(FG$8:FG$86,\"=3\",$D$8:$D$86,\"=MAS\")","v":0}]
[null,null,null,null,"Male Age Podiums",null,null,null,null,null,null,null,null,null,null,null,null,null,null,null,null,null,null,null,107,null,{"$f":"COUNTIFS(AA$8:AA$86,\"<=3\",$B$8:$B$86,\"=M\")","v":3},null,null,null,null,{"$f":"COUNTIFS(AF$8:AF$86,\"<=3\",$B$8:$B$86,\"=M\")","v":5},null,null,{"$f":"COUNTIFS(AI$8:AI$86,\"<=3\",$B$8:$B$86,\"=M\")","v":1},null,null,null,{"$f":"COUNTIFS(AM$8:AM$86,\"<=3\",$B$8:$B$86,\"=M\")","v":3},null,null,null,{"$f":"COUNTIFS(AQ$8:AQ$86,\"<=3\",$B$8:$B$86,\"=M\")","v":5},null,null,{"$f":"COUNTIFS(AT$8:AT$86,\"<=3\",$B$8:$B$86,\"=M\")","v":5},null,null,{"$f":"COUNTIFS(AW$8:AW$86,\"<=3\",$B$8:$B$86,\"=M\")","v":2},null,null,{"$f":"COUNTIFS(AZ$8:AZ$86,\"<=3\",$B$8:$B$86,\"=M\")","v":2},null,null,{"$f":"COUNTIFS(BC$8:BC$86,\"<=3\",$B$8:$B$86,\"=M\")","v":3},null,null,{"$f":"COUNTIFS(BF$8:BF$86,\"<=3\",$B$8:$B$86,\"=M\")","v":4},null,null,{"$f":"COUNTIFS(BI$8:BI$86,\"<=3\",$B$8:$B$86,\"=M\")","v":4},null,null,{"$f":"COUNTIFS(BL$8:BL$86,\"<=3\",$B$8:$B$86,\"=M\")","v":2},null,null,{"$f":"COUNTIFS(BO$8:BO$86,\"<=3\",$B$8:$B$86,\"=M\")","v":0},null,null,{"$f":"COUNTIFS(BR$8:BR$86,\"<=3\",$B$8:$B$86,\"=M\")","v":1},null,null,{"$f":"COUNTIFS(BU$8:BU$86,\"<=3\",$B$8:$B$86,\"=M\")","v":0},null,null,{"$f":"COUNTIFS(BX$8:BX$86,\"<=3\",$B$8:$B$86,\"=M\")","v":2},null,null,{"$f":"COUNTIFS(CA$8:CA$86,\"<=3\",$B$8:$B$86,\"=M\")","v":2},null,null,{"$f":"COUNTIFS(CD$8:CD$86,\"<=3\",$B$8:$B$86,\"=M\")","v":1},null,null,{"$f":"COUNTIFS(CG$8:CG$86,\"<=3\",$B$8:$B$86,\"=M\")","v":0},null,null,null,{"$f":"COUNTIFS(CK$8:CK$86,\"<=3\",$B$8:$B$86,\"=M\")","v":3},null,null,{"$f":"COUNTIFS(CN$8:CN$86,\"<=3\",$B$8:$B$86,\"=M\")","v":2},null,null,{"$f":"COUNTIFS(CQ$8:CQ$86,\"<=3\",$B$8:$B$86,\"=M\")","v":3},null,null,{"$f":"COUNTIFS(CT$8:CT$86,\"<=3\",$B$8:$B$86,\"=M\")","v":5},null,null,{"$f":"COUNTIFS(CW$8:CW$86,\"<=3\",$B$8:$B$86,\"=M\")","v":6},null,null,{"$f":"COUNTIFS(CZ$8:CZ$86,\"<=3\",$B$8:$B$86,\"=M\")","v":2},null,null,{"$f":"COUNTIFS(DC$8:DC$86,\"<=3\",$B$8:$B$86,\"=M\")","v":7},null,null,{"$f":"COUNTIFS(DF$8:DF$86,\"<=3\",$B$8:$B$86,\"=M\")","v":3},null,null,{"$f":"COUNTIFS(DI$8:DI$86,\"<=3\",$B$8:$B$86,\"=M\")","v":3},null,null,{"$f":"COUNTIFS(DL$8:DL$86,\"<=3\",$B$8:$B$86,\"=M\")","v":2},null,null,{"$f":"COUNTIFS(DO$8:DO$86,\"<=3\",$B$8:$B$86,\"=M\")","v":3},null,null,{"$f":"COUNTIFS(DR$8:DR$86,\"<=3\",$B$8:$B$86,\"=M\")","v":4},null,null,{"$f":"COUNTIFS(DU$8:DU$86,\"<=3\",$B$8:$B$86,\"=M\")","v":1},null,null,{"$f":"COUNTIFS(DX$8:DX$86,\"<=3\",$B$8:$B$86,\"=M\")","v":1},null,null,{"$f":"COUNTIFS(EA$8:EA$86,\"<=3\",$B$8:$B$86,\"=M\")","v":1},null,null,{"$f":"COUNTIFS(ED$8:ED$86,\"<=3\",$B$8:$B$86,\"=M\")","v":0},null,{"$f":"COUNTIFS(EF$8:EF$86,\"<=3\",$B$8:$B$86,\"=M\")","v":3},null,null,{"$f":"COUNTIFS(EI$8:EI$86,\"<=3\",$B$8:$B$86,\"=M\")","v":3},null,null,{"$f":"COUNTIFS(EL$8:EL$86,\"<=3\",$B$8:$B$86,\"=M\")","v":2},null,null,{"$f":"COUNTIFS(EO$8:EO$86,\"<=3\",$B$8:$B$86,\"=M\")","v":2},null,null,{"$f":"COUNTIFS(ER$8:ER$86,\"<=3\",$B$8:$B$86,\"=M\")","v":3},null,null,{"$f":"COUNTIFS(EU$8:EU$86,\"<=3\",$B$8:$B$86,\"=M\")","v":0},null,null,{"$f":"COUNTIFS(EX$8:EX$86,\"<=3\",$B$8:$B$86,\"=M\")","v":3},null,null,{"$f":"COUNTIFS(FA$8:FA$86,\"<=3\",$B$8:$B$86,\"=M\")","v":0},null,null,{"$f":"COUNTIFS(FD$8:FD$86,\"<=3\",$B$8:$B$86,\"=M\")","v":0},null,null,{"$f":"COUNTIFS(FG$8:FG$86,\"<=3\",$B$8:$B$86,\"=M\")","v":0}]
[null,null,null,null,"Female Age Podiums",null,null,null,null,null,null,null,null,null,null,null,null,null,null,null,null,null,null,null,44,null,{"$f":"COUNTIFS(AA$8:AA$86,\"<=3\",$B$8:$B$86,\"=F\")","v":1},null,null,null,null,{"$f":"COUNTIFS(AF$8:AF$86,\"<=3\",$B$8:$B$86,\"=F\")","v":1},null,null,{"$f":"COUNTIFS(AI$8:AI$86,\"<=3\",$B$8:$B$86,\"=F\")","v":1},null,null,null,{"$f":"COUNTIFS(AM$8:AM$86,\"<=3\",$B$8:$B$86,\"=F\")","v":1},null,null,null,{"$f":"COUNTIFS(AQ$8:AQ$86,\"<=3\",$B$8:$B$86,\"=F\")","v":2},null,null,{"$f":"COUNTIFS(AT$8:AT$86,\"<=3\",$B$8:$B$86,\"=F\")","v":1},null,null,{"$f":"COUNTIFS(AW$8:AW$86,\"<=3\",$B$8:$B$86,\"=F\")","v":1},null,null,{"$f":"COUNTIFS(AZ$8:AZ$86,\"<=3\",$B$8:$B$86,\"=F\")","v":2},null,null,{"$f":"COUNTIFS(BC$8:BC$86,\"<=3\",$B$8:$B$86,\"=F\")","v":3},null,null,{"$f":"COUNTIFS(BF$8:BF$86,\"<=3\",$B$8:$B$86,\"=F\")","v":2},null,null,{"$f":"COUNTIFS(BI$8:BI$86,\"<=3\",$B$8:$B$86,\"=F\")","v":1},null,null,{"$f":"COUNTIFS(BL$8:BL$86,\"<=3\",$B$8:$B$86,\"=F\")","v":1},null,null,{"$f":"COUNTIFS(BO$8:BO$86,\"<=3\",$B$8:$B$86,\"=F\")","v":0},null,null,{"$f":"COUNTIFS(BR$8:BR$86,\"<=3\",$B$8:$B$86,\"=F\")","v":2},null,null,{"$f":"COUNTIFS(BU$8:BU$86,\"<=3\",$B$8:$B$86,\"=F\")","v":0},null,null,{"$f":"COUNTIFS(BX$8:BX$86,\"<=3\",$B$8:$B$86,\"=F\")","v":0},null,null,{"$f":"COUNTIFS(CA$8:CA$86,\"<=3\",$B$8:$B$86,\"=F\")","v":3},null,null,{"$f":"COUNTIFS(CD$8:CD$86,\"<=3\",$B$8:$B$86,\"=F\")","v":0},null,null,{"$f":"COUNTIFS(CG$8:CG$86,\"<=3\",$B$8:$B$86,\"=F\")","v":1},null,null,null,{"$f":"COUNTIFS(CK$8:CK$86,\"<=3\",$B$8:$B$86,\"=F\")","v":2},null,null,{"$f":"COUNTIFS(CN$8:CN$86,\"<=3\",$B$8:$B$86,\"=F\")","v":0},null,null,{"$f":"COUNTIFS(CQ$8:CQ$86,\"<=3\",$B$8:$B$86,\"=F\")","v":2},null,null,{"$f":"COUNTIFS(CT$8:CT$86,\"<=3\",$B$8:$B$86,\"=F\")","v":2},null,null,{"$f":"COUNTIFS(CW$8:CW$86,\"<=3\",$B$8:$B$86,\"=F\")","v":4},null,null,{"$f":"COUNTIFS(CZ$8:CZ$86,\"<=3\",$B$8:$B$86,\"=F\")","v":1},null,null,{"$f":"COUNTIFS(DC$8:DC$86,\"<=3\",$B$8:$B$86,\"=F\")","v":0},null,null,{"$f":"COUNTIFS(DF$8:DF$86,\"<=3\",$B$8:$B$86,\"=F\")","v":0},null,null,{"$f":"COUNTIFS(DI$8:DI$86,\"<=3\",$B$8:$B$86,\"=F\")","v":0},null,null,{"$f":"COUNTIFS(DL$8:DL$86,\"<=3\",$B$8:$B$86,\"=F\")","v":1},null,null,{"$f":"COUNTIFS(DO$8:DO$86,\"<=3\",$B$8:$B$86,\"=F\")","v":1},null,null,{"$f":"COUNTIFS(DR$8:DR$86,\"<=3\",$B$8:$B$86,\"=F\")","v":2},null,null,{"$f":"COUNTIFS(DU$8:DU$86,\"<=3\",$B$8:$B$86,\"=F\")","v":1},null,null,{"$f":"COUNTIFS(DX$8:DX$86,\"<=3\",$B$8:$B$86,\"=F\")","v":1},null,null,{"$f":"COUNTIFS(EA$8:EA$86,\"<=3\",$B$8:$B$86,\"=F\")","v":0},null,null,{"$f":"COUNTIFS(ED$8:ED$86,\"<=3\",$B$8:$B$86,\"=F\")","v":0},null,{"$f":"COUNTIFS(EF$8:EF$86,\"<=3\",$B$8:$B$86,\"=F\")","v":0},null,null,{"$f":"COUNTIFS(EI$8:EI$86,\"<=3\",$B$8:$B$86,\"=F\")","v":2},null,null,{"$f":"COUNTIFS(EL$8:EL$86,\"<=3\",$B$8:$B$86,\"=F\")","v":1},null,null,{"$f":"COUNTIFS(EO$8:EO$86,\"<=3\",$B$8:$B$86,\"=F\")","v":0},null,null,{"$f":"COUNTIFS(ER$8:ER$86,\"<=3\",$B$8:$B$86,\"=F\")","v":0},null,null,{"$f":"COUNTIFS(EU$8:EU$86,\"<=3\",$B$8:$B$86,\"=F\")","v":0},null,null,{"$f":"COUNTIFS(EX$8:EX$86,\"<=3\",$B$8:$B$86,\"=F\")","v":1},null,null,{"$f":"COUNTIFS(FA$8:FA$86,\"<=3\",$B$8:$B$86,\"=F\")","v":0},null,null,{"$f":"COUNTIFS(FD$8:FD$86,\"<=3\",$B$8:$B$86,\"=F\")","v":0},null,null,{"$f":"COUNTIFS(FG$8:FG$86,\"<=3\",$B$8:$B$86,\"=F\")","v":0}]
[null,null,null,null,"CH Overall 1st",null,null,null,null,null,null,null,null,null,null,null,null,null,null,null,null,null,null,null,{"$f":"SUM(Z121:FI121)","v":0},{"$f":"COUNTIFS(Z$8:Z$86,\"=1\",$D$8:$D$86,\"=U14\")+COUNTIFS(Z$8:Z$86,\"=1\",$D$8:$D$86,\"=U16\")","v":0},null,null,{"$f":"COUNTIFS(AC$8:AC$86,\"=1\",$D$8:$D$86,\"=U14\")+COUNTIFS(AC$8:AC$86,\"=1\",$D$8:$D$86,\"=U16\")","v":0},null,{"$f":"COUNTIFS(AE$8:AE$86,\"=1\",$D$8:$D$86,\"=U14\")+COUNTIFS(AE$8:AE$86,\"=1\",$D$8:$D$86,\"=U16\")","v":0},null,null,{"$f":"COUNTIFS(AH$8:AH$86,\"=1\",$D$8:$D$86,\"=U14\")+COUNTIFS(AH$8:AH$86,\"=1\",$D$8:$D$86,\"=U16\")","v":0},null,null,null,{"$f":"COUNTIFS(AL$8:AL$86,\"=1\",$D$8:$D$86,\"=U14\")+COUNTIFS(AL$8:AL$86,\"=1\",$D$8:$D$86,\"=U16\")","v":0},null,null,null,{"$f":"COUNTIFS(AP$8:AP$86,\"=1\",$D$8:$D$86,\"=U14\")+COUNTIFS(AP$8:AP$86,\"=1\",$D$8:$D$86,\"=U16\")","v":0},null,null,{"$f":"COUNTIFS(AS$8:AS$86,\"=1\",$D$8:$D$86,\"=U14\")+COUNTIFS(AS$8:AS$86,\"=1\",$D$8:$D$86,\"=U16\")","v":0},null,null,{"$f":"COUNTIFS(AV$8:AV$86,\"=1\",$D$8:$D$86,\"=U14\")+COUNTIFS(AV$8:AV$86,\"=1\",$D$8:$D$86,\"=U16\")","v":0},null,null,{"$f":"COUNTIFS(AY$8:AY$86,\"=1\",$D$8:$D$86,\"=U14\")+COUNTIFS(AY$8:AY$86,\"=1\",$D$8:$D$86,\"=U16\")","v":0},null,null,{"$f":"COUNTIFS(BB$8:BB$86,\"=1\",$D$8:$D$86,\"=U14\")+COUNTIFS(BB$8:BB$86,\"=1\",$D$8:$D$86,\"=U16\")","v":0},null,null,{"$f":"COUNTIFS(BE$8:BE$86,\"=1\",$D$8:$D$86,\"=U14\")+COUNTIFS(BE$8:BE$86,\"=1\",$D$8:$D$86,\"=U16\")","v":0},null,null,{"$f":"COUNTIFS(BH$8:BH$86,\"=1\",$D$8:$D$86,\"=U14\")+COUNTIFS(BH$8:BH$86,\"=1\",$D$8:$D$86,\"=U16\")","v":0},null,null,{"$f":"COUNTIFS(BK$8:BK$86,\"=1\",$D$8:$D$86,\"=U14\")+COUNTIFS(BK$8:BK$86,\"=1\",$D$8:$D$86,\"=U16\")","v":0},null,null,{"$f":"COUNTIFS(BN$8:BN$86,\"=1\",$D$8:$D$86,\"=U14\")+COUNTIFS(BN$8:BN$86,\"=1\",$D$8:$D$86,\"=U16\")","v":0},null,null,{"$f":"COUNTIFS(BQ$8:BQ$86,\"=1\",$D$8:$D$86,\"=U14\")+COUNTIFS(BQ$8:BQ$86,\"=1\",$D$8:$D$86,\"=U16\")","v":0},null,null,{"$f":"COUNTIFS(BT$8:BT$86,\"=1\",$D$8:$D$86,\"=U14\")+COUNTIFS(BT$8:BT$86,\"=1\",$D$8:$D$86,\"=U16\")","v":0},null,null,{"$f":"COUNTIFS(BW$8:BW$86,\"=1\",$D$8:$D$86,\"=U14\")+COUNTIFS(BW$8:BW$86,\"=1\",$D$8:$D$86,\"=U16\")","v":0},null,null,{"$f":"COUNTIFS(BZ$8:BZ$86,\"=1\",$D$8:$D$86,\"=U14\")+COUNTIFS(BZ$8:BZ$86,\"=1\",$D$8:$D$86,\"=U16\")","v":0},null,null,{"$f":"COUNTIFS(CC$8:CC$86,\"=1\",$D$8:$D$86,\"=U14\")+COUNTIFS(CC$8:CC$86,\"=1\",$D$8:$D$86,\"=U16\")","v":0},null,null,{"$f":"COUNTIFS(CF$8:CF$86,\"=1\",$D$8:$D$86,\"=U14\")+COUNTIFS(CF$8:CF$86,\"=1\",$D$8:$D$86,\"=U16\")","v":0},null,null,null,{"$f":"COUNTIFS(CJ$8:CJ$86,\"=1\",$D$8:$D$86,\"=U14\")+COUNTIFS(CJ$8:CJ$86,\"=1\",$D$8:$D$86,\"=U16\")","v":0},null,null,{"$f":"COUNTIFS(CM$8:CM$86,\"=1\",$D$8:$D$86,\"=U14\")+COUNTIFS(CM$8:CM$86,\"=1\",$D$8:$D$86,\"=U16\")","v":0},null,null,{"$f":"COUNTIFS(CP$8:CP$86,\"=1\",$D$8:$D$86,\"=U14\")+COUNTIFS(CP$8:CP$86,\"=1\",$D$8:$D$86,\"=U16\")","v":0},null,null,{"$f":"COUNTIFS(CS$8:CS$86,\"=1\",$D$8:$D$86,\"=U14\")+COUNTIFS(CS$8:CS$86,\"=1\",$D$8:$D$86,\"=U16\")","v":0},null,null,{"$f":"COUNTIFS(CV$8:CV$86,\"=1\",$D$8:$D$86,\"=U14\")+COUNTIFS(CV$8:CV$86,\"=1\",$D$8:$D$86,\"=U16\")","v":0},null,null,{"$f":"COUNTIFS(CY$8:CY$86,\"=1\",$D$8:$D$86,\"=U14\")+COUNTIFS(CY$8:CY$86,\"=1\",$D$8:$D$86,\"=U16\")","v":0},null,null,{"$f":"COUNTIFS(DB$8:DB$86,\"=1\",$D$8:$D$86,\"=U14\")+COUNTIFS(DB$8:DB$86,\"=1\",$D$8:$D$86,\"=U16\")","v":0},null,null,{"$f":"COUNTIFS(DE$8:DE$86,\"=1\",$D$8:$D$86,\"=U14\")+COUNTIFS(DE$8:DE$86,\"=1\",$D$8:$D$86,\"=U16\")","v":0},null,null,{"$f":"COUNTIFS(DH$8:DH$86,\"=1\",$D$8:$D$86,\"=U14\")+COUNTIFS(DH$8:DH$86,\"=1\",$D$8:$D$86,\"=U16\")","v":0},null,null,{"$f":"COUNTIFS(DK$8:DK$86,\"=1\",$D$8:$D$86,\"=U14\")+COUNTIFS(DK$8:DK$86,\"=1\",$D$8:$D$86,\"=U16\")","v":0},null,null,{"$f":"COUNTIFS(DN$8:DN$86,\"=1\",$D$8:$D$86,\"=U14\")+COUNTIFS(DN$8:DN$86,\"=1\",$D$8:$D$86,\"=U16\")","v":0},null,null,{"$f":"COUNTIFS(DQ$8:DQ$86,\"=1\",$D$8:$D$86,\"=U14\")+COUNTIFS(DQ$8:DQ$86,\"=1\",$D$8:$D$86,\"=U16\")","v":0},null,null,{"$f":"COUNTIFS(DT$8:DT$86,\"=1\",$D$8:$D$86,\"=U14\")+COUNTIFS(DT$8:DT$86,\"=1\",$D$8:$D$86,\"=U16\")","v":0},null,null,{"$f":"COUNTIFS(DW$8:DW$86,\"=1\",$D$8:$D$86,\"=U14\")+COUNTIFS(DW$8:DW$86,\"=1\",$D$8:$D$86,\"=U16\")","v":0},null,null,{"$f":"COUNTIFS(DZ$8:DZ$86,\"=1\",$D$8:$D$86,\"=U14\")+COUNTIFS(DZ$8:DZ$86,\"=1\",$D$8:$D$86,\"=U16\")","v":0},null,null,{"$f":"COUNTIFS(EC$8:EC$86,\"=1\",$D$8:$D$86,\"=U14\")+COUNTIFS(EC$8:EC$86,\"=1\",$D$8:$D$86,\"=U16\")","v":0},null,{"$f":"COUNTIFS(EE$8:EE$86,\"=1\",$D$8:$D$86,\"=U14\")+COUNTIFS(EE$8:EE$86,\"=1\",$D$8:$D$86,\"=U16\")","v":0},null,null,{"$f":"COUNTIFS(EH$8:EH$86,\"=1\",$D$8:$D$86,\"=U14\")+COUNTIFS(EH$8:EH$86,\"=1\",$D$8:$D$86,\"=U16\")","v":0},null,null,{"$f":"COUNTIFS(EK$8:EK$86,\"=1\",$D$8:$D$86,\"=U14\")+COUNTIFS(EK$8:EK$86,\"=1\",$D$8:$D$86,\"=U16\")","v":0},null,null,{"$f":"COUNTIFS(EN$8:EN$86,\"=1\",$D$8:$D$86,\"=U14\")+COUNTIFS(EN$8:EN$86,\"=1\",$D$8:$D$86,\"=U16\")","v":0},null,null,{"$f":"COUNTIFS(EQ$8:EQ$86,\"=1\",$D$8:$D$86,\"=U14\")+COUNTIFS(EQ$8:EQ$86,\"=1\",$D$8:$D$86,\"=U16\")","v":0},null,null,{"$f":"COUNTIFS(ET$8:ET$86,\"=1\",$D$8:$D$86,\"=U14\")+COUNTIFS(ET$8:ET$86,\"=1\",$D$8:$D$86,\"=U16\")","v":0},null,null,{"$f":"COUNTIFS(EW$8:EW$86,\"=1\",$D$8:$D$86,\"=U14\")+COUNTIFS(EW$8:EW$86,\"=1\",$D$8:$D$86,\"=U16\")","v":0},null,null,{"$f":"COUNTIFS(EZ$8:EZ$86,\"=1\",$D$8:$D$86,\"=U14\")+COUNTIFS(EZ$8:EZ$86,\"=1\",$D$8:$D$86,\"=U16\")","v":0},null,null,{"$f":"COUNTIFS(FC$8:FC$86,\"=1\",$D$8:$D$86,\"=U14\")+COUNTIFS(FC$8:FC$86,\"=1\",$D$8:$D$86,\"=U16\")","v":0},null,null,{"$f":"COUNTIFS(FF$8:FF$86,\"=1\",$D$8:$D$86,\"=U14\")+COUNTIFS(FF$8:FF$86,\"=1\",$D$8:$D$86,\"=U16\")","v":0},null,{"$f":"COUNTIFS(FH$8:FH$86,\"=1\",$D$8:$D$86,\"=U14\")+COUNTIFS(FH$8:FH$86,\"=1\",$D$8:$D$86,\"=U16\")","v":0}]
[null,null,null,null,"CH Overall 2nd",null,null,null,null,null,null,null,null,null,null,null,null,null,null,null,null,null,null,null,{"$f":"SUM(Z122:FI122)","v":2},{"$f":"COUNTIFS(Z$8:Z$86,\"=2\",$D$8:$D$86,\"=U14\")+COUNTIFS(Z$8:Z$86,\"=2\",$D$8:$D$86,\"=U16\")","v":1},null,null,{"$f":"COUNTIFS(AC$8:AC$86,\"=2\",$D$8:$D$86,\"=U14\")+COUNTIFS(AC$8:AC$86,\"=2\",$D$8:$D$86,\"=U16\")","v":0},null,{"$f":"COUNTIFS(AE$8:AE$86,\"=2\",$D$8:$D$86,\"=U14\")+COUNTIFS(AE$8:AE$86,\"=2\",$D$8:$D$86,\"=U16\")","v":0},null,null,{"$f":"COUNTIFS(AH$8:AH$86,\"=2\",$D$8:$D$86,\"=U14\")+COUNTIFS(AH$8:AH$86,\"=2\",$D$8:$D$86,\"=U16\")","v":0},null,null,null,{"$f":"COUNTIFS(AL$8:AL$86,\"=2\",$D$8:$D$86,\"=U14\")+COUNTIFS(AL$8:AL$86,\"=2\",$D$8:$D$86,\"=U16\")","v":0},null,null,null,{"$f":"COUNTIFS(AP$8:AP$86,\"=2\",$D$8:$D$86,\"=U14\")+COUNTIFS(AP$8:AP$86,\"=2\",$D$8:$D$86,\"=U16\")","v":0},null,null,{"$f":"COUNTIFS(AS$8:AS$86,\"=2\",$D$8:$D$86,\"=U14\")+COUNTIFS(AS$8:AS$86,\"=2\",$D$8:$D$86,\"=U16\")","v":0},null,null,{"$f":"COUNTIFS(AV$8:AV$86,\"=2\",$D$8:$D$86,\"=U14\")+COUNTIFS(AV$8:AV$86,\"=2\",$D$8:$D$86,\"=U16\")","v":0},null,null,{"$f":"COUNTIFS(AY$8:AY$86,\"=2\",$D$8:$D$86,\"=U14\")+COUNTIFS(AY$8:AY$86,\"=2\",$D$8:$D$86,\"=U16\")","v":0},null,null,{"$f":"COUNTIFS(BB$8:BB$86,\"=2\",$D$8:$D$86,\"=U14\")+COUNTIFS(BB$8:BB$86,\"=2\",$D$8:$D$86,\"=U16\")","v":0},null,null,{"$f":"COUNTIFS(BE$8:BE$86,\"=2\",$D$8:$D$86,\"=U14\")+COUNTIFS(BE$8:BE$86,\"=2\",$D$8:$D$86,\"=U16\")","v":1},null,null,{"$f":"COUNTIFS(BH$8:BH$86,\"=2\",$D$8:$D$86,\"=U14\")+COUNTIFS(BH$8:BH$86,\"=2\",$D$8:$D$86,\"=U16\")","v":0},null,null,{"$f":"COUNTIFS(BK$8:BK$86,\"=2\",$D$8:$D$86,\"=U14\")+COUNTIFS(BK$8:BK$86,\"=2\",$D$8:$D$86,\"=U16\")","v":0},null,null,{"$f":"COUNTIFS(BN$8:BN$86,\"=2\",$D$8:$D$86,\"=U14\")+COUNTIFS(BN$8:BN$86,\"=2\",$D$8:$D$86,\"=U16\")","v":0},null,null,{"$f":"COUNTIFS(BQ$8:BQ$86,\"=2\",$D$8:$D$86,\"=U14\")+COUNTIFS(BQ$8:BQ$86,\"=2\",$D$8:$D$86,\"=U16\")","v":0},null,null,{"$f":"COUNTIFS(BT$8:BT$86,\"=2\",$D$8:$D$86,\"=U14\")+COUNTIFS(BT$8:BT$86,\"=2\",$D$8:$D$86,\"=U16\")","v":0},null,null,{"$f":"COUNTIFS(BW$8:BW$86,\"=2\",$D$8:$D$86,\"=U14\")+COUNTIFS(BW$8:BW$86,\"=2\",$D$8:$D$86,\"=U16\")","v":0},null,null,{"$f":"COUNTIFS(BZ$8:BZ$86,\"=2\",$D$8:$D$86,\"=U14\")+COUNTIFS(BZ$8:BZ$86,\"=2\",$D$8:$D$86,\"=U16\")","v":0},null,null,{"$f":"COUNTIFS(CC$8:CC$86,\"=2\",$D$8:$D$86,\"=U14\")+COUNTIFS(CC$8:CC$86,\"=2\",$D$8:$D$86,\"=U16\")","v":0},null,null,{"$f":"COUNTIFS(CF$8:CF$86,\"=2\",$D$8:$D$86,\"=U14\")+COUNTIFS(CF$8:CF$86,\"=2\",$D$8:$D$86,\"=U16\")","v":0},null,null,null,{"$f":"COUNTIFS(CJ$8:CJ$86,\"=2\",$D$8:$D$86,\"=U14\")+COUNTIFS(CJ$8:CJ$86,\"=2\",$D$8:$D$86,\"=U16\")","v":0},null,null,{"$f":"COUNTIFS(CM$8:CM$86,\"=2\",$D$8:$D$86,\"=U14\")+COUNTIFS(CM$8:CM$86,\"=2\",$D$8:$D$86,\"=U16\")","v":0},null,null,{"$f":"COUNTIFS(CP$8:CP$86,\"=2\",$D$8:$D$86,\"=U14\")+COUNTIFS(CP$8:CP$86,\"=2\",$D$8:$D$86,\"=U16\")","v":0},null,null,{"$f":"COUNTIFS(CS$8:CS$86,\"=2\",$D$8:$D$86,\"=U14\")+COUNTIFS(CS$8:CS$86,\"=2\",$D$8:$D$86,\"=U16\")","v":0},null,null,{"$f":"COUNTIFS(CV$8:CV$86,\"=2\",$D$8:$D$86,\"=U14\")+COUNTIFS(CV$8:CV$86,\"=2\",$D$8:$D$86,\"=U16\")","v":0},null,null,{"$f":"COUNTIFS(CY$8:CY$86,\"=2\",$D$8:$D$86,\"=U14\")+COUNTIFS(CY$8:CY$86,\"=2\",$D$8:$D$86,\"=U16\")","v":0},null,null,{"$f":"COUNTIFS(DB$8:DB$86,\"=2\",$D$8:$D$86,\"=U14\")+COUNTIFS(DB$8:DB$86,\"=2\",$D$8:$D$86,\"=U16\")","v":0},null,null,{"$f":"COUNTIFS(DE$8:DE$86,\"=2\",$D$8:$D$86,\"=U14\")+COUNTIFS(DE$8:DE$86,\"=2\",$D$8:$D$86,\"=U16\")","v":0},null,null,{"$f":"COUNTIFS(DH$8:DH$86,\"=2\",$D$8:$D$86,\"=U14\")+COUNTIFS(DH$8:DH$86,\"=2\",$D$8:$D$86,\"=U16\")","v":0},null,null,{"$f":"COUNTIFS(DK$8:DK$86,\"=2\",$D$8:$D$86,\"=U14\")+COUNTIFS(DK$8:DK$86,\"=2\",$D$8:$D$86,\"=U16\")","v":0},null,null,{"$f":"COUNTIFS(DN$8:DN$86,\"=2\",$D$8:$D$86,\"=U14\")+COUNTIFS(DN$8:DN$86,\"=2\",$D$8:$D$86,\"=U16\")","v":0},null,null,{"$f":"COUNTIFS(DQ$8:DQ$86,\"=2\",$D$8:$D$86,\"=U14\")+COUNTIFS(DQ$8:DQ$86,\"=2\",$D$8:$D$86,\"=U16\")","v":0},null,null,{"$f":"COUNTIFS(DT$8:DT$86,\"=2\",$D$8:$D$86,\"=U14\")+COUNTIFS(DT$8:DT$86,\"=2\",$D$8:$D$86,\"=U16\")","v":0},null,null,{"$f":"COUNTIFS(DW$8:DW$86,\"=2\",$D$8:$D$86,\"=U14\")+COUNTIFS(DW$8:DW$86,\"=2\",$D$8:$D$86,\"=U16\")","v":0},null,null,{"$f":"COUNTIFS(DZ$8:DZ$86,\"=2\",$D$8:$D$86,\"=U14\")+COUNTIFS(DZ$8:DZ$86,\"=2\",$D$8:$D$86,\"=U16\")","v":0},null,null,{"$f":"COUNTIFS(EC$8:EC$86,\"=2\",$D$8:$D$86,\"=U14\")+COUNTIFS(EC$8:EC$86,\"=2\",$D$8:$D$86,\"=U16\")","v":0},null,{"$f":"COUNTIFS(EE$8:EE$86,\"=2\",$D$8:$D$86,\"=U14\")+COUNTIFS(EE$8:EE$86,\"=2\",$D$8:$D$86,\"=U16\")","v":0},null,null,{"$f":"COUNTIFS(EH$8:EH$86,\"=2\",$D$8:$D$86,\"=U14\")+COUNTIFS(EH$8:EH$86,\"=2\",$D$8:$D$86,\"=U16\")","v":0},null,null,{"$f":"COUNTIFS(EK$8:EK$86,\"=2\",$D$8:$D$86,\"=U14\")+COUNTIFS(EK$8:EK$86,\"=2\",$D$8:$D$86,\"=U16\")","v":0},null,null,{"$f":"COUNTIFS(EN$8:EN$86,\"=2\",$D$8:$D$86,\"=U14\")+COUNTIFS(EN$8:EN$86,\"=2\",$D$8:$D$86,\"=U16\")","v":0},null,null,{"$f":"COUNTIFS(EQ$8:EQ$86,\"=2\",$D$8:$D$86,\"=U14\")+COUNTIFS(EQ$8:EQ$86,\"=2\",$D$8:$D$86,\"=U16\")","v":0},null,null,{"$f":"COUNTIFS(ET$8:ET$86,\"=2\",$D$8:$D$86,\"=U14\")+COUNTIFS(ET$8:ET$86,\"=2\",$D$8:$D$86,\"=U16\")","v":0},null,null,{"$f":"COUNTIFS(EW$8:EW$86,\"=2\",$D$8:$D$86,\"=U14\")+COUNTIFS(EW$8:EW$86,\"=2\",$D$8:$D$86,\"=U16\")","v":0},null,null,{"$f":"COUNTIFS(EZ$8:EZ$86,\"=2\",$D$8:$D$86,\"=U14\")+COUNTIFS(EZ$8:EZ$86,\"=2\",$D$8:$D$86,\"=U16\")","v":0},null,null,{"$f":"COUNTIFS(FC$8:FC$86,\"=2\",$D$8:$D$86,\"=U14\")+COUNTIFS(FC$8:FC$86,\"=2\",$D$8:$D$86,\"=U16\")","v":0},null,null,{"$f":"COUNTIFS(FF$8:FF$86,\"=2\",$D$8:$D$86,\"=U14\")+COUNTIFS(FF$8:FF$86,\"=2\",$D$8:$D$86,\"=U16\")","v":0},null,{"$f":"COUNTIFS(FH$8:FH$86,\"=2\",$D$8:$D$86,\"=U14\")+COUNTIFS(FH$8:FH$86,\"=2\",$D$8:$D$86,\"=U16\")","v":0}]
[null,null,null,null,"CH Overall 3rd",null,null,null,null,null,null,null,null,null,null,null,null,null,null,null,null,null,null,null,0,{"$f":"COUNTIFS(Z$8:Z$86,\"=3\",$D$8:$D$86,\"=U14\")+COUNTIFS(Z$8:Z$86,\"=3\",$D$8:$D$86,\"=U16\")","v":0},null,null,{"$f":"COUNTIFS(AC$8:AC$86,\"=3\",$D$8:$D$86,\"=U14\")+COUNTIFS(AC$8:AC$86,\"=3\",$D$8:$D$86,\"=U16\")","v":0},null,{"$f":"COUNTIFS(AE$8:AE$86,\"=3\",$D$8:$D$86,\"=U14\")+COUNTIFS(AE$8:AE$86,\"=3\",$D$8:$D$86,\"=U16\")","v":0},null,null,{"$f":"COUNTIFS(AH$8:AH$86,\"=3\",$D$8:$D$86,\"=U14\")+COUNTIFS(AH$8:AH$86,\"=3\",$D$8:$D$86,\"=U16\")","v":0},null,null,null,{"$f":"COUNTIFS(AL$8:AL$86,\"=3\",$D$8:$D$86,\"=U14\")+COUNTIFS(AL$8:AL$86,\"=3\",$D$8:$D$86,\"=U16\")","v":0},null,null,null,{"$f":"COUNTIFS(AP$8:AP$86,\"=3\",$D$8:$D$86,\"=U14\")+COUNTIFS(AP$8:AP$86,\"=3\",$D$8:$D$86,\"=U16\")","v":0},null,null,{"$f":"COUNTIFS(AS$8:AS$86,\"=3\",$D$8:$D$86,\"=U14\")+COUNTIFS(AS$8:AS$86,\"=3\",$D$8:$D$86,\"=U16\")","v":0},null,null,{"$f":"COUNTIFS(AV$8:AV$86,\"=3\",$D$8:$D$86,\"=U14\")+COUNTIFS(AV$8:AV$86,\"=3\",$D$8:$D$86,\"=U16\")","v":0},null,null,{"$f":"COUNTIFS(AY$8:AY$86,\"=3\",$D$8:$D$86,\"=U14\")+COUNTIFS(AY$8:AY$86,\"=3\",$D$8:$D$86,\"=U16\")","v":0},null,null,{"$f":"COUNTIFS(BB$8:BB$86,\"=3\",$D$8:$D$86,\"=U14\")+COUNTIFS(BB$8:BB$86,\"=3\",$D$8:$D$86,\"=U16\")","v":0},null,null,{"$f":"COUNTIFS(BE$8:BE$86,\"=3\",$D$8:$D$86,\"=U14\")+COUNTIFS(BE$8:BE$86,\"=3\",$D$8:$D$86,\"=U16\")","v":0},null,null,{"$f":"COUNTIFS(BH$8:BH$86,\"=3\",$D$8:$D$86,\"=U14\")+COUNTIFS(BH$8:BH$86,\"=3\",$D$8:$D$86,\"=U16\")","v":0},null,null,{"$f":"COUNTIFS(BK$8:BK$86,\"=3\",$D$8:$D$86,\"=U14\")+COUNTIFS(BK$8:BK$86,\"=3\",$D$8:$D$86,\"=U16\")","v":0},null,null,{"$f":"COUNTIFS(BN$8:BN$86,\"=3\",$D$8:$D$86,\"=U14\")+COUNTIFS(BN$8:BN$86,\"=3\",$D$8:$D$86,\"=U16\")","v":0},null,null,{"$f":"COUNTIFS(BQ$8:BQ$86,\"=3\",$D$8:$D$86,\"=U14\")+COUNTIFS(BQ$8:BQ$86,\"=3\",$D$8:$D$86,\"=U16\")","v":0},null,null,{"$f":"COUNTIFS(BT$8:BT$86,\"=3\",$D$8:$D$86,\"=U14\")+COUNTIFS(BT$8:BT$86,\"=3\",$D$8:$D$86,\"=U16\")","v":0},null,null,{"$f":"COUNTIFS(BW$8:BW$86,\"=3\",$D$8:$D$86,\"=U14\")+COUNTIFS(BW$8:BW$86,\"=3\",$D$8:$D$86,\"=U16\")","v":0},null,null,{"$f":"COUNTIFS(BZ$8:BZ$86,\"=3\",$D$8:$D$86,\"=U14\")+COUNTIFS(BZ$8:BZ$86,\"=3\",$D$8:$D$86,\"=U16\")","v":0},null,null,{"$f":"COUNTIFS(CC$8:CC$86,\"=3\",$D$8:$D$86,\"=U14\")+COUNTIFS(CC$8:CC$86,\"=3\",$D$8:$D$86,\"=U16\")","v":0},null,null,{"$f":"COUNTIFS(CF$8:CF$86,\"=3\",$D$8:$D$86,\"=U14\")+COUNTIFS(CF$8:CF$86,\"=3\",$D$8:$D$86,\"=U16\")","v":0},null,null,null,{"$f":"COUNTIFS(CJ$8:CJ$86,\"=3\",$D$8:$D$86,\"=U14\")+COUNTIFS(CJ$8:CJ$86,\"=3\",$D$8:$D$86,\"=U16\")","v":0},null,null,{"$f":"COUNTIFS(CM$8:CM$86,\"=3\",$D$8:$D$86,\"=U14\")+COUNTIFS(CM$8:CM$86,\"=3\",$D$8:$D$86,\"=U16\")","v":0},null,null,{"$f":"COUNTIFS(CP$8:CP$86,\"=3\",$D$8:$D$86,\"=U14\")+COUNTIFS(CP$8:CP$86,\"=3\",$D$8:$D$86,\"=U16\")","v":0},null,null,{"$f":"COUNTIFS(CS$8:CS$86,\"=3\",$D$8:$D$86,\"=U14\")+COUNTIFS(CS$8:CS$86,\"=3\",$D$8:$D$86,\"=U16\")","v":0},null,null,{"$f":"COUNTIFS(CV$8:CV$86,\"=3\",$D$8:$D$86,\"=U14\")+COUNTIFS(CV$8:CV$86,\"=3\",$D$8:$D$86,\"=U16\")","v":0},null,null,{"$f":"COUNTIFS(CY$8:CY$86,\"=3\",$D$8:$D$86,\"=U14\")+COUNTIFS(CY$8:CY$86,\"=3\",$D$8:$D$86,\"=U16\")","v":0},null,null,{"$f":"COUNTIFS(DB$8:DB$86,\"=3\",$D$8:$D$86,\"=U14\")+COUNTIFS(DB$8:DB$86,\"=3\",$D$8:$D$86,\"=U16\")","v":0},null,null,{"$f":"COUNTIFS(DE$8:DE$86,\"=3\",$D$8:$D$86,\"=U14\")+COUNTIFS(DE$8:DE$86,\"=3\",$D$8:$D$86,\"=U16\")","v":0},null,null,{"$f":"COUNTIFS(DH$8:DH$86,\"=3\",$D$8:$D$86,\"=U14\")+COUNTIFS(DH$8:DH$86,\"=3\",$D$8:$D$86,\"=U16\")","v":0},null,null,{"$f":"COUNTIFS(DK$8:DK$86,\"=3\",$D$8:$D$86,\"=U14\")+COUNTIFS(DK$8:DK$86,\"=3\",$D$8:$D$86,\"=U16\")","v":0},null,null,{"$f":"COUNTIFS(DN$8:DN$86,\"=3\",$D$8:$D$86,\"=U14\")+COUNTIFS(DN$8:DN$86,\"=3\",$D$8:$D$86,\"=U16\")","v":0},null,null,{"$f":"COUNTIFS(DQ$8:DQ$86,\"=3\",$D$8:$D$86,\"=U14\")+COUNTIFS(DQ$8:DQ$86,\"=3\",$D$8:$D$86,\"=U16\")","v":0},null,null,{"$f":"COUNTIFS(DT$8:DT$86,\"=3\",$D$8:$D$86,\"=U14\")+COUNTIFS(DT$8:DT$86,\"=3\",$D$8:$D$86,\"=U16\")","v":0},null,null,{"$f":"COUNTIFS(DW$8:DW$86,\"=3\",$D$8:$D$86,\"=U14\")+COUNTIFS(DW$8:DW$86,\"=3\",$D$8:$D$86,\"=U16\")","v":0},null,null,{"$f":"COUNTIFS(DZ$8:DZ$86,\"=3\",$D$8:$D$86,\"=U14\")+COUNTIFS(DZ$8:DZ$86,\"=3\",$D$8:$D$86,\"=U16\")","v":0},null,null,{"$f":"COUNTIFS(EC$8:EC$86,\"=3\",$D$8:$D$86,\"=U14\")+COUNTIFS(EC$8:EC$86,\"=3\",$D$8:$D$86,\"=U16\")","v":0},null,{"$f":"COUNTIFS(EE$8:EE$86,\"=3\",$D$8:$D$86,\"=U14\")+COUNTIFS(EE$8:EE$86,\"=3\",$D$8:$D$86,\"=U16\")","v":0},null,null,{"$f":"COUNTIFS(EH$8:EH$86,\"=3\",$D$8:$D$86,\"=U14\")+COUNTIFS(EH$8:EH$86,\"=3\",$D$8:$D$86,\"=U16\")","v":0},null,null,{"$f":"COUNTIFS(EK$8:EK$86,\"=3\",$D$8:$D$86,\"=U14\")+COUNTIFS(EK$8:EK$86,\"=3\",$D$8:$D$86,\"=U16\")","v":0},null,null,{"$f":"COUNTIFS(EN$8:EN$86,\"=3\",$D$8:$D$86,\"=U14\")+COUNTIFS(EN$8:EN$86,\"=3\",$D$8:$D$86,\"=U16\")","v":0},null,null,{"$f":"COUNTIFS(EQ$8:EQ$86,\"=3\",$D$8:$D$86,\"=U14\")+COUNTIFS(EQ$8:EQ$86,\"=3\",$D$8:$D$86,\"=U16\")","v":0},null,null,{"$f":"COUNTIFS(ET$8:ET$86,\"=3\",$D$8:$D$86,\"=U14\")+COUNTIFS(ET$8:ET$86,\"=3\",$D$8:$D$86,\"=U16\")","v":0},null,null,{"$f":"COUNTIFS(EW$8:EW$86,\"=3\",$D$8:$D$86,\"=U14\")+COUNTIFS(EW$8:EW$86,\"=3\",$D$8:$D$86,\"=U16\")","v":0},null,null,{"$f":"COUNTIFS(EZ$8:EZ$86,\"=3\",$D$8:$D$86,\"=U14\")+COUNTIFS(EZ$8:EZ$86,\"=3\",$D$8:$D$86,\"=U16\")","v":0},null,null,{"$f":"COUNTIFS(FC$8:FC$86,\"=3\",$D$8:$D$86,\"=U14\")+COUNTIFS(FC$8:FC$86,\"=3\",$D$8:$D$86,\"=U16\")","v":0},null,null,{"$f":"COUNTIFS(FF$8:FF$86,\"=3\",$D$8:$D$86,\"=U14\")+COUNTIFS(FF$8:FF$86,\"=3\",$D$8:$D$86,\"=U16\")","v":0},null,{"$f":"COUNTIFS(FH$8:FH$86,\"=3\",$D$8:$D$86,\"=U14\")+COUNTIFS(FH$8:FH$86,\"=3\",$D$8:$D$86,\"=U16\")","v":0}]
[null,null,null,null,"JN Overall 1st",null,null,null,null,null,null,null,null,null,null,null,null,null,null,null,null,null,null,null,1,{"$f":"COUNTIFS(Z$8:Z$86,\"=1\",$D$8:$D$86,\"=U18\")+COUNTIFS(Z$8:Z$86,\"=1\",$D$8:$D$86,\"=U21\")","v":0},null,null,{"$f":"COUNTIFS(AC$8:AC$86,\"=1\",$D$8:$D$86,\"=U18\")+COUNTIFS(AC$8:AC$86,\"=1\",$D$8:$D$86,\"=U21\")","v":0},null,{"$f":"COUNTIFS(AE$8:AE$86,\"=1\",$D$8:$D$86,\"=U18\")+COUNTIFS(AE$8:AE$86,\"=1\",$D$8:$D$86,\"=U21\")","v":0},null,null,{"$f":"COUNTIFS(AH$8:AH$86,\"=1\",$D$8:$D$86,\"=U18\")+COUNTIFS(AH$8:AH$86,\"=1\",$D$8:$D$86,\"=U21\")","v":0},null,null,null,{"$f":"COUNTIFS(AL$8:AL$86,\"=1\",$D$8:$D$86,\"=U18\")+COUNTIFS(AL$8:AL$86,\"=1\",$D$8:$D$86,\"=U21\")","v":0},null,null,null,{"$f":"COUNTIFS(AP$8:AP$86,\"=1\",$D$8:$D$86,\"=U18\")+COUNTIFS(AP$8:AP$86,\"=1\",$D$8:$D$86,\"=U21\")","v":1},null,null,{"$f":"COUNTIFS(AS$8:AS$86,\"=1\",$D$8:$D$86,\"=U18\")+COUNTIFS(AS$8:AS$86,\"=1\",$D$8:$D$86,\"=U21\")","v":0},null,null,{"$f":"COUNTIFS(AV$8:AV$86,\"=1\",$D$8:$D$86,\"=U18\")+COUNTIFS(AV$8:AV$86,\"=1\",$D$8:$D$86,\"=U21\")","v":0},null,null,{"$f":"COUNTIFS(AY$8:AY$86,\"=1\",$D$8:$D$86,\"=U18\")+COUNTIFS(AY$8:AY$86,\"=1\",$D$8:$D$86,\"=U21\")","v":0},null,null,{"$f":"COUNTIFS(BB$8:BB$86,\"=1\",$D$8:$D$86,\"=U18\")+COUNTIFS(BB$8:BB$86,\"=1\",$D$8:$D$86,\"=U21\")","v":0},null,null,{"$f":"COUNTIFS(BE$8:BE$86,\"=1\",$D$8:$D$86,\"=U18\")+COUNTIFS(BE$8:BE$86,\"=1\",$D$8:$D$86,\"=U21\")","v":0},null,null,{"$f":"COUNTIFS(BH$8:BH$86,\"=1\",$D$8:$D$86,\"=U18\")+COUNTIFS(BH$8:BH$86,\"=1\",$D$8:$D$86,\"=U21\")","v":0},null,null,{"$f":"COUNTIFS(BK$8:BK$86,\"=1\",$D$8:$D$86,\"=U18\")+COUNTIFS(BK$8:BK$86,\"=1\",$D$8:$D$86,\"=U21\")","v":0},null,null,{"$f":"COUNTIFS(BN$8:BN$86,\"=1\",$D$8:$D$86,\"=U18\")+COUNTIFS(BN$8:BN$86,\"=1\",$D$8:$D$86,\"=U21\")","v":0},null,null,{"$f":"COUNTIFS(BQ$8:BQ$86,\"=1\",$D$8:$D$86,\"=U18\")+COUNTIFS(BQ$8:BQ$86,\"=1\",$D$8:$D$86,\"=U21\")","v":0},null,null,{"$f":"COUNTIFS(BT$8:BT$86,\"=1\",$D$8:$D$86,\"=U18\")+COUNTIFS(BT$8:BT$86,\"=1\",$D$8:$D$86,\"=U21\")","v":0},null,null,{"$f":"COUNTIFS(BW$8:BW$86,\"=1\",$D$8:$D$86,\"=U18\")+COUNTIFS(BW$8:BW$86,\"=1\",$D$8:$D$86,\"=U21\")","v":0},null,null,{"$f":"COUNTIFS(BZ$8:BZ$86,\"=1\",$D$8:$D$86,\"=U18\")+COUNTIFS(BZ$8:BZ$86,\"=1\",$D$8:$D$86,\"=U21\")","v":0},null,null,{"$f":"COUNTIFS(CC$8:CC$86,\"=1\",$D$8:$D$86,\"=U18\")+COUNTIFS(CC$8:CC$86,\"=1\",$D$8:$D$86,\"=U21\")","v":0},null,null,{"$f":"COUNTIFS(CF$8:CF$86,\"=1\",$D$8:$D$86,\"=U18\")+COUNTIFS(CF$8:CF$86,\"=1\",$D$8:$D$86,\"=U21\")","v":0},null,null,null,{"$f":"COUNTIFS(CJ$8:CJ$86,\"=1\",$D$8:$D$86,\"=U18\")+COUNTIFS(CJ$8:CJ$86,\"=1\",$D$8:$D$86,\"=U21\")","v":0},null,null,{"$f":"COUNTIFS(CM$8:CM$86,\"=1\",$D$8:$D$86,\"=U18\")+COUNTIFS(CM$8:CM$86,\"=1\",$D$8:$D$86,\"=U21\")","v":0},null,null,{"$f":"COUNTIFS(CP$8:CP$86,\"=1\",$D$8:$D$86,\"=U18\")+COUNTIFS(CP$8:CP$86,\"=1\",$D$8:$D$86,\"=U21\")","v":0},null,null,{"$f":"COUNTIFS(CS$8:CS$86,\"=1\",$D$8:$D$86,\"=U18\")+COUNTIFS(CS$8:CS$86,\"=1\",$D$8:$D$86,\"=U21\")","v":0},null,null,{"$f":"COUNTIFS(CV$8:CV$86,\"=1\",$D$8:$D$86,\"=U18\")+COUNTIFS(CV$8:CV$86,\"=1\",$D$8:$D$86,\"=U21\")","v":0},null,null,{"$f":"COUNTIFS(CY$8:CY$86,\"=1\",$D$8:$D$86,\"=U18\")+COUNTIFS(CY$8:CY$86,\"=1\",$D$8:$D$86,\"=U21\")","v":0},null,null,{"$f":"COUNTIFS(DB$8:DB$86,\"=1\",$D$8:$D$86,\"=U18\")+COUNTIFS(DB$8:DB$86,\"=1\",$D$8:$D$86,\"=U21\")","v":0},null,null,{"$f":"COUNTIFS(DE$8:DE$86,\"=1\",$D$8:$D$86,\"=U18\")+COUNTIFS(DE$8:DE$86,\"=1\",$D$8:$D$86,\"=U21\")","v":0},null,null,{"$f":"COUNTIFS(DH$8:DH$86,\"=1\",$D$8:$D$86,\"=U18\")+COUNTIFS(DH$8:DH$86,\"=1\",$D$8:$D$86,\"=U21\")","v":0},null,null,{"$f":"COUNTIFS(DK$8:DK$86,\"=1\",$D$8:$D$86,\"=U18\")+COUNTIFS(DK$8:DK$86,\"=1\",$D$8:$D$86,\"=U21\")","v":0},null,null,{"$f":"COUNTIFS(DN$8:DN$86,\"=1\",$D$8:$D$86,\"=U18\")+COUNTIFS(DN$8:DN$86,\"=1\",$D$8:$D$86,\"=U21\")","v":0},null,null,{"$f":"COUNTIFS(DQ$8:DQ$86,\"=1\",$D$8:$D$86,\"=U18\")+COUNTIFS(DQ$8:DQ$86,\"=1\",$D$8:$D$86,\"=U21\")","v":0},null,null,{"$f":"COUNTIFS(DT$8:DT$86,\"=1\",$D$8:$D$86,\"=U18\")+COUNTIFS(DT$8:DT$86,\"=1\",$D$8:$D$86,\"=U21\")","v":0},null,null,{"$f":"COUNTIFS(DW$8:DW$86,\"=1\",$D$8:$D$86,\"=U18\")+COUNTIFS(DW$8:DW$86,\"=1\",$D$8:$D$86,\"=U21\")","v":0},null,null,{"$f":"COUNTIFS(DZ$8:DZ$86,\"=1\",$D$8:$D$86,\"=U18\")+COUNTIFS(DZ$8:DZ$86,\"=1\",$D$8:$D$86,\"=U21\")","v":0},null,null,{"$f":"COUNTIFS(EC$8:EC$86,\"=1\",$D$8:$D$86,\"=U18\")+COUNTIFS(EC$8:EC$86,\"=1\",$D$8:$D$86,\"=U21\")","v":0},null,{"$f":"COUNTIFS(EE$8:EE$86,\"=1\",$D$8:$D$86,\"=U18\")+COUNTIFS(EE$8:EE$86,\"=1\",$D$8:$D$86,\"=U21\")","v":0},null,null,{"$f":"COUNTIFS(EH$8:EH$86,\"=1\",$D$8:$D$86,\"=U18\")+COUNTIFS(EH$8:EH$86,\"=1\",$D$8:$D$86,\"=U21\")","v":0},null,null,{"$f":"COUNTIFS(EK$8:EK$86,\"=1\",$D$8:$D$86,\"=U18\")+COUNTIFS(EK$8:EK$86,\"=1\",$D$8:$D$86,\"=U21\")","v":0},null,null,{"$f":"COUNTIFS(EN$8:EN$86,\"=1\",$D$8:$D$86,\"=U18\")+COUNTIFS(EN$8:EN$86,\"=1\",$D$8:$D$86,\"=U21\")","v":0},null,null,{"$f":"COUNTIFS(EQ$8:EQ$86,\"=1\",$D$8:$D$86,\"=U18\")+COUNTIFS(EQ$8:EQ$86,\"=1\",$D$8:$D$86,\"=U21\")","v":0},null,null,{"$f":"COUNTIFS(ET$8:ET$86,\"=1\",$D$8:$D$86,\"=U18\")+COUNTIFS(ET$8:ET$86,\"=1\",$D$8:$D$86,\"=U21\")","v":0},null,null,{"$f":"COUNTIFS(EW$8:EW$86,\"=1\",$D$8:$D$86,\"=U18\")+COUNTIFS(EW$8:EW$86,\"=1\",$D$8:$D$86,\"=U21\")","v":0},null,null,{"$f":"COUNTIFS(EZ$8:EZ$86,\"=1\",$D$8:$D$86,\"=U18\")+COUNTIFS(EZ$8:EZ$86,\"=1\",$D$8:$D$86,\"=U21\")","v":0},null,null,{"$f":"COUNTIFS(FC$8:FC$86,\"=1\",$D$8:$D$86,\"=U18\")+COUNTIFS(FC$8:FC$86,\"=1\",$D$8:$D$86,\"=U21\")","v":0},null,null,{"$f":"COUNTIFS(FF$8:FF$86,\"=1\",$D$8:$D$86,\"=U18\")+COUNTIFS(FF$8:FF$86,\"=1\",$D$8:$D$86,\"=U21\")","v":0},null,{"$f":"COUNTIFS(FH$8:FH$86,\"=1\",$D$8:$D$86,\"=U18\")+COUNTIFS(FH$8:FH$86,\"=1\",$D$8:$D$86,\"=U21\")","v":0}]
[null,null,null,null,"JN Overall 2nd",null,null,null,null,null,null,null,null,null,null,null,null,null,null,null,null,null,null,null,0,{"$f":"COUNTIFS(Z$8:Z$86,\"=2\",$D$8:$D$86,\"=U18\")+COUNTIFS(Z$8:Z$86,\"=2\",$D$8:$D$86,\"=U21\")","v":0},null,null,{"$f":"COUNTIFS(AC$8:AC$86,\"=2\",$D$8:$D$86,\"=U18\")+COUNTIFS(AC$8:AC$86,\"=2\",$D$8:$D$86,\"=U21\")","v":0},null,{"$f":"COUNTIFS(AE$8:AE$86,\"=2\",$D$8:$D$86,\"=U18\")+COUNTIFS(AE$8:AE$86,\"=2\",$D$8:$D$86,\"=U21\")","v":0},null,null,{"$f":"COUNTIFS(AH$8:AH$86,\"=2\",$D$8:$D$86,\"=U18\")+COUNTIFS(AH$8:AH$86,\"=2\",$D$8:$D$86,\"=U21\")","v":0},null,null,null,{"$f":"COUNTIFS(AL$8:AL$86,\"=2\",$D$8:$D$86,\"=U18\")+COUNTIFS(AL$8:AL$86,\"=2\",$D$8:$D$86,\"=U21\")","v":0},null,null,null,{"$f":"COUNTIFS(AP$8:AP$86,\"=2\",$D$8:$D$86,\"=U18\")+COUNTIFS(AP$8:AP$86,\"=2\",$D$8:$D$86,\"=U21\")","v":0},null,null,{"$f":"COUNTIFS(AS$8:AS$86,\"=2\",$D$8:$D$86,\"=U18\")+COUNTIFS(AS$8:AS$86,\"=2\",$D$8:$D$86,\"=U21\")","v":0},null,null,{"$f":"COUNTIFS(AV$8:AV$86,\"=2\",$D$8:$D$86,\"=U18\")+COUNTIFS(AV$8:AV$86,\"=2\",$D$8:$D$86,\"=U21\")","v":0},null,null,{"$f":"COUNTIFS(AY$8:AY$86,\"=2\",$D$8:$D$86,\"=U18\")+COUNTIFS(AY$8:AY$86,\"=2\",$D$8:$D$86,\"=U21\")","v":0},null,null,{"$f":"COUNTIFS(BB$8:BB$86,\"=2\",$D$8:$D$86,\"=U18\")+COUNTIFS(BB$8:BB$86,\"=2\",$D$8:$D$86,\"=U21\")","v":0},null,null,{"$f":"COUNTIFS(BE$8:BE$86,\"=2\",$D$8:$D$86,\"=U18\")+COUNTIFS(BE$8:BE$86,\"=2\",$D$8:$D$86,\"=U21\")","v":0},null,null,{"$f":"COUNTIFS(BH$8:BH$86,\"=2\",$D$8:$D$86,\"=U18\")+COUNTIFS(BH$8:BH$86,\"=2\",$D$8:$D$86,\"=U21\")","v":0},null,null,{"$f":"COUNTIFS(BK$8:BK$86,\"=2\",$D$8:$D$86,\"=U18\")+COUNTIFS(BK$8:BK$86,\"=2\",$D$8:$D$86,\"=U21\")","v":0},null,null,{"$f":"COUNTIFS(BN$8:BN$86,\"=2\",$D$8:$D$86,\"=U18\")+COUNTIFS(BN$8:BN$86,\"=2\",$D$8:$D$86,\"=U21\")","v":0},null,null,{"$f":"COUNTIFS(BQ$8:BQ$86,\"=2\",$D$8:$D$86,\"=U18\")+COUNTIFS(BQ$8:BQ$86,\"=2\",$D$8:$D$86,\"=U21\")","v":0},null,null,{"$f":"COUNTIFS(BT$8:BT$86,\"=2\",$D$8:$D$86,\"=U18\")+COUNTIFS(BT$8:BT$86,\"=2\",$D$8:$D$86,\"=U21\")","v":0},null,null,{"$f":"COUNTIFS(BW$8:BW$86,\"=2\",$D$8:$D$86,\"=U18\")+COUNTIFS(BW$8:BW$86,\"=2\",$D$8:$D$86,\"=U21\")","v":0},null,null,{"$f":"COUNTIFS(BZ$8:BZ$86,\"=2\",$D$8:$D$86,\"=U18\")+COUNTIFS(BZ$8:BZ$86,\"=2\",$D$8:$D$86,\"=U21\")","v":0},null,null,{"$f":"COUNTIFS(CC$8:CC$86,\"=2\",$D$8:$D$86,\"=U18\")+COUNTIFS(CC$8:CC$86,\"=2\",$D$8:$D$86,\"=U21\")","v":0},null,null,{"$f":"COUNTIFS(CF$8:CF$86,\"=2\",$D$8:$D$86,\"=U18\")+COUNTIFS(CF$8:CF$86,\"=2\",$D$8:$D$86,\"=U21\")","v":0},null,null,null,{"$f":"COUNTIFS(CJ$8:CJ$86,\"=2\",$D$8:$D$86,\"=U18\")+COUNTIFS(CJ$8:CJ$86,\"=2\",$D$8:$D$86,\"=U21\")","v":0},null,null,{"$f":"COUNTIFS(CM$8:CM$86,\"=2\",$D$8:$D$86,\"=U18\")+COUNTIFS(CM$8:CM$86,\"=2\",$D$8:$D$86,\"=U21\")","v":0},null,null,{"$f":"COUNTIFS(CP$8:CP$86,\"=2\",$D$8:$D$86,\"=U18\")+COUNTIFS(CP$8:CP$86,\"=2\",$D$8:$D$86,\"=U21\")","v":0},null,null,{"$f":"COUNTIFS(CS$8:CS$86,\"=2\",$D$8:$D$86,\"=U18\")+COUNTIFS(CS$8:CS$86,\"=2\",$D$8:$D$86,\"=U21\")","v":0},null,null,{"$f":"COUNTIFS(CV$8:CV$86,\"=2\",$D$8:$D$86,\"=U18\")+COUNTIFS(CV$8:CV$86,\"=2\",$D$8:$D$86,\"=U21\")","v":0},null,null,{"$f":"COUNTIFS(CY$8:CY$86,\"=2\",$D$8:$D$86,\"=U18\")+COUNTIFS(CY$8:CY$86,\"=2\",$D$8:$D$86,\"=U21\")","v":0},null,null,{"$f":"COUNTIFS(DB$8:DB$86,\"=2\",$D$8:$D$86,\"=U18\")+COUNTIFS(DB$8:DB$86,\"=2\",$D$8:$D$86,\"=U21\")","v":0},null,null,{"$f":"COUNTIFS(DE$8:DE$86,\"=2\",$D$8:$D$86,\"=U18\")+COUNTIFS(DE$8:DE$86,\"=2\",$D$8:$D$86,\"=U21\")","v":0},null,null,{"$f":"COUNTIFS(DH$8:DH$86,\"=2\",$D$8:$D$86,\"=U18\")+COUNTIFS(DH$8:DH$86,\"=2\",$D$8:$D$86,\"=U21\")","v":0},null,null,{"$f":"COUNTIFS(DK$8:DK$86,\"=2\",$D$8:$D$86,\"=U18\")+COUNTIFS(DK$8:DK$86,\"=2\",$D$8:$D$86,\"=U21\")","v":0},null,null,{"$f":"COUNTIFS(DN$8:DN$86,\"=2\",$D$8:$D$86,\"=U18\")+COUNTIFS(DN$8:DN$86,\"=2\",$D$8:$D$86,\"=U21\")","v":0},null,null,{"$f":"COUNTIFS(DQ$8:DQ$86,\"=2\",$D$8:$D$86,\"=U18\")+COUNTIFS(DQ$8:DQ$86,\"=2\",$D$8:$D$86,\"=U21\")","v":0},null,null,{"$f":"COUNTIFS(DT$8:DT$86,\"=2\",$D$8:$D$86,\"=U18\")+COUNTIFS(DT$8:DT$86,\"=2\",$D$8:$D$86,\"=U21\")","v":0},null,null,{"$f":"COUNTIFS(DW$8:DW$86,\"=2\",$D$8:$D$86,\"=U18\")+COUNTIFS(DW$8:DW$86,\"=2\",$D$8:$D$86,\"=U21\")","v":0},null,null,{"$f":"COUNTIFS(DZ$8:DZ$86,\"=2\",$D$8:$D$86,\"=U18\")+COUNTIFS(DZ$8:DZ$86,\"=2\",$D$8:$D$86,\"=U21\")","v":0},null,null,{"$f":"COUNTIFS(EC$8:EC$86,\"=2\",$D$8:$D$86,\"=U18\")+COUNTIFS(EC$8:EC$86,\"=2\",$D$8:$D$86,\"=U21\")","v":0},null,{"$f":"COUNTIFS(EE$8:EE$86,\"=2\",$D$8:$D$86,\"=U18\")+COUNTIFS(EE$8:EE$86,\"=2\",$D$8:$D$86,\"=U21\")","v":0},null,null,{"$f":"COUNTIFS(EH$8:EH$86,\"=2\",$D$8:$D$86,\"=U18\")+COUNTIFS(EH$8:EH$86,\"=2\",$D$8:$D$86,\"=U21\")","v":0},null,null,{"$f":"COUNTIFS(EK$8:EK$86,\"=2\",$D$8:$D$86,\"=U18\")+COUNTIFS(EK$8:EK$86,\"=2\",$D$8:$D$86,\"=U21\")","v":0},null,null,{"$f":"COUNTIFS(EN$8:EN$86,\"=2\",$D$8:$D$86,\"=U18\")+COUNTIFS(EN$8:EN$86,\"=2\",$D$8:$D$86,\"=U21\")","v":0},null,null,{"$f":"COUNTIFS(EQ$8:EQ$86,\"=2\",$D$8:$D$86,\"=U18\")+COUNTIFS(EQ$8:EQ$86,\"=2\",$D$8:$D$86,\"=U21\")","v":0},null,null,{"$f":"COUNTIFS(ET$8:ET$86,\"=2\",$D$8:$D$86,\"=U18\")+COUNTIFS(ET$8:ET$86,\"=2\",$D$8:$D$86,\"=U21\")","v":0},null,null,{"$f":"COUNTIFS(EW$8:EW$86,\"=2\",$D$8:$D$86,\"=U18\")+COUNTIFS(EW$8:EW$86,\"=2\",$D$8:$D$86,\"=U21\")","v":0},null,null,{"$f":"COUNTIFS(EZ$8:EZ$86,\"=2\",$D$8:$D$86,\"=U18\")+COUNTIFS(EZ$8:EZ$86,\"=2\",$D$8:$D$86,\"=U21\")","v":0},null,null,{"$f":"COUNTIFS(FC$8:FC$86,\"=2\",$D$8:$D$86,\"=U18\")+COUNTIFS(FC$8:FC$86,\"=2\",$D$8:$D$86,\"=U21\")","v":0},null,null,{"$f":"COUNTIFS(FF$8:FF$86,\"=2\",$D$8:$D$86,\"=U18\")+COUNTIFS(FF$8:FF$86,\"=2\",$D$8:$D$86,\"=U21\")","v":0},null,{"$f":"COUNTIFS(FH$8:FH$86,\"=2\",$D$8:$D$86,\"=U18\")+COUNTIFS(FH$8:FH$86,\"=2\",$D$8:$D$86,\"=U21\")","v":0}]
[null,null,null,null,"JN Overall 3rd",null,null,null,null,null,null,null,null,null,null,null,null,null,null,null,null,null,null,null,2,{"$f":"COUNTIFS(Z$8:Z$86,\"=3\",$D$8:$D$86,\"=U18\")+COUNTIFS(Z$8:Z$86,\"=3\",$D$8:$D$86,\"=U21\")","v":0},null,null,{"$f":"COUNTIFS(AC$8:AC$86,\"=3\",$D$8:$D$86,\"=U18\")+COUNTIFS(AC$8:AC$86,\"=3\",$D$8:$D$86,\"=U21\")","v":0},null,{"$f":"COUNTIFS(AE$8:AE$86,\"=3\",$D$8:$D$86,\"=U18\")+COUNTIFS(AE$8:AE$86,\"=3\",$D$8:$D$86,\"=U21\")","v":1},null,null,{"$f":"COUNTIFS(AH$8:AH$86,\"=3\",$D$8:$D$86,\"=U18\")+COUNTIFS(AH$8:AH$86,\"=3\",$D$8:$D$86,\"=U21\")","v":0},null,null,null,{"$f":"COUNTIFS(AL$8:AL$86,\"=3\",$D$8:$D$86,\"=U18\")+COUNTIFS(AL$8:AL$86,\"=3\",$D$8:$D$86,\"=U21\")","v":0},null,null,null,{"$f":"COUNTIFS(AP$8:AP$86,\"=3\",$D$8:$D$86,\"=U18\")+COUNTIFS(AP$8:AP$86,\"=3\",$D$8:$D$86,\"=U21\")","v":0},null,null,{"$f":"COUNTIFS(AS$8:AS$86,\"=3\",$D$8:$D$86,\"=U18\")+COUNTIFS(AS$8:AS$86,\"=3\",$D$8:$D$86,\"=U21\")","v":0},null,null,{"$f":"COUNTIFS(AV$8:AV$86,\"=3\",$D$8:$D$86,\"=U18\")+COUNTIFS(AV$8:AV$86,\"=3\",$D$8:$D$86,\"=U21\")","v":0},null,null,{"$f":"COUNTIFS(AY$8:AY$86,\"=3\",$D$8:$D$86,\"=U18\")+COUNTIFS(AY$8:AY$86,\"=3\",$D$8:$D$86,\"=U21\")","v":0},null,null,{"$f":"COUNTIFS(BB$8:BB$86,\"=3\",$D$8:$D$86,\"=U18\")+COUNTIFS(BB$8:BB$86,\"=3\",$D$8:$D$86,\"=U21\")","v":0},null,null,{"$f":"COUNTIFS(BE$8:BE$86,\"=3\",$D$8:$D$86,\"=U18\")+COUNTIFS(BE$8:BE$86,\"=3\",$D$8:$D$86,\"=U21\")","v":0},null,null,{"$f":"COUNTIFS(BH$8:BH$86,\"=3\",$D$8:$D$86,\"=U18\")+COUNTIFS(BH$8:BH$86,\"=3\",$D$8:$D$86,\"=U21\")","v":0},null,null,{"$f":"COUNTIFS(BK$8:BK$86,\"=3\",$D$8:$D$86,\"=U18\")+COUNTIFS(BK$8:BK$86,\"=3\",$D$8:$D$86,\"=U21\")","v":0},null,null,{"$f":"COUNTIFS(BN$8:BN$86,\"=3\",$D$8:$D$86,\"=U18\")+COUNTIFS(BN$8:BN$86,\"=3\",$D$8:$D$86,\"=U21\")","v":0},null,null,{"$f":"COUNTIFS(BQ$8:BQ$86,\"=3\",$D$8:$D$86,\"=U18\")+COUNTIFS(BQ$8:BQ$86,\"=3\",$D$8:$D$86,\"=U21\")","v":0},null,null,{"$f":"COUNTIFS(BT$8:BT$86,\"=3\",$D$8:$D$86,\"=U18\")+COUNTIFS(BT$8:BT$86,\"=3\",$D$8:$D$86,\"=U21\")","v":0},null,null,{"$f":"COUNTIFS(BW$8:BW$86,\"=3\",$D$8:$D$86,\"=U18\")+COUNTIFS(BW$8:BW$86,\"=3\",$D$8:$D$86,\"=U21\")","v":0},null,null,{"$f":"COUNTIFS(BZ$8:BZ$86,\"=3\",$D$8:$D$86,\"=U18\")+COUNTIFS(BZ$8:BZ$86,\"=3\",$D$8:$D$86,\"=U21\")","v":0},null,null,{"$f":"COUNTIFS(CC$8:CC$86,\"=3\",$D$8:$D$86,\"=U18\")+COUNTIFS(CC$8:CC$86,\"=3\",$D$8:$D$86,\"=U21\")","v":0},null,null,{"$f":"COUNTIFS(CF$8:CF$86,\"=3\",$D$8:$D$86,\"=U18\")+COUNTIFS(CF$8:CF$86,\"=3\",$D$8:$D$86,\"=U21\")","v":0},null,null,null,{"$f":"COUNTIFS(CJ$8:CJ$86,\"=3\",$D$8:$D$86,\"=U18\")+COUNTIFS(CJ$8:CJ$86,\"=3\",$D$8:$D$86,\"=U21\")","v":0},null,null,{"$f":"COUNTIFS(CM$8:CM$86,\"=3\",$D$8:$D$86,\"=U18\")+COUNTIFS(CM$8:CM$86,\"=3\",$D$8:$D$86,\"=U21\")","v":0},null,null,{"$f":"COUNTIFS(CP$8:CP$86,\"=3\",$D$8:$D$86,\"=U18\")+COUNTIFS(CP$8:CP$86,\"=3\",$D$8:$D$86,\"=U21\")","v":0},null,null,{"$f":"COUNTIFS(CS$8:CS$86,\"=3\",$D$8:$D$86,\"=U18\")+COUNTIFS(CS$8:CS$86,\"=3\",$D$8:$D$86,\"=U21\")","v":0},null,null,{"$f":"COUNTIFS(CV$8:CV$86,\"=3\",$D$8:$D$86,\"=U18\")+COUNTIFS(CV$8:CV$86,\"=3\",$D$8:$D$86,\"=U21\")","v":1},null,null,{"$f":"COUNTIFS(CY$8:CY$86,\"=3\",$D$8:$D$86,\"=U18\")+COUNTIFS(CY$8:CY$86,\"=3\",$D$8:$D$86,\"=U21\")","v":0},null,null,{"$f":"COUNTIFS(DB$8:DB$86,\"=3\",$D$8:$D$86,\"=U18\")+COUNTIFS(DB$8:DB$86,\"=3\",$D$8:$D$86,\"=U21\")","v":0},null,null,{"$f":"COUNTIFS(DE$8:DE$86,\"=3\",$D$8:$D$86,\"=U18\")+COUNTIFS(DE$8:DE$86,\"=3\",$D$8:$D$86,\"=U21\")","v":0},null,null,{"$f":"COUNTIFS(DH$8:DH$86,\"=3\",$D$8:$D$86,\"=U18\")+COUNTIFS(DH$8:DH$86,\"=3\",$D$8:$D$86,\"=U21\")","v":0},null,null,{"$f":"COUNTIFS(DK$8:DK$86,\"=3\",$D$8:$D$86,\"=U18\")+COUNTIFS(DK$8:DK$86,\"=3\",$D$8:$D$86,\"=U21\")","v":0},null,null,{"$f":"COUNTIFS(DN$8:DN$86,\"=3\",$D$8:$D$86,\"=U18\")+COUNTIFS(DN$8:DN$86,\"=3\",$D$8:$D$86,\"=U21\")","v":0},null,null,{"$f":"COUNTIFS(DQ$8:DQ$86,\"=3\",$D$8:$D$86,\"=U18\")+COUNTIFS(DQ$8:DQ$86,\"=3\",$D$8:$D$86,\"=U21\")","v":0},null,null,{"$f":"COUNTIFS(DT$8:DT$86,\"=3\",$D$8:$D$86,\"=U18\")+COUNTIFS(DT$8:DT$86,\"=3\",$D$8:$D$86,\"=U21\")","v":0},null,null,{"$f":"COUNTIFS(DW$8:DW$86,\"=3\",$D$8:$D$86,\"=U18\")+COUNTIFS(DW$8:DW$86,\"=3\",$D$8:$D$86,\"=U21\")","v":0},null,null,{"$f":"COUNTIFS(DZ$8:DZ$86,\"=3\",$D$8:$D$86,\"=U18\")+COUNTIFS(DZ$8:DZ$86,\"=3\",$D$8:$D$86,\"=U21\")","v":0},null,null,{"$f":"COUNTIFS(EC$8:EC$86,\"=3\",$D$8:$D$86,\"=U18\")+COUNTIFS(EC$8:EC$86,\"=3\",$D$8:$D$86,\"=U21\")","v":0},null,{"$f":"COUNTIFS(EE$8:EE$86,\"=3\",$D$8:$D$86,\"=U18\")+COUNTIFS(EE$8:EE$86,\"=3\",$D$8:$D$86,\"=U21\")","v":0},null,null,{"$f":"COUNTIFS(EH$8:EH$86,\"=3\",$D$8:$D$86,\"=U18\")+COUNTIFS(EH$8:EH$86,\"=3\",$D$8:$D$86,\"=U21\")","v":0},null,null,{"$f":"COUNTIFS(EK$8:EK$86,\"=3\",$D$8:$D$86,\"=U18\")+COUNTIFS(EK$8:EK$86,\"=3\",$D$8:$D$86,\"=U21\")","v":0},null,null,{"$f":"COUNTIFS(EN$8:EN$86,\"=3\",$D$8:$D$86,\"=U18\")+COUNTIFS(EN$8:EN$86,\"=3\",$D$8:$D$86,\"=U21\")","v":0},null,null,{"$f":"COUNTIFS(EQ$8:EQ$86,\"=3\",$D$8:$D$86,\"=U18\")+COUNTIFS(EQ$8:EQ$86,\"=3\",$D$8:$D$86,\"=U21\")","v":0},null,null,{"$f":"COUNTIFS(ET$8:ET$86,\"=3\",$D$8:$D$86,\"=U18\")+COUNTIFS(ET$8:ET$86,\"=3\",$D$8:$D$86,\"=U21\")","v":0},null,null,{"$f":"COUNTIFS(EW$8:EW$86,\"=3\",$D$8:$D$86,\"=U18\")+COUNTIFS(EW$8:EW$86,\"=3\",$D$8:$D$86,\"=U21\")","v":0},null,null,{"$f":"COUNTIFS(EZ$8:EZ$86,\"=3\",$D$8:$D$86,\"=U18\")+COUNTIFS(EZ$8:EZ$86,\"=3\",$D$8:$D$86,\"=U21\")","v":0},null,null,{"$f":"COUNTIFS(FC$8:FC$86,\"=3\",$D$8:$D$86,\"=U18\")+COUNTIFS(FC$8:FC$86,\"=3\",$D$8:$D$86,\"=U21\")","v":0},null,null,{"$f":"COUNTIFS(FF$8:FF$86,\"=3\",$D$8:$D$86,\"=U18\")+COUNTIFS(FF$8:FF$86,\"=3\",$D$8:$D$86,\"=U21\")","v":0},null,{"$f":"COUNTIFS(FH$8:FH$86,\"=3\",$D$8:$D$86,\"=U18\")+COUNTIFS(FH$8:FH$86,\"=3\",$D$8:$D$86,\"=U21\")","v":0}]
[null,null,null,null,"SEN Overall 1st",null,null,null,null,null,null,null,null,null,null,null,null,null,null,null,null,null,null,null,3,{"$f":"COUNTIFS(Z$8:Z$86,\"=1\",$D$8:$D$86,\"=SEN\")","v":0},null,null,{"$f":"COUNTIFS(AC$8:AC$86,\"=1\",$D$8:$D$86,\"=SEN\")","v":0},null,{"$f":"COUNTIFS(AE$8:AE$86,\"=1\",$D$8:$D$86,\"=SEN\")","v":1},null,null,{"$f":"COUNTIFS(AH$8:AH$86,\"=1\",$D$8:$D$86,\"=SEN\")","v":0},null,null,null,{"$f":"COUNTIFS(AL$8:AL$86,\"=1\",$D$8:$D$86,\"=SEN\")","v":0},null,null,null,{"$f":"COUNTIFS(AP$8:AP$86,\"=1\",$D$8:$D$86,\"=SEN\")","v":0},null,null,{"$f":"COUNTIFS(AS$8:AS$86,\"=1\",$D$8:$D$86,\"=SEN\")","v":0},null,null,{"$f":"COUNTIFS(AV$8:AV$86,\"=1\",$D$8:$D$86,\"=SEN\")","v":0},null,null,{"$f":"COUNTIFS(AY$8:AY$86,\"=1\",$D$8:$D$86,\"=SEN\")","v":0},null,null,{"$f":"COUNTIFS(BB$8:BB$86,\"=1\",$D$8:$D$86,\"=SEN\")","v":0},null,null,{"$f":"COUNTIFS(BE$8:BE$86,\"=1\",$D$8:$D$86,\"=SEN\")","v":0},null,null,{"$f":"COUNTIFS(BH$8:BH$86,\"=1\",$D$8:$D$86,\"=SEN\")","v":0},null,null,{"$f":"COUNTIFS(BK$8:BK$86,\"=1\",$D$8:$D$86,\"=SEN\")","v":0},null,null,{"$f":"COUNTIFS(BN$8:BN$86,\"=1\",$D$8:$D$86,\"=SEN\")","v":0},null,null,{"$f":"COUNTIFS(BQ$8:BQ$86,\"=1\",$D$8:$D$86,\"=SEN\")","v":0},null,null,{"$f":"COUNTIFS(BT$8:BT$86,\"=1\",$D$8:$D$86,\"=SEN\")","v":0},null,null,{"$f":"COUNTIFS(BW$8:BW$86,\"=1\",$D$8:$D$86,\"=SEN\")","v":0},null,null,{"$f":"COUNTIFS(BZ$8:BZ$86,\"=1\",$D$8:$D$86,\"=SEN\")","v":0},null,null,{"$f":"COUNTIFS(CC$8:CC$86,\"=1\",$D$8:$D$86,\"=SEN\")","v":0},null,null,{"$f":"COUNTIFS(CF$8:CF$86,\"=1\",$D$8:$D$86,\"=SEN\")","v":0},null,null,null,{"$f":"COUNTIFS(CJ$8:CJ$86,\"=1\",$D$8:$D$86,\"=SEN\")","v":1},null,null,{"$f":"COUNTIFS(CM$8:CM$86,\"=1\",$D$8:$D$86,\"=SEN\")","v":0},null,null,{"$f":"COUNTIFS(CP$8:CP$86,\"=1\",$D$8:$D$86,\"=SEN\")","v":1},null,null,{"$f":"COUNTIFS(CS$8:CS$86,\"=1\",$D$8:$D$86,\"=SEN\")","v":0},null,null,{"$f":"COUNTIFS(CV$8:CV$86,\"=1\",$D$8:$D$86,\"=SEN\")","v":0},null,null,{"$f":"COUNTIFS(CY$8:CY$86,\"=1\",$D$8:$D$86,\"=SEN\")","v":0},null,null,{"$f":"COUNTIFS(DB$8:DB$86,\"=1\",$D$8:$D$86,\"=SEN\")","v":0},null,null,{"$f":"COUNTIFS(DE$8:DE$86,\"=1\",$D$8:$D$86,\"=SEN\")","v":0},null,null,{"$f":"COUNTIFS(DH$8:DH$86,\"=1\",$D$8:$D$86,\"=SEN\")","v":0},null,null,{"$f":"COUNTIFS(DK$8:DK$86,\"=1\",$D$8:$D$86,\"=SEN\")","v":0},null,null,{"$f":"COUNTIFS(DN$8:DN$86,\"=1\",$D$8:$D$86,\"=SEN\")","v":0},null,null,{"$f":"COUNTIFS(DQ$8:DQ$86,\"=1\",$D$8:$D$86,\"=SEN\")","v":0},null,null,{"$f":"COUNTIFS(DT$8:DT$86,\"=1\",$D$8:$D$86,\"=SEN\")","v":0},null,null,{"$f":"COUNTIFS(DW$8:DW$86,\"=1\",$D$8:$D$86,\"=SEN\")","v":0},null,null,{"$f":"COUNTIFS(DZ$8:DZ$86,\"=1\",$D$8:$D$86,\"=SEN\")","v":0},null,null,{"$f":"COUNTIFS(EC$8:EC$86,\"=1\",$D$8:$D$86,\"=SEN\")","v":0},null,{"$f":"COUNTIFS(EE$8:EE$86,\"=1\",$D$8:$D$86,\"=SEN\")","v":0},null,null,{"$f":"COUNTIFS(EH$8:EH$86,\"=1\",$D$8:$D$86,\"=SEN\")","v":0},null,null,{"$f":"COUNTIFS(EK$8:EK$86,\"=1\",$D$8:$D$86,\"=SEN\")","v":0},null,null,{"$f":"COUNTIFS(EN$8:EN$86,\"=1\",$D$8:$D$86,\"=SEN\")","v":0},null,null,{"$f":"COUNTIFS(EQ$8:EQ$86,\"=1\",$D$8:$D$86,\"=SEN\")","v":0},null,null,{"$f":"COUNTIFS(ET$8:ET$86,\"=1\",$D$8:$D$86,\"=SEN\")","v":0},null,null,{"$f":"COUNTIFS(EW$8:EW$86,\"=1\",$D$8:$D$86,\"=SEN\")","v":0},null,null,{"$f":"COUNTIFS(EZ$8:EZ$86,\"=1\",$D$8:$D$86,\"=SEN\")","v":0},null,null,{"$f":"COUNTIFS(FC$8:FC$86,\"=1\",$D$8:$D$86,\"=SEN\")","v":0},null,null,{"$f":"COUNTIFS(FF$8:FF$86,\"=1\",$D$8:$D$86,\"=SEN\")","v":0},null,{"$f":"COUNTIFS(FH$8:FH$86,\"=1\",$D$8:$D$86,\"=SEN\")","v":0}]
[null,null,null,null,"SEN Overall 2nd",null,null,null,null,null,null,null,null,null,null,null,null,null,null,null,null,null,null,null,1,{"$f":"COUNTIFS(Z$8:Z$86,\"=2\",$D$8:$D$86,\"=SEN\")","v":0},null,null,{"$f":"COUNTIFS(AC$8:AC$86,\"=2\",$D$8:$D$86,\"=SEN\")","v":0},null,{"$f":"COUNTIFS(AE$8:AE$86,\"=2\",$D$8:$D$86,\"=SEN\")","v":0},null,null,{"$f":"COUNTIFS(AH$8:AH$86,\"=2\",$D$8:$D$86,\"=SEN\")","v":0},null,null,null,{"$f":"COUNTIFS(AL$8:AL$86,\"=2\",$D$8:$D$86,\"=SEN\")","v":0},null,null,null,{"$f":"COUNTIFS(AP$8:AP$86,\"=2\",$D$8:$D$86,\"=SEN\")","v":0},null,null,{"$f":"COUNTIFS(AS$8:AS$86,\"=2\",$D$8:$D$86,\"=SEN\")","v":0},null,null,{"$f":"COUNTIFS(AV$8:AV$86,\"=2\",$D$8:$D$86,\"=SEN\")","v":0},null,null,{"$f":"COUNTIFS(AY$8:AY$86,\"=2\",$D$8:$D$86,\"=SEN\")","v":0},null,null,{"$f":"COUNTIFS(BB$8:BB$86,\"=2\",$D$8:$D$86,\"=SEN\")","v":0},null,null,{"$f":"COUNTIFS(BE$8:BE$86,\"=2\",$D$8:$D$86,\"=SEN\")","v":0},null,null,{"$f":"COUNTIFS(BH$8:BH$86,\"=2\",$D$8:$D$86,\"=SEN\")","v":0},null,null,{"$f":"COUNTIFS(BK$8:BK$86,\"=2\",$D$8:$D$86,\"=SEN\")","v":0},null,null,{"$f":"COUNTIFS(BN$8:BN$86,\"=2\",$D$8:$D$86,\"=SEN\")","v":0},null,null,{"$f":"COUNTIFS(BQ$8:BQ$86,\"=2\",$D$8:$D$86,\"=SEN\")","v":0},null,null,{"$f":"COUNTIFS(BT$8:BT$86,\"=2\",$D$8:$D$86,\"=SEN\")","v":0},null,null,{"$f":"COUNTIFS(BW$8:BW$86,\"=2\",$D$8:$D$86,\"=SEN\")","v":0},null,null,{"$f":"COUNTIFS(BZ$8:BZ$86,\"=2\",$D$8:$D$86,\"=SEN\")","v":1},null,null,{"$f":"COUNTIFS(CC$8:CC$86,\"=2\",$D$8:$D$86,\"=SEN\")","v":0},null,null,{"$f":"COUNTIFS(CF$8:CF$86,\"=2\",$D$8:$D$86,\"=SEN\")","v":0},null,null,null,{"$f":"COUNTIFS(CJ$8:CJ$86,\"=2\",$D$8:$D$86,\"=SEN\")","v":0},null,null,{"$f":"COUNTIFS(CM$8:CM$86,\"=2\",$D$8:$D$86,\"=SEN\")","v":0},null,null,{"$f":"COUNTIFS(CP$8:CP$86,\"=2\",$D$8:$D$86,\"=SEN\")","v":0},null,null,{"$f":"COUNTIFS(CS$8:CS$86,\"=2\",$D$8:$D$86,\"=SEN\")","v":0},null,null,{"$f":"COUNTIFS(CV$8:CV$86,\"=2\",$D$8:$D$86,\"=SEN\")","v":0},null,null,{"$f":"COUNTIFS(CY$8:CY$86,\"=2\",$D$8:$D$86,\"=SEN\")","v":0},null,null,{"$f":"COUNTIFS(DB$8:DB$86,\"=2\",$D$8:$D$86,\"=SEN\")","v":0},null,null,{"$f":"COUNTIFS(DE$8:DE$86,\"=2\",$D$8:$D$86,\"=SEN\")","v":0},null,null,{"$f":"COUNTIFS(DH$8:DH$86,\"=2\",$D$8:$D$86,\"=SEN\")","v":0},null,null,{"$f":"COUNTIFS(DK$8:DK$86,\"=2\",$D$8:$D$86,\"=SEN\")","v":0},null,null,{"$f":"COUNTIFS(DN$8:DN$86,\"=2\",$D$8:$D$86,\"=SEN\")","v":0},null,null,{"$f":"COUNTIFS(DQ$8:DQ$86,\"=2\",$D$8:$D$86,\"=SEN\")","v":0},null,null,{"$f":"COUNTIFS(DT$8:DT$86,\"=2\",$D$8:$D$86,\"=SEN\")","v":0},null,null,{"$f":"COUNTIFS(DW$8:DW$86,\"=2\",$D$8:$D$86,\"=SEN\")","v":0},null,null,{"$f":"COUNTIFS(DZ$8:DZ$86,\"=2\",$D$8:$D$86,\"=SEN\")","v":0},null,null,{"$f":"COUNTIFS(EC$8:EC$86,\"=2\",$D$8:$D$86,\"=SEN\")","v":0},null,{"$f":"COUNTIFS(EE$8:EE$86,\"=2\",$D$8:$D$86,\"=SEN\")","v":0},null,null,{"$f":"COUNTIFS(EH$8:EH$86,\"=2\",$D$8:$D$86,\"=SEN\")","v":0},null,null,{"$f":"COUNTIFS(EK$8:EK$86,\"=2\",$D$8:$D$86,\"=SEN\")","v":0},null,null,{"$f":"COUNTIFS(EN$8:EN$86,\"=2\",$D$8:$D$86,\"=SEN\")","v":0},null,null,{"$f":"COUNTIFS(EQ$8:EQ$86,\"=2\",$D$8:$D$86,\"=SEN\")","v":0},null,null,{"$f":"COUNTIFS(ET$8:ET$86,\"=2\",$D$8:$D$86,\"=SEN\")","v":0},null,null,{"$f":"COUNTIFS(EW$8:EW$86,\"=2\",$D$8:$D$86,\"=SEN\")","v":0},null,null,{"$f":"COUNTIFS(EZ$8:EZ$86,\"=2\",$D$8:$D$86,\"=SEN\")","v":0},null,null,{"$f":"COUNTIFS(FC$8:FC$86,\"=2\",$D$8:$D$86,\"=SEN\")","v":0},null,null,{"$f":"COUNTIFS(FF$8:FF$86,\"=2\",$D$8:$D$86,\"=SEN\")","v":0},null,{"$f":"COUNTIFS(FH$8:FH$86,\"=2\",$D$8:$D$86,\"=SEN\")","v":0}]
[null,null,null,null,"SEN Overall 3rd",null,null,null,null,null,null,null,null,null,null,null,null,null,null,null,null,null,null,null,2,{"$f":"COUNTIFS(Z$8:Z$86,\"=3\",$D$8:$D$86,\"=SEN\")","v":0},null,null,{"$f":"COUNTIFS(AC$8:AC$86,\"=3\",$D$8:$D$86,\"=SEN\")","v":0},null,{"$f":"COUNTIFS(AE$8:AE$86,\"=3\",$D$8:$D$86,\"=SEN\")","v":0},null,null,{"$f":"COUNTIFS(AH$8:AH$86,\"=3\",$D$8:$D$86,\"=SEN\")","v":0},null,null,null,{"$f":"COUNTIFS(AL$8:AL$86,\"=3\",$D$8:$D$86,\"=SEN\")","v":0},null,null,null,{"$f":"COUNTIFS(AP$8:AP$86,\"=3\",$D$8:$D$86,\"=SEN\")","v":0},null,null,{"$f":"COUNTIFS(AS$8:AS$86,\"=3\",$D$8:$D$86,\"=SEN\")","v":0},null,null,{"$f":"COUNTIFS(AV$8:AV$86,\"=3\",$D$8:$D$86,\"=SEN\")","v":0},null,null,{"$f":"COUNTIFS(AY$8:AY$86,\"=3\",$D$8:$D$86,\"=SEN\")","v":0},null,null,{"$f":"COUNTIFS(BB$8:BB$86,\"=3\",$D$8:$D$86,\"=SEN\")","v":0},null,null,{"$f":"COUNTIFS(BE$8:BE$86,\"=3\",$D$8:$D$86,\"=SEN\")","v":0},null,null,{"$f":"COUNTIFS(BH$8:BH$86,\"=3\",$D$8:$D$86,\"=SEN\")","v":0},null,null,{"$f":"COUNTIFS(BK$8:BK$86,\"=3\",$D$8:$D$86,\"=SEN\")","v":0},null,null,{"$f":"COUNTIFS(BN$8:BN$86,\"=3\",$D$8:$D$86,\"=SEN\")","v":0},null,null,{"$f":"COUNTIFS(BQ$8:BQ$86,\"=3\",$D$8:$D$86,\"=SEN\")","v":0},null,null,{"$f":"COUNTIFS(BT$8:BT$86,\"=3\",$D$8:$D$86,\"=SEN\")","v":0},null,null,{"$f":"COUNTIFS(BW$8:BW$86,\"=3\",$D$8:$D$86,\"=SEN\")","v":0},null,null,{"$f":"COUNTIFS(BZ$8:BZ$86,\"=3\",$D$8:$D$86,\"=SEN\")","v":0},null,null,{"$f":"COUNTIFS(CC$8:CC$86,\"=3\",$D$8:$D$86,\"=SEN\")","v":0},null,null,{"$f":"COUNTIFS(CF$8:CF$86,\"=3\",$D$8:$D$86,\"=SEN\")","v":0},null,null,null,{"$f":"COUNTIFS(CJ$8:CJ$86,\"=3\",$D$8:$D$86,\"=SEN\")","v":0},null,null,{"$f":"COUNTIFS(CM$8:CM$86,\"=3\",$D$8:$D$86,\"=SEN\")","v":0},null,null,{"$f":"COUNTIFS(CP$8:CP$86,\"=3\",$D$8:$D$86,\"=SEN\")","v":0},null,null,{"$f":"COUNTIFS(CS$8:CS$86,\"=3\",$D$8:$D$86,\"=SEN\")","v":0},null,null,{"$f":"COUNTIFS(CV$8:CV$86,\"=3\",$D$8:$D$86,\"=SEN\")","v":1},null,null,{"$f":"COUNTIFS(CY$8:CY$86,\"=3\",$D$8:$D$86,\"=SEN\")","v":0},null,null,{"$f":"COUNTIFS(DB$8:DB$86,\"=3\",$D$8:$D$86,\"=SEN\")","v":1},null,null,{"$f":"COUNTIFS(DE$8:DE$86,\"=3\",$D$8:$D$86,\"=SEN\")","v":0},null,null,{"$f":"COUNTIFS(DH$8:DH$86,\"=3\",$D$8:$D$86,\"=SEN\")","v":0},null,null,{"$f":"COUNTIFS(DK$8:DK$86,\"=3\",$D$8:$D$86,\"=SEN\")","v":0},null,null,{"$f":"COUNTIFS(DN$8:DN$86,\"=3\",$D$8:$D$86,\"=SEN\")","v":0},null,null,{"$f":"COUNTIFS(DQ$8:DQ$86,\"=3\",$D$8:$D$86,\"=SEN\")","v":0},null,null,{"$f":"COUNTIFS(DT$8:DT$86,\"=3\",$D$8:$D$86,\"=SEN\")","v":0},null,null,{"$f":"COUNTIFS(DW$8:DW$86,\"=3\",$D$8:$D$86,\"=SEN\")","v":0},null,null,{"$f":"COUNTIFS(DZ$8:DZ$86,\"=3\",$D$8:$D$86,\"=SEN\")","v":0},null,null,{"$f":"COUNTIFS(EC$8:EC$86,\"=3\",$D$8:$D$86,\"=SEN\")","v":0},null,{"$f":"COUNTIFS(EE$8:EE$86,\"=3\",$D$8:$D$86,\"=SEN\")","v":0},null,null,{"$f":"COUNTIFS(EH$8:EH$86,\"=3\",$D$8:$D$86,\"=SEN\")","v":0},null,null,{"$f":"COUNTIFS(EK$8:EK$86,\"=3\",$D$8:$D$86,\"=SEN\")","v":0},null,null,{"$f":"COUNTIFS(EN$8:EN$86,\"=3\",$D$8:$D$86,\"=SEN\")","v":0},null,null,{"$f":"COUNTIFS(EQ$8:EQ$86,\"=3\",$D$8:$D$86,\"=SEN\")","v":0},null,null,{"$f":"COUNTIFS(ET$8:ET$86,\"=3\",$D$8:$D$86,\"=SEN\")","v":0},null,null,{"$f":"COUNTIFS(EW$8:EW$86,\"=3\",$D$8:$D$86,\"=SEN\")","v":0},null,null,{"$f":"COUNTIFS(EZ$8:EZ$86,\"=3\",$D$8:$D$86,\"=SEN\")","v":0},null,null,{"$f":"COUNTIFS(FC$8:FC$86,\"=3\",$D$8:$D$86,\"=SEN\")","v":0},null,null,{"$f":"COUNTIFS(FF$8:FF$86,\"=3\",$D$8:$D$86,\"=SEN\")","v":0},null,{"$f":"COUNTIFS(FH$8:FH$86,\"=3\",$D$8:$D$86,\"=SEN\")","v":0}]
[null,null,null,null,"MAS Overall 1st",null,null,null,null,null,null,null,null,null,null,null,null,null,null,null,null,null,null,null,0,{"$f":"COUNTIFS(Z$8:Z$86,\"=1\",$D$8:$D$86,\"=MAS\")","v":0},null,null,{"$f":"COUNTIFS(AC$8:AC$86,\"=1\",$D$8:$D$86,\"=MAS\")","v":0},null,{"$f":"COUNTIFS(AE$8:AE$86,\"=1\",$D$8:$D$86,\"=MAS\")","v":0},null,null,{"$f":"COUNTIFS(AH$8:AH$86,\"=1\",$D$8:$D$86,\"=MAS\")","v":0},null,null,null,{"$f":"COUNTIFS(AL$8:AL$86,\"=1\",$D$8:$D$86,\"=MAS\")","v":0},null,null,null,{"$f":"COUNTIFS(AP$8:AP$86,\"=1\",$D$8:$D$86,\"=MAS\")","v":0},null,null,{"$f":"COUNTIFS(AS$8:AS$86,\"=1\",$D$8:$D$86,\"=MAS\")","v":0},null,null,{"$f":"COUNTIFS(AV$8:AV$86,\"=1\",$D$8:$D$86,\"=MAS\")","v":0},null,null,{"$f":"COUNTIFS(AY$8:AY$86,\"=1\",$D$8:$D$86,\"=MAS\")","v":0},null,null,{"$f":"COUNTIFS(BB$8:BB$86,\"=1\",$D$8:$D$86,\"=MAS\")","v":0},null,null,{"$f":"COUNTIFS(BE$8:BE$86,\"=1\",$D$8:$D$86,\"=MAS\")","v":0},null,null,{"$f":"COUNTIFS(BH$8:BH$86,\"=1\",$D$8:$D$86,\"=MAS\")","v":0},null,null,{"$f":"COUNTIFS(BK$8:BK$86,\"=1\",$D$8:$D$86,\"=MAS\")","v":0},null,null,{"$f":"COUNTIFS(BN$8:BN$86,\"=1\",$D$8:$D$86,\"=MAS\")","v":0},null,null,{"$f":"COUNTIFS(BQ$8:BQ$86,\"=1\",$D$8:$D$86,\"=MAS\")","v":0},null,null,{"$f":"COUNTIFS(BT$8:BT$86,\"=1\",$D$8:$D$86,\"=MAS\")","v":0},null,null,{"$f":"COUNTIFS(BW$8:BW$86,\"=1\",$D$8:$D$86,\"=MAS\")","v":0},null,null,{"$f":"COUNTIFS(BZ$8:BZ$86,\"=1\",$D$8:$D$86,\"=MAS\")","v":0},null,null,{"$f":"COUNTIFS(CC$8:CC$86,\"=1\",$D$8:$D$86,\"=MAS\")","v":0},null,null,{"$f":"COUNTIFS(CF$8:CF$86,\"=1\",$D$8:$D$86,\"=MAS\")","v":0},null,null,null,{"$f":"COUNTIFS(CJ$8:CJ$86,\"=1\",$D$8:$D$86,\"=MAS\")","v":0},null,null,{"$f":"COUNTIFS(CM$8:CM$86,\"=1\",$D$8:$D$86,\"=MAS\")","v":0},null,null,{"$f":"COUNTIFS(CP$8:CP$86,\"=1\",$D$8:$D$86,\"=MAS\")","v":0},null,null,{"$f":"COUNTIFS(CS$8:CS$86,\"=1\",$D$8:$D$86,\"=MAS\")","v":0},null,null,{"$f":"COUNTIFS(CV$8:CV$86,\"=1\",$D$8:$D$86,\"=MAS\")","v":0},null,null,{"$f":"COUNTIFS(CY$8:CY$86,\"=1\",$D$8:$D$86,\"=MAS\")","v":0},null,null,{"$f":"COUNTIFS(DB$8:DB$86,\"=1\",$D$8:$D$86,\"=MAS\")","v":0},null,null,{"$f":"COUNTIFS(DE$8:DE$86,\"=1\",$D$8:$D$86,\"=MAS\")","v":0},null,null,{"$f":"COUNTIFS(DH$8:DH$86,\"=1\",$D$8:$D$86,\"=MAS\")","v":0},null,null,{"$f":"COUNTIFS(DK$8:DK$86,\"=1\",$D$8:$D$86,\"=MAS\")","v":0},null,null,{"$f":"COUNTIFS(DN$8:DN$86,\"=1\",$D$8:$D$86,\"=MAS\")","v":0},null,null,{"$f":"COUNTIFS(DQ$8:DQ$86,\"=1\",$D$8:$D$86,\"=MAS\")","v":0},null,null,{"$f":"COUNTIFS(DT$8:DT$86,\"=1\",$D$8:$D$86,\"=MAS\")","v":0},null,null,{"$f":"COUNTIFS(DW$8:DW$86,\"=1\",$D$8:$D$86,\"=MAS\")","v":0},null,null,{"$f":"COUNTIFS(DZ$8:DZ$86,\"=1\",$D$8:$D$86,\"=MAS\")","v":0},null,null,{"$f":"COUNTIFS(EC$8:EC$86,\"=1\",$D$8:$D$86,\"=MAS\")","v":0},null,{"$f":"COUNTIFS(EE$8:EE$86,\"=1\",$D$8:$D$86,\"=MAS\")","v":0},null,null,{"$f":"COUNTIFS(EH$8:EH$86,\"=1\",$D$8:$D$86,\"=MAS\")","v":0},null,null,{"$f":"COUNTIFS(EK$8:EK$86,\"=1\",$D$8:$D$86,\"=MAS\")","v":0},null,null,{"$f":"COUNTIFS(EN$8:EN$86,\"=1\",$D$8:$D$86,\"=MAS\")","v":0},null,null,{"$f":"COUNTIFS(EQ$8:EQ$86,\"=1\",$D$8:$D$86,\"=MAS\")","v":0},null,null,{"$f":"COUNTIFS(ET$8:ET$86,\"=1\",$D$8:$D$86,\"=MAS\")","v":0},null,null,{"$f":"COUNTIFS(EW$8:EW$86,\"=1\",$D$8:$D$86,\"=MAS\")","v":0},null,null,{"$f":"COUNTIFS(EZ$8:EZ$86,\"=1\",$D$8:$D$86,\"=MAS\")","v":0},null,null,{"$f":"COUNTIFS(FC$8:FC$86,\"=1\",$D$8:$D$86,\"=MAS\")","v":0},null,null,{"$f":"COUNTIFS(FF$8:FF$86,\"=1\",$D$8:$D$86,\"=MAS\")","v":0},null,{"$f":"COUNTIFS(FH$8:FH$86,\"=1\",$D$8:$D$86,\"=MAS\")","v":0}]
[null,null,null,null,"MAS Overall 2nd",null,null,null,null,null,null,null,null,null,null,null,null,null,null,null,null,null,null,null,0,{"$f":"COUNTIFS(Z$8:Z$86,\"=2\",$D$8:$D$86,\"=MAS\")","v":0},null,null,{"$f":"COUNTIFS(AC$8:AC$86,\"=2\",$D$8:$D$86,\"=MAS\")","v":0},null,{"$f":"COUNTIFS(AE$8:AE$86,\"=2\",$D$8:$D$86,\"=MAS\")","v":0},null,null,{"$f":"COUNTIFS(AH$8:AH$86,\"=2\",$D$8:$D$86,\"=MAS\")","v":0},null,null,null,{"$f":"COUNTIFS(AL$8:AL$86,\"=2\",$D$8:$D$86,\"=MAS\")","v":0},null,null,null,{"$f":"COUNTIFS(AP$8:AP$86,\"=2\",$D$8:$D$86,\"=MAS\")","v":0},null,null,{"$f":"COUNTIFS(AS$8:AS$86,\"=2\",$D$8:$D$86,\"=MAS\")","v":0},null,null,{"$f":"COUNTIFS(AV$8:AV$86,\"=2\",$D$8:$D$86,\"=MAS\")","v":0},null,null,{"$f":"COUNTIFS(AY$8:AY$86,\"=2\",$D$8:$D$86,\"=MAS\")","v":0},null,null,{"$f":"COUNTIFS(BB$8:BB$86,\"=2\",$D$8:$D$86,\"=MAS\")","v":0},null,null,{"$f":"COUNTIFS(BE$8:BE$86,\"=2\",$D$8:$D$86,\"=MAS\")","v":0},null,null,{"$f":"COUNTIFS(BH$8:BH$86,\"=2\",$D$8:$D$86,\"=MAS\")","v":0},null,null,{"$f":"COUNTIFS(BK$8:BK$86,\"=2\",$D$8:$D$86,\"=MAS\")","v":0},null,null,{"$f":"COUNTIFS(BN$8:BN$86,\"=2\",$D$8:$D$86,\"=MAS\")","v":0},null,null,{"$f":"COUNTIFS(BQ$8:BQ$86,\"=2\",$D$8:$D$86,\"=MAS\")","v":0},null,null,{"$f":"COUNTIFS(BT$8:BT$86,\"=2\",$D$8:$D$86,\"=MAS\")","v":0},null,null,{"$f":"COUNTIFS(BW$8:BW$86,\"=2\",$D$8:$D$86,\"=MAS\")","v":0},null,null,{"$f":"COUNTIFS(BZ$8:BZ$86,\"=2\",$D$8:$D$86,\"=MAS\")","v":0},null,null,{"$f":"COUNTIFS(CC$8:CC$86,\"=2\",$D$8:$D$86,\"=MAS\")","v":0},null,null,{"$f":"COUNTIFS(CF$8:CF$86,\"=2\",$D$8:$D$86,\"=MAS\")","v":0},null,null,null,{"$f":"COUNTIFS(CJ$8:CJ$86,\"=2\",$D$8:$D$86,\"=MAS\")","v":0},null,null,{"$f":"COUNTIFS(CM$8:CM$86,\"=2\",$D$8:$D$86,\"=MAS\")","v":0},null,null,{"$f":"COUNTIFS(CP$8:CP$86,\"=2\",$D$8:$D$86,\"=MAS\")","v":0},null,null,{"$f":"COUNTIFS(CS$8:CS$86,\"=2\",$D$8:$D$86,\"=MAS\")","v":0},null,null,{"$f":"COUNTIFS(CV$8:CV$86,\"=2\",$D$8:$D$86,\"=MAS\")","v":0},null,null,{"$f":"COUNTIFS(CY$8:CY$86,\"=2\",$D$8:$D$86,\"=MAS\")","v":0},null,null,{"$f":"COUNTIFS(DB$8:DB$86,\"=2\",$D$8:$D$86,\"=MAS\")","v":0},null,null,{"$f":"COUNTIFS(DE$8:DE$86,\"=2\",$D$8:$D$86,\"=MAS\")","v":0},null,null,{"$f":"COUNTIFS(DH$8:DH$86,\"=2\",$D$8:$D$86,\"=MAS\")","v":0},null,null,{"$f":"COUNTIFS(DK$8:DK$86,\"=2\",$D$8:$D$86,\"=MAS\")","v":0},null,null,{"$f":"COUNTIFS(DN$8:DN$86,\"=2\",$D$8:$D$86,\"=MAS\")","v":0},null,null,{"$f":"COUNTIFS(DQ$8:DQ$86,\"=2\",$D$8:$D$86,\"=MAS\")","v":0},null,null,{"$f":"COUNTIFS(DT$8:DT$86,\"=2\",$D$8:$D$86,\"=MAS\")","v":0},null,null,{"$f":"COUNTIFS(DW$8:DW$86,\"=2\",$D$8:$D$86,\"=MAS\")","v":0},null,null,{"$f":"COUNTIFS(DZ$8:DZ$86,\"=2\",$D$8:$D$86,\"=MAS\")","v":0},null,null,{"$f":"COUNTIFS(EC$8:EC$86,\"=2\",$D$8:$D$86,\"=MAS\")","v":0},null,{"$f":"COUNTIFS(EE$8:EE$86,\"=2\",$D$8:$D$86,\"=MAS\")","v":0},null,null,{"$f":"COUNTIFS(EH$8:EH$86,\"=2\",$D$8:$D$86,\"=MAS\")","v":0},null,null,{"$f":"COUNTIFS(EK$8:EK$86,\"=2\",$D$8:$D$86,\"=MAS\")","v":0},null,null,{"$f":"COUNTIFS(EN$8:EN$86,\"=2\",$D$8:$D$86,\"=MAS\")","v":0},null,null,{"$f":"COUNTIFS(EQ$8:EQ$86,\"=2\",$D$8:$D$86,\"=MAS\")","v":0},null,null,{"$f":"COUNTIFS(ET$8:ET$86,\"=2\",$D$8:$D$86,\"=MAS\")","v":0},null,null,{"$f":"COUNTIFS(EW$8:EW$86,\"=2\",$D$8:$D$86,\"=MAS\")","v":0},null,null,{"$f":"COUNTIFS(EZ$8:EZ$86,\"=2\",$D$8:$D$86,\"=MAS\")","v":0},null,null,{"$f":"COUNTIFS(FC$8:FC$86,\"=2\",$D$8:$D$86,\"=MAS\")","v":0},null,null,{"$f":"COUNTIFS(FF$8:FF$86,\"=2\",$D$8:$D$86,\"=MAS\")","v":0},null,{"$f":"COUNTIFS(FH$8:FH$86,\"=2\",$D$8:$D$86,\"=MAS\")","v":0}]
[null,null,null,null,"MAS Overall 3rd",null,null,null,null,null,null,null,null,null,null,null,null,null,null,null,null,null,null,null,0,{"$f":"COUNTIFS(Z$8:Z$86,\"=3\",$D$8:$D$86,\"=MAS\")","v":0},null,null,{"$f":"COUNTIFS(AC$8:AC$86,\"=3\",$D$8:$D$86,\"=MAS\")","v":0},null,{"$f":"COUNTIFS(AE$8:AE$86,\"=3\",$D$8:$D$86,\"=MAS\")","v":0},null,null,{"$f":"COUNTIFS(AH$8:AH$86,\"=3\",$D$8:$D$86,\"=MAS\")","v":0},null,null,null,{"$f":"COUNTIFS(AL$8:AL$86,\"=3\",$D$8:$D$86,\"=MAS\")","v":0},null,null,null,{"$f":"COUNTIFS(AP$8:AP$86,\"=3\",$D$8:$D$86,\"=MAS\")","v":0},null,null,{"$f":"COUNTIFS(AS$8:AS$86,\"=3\",$D$8:$D$86,\"=MAS\")","v":0},null,null,{"$f":"COUNTIFS(AV$8:AV$86,\"=3\",$D$8:$D$86,\"=MAS\")","v":0},null,null,{"$f":"COUNTIFS(AY$8:AY$86,\"=3\",$D$8:$D$86,\"=MAS\")","v":0},null,null,{"$f":"COUNTIFS(BB$8:BB$86,\"=3\",$D$8:$D$86,\"=MAS\")","v":0},null,null,{"$f":"COUNTIFS(BE$8:BE$86,\"=3\",$D$8:$D$86,\"=MAS\")","v":0},null,null,{"$f":"COUNTIFS(BH$8:BH$86,\"=3\",$D$8:$D$86,\"=MAS\")","v":0},null,null,{"$f":"COUNTIFS(BK$8:BK$86,\"=3\",$D$8:$D$86,\"=MAS\")","v":0},null,null,{"$f":"COUNTIFS(BN$8:BN$86,\"=3\",$D$8:$D$86,\"=MAS\")","v":0},null,null,{"$f":"COUNTIFS(BQ$8:BQ$86,\"=3\",$D$8:$D$86,\"=MAS\")","v":0},null,null,{"$f":"COUNTIFS(BT$8:BT$86,\"=3\",$D$8:$D$86,\"=MAS\")","v":0},null,null,{"$f":"COUNTIFS(BW$8:BW$86,\"=3\",$D$8:$D$86,\"=MAS\")","v":0},null,null,{"$f":"COUNTIFS(BZ$8:BZ$86,\"=3\",$D$8:$D$86,\"=MAS\")","v":0},null,null,{"$f":"COUNTIFS(CC$8:CC$86,\"=3\",$D$8:$D$86,\"=MAS\")","v":0},null,null,{"$f":"COUNTIFS(CF$8:CF$86,\"=3\",$D$8:$D$86,\"=MAS\")","v":0},null,null,null,{"$f":"COUNTIFS(CJ$8:CJ$86,\"=3\",$D$8:$D$86,\"=MAS\")","v":0},null,null,{"$f":"COUNTIFS(CM$8:CM$86,\"=3\",$D$8:$D$86,\"=MAS\")","v":0},null,null,{"$f":"COUNTIFS(CP$8:CP$86,\"=3\",$D$8:$D$86,\"=MAS\")","v":0},null,null,{"$f":"COUNTIFS(CS$8:CS$86,\"=3\",$D$8:$D$86,\"=MAS\")","v":0},null,null,{"$f":"COUNTIFS(CV$8:CV$86,\"=3\",$D$8:$D$86,\"=MAS\")","v":0},null,null,{"$f":"COUNTIFS(CY$8:CY$86,\"=3\",$D$8:$D$86,\"=MAS\")","v":0},null,null,{"$f":"COUNTIFS(DB$8:DB$86,\"=3\",$D$8:$D$86,\"=MAS\")","v":0},null,null,{"$f":"COUNTIFS(DE$8:DE$86,\"=3\",$D$8:$D$86,\"=MAS\")","v":0},null,null,{"$f":"COUNTIFS(DH$8:DH$86,\"=3\",$D$8:$D$86,\"=MAS\")","v":0},null,null,{"$f":"COUNTIFS(DK$8:DK$86,\"=3\",$D$8:$D$86,\"=MAS\")","v":0},null,null,{"$f":"COUNTIFS(DN$8:DN$86,\"=3\",$D$8:$D$86,\"=MAS\")","v":0},null,null,{"$f":"COUNTIFS(DQ$8:DQ$86,\"=3\",$D$8:$D$86,\"=MAS\")","v":0},null,null,{"$f":"COUNTIFS(DT$8:DT$86,\"=3\",$D$8:$D$86,\"=MAS\")","v":0},null,null,{"$f":"COUNTIFS(DW$8:DW$86,\"=3\",$D$8:$D$86,\"=MAS\")","v":0},null,null,{"$f":"COUNTIFS(DZ$8:DZ$86,\"=3\",$D$8:$D$86,\"=MAS\")","v":0},null,null,{"$f":"COUNTIFS(EC$8:EC$86,\"=3\",$D$8:$D$86,\"=MAS\")","v":0},null,{"$f":"COUNTIFS(EE$8:EE$86,\"=3\",$D$8:$D$86,\"=MAS\")","v":0},null,null,{"$f":"COUNTIFS(EH$8:EH$86,\"=3\",$D$8:$D$86,\"=MAS\")","v":0},null,null,{"$f":"COUNTIFS(EK$8:EK$86,\"=3\",$D$8:$D$86,\"=MAS\")","v":0},null,null,{"$f":"COUNTIFS(EN$8:EN$86,\"=3\",$D$8:$D$86,\"=MAS\")","v":0},null,null,{"$f":"COUNTIFS(EQ$8:EQ$86,\"=3\",$D$8:$D$86,\"=MAS\")","v":0},null,null,{"$f":"COUNTIFS(ET$8:ET$86,\"=3\",$D$8:$D$86,\"=MAS\")","v":0},null,null,{"$f":"COUNTIFS(EW$8:EW$86,\"=3\",$D$8:$D$86,\"=MAS\")","v":0},null,null,{"$f":"COUNTIFS(EZ$8:EZ$86,\"=3\",$D$8:$D$86,\"=MAS\")","v":0},null,null,{"$f":"COUNTIFS(FC$8:FC$86,\"=3\",$D$8:$D$86,\"=MAS\")","v":0},null,null,{"$f":"COUNTIFS(FF$8:FF$86,\"=3\",$D$8:$D$86,\"=MAS\")","v":0},null,{"$f":"COUNTIFS(FH$8:FH$86,\"=3\",$D$8:$D$86,\"=MAS\")","v":0}]
[null,null,null,null,"Male Overall Podiums",null,null,null,null,null,null,null,null,null,null,null,null,null,null,null,null,null,null,null,9,{"$f":"COUNTIFS(Z$22:Z$86,\"<=3\",Z$22:Z$86,\">=1\",$B$22:$B$86,\"=M\")","v":1},null,null,{"$f":"COUNTIFS(AC$22:AC$86,\"<=3\",AC$22:AC$86,\">=1\",$B$22:$B$86,\"=M\")","v":0},null,{"$f":"COUNTIFS(AE$22:AE$86,\"<=3\",AE$22:AE$86,\">=1\",$B$22:$B$86,\"=M\")","v":2},null,null,{"$f":"COUNTIFS(AH$22:AH$86,\"<=3\",AH$22:AH$86,\">=1\",$B$22:$B$86,\"=M\")","v":0},null,null,null,{"$f":"COUNTIFS(AL$22:AL$86,\"<=3\",AL$22:AL$86,\">=1\",$B$22:$B$86,\"=M\")","v":0},null,null,null,{"$f":"COUNTIFS(AP$22:AP$86,\"<=3\",AP$22:AP$86,\">=1\",$B$22:$B$86,\"=M\")","v":1},null,null,{"$f":"COUNTIFS(AS$22:AS$86,\"<=3\",AS$22:AS$86,\">=1\",$B$22:$B$86,\"=M\")","v":0},null,null,{"$f":"COUNTIFS(AV$22:AV$86,\"<=3\",AV$22:AV$86,\">=1\",$B$22:$B$86,\"=M\")","v":0},null,null,{"$f":"COUNTIFS(AY$22:AY$86,\"<=3\",AY$22:AY$86,\">=1\",$B$22:$B$86,\"=M\")","v":0},null,null,{"$f":"COUNTIFS(BB$22:BB$86,\"<=3\",BB$22:BB$86,\">=1\",$B$22:$B$86,\"=M\")","v":0},null,null,{"$f":"COUNTIFS(BE$22:BE$86,\"<=3\",BE$22:BE$86,\">=1\",$B$22:$B$86,\"=M\")","v":0},null,null,{"$f":"COUNTIFS(BH$22:BH$86,\"<=3\",BH$22:BH$86,\">=1\",$B$22:$B$86,\"=M\")","v":0},null,null,{"$f":"COUNTIFS(BK$22:BK$86,\"<=3\",BK$22:BK$86,\">=1\",$B$22:$B$86,\"=M\")","v":0},null,null,{"$f":"COUNTIFS(BN$22:BN$86,\"<=3\",BN$22:BN$86,\">=1\",$B$22:$B$86,\"=M\")","v":0},null,null,{"$f":"COUNTIFS(BQ$22:BQ$86,\"<=3\",BQ$22:BQ$86,\">=1\",$B$22:$B$86,\"=M\")","v":0},null,null,{"$f":"COUNTIFS(BT$22:BT$86,\"<=3\",BT$22:BT$86,\">=1\",$B$22:$B$86,\"=M\")","v":0},null,null,{"$f":"COUNTIFS(BW$22:BW$86,\"<=3\",BW$22:BW$86,\">=1\",$B$22:$B$86,\"=M\")","v":0},null,null,{"$f":"COUNTIFS(BZ$22:BZ$86,\"<=3\",BZ$22:BZ$86,\">=1\",$B$22:$B$86,\"=M\")","v":1},null,null,{"$f":"COUNTIFS(CC$22:CC$86,\"<=3\",CC$22:CC$86,\">=1\",$B$22:$B$86,\"=M\")","v":0},null,null,{"$f":"COUNTIFS(CF$22:CF$86,\"<=3\",CF$22:CF$86,\">=1\",$B$22:$B$86,\"=M\")","v":0},null,null,null,{"$f":"COUNTIFS(CJ$22:CJ$86,\"<=3\",CJ$22:CJ$86,\">=1\",$B$22:$B$86,\"=M\")","v":1},null,null,{"$f":"COUNTIFS(CM$22:CM$86,\"<=3\",CM$22:CM$86,\">=1\",$B$22:$B$86,\"=M\")","v":0},null,null,{"$f":"COUNTIFS(CP$22:CP$86,\"<=3\",CP$22:CP$86,\">=1\",$B$22:$B$86,\"=M\")","v":1},null,null,{"$f":"COUNTIFS(CS$22:CS$86,\"<=3\",CS$22:CS$86,\">=1\",$B$22:$B$86,\"=M\")","v":0},null,null,{"$f":"COUNTIFS(CV$22:CV$86,\"<=3\",CV$22:CV$86,\">=1\",$B$22:$B$86,\"=M\")","v":1},null,null,{"$f":"COUNTIFS(CY$22:CY$86,\"<=3\",CY$22:CY$86,\">=1\",$B$22:$B$86,\"=M\")","v":0},null,null,{"$f":"COUNTIFS(DB$22:DB$86,\"<=3\",DB$22:DB$86,\">=1\",$B$22:$B$86,\"=M\")","v":1},null,null,{"$f":"COUNTIFS(DE$22:DE$86,\"<=3\",DE$22:DE$86,\">=1\",$B$22:$B$86,\"=M\")","v":0},null,null,{"$f":"COUNTIFS(DH$22:DH$86,\"<=3\",DH$22:DH$86,\">=1\",$B$22:$B$86,\"=M\")","v":0},null,null,{"$f":"COUNTIFS(DK$22:DK$86,\"<=3\",DK$22:DK$86,\">=1\",$B$22:$B$86,\"=M\")","v":0},null,null,{"$f":"COUNTIFS(DN$22:DN$86,\"<=3\",DN$22:DN$86,\">=1\",$B$22:$B$86,\"=M\")","v":0},null,null,{"$f":"COUNTIFS(DQ$22:DQ$86,\"<=3\",DQ$22:DQ$86,\">=1\",$B$22:$B$86,\"=M\")","v":0},null,null,{"$f":"COUNTIFS(DT$22:DT$86,\"<=3\",DT$22:DT$86,\">=1\",$B$22:$B$86,\"=M\")","v":0},null,null,{"$f":"COUNTIFS(DW$22:DW$86,\"<=3\",DW$22:DW$86,\">=1\",$B$22:$B$86,\"=M\")","v":0},null,null,{"$f":"COUNTIFS(DZ$22:DZ$86,\"<=3\",DZ$22:DZ$86,\">=1\",$B$22:$B$86,\"=M\")","v":0},null,null,{"$f":"COUNTIFS(EC$22:EC$86,\"<=3\",EC$22:EC$86,\">=1\",$B$22:$B$86,\"=M\")","v":0},null,{"$f":"COUNTIFS(EE$22:EE$86,\"<=3\",EE$22:EE$86,\">=1\",$B$22:$B$86,\"=M\")","v":0},null,null,{"$f":"COUNTIFS(EH$22:EH$86,\"<=3\",EH$22:EH$86,\">=1\",$B$22:$B$86,\"=M\")","v":0},null,null,{"$f":"COUNTIFS(EK$22:EK$86,\"<=3\",EK$22:EK$86,\">=1\",$B$22:$B$86,\"=M\")","v":0},null,null,{"$f":"COUNTIFS(EN$22:EN$86,\"<=3\",EN$22:EN$86,\">=1\",$B$22:$B$86,\"=M\")","v":0},null,null,{"$f":"COUNTIFS(EQ$22:EQ$86,\"<=3\",EQ$22:EQ$86,\">=1\",$B$22:$B$86,\"=M\")","v":0},null,null,{"$f":"COUNTIFS(ET$22:ET$86,\"<=3\",ET$22:ET$86,\">=1\",$B$22:$B$86,\"=M\")","v":0},null,null,{"$f":"COUNTIFS(EW$22:EW$86,\"<=3\",EW$22:EW$86,\">=1\",$B$22:$B$86,\"=M\")","v":0},null,null,{"$f":"COUNTIFS(EZ$22:EZ$86,\"<=3\",EZ$22:EZ$86,\">=1\",$B$22:$B$86,\"=M\")","v":0},null,null,{"$f":"COUNTIFS(FC$22:FC$86,\"<=3\",FC$22:FC$86,\">=1\",$B$22:$B$86,\"=M\")","v":0},null,null,{"$f":"COUNTIFS(FF$22:FF$86,\"<=3\",FF$22:FF$86,\">=1\",$B$22:$B$86,\"=M\")","v":0},null,{"$f":"COUNTIFS(FH$22:FH$86,\"<=3\",FH$22:FH$86,\">=1\",$B$22:$B$86,\"=M\")","v":0}]
[null,null,null,null,"Female Overall Podiums",null,null,null,null,null,null,null,null,null,null,null,null,null,null,null,null,null,null,null,2,{"$f":"COUNTIFS(Z$22:Z$86,\"<=3\",Z$22:Z$86,\">=1\",$B$22:$B$86,\"=F\")","v":0},null,null,{"$f":"COUNTIFS(AC$22:AC$86,\"<=3\",AC$22:AC$86,\">=1\",$B$22:$B$86,\"=F\")","v":0},null,{"$f":"COUNTIFS(AE$22:AE$86,\"<=3\",AE$22:AE$86,\">=1\",$B$22:$B$86,\"=F\")","v":0},null,null,{"$f":"COUNTIFS(AH$22:AH$86,\"<=3\",AH$22:AH$86,\">=1\",$B$22:$B$86,\"=F\")","v":0},null,null,null,{"$f":"COUNTIFS(AL$22:AL$86,\"<=3\",AL$22:AL$86,\">=1\",$B$22:$B$86,\"=F\")","v":0},null,null,null,{"$f":"COUNTIFS(AP$22:AP$86,\"<=3\",AP$22:AP$86,\">=1\",$B$22:$B$86,\"=F\")","v":0},null,null,{"$f":"COUNTIFS(AS$22:AS$86,\"<=3\",AS$22:AS$86,\">=1\",$B$22:$B$86,\"=F\")","v":0},null,null,{"$f":"COUNTIFS(AV$22:AV$86,\"<=3\",AV$22:AV$86,\">=1\",$B$22:$B$86,\"=F\")","v":0},null,null,{"$f":"COUNTIFS(AY$22:AY$86,\"<=3\",AY$22:AY$86,\">=1\",$B$22:$B$86,\"=F\")","v":0},null,null,{"$f":"COUNTIFS(BB$22:BB$86,\"<=3\",BB$22:BB$86,\">=1\",$B$22:$B$86,\"=F\")","v":0},null,null,{"$f":"COUNTIFS(BE$22:BE$86,\"<=3\",BE$22:BE$86,\">=1\",$B$22:$B$86,\"=F\")","v":1},null,null,{"$f":"COUNTIFS(BH$22:BH$86,\"<=3\",BH$22:BH$86,\">=1\",$B$22:$B$86,\"=F\")","v":0},null,null,{"$f":"COUNTIFS(BK$22:BK$86,\"<=3\",BK$22:BK$86,\">=1\",$B$22:$B$86,\"=F\")","v":0},null,null,{"$f":"COUNTIFS(BN$22:BN$86,\"<=3\",BN$22:BN$86,\">=1\",$B$22:$B$86,\"=F\")","v":0},null,null,{"$f":"COUNTIFS(BQ$22:BQ$86,\"<=3\",BQ$22:BQ$86,\">=1\",$B$22:$B$86,\"=F\")","v":0},null,null,{"$f":"COUNTIFS(BT$22:BT$86,\"<=3\",BT$22:BT$86,\">=1\",$B$22:$B$86,\"=F\")","v":0},null,null,{"$f":"COUNTIFS(BW$22:BW$86,\"<=3\",BW$22:BW$86,\">=1\",$B$22:$B$86,\"=F\")","v":0},null,null,{"$f":"COUNTIFS(BZ$22:BZ$86,\"<=3\",BZ$22:BZ$86,\">=1\",$B$22:$B$86,\"=F\")","v":0},null,null,{"$f":"COUNTIFS(CC$22:CC$86,\"<=3\",CC$22:CC$86,\">=1\",$B$22:$B$86,\"=F\")","v":0},null,null,{"$f":"COUNTIFS(CF$22:CF$86,\"<=3\",CF$22:CF$86,\">=1\",$B$22:$B$86,\"=F\")","v":0},null,null,null,{"$f":"COUNTIFS(CJ$22:CJ$86,\"<=3\",CJ$22:CJ$86,\">=1\",$B$22:$B$86,\"=F\")","v":0},null,null,{"$f":"COUNTIFS(CM$22:CM$86,\"<=3\",CM$22:CM$86,\">=1\",$B$22:$B$86,\"=F\")","v":0},null,null,{"$f":"COUNTIFS(CP$22:CP$86,\"<=3\",CP$22:CP$86,\">=1\",$B$22:$B$86,\"=F\")","v":0},null,null,{"$f":"COUNTIFS(CS$22:CS$86,\"<=3\",CS$22:CS$86,\">=1\",$B$22:$B$86,\"=F\")","v":0},null,null,{"$f":"COUNTIFS(CV$22:CV$86,\"<=3\",CV$22:CV$86,\">=1\",$B$22:$B$86,\"=F\")","v":1},null,null,{"$f":"COUNTIFS(CY$22:CY$86,\"<=3\",CY$22:CY$86,\">=1\",$B$22:$B$86,\"=F\")","v":0},null,null,{"$f":"COUNTIFS(DB$22:DB$86,\"<=3\",DB$22:DB$86,\">=1\",$B$22:$B$86,\"=F\")","v":0},null,null,{"$f":"COUNTIFS(DE$22:DE$86,\"<=3\",DE$22:DE$86,\">=1\",$B$22:$B$86,\"=F\")","v":0},null,null,{"$f":"COUNTIFS(DH$22:DH$86,\"<=3\",DH$22:DH$86,\">=1\",$B$22:$B$86,\"=F\")","v":0},null,null,{"$f":"COUNTIFS(DK$22:DK$86,\"<=3\",DK$22:DK$86,\">=1\",$B$22:$B$86,\"=F\")","v":0},null,null,{"$f":"COUNTIFS(DN$22:DN$86,\"<=3\",DN$22:DN$86,\">=1\",$B$22:$B$86,\"=F\")","v":0},null,null,{"$f":"COUNTIFS(DQ$22:DQ$86,\"<=3\",DQ$22:DQ$86,\">=1\",$B$22:$B$86,\"=F\")","v":0},null,null,{"$f":"COUNTIFS(DT$22:DT$86,\"<=3\",DT$22:DT$86,\">=1\",$B$22:$B$86,\"=F\")","v":0},null,null,{"$f":"COUNTIFS(DW$22:DW$86,\"<=3\",DW$22:DW$86,\">=1\",$B$22:$B$86,\"=F\")","v":0},null,null,{"$f":"COUNTIFS(DZ$22:DZ$86,\"<=3\",DZ$22:DZ$86,\">=1\",$B$22:$B$86,\"=F\")","v":0},null,null,{"$f":"COUNTIFS(EC$22:EC$86,\"<=3\",EC$22:EC$86,\">=1\",$B$22:$B$86,\"=F\")","v":0},null,{"$f":"COUNTIFS(EE$22:EE$86,\"<=3\",EE$22:EE$86,\">=1\",$B$22:$B$86,\"=F\")","v":0},null,null,{"$f":"COUNTIFS(EH$22:EH$86,\"<=3\",EH$22:EH$86,\">=1\",$B$22:$B$86,\"=F\")","v":0},null,null,{"$f":"COUNTIFS(EK$22:EK$86,\"<=3\",EK$22:EK$86,\">=1\",$B$22:$B$86,\"=F\")","v":0},null,null,{"$f":"COUNTIFS(EN$22:EN$86,\"<=3\",EN$22:EN$86,\">=1\",$B$22:$B$86,\"=F\")","v":0},null,null,{"$f":"COUNTIFS(EQ$22:EQ$86,\"<=3\",EQ$22:EQ$86,\">=1\",$B$22:$B$86,\"=F\")","v":0},null,null,{"$f":"COUNTIFS(ET$22:ET$86,\"<=3\",ET$22:ET$86,\">=1\",$B$22:$B$86,\"=F\")","v":0},null,null,{"$f":"COUNTIFS(EW$22:EW$86,\"<=3\",EW$22:EW$86,\">=1\",$B$22:$B$86,\"=F\")","v":0},null,null,{"$f":"COUNTIFS(EZ$22:EZ$86,\"<=3\",EZ$22:EZ$86,\">=1\",$B$22:$B$86,\"=F\")","v":0},null,null,{"$f":"COUNTIFS(FC$22:FC$86,\"<=3\",FC$22:FC$86,\">=1\",$B$22:$B$86,\"=F\")","v":0},null,null,{"$f":"COUNTIFS(FF$22:FF$86,\"<=3\",FF$22:FF$86,\">=1\",$B$22:$B$86,\"=F\")","v":0},null,{"$f":"COUNTIFS(FH$22:FH$86,\"<=3\",FH$22:FH$86,\">=1\",$B$22:$B$86,\"=F\")","v":0}]

{"sheet":"Points Rules","index":1,"n_rows":59,"n_cols":4,"rows_kept":59,"cut":false,"hidden":false,"merged":[]}
["Snowsport England - Seed Points"]
[]
["DETERMINATION OF EVENT POINTS",null,"Year of Birth","Age Category"]
[null,null,2006,"U10"]
["Event Points = Race Points + Penalty Points",null,2005,"U10"]
[null,null,2004,"U12"]
["Calculation of Race Points",null,2003,"U12"]
["Competitor's time divided by the winner's time, minus 1, multiplied by F (F = 620 in 2014) ",null,2002,"U14"]
[null,null,2001,"U14"]
["Calculation of Penalty Points",null,2000,"U16"]
["A + B - C, divided by 10",null,1999,"U16"]
[null,null,1998,"U18"]
["A = the sum of the seed points of the 5 best seeded competitors in the first 10 finishers",null,1997,"U18"]
["B = the sum of the seed points of the 5 best seeded competitors at the start of the race",null,1996,"U21"]
["C = the sum of the race points of the 5 best seeded competitors in the first 10 finishers",null,1995,"U21"]
[null,null,1994,"U21"]
["Minimum Penalty Points",null,1993,"SEN"]
["British, English, Welsh, Scottish and Irish Championships = 0 points",null,1992,"SEN"]
["Great British Series = 5 points",null,1991,"SEN"]
["Club National = 10 points",null,1990,"SEN"]
["Indoor Club National Single run=10 points",null,1989,"SEN"]
["Note",null,1988,"SEN"]
["Male and Female races are seeded separately and carry their own penalty points.",null,1987,"SEN"]
[null,null,1986,"SEN"]
["CALCULATION OF SEED POINTS",null,1985,"SEN"]
[null,null,1984,"MAS"]
["Seed points for all but the end-of-season list are the minimum of:",null,1983,"MAS"]
[null,null,1982,"MAS"]
["A.  Last year's end-of-season points (the basic points)",null,1981,"MAS"]
["B.  The average of the 2 best results (event points) this season",null,1980,"MAS"]
["C.  The average of the best result this season and the the basic points",null,1979,"MAS"]
["D.  The best result this season + 20% (minimum loading = 10 points)",null,1978,"MAS"]
[null,null,1977,"MAS"]
["End-of-season seed points are the minimum of:",null,1976,"MAS"]
[null,null,1975,"MAS"]
["A.  Last year's end-of-season seed points + 20% (minimum loading = 10 points)",null,1974,"MAS"]
["B.  The average of the 2 best results this season",null,1973,"MAS"]
["C.  The best result from this season + 20% (minimum loading = 10 points)",null,1972,"MAS"]
[null,null,1971,"MAS"]
["Notes",null,1970,"MAS"]
["For option B to be valid, the 2 results must be from different venues.",null,1969,"MAS"]
["In order to calculate the final end-of-season seed points, the provisional seed points are adjusted by a value ",null,1968,"MAS"]
["which sets the seed points of the best seeded competitor to zero.",null,1967,"MAS"]
["Separate male and female seed points lists are published.",null,1966,"MAS"]
["Seed lists are published on www.britski.org and www.gbski.com",null,1965,"MAS"]
[null,null,1964,"MAS"]
[null,null,1963,"MAS"]
[null,null,1962,"MAS"]
[null,null,1961,"MAS"]
[null,null,1960,"MAS"]
[null,null,1959,"MAS"]
[null,null,1958,"MAS"]
[null,null,1957,"MAS"]
[null,null,1956,"MAS"]
[null,null,1955,"MAS"]
[null,null,1954,"MAS"]
[null,null,1953,"MAS"]
[null,null,1952,"MAS"]
[null,null,1951,"MAS"]

{"sheet":"Individual Statistics","index":2,"n_rows":106,"n_cols":13,"rows_kept":106,"cut":false,"hidden":false,"merged":[]}
[null,"MSC Podiums in BARTS Events"]
[]
[]
[null,null,null,null,null,null,null,null,null,2011,2014,2014]
["Reg","Racer","Year of","Age",2014,2014,2014,"Overall","Age Grp","ESSKIA","England","Wales"]
["No","Name","Birth","Group","Start","Change - o","Change - i","Podiums","Podiums","Squad","Squad","Squad"]
[null,"GIRLS",{"$f":"IF(ISERROR(VLOOKUP($B7,'Races, Positions & Points'!$A:$C,3,FALSE)),\"\",IF((VLOOKUP($B7,'Races, Positions & Points'!$A:$C,3,FALSE))=0,\"\",VLOOKUP($B7,'Races, Positions & Points'!$A:$C,3,FALSE)))","v":""},{"$f":"IF(ISERROR(VLOOKUP($B7,'Races, Positions & Points'!$A:$D,4,FALSE)),\"\",IF((VLOOKUP($B7,'Races, Positions & Points'!$A:$D,4,FALSE))=0,\"\",VLOOKUP($B7,'Races, Positions & Points'!$A:$D,4,FALSE)))","v":""},{"$f":"IF(ISERROR(VLOOKUP($B7,'Races, Positions & Points'!$A:$G,7,FALSE)),\"\",IF((VLOOKUP($B7,'Races, Positions & Points'!$A:$G,7,FALSE))=0,\"\",VLOOKUP($B7,'Races, Positions & Points'!$A:$G,7,FALSE)))","v":""},{"$f":"IF(ISERROR(VLOOKUP($B7,'Races, Positions & Points'!$A:$Y,9,FALSE)),\"\",IF((VLOOKUP($B7,'Races, Positions & Points'!$A:$Y,9,FALSE))=0,\"\",VLOOKUP($B7,'Races, Positions & Points'!$A:$Y,9,FALSE)))","v":""},{"$f":"IF(ISERROR(VLOOKUP($B7,'Races, Positions & Points'!$A:$Y,9,FALSE)),\"\",IF((VLOOKUP($B7,'Races, Positions & Points'!$A:$Y,9,FALSE))=0,\"\",VLOOKUP($B7,'Races, Positions & Points'!$A:$Y,9,FALSE)))","v":""},{"$f":"IF(ISERROR(VLOOKUP($B7,'Races, Positions & Points'!$A:$FJ,131,FALSE)),\"\",IF((VLOOKUP($B7,'Races, Positions & Points'!$A:$FJ,131,FALSE))=0,\"\",VLOOKUP($B7,'Races, Positions & Points'!$A:$FJ,131,FALSE)))","v":""},{"$f":"IF(ISERROR(VLOOKUP($B7,'Races, Positions & Points'!$A:$FJ,132,FALSE)),\"\",IF((VLOOKUP($B7,'Races, Positions & Points'!$A:$FJ,132,FALSE))=0,\"\",VLOOKUP($B7,'Races, Positions & Points'!$A:$FJ,132,FALSE)))","v":""}]
[{"$f":"'Races, Positions & Points'!E8","v":20669},{"$f":"'Races, Positions & Points'!A8","v":"Lauren Treuge"},{"$f":"'Races, Positions & Points'!C8","v":2003},{"$f":"IF(ISERROR(VLOOKUP($B8,'Races, Positions & Points'!$A:$D,4,FALSE)),\"\",IF((VLOOKUP($B8,'Races, Positions & Points'!$A:$D,4,FALSE))=0,\"\",VLOOKUP($B8,'Races, Positions & Points'!$A:$D,4,FALSE)))","v":"U12"},{"$f":"'Races, Positions & Points'!G8","v":999.99},null,null,{"$f":"'Races, Positions & Points'!FK8","v":0},{"$f":"'Races, Positions & Points'!FL8","v":1}]
[{"$f":"'Races, Positions & Points'!E9","v":20809},{"$f":"'Races, Positions & Points'!A9","v":"Tilley O'Brien"},{"$f":"'Races, Positions & Points'!C9","v":2004},{"$f":"IF(ISERROR(VLOOKUP($B9,'Races, Positions & Points'!$A:$D,4,FALSE)),\"\",IF((VLOOKUP($B9,'Races, Positions & Points'!$A:$D,4,FALSE))=0,\"\",VLOOKUP($B9,'Races, Positions & Points'!$A:$D,4,FALSE)))","v":"U12"},{"$f":"'Races, Positions & Points'!G9","v":999.99},null,null,{"$f":"'Races, Positions & Points'!FK9","v":0},{"$f":"'Races, Positions & Points'!FL9","v":10}]
[{"$f":"'Races, Positions & Points'!E10","v":22176},{"$f":"'Races, Positions & Points'!A10","v":"Ella Giles"},{"$f":"'Races, Positions & Points'!C10","v":2003},{"$f":"IF(ISERROR(VLOOKUP($B10,'Races, Positions & Points'!$A:$D,4,FALSE)),\"\",IF((VLOOKUP($B10,'Races, Positions & Points'!$A:$D,4,FALSE))=0,\"\",VLOOKUP($B10,'Races, Positions & Points'!$A:$D,4,FALSE)))","v":"U12"},{"$f":"'Races, Positions & Points'!G10","v":999.99},null,null,{"$f":"'Races, Positions & Points'!FK10","v":0},{"$f":"'Races, Positions & Points'!FL10","v":1}]
[{"$f":"'Races, Positions & Points'!E11","v":21569},{"$f":"'Races, Positions & Points'!A11","v":"Anya Hemming"},{"$f":"'Races, Positions & Points'!C11","v":2005},{"$f":"IF(ISERROR(VLOOKUP($B11,'Races, Positions & Points'!$A:$D,4,FALSE)),\"\",IF((VLOOKUP($B11,'Races, Positions & Points'!$A:$D,4,FALSE))=0,\"\",VLOOKUP($B11,'Races, Positions & Points'!$A:$D,4,FALSE)))","v":"U10"},{"$f":"'Races, Positions & Points'!G11","v":999.99},null,null,{"$f":"'Races, Positions & Points'!FK11","v":0},{"$f":"'Races, Positions & Points'!FL11","v":12}]
[{"$f":"'Races, Positions & Points'!E12","v":22015},{"$f":"'Races, Positions & Points'!A12","v":"Aaliyah Llewellyn"},{"$f":"'Races, Positions & Points'!C12","v":2006},{"$f":"'Races, Positions & Points'!D12","v":"U10"},{"$f":"'Races, Positions & Points'!G12","v":999.99},null,null,{"$f":"'Races, Positions & Points'!FK12","v":0},{"$f":"'Races, Positions & Points'!FL12","v":0}]
[null,"BOYS",{"$f":"IF(ISERROR(VLOOKUP($B13,'Races, Positions & Points'!$A:$C,3,FALSE)),\"\",IF((VLOOKUP($B13,'Races, Positions & Points'!$A:$C,3,FALSE))=0,\"\",VLOOKUP($B13,'Races, Positions & Points'!$A:$C,3,FALSE)))","v":""},{"$f":"IF(ISERROR(VLOOKUP($B13,'Races, Positions & Points'!$A:$G,7,FALSE)),\"\",IF((VLOOKUP($B13,'Races, Positions & Points'!$A:$G,7,FALSE))=0,\"\",VLOOKUP($B13,'Races, Positions & Points'!$A:$G,7,FALSE)))","v":""},{"$f":"IF(ISERROR(VLOOKUP($B13,'Races, Positions & Points'!$A:$G,7,FALSE)),\"\",IF((VLOOKUP($B13,'Races, Positions & Points'!$A:$G,7,FALSE))=0,\"\",VLOOKUP($B13,'Races, Positions & Points'!$A:$G,7,FALSE)))","v":""},{"$f":"IF(ISERROR(VLOOKUP($B13,'Races, Positions & Points'!$A:$Y,9,FALSE)),\"\",IF((VLOOKUP($B13,'Races, Positions & Points'!$A:$Y,9,FALSE))=0,\"\",VLOOKUP($B13,'Races, Positions & Points'!$A:$Y,9,FALSE)))","v":""},{"$f":"IF(ISERROR(VLOOKUP($B13,'Races, Positions & Points'!$A:$Y,9,FALSE)),\"\",IF((VLOOKUP($B13,'Races, Positions & Points'!$A:$Y,9,FALSE))=0,\"\",VLOOKUP($B13,'Races, Positions & Points'!$A:$Y,9,FALSE)))","v":""},{"$f":"IF(ISERROR(VLOOKUP($B13,'Races, Positions & Points'!$A:$Y,9,FALSE)),\"\",IF((VLOOKUP($B13,'Races, Positions & Points'!$A:$Y,9,FALSE))=0,\"\",VLOOKUP($B13,'Races, Positions & Points'!$A:$Y,9,FALSE)))","v":""},{"$f":"IF(ISERROR(VLOOKUP($B13,'Races, Positions & Points'!$A:$FJ,132,FALSE)),\"\",IF((VLOOKUP($B13,'Races, Positions & Points'!$A:$FJ,132,FALSE))=0,\"\",VLOOKUP($B13,'Races, Positions & Points'!$A:$FJ,132,FALSE)))","v":""}]
[{"$f":"'Races, Positions & Points'!E14","v":20340},{"$f":"'Races, Positions & Points'!A14","v":"James Shakeshaft"},{"$f":"'Races, Positions & Points'!C14","v":2003},{"$f":"'Races, Positions & Points'!D14","v":"U12"},{"$f":"'Races, Positions & Points'!G14","v":999.99},{"$f":"'Races, Positions & Points'!W14","v":""},{"$f":"'Races, Positions & Points'!X14","v":""},{"$f":"'Races, Positions & Points'!FK14","v":0},{"$f":"'Races, Positions & Points'!FL14","v":0}]
[{"$f":"'Races, Positions & Points'!E15","v":20719},{"$f":"'Races, Positions & Points'!A15","v":"Daniel Hadley"},{"$f":"'Races, Positions & Points'!C15","v":2004},{"$f":"'Races, Positions & Points'!D15","v":"U12"},{"$f":"'Races, Positions & Points'!G15","v":999.99},{"$f":"'Races, Positions & Points'!W15","v":""},{"$f":"'Races, Positions & Points'!X15","v":""},{"$f":"'Races, Positions & Points'!FK15","v":0},{"$f":"'Races, Positions & Points'!FL15","v":0}]
[{"$f":"'Races, Positions & Points'!E16","v":20630},{"$f":"'Races, Positions & Points'!A16","v":"Jack Teague"},{"$f":"'Races, Positions & Points'!C16","v":2004},{"$f":"'Races, Positions & Points'!D16","v":"U12"},{"$f":"'Races, Positions & Points'!G16","v":999.99},{"$f":"'Races, Positions & Points'!W16","v":""},{"$f":"'Races, Positions & Points'!X16","v":""},{"$f":"'Races, Positions & Points'!FK16","v":0},{"$f":"'Races, Positions & Points'!FL16","v":0}]
[{"$f":"'Races, Positions & Points'!E17","v":21052},{"$f":"'Races, Positions & Points'!A17","v":"Jack Upton"},{"$f":"'Races, Positions & Points'!C17","v":2004},{"$f":"'Races, Positions & Points'!D17","v":"U12"},{"$f":"'Races, Positions & Points'!G17","v":999.99},null,null,{"$f":"'Races, Positions & Points'!FK17","v":0},{"$f":"'Races, Positions & Points'!FL17","v":20}]
[{"$f":"'Races, Positions & Points'!E18","v":21837},{"$f":"'Races, Positions & Points'!A18","v":"Keiron Wooley"},{"$f":"'Races, Positions & Points'!C18","v":2005},{"$f":"'Races, Positions & Points'!D18","v":"U10"},{"$f":"'Races, Positions & Points'!G18","v":999.99},null,null,{"$f":"'Races, Positions & Points'!FK18","v":0},{"$f":"'Races, Positions & Points'!FL18","v":22}]
[{"$f":"'Races, Positions & Points'!E19","v":22198},{"$f":"'Races, Positions & Points'!A19","v":"Noah Bailey"},{"$f":"'Races, Positions & Points'!C19","v":2006},{"$f":"'Races, Positions & Points'!D19","v":"U10"},{"$f":"'Races, Positions & Points'!G19","v":999.99},null,null,{"$f":"'Races, Positions & Points'!FK19","v":0},{"$f":"'Races, Positions & Points'!FL19","v":0}]
[{"$f":"'Races, Positions & Points'!E20","v":22203},{"$f":"'Races, Positions & Points'!A20","v":"Daniel Giles"},{"$f":"'Races, Positions & Points'!C20","v":2003},{"$f":"'Races, Positions & Points'!D20","v":"U12"},{"$f":"'Races, Positions & Points'!G20","v":999.99},null,null,{"$f":"'Races, Positions & Points'!FK20","v":0},{"$f":"'Races, Positions & Points'!FL20","v":0}]
[null,"FEMALES",{"$f":"IF(ISERROR(VLOOKUP($B21,'Races, Positions & Points'!$A:$C,3,FALSE)),\"\",IF((VLOOKUP($B21,'Races, Positions & Points'!$A:$C,3,FALSE))=0,\"\",VLOOKUP($B21,'Races, Positions & Points'!$A:$C,3,FALSE)))","v":""},{"$f":"IF(ISERROR(VLOOKUP($B21,'Races, Positions & Points'!$A:$D,4,FALSE)),\"\",IF((VLOOKUP($B21,'Races, Positions & Points'!$A:$D,4,FALSE))=0,\"\",VLOOKUP($B21,'Races, Positions & Points'!$A:$D,4,FALSE)))","v":""},{"$f":"IF(ISERROR(VLOOKUP($B21,'Races, Positions & Points'!$A:$G,7,FALSE)),\"\",IF((VLOOKUP($B21,'Races, Positions & Points'!$A:$G,7,FALSE))=0,\"\",VLOOKUP($B21,'Races, Positions & Points'!$A:$G,7,FALSE)))","v":""},{"$f":"IF(ISERROR(VLOOKUP($B21,'Races, Positions & Points'!$A:$Y,9,FALSE)),\"\",IF((VLOOKUP($B21,'Races, Positions & Points'!$A:$Y,9,FALSE))=0,\"\",VLOOKUP($B21,'Races, Positions & Points'!$A:$Y,9,FALSE)))","v":""},{"$f":"IF(ISERROR(VLOOKUP($B21,'Races, Positions & Points'!$A:$Y,9,FALSE)),\"\",IF((VLOOKUP($B21,'Races, Positions & Points'!$A:$Y,9,FALSE))=0,\"\",VLOOKUP($B21,'Races, Positions & Points'!$A:$Y,9,FALSE)))","v":""},null,{"$f":"IF(ISERROR(VLOOKUP($B21,'Races, Positions & Points'!$A:$FJ,132,FALSE)),\"\",IF((VLOOKUP($B21,'Races, Positions & Points'!$A:$FJ,132,FALSE))=0,\"\",VLOOKUP($B21,'Races, Positions & Points'!$A:$FJ,132,FALSE)))","v":""}]
[{"$f":"'Races, Positions & Points'!E22","v":20168},{"$f":"'Races, Positions & Points'!A22","v":"Rachel Bill"},{"$f":"'Races, Positions & Points'!C22","v":1990},{"$f":"'Races, Positions & Points'!D22","v":"SEN"},{"$f":"'Races, Positions & Points'!G22","v":23.81},{"$f":"'Races, Positions & Points'!W22","v":""},{"$f":"'Races, Positions & Points'!X22","v":""},{"$f":"'Races, Positions & Points'!FK22","v":0},{"$f":"'Races, Positions & Points'!FL22","v":1}]
[{"$f":"'Races, Positions & Points'!E23","v":17888},{"$f":"'Races, Positions & Points'!A23","v":"Lucy Deller"},{"$f":"'Races, Positions & Points'!C23","v":1996},{"$f":"'Races, Positions & Points'!D23","v":"U21"},{"$f":"'Races, Positions & Points'!G23","v":25.68},{"$f":"'Races, Positions & Points'!W23","v":""},{"$f":"'Races, Positions & Points'!X23","v":""},{"$f":"'Races, Positions & Points'!FK23","v":0},{"$f":"'Races, Positions & Points'!FL23","v":0}]
[{"$f":"'Races, Positions & Points'!E24","v":20696},{"$f":"'Races, Positions & Points'!A24","v":"Helena Newboult"},{"$f":"'Races, Positions & Points'!C24","v":1998},{"$f":"'Races, Positions & Points'!D24","v":"U18"},{"$f":"'Races, Positions & Points'!G24","v":27.39},{"$f":"'Races, Positions & Points'!W24","v":""},{"$f":"'Races, Positions & Points'!X24","v":""},{"$f":"'Races, Positions & Points'!FK24","v":0},{"$f":"'Races, Positions & Points'!FL24","v":0},null,null,null," "]
[{"$f":"'Races, Positions & Points'!E25","v":13381},{"$f":"'Races, Positions & Points'!A25","v":"Rowan Vernon"},{"$f":"'Races, Positions & Points'!C25","v":1988},{"$f":"'Races, Positions & Points'!D25","v":"SEN"},{"$f":"'Races, Positions & Points'!G25","v":32.840000000000003},{"$f":"'Races, Positions & Points'!W25","v":""},{"$f":"'Races, Positions & Points'!X25","v":""},{"$f":"'Races, Positions & Points'!FK25","v":0},{"$f":"'Races, Positions & Points'!FL25","v":0}]
[{"$f":"'Races, Positions & Points'!E26","v":20307},{"$f":"'Races, Positions & Points'!A26","v":"Amy Middleton"},{"$f":"'Races, Positions & Points'!C26","v":1995},{"$f":"'Races, Positions & Points'!D26","v":"U21"},{"$f":"'Races, Positions & Points'!G26","v":51.15},{"$f":"'Races, Positions & Points'!W26","v":-6.18},{"$f":"'Races, Positions & Points'!X26","v":""},{"$f":"'Races, Positions & Points'!FK26","v":0},{"$f":"'Races, Positions & Points'!FL26","v":2}]
[{"$f":"'Races, Positions & Points'!E27","v":18033},{"$f":"'Races, Positions & Points'!A27","v":"Elisabeth Thomas"},{"$f":"'Races, Positions & Points'!C27","v":1996},{"$f":"'Races, Positions & Points'!D27","v":"U21"},{"$f":"'Races, Positions & Points'!G27","v":72.7},{"$f":"'Races, Positions & Points'!W27","v":-31.660000000000004},{"$f":"'Races, Positions & Points'!X27","v":""},{"$f":"'Races, Positions & Points'!FK27","v":1},{"$f":"'Races, Positions & Points'!FL27","v":3}]
[{"$f":"'Races, Positions & Points'!E28","v":18617},{"$f":"'Races, Positions & Points'!A28","v":"Maxine Hancock"},{"$f":"'Races, Positions & Points'!C28","v":1997},{"$f":"'Races, Positions & Points'!D28","v":"U18"},{"$f":"'Races, Positions & Points'!G28","v":74.28},{"$f":"'Races, Positions & Points'!W28","v":""},{"$f":"'Races, Positions & Points'!X28","v":""},{"$f":"'Races, Positions & Points'!FK28","v":0},{"$f":"'Races, Positions & Points'!FL28","v":4}]
[{"$f":"'Races, Positions & Points'!E29","v":21014},{"$f":"'Races, Positions & Points'!A29","v":"Jessica Mayhew"},{"$f":"'Races, Positions & Points'!C29","v":2000},{"$f":"'Races, Positions & Points'!D29","v":"U16"},{"$f":"'Races, Positions & Points'!G29","v":84.18},{"$f":"'Races, Positions & Points'!W29","v":-36.410000000000004},{"$f":"'Races, Positions & Points'!X29","v":""},{"$f":"'Races, Positions & Points'!FK29","v":1},{"$f":"'Races, Positions & Points'!FL29","v":9}]
[{"$f":"'Races, Positions & Points'!E30","v":19833},{"$f":"'Races, Positions & Points'!A30","v":"Hannah Shakeshaft"},{"$f":"'Races, Positions & Points'!C30","v":1996},{"$f":"'Races, Positions & Points'!D30","v":"U21"},{"$f":"'Races, Positions & Points'!G30","v":140.29},{"$f":"'Races, Positions & Points'!W30","v":""},{"$f":"'Races, Positions & Points'!X30","v":""},{"$f":"'Races, Positions & Points'!FK30","v":0},{"$f":"'Races, Positions & Points'!FL30","v":0}]
[{"$f":"'Races, Positions & Points'!E31","v":19983},{"$f":"'Races, Positions & Points'!A31","v":"Chloe Care"},{"$f":"'Races, Positions & Points'!C31","v":1998},{"$f":"'Races, Positions & Points'!D31","v":"U18"},{"$f":"'Races, Positions & Points'!G31","v":203.01},{"$f":"'Races, Positions & Points'!W31","v":""},{"$f":"'Races, Positions & Points'!X31","v":""},{"$f":"'Races, Positions & Points'!FK31","v":0},{"$f":"'Races, Positions & Points'!FL31","v":1}]
[{"$f":"'Races, Positions & Points'!E32","v":19165},{"$f":"'Races, Positions & Points'!A32","v":"Geraldine Elgy"},{"$f":"'Races, Positions & Points'!C32","v":1954},{"$f":"'Races, Positions & Points'!D32","v":"MAS"},{"$f":"'Races, Positions & Points'!G32","v":330.25},{"$f":"'Races, Positions & Points'!W32","v":""},{"$f":"'Races, Positions & Points'!X32","v":""},{"$f":"'Races, Positions & Points'!FK32","v":0},{"$f":"'Races, Positions & Points'!FL32","v":0}]
[{"$f":"'Races, Positions & Points'!E33","v":20781},{"$f":"'Races, Positions & Points'!A33","v":"Laura Newboult"},{"$f":"'Races, Positions & Points'!C33","v":1995},{"$f":"'Races, Positions & Points'!D33","v":"U21"},{"$f":"'Races, Positions & Points'!G33","v":428.94},{"$f":"'Races, Positions & Points'!W33","v":""},{"$f":"'Races, Positions & Points'!X33","v":""},{"$f":"'Races, Positions & Points'!FK33","v":0},{"$f":"'Races, Positions & Points'!FL33","v":0}]
[{"$f":"'Races, Positions & Points'!E34","v":19573},{"$f":"'Races, Positions & Points'!A34","v":"Robyn Doherty"},{"$f":"'Races, Positions & Points'!C34","v":1996},{"$f":"'Races, Positions & Points'!D34","v":"U21"},{"$f":"'Races, Positions & Points'!G34","v":636.34},{"$f":"'Races, Positions & Points'!W34","v":""},{"$f":"'Races, Positions & Points'!X34","v":""},{"$f":"'Races, Positions & Points'!FK34","v":0},{"$f":"'Races, Positions & Points'!FL34","v":0}]
[{"$f":"'Races, Positions & Points'!E35","v":41577},{"$f":"'Races, Positions & Points'!A35","v":"Jane Lee"},{"$f":"'Races, Positions & Points'!C35","v":1954},{"$f":"'Races, Positions & Points'!D35","v":"MAS"},{"$f":"'Races, Positions & Points'!G35","v":640.45000000000005},{"$f":"'Races, Positions & Points'!W35","v":""},{"$f":"'Races, Positions & Points'!X35","v":""},{"$f":"'Races, Positions & Points'!FK35","v":0},{"$f":"'Races, Positions & Points'!FL35","v":0}]
[{"$f":"'Races, Positions & Points'!E36","v":14263},{"$f":"'Races, Positions & Points'!A36","v":"Emily Dawes"},{"$f":"'Races, Positions & Points'!C36","v":1991},{"$f":"'Races, Positions & Points'!D36","v":"SEN"},{"$f":"'Races, Positions & Points'!G36","v":"NR"},{"$f":"'Races, Positions & Points'!W36","v":""},{"$f":"'Races, Positions & Points'!X36","v":""},{"$f":"'Races, Positions & Points'!FK36","v":0},{"$f":"'Races, Positions & Points'!FL36","v":0}]
[{"$f":"'Races, Positions & Points'!E37","v":17839},{"$f":"'Races, Positions & Points'!A37","v":"Sophia Phelps"},{"$f":"'Races, Positions & Points'!C37","v":1994},{"$f":"'Races, Positions & Points'!D37","v":"U21"},{"$f":"'Races, Positions & Points'!G37","v":"NR"},{"$f":"'Races, Positions & Points'!W37","v":""},{"$f":"'Races, Positions & Points'!X37","v":""},{"$f":"'Races, Positions & Points'!FK37","v":0},{"$f":"'Races, Positions & Points'!FL37","v":0}]
[{"$f":"'Races, Positions & Points'!E38","v":17516},{"$f":"'Races, Positions & Points'!A38","v":"Olivia Waller"},{"$f":"'Races, Positions & Points'!C38","v":1994},{"$f":"'Races, Positions & Points'!D38","v":"U21"},{"$f":"'Races, Positions & Points'!G38","v":"NR"},{"$f":"'Races, Positions & Points'!W38","v":""},{"$f":"'Races, Positions & Points'!X38","v":""},{"$f":"'Races, Positions & Points'!FK38","v":0},{"$f":"'Races, Positions & Points'!FL38","v":0}]
[{"$f":"'Races, Positions & Points'!E39","v":21606},{"$f":"'Races, Positions & Points'!A39","v":"Agathe Vallat"},{"$f":"'Races, Positions & Points'!C39","v":1999},{"$f":"'Races, Positions & Points'!D39","v":"U16"},{"$f":"'Races, Positions & Points'!G39","v":465.82},{"$f":"'Races, Positions & Points'!W39","v":-245.73999999999998},{"$f":"'Races, Positions & Points'!X39","v":""},{"$f":"'Races, Positions & Points'!FK39","v":0},{"$f":"'Races, Positions & Points'!FL39","v":0}]
["Day","Rose Tinley",1998,"U18","NR",{"$f":"'Races, Positions & Points'!W40","v":""},{"$f":"'Races, Positions & Points'!X40","v":""},{"$f":"'Races, Positions & Points'!FK40","v":0},{"$f":"'Races, Positions & Points'!FL40","v":0}]
["Day","Rebecca Tinley",2000,"U16","NR",{"$f":"'Races, Positions & Points'!W41","v":""},{"$f":"'Races, Positions & Points'!X41","v":""},{"$f":"'Races, Positions & Points'!FK41","v":0},{"$f":"'Races, Positions & Points'!FL41","v":0}]
[{"$f":"'Races, Positions & Points'!E42","v":"Day"},{"$f":"'Races, Positions & Points'!A42","v":"Carys Phillips"},{"$f":"'Races, Positions & Points'!C42","v":1999},{"$f":"'Races, Positions & Points'!D42","v":"U16"},{"$f":"'Races, Positions & Points'!G42","v":"NR"},{"$f":"'Races, Positions & Points'!W42","v":""},{"$f":"'Races, Positions & Points'!X42","v":""},{"$f":"'Races, Positions & Points'!FK42","v":0},{"$f":"'Races, Positions & Points'!FL42","v":0}]
[null,"MALES",{"$f":"IF(ISERROR(VLOOKUP($B43,'Races, Positions & Points'!$A:$C,3,FALSE)),\"\",IF((VLOOKUP($B43,'Races, Positions & Points'!$A:$C,3,FALSE))=0,\"\",VLOOKUP($B43,'Races, Positions & Points'!$A:$C,3,FALSE)))","v":""},{"$f":"IF(ISERROR(VLOOKUP($B43,'Races, Positions & Points'!$A:$D,4,FALSE)),\"\",IF((VLOOKUP($B43,'Races, Positions & Points'!$A:$D,4,FALSE))=0,\"\",VLOOKUP($B43,'Races, Positions & Points'!$A:$D,4,FALSE)))","v":""},{"$f":"IF(ISERROR(VLOOKUP($B43,'Races, Positions & Points'!$A:$G,7,FALSE)),\"\",IF((VLOOKUP($B43,'Races, Positions & Points'!$A:$G,7,FALSE))=0,\"\",VLOOKUP($B43,'Races, Positions & Points'!$A:$G,7,FALSE)))","v":""},{"$f":"IF(ISERROR(VLOOKUP($B43,'Races, Positions & Points'!$A:$Y,9,FALSE)),\"\",IF((VLOOKUP($B43,'Races, Positions & Points'!$A:$Y,9,FALSE))=0,\"\",VLOOKUP($B43,'Races, Positions & Points'!$A:$Y,9,FALSE)))","v":""},{"$f":"IF(ISERROR(VLOOKUP($B43,'Races, Positions & Points'!$A:$Y,9,FALSE)),\"\",IF((VLOOKUP($B43,'Races, Positions & Points'!$A:$Y,9,FALSE))=0,\"\",VLOOKUP($B43,'Races, Positions & Points'!$A:$Y,9,FALSE)))","v":""},null,{"$f":"IF(ISERROR(VLOOKUP($B43,'Races, Positions & Points'!$A:$FJ,132,FALSE)),\"\",IF((VLOOKUP($B43,'Races, Positions & Points'!$A:$FJ,132,FALSE))=0,\"\",VLOOKUP($B43,'Races, Positions & Points'!$A:$FJ,132,FALSE)))","v":""}]
[{"$f":"'Races, Positions & Points'!E44","v":17356},{"$f":"'Races, Positions & Points'!A44","v":"Harry Hornsby"},{"$f":"'Races, Positions & Points'!C44","v":1991},{"$f":"'Races, Positions & Points'!D44","v":"SEN"},{"$f":"'Races, Positions & Points'!G44","v":5.41},{"$f":"'Races, Positions & Points'!W44","v":-0.12999999999999989},{"$f":"'Races, Positions & Points'!X44","v":""},{"$f":"'Races, Positions & Points'!FK44","v":6},{"$f":"'Races, Positions & Points'!FL44","v":7}]
[{"$f":"'Races, Positions & Points'!E45","v":17479},{"$f":"'Races, Positions & Points'!A45","v":"Jonny Powell"},{"$f":"'Races, Positions & Points'!C45","v":1986},{"$f":"'Races, Positions & Points'!D45","v":"SEN"},{"$f":"'Races, Positions & Points'!G45","v":18.72},{"$f":"'Races, Positions & Points'!W45","v":""},{"$f":"'Races, Positions & Points'!X45","v":""},{"$f":"'Races, Positions & Points'!FK45","v":0},{"$f":"'Races, Positions & Points'!FL45","v":2}]
[{"$f":"'Races, Positions & Points'!E46","v":12318},{"$f":"'Races, Positions & Points'!A46","v":"Andrew Du Plessis"},{"$f":"'Races, Positions & Points'!C46","v":1985},{"$f":"'Races, Positions & Points'!D46","v":"SEN"},{"$f":"'Races, Positions & Points'!G46","v":23.04},{"$f":"'Races, Positions & Points'!W46","v":""},{"$f":"'Races, Positions & Points'!X46","v":""},{"$f":"'Races, Positions & Points'!FK46","v":0},{"$f":"'Races, Positions & Points'!FL46","v":0}]
[{"$f":"'Races, Positions & Points'!E47","v":19704},{"$f":"'Races, Positions & Points'!A47","v":"Adam Beardmore"},{"$f":"'Races, Positions & Points'!C47","v":1986},{"$f":"'Races, Positions & Points'!D47","v":"SEN"},{"$f":"'Races, Positions & Points'!G47","v":35.26},{"$f":"'Races, Positions & Points'!W47","v":""},{"$f":"'Races, Positions & Points'!X47","v":""},{"$f":"'Races, Positions & Points'!FK47","v":0},{"$f":"'Races, Positions & Points'!FL47","v":0}]
[{"$f":"'Races, Positions & Points'!E48","v":41578},{"$f":"'Races, Positions & Points'!A48","v":"Adam. Lee"},{"$f":"'Races, Positions & Points'!C48","v":1994},{"$f":"'Races, Positions & Points'!D48","v":"U21"},{"$f":"'Races, Positions & Points'!G48","v":38.93},{"$f":"'Races, Positions & Points'!W48","v":-2.5399999999999991},{"$f":"'Races, Positions & Points'!X48","v":""},{"$f":"'Races, Positions & Points'!FK48","v":2},{"$f":"'Races, Positions & Points'!FL48","v":6},null,null,null," "]
[{"$f":"'Races, Positions & Points'!E49","v":41722},{"$f":"'Races, Positions & Points'!A49","v":"Jack Rigby"},{"$f":"'Races, Positions & Points'!C49","v":1995},{"$f":"'Races, Positions & Points'!D49","v":"U21"},{"$f":"'Races, Positions & Points'!G49","v":50.4},{"$f":"'Races, Positions & Points'!W49","v":""},{"$f":"'Races, Positions & Points'!X49","v":-7.9099999999999966},{"$f":"'Races, Positions & Points'!FK49","v":0},{"$f":"'Races, Positions & Points'!FL49","v":1}]
[{"$f":"'Races, Positions & Points'!E50","v":21084},{"$f":"'Races, Positions & Points'!A50","v":"Phil Emmerson"},{"$f":"'Races, Positions & Points'!C50","v":1990},{"$f":"'Races, Positions & Points'!D50","v":"SEN"},{"$f":"'Races, Positions & Points'!G50","v":57.73},{"$f":"'Races, Positions & Points'!W50","v":-15.709999999999994},{"$f":"'Races, Positions & Points'!X50","v":""},{"$f":"'Races, Positions & Points'!FK50","v":0},{"$f":"'Races, Positions & Points'!FL50","v":2},null,null,null," "]
[{"$f":"'Races, Positions & Points'!E51","v":19163},{"$f":"'Races, Positions & Points'!A51","v":"Mark Hawkins"},{"$f":"'Races, Positions & Points'!C51","v":1979},{"$f":"'Races, Positions & Points'!D51","v":"MAS"},{"$f":"'Races, Positions & Points'!G51","v":61.45},{"$f":"'Races, Positions & Points'!W51","v":-5.9200000000000017},{"$f":"'Races, Positions & Points'!X51","v":""},{"$f":"'Races, Positions & Points'!FK51","v":0},{"$f":"'Races, Positions & Points'!FL51","v":9}]
[{"$f":"'Races, Positions & Points'!E52","v":18607},{"$f":"'Races, Positions & Points'!A52","v":"Nick Miller"},{"$f":"'Races, Positions & Points'!C52","v":1993},{"$f":"'Races, Positions & Points'!D52","v":"SEN"},{"$f":"'Races, Positions & Points'!G52","v":63.19},{"$f":"'Races, Positions & Points'!W52","v":""},{"$f":"'Races, Positions & Points'!X52","v":""},{"$f":"'Races, Positions & Points'!FK52","v":0},{"$f":"'Races, Positions & Points'!FL52","v":0},null,null,null," "]
[{"$f":"'Races, Positions & Points'!E53","v":18586},{"$f":"'Races, Positions & Points'!A53","v":"Alasdair Thorley"},{"$f":"'Races, Positions & Points'!C53","v":1994},{"$f":"'Races, Positions & Points'!D53","v":"U21"},{"$f":"'Races, Positions & Points'!G53","v":69.650000000000006},{"$f":"'Races, Positions & Points'!W53","v":""},{"$f":"'Races, Positions & Points'!X53","v":""},{"$f":"'Races, Positions & Points'!FK53","v":0},{"$f":"'Races, Positions & Points'!FL53","v":0}]
[{"$f":"'Races, Positions & Points'!E54","v":17840},{"$f":"'Races, Positions & Points'!A54","v":"Nick Phelps"},{"$f":"'Races, Positions & Points'!C54","v":1997},{"$f":"'Races, Positions & Points'!D54","v":"U18"},{"$f":"'Races, Positions & Points'!G54","v":70.34},{"$f":"'Races, Positions & Points'!W54","v":""},{"$f":"'Races, Positions & Points'!X54","v":""},{"$f":"'Races, Positions & Points'!FK54","v":0},{"$f":"'Races, Positions & Points'!FL54","v":2}]
[{"$f":"'Races, Positions & Points'!E55","v":19051},{"$f":"'Races, Positions & Points'!A55","v":"Oliver Weeks"},{"$f":"'Races, Positions & Points'!C55","v":2001},{"$f":"'Races, Positions & Points'!D55","v":"U14"},{"$f":"'Races, Positions & Points'!G55","v":70.989999999999995},{"$f":"'Races, Positions & Points'!W55","v":-17.519999999999996},{"$f":"'Races, Positions & Points'!X55","v":-4},{"$f":"'Races, Positions & Points'!FK55","v":1},{"$f":"'Races, Positions & Points'!FL55","v":27}]
[{"$f":"'Races, Positions & Points'!E56","v":21595},{"$f":"'Races, Positions & Points'!A56","v":"James Smith"},{"$f":"'Races, Positions & Points'!C56","v":1992},{"$f":"'Races, Positions & Points'!D56","v":"SEN"},{"$f":"'Races, Positions & Points'!G56","v":72.23},{"$f":"'Races, Positions & Points'!W56","v":-8.5200000000000031},{"$f":"'Races, Positions & Points'!X56","v":""},{"$f":"'Races, Positions & Points'!FK56","v":0},{"$f":"'Races, Positions & Points'!FL56","v":0}]
[{"$f":"'Races, Positions & Points'!E57","v":18509},{"$f":"'Races, Positions & Points'!A57","v":"Gareth Miller"},{"$f":"'Races, Positions & Points'!C57","v":1994},{"$f":"'Races, Positions & Points'!D57","v":"U21"},{"$f":"'Races, Positions & Points'!G57","v":73.98},{"$f":"'Races, Positions & Points'!W57","v":-23.1},{"$f":"'Races, Positions & Points'!X57","v":-2.9100000000000108},{"$f":"'Races, Positions & Points'!FK57","v":0},{"$f":"'Races, Positions & Points'!FL57","v":2}]
[{"$f":"'Races, Positions & Points'!E58","v":14213},{"$f":"'Races, Positions & Points'!A58","v":"Edmund Walker"},{"$f":"'Races, Positions & Points'!C58","v":1992},{"$f":"'Races, Positions & Points'!D58","v":"SEN"},{"$f":"'Races, Positions & Points'!G58","v":77.16},{"$f":"'Races, Positions & Points'!W58","v":-26.389999999999993},{"$f":"'Races, Positions & Points'!X58","v":""},{"$f":"'Races, Positions & Points'!FK58","v":0},{"$f":"'Races, Positions & Points'!FL58","v":1}]
[{"$f":"'Races, Positions & Points'!E59","v":19910},{"$f":"'Races, Positions & Points'!A59","v":"Jordan Rigby"},{"$f":"'Races, Positions & Points'!C59","v":2000},{"$f":"'Races, Positions & Points'!D59","v":"U16"},{"$f":"'Races, Positions & Points'!G59","v":111.82},{"$f":"'Races, Positions & Points'!W59","v":""},{"$f":"'Races, Positions & Points'!X59","v":""},{"$f":"'Races, Positions & Points'!FK59","v":0},{"$f":"'Races, Positions & Points'!FL59","v":0}]
[{"$f":"'Races, Positions & Points'!E60","v":20846},{"$f":"'Races, Positions & Points'!A60","v":"Sam Dewison"},{"$f":"'Races, Positions & Points'!C60","v":1998},{"$f":"'Races, Positions & Points'!D60","v":"U18"},{"$f":"'Races, Positions & Points'!G60","v":119.86},{"$f":"'Races, Positions & Points'!W60","v":-16.400000000000006},{"$f":"'Races, Positions & Points'!X60","v":""},{"$f":"'Races, Positions & Points'!FK60","v":0},{"$f":"'Races, Positions & Points'!FL60","v":0}]
[{"$f":"'Races, Positions & Points'!E61","v":5666},{"$f":"'Races, Positions & Points'!A61","v":"Roger Crombleholme"},{"$f":"'Races, Positions & Points'!C61","v":1957},{"$f":"'Races, Positions & Points'!D61","v":"MAS"},{"$f":"'Races, Positions & Points'!G61","v":120.35},{"$f":"'Races, Positions & Points'!W61","v":""},{"$f":"'Races, Positions & Points'!X61","v":""},{"$f":"'Races, Positions & Points'!FK61","v":0},{"$f":"'Races, Positions & Points'!FL61","v":0}]
[{"$f":"'Races, Positions & Points'!E62","v":20677},{"$f":"'Races, Positions & Points'!A62","v":"Joey Frost"},{"$f":"'Races, Positions & Points'!C62","v":1995},{"$f":"'Races, Positions & Points'!D62","v":"U21"},{"$f":"'Races, Positions & Points'!G62","v":127.79},{"$f":"'Races, Positions & Points'!W62","v":""},{"$f":"'Races, Positions & Points'!X62","v":""},{"$f":"'Races, Positions & Points'!FK62","v":0},{"$f":"'Races, Positions & Points'!FL62","v":0}]
[{"$f":"'Races, Positions & Points'!E63","v":41662},{"$f":"'Races, Positions & Points'!A63","v":"Sam Lee"},{"$f":"'Races, Positions & Points'!C63","v":1996},{"$f":"'Races, Positions & Points'!D63","v":"U21"},{"$f":"'Races, Positions & Points'!G63","v":128.82},{"$f":"'Races, Positions & Points'!W63","v":""},{"$f":"'Races, Positions & Points'!X63","v":""},{"$f":"'Races, Positions & Points'!FK63","v":0},{"$f":"'Races, Positions & Points'!FL63","v":1}]
[{"$f":"'Races, Positions & Points'!E64","v":18998},{"$f":"'Races, Positions & Points'!A64","v":"Duncan Thorley"},{"$f":"'Races, Positions & Points'!C64","v":1997},{"$f":"'Races, Positions & Points'!D64","v":"U18"},{"$f":"'Races, Positions & Points'!G64","v":133.94999999999999},{"$f":"'Races, Positions & Points'!W64","v":""},{"$f":"'Races, Positions & Points'!X64","v":""},{"$f":"'Races, Positions & Points'!FK64","v":0},{"$f":"'Races, Positions & Points'!FL64","v":0}]
[{"$f":"'Races, Positions & Points'!E65","v":19941},{"$f":"'Races, Positions & Points'!A65","v":"Thomas Lawrence"},{"$f":"'Races, Positions & Points'!C65","v":1999},{"$f":"'Races, Positions & Points'!D65","v":"U16"},{"$f":"'Races, Positions & Points'!G65","v":144.61000000000001},{"$f":"'Races, Positions & Points'!W65","v":-41.550000000000011},{"$f":"'Races, Positions & Points'!X65","v":""},{"$f":"'Races, Positions & Points'!FK65","v":0},{"$f":"'Races, Positions & Points'!FL65","v":1}]
[{"$f":"'Races, Positions & Points'!E66","v":19829},{"$f":"'Races, Positions & Points'!A66","v":"Ethan Hemming"},{"$f":"'Races, Positions & Points'!C66","v":2001},{"$f":"'Races, Positions & Points'!D66","v":"U14"},{"$f":"'Races, Positions & Points'!G66","v":150.21},{"$f":"'Races, Positions & Points'!W66","v":-35.760000000000005},{"$f":"'Races, Positions & Points'!X66","v":""},{"$f":"'Races, Positions & Points'!FK66","v":0},{"$f":"'Races, Positions & Points'!FL66","v":1}]
[{"$f":"'Races, Positions & Points'!E67","v":19166},{"$f":"'Races, Positions & Points'!A67","v":"James Elgy"},{"$f":"'Races, Positions & Points'!C67","v":1993},{"$f":"'Races, Positions & Points'!D67","v":"SEN"},{"$f":"'Races, Positions & Points'!G67","v":166.36},{"$f":"'Races, Positions & Points'!W67","v":""},{"$f":"'Races, Positions & Points'!X67","v":""},{"$f":"'Races, Positions & Points'!FK67","v":0},{"$f":"'Races, Positions & Points'!FL67","v":0}]
[{"$f":"'Races, Positions & Points'!E68","v":21550},{"$f":"'Races, Positions & Points'!A68","v":"Toby Tarrant"},{"$f":"'Races, Positions & Points'!C68","v":1997},{"$f":"'Races, Positions & Points'!D68","v":"U18"},{"$f":"'Races, Positions & Points'!G68","v":186.2},{"$f":"'Races, Positions & Points'!W68","v":-50.569999999999993},{"$f":"'Races, Positions & Points'!X68","v":""},{"$f":"'Races, Positions & Points'!FK68","v":0},{"$f":"'Races, Positions & Points'!FL68","v":0}]
[{"$f":"'Races, Positions & Points'!E69","v":21051},{"$f":"'Races, Positions & Points'!A69","v":"Thomas Upton"},{"$f":"'Races, Positions & Points'!C69","v":2001},{"$f":"'Races, Positions & Points'!D69","v":"U14"},{"$f":"'Races, Positions & Points'!G69","v":189.87},{"$f":"'Races, Positions & Points'!W69","v":-84.92},{"$f":"'Races, Positions & Points'!X69","v":-68.38000000000001},{"$f":"'Races, Positions & Points'!FK69","v":0},{"$f":"'Races, Positions & Points'!FL69","v":1}]
[{"$f":"'Races, Positions & Points'!E70","v":19379},{"$f":"'Races, Positions & Points'!A70","v":"Edward Guy"},{"$f":"'Races, Positions & Points'!C70","v":2001},{"$f":"'Races, Positions & Points'!D70","v":"U14"},{"$f":"'Races, Positions & Points'!G70","v":238.89},{"$f":"'Races, Positions & Points'!W70","v":-100.57},{"$f":"'Races, Positions & Points'!X70","v":""},{"$f":"'Races, Positions & Points'!FK70","v":0},{"$f":"'Races, Positions & Points'!FL70","v":0}]
[{"$f":"'Races, Positions & Points'!E71","v":19572},{"$f":"'Races, Positions & Points'!A71","v":"Samuel Doherty"},{"$f":"'Races, Positions & Points'!C71","v":1999},{"$f":"'Races, Positions & Points'!D71","v":"U16"},{"$f":"'Races, Positions & Points'!G71","v":257.08999999999997},{"$f":"'Races, Positions & Points'!W71","v":""},{"$f":"'Races, Positions & Points'!X71","v":""},{"$f":"'Races, Positions & Points'!FK71","v":0},{"$f":"'Races, Positions & Points'!FL71","v":0}]
[{"$f":"'Races, Positions & Points'!E72","v":18616},{"$f":"'Races, Positions & Points'!A72","v":"Karl Hancock"},{"$f":"'Races, Positions & Points'!C72","v":1995},{"$f":"'Races, Positions & Points'!D72","v":"U21"},{"$f":"'Races, Positions & Points'!G72","v":259.37},{"$f":"'Races, Positions & Points'!W72","v":""},{"$f":"'Races, Positions & Points'!X72","v":-55.930000000000007},{"$f":"'Races, Positions & Points'!FK72","v":0},{"$f":"'Races, Positions & Points'!FL72","v":0}]
[{"$f":"'Races, Positions & Points'!E73","v":19164},{"$f":"'Races, Positions & Points'!A73","v":"John Elgy"},{"$f":"'Races, Positions & Points'!C73","v":1951},{"$f":"'Races, Positions & Points'!D73","v":"MAS"},{"$f":"'Races, Positions & Points'!G73","v":332.56},{"$f":"'Races, Positions & Points'!W73","v":""},{"$f":"'Races, Positions & Points'!X73","v":""},{"$f":"'Races, Positions & Points'!FK73","v":0},{"$f":"'Races, Positions & Points'!FL73","v":0}]
[{"$f":"'Races, Positions & Points'!E74","v":21633},{"$f":"'Races, Positions & Points'!A74","v":"Matthew Kirkland"},{"$f":"'Races, Positions & Points'!C74","v":1992},{"$f":"'Races, Positions & Points'!D74","v":"SEN"},{"$f":"'Races, Positions & Points'!G74","v":345.98},{"$f":"'Races, Positions & Points'!W74","v":""},{"$f":"'Races, Positions & Points'!X74","v":""},{"$f":"'Races, Positions & Points'!FK74","v":0},{"$f":"'Races, Positions & Points'!FL74","v":0}]
[{"$f":"'Races, Positions & Points'!E75","v":17039},{"$f":"'Races, Positions & Points'!A75","v":"Phil Deller"},{"$f":"'Races, Positions & Points'!C75","v":1959},{"$f":"'Races, Positions & Points'!D75","v":"MAS"},{"$f":"'Races, Positions & Points'!G75","v":780.34},{"$f":"'Races, Positions & Points'!W75","v":""},{"$f":"'Races, Positions & Points'!X75","v":""},{"$f":"'Races, Positions & Points'!FK75","v":0},{"$f":"'Races, Positions & Points'!FL75","v":0}]
[{"$f":"'Races, Positions & Points'!E76","v":17037},{"$f":"'Races, Positions & Points'!A76","v":"David Hancock"},{"$f":"'Races, Positions & Points'!C76","v":1964},{"$f":"'Races, Positions & Points'!D76","v":"MAS"},{"$f":"'Races, Positions & Points'!G76","v":999.99},{"$f":"'Races, Positions & Points'!W76","v":""},{"$f":"'Races, Positions & Points'!X76","v":""},{"$f":"'Races, Positions & Points'!FK76","v":0},{"$f":"'Races, Positions & Points'!FL76","v":0}]
[{"$f":"'Races, Positions & Points'!E77","v":21714},{"$f":"'Races, Positions & Points'!A77","v":"Joe Bird"},{"$f":"'Races, Positions & Points'!C77","v":1994},{"$f":"'Races, Positions & Points'!D77","v":"U21"},{"$f":"'Races, Positions & Points'!G77","v":999.99},{"$f":"'Races, Positions & Points'!W77","v":""},{"$f":"'Races, Positions & Points'!X77","v":""},{"$f":"'Races, Positions & Points'!FK77","v":0},{"$f":"'Races, Positions & Points'!FL77","v":0}]
[{"$f":"'Races, Positions & Points'!E78","v":21075},{"$f":"'Races, Positions & Points'!A78","v":"Jake Heard"},{"$f":"'Races, Positions & Points'!C78","v":1998},{"$f":"'Races, Positions & Points'!D78","v":"U18"},{"$f":"'Races, Positions & Points'!G78","v":999.99},{"$f":"'Races, Positions & Points'!W78","v":""},{"$f":"'Races, Positions & Points'!X78","v":""},{"$f":"'Races, Positions & Points'!FK78","v":0},{"$f":"'Races, Positions & Points'!FL78","v":0}]
[{"$f":"'Races, Positions & Points'!E79","v":20590},{"$f":"'Races, Positions & Points'!A79","v":"James Care"},{"$f":"'Races, Positions & Points'!C79","v":2002},{"$f":"'Races, Positions & Points'!D79","v":"U14"},{"$f":"'Races, Positions & Points'!G79","v":999.99},{"$f":"'Races, Positions & Points'!W79","v":""},{"$f":"'Races, Positions & Points'!X79","v":""},{"$f":"'Races, Positions & Points'!FK79","v":0},{"$f":"'Races, Positions & Points'!FL79","v":0}]
[{"$f":"'Races, Positions & Points'!E80","v":19737},{"$f":"'Races, Positions & Points'!A80","v":"Seamus O'Brien"},{"$f":"'Races, Positions & Points'!C80","v":2002},{"$f":"'Races, Positions & Points'!D80","v":"U14"},{"$f":"'Races, Positions & Points'!G80","v":999.99},{"$f":"'Races, Positions & Points'!W80","v":""},{"$f":"'Races, Positions & Points'!X80","v":""},{"$f":"'Races, Positions & Points'!FK80","v":0},{"$f":"'Races, Positions & Points'!FL80","v":2}]
[{"$f":"'Races, Positions & Points'!E81","v":20670},{"$f":"'Races, Positions & Points'!A81","v":"Matthew Treuge"},{"$f":"'Races, Positions & Points'!C81","v":2002},{"$f":"'Races, Positions & Points'!D81","v":"U14"},{"$f":"'Races, Positions & Points'!G81","v":999.99},{"$f":"'Races, Positions & Points'!W81","v":""},null,{"$f":"'Races, Positions & Points'!FK81","v":0},{"$f":"'Races, Positions & Points'!FL81","v":0}]
[{"$f":"'Races, Positions & Points'!E82","v":20676},{"$f":"'Races, Positions & Points'!A82","v":"JJ Frost"},{"$f":"'Races, Positions & Points'!C82","v":1993},{"$f":"'Races, Positions & Points'!D82","v":"SEN"},{"$f":"'Races, Positions & Points'!G82","v":"NR"},{"$f":"'Races, Positions & Points'!W82","v":""},null,{"$f":"'Races, Positions & Points'!FK82","v":0},{"$f":"'Races, Positions & Points'!FL82","v":0}]
[{"$f":"'Races, Positions & Points'!E83","v":21130},{"$f":"'Races, Positions & Points'!A83","v":"Ben Hall"},{"$f":"'Races, Positions & Points'!C83","v":1994},{"$f":"'Races, Positions & Points'!D83","v":"U21"},{"$f":"'Races, Positions & Points'!G83","v":"NR"},{"$f":"'Races, Positions & Points'!W83","v":""},null,{"$f":"'Races, Positions & Points'!FK83","v":0},{"$f":"'Races, Positions & Points'!FL83","v":0}]
[{"$f":"'Races, Positions & Points'!E84","v":17958},"Matthew Waller",{"$f":"'Races, Positions & Points'!C84","v":1999},{"$f":"'Races, Positions & Points'!D84","v":"U16"},{"$f":"'Races, Positions & Points'!G84","v":"NR"},{"$f":"'Races, Positions & Points'!W84","v":""},null,{"$f":"'Races, Positions & Points'!FK84","v":0},{"$f":"'Races, Positions & Points'!FL84","v":0}]
[{"$f":"'Races, Positions & Points'!E85","v":"Day"},{"$f":"'Races, Positions & Points'!A85","v":"Patrick Kelly"},{"$f":"'Races, Positions & Points'!C85","v":2000},{"$f":"'Races, Positions & Points'!D85","v":"U16"},{"$f":"'Races, Positions & Points'!G85","v":"NR"},{"$f":"'Races, Positions & Points'!W84","v":""},null,{"$f":"'Races, Positions & Points'!FK84","v":0},{"$f":"'Races, Positions & Points'!FL84","v":0}]
[{"$f":"'Races, Positions & Points'!E86","v":"Day"},{"$f":"'Races, Positions & Points'!A86","v":"Macaulay Clover"},{"$f":"'Races, Positions & Points'!C86","v":2002},{"$f":"'Races, Positions & Points'!D86","v":"U14"},{"$f":"'Races, Positions & Points'!G86","v":"NR"},{"$f":"'Races, Positions & Points'!W86","v":""},null,{"$f":"'Races, Positions & Points'!FK86","v":0},{"$f":"'Races, Positions & Points'!FL86","v":0}]
[null,"EOF",{"$f":"IF(ISERROR(VLOOKUP($B88,'Races, Positions & Points'!$A:$C,3,FALSE)),\"\",IF((VLOOKUP($B88,'Races, Positions & Points'!$A:$C,3,FALSE))=0,\"\",VLOOKUP($B88,'Races, Positions & Points'!$A:$C,3,FALSE)))","v":""},{"$f":"IF(ISERROR(VLOOKUP($B88,'Races, Positions & Points'!$A:$D,4,FALSE)),\"\",IF((VLOOKUP($B88,'Races, Positions & Points'!$A:$D,4,FALSE))=0,\"\",VLOOKUP($B88,'Races, Positions & Points'!$A:$D,4,FALSE)))","v":""},{"$f":"IF(ISERROR(VLOOKUP($B88,'Races, Positions & Points'!$A:$G,7,FALSE)),\"\",IF((VLOOKUP($B88,'Races, Positions & Points'!$A:$G,7,FALSE))=0,\"\",VLOOKUP($B88,'Races, Positions & Points'!$A:$G,7,FALSE)))","v":""},{"$f":"IF(ISERROR(VLOOKUP($B87,'Races, Positions & Points'!$A:$Y,9,FALSE)),\"\",IF((VLOOKUP($B87,'Races, Positions & Points'!$A:$Y,9,FALSE))=0,\"\",VLOOKUP($B87,'Races, Positions & Points'!$A:$Y,9,FALSE)))","v":""},{"$f":"IF(ISERROR(VLOOKUP($B87,'Races, Positions & Points'!$A:$Y,9,FALSE)),\"\",IF((VLOOKUP($B87,'Races, Positions & Points'!$A:$Y,9,FALSE))=0,\"\",VLOOKUP($B87,'Races, Positions & Points'!$A:$Y,9,FALSE)))","v":""},{"$f":"SUM(H8:H86)","v":11},{"$f":"SUM(I8:I86)","v":151}]
[null,null,{"$f":"IF(ISERROR(VLOOKUP($B89,'Races, Positions & Points'!$A:$C,3,FALSE)),\"\",IF((VLOOKUP($B89,'Races, Positions & Points'!$A:$C,3,FALSE))=0,\"\",VLOOKUP($B89,'Races, Positions & Points'!$A:$C,3,FALSE)))","v":""},{"$f":"IF(ISERROR(VLOOKUP($B89,'Races, Positions & Points'!$A:$D,4,FALSE)),\"\",IF((VLOOKUP($B89,'Races, Positions & Points'!$A:$D,4,FALSE))=0,\"\",VLOOKUP($B89,'Races, Positions & Points'!$A:$D,4,FALSE)))","v":""},{"$f":"IF(ISERROR(VLOOKUP($B89,'Races, Positions & Points'!$A:$G,7,FALSE)),\"\",IF((VLOOKUP($B89,'Races, Positions & Points'!$A:$G,7,FALSE))=0,\"\",VLOOKUP($B89,'Races, Positions & Points'!$A:$G,7,FALSE)))","v":""},{"$f":"IF(ISERROR(VLOOKUP($B88,'Races, Positions & Points'!$A:$Y,9,FALSE)),\"\",IF((VLOOKUP($B88,'Races, Positions & Points'!$A:$Y,9,FALSE))=0,\"\",VLOOKUP($B88,'Races, Positions & Points'!$A:$Y,9,FALSE)))","v":""},{"$f":"IF(ISERROR(VLOOKUP($B88,'Races, Positions & Points'!$A:$Y,9,FALSE)),\"\",IF((VLOOKUP($B88,'Races, Positions & Points'!$A:$Y,9,FALSE))=0,\"\",VLOOKUP($B88,'Races, Positions & Points'!$A:$Y,9,FALSE)))","v":""},null," "]
[null,null,{"$f":"IF(ISERROR(VLOOKUP($B90,'Races, Positions & Points'!$A:$C,3,FALSE)),\"\",IF((VLOOKUP($B90,'Races, Positions & Points'!$A:$C,3,FALSE))=0,\"\",VLOOKUP($B90,'Races, Positions & Points'!$A:$C,3,FALSE)))","v":""},{"$f":"IF(ISERROR(VLOOKUP($B90,'Races, Positions & Points'!$A:$D,4,FALSE)),\"\",IF((VLOOKUP($B90,'Races, Positions & Points'!$A:$D,4,FALSE))=0,\"\",VLOOKUP($B90,'Races, Positions & Points'!$A:$D,4,FALSE)))","v":""},{"$f":"IF(ISERROR(VLOOKUP($B90,'Races, Positions & Points'!$A:$G,7,FALSE)),\"\",IF((VLOOKUP($B90,'Races, Positions & Points'!$A:$G,7,FALSE))=0,\"\",VLOOKUP($B90,'Races, Positions & Points'!$A:$G,7,FALSE)))","v":""},{"$f":"IF(ISERROR(VLOOKUP($B89,'Races, Positions & Points'!$A:$Y,9,FALSE)),\"\",IF((VLOOKUP($B89,'Races, Positions & Points'!$A:$Y,9,FALSE))=0,\"\",VLOOKUP($B89,'Races, Positions & Points'!$A:$Y,9,FALSE)))","v":""},{"$f":"IF(ISERROR(VLOOKUP($B89,'Races, Positions & Points'!$A:$Y,9,FALSE)),\"\",IF((VLOOKUP($B89,'Races, Positions & Points'!$A:$Y,9,FALSE))=0,\"\",VLOOKUP($B89,'Races, Positions & Points'!$A:$Y,9,FALSE)))","v":""},null," "]
[null,null,{"$f":"IF(ISERROR(VLOOKUP($B91,'Races, Positions & Points'!$A:$C,3,FALSE)),\"\",IF((VLOOKUP($B91,'Races, Positions & Points'!$A:$C,3,FALSE))=0,\"\",VLOOKUP($B91,'Races, Positions & Points'!$A:$C,3,FALSE)))","v":""},{"$f":"IF(ISERROR(VLOOKUP($B91,'Races, Positions & Points'!$A:$D,4,FALSE)),\"\",IF((VLOOKUP($B91,'Races, Positions & Points'!$A:$D,4,FALSE))=0,\"\",VLOOKUP($B91,'Races, Positions & Points'!$A:$D,4,FALSE)))","v":""},{"$f":"IF(ISERROR(VLOOKUP($B91,'Races, Positions & Points'!$A:$G,7,FALSE)),\"\",IF((VLOOKUP($B91,'Races, Positions & Points'!$A:$G,7,FALSE))=0,\"\",VLOOKUP($B91,'Races, Positions & Points'!$A:$G,7,FALSE)))","v":""},{"$f":"IF(ISERROR(VLOOKUP($B90,'Races, Positions & Points'!$A:$Y,9,FALSE)),\"\",IF((VLOOKUP($B90,'Races, Positions & Points'!$A:$Y,9,FALSE))=0,\"\",VLOOKUP($B90,'Races, Positions & Points'!$A:$Y,9,FALSE)))","v":""},{"$f":"IF(ISERROR(VLOOKUP($B90,'Races, Positions & Points'!$A:$Y,9,FALSE)),\"\",IF((VLOOKUP($B90,'Races, Positions & Points'!$A:$Y,9,FALSE))=0,\"\",VLOOKUP($B90,'Races, Positions & Points'!$A:$Y,9,FALSE)))","v":""},null," "]
[null,null,{"$f":"IF(ISERROR(VLOOKUP($B92,'Races, Positions & Points'!$A:$C,3,FALSE)),\"\",IF((VLOOKUP($B92,'Races, Positions & Points'!$A:$C,3,FALSE))=0,\"\",VLOOKUP($B92,'Races, Positions & Points'!$A:$C,3,FALSE)))","v":""},{"$f":"IF(ISERROR(VLOOKUP($B92,'Races, Positions & Points'!$A:$D,4,FALSE)),\"\",IF((VLOOKUP($B92,'Races, Positions & Points'!$A:$D,4,FALSE))=0,\"\",VLOOKUP($B92,'Races, Positions & Points'!$A:$D,4,FALSE)))","v":""},{"$f":"IF(ISERROR(VLOOKUP($B92,'Races, Positions & Points'!$A:$G,7,FALSE)),\"\",IF((VLOOKUP($B92,'Races, Positions & Points'!$A:$G,7,FALSE))=0,\"\",VLOOKUP($B92,'Races, Positions & Points'!$A:$G,7,FALSE)))","v":""},{"$f":"IF(ISERROR(VLOOKUP($B91,'Races, Positions & Points'!$A:$Y,9,FALSE)),\"\",IF((VLOOKUP($B91,'Races, Positions & Points'!$A:$Y,9,FALSE))=0,\"\",VLOOKUP($B91,'Races, Positions & Points'!$A:$Y,9,FALSE)))","v":""},{"$f":"IF(ISERROR(VLOOKUP($B91,'Races, Positions & Points'!$A:$Y,9,FALSE)),\"\",IF((VLOOKUP($B91,'Races, Positions & Points'!$A:$Y,9,FALSE))=0,\"\",VLOOKUP($B91,'Races, Positions & Points'!$A:$Y,9,FALSE)))","v":""},null," "]
[null,null,{"$f":"IF(ISERROR(VLOOKUP($B93,'Races, Positions & Points'!$A:$C,3,FALSE)),\"\",IF((VLOOKUP($B93,'Races, Positions & Points'!$A:$C,3,FALSE))=0,\"\",VLOOKUP($B93,'Races, Positions & Points'!$A:$C,3,FALSE)))","v":""},{"$f":"IF(ISERROR(VLOOKUP($B93,'Races, Positions & Points'!$A:$D,4,FALSE)),\"\",IF((VLOOKUP($B93,'Races, Positions & Points'!$A:$D,4,FALSE))=0,\"\",VLOOKUP($B93,'Races, Positions & Points'!$A:$D,4,FALSE)))","v":""},{"$f":"IF(ISERROR(VLOOKUP($B93,'Races, Positions & Points'!$A:$G,7,FALSE)),\"\",IF((VLOOKUP($B93,'Races, Positions & Points'!$A:$G,7,FALSE))=0,\"\",VLOOKUP($B93,'Races, Positions & Points'!$A:$G,7,FALSE)))","v":""},{"$f":"IF(ISERROR(VLOOKUP($B92,'Races, Positions & Points'!$A:$Y,9,FALSE)),\"\",IF((VLOOKUP($B92,'Races, Positions & Points'!$A:$Y,9,FALSE))=0,\"\",VLOOKUP($B92,'Races, Positions & Points'!$A:$Y,9,FALSE)))","v":""},{"$f":"IF(ISERROR(VLOOKUP($B92,'Races, Positions & Points'!$A:$Y,9,FALSE)),\"\",IF((VLOOKUP($B92,'Races, Positions & Points'!$A:$Y,9,FALSE))=0,\"\",VLOOKUP($B92,'Races, Positions & Points'!$A:$Y,9,FALSE)))","v":""},null," "]
[null,null,{"$f":"IF(ISERROR(VLOOKUP($B94,'Races, Positions & Points'!$A:$C,3,FALSE)),\"\",IF((VLOOKUP($B94,'Races, Positions & Points'!$A:$C,3,FALSE))=0,\"\",VLOOKUP($B94,'Races, Positions & Points'!$A:$C,3,FALSE)))","v":""},{"$f":"IF(ISERROR(VLOOKUP($B94,'Races, Positions & Points'!$A:$D,4,FALSE)),\"\",IF((VLOOKUP($B94,'Races, Positions & Points'!$A:$D,4,FALSE))=0,\"\",VLOOKUP($B94,'Races, Positions & Points'!$A:$D,4,FALSE)))","v":""},{"$f":"IF(ISERROR(VLOOKUP($B94,'Races, Positions & Points'!$A:$G,7,FALSE)),\"\",IF((VLOOKUP($B94,'Races, Positions & Points'!$A:$G,7,FALSE))=0,\"\",VLOOKUP($B94,'Races, Positions & Points'!$A:$G,7,FALSE)))","v":""},{"$f":"IF(ISERROR(VLOOKUP($B93,'Races, Positions & Points'!$A:$Y,9,FALSE)),\"\",IF((VLOOKUP($B93,'Races, Positions & Points'!$A:$Y,9,FALSE))=0,\"\",VLOOKUP($B93,'Races, Positions & Points'!$A:$Y,9,FALSE)))","v":""},{"$f":"IF(ISERROR(VLOOKUP($B93,'Races, Positions & Points'!$A:$Y,9,FALSE)),\"\",IF((VLOOKUP($B93,'Races, Positions & Points'!$A:$Y,9,FALSE))=0,\"\",VLOOKUP($B93,'Races, Positions & Points'!$A:$Y,9,FALSE)))","v":""},null," "]
[null,null,{"$f":"IF(ISERROR(VLOOKUP($B95,'Races, Positions & Points'!$A:$C,3,FALSE)),\"\",IF((VLOOKUP($B95,'Races, Positions & Points'!$A:$C,3,FALSE))=0,\"\",VLOOKUP($B95,'Races, Positions & Points'!$A:$C,3,FALSE)))","v":""},{"$f":"IF(ISERROR(VLOOKUP($B95,'Races, Positions & Points'!$A:$D,4,FALSE)),\"\",IF((VLOOKUP($B95,'Races, Positions & Points'!$A:$D,4,FALSE))=0,\"\",VLOOKUP($B95,'Races, Positions & Points'!$A:$D,4,FALSE)))","v":""},{"$f":"IF(ISERROR(VLOOKUP($B95,'Races, Positions & Points'!$A:$G,7,FALSE)),\"\",IF((VLOOKUP($B95,'Races, Positions & Points'!$A:$G,7,FALSE))=0,\"\",VLOOKUP($B95,'Races, Positions & Points'!$A:$G,7,FALSE)))","v":""},{"$f":"IF(ISERROR(VLOOKUP($B94,'Races, Positions & Points'!$A:$Y,9,FALSE)),\"\",IF((VLOOKUP($B94,'Races, Positions & Points'!$A:$Y,9,FALSE))=0,\"\",VLOOKUP($B94,'Races, Positions & Points'!$A:$Y,9,FALSE)))","v":""},{"$f":"IF(ISERROR(VLOOKUP($B94,'Races, Positions & Points'!$A:$Y,9,FALSE)),\"\",IF((VLOOKUP($B94,'Races, Positions & Points'!$A:$Y,9,FALSE))=0,\"\",VLOOKUP($B94,'Races, Positions & Points'!$A:$Y,9,FALSE)))","v":""}]
[null,null,{"$f":"IF(ISERROR(VLOOKUP($B96,'Races, Positions & Points'!$A:$C,3,FALSE)),\"\",IF((VLOOKUP($B96,'Races, Positions & Points'!$A:$C,3,FALSE))=0,\"\",VLOOKUP($B96,'Races, Positions & Points'!$A:$C,3,FALSE)))","v":""},{"$f":"IF(ISERROR(VLOOKUP($B96,'Races, Positions & Points'!$A:$D,4,FALSE)),\"\",IF((VLOOKUP($B96,'Races, Positions & Points'!$A:$D,4,FALSE))=0,\"\",VLOOKUP($B96,'Races, Positions & Points'!$A:$D,4,FALSE)))","v":""},{"$f":"IF(ISERROR(VLOOKUP($B96,'Races, Positions & Points'!$A:$G,7,FALSE)),\"\",IF((VLOOKUP($B96,'Races, Positions & Points'!$A:$G,7,FALSE))=0,\"\",VLOOKUP($B96,'Races, Positions & Points'!$A:$G,7,FALSE)))","v":""},{"$f":"IF(ISERROR(VLOOKUP($B95,'Races, Positions & Points'!$A:$Y,9,FALSE)),\"\",IF((VLOOKUP($B95,'Races, Positions & Points'!$A:$Y,9,FALSE))=0,\"\",VLOOKUP($B95,'Races, Positions & Points'!$A:$Y,9,FALSE)))","v":""},{"$f":"IF(ISERROR(VLOOKUP($B95,'Races, Positions & Points'!$A:$Y,9,FALSE)),\"\",IF((VLOOKUP($B95,'Races, Positions & Points'!$A:$Y,9,FALSE))=0,\"\",VLOOKUP($B95,'Races, Positions & Points'!$A:$Y,9,FALSE)))","v":""}]
[null,null,{"$f":"IF(ISERROR(VLOOKUP($B97,'Races, Positions & Points'!$A:$C,3,FALSE)),\"\",IF((VLOOKUP($B97,'Races, Positions & Points'!$A:$C,3,FALSE))=0,\"\",VLOOKUP($B97,'Races, Positions & Points'!$A:$C,3,FALSE)))","v":""},{"$f":"IF(ISERROR(VLOOKUP($B97,'Races, Positions & Points'!$A:$D,4,FALSE)),\"\",IF((VLOOKUP($B97,'Races, Positions & Points'!$A:$D,4,FALSE))=0,\"\",VLOOKUP($B97,'Races, Positions & Points'!$A:$D,4,FALSE)))","v":""},{"$f":"IF(ISERROR(VLOOKUP($B97,'Races, Positions & Points'!$A:$G,7,FALSE)),\"\",IF((VLOOKUP($B97,'Races, Positions & Points'!$A:$G,7,FALSE))=0,\"\",VLOOKUP($B97,'Races, Positions & Points'!$A:$G,7,FALSE)))","v":""},{"$f":"IF(ISERROR(VLOOKUP($B96,'Races, Positions & Points'!$A:$Y,9,FALSE)),\"\",IF((VLOOKUP($B96,'Races, Positions & Points'!$A:$Y,9,FALSE))=0,\"\",VLOOKUP($B96,'Races, Positions & Points'!$A:$Y,9,FALSE)))","v":""},{"$f":"IF(ISERROR(VLOOKUP($B96,'Races, Positions & Points'!$A:$Y,9,FALSE)),\"\",IF((VLOOKUP($B96,'Races, Positions & Points'!$A:$Y,9,FALSE))=0,\"\",VLOOKUP($B96,'Races, Positions & Points'!$A:$Y,9,FALSE)))","v":""}]
[null,null,{"$f":"IF(ISERROR(VLOOKUP($B98,'Races, Positions & Points'!$A:$C,3,FALSE)),\"\",IF((VLOOKUP($B98,'Races, Positions & Points'!$A:$C,3,FALSE))=0,\"\",VLOOKUP($B98,'Races, Positions & Points'!$A:$C,3,FALSE)))","v":""},{"$f":"IF(ISERROR(VLOOKUP($B98,'Races, Positions & Points'!$A:$D,4,FALSE)),\"\",IF((VLOOKUP($B98,'Races, Positions & Points'!$A:$D,4,FALSE))=0,\"\",VLOOKUP($B98,'Races, Positions & Points'!$A:$D,4,FALSE)))","v":""},{"$f":"IF(ISERROR(VLOOKUP($B98,'Races, Positions & Points'!$A:$G,7,FALSE)),\"\",IF((VLOOKUP($B98,'Races, Positions & Points'!$A:$G,7,FALSE))=0,\"\",VLOOKUP($B98,'Races, Positions & Points'!$A:$G,7,FALSE)))","v":""},{"$f":"IF(ISERROR(VLOOKUP($B97,'Races, Positions & Points'!$A:$Y,9,FALSE)),\"\",IF((VLOOKUP($B97,'Races, Positions & Points'!$A:$Y,9,FALSE))=0,\"\",VLOOKUP($B97,'Races, Positions & Points'!$A:$Y,9,FALSE)))","v":""},{"$f":"IF(ISERROR(VLOOKUP($B97,'Races, Positions & Points'!$A:$Y,9,FALSE)),\"\",IF((VLOOKUP($B97,'Races, Positions & Points'!$A:$Y,9,FALSE))=0,\"\",VLOOKUP($B97,'Races, Positions & Points'!$A:$Y,9,FALSE)))","v":""}]
[null,null,{"$f":"IF(ISERROR(VLOOKUP($B99,'Races, Positions & Points'!$A:$C,3,FALSE)),\"\",IF((VLOOKUP($B99,'Races, Positions & Points'!$A:$C,3,FALSE))=0,\"\",VLOOKUP($B99,'Races, Positions & Points'!$A:$C,3,FALSE)))","v":""},{"$f":"IF(ISERROR(VLOOKUP($B99,'Races, Positions & Points'!$A:$D,4,FALSE)),\"\",IF((VLOOKUP($B99,'Races, Positions & Points'!$A:$D,4,FALSE))=0,\"\",VLOOKUP($B99,'Races, Positions & Points'!$A:$D,4,FALSE)))","v":""},{"$f":"IF(ISERROR(VLOOKUP($B99,'Races, Positions & Points'!$A:$G,7,FALSE)),\"\",IF((VLOOKUP($B99,'Races, Positions & Points'!$A:$G,7,FALSE))=0,\"\",VLOOKUP($B99,'Races, Positions & Points'!$A:$G,7,FALSE)))","v":""},{"$f":"IF(ISERROR(VLOOKUP($B98,'Races, Positions & Points'!$A:$Y,9,FALSE)),\"\",IF((VLOOKUP($B98,'Races, Positions & Points'!$A:$Y,9,FALSE))=0,\"\",VLOOKUP($B98,'Races, Positions & Points'!$A:$Y,9,FALSE)))","v":""},{"$f":"IF(ISERROR(VLOOKUP($B98,'Races, Positions & Points'!$A:$Y,9,FALSE)),\"\",IF((VLOOKUP($B98,'Races, Positions & Points'!$A:$Y,9,FALSE))=0,\"\",VLOOKUP($B98,'Races, Positions & Points'!$A:$Y,9,FALSE)))","v":""}]
[null,null,{"$f":"IF(ISERROR(VLOOKUP($B100,'Races, Positions & Points'!$A:$C,3,FALSE)),\"\",IF((VLOOKUP($B100,'Races, Positions & Points'!$A:$C,3,FALSE))=0,\"\",VLOOKUP($B100,'Races, Positions & Points'!$A:$C,3,FALSE)))","v":""},{"$f":"IF(ISERROR(VLOOKUP($B100,'Races, Positions & Points'!$A:$D,4,FALSE)),\"\",IF((VLOOKUP($B100,'Races, Positions & Points'!$A:$D,4,FALSE))=0,\"\",VLOOKUP($B100,'Races, Positions & Points'!$A:$D,4,FALSE)))","v":""},{"$f":"IF(ISERROR(VLOOKUP($B100,'Races, Positions & Points'!$A:$G,7,FALSE)),\"\",IF((VLOOKUP($B100,'Races, Positions & Points'!$A:$G,7,FALSE))=0,\"\",VLOOKUP($B100,'Races, Positions & Points'!$A:$G,7,FALSE)))","v":""},{"$f":"IF(ISERROR(VLOOKUP($B99,'Races, Positions & Points'!$A:$Y,9,FALSE)),\"\",IF((VLOOKUP($B99,'Races, Positions & Points'!$A:$Y,9,FALSE))=0,\"\",VLOOKUP($B99,'Races, Positions & Points'!$A:$Y,9,FALSE)))","v":""},{"$f":"IF(ISERROR(VLOOKUP($B99,'Races, Positions & Points'!$A:$Y,9,FALSE)),\"\",IF((VLOOKUP($B99,'Races, Positions & Points'!$A:$Y,9,FALSE))=0,\"\",VLOOKUP($B99,'Races, Positions & Points'!$A:$Y,9,FALSE)))","v":""}]
[null,null,{"$f":"IF(ISERROR(VLOOKUP($B101,'Races, Positions & Points'!$A:$C,3,FALSE)),\"\",IF((VLOOKUP($B101,'Races, Positions & Points'!$A:$C,3,FALSE))=0,\"\",VLOOKUP($B101,'Races, Positions & Points'!$A:$C,3,FALSE)))","v":""},{"$f":"IF(ISERROR(VLOOKUP($B101,'Races, Positions & Points'!$A:$D,4,FALSE)),\"\",IF((VLOOKUP($B101,'Races, Positions & Points'!$A:$D,4,FALSE))=0,\"\",VLOOKUP($B101,'Races, Positions & Points'!$A:$D,4,FALSE)))","v":""},{"$f":"IF(ISERROR(VLOOKUP($B101,'Races, Positions & Points'!$A:$G,7,FALSE)),\"\",IF((VLOOKUP($B101,'Races, Positions & Points'!$A:$G,7,FALSE))=0,\"\",VLOOKUP($B101,'Races, Positions & Points'!$A:$G,7,FALSE)))","v":""},{"$f":"IF(ISERROR(VLOOKUP($B100,'Races, Positions & Points'!$A:$Y,9,FALSE)),\"\",IF((VLOOKUP($B100,'Races, Positions & Points'!$A:$Y,9,FALSE))=0,\"\",VLOOKUP($B100,'Races, Positions & Points'!$A:$Y,9,FALSE)))","v":""},{"$f":"IF(ISERROR(VLOOKUP($B100,'Races, Positions & Points'!$A:$Y,9,FALSE)),\"\",IF((VLOOKUP($B100,'Races, Positions & Points'!$A:$Y,9,FALSE))=0,\"\",VLOOKUP($B100,'Races, Positions & Points'!$A:$Y,9,FALSE)))","v":""}]
[null,null,{"$f":"IF(ISERROR(VLOOKUP($B102,'Races, Positions & Points'!$A:$C,3,FALSE)),\"\",IF((VLOOKUP($B102,'Races, Positions & Points'!$A:$C,3,FALSE))=0,\"\",VLOOKUP($B102,'Races, Positions & Points'!$A:$C,3,FALSE)))","v":""},{"$f":"IF(ISERROR(VLOOKUP($B102,'Races, Positions & Points'!$A:$D,4,FALSE)),\"\",IF((VLOOKUP($B102,'Races, Positions & Points'!$A:$D,4,FALSE))=0,\"\",VLOOKUP($B102,'Races, Positions & Points'!$A:$D,4,FALSE)))","v":""},{"$f":"IF(ISERROR(VLOOKUP($B102,'Races, Positions & Points'!$A:$G,7,FALSE)),\"\",IF((VLOOKUP($B102,'Races, Positions & Points'!$A:$G,7,FALSE))=0,\"\",VLOOKUP($B102,'Races, Positions & Points'!$A:$G,7,FALSE)))","v":""},{"$f":"IF(ISERROR(VLOOKUP($B101,'Races, Positions & Points'!$A:$Y,9,FALSE)),\"\",IF((VLOOKUP($B101,'Races, Positions & Points'!$A:$Y,9,FALSE))=0,\"\",VLOOKUP($B101,'Races, Positions & Points'!$A:$Y,9,FALSE)))","v":""},{"$f":"IF(ISERROR(VLOOKUP($B101,'Races, Positions & Points'!$A:$Y,9,FALSE)),\"\",IF((VLOOKUP($B101,'Races, Positions & Points'!$A:$Y,9,FALSE))=0,\"\",VLOOKUP($B101,'Races, Positions & Points'!$A:$Y,9,FALSE)))","v":""}]
[null,null,{"$f":"IF(ISERROR(VLOOKUP($B103,'Races, Positions & Points'!$A:$C,3,FALSE)),\"\",IF((VLOOKUP($B103,'Races, Positions & Points'!$A:$C,3,FALSE))=0,\"\",VLOOKUP($B103,'Races, Positions & Points'!$A:$C,3,FALSE)))","v":""},{"$f":"IF(ISERROR(VLOOKUP($B103,'Races, Positions & Points'!$A:$D,4,FALSE)),\"\",IF((VLOOKUP($B103,'Races, Positions & Points'!$A:$D,4,FALSE))=0,\"\",VLOOKUP($B103,'Races, Positions & Points'!$A:$D,4,FALSE)))","v":""},{"$f":"IF(ISERROR(VLOOKUP($B103,'Races, Positions & Points'!$A:$G,7,FALSE)),\"\",IF((VLOOKUP($B103,'Races, Positions & Points'!$A:$G,7,FALSE))=0,\"\",VLOOKUP($B103,'Races, Positions & Points'!$A:$G,7,FALSE)))","v":""},{"$f":"IF(ISERROR(VLOOKUP($B102,'Races, Positions & Points'!$A:$Y,9,FALSE)),\"\",IF((VLOOKUP($B102,'Races, Positions & Points'!$A:$Y,9,FALSE))=0,\"\",VLOOKUP($B102,'Races, Positions & Points'!$A:$Y,9,FALSE)))","v":""},{"$f":"IF(ISERROR(VLOOKUP($B102,'Races, Positions & Points'!$A:$Y,9,FALSE)),\"\",IF((VLOOKUP($B102,'Races, Positions & Points'!$A:$Y,9,FALSE))=0,\"\",VLOOKUP($B102,'Races, Positions & Points'!$A:$Y,9,FALSE)))","v":""}]
[null,null,{"$f":"IF(ISERROR(VLOOKUP($B104,'Races, Positions & Points'!$A:$C,3,FALSE)),\"\",IF((VLOOKUP($B104,'Races, Positions & Points'!$A:$C,3,FALSE))=0,\"\",VLOOKUP($B104,'Races, Positions & Points'!$A:$C,3,FALSE)))","v":""},{"$f":"IF(ISERROR(VLOOKUP($B104,'Races, Positions & Points'!$A:$D,4,FALSE)),\"\",IF((VLOOKUP($B104,'Races, Positions & Points'!$A:$D,4,FALSE))=0,\"\",VLOOKUP($B104,'Races, Positions & Points'!$A:$D,4,FALSE)))","v":""},{"$f":"IF(ISERROR(VLOOKUP($B104,'Races, Positions & Points'!$A:$G,7,FALSE)),\"\",IF((VLOOKUP($B104,'Races, Positions & Points'!$A:$G,7,FALSE))=0,\"\",VLOOKUP($B104,'Races, Positions & Points'!$A:$G,7,FALSE)))","v":""},{"$f":"IF(ISERROR(VLOOKUP($B103,'Races, Positions & Points'!$A:$Y,9,FALSE)),\"\",IF((VLOOKUP($B103,'Races, Positions & Points'!$A:$Y,9,FALSE))=0,\"\",VLOOKUP($B103,'Races, Positions & Points'!$A:$Y,9,FALSE)))","v":""},{"$f":"IF(ISERROR(VLOOKUP($B103,'Races, Positions & Points'!$A:$Y,9,FALSE)),\"\",IF((VLOOKUP($B103,'Races, Positions & Points'!$A:$Y,9,FALSE))=0,\"\",VLOOKUP($B103,'Races, Positions & Points'!$A:$Y,9,FALSE)))","v":""}]
[null,null,{"$f":"IF(ISERROR(VLOOKUP($B105,'Races, Positions & Points'!$A:$C,3,FALSE)),\"\",IF((VLOOKUP($B105,'Races, Positions & Points'!$A:$C,3,FALSE))=0,\"\",VLOOKUP($B105,'Races, Positions & Points'!$A:$C,3,FALSE)))","v":""},{"$f":"IF(ISERROR(VLOOKUP($B105,'Races, Positions & Points'!$A:$D,4,FALSE)),\"\",IF((VLOOKUP($B105,'Races, Positions & Points'!$A:$D,4,FALSE))=0,\"\",VLOOKUP($B105,'Races, Positions & Points'!$A:$D,4,FALSE)))","v":""},{"$f":"IF(ISERROR(VLOOKUP($B105,'Races, Positions & Points'!$A:$G,7,FALSE)),\"\",IF((VLOOKUP($B105,'Races, Positions & Points'!$A:$G,7,FALSE))=0,\"\",VLOOKUP($B105,'Races, Positions & Points'!$A:$G,7,FALSE)))","v":""},{"$f":"IF(ISERROR(VLOOKUP($B104,'Races, Positions & Points'!$A:$Y,9,FALSE)),\"\",IF((VLOOKUP($B104,'Races, Positions & Points'!$A:$Y,9,FALSE))=0,\"\",VLOOKUP($B104,'Races, Positions & Points'!$A:$Y,9,FALSE)))","v":""},{"$f":"IF(ISERROR(VLOOKUP($B104,'Races, Positions & Points'!$A:$Y,9,FALSE)),\"\",IF((VLOOKUP($B104,'Races, Positions & Points'!$A:$Y,9,FALSE))=0,\"\",VLOOKUP($B104,'Races, Positions & Points'!$A:$Y,9,FALSE)))","v":""}]
[null,null,{"$f":"IF(ISERROR(VLOOKUP($B106,'Races, Positions & Points'!$A:$C,3,FALSE)),\"\",IF((VLOOKUP($B106,'Races, Positions & Points'!$A:$C,3,FALSE))=0,\"\",VLOOKUP($B106,'Races, Positions & Points'!$A:$C,3,FALSE)))","v":""},{"$f":"IF(ISERROR(VLOOKUP($B106,'Races, Positions & Points'!$A:$D,4,FALSE)),\"\",IF((VLOOKUP($B106,'Races, Positions & Points'!$A:$D,4,FALSE))=0,\"\",VLOOKUP($B106,'Races, Positions & Points'!$A:$D,4,FALSE)))","v":""},{"$f":"IF(ISERROR(VLOOKUP($B106,'Races, Positions & Points'!$A:$G,7,FALSE)),\"\",IF((VLOOKUP($B106,'Races, Positions & Points'!$A:$G,7,FALSE))=0,\"\",VLOOKUP($B106,'Races, Positions & Points'!$A:$G,7,FALSE)))","v":""},{"$f":"IF(ISERROR(VLOOKUP($B105,'Races, Positions & Points'!$A:$Y,9,FALSE)),\"\",IF((VLOOKUP($B105,'Races, Positions & Points'!$A:$Y,9,FALSE))=0,\"\",VLOOKUP($B105,'Races, Positions & Points'!$A:$Y,9,FALSE)))","v":""},{"$f":"IF(ISERROR(VLOOKUP($B105,'Races, Positions & Points'!$A:$Y,9,FALSE)),\"\",IF((VLOOKUP($B105,'Races, Positions & Points'!$A:$Y,9,FALSE))=0,\"\",VLOOKUP($B105,'Races, Positions & Points'!$A:$Y,9,FALSE)))","v":""}]
[null,null,null,null,null,{"$f":"IF(ISERROR(VLOOKUP($B106,'Races, Positions & Points'!$A:$Y,9,FALSE)),\"\",IF((VLOOKUP($B106,'Races, Positions & Points'!$A:$Y,9,FALSE))=0,\"\",VLOOKUP($B106,'Races, Positions & Points'!$A:$Y,9,FALSE)))","v":""},{"$f":"IF(ISERROR(VLOOKUP($B106,'Races, Positions & Points'!$A:$Y,9,FALSE)),\"\",IF((VLOOKUP($B106,'Races, Positions & Points'!$A:$Y,9,FALSE))=0,\"\",VLOOKUP($B106,'Races, Positions & Points'!$A:$Y,9,FALSE)))","v":""}]

{"sheet":"Club Statistics","index":3,"n_rows":83,"n_cols":26,"rows_kept":83,"cut":false,"hidden":false,"merged":[]}
[null,null,"MSC Total Podiums in BARTS Events"]
[]
[null,null,"Total Podiums",null,null,"Total Podiums - By Age Category",null,null,null,null,null,null,null,"Total Podiums - By Gender",null,null,null,null,"2013 Total Place Podiums"]
[null,null,"Year","Total",null,"Year","Mini","CH","JN","SEN","MAS","Total",null,"Year","Female","Male","Total",null,"By Age Category and Position"]
[null,null,2001,1,null,2001,0,0,1,0,0,{"$f":"SUM(G5:K5)","v":1},null,2001,1,0,{"$f":"SUM(O5:P5)","v":1},null,"Year","1st","2nd","3rd","Total"]
[null,null,2002,0,null,2002,0,0,0,0,0,0,null,2002,0,0,0,null,"Mini",{"$f":"W25+W45","v":28},30,8,{"$f":"SUM(T6:V6)","v":66}]
[null,null,2003,0,null,2003,0,0,0,0,0,0,null,2003,0,0,0,null,"CH",28,9,6,{"$f":"SUM(T7:V7)","v":43}]
[null,null,2004,1,null,2004,0,0,0,1,0,1,null,2004,1,0,1,null,"JN",6,8,11,{"$f":"SUM(T8:V8)","v":25}]
[null,null,2005,1,null,2005,0,1,0,0,0,1,null,2005,0,1,1,null,"SEN",7,3,9,{"$f":"SUM(T9:V9)","v":19}]
[null,null,2006,1,null,2006,1,0,0,0,0,1,null,2006,1,0,1,null,"MAS",8,1,0,{"$f":"SUM(T10:V10)","v":9}]
[null,null,2007,29,null,2007,2,0,8,1,18,29,null,2007,17,12,29,null,"Total",{"$f":"SUM(T6:T10)","v":77},{"$f":"SUM(U6:U10)","v":51},{"$f":"SUM(V6:V10)","v":34},{"$f":"SUM(W6:W10)","v":162}]
[null,null,2008,77,null,2008,19,7,13,7,31,77,null,2008,43,34,77]
[null,null,2009,99,null,2009,22,14,25,9,29,{"$f":"SUM(G13:K13)","v":99},null,2009,26,73,99]
[null,null,2010,102,null,2010,12,20,35,19,16,{"$f":"SUM(G14:K14)","v":102},null,2010,42,60,102]
[null,null,2011,109,null,2011,23,17,18,39,12,109,null,2011,{"$f":"R34+R54","v":34},{"$f":"S34+S54","v":75},{"$f":"SUM(O15:P15)","v":109}]
[null,null,2013,169,null,2013,7,58,34,57,13,169,null,2012,50,119,169]
[null,null,2013,{"$f":"L17","v":162},null,2013,{"$f":"J37+J57","v":66},{"$f":"K37+K57","v":43},{"$f":"L37+L57","v":25},{"$f":"M37+M57","v":19},{"$f":"N37+N57","v":9},{"$f":"SUM(G17:K17)","v":162},null,2013,{"$f":"R37+R57","v":46},{"$f":"S37+S57","v":116},{"$f":"SUM(O17:P17)","v":162}]
[null,null,"Total",{"$f":"SUM(D5:D17)","v":751},null,"Total",{"$f":"SUM(G5:G17)","v":152},160,159,152,128,751,null,"Total",{"$f":"SUM(O5:O17)","v":261},{"$f":"SUM(P5:P17)","v":490},{"$f":"SUM(Q5:Q17)","v":751}]
[]
[null,null,"MSC Overall Podiums in BARTS Events"]
[]
[null,null,"Overall Place Podiums - By Position",null,null,null,null," ","Overall Place Podiums - By Age Category",null,null,null,null,null,null,null,"Overall Place Podiums - By Gender",null,null,null,null,"2014 Overall Place Podiums"]
[null,null,"Year","1st","2nd","3rd","Total",null,"Year","Mini","CH","JN","SEN","MAS","Total",null,"Year","Female","Male","Total",null,"By Age Category and Position"]
[null,null,2001,0,0,0,{"$f":"SUM(D24:F24)","v":0},null,2001,0,0,0,0,0,{"$f":"SUM(J24:N24)","v":0},null,2001,0,0,0,null,"Year","1st","2nd","3rd","Total"]
[null,null,2002,0,0,0,0,null,2002,0,0,{"$f":"SUM(J25:K25)","v":0},{"$f":"SUM(L25)","v":0},0,{"$f":"SUM(N25)","v":0},null,2002,0,0,{"$f":"SUM(R25:S25)","v":0},null,"Mini",0,0,0,{"$f":"SUM(W25:Y25)","v":0}]
[null,null,2003,0,0,0,0,null,2003,0,0,{"$f":"SUM(J26:K26)","v":0},{"$f":"SUM(L26)","v":0},0,{"$f":"SUM(O24:O25)","v":0},null,2003,0,0,{"$f":"SUM(R26:S26)","v":0},null,"CH",{"$f":"'Races, Positions & Points'!Y121","v":0},{"$f":"'Races, Positions & Points'!Y122","v":2},{"$f":"'Races, Positions & Points'!Y123","v":0},{"$f":"SUM(W26:Y26)","v":2}]
[null,null,2004,0,0,0,0,null,2004,0,0,0,0,0,{"$f":"SUM(J27:N27)","v":0},null,2004,0,0,0,null,"JN",{"$f":"'Races, Positions & Points'!Y124","v":1},{"$f":"'Races, Positions & Points'!Y125","v":0},{"$f":"'Races, Positions & Points'!Y126","v":2},{"$f":"SUM(W27:Y27)","v":3}]
[null,null,2005,0,0,0,0,null,2005,0,0,0,{"$f":"SUM(J28:L28)","v":0},0,{"$f":"SUM(N28)","v":0},null,2005,0,0,0,null,"SEN",{"$f":"'Races, Positions & Points'!Y127","v":3},{"$f":"'Races, Positions & Points'!Y128","v":1},{"$f":"'Races, Positions & Points'!Y129","v":2},{"$f":"SUM(W28:Y28)","v":6}]
[null,null,2006,0,0,0,0,null,2006,0,0,0,0,0,{"$f":"SUM(J29:N29)","v":0},null,2006,0,0,0,null,"MAS",{"$f":"'Races, Positions & Points'!Y130","v":0},{"$f":"'Races, Positions & Points'!Y131","v":0},{"$f":"'Races, Positions & Points'!Y132","v":0},{"$f":"SUM(W29:Y29)","v":0}]
[null,null,2007,0,0,0,0,null,2007,0,0,0,0,0,{"$f":"SUM(J30:N30)","v":0},null,2007,0,0,0,null,"Total",{"$f":"SUM(W25:W29)","v":4},{"$f":"SUM(X25:X29)","v":3},{"$f":"SUM(Y25:Y29)","v":4},{"$f":"SUM(Z25:Z29)","v":11}]
[null,null,2008,0,1,1,{"$f":"SUM(D31:F31)","v":2},null,2008,0,0,2,0,0,{"$f":"SUM(J31:N31)","v":2},null,2008,0,2,{"$f":"SUM(R31:S31)","v":2}]
[null,null,2009,1,1,2,{"$f":"SUM(D32:F32)","v":4},null,2009,0,0,3,0,1,{"$f":"SUM(J32:N32)","v":4},null,2009,0,4,4]
[null,null,2010,4,8,3,{"$f":"SUM(D33:F33)","v":15},null,2010,0,0,14,1,0,{"$f":"SUM(J33:N33)","v":15},null,2010,3,12,15]
[null,null,2011,2,6,4,12,null,2011,0,0,2,10,0,12,null,2011,2,10,12]
[null,null,2012,2,10,8,20,null,2012,0,3,3,14,0,20,null,2012,7,13,20]
[null,null,2013,4,6,4,14,null,2013,0,0,2,12,0,14,null,2013,3,11,14]
[null,null,2014,{"$f":"'Races, Positions & Points'!Y121+'Races, Positions & Points'!Y124+'Races, Positions & Points'!Y127+'Races, Positions & Points'!Y130","v":4},{"$f":"'Races, Positions & Points'!Y122+'Races, Positions & Points'!Y125+'Races, Positions & Points'!Y128+'Races, Positions & Points'!Y131","v":3},{"$f":"'Races, Positions & Points'!Y123+'Races, Positions & Points'!Y126+'Races, Positions & Points'!Y129+'Races, Positions & Points'!Y132","v":4},{"$f":"SUM(D37:F37)","v":11},null,2014,0,{"$f":"Z26","v":2},{"$f":"Z27","v":3},{"$f":"Z28","v":6},{"$f":"Z29","v":0},{"$f":"SUM(J37:N37)","v":11},null,2014,{"$f":"'Races, Positions & Points'!Y134","v":2},{"$f":"'Races, Positions & Points'!Y133","v":9},11]
[null,null,"Total",{"$f":"SUM(D24:D37)","v":17},{"$f":"SUM(E24:E37)","v":35},{"$f":"SUM(F24:F37)","v":26},{"$f":"SUM(G24:G37)","v":78},null,"Total",{"$f":"SUM(J24:J37)","v":0},5,29,43,1,78,null,"Total",{"$f":"SUM(R24:R37)","v":17},{"$f":"SUM(S24:S37)","v":61},{"$f":"SUM(T24:T37)","v":78}]
[]
[null,null,"MSC Age Group Podiums in BARTS Events"]
[]
[null,null,"Age Group Podiums",null,null,null,null,null,"Age Group Podiums - By Age Category",null,null,null,null,null,null,null,"Age Group Podiums - By Gender",null,null,null,null,"2014 Age Category Place Podiums"]
[null,null,"Year","1st","2nd","3rd","Total",null,"Year","Mini","CH","JN","SEN","MAS","Total",null,"Year","Female","Male","Total",null,"By Age Category and Position"]
[null,null,2001,0,0,1,{"$f":"SUM(D44:F44)","v":1},null,2001,0,0,1,0,0,{"$f":"SUM(J44:N44)","v":1},null,2001,1,0,{"$f":"SUM(R44:S44)","v":1},null,"Year","1st","2nd","3rd","Total"]
[null,null,2002,0,0,0,{"$f":"SUM(D45:F45)","v":0},null,2002,0,0,0,0,0,0,null,2002,0,0,0,null,"Mini",{"$f":"'Races, Positions & Points'!Y104","v":28},{"$f":"'Races, Positions & Points'!Y105","v":30},{"$f":"'Races, Positions & Points'!Y106","v":8},{"$f":"SUM(W45:Y45)","v":66}]
[null,null,2003,0,0,0,{"$f":"SUM(D46:F46)","v":0},null,2003,0,0,0,0,0,0,null,2003,0,0,0,null,"CH",{"$f":"'Races, Positions & Points'!Y107","v":28},{"$f":"'Races, Positions & Points'!Y108","v":7},{"$f":"'Races, Positions & Points'!Y109","v":6},{"$f":"SUM(W46:Y46)","v":41}]
[null,null,2004,0,0,1,{"$f":"SUM(D47:F47)","v":1},null,2004,0,0,0,1,0,1,null,2004,1,0,1,null,"JN",{"$f":"'Races, Positions & Points'!Y110","v":5},{"$f":"'Races, Positions & Points'!Y111","v":8},{"$f":"'Races, Positions & Points'!Y112","v":9},{"$f":"SUM(W47:Y47)","v":22}]
[null,null,2005,0,1,0,{"$f":"SUM(D48:F48)","v":1},null,2005,0,1,0,0,0,1,null,2005,0,1,1,null,"SEN",{"$f":"'Races, Positions & Points'!Y113","v":4},{"$f":"'Races, Positions & Points'!Y114","v":2},{"$f":"'Races, Positions & Points'!Y115","v":7},{"$f":"SUM(W48:Y48)","v":13}]
[null,null,2006,0,0,1,{"$f":"SUM(F49)","v":1},null,2006,1,0,0,0,0,1,null,2006,1,0,1,null,"MAS",{"$f":"'Races, Positions & Points'!Y116","v":8},{"$f":"'Races, Positions & Points'!Y117","v":1},{"$f":"'Races, Positions & Points'!Y118","v":0},{"$f":"SUM(W49:Y49)","v":9}]
[null,null,2007,6,8,15,{"$f":"SUM(D50:F50)","v":29},null,2007,2,0,8,1,18,29,null,2007,17,12,29,null,"Total",{"$f":"SUM(W45:W49)","v":73},{"$f":"SUM(X45:X49)","v":48},{"$f":"SUM(Y45:Y49)","v":30},{"$f":"SUM(Z45:Z49)","v":151}]
[null,null,2008,15,26,34,75,null,2008,19,7,11,7,31,75,null,2008,43,32,75]
[null,null,2009,20,34,41,95,null,2009,22,14,22,9,28,95,null,2009,26,69,95]
[null,null,2010,23,36,28,87,null,2010,12,20,21,18,16,87,null,2010,39,48,87]
[null,null,2011,34,36,27,97,null,2011,23,17,16,29,12,97,null,2011,32,65,97]
[null,null,2012,47,53,49,149,null,2012,7,55,31,43,13,149,null,2012,43,106,149]
[null,null,2013,76,50,37,163,null,2013,36,50,29,36,12,163,null,2013,57,106,163]
[null,null,2014,{"$f":"W50","v":73},{"$f":"X50","v":48},{"$f":"Y50","v":30},151,null,2014,{"$f":"Z45","v":66},{"$f":"Z46","v":41},{"$f":"Z47","v":22},{"$f":"Z48","v":13},{"$f":"Z49","v":9},151,null,2014,{"$f":"'Races, Positions & Points'!Y120","v":44},{"$f":"'Races, Positions & Points'!Y119","v":107},{"$f":"SUM(R57:S57)","v":151}]
[null,null,"Total",{"$f":"SUM(D44:D57)","v":294},{"$f":"SUM(E44:E57)","v":292},{"$f":"SUM(F44:F57)","v":264},{"$f":"SUM(G44:G57)","v":850},null,"Total",{"$f":"SUM(J44:J57)","v":188},205,161,157,139,850,null,"Total",{"$f":"SUM(R44:R57)","v":304},{"$f":"SUM(S44:S57)","v":546},{"$f":"SUM(T44:T57)","v":850}]
[]
[null,null,"MSC BARTS Points Statistics",null,null,null,null,null,null,null,null,null,null,"MSC Attendance Statistics"]
[]
[null,null,"BARTS Points - registered racers taking part in seeded races in the year",null,null,null,null,null,null,null,null,null,null,null,"BARTS Points - registered racers taking part in seeded races in the year"]
[null,null,"Year","Sub-10","Sub-25","Sub-50","Sub-100","Sub-150","Sub-200","Sub-250","250+","Minis","Total",null,"Year","1-2","3-5","6-10","11-15","16-20","21-25","26-29","30+","Skiers","Starts"]
[null,null,2001,0,0,0,0,1,0,0,0,0,{"$f":"SUM(D64:L64)","v":1},null," "]
[null,null,2002,0,0,0,0,1,0,0,0,0,1,null," "]
[null,null,2003,0,0,0,1,0,0,0,3,1,5,null," "]
[null,null,2004,0,0,0,1,0,0,2,2,1,6,null,2004,4,4,null,null,null,null,null,null,8,17]
[null,null,2005,0,0,0,1,0,3,2,4,1,11,null,2005,2,3,5," "," "," "," "," ",10,53]
[null,null,2006,0,0,0,2,2,3,2,2,5,16,null,2006,2,7,6,1,null,null,null,null,16,90]
[null,null,2007,0,0,0,5,3,5,3,8,5,29,null,2007,3,9,12,2,3,null,null,null,29,217]
[null,null,2008,0,0,1,5,7,8,2,10,5,38,null,2008,1,7,14,9,5,1,1,null,38,385]
[null,null,2009,0,2,3,3,10,6,1,7,6,38,null,2009,4,5,10,12,5,1,1,null,38,399]
[null,null,2010,1,3,3,7,6,4,3,4,3,{"$f":"SUM(D73:L73)","v":34},null,2010,18,3,13,11,5,null,null,null,50,366]
[null,null,2011,3,5,6,6,7,2,5,9,9,52,null,2011,6,9,14,11,2,1,null,1,44,394]
[null,null,2012,1,1,5,6,9,4,6,5,4,41,null,2012,9,13,6,4,5,1,1,3,42,395]
[null,null,2013,1,2,4,11,5,3,4,2,10,42,null,2013,11,4,10,11,2,2,1,1,42,394]
[null,null,2014,{"$f":"COUNTIFS(Attendance!$G$22:$G$86,\"<10\",Attendance!$S$22:$S$86,\">0\")","v":1},{"$f":"COUNTIFS(Attendance!$G$22:$G$86,\"<25\",Attendance!$G$22:$G$86,\">=10\",Attendance!$S$22:$S$86,\">0\")","v":3},{"$f":"COUNTIFS(Attendance!$G$22:$G$86,\"<50\",Attendance!$G$22:$G$86,\">=25\",Attendance!$S$22:$S$86,\">0\")","v":4},{"$f":"COUNTIFS(Attendance!$G$22:$G$86,\"<100\",Attendance!$G$22:$G$86,\">=50\",Attendance!$S$22:$S$86,\">0\")","v":9},{"$f":"COUNTIFS(Attendance!$G$22:$G$86,\"<150\",Attendance!$G$22:$G$86,\">=100\",Attendance!$S$22:$S$86,\">0\")","v":9},{"$f":"COUNTIFS(Attendance!$G$22:$G$86,\"<200\",Attendance!$G$22:$G$86,\">=150\",Attendance!$S$22:$S$86,\">0\")","v":0},{"$f":"COUNTIFS(Attendance!$G$22:$G$86,\"<250\",Attendance!$G$22:$G$86,\">=200\",Attendance!$S$22:$S$86,\">0\")","v":1},{"$f":"COUNTIFS(Attendance!$G$22:$G$86,\">=250\",Attendance!$S$22:$S$86,\">0\",Attendance!$E$22:$E$86,\">0\")","v":5},{"$f":"COUNTIFS(Attendance!$G$8:$G$18,\">0\",Attendance!$S$8:$S$18,\">0\")","v":6},{"$f":"SUM(D77:L77)","v":38},null,2014,{"$f":"COUNTIFS(Attendance!$E$8:$E$86,\">0\",Attendance!$G$8:$G$86,\">0\",Attendance!$S$8:$S$86,\">0\",Attendance!$S$8:$S$86,\"<3\")","v":13},{"$f":"COUNTIFS(Attendance!$E$8:$E$83,\">0\",Attendance!$G$8:$G$83,\">0\",Attendance!$S$8:$S$83,\">2\",Attendance!$S$8:$S$83,\"<6\")","v":3},{"$f":"COUNTIFS(Attendance!$E$8:$E$83,\">0\",Attendance!$G$8:$G$83,\">0\",Attendance!$S$8:$S$83,\">5\",Attendance!$S$8:$S$83,\"<11\")","v":11},{"$f":"COUNTIFS(Attendance!$E$8:$E$83,\">0\",Attendance!$G$8:$G$83,\">0\",Attendance!$S$8:$S$83,\">10\",Attendance!$S$8:$S$83,\"<16\")","v":6},{"$f":"COUNTIFS(Attendance!$E$8:$E$83,\">0\",Attendance!$G$8:$G$83,\">0\",Attendance!$S$8:$S$83,\">15\",Attendance!$S$8:$S$83,\"<21\")","v":2},{"$f":"COUNTIFS(Attendance!$E$8:$E$83,\">0\",Attendance!$G$8:$G$83,\">0\",Attendance!$S$8:$S$83,\">20\",Attendance!$S$8:$S$83,\"<26\")","v":3},{"$f":"COUNTIFS(Attendance!$E$8:$E$83,\">0\",Attendance!$G$8:$G$83,\">0\",Attendance!$S$8:$S$83,\">25\",Attendance!$S$8:$S$83,\"<30\")","v":1},{"$f":"COUNTIFS(Attendance!$E$8:$E$83,\">0\",Attendance!$G$8:$G$83,\">0\",Attendance!$S$8:$S$83,\">30\")","v":0},{"$f":"SUM(P77:W77)","v":39},{"$f":"Attendance!S91","v":322}]
[null,null,"Total",{"$f":"SUM(D64:D77)","v":7},{"$f":"SUM(E64:E77)","v":16},{"$f":"SUM(F64:F77)","v":26},{"$f":"SUM(G64:G77)","v":57},60,38,31,61,56,{"$f":"SUM(E78:L78)","v":345},null,"Total",{"$f":"SUM(P64:P77)","v":73},{"$f":"SUM(Q64:Q77)","v":67},{"$f":"SUM(R64:R77)","v":101},{"$f":"SUM(S64:S77)","v":67},29,9,5,5,356,{"$f":"SUM(Y67:Y77)","v":3032}]
[null,null,null,null,null,null,null,null,null,null,null," "]
[]
[]
[]
[null,null,"** 2014 registered racers above curently on outdoor points only"]

{"sheet":"Attendance","index":4,"n_rows":94,"n_cols":30,"rows_kept":94,"cut":false,"hidden":false,"merged":[[3,1,4,1]]}
[]
[]
[]
[]
["Britski","M/F",null,"AGE","REG","POINTS","CURRENT","CURRENT",null,2014,null,null,null,null,null,null,null,null,null,null,2013]
["Seeding",null,"YEAR","GROUP","NUM",2013,"2014.2-o","2014.2-i",null,"CN/10pt In","CN/10 pt Out","GBR In","GBR Out","Ch In","Ch Out",null,"Total In","Total out","Total",null,"CN In","CN OUT","GBR In","GBR Out","Ch In","Ch Out",null,"Total In","Total out","Total"]
["GIRLS"]
[{"$f":"'Races, Positions & Points'!A8","v":"Lauren Treuge"},{"$f":"'Races, Positions & Points'!B8","v":"F"},{"$f":"'Races, Positions & Points'!C8","v":2003},{"$f":"'Races, Positions & Points'!D8","v":"U12"},{"$f":"'Races, Positions & Points'!E8","v":20669},{"$f":"'Races, Positions & Points'!G8","v":999.99},{"$f":"'Races, Positions & Points'!L8","v":999.99},{"$f":"'Races, Positions & Points'!M8","v":999.99},null,{"$f":"'Points Calculation'!BA8","v":0},{"$f":"'Points Calculation'!BB8","v":2},{"$f":"'Points Calculation'!BC8","v":0},{"$f":"'Points Calculation'!BD8","v":0},{"$f":"'Points Calculation'!BE8","v":0},{"$f":"'Points Calculation'!BF8","v":0},null,{"$f":"J8+L8+N8","v":0},{"$f":"K8+M8+O8","v":2},{"$f":"Q8+R8","v":2},null,0,1,0,0,0,1,null,{"$f":"U8+W8+Y8","v":0},2,{"$f":"AB8+AC8","v":2}]
[{"$f":"'Races, Positions & Points'!A9","v":"Tilley O'Brien"},{"$f":"'Races, Positions & Points'!B9","v":"F"},{"$f":"'Races, Positions & Points'!C9","v":2004},{"$f":"'Races, Positions & Points'!D9","v":"U12"},{"$f":"'Races, Positions & Points'!E9","v":20809},{"$f":"'Races, Positions & Points'!G9","v":999.99},{"$f":"'Races, Positions & Points'!L9","v":999.99},{"$f":"'Races, Positions & Points'!M9","v":999.99},null,{"$f":"'Points Calculation'!BA9","v":0},{"$f":"'Points Calculation'!BB9","v":0},{"$f":"'Points Calculation'!BC9","v":6},{"$f":"'Points Calculation'!BD9","v":0},{"$f":"'Points Calculation'!BE9","v":1},{"$f":"'Points Calculation'!BF9","v":0},null,{"$f":"J9+L9+N9","v":7},{"$f":"K9+M9+O9","v":0},{"$f":"Q9+R9","v":7},null,4,0,1,0,1,0,null,6,0,{"$f":"AB9+AC9","v":6}]
[{"$f":"'Races, Positions & Points'!A10","v":"Ella Giles"},{"$f":"'Races, Positions & Points'!B10","v":"F"},{"$f":"'Races, Positions & Points'!C10","v":2003},{"$f":"'Races, Positions & Points'!D10","v":"U12"},{"$f":"'Races, Positions & Points'!E10","v":22176},{"$f":"'Races, Positions & Points'!G10","v":999.99},{"$f":"'Races, Positions & Points'!L10","v":999.99},{"$f":"'Races, Positions & Points'!M10","v":999.99},null,{"$f":"'Points Calculation'!BA10","v":0},{"$f":"'Points Calculation'!BB10","v":2},{"$f":"'Points Calculation'!BC10","v":0},{"$f":"'Points Calculation'!BD10","v":0},{"$f":"'Points Calculation'!BE10","v":0},{"$f":"'Points Calculation'!BF10","v":0},null,{"$f":"J10+L10+N10","v":0},{"$f":"K10+M10+O10","v":2},{"$f":"Q10+R10","v":2},null,0,0,0,0,0,0,null,0,0,{"$f":"AB10+AC10","v":0}]
[{"$f":"'Races, Positions & Points'!A11","v":"Anya Hemming"},{"$f":"'Races, Positions & Points'!B11","v":"F"},{"$f":"'Races, Positions & Points'!C11","v":2005},{"$f":"'Races, Positions & Points'!D11","v":"U10"},{"$f":"'Races, Positions & Points'!E11","v":21569},{"$f":"'Races, Positions & Points'!G11","v":999.99},{"$f":"'Races, Positions & Points'!L11","v":999.99},{"$f":"'Races, Positions & Points'!M11","v":999.99},null,{"$f":"'Points Calculation'!BA11","v":0},{"$f":"'Points Calculation'!BB11","v":9},{"$f":"'Points Calculation'!BC11","v":0},{"$f":"'Points Calculation'!BD11","v":5},{"$f":"'Points Calculation'!BE11","v":0},{"$f":"'Points Calculation'!BF11","v":0},null,{"$f":"J11+L11+N11","v":0},{"$f":"K11+M11+O11","v":14},{"$f":"Q11+R11","v":14},null,4,0,1,0,1,0,null,6,0,{"$f":"AB11+AC11","v":6}]
[{"$f":"'Races, Positions & Points'!A12","v":"Aaliyah Llewellyn"},{"$f":"'Races, Positions & Points'!B12","v":"F"},{"$f":"'Races, Positions & Points'!C12","v":2006},{"$f":"'Races, Positions & Points'!D12","v":"U10"},{"$f":"'Races, Positions & Points'!E12","v":22015},{"$f":"'Races, Positions & Points'!G12","v":999.99},{"$f":"'Races, Positions & Points'!L12","v":999.99},{"$f":"'Races, Positions & Points'!M12","v":999.99},null,{"$f":"'Points Calculation'!BA12","v":0},{"$f":"'Points Calculation'!BB12","v":0},{"$f":"'Points Calculation'!BC12","v":0},{"$f":"'Points Calculation'!BD12","v":0},{"$f":"'Points Calculation'!BE12","v":0},{"$f":"'Points Calculation'!BF12","v":0},null,0,0,0,null,0,0,0,0,0,0,null,0,0,{"$f":"AB12+AC12","v":0}]
["BOYS"]
[{"$f":"'Races, Positions & Points'!A14","v":"James Shakeshaft"},{"$f":"'Races, Positions & Points'!B14","v":"M"},{"$f":"'Races, Positions & Points'!C14","v":2003},{"$f":"'Races, Positions & Points'!D14","v":"U12"},{"$f":"'Races, Positions & Points'!E14","v":20340},{"$f":"'Races, Positions & Points'!G14","v":999.99},{"$f":"'Races, Positions & Points'!L14","v":999.99},{"$f":"'Races, Positions & Points'!M14","v":999.99},null,{"$f":"'Points Calculation'!BA14","v":0},{"$f":"'Points Calculation'!BB14","v":0},{"$f":"'Points Calculation'!BC14","v":0},{"$f":"'Points Calculation'!BD14","v":0},{"$f":"'Points Calculation'!BE14","v":0},{"$f":"'Points Calculation'!BF14","v":0},null,{"$f":"J14+L14+N14","v":0},0,{"$f":"Q14+R14","v":0},null,0,1,0,0,0,0,null,{"$f":"U14+W14+Y14","v":0},1,{"$f":"AB14+AC14","v":1}]
[{"$f":"'Races, Positions & Points'!A15","v":"Daniel Hadley"},{"$f":"'Races, Positions & Points'!B15","v":"M"},{"$f":"'Races, Positions & Points'!C15","v":2004},{"$f":"'Races, Positions & Points'!D15","v":"U12"},{"$f":"'Races, Positions & Points'!E15","v":20719},{"$f":"'Races, Positions & Points'!G15","v":999.99},{"$f":"'Races, Positions & Points'!L15","v":999.99},{"$f":"'Races, Positions & Points'!M15","v":999.99},null,{"$f":"'Points Calculation'!BA15","v":0},{"$f":"'Points Calculation'!BB15","v":0},{"$f":"'Points Calculation'!BC15","v":0},{"$f":"'Points Calculation'!BD15","v":0},{"$f":"'Points Calculation'!BE15","v":0},{"$f":"'Points Calculation'!BF15","v":0},null,0,0,0,null,1,1,1,0,1,0,null,3,1,4]
[{"$f":"'Races, Positions & Points'!A16","v":"Jack Teague"},{"$f":"'Races, Positions & Points'!B16","v":"M"},{"$f":"'Races, Positions & Points'!C16","v":2004},{"$f":"'Races, Positions & Points'!D16","v":"U12"},{"$f":"'Races, Positions & Points'!E16","v":20630},{"$f":"'Races, Positions & Points'!G16","v":999.99},{"$f":"'Races, Positions & Points'!L16","v":999.99},{"$f":"'Races, Positions & Points'!M16","v":999.99},null,{"$f":"'Points Calculation'!BA16","v":0},{"$f":"'Points Calculation'!BB16","v":0},{"$f":"'Points Calculation'!BC16","v":0},{"$f":"'Points Calculation'!BD16","v":0},{"$f":"'Points Calculation'!BE16","v":0},{"$f":"'Points Calculation'!BF16","v":0},null,0,0,0,null,0,2,0,0,0,0,null,0,2,2]
[{"$f":"'Races, Positions & Points'!A17","v":"Jack Upton"},{"$f":"'Races, Positions & Points'!B17","v":"M"},{"$f":"'Races, Positions & Points'!C17","v":2004},{"$f":"'Races, Positions & Points'!D17","v":"U12"},{"$f":"'Races, Positions & Points'!E17","v":21052},{"$f":"'Races, Positions & Points'!G17","v":999.99},{"$f":"'Races, Positions & Points'!L17","v":999.99},{"$f":"'Races, Positions & Points'!M17","v":999.99},null,{"$f":"'Points Calculation'!BA17","v":0},{"$f":"'Points Calculation'!BB17","v":6},{"$f":"'Points Calculation'!BC17","v":6},{"$f":"'Points Calculation'!BD17","v":5},{"$f":"'Points Calculation'!BE17","v":3},{"$f":"'Points Calculation'!BF17","v":3},null,9,14,23,null,1,6,0,3,1,3,null,2,12,14]
[{"$f":"'Races, Positions & Points'!A18","v":"Keiron Wooley"},{"$f":"'Races, Positions & Points'!B18","v":"M"},{"$f":"'Races, Positions & Points'!C18","v":2005},{"$f":"'Races, Positions & Points'!D18","v":"U10"},{"$f":"'Races, Positions & Points'!E18","v":21837},{"$f":"'Races, Positions & Points'!G18","v":999.99},{"$f":"'Races, Positions & Points'!L18","v":999.99},{"$f":"'Races, Positions & Points'!M18","v":999.99},null,{"$f":"'Points Calculation'!BA18","v":0},{"$f":"'Points Calculation'!BB18","v":3},{"$f":"'Points Calculation'!BC18","v":10},{"$f":"'Points Calculation'!BD18","v":5},{"$f":"'Points Calculation'!BE18","v":4},{"$f":"'Points Calculation'!BF18","v":2},null,14,10,24,null,0,0,0,0,0,0,null,0,0,0]
[{"$f":"'Races, Positions & Points'!A19","v":"Noah Bailey"},{"$f":"'Races, Positions & Points'!B19","v":"M"},{"$f":"'Races, Positions & Points'!C19","v":2006},{"$f":"'Races, Positions & Points'!D19","v":"U10"},{"$f":"'Races, Positions & Points'!E19","v":22198},{"$f":"'Races, Positions & Points'!G19","v":999.99},{"$f":"'Races, Positions & Points'!L19","v":999.99},{"$f":"'Races, Positions & Points'!M19","v":999.99},null,{"$f":"'Points Calculation'!BA21","v":0},{"$f":"'Points Calculation'!BB21","v":0},{"$f":"'Points Calculation'!BC21","v":0},{"$f":"'Points Calculation'!BD21","v":0},{"$f":"'Points Calculation'!BE21","v":0},{"$f":"'Points Calculation'!BF21","v":0},null,{"$f":"J19+L19+N19","v":0},{"$f":"K19+M19+O19","v":0},0,null,0,0,0,0,0,0,null,{"$f":"U19+W19+Y19","v":0},{"$f":"V19+X19+Z19","v":0},0]
[{"$f":"'Races, Positions & Points'!A20","v":"Daniel Giles"},{"$f":"'Races, Positions & Points'!B20","v":"M"},{"$f":"'Races, Positions & Points'!C20","v":2003},{"$f":"'Races, Positions & Points'!D20","v":"U12"},{"$f":"'Races, Positions & Points'!E20","v":22203},{"$f":"'Races, Positions & Points'!G20","v":999.99},{"$f":"'Races, Positions & Points'!L20","v":999.99},{"$f":"'Races, Positions & Points'!M20","v":999.99},null,{"$f":"'Points Calculation'!BA22","v":0},{"$f":"'Points Calculation'!BB22","v":1},{"$f":"'Points Calculation'!BC22","v":0},{"$f":"'Points Calculation'!BD22","v":0},{"$f":"'Points Calculation'!BE22","v":0},{"$f":"'Points Calculation'!BF22","v":0},null,0,1,1,null,0,0,0,0,0,0,null,0,0,0]
["FEMALES"]
[{"$f":"'Races, Positions & Points'!A22","v":"Rachel Bill"},{"$f":"'Races, Positions & Points'!B22","v":"F"},{"$f":"'Races, Positions & Points'!C22","v":1990},{"$f":"'Races, Positions & Points'!D22","v":"SEN"},{"$f":"'Races, Positions & Points'!E22","v":20168},{"$f":"'Races, Positions & Points'!G22","v":23.81},{"$f":"'Races, Positions & Points'!L22","v":23.81},{"$f":"'Races, Positions & Points'!M22","v":23.81},null,{"$f":"'Points Calculation'!BA22","v":0},{"$f":"'Points Calculation'!BB22","v":1},{"$f":"'Points Calculation'!BC22","v":0},{"$f":"'Points Calculation'!BD22","v":0},{"$f":"'Points Calculation'!BE22","v":0},{"$f":"'Points Calculation'!BF22","v":0},null,0,1,1,null,0,7,1,2,0,2,null,{"$f":"U22+W22+Y22","v":1},{"$f":"V22+X22+Z22","v":11},{"$f":"AB22+AC22","v":12}]
[{"$f":"'Races, Positions & Points'!A23","v":"Lucy Deller"},{"$f":"'Races, Positions & Points'!B23","v":"F"},{"$f":"'Races, Positions & Points'!C23","v":1996},{"$f":"'Races, Positions & Points'!D23","v":"U21"},{"$f":"'Races, Positions & Points'!E23","v":17888},{"$f":"'Races, Positions & Points'!G23","v":25.68},{"$f":"'Races, Positions & Points'!L23","v":25.68},{"$f":"'Races, Positions & Points'!M23","v":25.68},null,{"$f":"'Points Calculation'!BA23","v":0},{"$f":"'Points Calculation'!BB23","v":0},{"$f":"'Points Calculation'!BC23","v":0},{"$f":"'Points Calculation'!BD23","v":0},{"$f":"'Points Calculation'!BE23","v":0},{"$f":"'Points Calculation'!BF23","v":0},null,0,0,0,null,2,7,0,2,0,2,null,2,11,13]
[{"$f":"'Races, Positions & Points'!A24","v":"Helena Newboult"},{"$f":"'Races, Positions & Points'!B24","v":"F"},{"$f":"'Races, Positions & Points'!C24","v":1998},{"$f":"'Races, Positions & Points'!D24","v":"U18"},{"$f":"'Races, Positions & Points'!E24","v":20696},{"$f":"'Races, Positions & Points'!G24","v":27.39},{"$f":"'Races, Positions & Points'!L24","v":27.39},{"$f":"'Races, Positions & Points'!M24","v":27.39},null,{"$f":"'Points Calculation'!BA24","v":0},{"$f":"'Points Calculation'!BB24","v":0},{"$f":"'Points Calculation'!BC24","v":0},{"$f":"'Points Calculation'!BD24","v":0},{"$f":"'Points Calculation'!BE24","v":0},{"$f":"'Points Calculation'!BF24","v":0},null,0,0,0,null,2,8,6,6,4,5,null,12,19,31]
[{"$f":"'Races, Positions & Points'!A25","v":"Rowan Vernon"},{"$f":"'Races, Positions & Points'!B25","v":"F"},{"$f":"'Races, Positions & Points'!C25","v":1988},{"$f":"'Races, Positions & Points'!D25","v":"SEN"},{"$f":"'Races, Positions & Points'!E25","v":13381},{"$f":"'Races, Positions & Points'!G25","v":32.840000000000003},{"$f":"'Races, Positions & Points'!L25","v":32.840000000000003},{"$f":"'Races, Positions & Points'!M25","v":32.840000000000003},null,{"$f":"'Points Calculation'!BA25","v":0},{"$f":"'Points Calculation'!BB25","v":0},{"$f":"'Points Calculation'!BC25","v":0},{"$f":"'Points Calculation'!BD25","v":0},{"$f":"'Points Calculation'!BE25","v":0},{"$f":"'Points Calculation'!BF25","v":0},null,0,0,0,null,0,0,0,0,0,0,null,0,0,0]
[{"$f":"'Races, Positions & Points'!A26","v":"Amy Middleton"},{"$f":"'Races, Positions & Points'!B26","v":"F"},{"$f":"'Races, Positions & Points'!C26","v":1995},{"$f":"'Races, Positions & Points'!D26","v":"U21"},{"$f":"'Races, Positions & Points'!E26","v":20307},{"$f":"'Races, Positions & Points'!G26","v":51.15},{"$f":"'Races, Positions & Points'!L26","v":49.89},{"$f":"'Races, Positions & Points'!M26","v":51.15},null,{"$f":"'Points Calculation'!BA26","v":0},{"$f":"'Points Calculation'!BB26","v":6},{"$f":"'Points Calculation'!BC26","v":0},{"$f":"'Points Calculation'!BD26","v":1},{"$f":"'Points Calculation'!BE26","v":0},{"$f":"'Points Calculation'!BF26","v":1},null,0,8,8,null,1,5,0,7,0,3,null,1,15,16]
[{"$f":"'Races, Positions & Points'!A27","v":"Elisabeth Thomas"},{"$f":"'Races, Positions & Points'!B27","v":"F"},{"$f":"'Races, Positions & Points'!C27","v":1996},{"$f":"'Races, Positions & Points'!D27","v":"U21"},{"$f":"'Races, Positions & Points'!E27","v":18033},{"$f":"'Races, Positions & Points'!G27","v":72.7},{"$f":"'Races, Positions & Points'!L27","v":67.69},{"$f":"'Races, Positions & Points'!M27","v":72.7},null,{"$f":"'Points Calculation'!BA27","v":0},{"$f":"'Points Calculation'!BB27","v":4},{"$f":"'Points Calculation'!BC27","v":0},{"$f":"'Points Calculation'!BD27","v":3},{"$f":"'Points Calculation'!BE27","v":0},{"$f":"'Points Calculation'!BF27","v":0},null,0,7,7,null,0,0,0,0,0,2,null,0,2,2]
[{"$f":"'Races, Positions & Points'!A28","v":"Maxine Hancock"},{"$f":"'Races, Positions & Points'!B28","v":"F"},{"$f":"'Races, Positions & Points'!C28","v":1997},{"$f":"'Races, Positions & Points'!D28","v":"U18"},{"$f":"'Races, Positions & Points'!E28","v":18617},{"$f":"'Races, Positions & Points'!G28","v":74.28},{"$f":"'Races, Positions & Points'!L28","v":74.28},{"$f":"'Races, Positions & Points'!M28","v":74.28},null,{"$f":"'Points Calculation'!BA28","v":0},{"$f":"'Points Calculation'!BB28","v":0},{"$f":"'Points Calculation'!BC28","v":6},{"$f":"'Points Calculation'!BD28","v":0},{"$f":"'Points Calculation'!BE28","v":4},{"$f":"'Points Calculation'!BF28","v":0},null,10,0,10,null,4,0,6,0,4,0,null,14,0,14]
[{"$f":"'Races, Positions & Points'!A29","v":"Jessica Mayhew"},{"$f":"'Races, Positions & Points'!B29","v":"F"},{"$f":"'Races, Positions & Points'!C29","v":2000},{"$f":"'Races, Positions & Points'!D29","v":"U16"},{"$f":"'Races, Positions & Points'!E29","v":21014},{"$f":"'Races, Positions & Points'!G29","v":84.18},{"$f":"'Races, Positions & Points'!L29","v":47.77},{"$f":"'Races, Positions & Points'!M29","v":84.18},null,{"$f":"'Points Calculation'!BA29","v":0},{"$f":"'Points Calculation'!BB29","v":5},{"$f":"'Points Calculation'!BC29","v":0},{"$f":"'Points Calculation'!BD29","v":6},{"$f":"'Points Calculation'!BE29","v":0},{"$f":"'Points Calculation'!BF29","v":3},null,0,14,14,null,1,5,0,4,0,0,null,1,9,10]
[{"$f":"'Races, Positions & Points'!A30","v":"Hannah Shakeshaft"},{"$f":"'Races, Positions & Points'!B30","v":"F"},{"$f":"'Races, Positions & Points'!C30","v":1996},{"$f":"'Races, Positions & Points'!D30","v":"U21"},{"$f":"'Races, Positions & Points'!E30","v":19833},{"$f":"'Races, Positions & Points'!G30","v":140.29},{"$f":"'Races, Positions & Points'!L30","v":{"$error":"#N/A"}},{"$f":"'Races, Positions & Points'!M30","v":{"$error":"#N/A"}},null,{"$f":"'Points Calculation'!BA30","v":0},{"$f":"'Points Calculation'!BB30","v":0},{"$f":"'Points Calculation'!BC30","v":0},{"$f":"'Points Calculation'!BD30","v":0},{"$f":"'Points Calculation'!BE30","v":0},{"$f":"'Points Calculation'!BF30","v":0},null,0,0,0,null,0,0,0,0,0,0,null,0,0,0]
[{"$f":"'Races, Positions & Points'!A31","v":"Chloe Care"},{"$f":"'Races, Positions & Points'!B31","v":"F"},{"$f":"'Races, Positions & Points'!C31","v":1998},{"$f":"'Races, Positions & Points'!D31","v":"U18"},{"$f":"'Races, Positions & Points'!E31","v":19983},{"$f":"'Races, Positions & Points'!G31","v":203.01},{"$f":"'Races, Positions & Points'!L31","v":203.01},{"$f":"'Races, Positions & Points'!M31","v":203.01},null,{"$f":"'Points Calculation'!BA31","v":0},{"$f":"'Points Calculation'!BB31","v":2},{"$f":"'Points Calculation'!BC31","v":0},{"$f":"'Points Calculation'!BD31","v":0},{"$f":"'Points Calculation'!BE31","v":0},{"$f":"'Points Calculation'!BF31","v":0},null,0,2,2,null,0,3,0,1,0,0,null,0,4,4]
[{"$f":"'Races, Positions & Points'!A32","v":"Geraldine Elgy"},{"$f":"'Races, Positions & Points'!B32","v":"F"},{"$f":"'Races, Positions & Points'!C32","v":1954},{"$f":"'Races, Positions & Points'!D32","v":"MAS"},{"$f":"'Races, Positions & Points'!E32","v":19165},{"$f":"'Races, Positions & Points'!G32","v":330.25},{"$f":"'Races, Positions & Points'!L32","v":330.25},{"$f":"'Races, Positions & Points'!M32","v":330.25},null,{"$f":"'Points Calculation'!BA32","v":0},{"$f":"'Points Calculation'!BB32","v":0},{"$f":"'Points Calculation'!BC32","v":0},{"$f":"'Points Calculation'!BD32","v":0},{"$f":"'Points Calculation'!BE32","v":0},{"$f":"'Points Calculation'!BF32","v":0},null,0,0,0,null,0,0,0,0,0,0,null,0,0,0]
[{"$f":"'Races, Positions & Points'!A33","v":"Laura Newboult"},{"$f":"'Races, Positions & Points'!B33","v":"F"},{"$f":"'Races, Positions & Points'!C33","v":1995},{"$f":"'Races, Positions & Points'!D33","v":"U21"},{"$f":"'Races, Positions & Points'!E33","v":20781},{"$f":"'Races, Positions & Points'!G33","v":428.94},{"$f":"'Races, Positions & Points'!L33","v":{"$error":"#N/A"}},{"$f":"'Races, Positions & Points'!M33","v":{"$error":"#N/A"}},null,{"$f":"'Points Calculation'!BA33","v":0},{"$f":"'Points Calculation'!BB33","v":0},{"$f":"'Points Calculation'!BC33","v":0},{"$f":"'Points Calculation'!BD33","v":0},{"$f":"'Points Calculation'!BE33","v":0},{"$f":"'Points Calculation'!BF33","v":0},null,0,0,0,null,0,0,0,0,0,0,null,0,0,0]
[{"$f":"'Races, Positions & Points'!A34","v":"Robyn Doherty"},{"$f":"'Races, Positions & Points'!B34","v":"F"},{"$f":"'Races, Positions & Points'!C34","v":1996},{"$f":"'Races, Positions & Points'!D34","v":"U21"},{"$f":"'Races, Positions & Points'!E34","v":19573},{"$f":"'Races, Positions & Points'!G34","v":636.34},{"$f":"'Races, Positions & Points'!L34","v":636.34},{"$f":"'Races, Positions & Points'!M34","v":636.34},null,{"$f":"'Points Calculation'!BA34","v":0},{"$f":"'Points Calculation'!BB34","v":0},{"$f":"'Points Calculation'!BC34","v":0},{"$f":"'Points Calculation'!BD34","v":0},{"$f":"'Points Calculation'!BE34","v":0},{"$f":"'Points Calculation'!BF34","v":0},null,0,0,0,null,0,0,0,0,0,0,null,0,0,0]
[{"$f":"'Races, Positions & Points'!A35","v":"Jane Lee"},{"$f":"'Races, Positions & Points'!B35","v":"F"},{"$f":"'Races, Positions & Points'!C35","v":1954},{"$f":"'Races, Positions & Points'!D35","v":"MAS"},{"$f":"'Races, Positions & Points'!E35","v":41577},{"$f":"'Races, Positions & Points'!G35","v":640.45000000000005},{"$f":"'Races, Positions & Points'!L35","v":{"$error":"#N/A"}},{"$f":"'Races, Positions & Points'!M35","v":{"$error":"#N/A"}},null,{"$f":"'Points Calculation'!BA35","v":0},{"$f":"'Points Calculation'!BB35","v":0},{"$f":"'Points Calculation'!BC35","v":0},{"$f":"'Points Calculation'!BD35","v":0},{"$f":"'Points Calculation'!BE35","v":0},{"$f":"'Points Calculation'!BF35","v":0},null,0,0,0,null,0,0,0,0,0,0,null,0,0,0]
[{"$f":"'Races, Positions & Points'!A36","v":"Emily Dawes"},{"$f":"'Races, Positions & Points'!B36","v":"F"},{"$f":"'Races, Positions & Points'!C36","v":1991},{"$f":"'Races, Positions & Points'!D36","v":"SEN"},{"$f":"'Races, Positions & Points'!E36","v":14263},{"$f":"'Races, Positions & Points'!G36","v":"NR"},{"$f":"'Races, Positions & Points'!H36","v":"NR"},{"$f":"'Races, Positions & Points'!I36","v":"NR"},null,{"$f":"'Points Calculation'!BA36","v":0},{"$f":"'Points Calculation'!BB36","v":0},{"$f":"'Points Calculation'!BC36","v":0},{"$f":"'Points Calculation'!BD36","v":0},{"$f":"'Points Calculation'!BE36","v":0},{"$f":"'Points Calculation'!BF36","v":0},null,0,0,0,null,0,0,0,0,0,0,null,0,0,0]
[{"$f":"'Races, Positions & Points'!A37","v":"Sophia Phelps"},{"$f":"'Races, Positions & Points'!B37","v":"F"},{"$f":"'Races, Positions & Points'!C37","v":1994},{"$f":"'Races, Positions & Points'!D37","v":"U21"},{"$f":"'Races, Positions & Points'!E37","v":17839},{"$f":"'Races, Positions & Points'!G37","v":"NR"},{"$f":"'Races, Positions & Points'!H37","v":"NR"},{"$f":"'Races, Positions & Points'!I37","v":"NR"},null,{"$f":"'Points Calculation'!BA37","v":0},{"$f":"'Points Calculation'!BB37","v":0},{"$f":"'Points Calculation'!BC37","v":0},{"$f":"'Points Calculation'!BD37","v":0},{"$f":"'Points Calculation'!BE37","v":0},{"$f":"'Points Calculation'!BF37","v":0},null,0,0,0,null,0,0,0,0,0,0,null,0,0,0]
[{"$f":"'Races, Positions & Points'!A38","v":"Olivia Waller"},{"$f":"'Races, Positions & Points'!B38","v":"F"},{"$f":"'Races, Positions & Points'!C38","v":1994},{"$f":"'Races, Positions & Points'!D38","v":"U21"},{"$f":"'Races, Positions & Points'!E38","v":17516},{"$f":"'Races, Positions & Points'!G38","v":"NR"},{"$f":"'Races, Positions & Points'!H38","v":"NR"},{"$f":"'Races, Positions & Points'!I38","v":"NR"},null,{"$f":"'Points Calculation'!BA38","v":0},{"$f":"'Points Calculation'!BB38","v":0},{"$f":"'Points Calculation'!BC38","v":0},{"$f":"'Points Calculation'!BD38","v":0},{"$f":"'Points Calculation'!BE38","v":0},{"$f":"'Points Calculation'!BF38","v":0},null,0,0,0,null,0,0,0,0,0,0,null,0,0,0]
[{"$f":"'Races, Positions & Points'!A39","v":"Agathe Vallat"},{"$f":"'Races, Positions & Points'!B39","v":"F"},{"$f":"'Races, Positions & Points'!C39","v":1999},{"$f":"'Races, Positions & Points'!D39","v":"U16"},{"$f":"'Races, Positions & Points'!E39","v":21606},{"$f":"'Races, Positions & Points'!G39","v":465.82},{"$f":"'Races, Positions & Points'!L39","v":465.82},{"$f":"'Races, Positions & Points'!M39","v":465.82},null,{"$f":"'Points Calculation'!BA39","v":0},{"$f":"'Points Calculation'!BB39","v":1},{"$f":"'Points Calculation'!BC39","v":0},{"$f":"'Points Calculation'!BD39","v":1},{"$f":"'Points Calculation'!BE39","v":0},{"$f":"'Points Calculation'!BF39","v":0},null,{"$f":"J39+L39+N39","v":0},2,{"$f":"Q39+R39","v":2},null,0,1,0,0,0,0,null,0,1,1]
[{"$f":"'Races, Positions & Points'!A40","v":"Rose Tinley"},{"$f":"'Races, Positions & Points'!B40","v":"F"},{"$f":"'Races, Positions & Points'!C40","v":1998},{"$f":"'Races, Positions & Points'!D40","v":"U18"},{"$f":"'Races, Positions & Points'!E40","v":"Day"},{"$f":"'Races, Positions & Points'!G40","v":"NR"},{"$f":"'Races, Positions & Points'!L40","v":"NR"},{"$f":"'Races, Positions & Points'!M40","v":"NR"},null,{"$f":"'Points Calculation'!BA39","v":0},{"$f":"'Points Calculation'!BB39","v":1},{"$f":"'Points Calculation'!BC39","v":0},{"$f":"'Points Calculation'!BD39","v":1},{"$f":"'Points Calculation'!BE39","v":0},{"$f":"'Points Calculation'!BF39","v":0},null,0,2,{"$f":"Q40+R40","v":2},null,0,0,0,0,0,0,null,0,0,0]
[{"$f":"'Races, Positions & Points'!A41","v":"Rebecca Tinley"},{"$f":"'Races, Positions & Points'!B41","v":"F"},{"$f":"'Races, Positions & Points'!C41","v":2000},{"$f":"'Races, Positions & Points'!D41","v":"U16"},{"$f":"'Races, Positions & Points'!E41","v":"Day"},{"$f":"'Races, Positions & Points'!G41","v":"NR"},{"$f":"'Races, Positions & Points'!L41","v":"NR"},{"$f":"'Races, Positions & Points'!M41","v":"NR"},null,{"$f":"'Points Calculation'!BA40","v":0},{"$f":"'Points Calculation'!BB40","v":0},{"$f":"'Points Calculation'!BC40","v":0},{"$f":"'Points Calculation'!BD40","v":0},{"$f":"'Points Calculation'!BE40","v":0},{"$f":"'Points Calculation'!BF40","v":0},null,0,0,{"$f":"Q41+R41","v":0},null,0,0,0,0,0,0,null,{"$f":"U41+W41+Y41","v":0},{"$f":"V41+X41+Z41","v":0},{"$f":"AB41+AC41","v":0}]
[{"$f":"'Races, Positions & Points'!A42","v":"Carys Phillips"},{"$f":"'Races, Positions & Points'!B42","v":"F"},{"$f":"'Races, Positions & Points'!C42","v":1999},{"$f":"'Races, Positions & Points'!D42","v":"U16"},{"$f":"'Races, Positions & Points'!E42","v":"Day"},{"$f":"'Races, Positions & Points'!G42","v":"NR"},{"$f":"'Races, Positions & Points'!H42","v":"NR"},{"$f":"'Races, Positions & Points'!I42","v":"NR"},null,{"$f":"'Points Calculation'!BA40","v":0},{"$f":"'Points Calculation'!BB40","v":0},{"$f":"'Points Calculation'!BC40","v":0},{"$f":"'Points Calculation'!BD40","v":0},{"$f":"'Points Calculation'!BE40","v":0},{"$f":"'Points Calculation'!BF40","v":0},null,0,0,{"$f":"Q42+R42","v":0},null,0,1,0,0,0,0,null,0,1,1]
["MALES"]
[{"$f":"'Races, Positions & Points'!A44","v":"Harry Hornsby"},{"$f":"'Races, Positions & Points'!B44","v":"M"},{"$f":"'Races, Positions & Points'!C44","v":1991},{"$f":"'Races, Positions & Points'!D44","v":"SEN"},{"$f":"'Races, Positions & Points'!E44","v":17356},{"$f":"'Races, Positions & Points'!G44","v":5.41},{"$f":"'Races, Positions & Points'!L44","v":5.28},{"$f":"'Races, Positions & Points'!M44","v":5.41},null,{"$f":"'Points Calculation'!BA42","v":0},{"$f":"'Points Calculation'!BB42","v":6},{"$f":"'Points Calculation'!BC42","v":1},{"$f":"'Points Calculation'!BD42","v":4},{"$f":"'Points Calculation'!BE42","v":0},{"$f":"'Points Calculation'!BF42","v":1},null,{"$f":"J44+L44+N44","v":1},11,{"$f":"Q44+R44","v":12},null,0,5,0,4,0,2,null,{"$f":"U44+W44+Y44","v":0},{"$f":"V44+X44+Z44","v":11},{"$f":"AB44+AC44","v":11}]
[{"$f":"'Races, Positions & Points'!A45","v":"Jonny Powell"},{"$f":"'Races, Positions & Points'!B45","v":"M"},{"$f":"'Races, Positions & Points'!C45","v":1986},{"$f":"'Races, Positions & Points'!D45","v":"SEN"},{"$f":"'Races, Positions & Points'!E45","v":17479},{"$f":"'Races, Positions & Points'!G45","v":18.72},{"$f":"'Races, Positions & Points'!L45","v":18.72},{"$f":"'Races, Positions & Points'!M45","v":18.72},null,{"$f":"'Points Calculation'!BA43","v":0},{"$f":"'Points Calculation'!BB43","v":1},{"$f":"'Points Calculation'!BC43","v":1},{"$f":"'Points Calculation'!BD43","v":5},{"$f":"'Points Calculation'!BE43","v":0},{"$f":"'Points Calculation'!BF43","v":0},null,1,6,{"$f":"Q45+R45","v":7},null,3,7,1,3,3,6,null,7,16,23]
[{"$f":"'Races, Positions & Points'!A46","v":"Andrew Du Plessis"},{"$f":"'Races, Positions & Points'!B46","v":"M"},{"$f":"'Races, Positions & Points'!C46","v":1985},{"$f":"'Races, Positions & Points'!D46","v":"SEN"},{"$f":"'Races, Positions & Points'!E46","v":12318},{"$f":"'Races, Positions & Points'!G46","v":23.04},{"$f":"'Races, Positions & Points'!L46","v":23.04},{"$f":"'Races, Positions & Points'!M46","v":23.04},null,{"$f":"'Points Calculation'!BA44","v":0},{"$f":"'Points Calculation'!BB44","v":1},{"$f":"'Points Calculation'!BC44","v":0},{"$f":"'Points Calculation'!BD44","v":0},{"$f":"'Points Calculation'!BE44","v":0},{"$f":"'Points Calculation'!BF44","v":0},null,0,1,{"$f":"Q46+R46","v":1},null,1,2,0,2,1,2,null,2,6,8]
[{"$f":"'Races, Positions & Points'!A47","v":"Adam Beardmore"},{"$f":"'Races, Positions & Points'!B47","v":"M"},{"$f":"'Races, Positions & Points'!C47","v":1986},{"$f":"'Races, Positions & Points'!D47","v":"SEN"},{"$f":"'Races, Positions & Points'!E47","v":19704},{"$f":"'Races, Positions & Points'!G47","v":35.26},{"$f":"'Races, Positions & Points'!L47","v":35.26},{"$f":"'Races, Positions & Points'!M47","v":35.26},null,{"$f":"'Points Calculation'!BA45","v":0},{"$f":"'Points Calculation'!BB45","v":0},{"$f":"'Points Calculation'!BC45","v":0},{"$f":"'Points Calculation'!BD45","v":0},{"$f":"'Points Calculation'!BE45","v":0},{"$f":"'Points Calculation'!BF45","v":0},null,0,0,{"$f":"Q47+R47","v":0},null,0,1,0,0,0,1,null,0,2,2]
[{"$f":"'Races, Positions & Points'!A48","v":"Adam. Lee"},{"$f":"'Races, Positions & Points'!B48","v":"M"},{"$f":"'Races, Positions & Points'!C48","v":1994},{"$f":"'Races, Positions & Points'!D48","v":"U21"},{"$f":"'Races, Positions & Points'!E48","v":41578},{"$f":"'Races, Positions & Points'!G48","v":38.93},{"$f":"'Races, Positions & Points'!L48","v":36.39},{"$f":"'Races, Positions & Points'!M48","v":38.93},null,{"$f":"'Points Calculation'!BA46","v":0},{"$f":"'Points Calculation'!BB46","v":6},{"$f":"'Points Calculation'!BC46","v":1},{"$f":"'Points Calculation'!BD46","v":7},{"$f":"'Points Calculation'!BE46","v":0},{"$f":"'Points Calculation'!BF46","v":4},null,1,17,18,null,2,5,0,7,1,6,null,3,18,21]
[{"$f":"'Races, Positions & Points'!A49","v":"Jack Rigby"},{"$f":"'Races, Positions & Points'!B49","v":"M"},{"$f":"'Races, Positions & Points'!C49","v":1995},{"$f":"'Races, Positions & Points'!D49","v":"U21"},{"$f":"'Races, Positions & Points'!E49","v":41722},{"$f":"'Races, Positions & Points'!G49","v":50.4},{"$f":"'Races, Positions & Points'!L49","v":50.4},{"$f":"'Races, Positions & Points'!M49","v":42.49},null,{"$f":"'Points Calculation'!BA47","v":0},{"$f":"'Points Calculation'!BB47","v":1},{"$f":"'Points Calculation'!BC47","v":3},{"$f":"'Points Calculation'!BD47","v":0},{"$f":"'Points Calculation'!BE47","v":2},{"$f":"'Points Calculation'!BF47","v":0},null,5,1,6,null,1,0,4,0,3,0,null,8,0,8]
[{"$f":"'Races, Positions & Points'!A50","v":"Phil Emmerson"},{"$f":"'Races, Positions & Points'!B50","v":"M"},{"$f":"'Races, Positions & Points'!C50","v":1990},{"$f":"'Races, Positions & Points'!D50","v":"SEN"},{"$f":"'Races, Positions & Points'!E50","v":21084},{"$f":"'Races, Positions & Points'!G50","v":57.73},{"$f":"'Races, Positions & Points'!L50","v":42.32},{"$f":"'Races, Positions & Points'!M50","v":57.73},null,{"$f":"'Points Calculation'!BA48","v":0},{"$f":"'Points Calculation'!BB48","v":7},{"$f":"'Points Calculation'!BC48","v":1},{"$f":"'Points Calculation'!BD48","v":5},{"$f":"'Points Calculation'!BE48","v":0},{"$f":"'Points Calculation'!BF48","v":3},null,1,15,16,null,2,7,0,6,0,2,null,2,15,17]
[{"$f":"'Races, Positions & Points'!A51","v":"Mark Hawkins"},{"$f":"'Races, Positions & Points'!B51","v":"M"},{"$f":"'Races, Positions & Points'!C51","v":1979},{"$f":"'Races, Positions & Points'!D51","v":"MAS"},{"$f":"'Races, Positions & Points'!E51","v":19163},{"$f":"'Races, Positions & Points'!G51","v":61.45},{"$f":"'Races, Positions & Points'!L51","v":57.1},{"$f":"'Races, Positions & Points'!M51","v":61.45},null,{"$f":"'Points Calculation'!BA49","v":0},{"$f":"'Points Calculation'!BB49","v":3},{"$f":"'Points Calculation'!BC49","v":0},{"$f":"'Points Calculation'!BD49","v":6},{"$f":"'Points Calculation'!BE49","v":0},{"$f":"'Points Calculation'!BF49","v":3},null,0,12,12,null,0,4,0,7,0,3,null,0,14,14]
[{"$f":"'Races, Positions & Points'!A52","v":"Nick Miller"},{"$f":"'Races, Positions & Points'!B52","v":"M"},{"$f":"'Races, Positions & Points'!C52","v":1993},{"$f":"'Races, Positions & Points'!D52","v":"SEN"},{"$f":"'Races, Positions & Points'!E52","v":18607},{"$f":"'Races, Positions & Points'!G52","v":63.19},{"$f":"'Races, Positions & Points'!L52","v":63.19},{"$f":"'Races, Positions & Points'!M52","v":63.19},null,{"$f":"'Points Calculation'!BA50","v":0},{"$f":"'Points Calculation'!BB50","v":0},{"$f":"'Points Calculation'!BC50","v":0},{"$f":"'Points Calculation'!BD50","v":0},{"$f":"'Points Calculation'!BE50","v":0},{"$f":"'Points Calculation'!BF50","v":0},null,0,0,0,null,0,0,0,0,0,0,null,0,0,0]
[{"$f":"'Races, Positions & Points'!A53","v":"Alasdair Thorley"},{"$f":"'Races, Positions & Points'!B53","v":"M"},{"$f":"'Races, Positions & Points'!C53","v":1994},{"$f":"'Races, Positions & Points'!D53","v":"U21"},{"$f":"'Races, Positions & Points'!E53","v":18586},{"$f":"'Races, Positions & Points'!G53","v":69.650000000000006},{"$f":"'Races, Positions & Points'!L53","v":69.650000000000006},{"$f":"'Races, Positions & Points'!M53","v":69.650000000000006},null,{"$f":"'Points Calculation'!BA51","v":0},{"$f":"'Points Calculation'!BB51","v":0},{"$f":"'Points Calculation'!BC51","v":0},{"$f":"'Points Calculation'!BD51","v":0},{"$f":"'Points Calculation'!BE51","v":0},{"$f":"'Points Calculation'!BF51","v":0},null,0,0,0,null,0,0,0,0,0,0,null,0,0,0]
[{"$f":"'Races, Positions & Points'!A54","v":"Nick Phelps"},{"$f":"'Races, Positions & Points'!B54","v":"M"},{"$f":"'Races, Positions & Points'!C54","v":1997},{"$f":"'Races, Positions & Points'!D54","v":"U18"},{"$f":"'Races, Positions & Points'!E54","v":17840},{"$f":"'Races, Positions & Points'!G54","v":70.34},{"$f":"'Races, Positions & Points'!L54","v":70.34},{"$f":"'Races, Positions & Points'!M54","v":70.34},null,{"$f":"'Points Calculation'!BA52","v":0},{"$f":"'Points Calculation'!BB52","v":2},{"$f":"'Points Calculation'!BC52","v":0},{"$f":"'Points Calculation'!BD52","v":1},{"$f":"'Points Calculation'!BE52","v":0},{"$f":"'Points Calculation'!BF52","v":0},null,0,3,3,null,0,2,0,4,0,2,null,0,8,8]
[{"$f":"'Races, Positions & Points'!A55","v":"Oliver Weeks"},{"$f":"'Races, Positions & Points'!B55","v":"M"},{"$f":"'Races, Positions & Points'!C55","v":2001},{"$f":"'Races, Positions & Points'!D55","v":"U14"},{"$f":"'Races, Positions & Points'!E55","v":19051},{"$f":"'Races, Positions & Points'!G55","v":70.989999999999995},{"$f":"'Races, Positions & Points'!L55","v":59.18},{"$f":"'Races, Positions & Points'!M55","v":70.989999999999995},null,{"$f":"'Points Calculation'!BA53","v":0},{"$f":"'Points Calculation'!BB53","v":8},{"$f":"'Points Calculation'!BC53","v":8},{"$f":"'Points Calculation'!BD53","v":6},{"$f":"'Points Calculation'!BE53","v":4},{"$f":"'Points Calculation'!BF53","v":3},null,12,17,29,null,4,7,4,7,3,3,null,11,17,28]
[{"$f":"'Races, Positions & Points'!A56","v":"James Smith"},{"$f":"'Races, Positions & Points'!B56","v":"M"},{"$f":"'Races, Positions & Points'!C56","v":1992},{"$f":"'Races, Positions & Points'!D56","v":"SEN"},{"$f":"'Races, Positions & Points'!E56","v":21595},{"$f":"'Races, Positions & Points'!G56","v":72.23},{"$f":"'Races, Positions & Points'!L56","v":63.71},{"$f":"'Races, Positions & Points'!M56","v":72.23},null,{"$f":"'Points Calculation'!BA54","v":0},{"$f":"'Points Calculation'!BB54","v":4},{"$f":"'Points Calculation'!BC54","v":0},{"$f":"'Points Calculation'!BD54","v":0},{"$f":"'Points Calculation'!BE54","v":0},{"$f":"'Points Calculation'!BF54","v":1},null,0,5,5,null,2,3,0,2,0,0,null,2,5,7]
[{"$f":"'Races, Positions & Points'!A57","v":"Gareth Miller"},{"$f":"'Races, Positions & Points'!B57","v":"M"},{"$f":"'Races, Positions & Points'!C57","v":1994},{"$f":"'Races, Positions & Points'!D57","v":"U21"},{"$f":"'Races, Positions & Points'!E57","v":18509},{"$f":"'Races, Positions & Points'!G57","v":73.98},{"$f":"'Races, Positions & Points'!L57","v":73.98},{"$f":"'Races, Positions & Points'!M57","v":71.069999999999993},null,{"$f":"'Points Calculation'!BA55","v":0},{"$f":"'Points Calculation'!BB55","v":3},{"$f":"'Points Calculation'!BC55","v":1},{"$f":"'Points Calculation'!BD55","v":1},{"$f":"'Points Calculation'!BE55","v":0},{"$f":"'Points Calculation'!BF55","v":1},null,1,5,6,null,0,0,0,0,0,0,null,0,0,0]
[{"$f":"'Races, Positions & Points'!A58","v":"Edmund Walker"},{"$f":"'Races, Positions & Points'!B58","v":"M"},{"$f":"'Races, Positions & Points'!C58","v":1992},{"$f":"'Races, Positions & Points'!D58","v":"SEN"},{"$f":"'Races, Positions & Points'!E58","v":14213},{"$f":"'Races, Positions & Points'!G58","v":77.16},{"$f":"'Races, Positions & Points'!L58","v":54.38},{"$f":"'Races, Positions & Points'!M58","v":77.16},null,{"$f":"'Points Calculation'!BA56","v":0},{"$f":"'Points Calculation'!BB56","v":5},{"$f":"'Points Calculation'!BC56","v":1},{"$f":"'Points Calculation'!BD56","v":0},{"$f":"'Points Calculation'!BE56","v":0},{"$f":"'Points Calculation'!BF56","v":1},null,1,6,7,null,0,2,0,0,0,0,null,0,2,2]
[{"$f":"'Races, Positions & Points'!A59","v":"Jordan Rigby"},{"$f":"'Races, Positions & Points'!B59","v":"M"},{"$f":"'Races, Positions & Points'!C59","v":2000},{"$f":"'Races, Positions & Points'!D59","v":"U16"},{"$f":"'Races, Positions & Points'!E59","v":19910},{"$f":"'Races, Positions & Points'!G59","v":111.82},{"$f":"'Races, Positions & Points'!L59","v":111.82},{"$f":"'Races, Positions & Points'!M59","v":111.82},null,{"$f":"'Points Calculation'!BA57","v":0},{"$f":"'Points Calculation'!BB57","v":1},{"$f":"'Points Calculation'!BC57","v":0},{"$f":"'Points Calculation'!BD57","v":0},{"$f":"'Points Calculation'!BE57","v":0},{"$f":"'Points Calculation'!BF57","v":0},null,0,1,1,null,1,6,0,3,0,0,null,1,9,10]
[{"$f":"'Races, Positions & Points'!A60","v":"Sam Dewison"},{"$f":"'Races, Positions & Points'!B60","v":"M"},{"$f":"'Races, Positions & Points'!C60","v":1998},{"$f":"'Races, Positions & Points'!D60","v":"U18"},{"$f":"'Races, Positions & Points'!E60","v":20846},{"$f":"'Races, Positions & Points'!G60","v":119.86},{"$f":"'Races, Positions & Points'!L60","v":103.46},{"$f":"'Races, Positions & Points'!M60","v":119.86},null,{"$f":"'Points Calculation'!BA58","v":0},{"$f":"'Points Calculation'!BB58","v":2},{"$f":"'Points Calculation'!BC58","v":0},{"$f":"'Points Calculation'!BD58","v":0},{"$f":"'Points Calculation'!BE58","v":0},{"$f":"'Points Calculation'!BF58","v":1},null,0,3,3,null,0,5,0,0,0,1,null,0,6,6]
[{"$f":"'Races, Positions & Points'!A61","v":"Roger Crombleholme"},{"$f":"'Races, Positions & Points'!B61","v":"M"},{"$f":"'Races, Positions & Points'!C61","v":1957},{"$f":"'Races, Positions & Points'!D61","v":"MAS"},{"$f":"'Races, Positions & Points'!E61","v":5666},{"$f":"'Races, Positions & Points'!G61","v":120.35},{"$f":"'Races, Positions & Points'!L61","v":120.35},{"$f":"'Races, Positions & Points'!M61","v":120.35},null,{"$f":"'Points Calculation'!BA59","v":0},{"$f":"'Points Calculation'!BB59","v":2},{"$f":"'Points Calculation'!BC59","v":0},{"$f":"'Points Calculation'!BD59","v":0},{"$f":"'Points Calculation'!BE59","v":0},{"$f":"'Points Calculation'!BF59","v":0},null,0,2,2,null,0,2,0,0,0,0,null,0,2,2]
[{"$f":"'Races, Positions & Points'!A62","v":"Joey Frost"},{"$f":"'Races, Positions & Points'!B62","v":"M"},{"$f":"'Races, Positions & Points'!C62","v":1995},{"$f":"'Races, Positions & Points'!D62","v":"U21"},{"$f":"'Races, Positions & Points'!E62","v":20677},{"$f":"'Races, Positions & Points'!G62","v":127.79},{"$f":"'Races, Positions & Points'!L62","v":127.79},{"$f":"'Races, Positions & Points'!M62","v":127.79},null,{"$f":"'Points Calculation'!BA60","v":0},{"$f":"'Points Calculation'!BB60","v":0},{"$f":"'Points Calculation'!BC60","v":0},{"$f":"'Points Calculation'!BD60","v":0},{"$f":"'Points Calculation'!BE60","v":0},{"$f":"'Points Calculation'!BF60","v":0},null,0,0,0,null,0,0,0,0,0,0,null,0,0,0]
[{"$f":"'Races, Positions & Points'!A63","v":"Sam Lee"},{"$f":"'Races, Positions & Points'!B63","v":"M"},{"$f":"'Races, Positions & Points'!C63","v":1996},{"$f":"'Races, Positions & Points'!D63","v":"U21"},{"$f":"'Races, Positions & Points'!E63","v":41662},{"$f":"'Races, Positions & Points'!G63","v":128.82},{"$f":"'Races, Positions & Points'!L63","v":128.82},{"$f":"'Races, Positions & Points'!M63","v":128.82},null,{"$f":"'Points Calculation'!BA61","v":0},{"$f":"'Points Calculation'!BB61","v":3},{"$f":"'Points Calculation'!BC61","v":0},{"$f":"'Points Calculation'!BD61","v":6},{"$f":"'Points Calculation'!BE61","v":0},{"$f":"'Points Calculation'!BF61","v":0},null,0,9,9,null,0,5,0,7,0,3,null,0,15,15]
[{"$f":"'Races, Positions & Points'!A64","v":"Duncan Thorley"},{"$f":"'Races, Positions & Points'!B64","v":"M"},{"$f":"'Races, Positions & Points'!C64","v":1997},{"$f":"'Races, Positions & Points'!D64","v":"U18"},{"$f":"'Races, Positions & Points'!E64","v":18998},{"$f":"'Races, Positions & Points'!G64","v":133.94999999999999},{"$f":"'Races, Positions & Points'!L64","v":133.94999999999999},{"$f":"'Races, Positions & Points'!M64","v":133.94999999999999},null,{"$f":"'Points Calculation'!BA62","v":0},{"$f":"'Points Calculation'!BB62","v":0},{"$f":"'Points Calculation'!BC62","v":0},{"$f":"'Points Calculation'!BD62","v":0},{"$f":"'Points Calculation'!BE62","v":0},{"$f":"'Points Calculation'!BF62","v":0},null,0,0,0,null,0,2,0,0,0,1,null,0,3,3]
[{"$f":"'Races, Positions & Points'!A65","v":"Thomas Lawrence"},{"$f":"'Races, Positions & Points'!B65","v":"M"},{"$f":"'Races, Positions & Points'!C65","v":1999},{"$f":"'Races, Positions & Points'!D65","v":"U16"},{"$f":"'Races, Positions & Points'!E65","v":19941},{"$f":"'Races, Positions & Points'!G65","v":144.61000000000001},{"$f":"'Races, Positions & Points'!L65","v":119.4},{"$f":"'Races, Positions & Points'!M65","v":144.61000000000001},null,{"$f":"'Points Calculation'!BA63","v":0},{"$f":"'Points Calculation'!BB63","v":6},{"$f":"'Points Calculation'!BC63","v":0},{"$f":"'Points Calculation'!BD63","v":2},{"$f":"'Points Calculation'!BE63","v":1},{"$f":"'Points Calculation'!BF63","v":3},null,1,11,12,null,2,5,0,5,0,3,null,2,13,15]
[{"$f":"'Races, Positions & Points'!A66","v":"Ethan Hemming"},{"$f":"'Races, Positions & Points'!B66","v":"M"},{"$f":"'Races, Positions & Points'!C66","v":2001},{"$f":"'Races, Positions & Points'!D66","v":"U14"},{"$f":"'Races, Positions & Points'!E66","v":19829},{"$f":"'Races, Positions & Points'!G66","v":150.21},{"$f":"'Races, Positions & Points'!L66","v":114.45},{"$f":"'Races, Positions & Points'!M66","v":150.21},null,{"$f":"'Points Calculation'!BA64","v":0},{"$f":"'Points Calculation'!BB64","v":9},{"$f":"'Points Calculation'!BC64","v":0},{"$f":"'Points Calculation'!BD64","v":6},{"$f":"'Points Calculation'!BE64","v":0},{"$f":"'Points Calculation'!BF64","v":0},null,0,15,15,null,0,8,0,1,1,3,null,1,12,13]
[{"$f":"'Races, Positions & Points'!A67","v":"James Elgy"},{"$f":"'Races, Positions & Points'!B67","v":"M"},{"$f":"'Races, Positions & Points'!C67","v":1993},{"$f":"'Races, Positions & Points'!D67","v":"SEN"},{"$f":"'Races, Positions & Points'!E67","v":19166},{"$f":"'Races, Positions & Points'!G67","v":166.36},{"$f":"'Races, Positions & Points'!L67","v":166.36},{"$f":"'Races, Positions & Points'!M67","v":166.36},null,{"$f":"'Points Calculation'!BA65","v":0},{"$f":"'Points Calculation'!BB65","v":0},{"$f":"'Points Calculation'!BC65","v":0},{"$f":"'Points Calculation'!BD65","v":0},{"$f":"'Points Calculation'!BE65","v":0},{"$f":"'Points Calculation'!BF65","v":0},null,0,0,0,null,0,0,0,0,0,0,null,0,0,0]
[{"$f":"'Races, Positions & Points'!A68","v":"Toby Tarrant"},{"$f":"'Races, Positions & Points'!B68","v":"M"},{"$f":"'Races, Positions & Points'!C68","v":1997},{"$f":"'Races, Positions & Points'!D68","v":"U18"},{"$f":"'Races, Positions & Points'!E68","v":21550},{"$f":"'Races, Positions & Points'!G68","v":186.2},{"$f":"'Races, Positions & Points'!L68","v":135.63},{"$f":"'Races, Positions & Points'!M68","v":186.2},null,{"$f":"'Points Calculation'!BA66","v":0},{"$f":"'Points Calculation'!BB66","v":2},{"$f":"'Points Calculation'!BC66","v":0},{"$f":"'Points Calculation'!BD66","v":0},{"$f":"'Points Calculation'!BE66","v":0},{"$f":"'Points Calculation'!BF66","v":0},null,0,2,2,null,0,5,0,0,0,0,null,0,5,5]
[{"$f":"'Races, Positions & Points'!A69","v":"Thomas Upton"},{"$f":"'Races, Positions & Points'!B69","v":"M"},{"$f":"'Races, Positions & Points'!C69","v":2001},{"$f":"'Races, Positions & Points'!D69","v":"U14"},{"$f":"'Races, Positions & Points'!E69","v":21051},{"$f":"'Races, Positions & Points'!G69","v":189.87},{"$f":"'Races, Positions & Points'!L69","v":123.67},{"$f":"'Races, Positions & Points'!M69","v":167.14},null,{"$f":"'Points Calculation'!BA67","v":0},{"$f":"'Points Calculation'!BB67","v":7},{"$f":"'Points Calculation'!BC67","v":6},{"$f":"'Points Calculation'!BD67","v":5},{"$f":"'Points Calculation'!BE67","v":2},{"$f":"'Points Calculation'!BF67","v":3},null,8,15,23,null,1,6,0,3,1,3,null,2,12,14]
[{"$f":"'Races, Positions & Points'!A70","v":"Edward Guy"},{"$f":"'Races, Positions & Points'!B70","v":"M"},{"$f":"'Races, Positions & Points'!C70","v":2001},{"$f":"'Races, Positions & Points'!D70","v":"U14"},{"$f":"'Races, Positions & Points'!E70","v":19379},{"$f":"'Races, Positions & Points'!G70","v":238.89},{"$f":"'Races, Positions & Points'!L70","v":138.32},{"$f":"'Races, Positions & Points'!M70","v":238.89},null,{"$f":"'Points Calculation'!BA68","v":0},{"$f":"'Points Calculation'!BB68","v":1},{"$f":"'Points Calculation'!BC68","v":0},{"$f":"'Points Calculation'!BD68","v":4},{"$f":"'Points Calculation'!BE68","v":0},{"$f":"'Points Calculation'!BF68","v":1},null,0,6,6,null,1,2,0,3,0,0,null,1,5,6]
[{"$f":"'Races, Positions & Points'!A71","v":"Samuel Doherty"},{"$f":"'Races, Positions & Points'!B71","v":"M"},{"$f":"'Races, Positions & Points'!C71","v":1999},{"$f":"'Races, Positions & Points'!D71","v":"U16"},{"$f":"'Races, Positions & Points'!E71","v":19572},{"$f":"'Races, Positions & Points'!G71","v":257.08999999999997},{"$f":"'Races, Positions & Points'!L71","v":257.08999999999997},{"$f":"'Races, Positions & Points'!M71","v":257.08999999999997},null,{"$f":"'Points Calculation'!BA69","v":0},{"$f":"'Points Calculation'!BB69","v":0},{"$f":"'Points Calculation'!BC69","v":0},{"$f":"'Points Calculation'!BD69","v":0},{"$f":"'Points Calculation'!BE69","v":0},{"$f":"'Points Calculation'!BF69","v":0},null,0,0,0,null,0,0,0,0,0,0,null,0,0,0]
[{"$f":"'Races, Positions & Points'!A72","v":"Karl Hancock"},{"$f":"'Races, Positions & Points'!B72","v":"M"},{"$f":"'Races, Positions & Points'!C72","v":1995},{"$f":"'Races, Positions & Points'!D72","v":"U21"},{"$f":"'Races, Positions & Points'!E72","v":18616},{"$f":"'Races, Positions & Points'!G72","v":259.37},{"$f":"'Races, Positions & Points'!L72","v":259.37},{"$f":"'Races, Positions & Points'!M72","v":203.44},null,{"$f":"'Points Calculation'!BA70","v":0},{"$f":"'Points Calculation'!BB70","v":0},{"$f":"'Points Calculation'!BC70","v":1},{"$f":"'Points Calculation'!BD70","v":0},{"$f":"'Points Calculation'!BE70","v":0},{"$f":"'Points Calculation'!BF70","v":0},null,1,0,1,null,0,0,1,0,0,0,null,1,0,1]
[{"$f":"'Races, Positions & Points'!A73","v":"John Elgy"},{"$f":"'Races, Positions & Points'!B73","v":"M"},{"$f":"'Races, Positions & Points'!C73","v":1951},{"$f":"'Races, Positions & Points'!D73","v":"MAS"},{"$f":"'Races, Positions & Points'!E73","v":19164},{"$f":"'Races, Positions & Points'!G73","v":332.56},{"$f":"'Races, Positions & Points'!L73","v":332.56},{"$f":"'Races, Positions & Points'!M73","v":332.56},null,{"$f":"'Points Calculation'!BA71","v":0},{"$f":"'Points Calculation'!BB71","v":0},{"$f":"'Points Calculation'!BC71","v":0},{"$f":"'Points Calculation'!BD71","v":0},{"$f":"'Points Calculation'!BE71","v":0},{"$f":"'Points Calculation'!BF71","v":0},null,0,0,0,null,0,0,0,0,0,0,null,0,0,0]
[{"$f":"'Races, Positions & Points'!A74","v":"Matthew Kirkland"},{"$f":"'Races, Positions & Points'!B74","v":"M"},{"$f":"'Races, Positions & Points'!C74","v":1992},{"$f":"'Races, Positions & Points'!D74","v":"SEN"},{"$f":"'Races, Positions & Points'!E74","v":21633},{"$f":"'Races, Positions & Points'!G74","v":345.98},{"$f":"'Races, Positions & Points'!L74","v":345.98},{"$f":"'Races, Positions & Points'!M74","v":345.98},null,{"$f":"'Points Calculation'!BA72","v":0},{"$f":"'Points Calculation'!BB72","v":0},{"$f":"'Points Calculation'!BC72","v":0},{"$f":"'Points Calculation'!BD72","v":0},{"$f":"'Points Calculation'!BE72","v":0},{"$f":"'Points Calculation'!BF72","v":0},null,{"$f":"J74+L74+N74","v":0},{"$f":"K74+M74+O74","v":0},{"$f":"Q74+R74","v":0},null,0,2,0,0,0,0,null,0,2,2]
[{"$f":"'Races, Positions & Points'!A75","v":"Phil Deller"},{"$f":"'Races, Positions & Points'!B75","v":"M"},{"$f":"'Races, Positions & Points'!C75","v":1959},{"$f":"'Races, Positions & Points'!D75","v":"MAS"},{"$f":"'Races, Positions & Points'!E75","v":17039},{"$f":"'Races, Positions & Points'!G75","v":780.34},{"$f":"'Races, Positions & Points'!L75","v":780.34},{"$f":"'Races, Positions & Points'!M75","v":780.34},null,{"$f":"'Points Calculation'!BA73","v":0},{"$f":"'Points Calculation'!BB73","v":0},{"$f":"'Points Calculation'!BC73","v":0},{"$f":"'Points Calculation'!BD73","v":0},{"$f":"'Points Calculation'!BE73","v":0},{"$f":"'Points Calculation'!BF73","v":0},null,0,0,0,null,0,0,0,0,0,0,null,0,0,0]
[{"$f":"'Races, Positions & Points'!A76","v":"David Hancock"},{"$f":"'Races, Positions & Points'!B76","v":"M"},{"$f":"'Races, Positions & Points'!C76","v":1964},{"$f":"'Races, Positions & Points'!D76","v":"MAS"},{"$f":"'Races, Positions & Points'!E76","v":17037},{"$f":"'Races, Positions & Points'!G76","v":999.99},{"$f":"'Races, Positions & Points'!L76","v":999.99},{"$f":"'Races, Positions & Points'!M76","v":999.99},null,{"$f":"'Points Calculation'!BA74","v":0},{"$f":"'Points Calculation'!BB74","v":0},{"$f":"'Points Calculation'!BC74","v":0},{"$f":"'Points Calculation'!BD74","v":0},{"$f":"'Points Calculation'!BE74","v":0},{"$f":"'Points Calculation'!BF74","v":0},null,{"$f":"J76+L76+N76","v":0},{"$f":"K76+M76+O76","v":0},{"$f":"Q76+R76","v":0},null,0,0,0,0,0,0,null,0,0,0]
[{"$f":"'Races, Positions & Points'!A77","v":"Joe Bird"},{"$f":"'Races, Positions & Points'!B77","v":"M"},{"$f":"'Races, Positions & Points'!C77","v":1994},{"$f":"'Races, Positions & Points'!D77","v":"U21"},{"$f":"'Races, Positions & Points'!E77","v":21714},{"$f":"'Races, Positions & Points'!G77","v":999.99},{"$f":"'Races, Positions & Points'!L77","v":{"$error":"#N/A"}},{"$f":"'Races, Positions & Points'!M77","v":{"$error":"#N/A"}},null,{"$f":"'Points Calculation'!BA75","v":0},{"$f":"'Points Calculation'!BB75","v":0},{"$f":"'Points Calculation'!BC75","v":0},{"$f":"'Points Calculation'!BD75","v":0},{"$f":"'Points Calculation'!BE75","v":0},{"$f":"'Points Calculation'!BF75","v":0},null,0,0,0,null,0,0,0,0,0,0,null,0,0,0]
[{"$f":"'Races, Positions & Points'!A78","v":"Jake Heard"},{"$f":"'Races, Positions & Points'!B78","v":"M"},{"$f":"'Races, Positions & Points'!C78","v":1998},{"$f":"'Races, Positions & Points'!D78","v":"U18"},{"$f":"'Races, Positions & Points'!E78","v":21075},{"$f":"'Races, Positions & Points'!G78","v":999.99},{"$f":"'Races, Positions & Points'!L78","v":999.99},{"$f":"'Races, Positions & Points'!M78","v":999.99},null,{"$f":"'Points Calculation'!BA76","v":0},{"$f":"'Points Calculation'!BB76","v":0},{"$f":"'Points Calculation'!BC76","v":0},{"$f":"'Points Calculation'!BD76","v":0},{"$f":"'Points Calculation'!BE76","v":0},{"$f":"'Points Calculation'!BF76","v":0},null,{"$f":"J78+L78+N78","v":0},{"$f":"K78+M78+O78","v":0},{"$f":"Q78+R78","v":0},null,0,2,0,0,0,0,null,0,2,2]
[{"$f":"'Races, Positions & Points'!A79","v":"James Care"},{"$f":"'Races, Positions & Points'!B79","v":"M"},{"$f":"'Races, Positions & Points'!C79","v":2002},{"$f":"'Races, Positions & Points'!D79","v":"U14"},{"$f":"'Races, Positions & Points'!E79","v":20590},{"$f":"'Races, Positions & Points'!G79","v":999.99},{"$f":"'Races, Positions & Points'!L79","v":398.04},{"$f":"'Races, Positions & Points'!M79","v":999.99},null,{"$f":"'Points Calculation'!BA77","v":0},{"$f":"'Points Calculation'!BB77","v":2},{"$f":"'Points Calculation'!BC77","v":0},{"$f":"'Points Calculation'!BD77","v":0},{"$f":"'Points Calculation'!BE77","v":0},{"$f":"'Points Calculation'!BF77","v":0},null,0,2,2,null,0,2,0,0,0,0,null,0,2,2]
[{"$f":"'Races, Positions & Points'!A80","v":"Seamus O'Brien"},{"$f":"'Races, Positions & Points'!B80","v":"M"},{"$f":"'Races, Positions & Points'!C80","v":2002},{"$f":"'Races, Positions & Points'!D80","v":"U14"},{"$f":"'Races, Positions & Points'!E80","v":19737},{"$f":"'Races, Positions & Points'!G80","v":999.99},{"$f":"'Races, Positions & Points'!L80","v":999.99},{"$f":"'Races, Positions & Points'!M80","v":122.26},null,{"$f":"'Points Calculation'!BA78","v":0},{"$f":"'Points Calculation'!BB78","v":0},{"$f":"'Points Calculation'!BC78","v":4},{"$f":"'Points Calculation'!BD78","v":0},{"$f":"'Points Calculation'!BE78","v":2},{"$f":"'Points Calculation'!BF78","v":0},null,6,0,6,null,3,0,3,0,1,0,null,7,0,7]
[{"$f":"'Races, Positions & Points'!A81","v":"Matthew Treuge"},{"$f":"'Races, Positions & Points'!B81","v":"M"},{"$f":"'Races, Positions & Points'!C81","v":2002},{"$f":"'Races, Positions & Points'!D81","v":"U14"},{"$f":"'Races, Positions & Points'!E81","v":20670},{"$f":"'Races, Positions & Points'!G81","v":999.99},{"$f":"'Races, Positions & Points'!L81","v":999.99},{"$f":"'Races, Positions & Points'!M81","v":999.99},null,{"$f":"'Points Calculation'!BA79","v":0},{"$f":"'Points Calculation'!BB79","v":1},{"$f":"'Points Calculation'!BC79","v":0},{"$f":"'Points Calculation'!BD79","v":0},{"$f":"'Points Calculation'!BE79","v":0},{"$f":"'Points Calculation'!BF79","v":0},null,0,1,1,null,0,1,0,0,0,1,null,0,2,2]
[{"$f":"'Races, Positions & Points'!A82","v":"JJ Frost"},{"$f":"'Races, Positions & Points'!B82","v":"M"},{"$f":"'Races, Positions & Points'!C82","v":1993},{"$f":"'Races, Positions & Points'!D82","v":"SEN"},{"$f":"'Races, Positions & Points'!E82","v":20676},{"$f":"'Races, Positions & Points'!G82","v":"NR"},{"$f":"'Races, Positions & Points'!H82","v":"NR"},{"$f":"'Races, Positions & Points'!I82","v":"NR"},null,{"$f":"'Points Calculation'!BA80","v":0},{"$f":"'Points Calculation'!BB80","v":0},{"$f":"'Points Calculation'!BC80","v":0},{"$f":"'Points Calculation'!BD80","v":0},{"$f":"'Points Calculation'!BE80","v":0},{"$f":"'Points Calculation'!BF80","v":0},null,0,0,0,null,0,0,0,0,0,0,null,0,0,0]
[{"$f":"'Races, Positions & Points'!A83","v":"Ben Hall"},{"$f":"'Races, Positions & Points'!B83","v":"M"},{"$f":"'Races, Positions & Points'!C83","v":1994},{"$f":"'Races, Positions & Points'!D83","v":"U21"},{"$f":"'Races, Positions & Points'!E83","v":21130},{"$f":"'Races, Positions & Points'!G83","v":"NR"},{"$f":"'Races, Positions & Points'!H83","v":"NR"},{"$f":"'Races, Positions & Points'!I83","v":"NR"},null,{"$f":"'Points Calculation'!BA81","v":0},{"$f":"'Points Calculation'!BB81","v":0},{"$f":"'Points Calculation'!BC81","v":0},{"$f":"'Points Calculation'!BD81","v":0},{"$f":"'Points Calculation'!BE81","v":0},{"$f":"'Points Calculation'!BF81","v":0},null,0,0,0,null,0,0,0,0,0,0,null,0,0,0]
[{"$f":"'Races, Positions & Points'!A84","v":"Matthew Waller"},{"$f":"'Races, Positions & Points'!B84","v":"M"},{"$f":"'Races, Positions & Points'!C84","v":1999},{"$f":"'Races, Positions & Points'!D84","v":"U16"},{"$f":"'Races, Positions & Points'!E84","v":17958},{"$f":"'Races, Positions & Points'!G84","v":"NR"},{"$f":"'Races, Positions & Points'!H84","v":"NR"},{"$f":"'Races, Positions & Points'!I84","v":"NR"},null,{"$f":"'Points Calculation'!BA82","v":0},{"$f":"'Points Calculation'!BB82","v":0},{"$f":"'Points Calculation'!BC82","v":0},{"$f":"'Points Calculation'!BD82","v":0},{"$f":"'Points Calculation'!BE82","v":0},{"$f":"'Points Calculation'!BF82","v":0},null,null,null,null,null,0,0,0,0,0,0,null,0,0,0]
[{"$f":"'Races, Positions & Points'!A85","v":"Patrick Kelly"},{"$f":"'Races, Positions & Points'!B85","v":"M"},{"$f":"'Races, Positions & Points'!C85","v":2000},{"$f":"'Races, Positions & Points'!D85","v":"U16"},{"$f":"'Races, Positions & Points'!E85","v":"Day"},{"$f":"'Races, Positions & Points'!G85","v":"NR"},{"$f":"'Races, Positions & Points'!H85","v":"NR"},{"$f":"'Races, Positions & Points'!I85","v":"NR"},null,{"$f":"'Points Calculation'!BA82","v":0},{"$f":"'Points Calculation'!BB82","v":0},{"$f":"'Points Calculation'!BC82","v":0},{"$f":"'Points Calculation'!BD82","v":0},{"$f":"'Points Calculation'!BE82","v":0},{"$f":"'Points Calculation'!BF82","v":0},null,{"$f":"J85+L85+N85","v":0},{"$f":"K85+M85+O85","v":0},{"$f":"Q85+R85","v":0},null,null,null,null,null,null,null,null,{"$f":"U85+W85+Y85","v":0},{"$f":"V85+X85+Z85","v":0},{"$f":"AB85+AC85","v":0}]
[{"$f":"'Races, Positions & Points'!A86","v":"Macaulay Clover"},{"$f":"'Races, Positions & Points'!B86","v":"M"},{"$f":"'Races, Positions & Points'!C86","v":2002},{"$f":"'Races, Positions & Points'!D86","v":"U14"},{"$f":"'Races, Positions & Points'!E86","v":"Day"},{"$f":"'Races, Positions & Points'!G86","v":"NR"},{"$f":"'Races, Positions & Points'!H86","v":"NR"},{"$f":"'Races, Positions & Points'!I86","v":"NR"},null,{"$f":"'Points Calculation'!BA83","v":0},{"$f":"'Points Calculation'!BB83","v":0},{"$f":"'Points Calculation'!BC83","v":0},{"$f":"'Points Calculation'!BD83","v":0},{"$f":"'Points Calculation'!BE83","v":0},{"$f":"'Points Calculation'!BF83","v":0},null,{"$f":"J86+L86+N86","v":0},{"$f":"K86+M86+O86","v":0},{"$f":"Q86+R86","v":0},null,null,null,null,null,null,null,null,0,0,0]
[]
[]
["TOTALS  (racers starting at least one race):"]
["registered SKIERS",null,null,null,null,null,null,null,null,{"$f":"COUNTIFS(J8:J86,\">0\",$G8:$G86,\">0\")","v":0},35,15,20,9,16,null,{"$f":"COUNTIFS(Q8:Q86,\">0\",$G8:$G86,\">0\")","v":16},{"$f":"COUNTIFS(R8:R86,\">0\",$G8:$G86,\">0\")","v":35},{"$f":"COUNTIFS(S8:S86,\">0\",$G8:$G86,\">0\")","v":39},null,null,{"$f":"COUNTIFS(V8:V86,\">0\",$G8:$G86,\">0\")","v":37},{"$f":"COUNTIFS(W8:W86,\">0\",$G8:$G86,\">0\")","v":11},{"$f":"COUNTIFS(X8:X86,\">0\",$G8:$G86,\">0\")","v":22},{"$f":"COUNTIFS(Y8:Y86,\">0\",$G8:$G86,\">0\")","v":14},{"$f":"COUNTIFS(Z8:Z86,\">0\",$G8:$G86,\">0\")","v":23},null,{"$f":"COUNTIFS(AB8:AB86,\">0\",$G8:$G86,\">0\")","v":24},{"$f":"COUNTIFS(AC8:AC86,\">0\",$G8:$G86,\">0\")","v":38},{"$f":"COUNTIFS(AD8:AD86,\">0\",$G8:$G86,\">0\")","v":44}]
["registered STARTS",null,null,null,null,null,null,null,null,{"$f":"SUMIFS(J8:J86,J8:J86,\">0\",$G8:$G86,\">0\")","v":0},125,56,84,23,34,null,{"$f":"SUMIFS(Q8:Q86,Q8:Q86,\">0\",$G8:$G86,\">0\")","v":79},{"$f":"SUMIFS(R8:R86,R8:R86,\">0\",$G8:$G86,\">0\")","v":243},{"$f":"SUMIFS(S8:S86,S8:S86,\">0\",$G8:$G86,\">0\")","v":322},null,null,{"$f":"SUMIFS(V8:V86,V8:V86,\">0\",$G8:$G86,\">0\")","v":145},{"$f":"SUMIFS(W8:W86,W8:W86,\">0\",$G8:$G86,\">0\")","v":29},{"$f":"SUMIFS(X8:X86,X8:X86,\">0\",$G8:$G86,\">0\")","v":89},{"$f":"SUMIFS(Y8:Y86,Y8:Y86,\">0\",$G8:$G86,\">0\")","v":26},{"$f":"SUMIFS(Z8:Z86,Z8:Z86,\">0\",$G8:$G86,\">0\")","v":60},null,{"$f":"SUMIFS(AB8:AB86,AB8:AB86,\">0\",$G8:$G86,\">0\")","v":98},{"$f":"SUMIFS(AC8:AC86,AC8:AC86,\">0\",$G8:$G86,\">0\")","v":294},{"$f":"SUMIFS(AD8:AD86,AD8:AD86,\">0\",$G8:$G86,\">0\")","v":392}]
[]
["non-registered SKIERS",null,null,null,null,null,null,null,null,{"$f":"COUNTIFS(J8:J86,\">0\",$G8:$G86,\"=NR\")","v":0},1,0,1,0,0,null,{"$f":"COUNTIFS(Q8:Q86,\">0\",$G8:$G86,\"=NR\")","v":0},{"$f":"COUNTIFS(R8:R86,\">0\",$G8:$G86,\"=NR\")","v":1},{"$f":"COUNTIFS(S8:S86,\">0\",$G8:$G86,\"=NR\")","v":1},null,null,{"$f":"COUNTIFS(V8:V86,\">0\",$G8:$G86,\"=NR\")","v":1},{"$f":"COUNTIFS(W8:W86,\">0\",$G8:$G86,\"=NR\")","v":0},{"$f":"COUNTIFS(X8:X86,\">0\",$G8:$G86,\"=NR\")","v":0},{"$f":"COUNTIFS(Y8:Y86,\">0\",$G8:$G86,\"=NR\")","v":0},{"$f":"COUNTIFS(Z8:Z86,\">0\",$G8:$G86,\"=NR\")","v":0},null,{"$f":"COUNTIFS(AB8:AB86,\">0\",$G8:$G86,\"=NR\")","v":0},{"$f":"COUNTIFS(AC8:AC86,\">0\",$G8:$G86,\"=NR\")","v":1},{"$f":"COUNTIFS(AD8:AD86,\">0\",$G8:$G86,\"=NR\")","v":1}]
["non-registered STARTS",null,null,null,null,null,null,null,null,{"$f":"SUMIFS(J8:J86,J8:J86,\">0\",$G8:$G86,\"=NR\")","v":0},1,0,1,0,0,null,{"$f":"SUMIFS(Q8:Q86,Q8:Q86,\">0\",$G8:$G86,\"=NR\")","v":0},{"$f":"SUMIFS(R8:R86,R8:R86,\">0\",$G8:$G86,\"=NR\")","v":2},{"$f":"SUMIFS(S8:S86,S8:S86,\">0\",$G8:$G86,\"=NR\")","v":2},null,null,{"$f":"SUMIFS(V8:V86,V8:V86,\">0\",$G8:$G86,\"=NR\")","v":1},{"$f":"SUMIFS(W8:W86,W8:W86,\">0\",$G8:$G86,\"=NR\")","v":0},{"$f":"SUMIFS(X8:X86,X8:X86,\">0\",$G8:$G86,\"=NR\")","v":0},{"$f":"SUMIFS(Y8:Y86,Y8:Y86,\">0\",$G8:$G86,\"=NR\")","v":0},{"$f":"SUMIFS(Z8:Z86,Z8:Z86,\">0\",$G8:$G86,\"=NR\")","v":0},null,{"$f":"SUMIFS(AB8:AB86,AB8:AB86,\">0\",$G8:$G86,\"=NR\")","v":0},{"$f":"SUMIFS(AC8:AC86,AC8:AC86,\">0\",$G8:$G86,\"=NR\")","v":1},{"$f":"SUMIFS(AD8:AD86,AD8:AD86,\">0\",$G8:$G86,\"=NR\")","v":1}]

{"sheet":"Points Calculation","index":5,"n_rows":83,"n_cols":116,"rows_kept":83,"cut":false,"hidden":true,"merged":[[1,61,1,68],[1,70,1,77],[1,101,1,104],[1,96,1,99]]}
["Race",{"$f":"'Races, Positions & Points'!Z2","v":"Excel"},{"$f":"'Races, Positions & Points'!AC2","v":"BUISC"},{"$f":"'Races, Positions & Points'!AE2","v":"SSW Champery"},{"$f":"'Races, Positions & Points'!AH2","v":"Telford CN"},{"$f":"'Races, Positions & Points'!AH2","v":"Telford CN"},{"$f":"'Races, Positions & Points'!AL2","v":"Manchester CN"},{"$f":"'Races, Positions & Points'!AL2","v":"Manchester CN"},{"$f":"'Races, Positions & Points'!AP2","v":"Pendle CN"},{"$f":"'Races, Positions & Points'!AS2","v":"GBR Outdoor #1"},{"$f":"'Races, Positions & Points'!AV2","v":"GBR Indoor #1"},{"$f":"'Races, Positions & Points'!AY2","v":"GBR Indoor #2"},{"$f":"'Races, Positions & Points'!BB2","v":"GBR Outdoor #2"},{"$f":"'Races, Positions & Points'!BE2","v":"GBR Outdoor #3"},{"$f":"'Races, Positions & Points'!BH2","v":"GBR Outdoor #4"},{"$f":"'Races, Positions & Points'!BK2","v":"Ravens"},{"$f":"'Races, Positions & Points'!BN2","v":"Twin Peaks 1"},{"$f":"'Races, Positions & Points'!BQ2","v":"GBR Outdoor #5"},{"$f":"'Races, Positions & Points'!BT2","v":"Twin Peaks 2"},{"$f":"'Races, Positions & Points'!BW2","v":"GBR Indoor #3"},{"$f":"'Races, Positions & Points'!BZ2","v":"Bromley CN"},{"$f":"'Races, Positions & Points'!CC2","v":"Scottish Indoor"},{"$f":"'Races, Positions & Points'!CF2","v":"Hemel CN"},{"$f":"'Races, Positions & Points'!CF2","v":"Hemel CN"},{"$f":"'Races, Positions & Points'!CJ2","v":"Norfolk CN"},{"$f":"'Races, Positions & Points'!CM2","v":"GBR Indoor #4"},{"$f":"'Races, Positions & Points'!CP2","v":"Suffolk CN"},{"$f":"'Races, Positions & Points'!CS2","v":"Midland CN"},{"$f":"'Races, Positions & Points'!CV2","v":"Gloucester CN"},{"$f":"'Races, Positions & Points'!CY2","v":"Welwyn CN"},{"$f":"'Races, Positions & Points'!DB2","v":"GBR Outdoor #6"},{"$f":"'Races, Positions & Points'!DE2","v":"GBR Indoor #5"},{"$f":"'Races, Positions & Points'!DH2","v":"GBR Indoor #6"},{"$f":"'Races, Positions & Points'!DK2","v":"BIGP #3"},{"$f":"'Races, Positions & Points'!DN2","v":"BIGP #4"},{"$f":"'Races, Positions & Points'!DQ2","v":"Snowsport South CN"},{"$f":"'Races, Positions & Points'!DT2","v":"BIGP #5"},{"$f":"'Races, Positions & Points'!DW2","v":"BIGP #6"},{"$f":"'Races, Positions & Points'!DZ2","v":"Scottish Champs"},{"$f":"'Races, Positions & Points'!EC2","v":"Scottish GS"},{"$f":"'Races, Positions & Points'!EE2","v":"All England"},{"$f":"'Races, Positions & Points'!EH2","v":"Anglo Welsh Indoor"},{"$f":"'Races, Positions & Points'!EK2","v":"British Indoor"},{"$f":"'Races, Positions & Points'!EN2","v":"Welsh "},{"$f":"'Races, Positions & Points'!EQ2","v":"British"},{"$f":"'Races, Positions & Points'!ET2","v":"Craig McFie Classic"},{"$f":"'Races, Positions & Points'!EW2","v":"BARSC Indoor"},{"$f":"'Races, Positions & Points'!EZ2","v":"Irish Champs"},{"$f":"'Races, Positions & Points'!FC2","v":"Irish Champs"},{"$f":"'Races, Positions & Points'!FF2","v":"Bairns/Lassies"},{"$f":"'Races, Positions & Points'!FH2","v":"BUDS"},null,"CN/10pt In","CN/10 pt Out","GBR In","GBR Out","Ch In","Ch Out",null,"Registration Number","Start of Year Points","Best Race Points","Second Best Race Points","Points Calc Based on Best Two Races","Points Based on Best Result and start of year","Points Calc Based on Best Race Plus 20% Loading","Points","End of Season Maximum","Projected End of Season Points",null,"Best Race Points","Second Best Race Points","Points Calc Based on Best Two Races","Points Based on Best Result and start of year","Points Calc Based on Best Race Plus 20% Loading","Points","End of Season Maximum","Projected End of Season Points",null,"min Castleford","min CF","min Braehead","min Hemel","min Pontypool","min glos","min Pendle","min FirPark","min Hillend","min Sunderland","min Bromley","min Norfolk","min Ipswich","min welwyn","min Southampton","min Dublin",null,"Best Race Points (0/5pt races)","Second Best Race Points  (0/5pt races)","Points Calc Based on Best Two Races  (0/5pt races)","Points Calc Based on Best Race Plus 20% Loading  (0/5pt races)",null,"Best Race Points (0/5pt races)","Second Best Race Points  (0/5pt races)","Points Calc Based on Best Two Races  (0/5pt races)","Points Calc Based on Best Race Plus 20% Loading  (0/5pt races)",null,"min Castleford  (0/5pt races)","min CF  (0/5pt races)","min Braehead  (0/5pt races)","min Pontypool  (0/5pt races)","min glos  (0/5pt races)","min Pendle  (0/5pt races)","min Hillend  (0/5pt races)","min Sunderland  (0/5pt races)","min Norfolk  (0/5pt races)","min Dublin  (0/5pt races)"]
["Venue",{"$f":"'Races, Positions & Points'!Z3","v":"Pontypool"},{"$f":"'Races, Positions & Points'!AC3","v":"Castleford"},{"$f":"'Races, Positions & Points'!AE3","v":"Gloucester"},{"$f":"'Races, Positions & Points'!AH3","v":"Chill Factore"},{"$f":"'Races, Positions & Points'!AH3","v":"Chill Factore"},{"$f":"'Races, Positions & Points'!AL3","v":"Chill Factore"},{"$f":"'Races, Positions & Points'!AL3","v":"Chill Factore"},{"$f":"'Races, Positions & Points'!AP3","v":"Pendle"},{"$f":"'Races, Positions & Points'!AS3","v":"Pendle"},{"$f":"'Races, Positions & Points'!AV3","v":"Castleford"},{"$f":"'Races, Positions & Points'!AY3","v":"Castleford"},{"$f":"'Races, Positions & Points'!BB3","v":"Pontypool"},{"$f":"'Races, Positions & Points'!BE3","v":"Pontypool"},{"$f":"'Races, Positions & Points'!BH3","v":"Gloucester"},{"$f":"'Races, Positions & Points'!BK3","v":"Sunderland"},{"$f":"'Races, Positions & Points'!BN3","v":"Firpark"},{"$f":"'Races, Positions & Points'!BQ3","v":"Sunderland"},{"$f":"'Races, Positions & Points'!BT3","v":"HillEnd"},{"$f":"'Races, Positions & Points'!BW3","v":"Braehead"},{"$f":"'Races, Positions & Points'!BZ3","v":"Bromley "},{"$f":"'Races, Positions & Points'!CC3","v":"Breahead"},{"$f":"'Races, Positions & Points'!CF3","v":"Snow Centre"},{"$f":"'Races, Positions & Points'!CF3","v":"Snow Centre"},{"$f":"'Races, Positions & Points'!CJ3","v":"Norwich"},{"$f":"'Races, Positions & Points'!CM3","v":"Chill Factore"},{"$f":"'Races, Positions & Points'!CP3","v":"Ipswich"},{"$f":"'Races, Positions & Points'!CS3","v":"Gloucester"},{"$f":"'Races, Positions & Points'!CV3","v":"Gloucester"},{"$f":"'Races, Positions & Points'!CY3","v":"Welwyn CN"},{"$f":"'Races, Positions & Points'!DB3","v":"Gloucester"},{"$f":"'Races, Positions & Points'!DE3","v":"Chill Factore"},{"$f":"'Races, Positions & Points'!DH3","v":"Chill Factore"},{"$f":"'Races, Positions & Points'!DK3","v":"Castleford"},{"$f":"'Races, Positions & Points'!DN3","v":"Castleford"},{"$f":"'Races, Positions & Points'!DQ3","v":"Southampton"},{"$f":"'Races, Positions & Points'!DT3","v":"Castleford"},{"$f":"'Races, Positions & Points'!DW3","v":"Castleford"},{"$f":"'Races, Positions & Points'!DZ3","v":"HillEnd"},{"$f":"'Races, Positions & Points'!EC3","v":"HillEnd"},{"$f":"'Races, Positions & Points'!EE3","v":"Norwich"},{"$f":"'Races, Positions & Points'!EH3","v":"Chill Factore"},{"$f":"'Races, Positions & Points'!EK3","v":"Chill Factore"},{"$f":"'Races, Positions & Points'!EN3","v":"Pontypool"},{"$f":"'Races, Positions & Points'!EQ3","v":"Pontypool"},{"$f":"'Races, Positions & Points'!ET3","v":"HillEnd"},{"$f":"'Races, Positions & Points'!EW3","v":"Chill Factore"},{"$f":"'Races, Positions & Points'!EZ3","v":"Kilternan"},{"$f":"'Races, Positions & Points'!FC3","v":"Kilternan"},{"$f":"'Races, Positions & Points'!FF3","v":"HillEnd"},{"$f":"'Races, Positions & Points'!FH3","v":"HillEnd"},null,null,null,null,null,null,null,null,null,null,"Outdoor",null,null,null,null,null,null,null,null,"Indoor",null,null,null,null,null,null,null,null,null,null,null,null,null,null,null,null,null,null,null,null,null,null,null,null,null,"Outdoor",null,null,null,null,"Indoor"]
["Min Penalty",{"$f":"'Races, Positions & Points'!Z4","v":40},{"$f":"'Races, Positions & Points'!AC4","v":5},{"$f":"'Races, Positions & Points'!AE4","v":5},{"$f":"'Races, Positions & Points'!AH4","v":10},{"$f":"'Races, Positions & Points'!AH4","v":10},{"$f":"'Races, Positions & Points'!AL4","v":10},{"$f":"'Races, Positions & Points'!AL4","v":10},{"$f":"'Races, Positions & Points'!AP4","v":10},{"$f":"'Races, Positions & Points'!AS4","v":5},{"$f":"'Races, Positions & Points'!AV4","v":5},{"$f":"'Races, Positions & Points'!AY4","v":5},{"$f":"'Races, Positions & Points'!BB4","v":5},{"$f":"'Races, Positions & Points'!BE4","v":5},{"$f":"'Races, Positions & Points'!BH4","v":5},{"$f":"'Races, Positions & Points'!BK4","v":10},{"$f":"'Races, Positions & Points'!BN4","v":10},{"$f":"'Races, Positions & Points'!BQ4","v":5},{"$f":"'Races, Positions & Points'!BT4","v":10},{"$f":"'Races, Positions & Points'!BW4","v":5},{"$f":"'Races, Positions & Points'!BZ4","v":10},{"$f":"'Races, Positions & Points'!CC4","v":0},{"$f":"'Races, Positions & Points'!CF4","v":10},{"$f":"'Races, Positions & Points'!CF4","v":10},{"$f":"'Races, Positions & Points'!CJ4","v":10},{"$f":"'Races, Positions & Points'!CM4","v":5},{"$f":"'Races, Positions & Points'!CP4","v":10},{"$f":"'Races, Positions & Points'!CS4","v":10},{"$f":"'Races, Positions & Points'!CV4","v":10},{"$f":"'Races, Positions & Points'!CY4","v":10},{"$f":"'Races, Positions & Points'!DB4","v":5},{"$f":"'Races, Positions & Points'!DE4","v":5},{"$f":"'Races, Positions & Points'!DH4","v":5},{"$f":"'Races, Positions & Points'!DK4","v":5},{"$f":"'Races, Positions & Points'!DN4","v":5},{"$f":"'Races, Positions & Points'!DQ4","v":10},{"$f":"'Races, Positions & Points'!DT4","v":5},{"$f":"'Races, Positions & Points'!DW4","v":5},{"$f":"'Races, Positions & Points'!DZ4","v":0},{"$f":"'Races, Positions & Points'!EC4","v":0},{"$f":"'Races, Positions & Points'!EE4","v":0},{"$f":"'Races, Positions & Points'!EH4","v":0},{"$f":"'Races, Positions & Points'!EK4","v":0},{"$f":"'Races, Positions & Points'!EN4","v":0},{"$f":"'Races, Positions & Points'!EQ4","v":0},{"$f":"'Races, Positions & Points'!ET4","v":10},{"$f":"'Races, Positions & Points'!EW4","v":0},{"$f":"'Races, Positions & Points'!EZ4","v":0},{"$f":"'Races, Positions & Points'!FC4","v":0},{"$f":"'Races, Positions & Points'!FF4","v":0},{"$f":"'Races, Positions & Points'!FH4","v":0}]
["Type",{"$f":"'Races, Positions & Points'!AB4","v":"Out"},{"$f":"'Races, Positions & Points'!AD4","v":"In"},{"$f":"'Races, Positions & Points'!AG4","v":"Out"},{"$f":"'Races, Positions & Points'!AJ4","v":0},{"$f":"'Races, Positions & Points'!AJ4","v":0},{"$f":"'Races, Positions & Points'!AN4","v":0},{"$f":"'Races, Positions & Points'!AN4","v":0},{"$f":"'Races, Positions & Points'!AR4","v":"Out"},{"$f":"'Races, Positions & Points'!AU4","v":"Out"},{"$f":"'Races, Positions & Points'!AX4","v":"In"},{"$f":"'Races, Positions & Points'!BA4","v":"In"},{"$f":"'Races, Positions & Points'!BD4","v":"Out"},{"$f":"'Races, Positions & Points'!BG4","v":"Out"},{"$f":"'Races, Positions & Points'!BJ4","v":"Out"},{"$f":"'Races, Positions & Points'!BM4","v":"Out"},{"$f":"'Races, Positions & Points'!BP4","v":"Out"},{"$f":"'Races, Positions & Points'!BS4","v":"Out"},{"$f":"'Races, Positions & Points'!BV4","v":"Out"},{"$f":"'Races, Positions & Points'!BY4","v":"In"},{"$f":"'Races, Positions & Points'!CB4","v":"Out"},{"$f":"'Races, Positions & Points'!CE4","v":"In"},{"$f":"'Races, Positions & Points'!CH4","v":0},{"$f":"'Races, Positions & Points'!CH4","v":0},{"$f":"'Races, Positions & Points'!CL4","v":"Out"},{"$f":"'Races, Positions & Points'!CO4","v":"In"},{"$f":"'Races, Positions & Points'!CR4","v":"Out"},{"$f":"'Races, Positions & Points'!CU4","v":"Out"},{"$f":"'Races, Positions & Points'!CX4","v":"Out"},{"$f":"'Races, Positions & Points'!DA4","v":"Out"},{"$f":"'Races, Positions & Points'!DD4","v":"Out"},{"$f":"'Races, Positions & Points'!DG4","v":"In"},{"$f":"'Races, Positions & Points'!DJ4","v":"In"},{"$f":"'Races, Positions & Points'!DM4","v":"In"},{"$f":"'Races, Positions & Points'!DP4","v":"In"},{"$f":"'Races, Positions & Points'!DS4","v":"Out"},{"$f":"'Races, Positions & Points'!DV4","v":"In"},{"$f":"'Races, Positions & Points'!DY4","v":"In"},{"$f":"'Races, Positions & Points'!EB4","v":"Out"},{"$f":"'Races, Positions & Points'!EE4","v":0},{"$f":"'Races, Positions & Points'!EG4","v":"Out"},{"$f":"'Races, Positions & Points'!EJ4","v":"In"},{"$f":"'Races, Positions & Points'!EM4","v":"In"},{"$f":"'Races, Positions & Points'!EP4","v":"Out"},{"$f":"'Races, Positions & Points'!ES4","v":"Out"},{"$f":"'Races, Positions & Points'!EV4","v":"Out"},{"$f":"'Races, Positions & Points'!EY4","v":"In"},{"$f":"'Races, Positions & Points'!FB4","v":"Out"},{"$f":"'Races, Positions & Points'!FE4","v":"Out"},{"$f":"'Races, Positions & Points'!FH4","v":0},{"$f":"'Races, Positions & Points'!FI4","v":"Out"}]
["Separate Event?","Y","Y","Y","Y","N","Y","N","Y","Y","Y","Y","Y","Y","Y","Y","Y","Y","Y","Y","Y","Y","Y","N","Y","Y","Y","Y","Y","Y","Y","Y","Y","Y","Y","Y","Y","Y","Y","Y","Y","Y","Y","Y","Y","Y","Y","Y","Y","Y","Y"]
[]
[]
[{"$f":"'Races, Positions & Points'!A8","v":"Lauren Treuge"},{"$f":"IF('Races, Positions & Points'!AB8=\"\",\"\",'Races, Positions & Points'!AB8)","v":""},{"$f":"IF('Races, Positions & Points'!AD8=\"\",\"\",'Races, Positions & Points'!AD8)","v":""},{"$f":"IF('Races, Positions & Points'!AG8=\"\",\"\",'Races, Positions & Points'!AG8)","v":""},{"$f":"IF('Races, Positions & Points'!AJ8=\"\",\"\",'Races, Positions & Points'!AJ8)","v":""},{"$f":"IF('Races, Positions & Points'!AK8=\"\",\"\",'Races, Positions & Points'!AK8)","v":""},{"$f":"IF('Races, Positions & Points'!AN8=\"\",\"\",'Races, Positions & Points'!AN8)","v":""},{"$f":"IF('Races, Positions & Points'!AO8=\"\",\"\",'Races, Positions & Points'!AO8)","v":""},{"$f":"IF('Races, Positions & Points'!AR8=\"\",\"\",'Races, Positions & Points'!AR8)","v":""},{"$f":"IF('Races, Positions & Points'!AU8=\"\",\"\",'Races, Positions & Points'!AU8)","v":""},{"$f":"IF('Races, Positions & Points'!AX8=\"\",\"\",'Races, Positions & Points'!AX8)","v":""},{"$f":"IF('Races, Positions & Points'!BA8=\"\",\"\",'Races, Positions & Points'!BA8)","v":""},{"$f":"IF('Races, Positions & Points'!BD8=\"\",\"\",'Races, Positions & Points'!BD8)","v":""},{"$f":"IF('Races, Positions & Points'!BG8=\"\",\"\",'Races, Positions & Points'!BG8)","v":""},{"$f":"IF('Races, Positions & Points'!BJ8=\"\",\"\",'Races, Positions & Points'!BJ8)","v":""},{"$f":"IF('Races, Positions & Points'!BM8=\"\",\"\",'Races, Positions & Points'!BM8)","v":""},{"$f":"IF('Races, Positions & Points'!BP8=\"\",\"\",'Races, Positions & Points'!BP8)","v":""},{"$f":"IF('Races, Positions & Points'!BS8=\"\",\"\",'Races, Positions & Points'!BS8)","v":""},{"$f":"IF('Races, Positions & Points'!BV8=\"\",\"\",'Races, Positions & Points'!BV8)","v":""},{"$f":"IF('Races, Positions & Points'!BY8=\"\",\"\",'Races, Positions & Points'!BY8)","v":""},{"$f":"IF('Races, Positions & Points'!CB8=\"\",\"\",'Races, Positions & Points'!CB8)","v":""},{"$f":"IF('Races, Positions & Points'!CE8=\"\",\"\",'Races, Positions & Points'!CE8)","v":""},{"$f":"IF('Races, Positions & Points'!CH8=\"\",\"\",'Races, Positions & Points'!CH8)","v":""},{"$f":"IF('Races, Positions & Points'!CI8=\"\",\"\",'Races, Positions & Points'!CI8)","v":""},{"$f":"IF('Races, Positions & Points'!CL8=\"\",\"\",'Races, Positions & Points'!CL8)","v":""},{"$f":"IF('Races, Positions & Points'!CO8=\"\",\"\",'Races, Positions & Points'!CO8)","v":""},{"$f":"IF('Races, Positions & Points'!CR8=\"\",\"\",'Races, Positions & Points'!CR8)","v":""},{"$f":"IF('Races, Positions & Points'!CU8=\"\",\"\",'Races, Positions & Points'!CU8)","v":999.99},{"$f":"IF('Races, Positions & Points'!CX8=\"\",\"\",'Races, Positions & Points'!CX8)","v":999.99},{"$f":"IF('Races, Positions & Points'!DA8=\"\",\"\",'Races, Positions & Points'!DA8)","v":""},{"$f":"IF('Races, Positions & Points'!DD8=\"\",\"\",'Races, Positions & Points'!DD8)","v":""},{"$f":"IF('Races, Positions & Points'!DG8=\"\",\"\",'Races, Positions & Points'!DG8)","v":""},{"$f":"IF('Races, Positions & Points'!DJ8=\"\",\"\",'Races, Positions & Points'!DJ8)","v":""},{"$f":"IF('Races, Positions & Points'!DM8=\"\",\"\",'Races, Positions & Points'!DM8)","v":""},{"$f":"IF('Races, Positions & Points'!DP8=\"\",\"\",'Races, Positions & Points'!DP8)","v":""},{"$f":"IF('Races, Positions & Points'!DS8=\"\",\"\",'Races, Positions & Points'!DS8)","v":""},{"$f":"IF('Races, Positions & Points'!DV8=\"\",\"\",'Races, Positions & Points'!DV8)","v":""},{"$f":"IF('Races, Positions & Points'!DY8=\"\",\"\",'Races, Positions & Points'!DY8)","v":""},{"$f":"IF('Races, Positions & Points'!EB8=\"\",\"\",'Races, Positions & Points'!EB8)","v":""},{"$f":"IF('Races, Positions & Points'!EE8=\"\",\"\",'Races, Positions & Points'!EE8)","v":""},{"$f":"IF('Races, Positions & Points'!EG8=\"\",\"\",'Races, Positions & Points'!EG8)","v":""},{"$f":"IF('Races, Positions & Points'!EJ8=\"\",\"\",'Races, Positions & Points'!EJ8)","v":""},{"$f":"IF('Races, Positions & Points'!EM8=\"\",\"\",'Races, Positions & Points'!EM8)","v":""},{"$f":"IF('Races, Positions & Points'!EP8=\"\",\"\",'Races, Positions & Points'!EP8)","v":""},{"$f":"IF('Races, Positions & Points'!ES8=\"\",\"\",'Races, Positions & Points'!ES8)","v":""},{"$f":"IF('Races, Positions & Points'!EV8=\"\",\"\",'Races, Positions & Points'!EV8)","v":""},{"$f":"IF('Races, Positions & Points'!EY8=\"\",\"\",'Races, Positions & Points'!EY8)","v":""},{"$f":"IF('Races, Positions & Points'!FB8=\"\",\"\",'Races, Positions & Points'!FB8)","v":""},{"$f":"IF('Races, Positions & Points'!FE8=\"\",\"\",'Races, Positions & Points'!FE8)","v":""},{"$f":"IF('Races, Positions & Points'!FH8=\"\",\"\",'Races, Positions & Points'!FH8)","v":""},{"$f":"IF('Races, Positions & Points'!FI8=\"\",\"\",'Races, Positions & Points'!FI8)","v":""},null,{"$f":"SUMPRODUCT(--(B$4:AY$4=\"In\"),--(B$3:AY$3>5),--(B$5:AY$5=\"Y\"),--(B8:AY8<>\"\"))","v":0},{"$f":"SUMPRODUCT(--(B$4:AY$4=\"Out\"),--(B$3:AY$3>5),--(B$5:AY$5=\"Y\"),--(B8:AY8<>\"\"))","v":2},{"$f":"SUMPRODUCT(--(B$4:AY$4=\"In\"),--(B$3:AY$3=5),--(B$5:AY$5=\"Y\"),--(B8:AY8<>\"\"))","v":0},{"$f":"SUMPRODUCT(--(B$4:AY$4=\"Out\"),--(B$3:AY$3=5),--(B$5:AY$5=\"Y\"),--(B8:AY8<>\"\"))","v":0},{"$f":"SUMPRODUCT(--(B$4:AY$4=\"In\"),--(B$3:AY$3=0),--(B$5:AY$5=\"Y\"),--(B8:AY8<>\"\"))","v":0},{"$f":"SUMPRODUCT(--(B$4:AY$4=\"Out\"),--(B$3:AY$3=0),--(B$5:AY$5=\"Y\"),--(B8:AY8<>\"\"))","v":0},null,{"$f":"'Races, Positions & Points'!E8","v":20669}]
[{"$f":"'Races, Positions & Points'!A9","v":"Tilley O'Brien"},{"$f":"IF('Races, Positions & Points'!AB9=\"\",\"\",'Races, Positions & Points'!AB9)","v":""},{"$f":"IF('Races, Positions & Points'!AD9=\"\",\"\",'Races, Positions & Points'!AD9)","v":""},{"$f":"IF('Races, Positions & Points'!AG9=\"\",\"\",'Races, Positions & Points'!AG9)","v":""},{"$f":"IF('Races, Positions & Points'!AJ9=\"\",\"\",'Races, Positions & Points'!AJ9)","v":999.99},{"$f":"IF('Races, Positions & Points'!AK9=\"\",\"\",'Races, Positions & Points'!AK9)","v":999.99},{"$f":"IF('Races, Positions & Points'!AN9=\"\",\"\",'Races, Positions & Points'!AN9)","v":999.99},{"$f":"IF('Races, Positions & Points'!AO9=\"\",\"\",'Races, Positions & Points'!AO9)","v":999.99},{"$f":"IF('Races, Positions & Points'!AR9=\"\",\"\",'Races, Positions & Points'!AR9)","v":""},{"$f":"IF('Races, Positions & Points'!AU9=\"\",\"\",'Races, Positions & Points'!AU9)","v":""},{"$f":"IF('Races, Positions & Points'!AX9=\"\",\"\",'Races, Positions & Points'!AX9)","v":999.99},{"$f":"IF('Races, Positions & Points'!BA9=\"\",\"\",'Races, Positions & Points'!BA9)","v":999.99},{"$f":"IF('Races, Positions & Points'!BD9=\"\",\"\",'Races, Positions & Points'!BD9)","v":""},{"$f":"IF('Races, Positions & Points'!BG9=\"\",\"\",'Races, Positions & Points'!BG9)","v":""},{"$f":"IF('Races, Positions & Points'!BJ9=\"\",\"\",'Races, Positions & Points'!BJ9)","v":""},{"$f":"IF('Races, Positions & Points'!BM9=\"\",\"\",'Races, Positions & Points'!BM9)","v":""},{"$f":"IF('Races, Positions & Points'!BP9=\"\",\"\",'Races, Positions & Points'!BP9)","v":""},{"$f":"IF('Races, Positions & Points'!BS9=\"\",\"\",'Races, Positions & Points'!BS9)","v":""},{"$f":"IF('Races, Positions & Points'!BV9=\"\",\"\",'Races, Positions & Points'!BV9)","v":""},{"$f":"IF('Races, Positions & Points'!BY9=\"\",\"\",'Races, Positions & Points'!BY9)","v":""},{"$f":"IF('Races, Positions & Points'!CB9=\"\",\"\",'Races, Positions & Points'!CB9)","v":""},{"$f":"IF('Races, Positions & Points'!CE9=\"\",\"\",'Races, Positions & Points'!CE9)","v":""},{"$f":"IF('Races, Positions & Points'!CH9=\"\",\"\",'Races, Positions & Points'!CH9)","v":999.99},{"$f":"IF('Races, Positions & Points'!CI9=\"\",\"\",'Races, Positions & Points'!CI9)","v":999.99},{"$f":"IF('Races, Positions & Points'!CL9=\"\",\"\",'Races, Positions & Points'!CL9)","v":""},{"$f":"IF('Races, Positions & Points'!CO9=\"\",\"\",'Races, Positions & Points'!CO9)","v":""},{"$f":"IF('Races, Positions & Points'!CR9=\"\",\"\",'Races, Positions & Points'!CR9)","v":""},{"$f":"IF('Races, Positions & Points'!CU9=\"\",\"\",'Races, Positions & Points'!CU9)","v":""},{"$f":"IF('Races, Positions & Points'!CX9=\"\",\"\",'Races, Positions & Points'!CX9)","v":""},{"$f":"IF('Races, Positions & Points'!DA9=\"\",\"\",'Races, Positions & Points'!DA9)","v":""},{"$f":"IF('Races, Positions & Points'!DD9=\"\",\"\",'Races, Positions & Points'!DD9)","v":""},{"$f":"IF('Races, Positions & Points'!DG9=\"\",\"\",'Races, Positions & Points'!DG9)","v":""},{"$f":"IF('Races, Positions & Points'!DJ9=\"\",\"\",'Races, Positions & Points'!DJ9)","v":""},{"$f":"IF('Races, Positions & Points'!DM9=\"\",\"\",'Races, Positions & Points'!DM9)","v":999.99},{"$f":"IF('Races, Positions & Points'!DP9=\"\",\"\",'Races, Positions & Points'!DP9)","v":999.99},{"$f":"IF('Races, Positions & Points'!DS9=\"\",\"\",'Races, Positions & Points'!DS9)","v":""},{"$f":"IF('Races, Positions & Points'!DV9=\"\",\"\",'Races, Positions & Points'!DV9)","v":999.99},{"$f":"IF('Races, Positions & Points'!DY9=\"\",\"\",'Races, Positions & Points'!DY9)","v":999.99},{"$f":"IF('Races, Positions & Points'!EB9=\"\",\"\",'Races, Positions & Points'!EB9)","v":""},{"$f":"IF('Races, Positions & Points'!EE9=\"\",\"\",'Races, Positions & Points'!EE9)","v":""},{"$f":"IF('Races, Positions & Points'!EG9=\"\",\"\",'Races, Positions & Points'!EG9)","v":""},{"$f":"IF('Races, Positions & Points'!EJ9=\"\",\"\",'Races, Positions & Points'!EJ9)","v":999.99},{"$f":"IF('Races, Positions & Points'!EM9=\"\",\"\",'Races, Positions & Points'!EM9)","v":""},{"$f":"IF('Races, Positions & Points'!EP9=\"\",\"\",'Races, Positions & Points'!EP9)","v":""},{"$f":"IF('Races, Positions & Points'!ES9=\"\",\"\",'Races, Positions & Points'!ES9)","v":""},{"$f":"IF('Races, Positions & Points'!EV9=\"\",\"\",'Races, Positions & Points'!EV9)","v":""},{"$f":"IF('Races, Positions & Points'!EY9=\"\",\"\",'Races, Positions & Points'!EY9)","v":""},{"$f":"IF('Races, Positions & Points'!FB9=\"\",\"\",'Races, Positions & Points'!FB9)","v":""},{"$f":"IF('Races, Positions & Points'!FE9=\"\",\"\",'Races, Positions & Points'!FE9)","v":""},{"$f":"IF('Races, Positions & Points'!FH9=\"\",\"\",'Races, Positions & Points'!FH9)","v":""},{"$f":"IF('Races, Positions & Points'!FI9=\"\",\"\",'Races, Positions & Points'!FI9)","v":""},null,{"$f":"SUMPRODUCT(--(B$4:AY$4=\"In\"),--(B$3:AY$3>5),--(B$5:AY$5=\"Y\"),--(B9:AY9<>\"\"))","v":0},{"$f":"SUMPRODUCT(--(B$4:AY$4=\"Out\"),--(B$3:AY$3>5),--(B$5:AY$5=\"Y\"),--(B9:AY9<>\"\"))","v":0},{"$f":"SUMPRODUCT(--(B$4:AY$4=\"In\"),--(B$3:AY$3=5),--(B$5:AY$5=\"Y\"),--(B9:AY9<>\"\"))","v":6},0,{"$f":"SUMPRODUCT(--(B$4:AY$4=\"In\"),--(B$3:AY$3=0),--(B$5:AY$5=\"Y\"),--(B9:AY9<>\"\"))","v":1},{"$f":"SUMPRODUCT(--(B$4:AY$4=\"Out\"),--(B$3:AY$3=0),--(B$5:AY$5=\"Y\"),--(B9:AY9<>\"\"))","v":0},null,{"$f":"'Races, Positions & Points'!E9","v":20809}]
[{"$f":"'Races, Positions & Points'!A10","v":"Ella Giles"},{"$f":"IF('Races, Positions & Points'!AB10=\"\",\"\",'Races, Positions & Points'!AB10)","v":""},{"$f":"IF('Races, Positions & Points'!AD10=\"\",\"\",'Races, Positions & Points'!AD10)","v":""},{"$f":"IF('Races, Positions & Points'!AG10=\"\",\"\",'Races, Positions & Points'!AG10)","v":""},{"$f":"IF('Races, Positions & Points'!AJ10=\"\",\"\",'Races, Positions & Points'!AJ10)","v":""},{"$f":"IF('Races, Positions & Points'!AK10=\"\",\"\",'Races, Positions & Points'!AK10)","v":""},{"$f":"IF('Races, Positions & Points'!AN10=\"\",\"\",'Races, Positions & Points'!AN10)","v":""},{"$f":"IF('Races, Positions & Points'!AO10=\"\",\"\",'Races, Positions & Points'!AO10)","v":""},{"$f":"IF('Races, Positions & Points'!AR10=\"\",\"\",'Races, Positions & Points'!AR10)","v":""},{"$f":"IF('Races, Positions & Points'!AU10=\"\",\"\",'Races, Positions & Points'!AU10)","v":""},{"$f":"IF('Races, Positions & Points'!AX10=\"\",\"\",'Races, Positions & Points'!AX10)","v":""},{"$f":"IF('Races, Positions & Points'!BA10=\"\",\"\",'Races, Positions & Points'!BA10)","v":""},{"$f":"IF('Races, Positions & Points'!BD10=\"\",\"\",'Races, Positions & Points'!BD10)","v":""},{"$f":"IF('Races, Positions & Points'!BG10=\"\",\"\",'Races, Positions & Points'!BG10)","v":""},{"$f":"IF('Races, Positions & Points'!BJ10=\"\",\"\",'Races, Positions & Points'!BJ10)","v":""},{"$f":"IF('Races, Positions & Points'!BM10=\"\",\"\",'Races, Positions & Points'!BM10)","v":""},{"$f":"IF('Races, Positions & Points'!BP10=\"\",\"\",'Races, Positions & Points'!BP10)","v":""},{"$f":"IF('Races, Positions & Points'!BS10=\"\",\"\",'Races, Positions & Points'!BS10)","v":""},{"$f":"IF('Races, Positions & Points'!BV10=\"\",\"\",'Races, Positions & Points'!BV10)","v":""},{"$f":"IF('Races, Positions & Points'!BY10=\"\",\"\",'Races, Positions & Points'!BY10)","v":""},{"$f":"IF('Races, Positions & Points'!CB10=\"\",\"\",'Races, Positions & Points'!CB10)","v":""},{"$f":"IF('Races, Positions & Points'!CE10=\"\",\"\",'Races, Positions & Points'!CE10)","v":""},{"$f":"IF('Races, Positions & Points'!CH10=\"\",\"\",'Races, Positions & Points'!CH10)","v":""},{"$f":"IF('Races, Positions & Points'!CI10=\"\",\"\",'Races, Positions & Points'!CI10)","v":""},{"$f":"IF('Races, Positions & Points'!CL10=\"\",\"\",'Races, Positions & Points'!CL10)","v":""},{"$f":"IF('Races, Positions & Points'!CO10=\"\",\"\",'Races, Positions & Points'!CO10)","v":""},{"$f":"IF('Races, Positions & Points'!CR10=\"\",\"\",'Races, Positions & Points'!CR10)","v":""},{"$f":"IF('Races, Positions & Points'!CU10=\"\",\"\",'Races, Positions & Points'!CU10)","v":999.99},{"$f":"IF('Races, Positions & Points'!CX10=\"\",\"\",'Races, Positions & Points'!CX10)","v":"DNS"},{"$f":"IF('Races, Positions & Points'!DA10=\"\",\"\",'Races, Positions & Points'!DA10)","v":""},{"$f":"IF('Races, Positions & Points'!DD10=\"\",\"\",'Races, Positions & Points'!DD10)","v":""},{"$f":"IF('Races, Positions & Points'!DG10=\"\",\"\",'Races, Positions & Points'!DG10)","v":""},{"$f":"IF('Races, Positions & Points'!DJ10=\"\",\"\",'Races, Positions & Points'!DJ10)","v":""},{"$f":"IF('Races, Positions & Points'!DM10=\"\",\"\",'Races, Positions & Points'!DM10)","v":""},{"$f":"IF('Races, Positions & Points'!DP10=\"\",\"\",'Races, Positions & Points'!DP10)","v":""},{"$f":"IF('Races, Positions & Points'!DS10=\"\",\"\",'Races, Positions & Points'!DS10)","v":""},{"$f":"IF('Races, Positions & Points'!DV10=\"\",\"\",'Races, Positions & Points'!DV10)","v":""},{"$f":"IF('Races, Positions & Points'!DY10=\"\",\"\",'Races, Positions & Points'!DY10)","v":""},{"$f":"IF('Races, Positions & Points'!EB10=\"\",\"\",'Races, Positions & Points'!EB10)","v":""},{"$f":"IF('Races, Positions & Points'!EE10=\"\",\"\",'Races, Positions & Points'!EE10)","v":""},{"$f":"IF('Races, Positions & Points'!EG10=\"\",\"\",'Races, Positions & Points'!EG10)","v":""},{"$f":"IF('Races, Positions & Points'!EJ10=\"\",\"\",'Races, Positions & Points'!EJ10)","v":""},{"$f":"IF('Races, Positions & Points'!EM10=\"\",\"\",'Races, Positions & Points'!EM10)","v":""},{"$f":"IF('Races, Positions & Points'!EP10=\"\",\"\",'Races, Positions & Points'!EP10)","v":""},{"$f":"IF('Races, Positions & Points'!ES10=\"\",\"\",'Races, Positions & Points'!ES10)","v":""},{"$f":"IF('Races, Positions & Points'!EV10=\"\",\"\",'Races, Positions & Points'!EV10)","v":""},{"$f":"IF('Races, Positions & Points'!EY10=\"\",\"\",'Races, Positions & Points'!EY10)","v":""},{"$f":"IF('Races, Positions & Points'!FB10=\"\",\"\",'Races, Positions & Points'!FB10)","v":""},{"$f":"IF('Races, Positions & Points'!FE10=\"\",\"\",'Races, Positions & Points'!FE10)","v":""},{"$f":"IF('Races, Positions & Points'!FH10=\"\",\"\",'Races, Positions & Points'!FH10)","v":""},{"$f":"IF('Races, Positions & Points'!FI10=\"\",\"\",'Races, Positions & Points'!FI10)","v":""},null,0,2,0,0,0,0,null,{"$f":"'Races, Positions & Points'!E10","v":22176}]
[{"$f":"'Races, Positions & Points'!A11","v":"Anya Hemming"},{"$f":"IF('Races, Positions & Points'!AB11=\"\",\"\",'Races, Positions & Points'!AB11)","v":""},{"$f":"IF('Races, Positions & Points'!AD11=\"\",\"\",'Races, Positions & Points'!AD11)","v":""},{"$f":"IF('Races, Positions & Points'!AG11=\"\",\"\",'Races, Positions & Points'!AG11)","v":""},{"$f":"IF('Races, Positions & Points'!AJ11=\"\",\"\",'Races, Positions & Points'!AJ11)","v":""},{"$f":"IF('Races, Positions & Points'!AK11=\"\",\"\",'Races, Positions & Points'!AK11)","v":""},{"$f":"IF('Races, Positions & Points'!AN11=\"\",\"\",'Races, Positions & Points'!AN11)","v":""},{"$f":"IF('Races, Positions & Points'!AO11=\"\",\"\",'Races, Positions & Points'!AO11)","v":""},{"$f":"IF('Races, Positions & Points'!AR11=\"\",\"\",'Races, Positions & Points'!AR11)","v":999.99},{"$f":"IF('Races, Positions & Points'!AU11=\"\",\"\",'Races, Positions & Points'!AU11)","v":999.99},{"$f":"IF('Races, Positions & Points'!AX11=\"\",\"\",'Races, Positions & Points'!AX11)","v":""},{"$f":"IF('Races, Positions & Points'!BA11=\"\",\"\",'Races, Positions & Points'!BA11)","v":""},{"$f":"IF('Races, Positions & Points'!BD11=\"\",\"\",'Races, Positions & Points'!BD11)","v":999.99},{"$f":"IF('Races, Positions & Points'!BG11=\"\",\"\",'Races, Positions & Points'!BG11)","v":999.99},{"$f":"IF('Races, Positions & Points'!BJ11=\"\",\"\",'Races, Positions & Points'!BJ11)","v":999.99},{"$f":"IF('Races, Positions & Points'!BM11=\"\",\"\",'Races, Positions & Points'!BM11)","v":999.99},{"$f":"IF('Races, Positions & Points'!BP11=\"\",\"\",'Races, Positions & Points'!BP11)","v":""},{"$f":"IF('Races, Positions & Points'!BS11=\"\",\"\",'Races, Positions & Points'!BS11)","v":999.99},{"$f":"IF('Races, Positions & Points'!BV11=\"\",\"\",'Races, Positions & Points'!BV11)","v":""},{"$f":"IF('Races, Positions & Points'!BY11=\"\",\"\",'Races, Positions & Points'!BY11)","v":""},{"$f":"IF('Races, Positions & Points'!CB11=\"\",\"\",'Races, Positions & Points'!CB11)","v":999.99},{"$f":"IF('Races, Positions & Points'!CE11=\"\",\"\",'Races, Positions & Points'!CE11)","v":""},{"$f":"IF('Races, Positions & Points'!CH11=\"\",\"\",'Races, Positions & Points'!CH11)","v":""},{"$f":"IF('Races, Positions & Points'!CI11=\"\",\"\",'Races, Positions & Points'!CI11)","v":""},{"$f":"IF('Races, Positions & Points'!CL11=\"\",\"\",'Races, Positions & Points'!CL11)","v":999.99},{"$f":"IF('Races, Positions & Points'!CO11=\"\",\"\",'Races, Positions & Points'!CO11)","v":""},{"$f":"IF('Races, Positions & Points'!CR11=\"\",\"\",'Races, Positions & Points'!CR11)","v":999.99},{"$f":"IF('Races, Positions & Points'!CU11=\"\",\"\",'Races, Positions & Points'!CU11)","v":999.99},{"$f":"IF('Races, Positions & Points'!CX11=\"\",\"\",'Races, Positions & Points'!CX11)","v":999.99},{"$f":"IF('Races, Positions & Points'!DA11=\"\",\"\",'Races, Positions & Points'!DA11)","v":999.99},{"$f":"IF('Races, Positions & Points'!DD11=\"\",\"\",'Races, Positions & Points'!DD11)","v":""},{"$f":"IF('Races, Positions & Points'!DG11=\"\",\"\",'Races, Positions & Points'!DG11)","v":""},{"$f":"IF('Races, Positions & Points'!DJ11=\"\",\"\",'Races, Positions & Points'!DJ11)","v":""},{"$f":"IF('Races, Positions & Points'!DM11=\"\",\"\",'Races, Positions & Points'!DM11)","v":""},{"$f":"IF('Races, Positions & Points'!DP11=\"\",\"\",'Races, Positions & Points'!DP11)","v":""},{"$f":"IF('Races, Positions & Points'!DS11=\"\",\"\",'Races, Positions & Points'!DS11)","v":999.99},{"$f":"IF('Races, Positions & Points'!DV11=\"\",\"\",'Races, Positions & Points'!DV11)","v":""},{"$f":"IF('Races, Positions & Points'!DY11=\"\",\"\",'Races, Positions & Points'!DY11)","v":""},{"$f":"IF('Races, Positions & Points'!EB11=\"\",\"\",'Races, Positions & Points'!EB11)","v":""},{"$f":"IF('Races, Positions & Points'!EE11=\"\",\"\",'Races, Positions & Points'!EE11)","v":""},{"$f":"IF('Races, Positions & Points'!EG11=\"\",\"\",'Races, Positions & Points'!EG11)","v":""},{"$f":"IF('Races, Positions & Points'!EJ11=\"\",\"\",'Races, Positions & Points'!EJ11)","v":""},{"$f":"IF('Races, Positions & Points'!EM11=\"\",\"\",'Races, Positions & Points'!EM11)","v":""},{"$f":"IF('Races, Positions & Points'!EP11=\"\",\"\",'Races, Positions & Points'!EP11)","v":""},{"$f":"IF('Races, Positions & Points'!ES11=\"\",\"\",'Races, Positions & Points'!ES11)","v":""},{"$f":"IF('Races, Positions & Points'!EV11=\"\",\"\",'Races, Positions & Points'!EV11)","v":""},{"$f":"IF('Races, Positions & Points'!EY11=\"\",\"\",'Races, Positions & Points'!EY11)","v":""},{"$f":"IF('Races, Positions & Points'!FB11=\"\",\"\",'Races, Positions & Points'!FB11)","v":""},{"$f":"IF('Races, Positions & Points'!FE11=\"\",\"\",'Races, Positions & Points'!FE11)","v":""},{"$f":"IF('Races, Positions & Points'!FH11=\"\",\"\",'Races, Positions & Points'!FH11)","v":""},{"$f":"IF('Races, Positions & Points'!FI11=\"\",\"\",'Races, Positions & Points'!FI11)","v":""},null,0,9,0,5,0,0,null,{"$f":"'Races, Positions & Points'!E11","v":21569}]
[{"$f":"'Races, Positions & Points'!A12","v":"Aaliyah Llewellyn"},{"$f":"IF('Races, Positions & Points'!AB12=\"\",\"\",'Races, Positions & Points'!AB12)","v":""},{"$f":"IF('Races, Positions & Points'!AD12=\"\",\"\",'Races, Positions & Points'!AD12)","v":""},{"$f":"IF('Races, Positions & Points'!AG12=\"\",\"\",'Races, Positions & Points'!AG12)","v":""},{"$f":"IF('Races, Positions & Points'!AJ12=\"\",\"\",'Races, Positions & Points'!AJ12)","v":""},{"$f":"IF('Races, Positions & Points'!AK12=\"\",\"\",'Races, Positions & Points'!AK12)","v":""},{"$f":"IF('Races, Positions & Points'!AN12=\"\",\"\",'Races, Positions & Points'!AN12)","v":""},{"$f":"IF('Races, Positions & Points'!AO12=\"\",\"\",'Races, Positions & Points'!AO12)","v":""},{"$f":"IF('Races, Positions & Points'!AR12=\"\",\"\",'Races, Positions & Points'!AR12)","v":""},{"$f":"IF('Races, Positions & Points'!AU12=\"\",\"\",'Races, Positions & Points'!AU12)","v":""},{"$f":"IF('Races, Positions & Points'!AX12=\"\",\"\",'Races, Positions & Points'!AX12)","v":""},{"$f":"IF('Races, Positions & Points'!BA12=\"\",\"\",'Races, Positions & Points'!BA12)","v":""},{"$f":"IF('Races, Positions & Points'!BD12=\"\",\"\",'Races, Positions & Points'!BD12)","v":""},{"$f":"IF('Races, Positions & Points'!BG12=\"\",\"\",'Races, Positions & Points'!BG12)","v":""},{"$f":"IF('Races, Positions & Points'!BJ12=\"\",\"\",'Races, Positions & Points'!BJ12)","v":""},{"$f":"IF('Races, Positions & Points'!BM12=\"\",\"\",'Races, Positions & Points'!BM12)","v":""},{"$f":"IF('Races, Positions & Points'!BP12=\"\",\"\",'Races, Positions & Points'!BP12)","v":""},{"$f":"IF('Races, Positions & Points'!BS12=\"\",\"\",'Races, Positions & Points'!BS12)","v":""},{"$f":"IF('Races, Positions & Points'!BV12=\"\",\"\",'Races, Positions & Points'!BV12)","v":""},{"$f":"IF('Races, Positions & Points'!BY12=\"\",\"\",'Races, Positions & Points'!BY12)","v":""},{"$f":"IF('Races, Positions & Points'!CB12=\"\",\"\",'Races, Positions & Points'!CB12)","v":""},{"$f":"IF('Races, Positions & Points'!CE12=\"\",\"\",'Races, Positions & Points'!CE12)","v":""},{"$f":"IF('Races, Positions & Points'!CH12=\"\",\"\",'Races, Positions & Points'!CH12)","v":""},{"$f":"IF('Races, Positions & Points'!CI12=\"\",\"\",'Races, Positions & Points'!CI12)","v":""},{"$f":"IF('Races, Positions & Points'!CL12=\"\",\"\",'Races, Positions & Points'!CL12)","v":""},{"$f":"IF('Races, Positions & Points'!CO12=\"\",\"\",'Races, Positions & Points'!CO12)","v":""},{"$f":"IF('Races, Positions & Points'!CR12=\"\",\"\",'Races, Positions & Points'!CR12)","v":""},{"$f":"IF('Races, Positions & Points'!CU12=\"\",\"\",'Races, Positions & Points'!CU12)","v":""},{"$f":"IF('Races, Positions & Points'!CX12=\"\",\"\",'Races, Positions & Points'!CX12)","v":""},{"$f":"IF('Races, Positions & Points'!DA12=\"\",\"\",'Races, Positions & Points'!DA12)","v":""},{"$f":"IF('Races, Positions & Points'!DD12=\"\",\"\",'Races, Positions & Points'!DD12)","v":""},{"$f":"IF('Races, Positions & Points'!DG12=\"\",\"\",'Races, Positions & Points'!DG12)","v":""},{"$f":"IF('Races, Positions & Points'!DJ12=\"\",\"\",'Races, Positions & Points'!DJ12)","v":""},{"$f":"IF('Races, Positions & Points'!DM12=\"\",\"\",'Races, Positions & Points'!DM12)","v":""},{"$f":"IF('Races, Positions & Points'!DP12=\"\",\"\",'Races, Positions & Points'!DP12)","v":""},{"$f":"IF('Races, Positions & Points'!DS12=\"\",\"\",'Races, Positions & Points'!DS12)","v":""},{"$f":"IF('Races, Positions & Points'!DV12=\"\",\"\",'Races, Positions & Points'!DV12)","v":""},{"$f":"IF('Races, Positions & Points'!DY12=\"\",\"\",'Races, Positions & Points'!DY12)","v":""},{"$f":"IF('Races, Positions & Points'!EB12=\"\",\"\",'Races, Positions & Points'!EB12)","v":""},{"$f":"IF('Races, Positions & Points'!EE12=\"\",\"\",'Races, Positions & Points'!EE12)","v":""},{"$f":"IF('Races, Positions & Points'!EG12=\"\",\"\",'Races, Positions & Points'!EG12)","v":""},{"$f":"IF('Races, Positions & Points'!EJ12=\"\",\"\",'Races, Positions & Points'!EJ12)","v":""},{"$f":"IF('Races, Positions & Points'!EM12=\"\",\"\",'Races, Positions & Points'!EM12)","v":""},{"$f":"IF('Races, Positions & Points'!EP12=\"\",\"\",'Races, Positions & Points'!EP12)","v":""},{"$f":"IF('Races, Positions & Points'!ES12=\"\",\"\",'Races, Positions & Points'!ES12)","v":""},{"$f":"IF('Races, Positions & Points'!EV12=\"\",\"\",'Races, Positions & Points'!EV12)","v":""},{"$f":"IF('Races, Positions & Points'!EY12=\"\",\"\",'Races, Positions & Points'!EY12)","v":""},{"$f":"IF('Races, Positions & Points'!FB12=\"\",\"\",'Races, Positions & Points'!FB12)","v":""},{"$f":"IF('Races, Positions & Points'!FE12=\"\",\"\",'Races, Positions & Points'!FE12)","v":""},{"$f":"IF('Races, Positions & Points'!FH12=\"\",\"\",'Races, Positions & Points'!FH12)","v":""},{"$f":"IF('Races, Positions & Points'!FI12=\"\",\"\",'Races, Positions & Points'!FI12)","v":""},null,0,0,0,0,0,0,null,{"$f":"'Races, Positions & Points'!E12","v":22015}]
[]
[{"$f":"'Races, Positions & Points'!A14","v":"James Shakeshaft"},{"$f":"IF('Races, Positions & Points'!AB14=\"\",\"\",'Races, Positions & Points'!AB14)","v":""},{"$f":"IF('Races, Positions & Points'!AD14=\"\",\"\",'Races, Positions & Points'!AD14)","v":""},{"$f":"IF('Races, Positions & Points'!AG14=\"\",\"\",'Races, Positions & Points'!AG14)","v":""},{"$f":"IF('Races, Positions & Points'!AJ14=\"\",\"\",'Races, Positions & Points'!AJ14)","v":""},{"$f":"IF('Races, Positions & Points'!AK14=\"\",\"\",'Races, Positions & Points'!AK14)","v":""},{"$f":"IF('Races, Positions & Points'!AN14=\"\",\"\",'Races, Positions & Points'!AN14)","v":""},{"$f":"IF('Races, Positions & Points'!AO14=\"\",\"\",'Races, Positions & Points'!AO14)","v":""},{"$f":"IF('Races, Positions & Points'!AR14=\"\",\"\",'Races, Positions & Points'!AR14)","v":""},{"$f":"IF('Races, Positions & Points'!AU14=\"\",\"\",'Races, Positions & Points'!AU14)","v":""},{"$f":"IF('Races, Positions & Points'!AX14=\"\",\"\",'Races, Positions & Points'!AX14)","v":""},{"$f":"IF('Races, Positions & Points'!BA14=\"\",\"\",'Races, Positions & Points'!BA14)","v":""},{"$f":"IF('Races, Positions & Points'!BD14=\"\",\"\",'Races, Positions & Points'!BD14)","v":""},{"$f":"IF('Races, Positions & Points'!BG14=\"\",\"\",'Races, Positions & Points'!BG14)","v":""},{"$f":"IF('Races, Positions & Points'!BJ14=\"\",\"\",'Races, Positions & Points'!BJ14)","v":""},{"$f":"IF('Races, Positions & Points'!BM14=\"\",\"\",'Races, Positions & Points'!BM14)","v":""},{"$f":"IF('Races, Positions & Points'!BP14=\"\",\"\",'Races, Positions & Points'!BP14)","v":""},{"$f":"IF('Races, Positions & Points'!BS14=\"\",\"\",'Races, Positions & Points'!BS14)","v":""},{"$f":"IF('Races, Positions & Points'!BV14=\"\",\"\",'Races, Positions & Points'!BV14)","v":""},{"$f":"IF('Races, Positions & Points'!BY14=\"\",\"\",'Races, Positions & Points'!BY14)","v":""},{"$f":"IF('Races, Positions & Points'!CB14=\"\",\"\",'Races, Positions & Points'!CB14)","v":""},{"$f":"IF('Races, Positions & Points'!CE14=\"\",\"\",'Races, Positions & Points'!CE14)","v":""},{"$f":"IF('Races, Positions & Points'!CH14=\"\",\"\",'Races, Positions & Points'!CH14)","v":""},{"$f":"IF('Races, Positions & Points'!CI14=\"\",\"\",'Races, Positions & Points'!CI14)","v":""},{"$f":"IF('Races, Positions & Points'!CL14=\"\",\"\",'Races, Positions & Points'!CL14)","v":""},{"$f":"IF('Races, Positions & Points'!CO14=\"\",\"\",'Races, Positions & Points'!CO14)","v":""},{"$f":"IF('Races, Positions & Points'!CR14=\"\",\"\",'Races, Positions & Points'!CR14)","v":""},{"$f":"IF('Races, Positions & Points'!CU14=\"\",\"\",'Races, Positions & Points'!CU14)","v":""},{"$f":"IF('Races, Positions & Points'!CX14=\"\",\"\",'Races, Positions & Points'!CX14)","v":""},{"$f":"IF('Races, Positions & Points'!DA14=\"\",\"\",'Races, Positions & Points'!DA14)","v":""},{"$f":"IF('Races, Positions & Points'!DD14=\"\",\"\",'Races, Positions & Points'!DD14)","v":""},{"$f":"IF('Races, Positions & Points'!DG14=\"\",\"\",'Races, Positions & Points'!DG14)","v":""},{"$f":"IF('Races, Positions & Points'!DJ14=\"\",\"\",'Races, Positions & Points'!DJ14)","v":""},{"$f":"IF('Races, Positions & Points'!DM14=\"\",\"\",'Races, Positions & Points'!DM14)","v":""},{"$f":"IF('Races, Positions & Points'!DP14=\"\",\"\",'Races, Positions & Points'!DP14)","v":""},{"$f":"IF('Races, Positions & Points'!DS14=\"\",\"\",'Races, Positions & Points'!DS14)","v":""},{"$f":"IF('Races, Positions & Points'!DV14=\"\",\"\",'Races, Positions & Points'!DV14)","v":""},{"$f":"IF('Races, Positions & Points'!DY14=\"\",\"\",'Races, Positions & Points'!DY14)","v":""},{"$f":"IF('Races, Positions & Points'!EB14=\"\",\"\",'Races, Positions & Points'!EB14)","v":""},{"$f":"IF('Races, Positions & Points'!EE14=\"\",\"\",'Races, Positions & Points'!EE14)","v":""},{"$f":"IF('Races, Positions & Points'!EG14=\"\",\"\",'Races, Positions & Points'!EG14)","v":""},{"$f":"IF('Races, Positions & Points'!EJ14=\"\",\"\",'Races, Positions & Points'!EJ14)","v":""},{"$f":"IF('Races, Positions & Points'!EM14=\"\",\"\",'Races, Positions & Points'!EM14)","v":""},{"$f":"IF('Races, Positions & Points'!EP14=\"\",\"\",'Races, Positions & Points'!EP14)","v":""},{"$f":"IF('Races, Positions & Points'!ES14=\"\",\"\",'Races, Positions & Points'!ES14)","v":""},{"$f":"IF('Races, Positions & Points'!EV14=\"\",\"\",'Races, Positions & Points'!EV14)","v":""},{"$f":"IF('Races, Positions & Points'!EY14=\"\",\"\",'Races, Positions & Points'!EY14)","v":""},{"$f":"IF('Races, Positions & Points'!FB14=\"\",\"\",'Races, Positions & Points'!FB14)","v":""},{"$f":"IF('Races, Positions & Points'!FE14=\"\",\"\",'Races, Positions & Points'!FE14)","v":""},{"$f":"IF('Races, Positions & Points'!FH14=\"\",\"\",'Races, Positions & Points'!FH14)","v":""},{"$f":"IF('Races, Positions & Points'!FI14=\"\",\"\",'Races, Positions & Points'!FI14)","v":""},null,{"$f":"SUMPRODUCT(--(B$4:AY$4=\"In\"),--(B$3:AY$3>5),--(B$5:AY$5=\"Y\"),--(B14:AY14<>\"\"))","v":0},{"$f":"SUMPRODUCT(--(B$4:AY$4=\"Out\"),--(B$3:AY$3>5),--(B$5:AY$5=\"Y\"),--(B14:AY14<>\"\"))","v":0},{"$f":"SUMPRODUCT(--(B$4:AY$4=\"In\"),--(B$3:AY$3=5),--(B$5:AY$5=\"Y\"),--(B14:AY14<>\"\"))","v":0},{"$f":"SUMPRODUCT(--(B$4:AY$4=\"Out\"),--(B$3:AY$3=5),--(B$5:AY$5=\"Y\"),--(B14:AY14<>\"\"))","v":0},{"$f":"SUMPRODUCT(--(B$4:AY$4=\"In\"),--(B$3:AY$3=0),--(B$5:AY$5=\"Y\"),--(B14:AY14<>\"\"))","v":0},{"$f":"SUMPRODUCT(--(B$4:AY$4=\"Out\"),--(B$3:AY$3=0),--(B$5:AY$5=\"Y\"),--(B14:AY14<>\"\"))","v":0},null,{"$f":"'Races, Positions & Points'!E14","v":20340}]
[{"$f":"'Races, Positions & Points'!A15","v":"Daniel Hadley"},{"$f":"IF('Races, Positions & Points'!AB15=\"\",\"\",'Races, Positions & Points'!AB15)","v":""},{"$f":"IF('Races, Positions & Points'!AD15=\"\",\"\",'Races, Positions & Points'!AD15)","v":""},{"$f":"IF('Races, Positions & Points'!AG15=\"\",\"\",'Races, Positions & Points'!AG15)","v":""},{"$f":"IF('Races, Positions & Points'!AJ15=\"\",\"\",'Races, Positions & Points'!AJ15)","v":""},{"$f":"IF('Races, Positions & Points'!AK15=\"\",\"\",'Races, Positions & Points'!AK15)","v":""},{"$f":"IF('Races, Positions & Points'!AN15=\"\",\"\",'Races, Positions & Points'!AN15)","v":""},{"$f":"IF('Races, Positions & Points'!AO15=\"\",\"\",'Races, Positions & Points'!AO15)","v":""},{"$f":"IF('Races, Positions & Points'!AR15=\"\",\"\",'Races, Positions & Points'!AR15)","v":""},{"$f":"IF('Races, Positions & Points'!AU15=\"\",\"\",'Races, Positions & Points'!AU15)","v":""},{"$f":"IF('Races, Positions & Points'!AX15=\"\",\"\",'Races, Positions & Points'!AX15)","v":""},{"$f":"IF('Races, Positions & Points'!BA15=\"\",\"\",'Races, Positions & Points'!BA15)","v":""},{"$f":"IF('Races, Positions & Points'!BD15=\"\",\"\",'Races, Positions & Points'!BD15)","v":""},{"$f":"IF('Races, Positions & Points'!BG15=\"\",\"\",'Races, Positions & Points'!BG15)","v":""},{"$f":"IF('Races, Positions & Points'!BJ15=\"\",\"\",'Races, Positions & Points'!BJ15)","v":""},{"$f":"IF('Races, Positions & Points'!BM15=\"\",\"\",'Races, Positions & Points'!BM15)","v":""},{"$f":"IF('Races, Positions & Points'!BP15=\"\",\"\",'Races, Positions & Points'!BP15)","v":""},{"$f":"IF('Races, Positions & Points'!BS15=\"\",\"\",'Races, Positions & Points'!BS15)","v":""},{"$f":"IF('Races, Positions & Points'!BV15=\"\",\"\",'Races, Positions & Points'!BV15)","v":""},{"$f":"IF('Races, Positions & Points'!BY15=\"\",\"\",'Races, Positions & Points'!BY15)","v":""},{"$f":"IF('Races, Positions & Points'!CB15=\"\",\"\",'Races, Positions & Points'!CB15)","v":""},{"$f":"IF('Races, Positions & Points'!CE15=\"\",\"\",'Races, Positions & Points'!CE15)","v":""},{"$f":"IF('Races, Positions & Points'!CH15=\"\",\"\",'Races, Positions & Points'!CH15)","v":""},{"$f":"IF('Races, Positions & Points'!CI15=\"\",\"\",'Races, Positions & Points'!CI15)","v":""},{"$f":"IF('Races, Positions & Points'!CL15=\"\",\"\",'Races, Positions & Points'!CL15)","v":""},{"$f":"IF('Races, Positions & Points'!CO15=\"\",\"\",'Races, Positions & Points'!CO15)","v":""},{"$f":"IF('Races, Positions & Points'!CR15=\"\",\"\",'Races, Positions & Points'!CR15)","v":""},{"$f":"IF('Races, Positions & Points'!CU15=\"\",\"\",'Races, Positions & Points'!CU15)","v":""},{"$f":"IF('Races, Positions & Points'!CX15=\"\",\"\",'Races, Positions & Points'!CX15)","v":""},{"$f":"IF('Races, Positions & Points'!DA15=\"\",\"\",'Races, Positions & Points'!DA15)","v":""},{"$f":"IF('Races, Positions & Points'!DD15=\"\",\"\",'Races, Positions & Points'!DD15)","v":""},{"$f":"IF('Races, Positions & Points'!DG15=\"\",\"\",'Races, Positions & Points'!DG15)","v":""},{"$f":"IF('Races, Positions & Points'!DJ15=\"\",\"\",'Races, Positions & Points'!DJ15)","v":""},{"$f":"IF('Races, Positions & Points'!DM15=\"\",\"\",'Races, Positions & Points'!DM15)","v":""},{"$f":"IF('Races, Positions & Points'!DP15=\"\",\"\",'Races, Positions & Points'!DP15)","v":""},{"$f":"IF('Races, Positions & Points'!DS15=\"\",\"\",'Races, Positions & Points'!DS15)","v":""},{"$f":"IF('Races, Positions & Points'!DV15=\"\",\"\",'Races, Positions & Points'!DV15)","v":""},{"$f":"IF('Races, Positions & Points'!DY15=\"\",\"\",'Races, Positions & Points'!DY15)","v":""},{"$f":"IF('Races, Positions & Points'!EB15=\"\",\"\",'Races, Positions & Points'!EB15)","v":""},{"$f":"IF('Races, Positions & Points'!EE15=\"\",\"\",'Races, Positions & Points'!EE15)","v":""},{"$f":"IF('Races, Positions & Points'!EG15=\"\",\"\",'Races, Positions & Points'!EG15)","v":""},{"$f":"IF('Races, Positions & Points'!EJ15=\"\",\"\",'Races, Positions & Points'!EJ15)","v":""},{"$f":"IF('Races, Positions & Points'!EM15=\"\",\"\",'Races, Positions & Points'!EM15)","v":""},{"$f":"IF('Races, Positions & Points'!EP15=\"\",\"\",'Races, Positions & Points'!EP15)","v":""},{"$f":"IF('Races, Positions & Points'!ES15=\"\",\"\",'Races, Positions & Points'!ES15)","v":""},{"$f":"IF('Races, Positions & Points'!EV15=\"\",\"\",'Races, Positions & Points'!EV15)","v":""},{"$f":"IF('Races, Positions & Points'!EY15=\"\",\"\",'Races, Positions & Points'!EY15)","v":""},{"$f":"IF('Races, Positions & Points'!FB15=\"\",\"\",'Races, Positions & Points'!FB15)","v":""},{"$f":"IF('Races, Positions & Points'!FE15=\"\",\"\",'Races, Positions & Points'!FE15)","v":""},{"$f":"IF('Races, Positions & Points'!FH15=\"\",\"\",'Races, Positions & Points'!FH15)","v":""},{"$f":"IF('Races, Positions & Points'!FI15=\"\",\"\",'Races, Positions & Points'!FI15)","v":""},null,0,0,0,0,0,0,null,{"$f":"'Races, Positions & Points'!E15","v":20719}]
[{"$f":"'Races, Positions & Points'!A16","v":"Jack Teague"},{"$f":"IF('Races, Positions & Points'!AB16=\"\",\"\",'Races, Positions & Points'!AB16)","v":""},{"$f":"IF('Races, Positions & Points'!AD16=\"\",\"\",'Races, Positions & Points'!AD16)","v":""},{"$f":"IF('Races, Positions & Points'!AG16=\"\",\"\",'Races, Positions & Points'!AG16)","v":""},{"$f":"IF('Races, Positions & Points'!AJ16=\"\",\"\",'Races, Positions & Points'!AJ16)","v":""},{"$f":"IF('Races, Positions & Points'!AK16=\"\",\"\",'Races, Positions & Points'!AK16)","v":""},{"$f":"IF('Races, Positions & Points'!AN16=\"\",\"\",'Races, Positions & Points'!AN16)","v":""},{"$f":"IF('Races, Positions & Points'!AO16=\"\",\"\",'Races, Positions & Points'!AO16)","v":""},{"$f":"IF('Races, Positions & Points'!AR16=\"\",\"\",'Races, Positions & Points'!AR16)","v":""},{"$f":"IF('Races, Positions & Points'!AU16=\"\",\"\",'Races, Positions & Points'!AU16)","v":""},{"$f":"IF('Races, Positions & Points'!AX16=\"\",\"\",'Races, Positions & Points'!AX16)","v":""},{"$f":"IF('Races, Positions & Points'!BA16=\"\",\"\",'Races, Positions & Points'!BA16)","v":""},{"$f":"IF('Races, Positions & Points'!BD16=\"\",\"\",'Races, Positions & Points'!BD16)","v":""},{"$f":"IF('Races, Positions & Points'!BG16=\"\",\"\",'Races, Positions & Points'!BG16)","v":""},{"$f":"IF('Races, Positions & Points'!BJ16=\"\",\"\",'Races, Positions & Points'!BJ16)","v":""},{"$f":"IF('Races, Positions & Points'!BM16=\"\",\"\",'Races, Positions & Points'!BM16)","v":""},{"$f":"IF('Races, Positions & Points'!BP16=\"\",\"\",'Races, Positions & Points'!BP16)","v":""},{"$f":"IF('Races, Positions & Points'!BS16=\"\",\"\",'Races, Positions & Points'!BS16)","v":""},{"$f":"IF('Races, Positions & Points'!BV16=\"\",\"\",'Races, Positions & Points'!BV16)","v":""},{"$f":"IF('Races, Positions & Points'!BY16=\"\",\"\",'Races, Positions & Points'!BY16)","v":""},{"$f":"IF('Races, Positions & Points'!CB16=\"\",\"\",'Races, Positions & Points'!CB16)","v":""},{"$f":"IF('Races, Positions & Points'!CE16=\"\",\"\",'Races, Positions & Points'!CE16)","v":""},{"$f":"IF('Races, Positions & Points'!CH16=\"\",\"\",'Races, Positions & Points'!CH16)","v":""},{"$f":"IF('Races, Positions & Points'!CI16=\"\",\"\",'Races, Positions & Points'!CI16)","v":""},{"$f":"IF('Races, Positions & Points'!CL16=\"\",\"\",'Races, Positions & Points'!CL16)","v":""},{"$f":"IF('Races, Positions & Points'!CO16=\"\",\"\",'Races, Positions & Points'!CO16)","v":""},{"$f":"IF('Races, Positions & Points'!CR16=\"\",\"\",'Races, Positions & Points'!CR16)","v":""},{"$f":"IF('Races, Positions & Points'!CU16=\"\",\"\",'Races, Positions & Points'!CU16)","v":""},{"$f":"IF('Races, Positions & Points'!CX16=\"\",\"\",'Races, Positions & Points'!CX16)","v":""},{"$f":"IF('Races, Positions & Points'!DA16=\"\",\"\",'Races, Positions & Points'!DA16)","v":""},{"$f":"IF('Races, Positions & Points'!DD16=\"\",\"\",'Races, Positions & Points'!DD16)","v":""},{"$f":"IF('Races, Positions & Points'!DG16=\"\",\"\",'Races, Positions & Points'!DG16)","v":""},{"$f":"IF('Races, Positions & Points'!DJ16=\"\",\"\",'Races, Positions & Points'!DJ16)","v":""},{"$f":"IF('Races, Positions & Points'!DM16=\"\",\"\",'Races, Positions & Points'!DM16)","v":""},{"$f":"IF('Races, Positions & Points'!DP16=\"\",\"\",'Races, Positions & Points'!DP16)","v":""},{"$f":"IF('Races, Positions & Points'!DS16=\"\",\"\",'Races, Positions & Points'!DS16)","v":""},{"$f":"IF('Races, Positions & Points'!DV16=\"\",\"\",'Races, Positions & Points'!DV16)","v":""},{"$f":"IF('Races, Positions & Points'!DY16=\"\",\"\",'Races, Positions & Points'!DY16)","v":""},{"$f":"IF('Races, Positions & Points'!EB16=\"\",\"\",'Races, Positions & Points'!EB16)","v":""},{"$f":"IF('Races, Positions & Points'!EE16=\"\",\"\",'Races, Positions & Points'!EE16)","v":""},{"$f":"IF('Races, Positions & Points'!EG16=\"\",\"\",'Races, Positions & Points'!EG16)","v":""},{"$f":"IF('Races, Positions & Points'!EJ16=\"\",\"\",'Races, Positions & Points'!EJ16)","v":""},{"$f":"IF('Races, Positions & Points'!EM16=\"\",\"\",'Races, Positions & Points'!EM16)","v":""},{"$f":"IF('Races, Positions & Points'!EP16=\"\",\"\",'Races, Positions & Points'!EP16)","v":""},{"$f":"IF('Races, Positions & Points'!ES16=\"\",\"\",'Races, Positions & Points'!ES16)","v":""},{"$f":"IF('Races, Positions & Points'!EV16=\"\",\"\",'Races, Positions & Points'!EV16)","v":""},{"$f":"IF('Races, Positions & Points'!EY16=\"\",\"\",'Races, Positions & Points'!EY16)","v":""},{"$f":"IF('Races, Positions & Points'!FB16=\"\",\"\",'Races, Positions & Points'!FB16)","v":""},{"$f":"IF('Races, Positions & Points'!FE16=\"\",\"\",'Races, Positions & Points'!FE16)","v":""},{"$f":"IF('Races, Positions & Points'!FH16=\"\",\"\",'Races, Positions & Points'!FH16)","v":""},{"$f":"IF('Races, Positions & Points'!FI16=\"\",\"\",'Races, Positions & Points'!FI16)","v":""},null,0,0,0,0,0,0,null,{"$f":"'Races, Positions & Points'!E16","v":20630}]
[{"$f":"'Races, Positions & Points'!A17","v":"Jack Upton"},{"$f":"IF('Races, Positions & Points'!AB17=\"\",\"\",'Races, Positions & Points'!AB17)","v":999.99},{"$f":"IF('Races, Positions & Points'!AD17=\"\",\"\",'Races, Positions & Points'!AD17)","v":""},{"$f":"IF('Races, Positions & Points'!AG17=\"\",\"\",'Races, Positions & Points'!AG17)","v":""},{"$f":"IF('Races, Positions & Points'!AJ17=\"\",\"\",'Races, Positions & Points'!AJ17)","v":""},{"$f":"IF('Races, Positions & Points'!AK17=\"\",\"\",'Races, Positions & Points'!AK17)","v":""},{"$f":"IF('Races, Positions & Points'!AN17=\"\",\"\",'Races, Positions & Points'!AN17)","v":""},{"$f":"IF('Races, Positions & Points'!AO17=\"\",\"\",'Races, Positions & Points'!AO17)","v":""},{"$f":"IF('Races, Positions & Points'!AR17=\"\",\"\",'Races, Positions & Points'!AR17)","v":999.99},{"$f":"IF('Races, Positions & Points'!AU17=\"\",\"\",'Races, Positions & Points'!AU17)","v":999.99},{"$f":"IF('Races, Positions & Points'!AX17=\"\",\"\",'Races, Positions & Points'!AX17)","v":999.99},{"$f":"IF('Races, Positions & Points'!BA17=\"\",\"\",'Races, Positions & Points'!BA17)","v":999.99},{"$f":"IF('Races, Positions & Points'!BD17=\"\",\"\",'Races, Positions & Points'!BD17)","v":999.99},{"$f":"IF('Races, Positions & Points'!BG17=\"\",\"\",'Races, Positions & Points'!BG17)","v":999.99},{"$f":"IF('Races, Positions & Points'!BJ17=\"\",\"\",'Races, Positions & Points'!BJ17)","v":999.99},{"$f":"IF('Races, Positions & Points'!BM17=\"\",\"\",'Races, Positions & Points'!BM17)","v":""},{"$f":"IF('Races, Positions & Points'!BP17=\"\",\"\",'Races, Positions & Points'!BP17)","v":""},{"$f":"IF('Races, Positions & Points'!BS17=\"\",\"\",'Races, Positions & Points'!BS17)","v":""},{"$f":"IF('Races, Positions & Points'!BV17=\"\",\"\",'Races, Positions & Points'!BV17)","v":""},{"$f":"IF('Races, Positions & Points'!BY17=\"\",\"\",'Races, Positions & Points'!BY17)","v":""},{"$f":"IF('Races, Positions & Points'!CB17=\"\",\"\",'Races, Positions & Points'!CB17)","v":""},{"$f":"IF('Races, Positions & Points'!CE17=\"\",\"\",'Races, Positions & Points'!CE17)","v":""},{"$f":"IF('Races, Positions & Points'!CH17=\"\",\"\",'Races, Positions & Points'!CH17)","v":999.99},{"$f":"IF('Races, Positions & Points'!CI17=\"\",\"\",'Races, Positions & Points'!CI17)","v":999.99},{"$f":"IF('Races, Positions & Points'!CL17=\"\",\"\",'Races, Positions & Points'!CL17)","v":999.99},{"$f":"IF('Races, Positions & Points'!CO17=\"\",\"\",'Races, Positions & Points'!CO17)","v":""},{"$f":"IF('Races, Positions & Points'!CR17=\"\",\"\",'Races, Positions & Points'!CR17)","v":999.99},{"$f":"IF('Races, Positions & Points'!CU17=\"\",\"\",'Races, Positions & Points'!CU17)","v":""},{"$f":"IF('Races, Positions & Points'!CX17=\"\",\"\",'Races, Positions & Points'!CX17)","v":999.99},{"$f":"IF('Races, Positions & Points'!DA17=\"\",\"\",'Races, Positions & Points'!DA17)","v":999.99},{"$f":"IF('Races, Positions & Points'!DD17=\"\",\"\",'Races, Positions & Points'!DD17)","v":999.99},{"$f":"IF('Races, Positions & Points'!DG17=\"\",\"\",'Races, Positions & Points'!DG17)","v":999.99},{"$f":"IF('Races, Positions & Points'!DJ17=\"\",\"\",'Races, Positions & Points'!DJ17)","v":999.99},{"$f":"IF('Races, Positions & Points'!DM17=\"\",\"\",'Races, Positions & Points'!DM17)","v":"DSQ"},{"$f":"IF('Races, Positions & Points'!DP17=\"\",\"\",'Races, Positions & Points'!DP17)","v":999.99},{"$f":"IF('Races, Positions & Points'!DS17=\"\",\"\",'Races, Positions & Points'!DS17)","v":""},{"$f":"IF('Races, Positions & Points'!DV17=\"\",\"\",'Races, Positions & Points'!DV17)","v":""},{"$f":"IF('Races, Positions & Points'!DY17=\"\",\"\",'Races, Positions & Points'!DY17)","v":""},{"$f":"IF('Races, Positions & Points'!EB17=\"\",\"\",'Races, Positions & Points'!EB17)","v":""},{"$f":"IF('Races, Positions & Points'!EE17=\"\",\"\",'Races, Positions & Points'!EE17)","v":2},{"$f":"IF('Races, Positions & Points'!EG17=\"\",\"\",'Races, Positions & Points'!EG17)","v":999.99},{"$f":"IF('Races, Positions & Points'!EJ17=\"\",\"\",'Races, Positions & Points'!EJ17)","v":999.99},{"$f":"IF('Races, Positions & Points'!EM17=\"\",\"\",'Races, Positions & Points'!EM17)","v":999.99},{"$f":"IF('Races, Positions & Points'!EP17=\"\",\"\",'Races, Positions & Points'!EP17)","v":999.99},{"$f":"IF('Races, Positions & Points'!ES17=\"\",\"\",'Races, Positions & Points'!ES17)","v":999.99},{"$f":"IF('Races, Positions & Points'!EV17=\"\",\"\",'Races, Positions & Points'!EV17)","v":""},{"$f":"IF('Races, Positions & Points'!EY17=\"\",\"\",'Races, Positions & Points'!EY17)","v":999.99},{"$f":"IF('Races, Positions & Points'!FB17=\"\",\"\",'Races, Positions & Points'!FB17)","v":""},{"$f":"IF('Races, Positions & Points'!FE17=\"\",\"\",'Races, Positions & Points'!FE17)","v":""},{"$f":"IF('Races, Positions & Points'!FH17=\"\",\"\",'Races, Positions & Points'!FH17)","v":""},{"$f":"IF('Races, Positions & Points'!FI17=\"\",\"\",'Races, Positions & Points'!FI17)","v":""},null,0,6,6,5,3,3,null,{"$f":"'Races, Positions & Points'!E17","v":21052}]
[{"$f":"'Races, Positions & Points'!A18","v":"Keiron Wooley"},{"$f":"IF('Races, Positions & Points'!AB18=\"\",\"\",'Races, Positions & Points'!AB18)","v":""},{"$f":"IF('Races, Positions & Points'!AD18=\"\",\"\",'Races, Positions & Points'!AD18)","v":""},{"$f":"IF('Races, Positions & Points'!AG18=\"\",\"\",'Races, Positions & Points'!AG18)","v":""},{"$f":"IF('Races, Positions & Points'!AJ18=\"\",\"\",'Races, Positions & Points'!AJ18)","v":999.99},{"$f":"IF('Races, Positions & Points'!AK18=\"\",\"\",'Races, Positions & Points'!AK18)","v":999.99},{"$f":"IF('Races, Positions & Points'!AN18=\"\",\"\",'Races, Positions & Points'!AN18)","v":999.99},{"$f":"IF('Races, Positions & Points'!AO18=\"\",\"\",'Races, Positions & Points'!AO18)","v":999.99},{"$f":"IF('Races, Positions & Points'!AR18=\"\",\"\",'Races, Positions & Points'!AR18)","v":999.99},{"$f":"IF('Races, Positions & Points'!AU18=\"\",\"\",'Races, Positions & Points'!AU18)","v":999.99},{"$f":"IF('Races, Positions & Points'!AX18=\"\",\"\",'Races, Positions & Points'!AX18)","v":999.99},{"$f":"IF('Races, Positions & Points'!BA18=\"\",\"\",'Races, Positions & Points'!BA18)","v":999.99},{"$f":"IF('Races, Positions & Points'!BD18=\"\",\"\",'Races, Positions & Points'!BD18)","v":999.99},{"$f":"IF('Races, Positions & Points'!BG18=\"\",\"\",'Races, Positions & Points'!BG18)","v":999.99},{"$f":"IF('Races, Positions & Points'!BJ18=\"\",\"\",'Races, Positions & Points'!BJ18)","v":999.99},{"$f":"IF('Races, Positions & Points'!BM18=\"\",\"\",'Races, Positions & Points'!BM18)","v":""},{"$f":"IF('Races, Positions & Points'!BP18=\"\",\"\",'Races, Positions & Points'!BP18)","v":""},{"$f":"IF('Races, Positions & Points'!BS18=\"\",\"\",'Races, Positions & Points'!BS18)","v":""},{"$f":"IF('Races, Positions & Points'!BV18=\"\",\"\",'Races, Positions & Points'!BV18)","v":""},{"$f":"IF('Races, Positions & Points'!BY18=\"\",\"\",'Races, Positions & Points'!BY18)","v":999.99},{"$f":"IF('Races, Positions & Points'!CB18=\"\",\"\",'Races, Positions & Points'!CB18)","v":""},{"$f":"IF('Races, Positions & Points'!CE18=\"\",\"\",'Races, Positions & Points'!CE18)","v":999.99},{"$f":"IF('Races, Positions & Points'!CH18=\"\",\"\",'Races, Positions & Points'!CH18)","v":""},{"$f":"IF('Races, Positions & Points'!CI18=\"\",\"\",'Races, Positions & Points'!CI18)","v":""},{"$f":"IF('Races, Positions & Points'!CL18=\"\",\"\",'Races, Positions & Points'!CL18)","v":""},{"$f":"IF('Races, Positions & Points'!CO18=\"\",\"\",'Races, Positions & Points'!CO18)","v":999.99},{"$f":"IF('Races, Positions & Points'!CR18=\"\",\"\",'Races, Positions & Points'!CR18)","v":""},{"$f":"IF('Races, Positions & Points'!CU18=\"\",\"\",'Races, Positions & Points'!CU18)","v":999.99},{"$f":"IF('Races, Positions & Points'!CX18=\"\",\"\",'Races, Positions & Points'!CX18)","v":999.99},{"$f":"IF('Races, Positions & Points'!DA18=\"\",\"\",'Races, Positions & Points'!DA18)","v":""},{"$f":"IF('Races, Positions & Points'!DD18=\"\",\"\",'Races, Positions & Points'!DD18)","v":999.99},{"$f":"IF('Races, Positions & Points'!DG18=\"\",\"\",'Races, Positions & Points'!DG18)","v":999.99},{"$f":"IF('Races, Positions & Points'!DJ18=\"\",\"\",'Races, Positions & Points'!DJ18)","v":999.99},{"$f":"IF('Races, Positions & Points'!DM18=\"\",\"\",'Races, Positions & Points'!DM18)","v":999.99},{"$f":"IF('Races, Positions & Points'!DP18=\"\",\"\",'Races, Positions & Points'!DP18)","v":999.99},{"$f":"IF('Races, Positions & Points'!DS18=\"\",\"\",'Races, Positions & Points'!DS18)","v":""},{"$f":"IF('Races, Positions & Points'!DV18=\"\",\"\",'Races, Positions & Points'!DV18)","v":999.99},{"$f":"IF('Races, Positions & Points'!DY18=\"\",\"\",'Races, Positions & Points'!DY18)","v":999.99},{"$f":"IF('Races, Positions & Points'!EB18=\"\",\"\",'Races, Positions & Points'!EB18)","v":""},{"$f":"IF('Races, Positions & Points'!EE18=\"\",\"\",'Races, Positions & Points'!EE18)","v":""},{"$f":"IF('Races, Positions & Points'!EG18=\"\",\"\",'Races, Positions & Points'!EG18)","v":""},{"$f":"IF('Races, Positions & Points'!EJ18=\"\",\"\",'Races, Positions & Points'!EJ18)","v":999.99},{"$f":"IF('Races, Positions & Points'!EM18=\"\",\"\",'Races, Positions & Points'!EM18)","v":999.99},{"$f":"IF('Races, Positions & Points'!EP18=\"\",\"\",'Races, Positions & Points'!EP18)","v":999.99},{"$f":"IF('Races, Positions & Points'!ES18=\"\",\"\",'Races, Positions & Points'!ES18)","v":999.99},{"$f":"IF('Races, Positions & Points'!EV18=\"\",\"\",'Races, Positions & Points'!EV18)","v":""},{"$f":"IF('Races, Positions & Points'!EY18=\"\",\"\",'Races, Positions & Points'!EY18)","v":999.99},{"$f":"IF('Races, Positions & Points'!FB18=\"\",\"\",'Races, Positions & Points'!FB18)","v":""},{"$f":"IF('Races, Positions & Points'!FE18=\"\",\"\",'Races, Positions & Points'!FE18)","v":""},{"$f":"IF('Races, Positions & Points'!FH18=\"\",\"\",'Races, Positions & Points'!FH18)","v":""},{"$f":"IF('Races, Positions & Points'!FI18=\"\",\"\",'Races, Positions & Points'!FI18)","v":""},null,0,3,10,5,4,2,null,{"$f":"'Races, Positions & Points'!E18","v":21837}]
[{"$f":"'Races, Positions & Points'!A19","v":"Noah Bailey"},{"$f":"IF('Races, Positions & Points'!AB19=\"\",\"\",'Races, Positions & Points'!AB19)","v":""},{"$f":"IF('Races, Positions & Points'!AD19=\"\",\"\",'Races, Positions & Points'!AD19)","v":""},{"$f":"IF('Races, Positions & Points'!AG19=\"\",\"\",'Races, Positions & Points'!AG19)","v":""},{"$f":"IF('Races, Positions & Points'!AJ19=\"\",\"\",'Races, Positions & Points'!AJ19)","v":""},{"$f":"IF('Races, Positions & Points'!AK19=\"\",\"\",'Races, Positions & Points'!AK19)","v":""},{"$f":"IF('Races, Positions & Points'!AN19=\"\",\"\",'Races, Positions & Points'!AN19)","v":""},{"$f":"IF('Races, Positions & Points'!AO19=\"\",\"\",'Races, Positions & Points'!AO19)","v":""},{"$f":"IF('Races, Positions & Points'!AR19=\"\",\"\",'Races, Positions & Points'!AR19)","v":""},{"$f":"IF('Races, Positions & Points'!AU19=\"\",\"\",'Races, Positions & Points'!AU19)","v":""},{"$f":"IF('Races, Positions & Points'!AX19=\"\",\"\",'Races, Positions & Points'!AX19)","v":""},{"$f":"IF('Races, Positions & Points'!BA19=\"\",\"\",'Races, Positions & Points'!BA19)","v":""},{"$f":"IF('Races, Positions & Points'!BD19=\"\",\"\",'Races, Positions & Points'!BD19)","v":""},{"$f":"IF('Races, Positions & Points'!BG19=\"\",\"\",'Races, Positions & Points'!BG19)","v":""},{"$f":"IF('Races, Positions & Points'!BJ19=\"\",\"\",'Races, Positions & Points'!BJ19)","v":""},{"$f":"IF('Races, Positions & Points'!BM19=\"\",\"\",'Races, Positions & Points'!BM19)","v":""},{"$f":"IF('Races, Positions & Points'!BP19=\"\",\"\",'Races, Positions & Points'!BP19)","v":""},{"$f":"IF('Races, Positions & Points'!BS19=\"\",\"\",'Races, Positions & Points'!BS19)","v":""},{"$f":"IF('Races, Positions & Points'!BV19=\"\",\"\",'Races, Positions & Points'!BV19)","v":""},{"$f":"IF('Races, Positions & Points'!BY19=\"\",\"\",'Races, Positions & Points'!BY19)","v":""},{"$f":"IF('Races, Positions & Points'!CB19=\"\",\"\",'Races, Positions & Points'!CB19)","v":""},{"$f":"IF('Races, Positions & Points'!CE19=\"\",\"\",'Races, Positions & Points'!CE19)","v":""},{"$f":"IF('Races, Positions & Points'!CH19=\"\",\"\",'Races, Positions & Points'!CH19)","v":""},{"$f":"IF('Races, Positions & Points'!CI19=\"\",\"\",'Races, Positions & Points'!CI19)","v":""},{"$f":"IF('Races, Positions & Points'!CL19=\"\",\"\",'Races, Positions & Points'!CL19)","v":""},{"$f":"IF('Races, Positions & Points'!CO19=\"\",\"\",'Races, Positions & Points'!CO19)","v":""},{"$f":"IF('Races, Positions & Points'!CR19=\"\",\"\",'Races, Positions & Points'!CR19)","v":""},{"$f":"IF('Races, Positions & Points'!CU19=\"\",\"\",'Races, Positions & Points'!CU19)","v":999.99},{"$f":"IF('Races, Positions & Points'!CX19=\"\",\"\",'Races, Positions & Points'!CX19)","v":""},{"$f":"IF('Races, Positions & Points'!DA19=\"\",\"\",'Races, Positions & Points'!DA19)","v":""},{"$f":"IF('Races, Positions & Points'!DD19=\"\",\"\",'Races, Positions & Points'!DD19)","v":""},{"$f":"IF('Races, Positions & Points'!DG19=\"\",\"\",'Races, Positions & Points'!DG19)","v":""},{"$f":"IF('Races, Positions & Points'!DJ19=\"\",\"\",'Races, Positions & Points'!DJ19)","v":""},{"$f":"IF('Races, Positions & Points'!DM19=\"\",\"\",'Races, Positions & Points'!DM19)","v":""},{"$f":"IF('Races, Positions & Points'!DP19=\"\",\"\",'Races, Positions & Points'!DP19)","v":""},{"$f":"IF('Races, Positions & Points'!DS19=\"\",\"\",'Races, Positions & Points'!DS19)","v":""},{"$f":"IF('Races, Positions & Points'!DV19=\"\",\"\",'Races, Positions & Points'!DV19)","v":999.99},{"$f":"IF('Races, Positions & Points'!DY19=\"\",\"\",'Races, Positions & Points'!DY19)","v":""},{"$f":"IF('Races, Positions & Points'!EB19=\"\",\"\",'Races, Positions & Points'!EB19)","v":""},{"$f":"IF('Races, Positions & Points'!EE19=\"\",\"\",'Races, Positions & Points'!EE19)","v":""},{"$f":"IF('Races, Positions & Points'!EG19=\"\",\"\",'Races, Positions & Points'!EG19)","v":""},{"$f":"IF('Races, Positions & Points'!EJ19=\"\",\"\",'Races, Positions & Points'!EJ19)","v":""},{"$f":"IF('Races, Positions & Points'!EM19=\"\",\"\",'Races, Positions & Points'!EM19)","v":""},{"$f":"IF('Races, Positions & Points'!EP19=\"\",\"\",'Races, Positions & Points'!EP19)","v":""},{"$f":"IF('Races, Positions & Points'!ES19=\"\",\"\",'Races, Positions & Points'!ES19)","v":""},{"$f":"IF('Races, Positions & Points'!EV19=\"\",\"\",'Races, Positions & Points'!EV19)","v":""},{"$f":"IF('Races, Positions & Points'!EY19=\"\",\"\",'Races, Positions & Points'!EY19)","v":""},{"$f":"IF('Races, Positions & Points'!FB19=\"\",\"\",'Races, Positions & Points'!FB19)","v":""},{"$f":"IF('Races, Positions & Points'!FE19=\"\",\"\",'Races, Positions & Points'!FE19)","v":""},{"$f":"IF('Races, Positions & Points'!FH19=\"\",\"\",'Races, Positions & Points'!FH19)","v":""},{"$f":"IF('Races, Positions & Points'!FI19=\"\",\"\",'Races, Positions & Points'!FI19)","v":""},null,0,1,1,0,0,0,null,{"$f":"'Races, Positions & Points'!E19","v":22198}]
[{"$f":"'Races, Positions & Points'!A20","v":"Daniel Giles"},{"$f":"IF('Races, Positions & Points'!AB20=\"\",\"\",'Races, Positions & Points'!AB20)","v":""},{"$f":"IF('Races, Positions & Points'!AD20=\"\",\"\",'Races, Positions & Points'!AD20)","v":""},{"$f":"IF('Races, Positions & Points'!AG20=\"\",\"\",'Races, Positions & Points'!AG20)","v":""},{"$f":"IF('Races, Positions & Points'!AJ20=\"\",\"\",'Races, Positions & Points'!AJ20)","v":""},{"$f":"IF('Races, Positions & Points'!AK20=\"\",\"\",'Races, Positions & Points'!AK20)","v":""},{"$f":"IF('Races, Positions & Points'!AN20=\"\",\"\",'Races, Positions & Points'!AN20)","v":""},{"$f":"IF('Races, Positions & Points'!AO20=\"\",\"\",'Races, Positions & Points'!AO20)","v":""},{"$f":"IF('Races, Positions & Points'!AR20=\"\",\"\",'Races, Positions & Points'!AR20)","v":""},{"$f":"IF('Races, Positions & Points'!AU20=\"\",\"\",'Races, Positions & Points'!AU20)","v":""},{"$f":"IF('Races, Positions & Points'!AX20=\"\",\"\",'Races, Positions & Points'!AX20)","v":""},{"$f":"IF('Races, Positions & Points'!BA20=\"\",\"\",'Races, Positions & Points'!BA20)","v":""},{"$f":"IF('Races, Positions & Points'!BD20=\"\",\"\",'Races, Positions & Points'!BD20)","v":""},{"$f":"IF('Races, Positions & Points'!BG20=\"\",\"\",'Races, Positions & Points'!BG20)","v":""},{"$f":"IF('Races, Positions & Points'!BJ20=\"\",\"\",'Races, Positions & Points'!BJ20)","v":""},{"$f":"IF('Races, Positions & Points'!BM20=\"\",\"\",'Races, Positions & Points'!BM20)","v":""},{"$f":"IF('Races, Positions & Points'!BP20=\"\",\"\",'Races, Positions & Points'!BP20)","v":""},{"$f":"IF('Races, Positions & Points'!BS20=\"\",\"\",'Races, Positions & Points'!BS20)","v":""},{"$f":"IF('Races, Positions & Points'!BV20=\"\",\"\",'Races, Positions & Points'!BV20)","v":""},{"$f":"IF('Races, Positions & Points'!BY20=\"\",\"\",'Races, Positions & Points'!BY20)","v":""},{"$f":"IF('Races, Positions & Points'!CB20=\"\",\"\",'Races, Positions & Points'!CB20)","v":""},{"$f":"IF('Races, Positions & Points'!CE20=\"\",\"\",'Races, Positions & Points'!CE20)","v":""},{"$f":"IF('Races, Positions & Points'!CH20=\"\",\"\",'Races, Positions & Points'!CH20)","v":""},{"$f":"IF('Races, Positions & Points'!CI20=\"\",\"\",'Races, Positions & Points'!CI20)","v":""},{"$f":"IF('Races, Positions & Points'!CL20=\"\",\"\",'Races, Positions & Points'!CL20)","v":""},{"$f":"IF('Races, Positions & Points'!CO20=\"\",\"\",'Races, Positions & Points'!CO20)","v":""},{"$f":"IF('Races, Positions & Points'!CR20=\"\",\"\",'Races, Positions & Points'!CR20)","v":""},{"$f":"IF('Races, Positions & Points'!CU20=\"\",\"\",'Races, Positions & Points'!CU20)","v":999.99},{"$f":"IF('Races, Positions & Points'!CX20=\"\",\"\",'Races, Positions & Points'!CX20)","v":"DNS"},{"$f":"IF('Races, Positions & Points'!DA20=\"\",\"\",'Races, Positions & Points'!DA20)","v":""},{"$f":"IF('Races, Positions & Points'!DD20=\"\",\"\",'Races, Positions & Points'!DD20)","v":""},{"$f":"IF('Races, Positions & Points'!DG20=\"\",\"\",'Races, Positions & Points'!DG20)","v":""},{"$f":"IF('Races, Positions & Points'!DJ20=\"\",\"\",'Races, Positions & Points'!DJ20)","v":""},{"$f":"IF('Races, Positions & Points'!DM20=\"\",\"\",'Races, Positions & Points'!DM20)","v":""},{"$f":"IF('Races, Positions & Points'!DP20=\"\",\"\",'Races, Positions & Points'!DP20)","v":""},{"$f":"IF('Races, Positions & Points'!DS20=\"\",\"\",'Races, Positions & Points'!DS20)","v":""},{"$f":"IF('Races, Positions & Points'!DV20=\"\",\"\",'Races, Positions & Points'!DV20)","v":""},{"$f":"IF('Races, Positions & Points'!DY20=\"\",\"\",'Races, Positions & Points'!DY20)","v":""},{"$f":"IF('Races, Positions & Points'!EB20=\"\",\"\",'Races, Positions & Points'!EB20)","v":""},{"$f":"IF('Races, Positions & Points'!EE20=\"\",\"\",'Races, Positions & Points'!EE20)","v":""},{"$f":"IF('Races, Positions & Points'!EG20=\"\",\"\",'Races, Positions & Points'!EG20)","v":""},{"$f":"IF('Races, Positions & Points'!EJ20=\"\",\"\",'Races, Positions & Points'!EJ20)","v":""},{"$f":"IF('Races, Positions & Points'!EM20=\"\",\"\",'Races, Positions & Points'!EM20)","v":""},{"$f":"IF('Races, Positions & Points'!EP20=\"\",\"\",'Races, Positions & Points'!EP20)","v":""},{"$f":"IF('Races, Positions & Points'!ES20=\"\",\"\",'Races, Positions & Points'!ES20)","v":""},{"$f":"IF('Races, Positions & Points'!EV20=\"\",\"\",'Races, Positions & Points'!EV20)","v":""},{"$f":"IF('Races, Positions & Points'!EY20=\"\",\"\",'Races, Positions & Points'!EY20)","v":""},{"$f":"IF('Races, Positions & Points'!FB20=\"\",\"\",'Races, Positions & Points'!FB20)","v":""},{"$f":"IF('Races, Positions & Points'!FE20=\"\",\"\",'Races, Positions & Points'!FE20)","v":""},{"$f":"IF('Races, Positions & Points'!FH20=\"\",\"\",'Races, Positions & Points'!FH20)","v":""},{"$f":"IF('Races, Positions & Points'!FI20=\"\",\"\",'Races, Positions & Points'!FI20)","v":""},null,0,2,0,0,0,0,null,{"$f":"'Races, Positions & Points'!E20","v":22203}]
[null,null,null,null,null,null,null,null,null,null,null,null,null,null,null,null,null,null,null,null,null,null,null,null,null,null,null,null,null,null,null,null,null,null,null,null,null,null,null,null,null,null,null,null,null,null,null,null,null,null,null,null,null,null,null,null,null,null,null,null,null,null,null,null,null,null,null,null,null,null,null,null,null,null,null,null,null,null,null,{"$f":"IF(MIN(C21,K21,L21,AH21,AI21,,AK21,AL21)>0,MIN(C21,K21,L21,AH21,AI21,,AK21,AL21),\"\")","v":""},{"$f":"IF(MIN(E21,F21,G21,H21,Z21,AF21,AG21,AP21,AQ21,AU21)>0,MIN(E21,F21,G21,H21,Z21,AF21,AG21,AP21,AQ21,AU21),\"\")","v":""},{"$f":"IF(MIN(T21,V21)>0,MIN(T21,V21),\"\")","v":""},{"$f":"IF(MIN(W21,X21)>0,MIN(W21,X21),\"\")","v":""},{"$f":"IF(MIN(B21,M21,N21,AR21,AS21)>0,MIN(B21,M21,N21,AR21,AS21),\"\")","v":""},{"$f":"IF(MIN(D21,O21,AB21,AC21,AE21)>0,MIN(D21,O21,AB21,AC21,AE21),\"\")","v":""},{"$f":"IF(MIN(I21,J21)>0,MIN(I21,J21),\"\")","v":""},{"$f":"IF(Q21>0,Q21,\"\")","v":""},{"$f":"IF(MIN(S21,AM21,AT21,AY21)>0,MIN(S21,AM21,AT21,AY21),\"\")","v":""},{"$f":"IF(MIN(P21,R21)>0,MIN(P21,R21),\"\")","v":""},{"$f":"IF(U21>0,U21,\"\")","v":""},{"$f":"IF(MIN(Y21,AO21)>0,MIN(Y21,AO21),\"\")","v":""},{"$f":"IF(AA21>0,AA21,\"\")","v":""},{"$f":"IF(AD21>0,AD21,\"\")","v":""},{"$f":"IF(AJ21>0,AJ21,\"\")","v":""},{"$f":"IF(MIN(AV21,AW21)>0,MIN(AV21,AW21),\"\")","v":""},null,{"$f":"IF(MIN(DF21:DL21)>0,MIN(DF21:DL21),\"\")","v":""},{"$f":"IF(ISERROR(SMALL(DF21:DL21,2)),\"\",SMALL(DF21:DL21,2))","v":""},{"$f":"IF(ISERROR(SMALL(DF21:DL21,2)),\"\",AVERAGE(CS21,CT21))","v":""},{"$f":"IF(ISERROR(CS21*1.2),\"\",IF(CS21<50,CS21+10,CS21*1.2))","v":""},null,{"$f":"IF(MIN(DC21:DE21)>0,MIN(DC21:DE21),\"\")","v":""},{"$f":"IF(ISERROR(SMALL(DC21:DE21,2)),\"\",SMALL(DC21:DE21,2))","v":""},{"$f":"IF(ISERROR(SMALL(DC21:DE21,2)),\"\",AVERAGE(CX21,CY21))","v":""},{"$f":"IF(ISERROR(CX21*1.2),\"\",IF(CX21<50,CX21+10,CX21*1.2))","v":""},null,{"$f":"IF(MIN(C21,K21,L21,AH21,AI21,AK21,AL21)>0,MIN(C21,K21,L21,AH21,AI21,AK21,AL21),\"\")","v":""},{"$f":"IF(MIN(Z21,AF21,AG21,AP21,AQ21,AU21)>0,MIN(Z21,AF21,AG21,AP21,AQ21,AU21),\"\")","v":""},{"$f":"IF(MIN(T21,V21)>0,MIN(T21,V21),\"\")","v":""},{"$f":"IF(MIN(M21,N21,AR21,AS21)>0,MIN(M21,N21,AR21,AS21),\"\")","v":""},{"$f":"IF(MIN(O21,AE21),MIN(O21,AE21),\"\")","v":""},{"$f":"IF(J21>0,J21,\"\")","v":""},{"$f":"IF(MIN(AM21,AY21)>0,MIN(AM21,AY21),\"\")","v":""},{"$f":"IF(R21>0,R21,\"\")","v":""},{"$f":"IF(AO21>0,AO21,\"\")","v":""},{"$f":"IF(MIN(AV21,AW21),MIN(AV21,AW21),\"\")","v":""}]
[{"$f":"'Races, Positions & Points'!A22","v":"Rachel Bill"},{"$f":"IF('Races, Positions & Points'!AB22=\"\",\"\",'Races, Positions & Points'!AB22)","v":""},{"$f":"IF('Races, Positions & Points'!AD22=\"\",\"\",'Races, Positions & Points'!AD22)","v":""},{"$f":"IF('Races, Positions & Points'!AG22=\"\",\"\",'Races, Positions & Points'!AG22)","v":""},{"$f":"IF('Races, Positions & Points'!AJ22=\"\",\"\",'Races, Positions & Points'!AJ22)","v":""},{"$f":"IF('Races, Positions & Points'!AK22=\"\",\"\",'Races, Positions & Points'!AK22)","v":""},{"$f":"IF('Races, Positions & Points'!AN22=\"\",\"\",'Races, Positions & Points'!AN22)","v":""},{"$f":"IF('Races, Positions & Points'!AO22=\"\",\"\",'Races, Positions & Points'!AO22)","v":""},{"$f":"IF('Races, Positions & Points'!AR22=\"\",\"\",'Races, Positions & Points'!AR22)","v":""},{"$f":"IF('Races, Positions & Points'!AU22=\"\",\"\",'Races, Positions & Points'!AU22)","v":""},{"$f":"IF('Races, Positions & Points'!AX22=\"\",\"\",'Races, Positions & Points'!AX22)","v":""},{"$f":"IF('Races, Positions & Points'!BA22=\"\",\"\",'Races, Positions & Points'!BA22)","v":""},{"$f":"IF('Races, Positions & Points'!BD22=\"\",\"\",'Races, Positions & Points'!BD22)","v":""},{"$f":"IF('Races, Positions & Points'!BG22=\"\",\"\",'Races, Positions & Points'!BG22)","v":""},{"$f":"IF('Races, Positions & Points'!BJ22=\"\",\"\",'Races, Positions & Points'!BJ22)","v":""},{"$f":"IF('Races, Positions & Points'!BM22=\"\",\"\",'Races, Positions & Points'!BM22)","v":""},{"$f":"IF('Races, Positions & Points'!BP22=\"\",\"\",'Races, Positions & Points'!BP22)","v":""},{"$f":"IF('Races, Positions & Points'!BS22=\"\",\"\",'Races, Positions & Points'!BS22)","v":""},{"$f":"IF('Races, Positions & Points'!BV22=\"\",\"\",'Races, Positions & Points'!BV22)","v":""},{"$f":"IF('Races, Positions & Points'!BY22=\"\",\"\",'Races, Positions & Points'!BY22)","v":""},{"$f":"IF('Races, Positions & Points'!CB22=\"\",\"\",'Races, Positions & Points'!CB22)","v":23.97},{"$f":"IF('Races, Positions & Points'!CE22=\"\",\"\",'Races, Positions & Points'!CE22)","v":""},{"$f":"IF('Races, Positions & Points'!CH22=\"\",\"\",'Races, Positions & Points'!CH22)","v":""},{"$f":"IF('Races, Positions & Points'!CI22=\"\",\"\",'Races, Positions & Points'!CI22)","v":""},{"$f":"IF('Races, Positions & Points'!CL22=\"\",\"\",'Races, Positions & Points'!CL22)","v":""},{"$f":"IF('Races, Positions & Points'!CO22=\"\",\"\",'Races, Positions & Points'!CO22)","v":""},{"$f":"IF('Races, Positions & Points'!CR22=\"\",\"\",'Races, Positions & Points'!CR22)","v":""},{"$f":"IF('Races, Positions & Points'!CU22=\"\",\"\",'Races, Positions & Points'!CU22)","v":""},{"$f":"IF('Races, Positions & Points'!CX22=\"\",\"\",'Races, Positions & Points'!CX22)","v":""},{"$f":"IF('Races, Positions & Points'!DA22=\"\",\"\",'Races, Positions & Points'!DA22)","v":""},{"$f":"IF('Races, Positions & Points'!DD22=\"\",\"\",'Races, Positions & Points'!DD22)","v":""},{"$f":"IF('Races, Positions & Points'!DG22=\"\",\"\",'Races, Positions & Points'!DG22)","v":""},{"$f":"IF('Races, Positions & Points'!DJ22=\"\",\"\",'Races, Positions & Points'!DJ22)","v":""},{"$f":"IF('Races, Positions & Points'!DM22=\"\",\"\",'Races, Positions & Points'!DM22)","v":""},{"$f":"IF('Races, Positions & Points'!DP22=\"\",\"\",'Races, Positions & Points'!DP22)","v":""},{"$f":"IF('Races, Positions & Points'!DS22=\"\",\"\",'Races, Positions & Points'!DS22)","v":""},{"$f":"IF('Races, Positions & Points'!DV22=\"\",\"\",'Races, Positions & Points'!DV22)","v":""},{"$f":"IF('Races, Positions & Points'!DY22=\"\",\"\",'Races, Positions & Points'!DY22)","v":""},{"$f":"IF('Races, Positions & Points'!EB22=\"\",\"\",'Races, Positions & Points'!EB22)","v":""},{"$f":"IF('Races, Positions & Points'!EE22=\"\",\"\",'Races, Positions & Points'!EE22)","v":""},{"$f":"IF('Races, Positions & Points'!EG22=\"\",\"\",'Races, Positions & Points'!EG22)","v":""},{"$f":"IF('Races, Positions & Points'!EJ22=\"\",\"\",'Races, Positions & Points'!EJ22)","v":""},{"$f":"IF('Races, Positions & Points'!EM22=\"\",\"\",'Races, Positions & Points'!EM22)","v":""},{"$f":"IF('Races, Positions & Points'!EP22=\"\",\"\",'Races, Positions & Points'!EP22)","v":""},{"$f":"IF('Races, Positions & Points'!ES22=\"\",\"\",'Races, Positions & Points'!ES22)","v":""},{"$f":"IF('Races, Positions & Points'!EV22=\"\",\"\",'Races, Positions & Points'!EV22)","v":""},{"$f":"IF('Races, Positions & Points'!EY22=\"\",\"\",'Races, Positions & Points'!EY22)","v":""},{"$f":"IF('Races, Positions & Points'!FB22=\"\",\"\",'Races, Positions & Points'!FB22)","v":""},{"$f":"IF('Races, Positions & Points'!FE22=\"\",\"\",'Races, Positions & Points'!FE22)","v":""},{"$f":"IF('Races, Positions & Points'!FH22=\"\",\"\",'Races, Positions & Points'!FH22)","v":""},{"$f":"IF('Races, Positions & Points'!FI22=\"\",\"\",'Races, Positions & Points'!FI22)","v":""},null,{"$f":"SUMPRODUCT(--(B$4:AY$4=\"In\"),--(B$3:AY$3>5),--(B$5:AY$5=\"Y\"),--(B22:AY22<>\"\"))","v":0},{"$f":"SUMPRODUCT(--(B$4:AY$4=\"Out\"),--(B$3:AY$3>5),--(B$5:AY$5=\"Y\"),--(B22:AY22<>\"\"))","v":1},{"$f":"SUMPRODUCT(--(B$4:AY$4=\"In\"),--(B$3:AY$3=5),--(B$5:AY$5=\"Y\"),--(B22:AY22<>\"\"))","v":0},{"$f":"SUMPRODUCT(--(B$4:AY$4=\"Out\"),--(B$3:AY$3=5),--(B$5:AY$5=\"Y\"),--(B22:AY22<>\"\"))","v":0},{"$f":"SUMPRODUCT(--(B$4:AY$4=\"In\"),--(B$3:AY$3=0),--(B$5:AY$5=\"Y\"),--(B22:AY22<>\"\"))","v":0},{"$f":"SUMPRODUCT(--(B$4:AY$4=\"Out\"),--(B$3:AY$3=0),--(B$5:AY$5=\"Y\"),--(B22:AY22<>\"\"))","v":0},null,{"$f":"'Races, Positions & Points'!E22","v":20168},{"$f":"'Races, Positions & Points'!G22","v":23.81},{"$f":"IF(MIN(CF22:CQ22)<999.99,IF(MIN(CF22:CQ22)>0,MIN(CF22:CQ22),\"\"),\"\")","v":23.97},{"$f":"IF(ISERROR(SMALL(CF22:CQ22,2)),\"\",SMALL(CF22:CQ22,2))","v":""},{"$f":"IF(ISERROR(SMALL(CF22:CQ22,2)),\"\",ROUND(AVERAGE(BJ22:BK22),2))","v":""},{"$f":"IF(BI22<999.99,IF(AVERAGE(BI22,BJ22)>0,ROUND(AVERAGE(BI22,BJ22),2),\"\"),\"\")","v":23.89},{"$f":"IF(ISERROR(BJ22*1.2),\"\",IF(BJ22<50,BJ22+10,ROUND(BJ22*1.2,2)))","v":33.97},{"$f":"MIN(BI22,BL22,BM22,BN22)","v":23.81},{"$f":"IF(BI22*0.2<10,BI22+10,IF(BI22*1.2>999.99,999.99,ROUND(BI22*1.2,2)))","v":33.81},{"$f":"MIN(BL22,BN22,BP22)","v":33.81},null,{"$f":"IF(MIN(CB22:CE22)<999.99,IF(MIN(CB22:CE22)>0,MIN(CB22:CE22),\"\"),\"\")","v":""},{"$f":"IF(ISERROR(SMALL(CB22:CE22,2)),\"\",SMALL(CB22:CE22,2))","v":""},{"$f":"IF(ISERROR(SMALL(CB22:CE22,2)),\"\",ROUND(AVERAGE(BS22:BT22),2))","v":""},{"$f":"IF(BI22<999.99,IF(AVERAGE(BI22,BS22)>0,ROUND(AVERAGE(BI22,BS22),2),\"\"),\"\")","v":23.81},{"$f":"IF(ISERROR(BS22*1.2),\"\",IF(BS22<50,BS22+10,ROUND(BS22*1.2,2)))","v":""},{"$f":"MIN(BI22,BU22,BV22,BW22)","v":23.81},{"$f":"IF(BI22*0.2<10,BI22+10,IF(BI22*1.2>999.99,999.99,ROUND(BI22*1.2,2)))","v":33.81},{"$f":"MIN(BU22,BW22,BY22)","v":33.81},null,{"$f":"IF(MIN(C22,K22,L22,AH22,AI22,AK22,AL22)>0,MIN(C22,K22,L22,AH22,AI22,AK22,AL22),\"\")","v":""},"","","","","","","","","",23.97,"","","","","",null,{"$f":"IF(MIN(DF22:DL22)>0,MIN(DF22:DL22),\"\")","v":""},{"$f":"IF(ISERROR(SMALL(DF22:DL22,2)),\"\",SMALL(DF22:DL22,2))","v":""},{"$f":"IF(ISERROR(SMALL(DF22:DL22,2)),\"\",AVERAGE(CS22,CT22))","v":""},{"$f":"IF(ISERROR(CS22*1.2),\"\",IF(CS22<50,CS22+10,IF(CS22<999.99,CS22*1.2,\"\")))","v":""},null,{"$f":"IF(MIN(DC22:DE22)>0,MIN(DC22:DE22),\"\")","v":""},{"$f":"IF(ISERROR(SMALL(DC22:DE22,2)),\"\",SMALL(DC22:DE22,2))","v":""},{"$f":"IF(ISERROR(SMALL(DC22:DE22,2)),\"\",AVERAGE(CX22,CY22))","v":""},{"$f":"IF(ISERROR(CX22*1.2),\"\",IF(CX22<50,CX22+10,CX22*1.2))","v":""},null,"","","","","","","","",{"$f":"IF(AO22>0,AO22,\"\")","v":""},""]
[{"$f":"'Races, Positions & Points'!A23","v":"Lucy Deller"},{"$f":"IF('Races, Positions & Points'!AB23=\"\",\"\",'Races, Positions & Points'!AB23)","v":""},{"$f":"IF('Races, Positions & Points'!AD23=\"\",\"\",'Races, Positions & Points'!AD23)","v":""},{"$f":"IF('Races, Positions & Points'!AG23=\"\",\"\",'Races, Positions & Points'!AG23)","v":""},{"$f":"IF('Races, Positions & Points'!AJ23=\"\",\"\",'Races, Positions & Points'!AJ23)","v":""},{"$f":"IF('Races, Positions & Points'!AK23=\"\",\"\",'Races, Positions & Points'!AK23)","v":""},{"$f":"IF('Races, Positions & Points'!AN23=\"\",\"\",'Races, Positions & Points'!AN23)","v":""},{"$f":"IF('Races, Positions & Points'!AO23=\"\",\"\",'Races, Positions & Points'!AO23)","v":""},{"$f":"IF('Races, Positions & Points'!AR23=\"\",\"\",'Races, Positions & Points'!AR23)","v":""},{"$f":"IF('Races, Positions & Points'!AU23=\"\",\"\",'Races, Positions & Points'!AU23)","v":""},{"$f":"IF('Races, Positions & Points'!AX23=\"\",\"\",'Races, Positions & Points'!AX23)","v":""},{"$f":"IF('Races, Positions & Points'!BA23=\"\",\"\",'Races, Positions & Points'!BA23)","v":""},{"$f":"IF('Races, Positions & Points'!BD23=\"\",\"\",'Races, Positions & Points'!BD23)","v":""},{"$f":"IF('Races, Positions & Points'!BG23=\"\",\"\",'Races, Positions & Points'!BG23)","v":""},{"$f":"IF('Races, Positions & Points'!BJ23=\"\",\"\",'Races, Positions & Points'!BJ23)","v":""},{"$f":"IF('Races, Positions & Points'!BM23=\"\",\"\",'Races, Positions & Points'!BM23)","v":""},{"$f":"IF('Races, Positions & Points'!BP23=\"\",\"\",'Races, Positions & Points'!BP23)","v":""},{"$f":"IF('Races, Positions & Points'!BS23=\"\",\"\",'Races, Positions & Points'!BS23)","v":""},{"$f":"IF('Races, Positions & Points'!BV23=\"\",\"\",'Races, Positions & Points'!BV23)","v":""},{"$f":"IF('Races, Positions & Points'!BY23=\"\",\"\",'Races, Positions & Points'!BY23)","v":""},{"$f":"IF('Races, Positions & Points'!CB23=\"\",\"\",'Races, Positions & Points'!CB23)","v":""},{"$f":"IF('Races, Positions & Points'!CE23=\"\",\"\",'Races, Positions & Points'!CE23)","v":""},{"$f":"IF('Races, Positions & Points'!CH23=\"\",\"\",'Races, Positions & Points'!CH23)","v":""},{"$f":"IF('Races, Positions & Points'!CI23=\"\",\"\",'Races, Positions & Points'!CI23)","v":""},{"$f":"IF('Races, Positions & Points'!CL23=\"\",\"\",'Races, Positions & Points'!CL23)","v":""},{"$f":"IF('Races, Positions & Points'!CO23=\"\",\"\",'Races, Positions & Points'!CO23)","v":""},{"$f":"IF('Races, Positions & Points'!CR23=\"\",\"\",'Races, Positions & Points'!CR23)","v":""},{"$f":"IF('Races, Positions & Points'!CU23=\"\",\"\",'Races, Positions & Points'!CU23)","v":""},{"$f":"IF('Races, Positions & Points'!CX23=\"\",\"\",'Races, Positions & Points'!CX23)","v":""},{"$f":"IF('Races, Positions & Points'!DA23=\"\",\"\",'Races, Positions & Points'!DA23)","v":""},{"$f":"IF('Races, Positions & Points'!DD23=\"\",\"\",'Races, Positions & Points'!DD23)","v":""},{"$f":"IF('Races, Positions & Points'!DG23=\"\",\"\",'Races, Positions & Points'!DG23)","v":""},{"$f":"IF('Races, Positions & Points'!DJ23=\"\",\"\",'Races, Positions & Points'!DJ23)","v":""},{"$f":"IF('Races, Positions & Points'!DM23=\"\",\"\",'Races, Positions & Points'!DM23)","v":""},{"$f":"IF('Races, Positions & Points'!DP23=\"\",\"\",'Races, Positions & Points'!DP23)","v":""},{"$f":"IF('Races, Positions & Points'!DS23=\"\",\"\",'Races, Positions & Points'!DS23)","v":""},{"$f":"IF('Races, Positions & Points'!DV23=\"\",\"\",'Races, Positions & Points'!DV23)","v":""},{"$f":"IF('Races, Positions & Points'!DY23=\"\",\"\",'Races, Positions & Points'!DY23)","v":""},{"$f":"IF('Races, Positions & Points'!EB23=\"\",\"\",'Races, Positions & Points'!EB23)","v":""},{"$f":"IF('Races, Positions & Points'!EE23=\"\",\"\",'Races, Positions & Points'!EE23)","v":""},{"$f":"IF('Races, Positions & Points'!EG23=\"\",\"\",'Races, Positions & Points'!EG23)","v":""},{"$f":"IF('Races, Positions & Points'!EJ23=\"\",\"\",'Races, Positions & Points'!EJ23)","v":""},{"$f":"IF('Races, Positions & Points'!EM23=\"\",\"\",'Races, Positions & Points'!EM23)","v":""},{"$f":"IF('Races, Positions & Points'!EP23=\"\",\"\",'Races, Positions & Points'!EP23)","v":""},{"$f":"IF('Races, Positions & Points'!ES23=\"\",\"\",'Races, Positions & Points'!ES23)","v":""},{"$f":"IF('Races, Positions & Points'!EV23=\"\",\"\",'Races, Positions & Points'!EV23)","v":""},{"$f":"IF('Races, Positions & Points'!EY23=\"\",\"\",'Races, Positions & Points'!EY23)","v":""},{"$f":"IF('Races, Positions & Points'!FB23=\"\",\"\",'Races, Positions & Points'!FB23)","v":""},{"$f":"IF('Races, Positions & Points'!FE23=\"\",\"\",'Races, Positions & Points'!FE23)","v":""},{"$f":"IF('Races, Positions & Points'!FH23=\"\",\"\",'Races, Positions & Points'!FH23)","v":""},{"$f":"IF('Races, Positions & Points'!FI23=\"\",\"\",'Races, Positions & Points'!FI23)","v":""},null,0,0,0,0,0,0,null,{"$f":"'Races, Positions & Points'!E23","v":17888},{"$f":"'Races, Positions & Points'!G23","v":25.68},{"$f":"IF(MIN(CF23:CQ23)<999.99,IF(MIN(CF23:CQ23)>0,MIN(CF23:CQ23),\"\"),\"\")","v":""},{"$f":"IF(ISERROR(SMALL(CF23:CQ23,2)),\"\",SMALL(CF23:CQ23,2))","v":""},{"$f":"IF(ISERROR(SMALL(CF23:CQ23,2)),\"\",ROUND(AVERAGE(BJ23:BK23),2))","v":""},{"$f":"IF(BI23<999.99,IF(AVERAGE(BI23,BJ23)>0,ROUND(AVERAGE(BI23,BJ23),2),\"\"),\"\")","v":25.68},{"$f":"IF(ISERROR(BJ23*1.2),\"\",IF(BJ23<50,BJ23+10,ROUND(BJ23*1.2,2)))","v":""},{"$f":"MIN(BI23,BL23,BM23,BN23)","v":25.68},{"$f":"IF(BI23*0.2<10,BI23+10,IF(BI23*1.2>999.99,999.99,ROUND(BI23*1.2,2)))","v":35.68},{"$f":"MIN(BL23,BN23,BP23)","v":35.68},null,{"$f":"IF(MIN(CB23:CE23)<999.99,IF(MIN(CB23:CE23)>0,MIN(CB23:CE23),\"\"),\"\")","v":""},{"$f":"IF(ISERROR(SMALL(CB23:CE23,2)),\"\",SMALL(CB23:CE23,2))","v":""},{"$f":"IF(ISERROR(SMALL(CB23:CE23,2)),\"\",ROUND(AVERAGE(BS23:BT23),2))","v":""},{"$f":"IF(BI23<999.99,IF(AVERAGE(BI23,BS23)>0,ROUND(AVERAGE(BI23,BS23),2),\"\"),\"\")","v":25.68},{"$f":"IF(ISERROR(BS23*1.2),\"\",IF(BS23<50,BS23+10,ROUND(BS23*1.2,2)))","v":""},{"$f":"MIN(BI23,BU23,BV23,BW23)","v":25.68},{"$f":"IF(BI23*0.2<10,BI23+10,IF(BI23*1.2>999.99,999.99,ROUND(BI23*1.2,2)))","v":35.68},{"$f":"MIN(BU23,BW23,BY23)","v":35.68},null,"","","","","","","","","","","","","","","","",null,{"$f":"IF(MIN(DF23:DL23)>0,MIN(DF23:DL23),\"\")","v":""},{"$f":"IF(ISERROR(SMALL(DF23:DL23,2)),\"\",SMALL(DF23:DL23,2))","v":""},"","",null,{"$f":"IF(MIN(DC23:DE23)>0,MIN(DC23:DE23),\"\")","v":""},{"$f":"IF(ISERROR(SMALL(DC23:DE23,2)),\"\",SMALL(DC23:DE23,2))","v":""},{"$f":"IF(ISERROR(SMALL(DC23:DE23,2)),\"\",AVERAGE(CX23,CY23))","v":""},{"$f":"IF(ISERROR(CX23*1.2),\"\",IF(CX23<50,CX23+10,CX23*1.2))","v":""},null,"","","","","","","","","",""]
[{"$f":"'Races, Positions & Points'!A24","v":"Helena Newboult"},{"$f":"IF('Races, Positions & Points'!AB24=\"\",\"\",'Races, Positions & Points'!AB24)","v":""},{"$f":"IF('Races, Positions & Points'!AD24=\"\",\"\",'Races, Positions & Points'!AD24)","v":""},{"$f":"IF('Races, Positions & Points'!AG24=\"\",\"\",'Races, Positions & Points'!AG24)","v":""},{"$f":"IF('Races, Positions & Points'!AJ24=\"\",\"\",'Races, Positions & Points'!AJ24)","v":""},{"$f":"IF('Races, Positions & Points'!AK24=\"\",\"\",'Races, Positions & Points'!AK24)","v":""},{"$f":"IF('Races, Positions & Points'!AN24=\"\",\"\",'Races, Positions & Points'!AN24)","v":""},{"$f":"IF('Races, Positions & Points'!AO24=\"\",\"\",'Races, Positions & Points'!AO24)","v":""},{"$f":"IF('Races, Positions & Points'!AR24=\"\",\"\",'Races, Positions & Points'!AR24)","v":""},{"$f":"IF('Races, Positions & Points'!AU24=\"\",\"\",'Races, Positions & Points'!AU24)","v":""},{"$f":"IF('Races, Positions & Points'!AX24=\"\",\"\",'Races, Positions & Points'!AX24)","v":""},{"$f":"IF('Races, Positions & Points'!BA24=\"\",\"\",'Races, Positions & Points'!BA24)","v":""},{"$f":"IF('Races, Positions & Points'!BD24=\"\",\"\",'Races, Positions & Points'!BD24)","v":""},{"$f":"IF('Races, Positions & Points'!BG24=\"\",\"\",'Races, Positions & Points'!BG24)","v":""},{"$f":"IF('Races, Positions & Points'!BJ24=\"\",\"\",'Races, Positions & Points'!BJ24)","v":""},{"$f":"IF('Races, Positions & Points'!BM24=\"\",\"\",'Races, Positions & Points'!BM24)","v":""},{"$f":"IF('Races, Positions & Points'!BP24=\"\",\"\",'Races, Positions & Points'!BP24)","v":""},{"$f":"IF('Races, Positions & Points'!BS24=\"\",\"\",'Races, Positions & Points'!BS24)","v":""},{"$f":"IF('Races, Positions & Points'!BV24=\"\",\"\",'Races, Positions & Points'!BV24)","v":""},{"$f":"IF('Races, Positions & Points'!BY24=\"\",\"\",'Races, Positions & Points'!BY24)","v":""},{"$f":"IF('Races, Positions & Points'!CB24=\"\",\"\",'Races, Positions & Points'!CB24)","v":""},{"$f":"IF('Races, Positions & Points'!CE24=\"\",\"\",'Races, Positions & Points'!CE24)","v":""},{"$f":"IF('Races, Positions & Points'!CH24=\"\",\"\",'Races, Positions & Points'!CH24)","v":""},{"$f":"IF('Races, Positions & Points'!CI24=\"\",\"\",'Races, Positions & Points'!CI24)","v":""},{"$f":"IF('Races, Positions & Points'!CL24=\"\",\"\",'Races, Positions & Points'!CL24)","v":""},{"$f":"IF('Races, Positions & Points'!CO24=\"\",\"\",'Races, Positions & Points'!CO24)","v":""},{"$f":"IF('Races, Positions & Points'!CR24=\"\",\"\",'Races, Positions & Points'!CR24)","v":""},{"$f":"IF('Races, Positions & Points'!CU24=\"\",\"\",'Races, Positions & Points'!CU24)","v":""},{"$f":"IF('Races, Positions & Points'!CX24=\"\",\"\",'Races, Positions & Points'!CX24)","v":""},{"$f":"IF('Races, Positions & Points'!DA24=\"\",\"\",'Races, Positions & Points'!DA24)","v":""},{"$f":"IF('Races, Positions & Points'!DD24=\"\",\"\",'Races, Positions & Points'!DD24)","v":""},{"$f":"IF('Races, Positions & Points'!DG24=\"\",\"\",'Races, Positions & Points'!DG24)","v":""},{"$f":"IF('Races, Positions & Points'!DJ24=\"\",\"\",'Races, Positions & Points'!DJ24)","v":""},{"$f":"IF('Races, Positions & Points'!DM24=\"\",\"\",'Races, Positions & Points'!DM24)","v":""},{"$f":"IF('Races, Positions & Points'!DP24=\"\",\"\",'Races, Positions & Points'!DP24)","v":""},{"$f":"IF('Races, Positions & Points'!DS24=\"\",\"\",'Races, Positions & Points'!DS24)","v":""},{"$f":"IF('Races, Positions & Points'!DV24=\"\",\"\",'Races, Positions & Points'!DV24)","v":""},{"$f":"IF('Races, Positions & Points'!DY24=\"\",\"\",'Races, Positions & Points'!DY24)","v":""},{"$f":"IF('Races, Positions & Points'!EB24=\"\",\"\",'Races, Positions & Points'!EB24)","v":""},{"$f":"IF('Races, Positions & Points'!EE24=\"\",\"\",'Races, Positions & Points'!EE24)","v":""},{"$f":"IF('Races, Positions & Points'!EG24=\"\",\"\",'Races, Positions & Points'!EG24)","v":""},{"$f":"IF('Races, Positions & Points'!EJ24=\"\",\"\",'Races, Positions & Points'!EJ24)","v":""},{"$f":"IF('Races, Positions & Points'!EM24=\"\",\"\",'Races, Positions & Points'!EM24)","v":""},{"$f":"IF('Races, Positions & Points'!EP24=\"\",\"\",'Races, Positions & Points'!EP24)","v":""},{"$f":"IF('Races, Positions & Points'!ES24=\"\",\"\",'Races, Positions & Points'!ES24)","v":""},{"$f":"IF('Races, Positions & Points'!EV24=\"\",\"\",'Races, Positions & Points'!EV24)","v":""},{"$f":"IF('Races, Positions & Points'!EY24=\"\",\"\",'Races, Positions & Points'!EY24)","v":""},{"$f":"IF('Races, Positions & Points'!FB24=\"\",\"\",'Races, Positions & Points'!FB24)","v":""},{"$f":"IF('Races, Positions & Points'!FE24=\"\",\"\",'Races, Positions & Points'!FE24)","v":""},{"$f":"IF('Races, Positions & Points'!FH24=\"\",\"\",'Races, Positions & Points'!FH24)","v":""},{"$f":"IF('Races, Positions & Points'!FI24=\"\",\"\",'Races, Positions & Points'!FI24)","v":""},null,0,0,0,0,0,0,null,{"$f":"'Races, Positions & Points'!E24","v":20696},{"$f":"'Races, Positions & Points'!G24","v":27.39},"","","",27.39,"",27.39,37.39,37.39,null,"","","",27.39,"",27.39,37.39,37.39,null,"","","","","","","","","","","","","","","","",null,{"$f":"IF(MIN(DF24:DL24)>0,MIN(DF24:DL24),\"\")","v":""},{"$f":"IF(ISERROR(SMALL(DF24:DL24,2)),\"\",SMALL(DF24:DL24,2))","v":""},"","",null,{"$f":"IF(MIN(DC24:DE24)>0,MIN(DC24:DE24),\"\")","v":""},{"$f":"IF(ISERROR(SMALL(DC24:DE24,2)),\"\",SMALL(DC24:DE24,2))","v":""},{"$f":"IF(ISERROR(SMALL(DC24:DE24,2)),\"\",AVERAGE(CX24,CY24))","v":""},{"$f":"IF(ISERROR(CX24*1.2),\"\",IF(CX24<50,CX24+10,CX24*1.2))","v":""},null,"","","","","","","","","",""]
[{"$f":"'Races, Positions & Points'!A25","v":"Rowan Vernon"},{"$f":"IF('Races, Positions & Points'!AB25=\"\",\"\",'Races, Positions & Points'!AB25)","v":""},{"$f":"IF('Races, Positions & Points'!AD25=\"\",\"\",'Races, Positions & Points'!AD25)","v":""},{"$f":"IF('Races, Positions & Points'!AG25=\"\",\"\",'Races, Positions & Points'!AG25)","v":""},{"$f":"IF('Races, Positions & Points'!AJ25=\"\",\"\",'Races, Positions & Points'!AJ25)","v":""},{"$f":"IF('Races, Positions & Points'!AK25=\"\",\"\",'Races, Positions & Points'!AK25)","v":""},{"$f":"IF('Races, Positions & Points'!AN25=\"\",\"\",'Races, Positions & Points'!AN25)","v":""},{"$f":"IF('Races, Positions & Points'!AO25=\"\",\"\",'Races, Positions & Points'!AO25)","v":""},{"$f":"IF('Races, Positions & Points'!AR25=\"\",\"\",'Races, Positions & Points'!AR25)","v":""},{"$f":"IF('Races, Positions & Points'!AU25=\"\",\"\",'Races, Positions & Points'!AU25)","v":""},{"$f":"IF('Races, Positions & Points'!AX25=\"\",\"\",'Races, Positions & Points'!AX25)","v":""},{"$f":"IF('Races, Positions & Points'!BA25=\"\",\"\",'Races, Positions & Points'!BA25)","v":""},{"$f":"IF('Races, Positions & Points'!BD25=\"\",\"\",'Races, Positions & Points'!BD25)","v":""},{"$f":"IF('Races, Positions & Points'!BG25=\"\",\"\",'Races, Positions & Points'!BG25)","v":""},{"$f":"IF('Races, Positions & Points'!BJ25=\"\",\"\",'Races, Positions & Points'!BJ25)","v":""},{"$f":"IF('Races, Positions & Points'!BM25=\"\",\"\",'Races, Positions & Points'!BM25)","v":""},{"$f":"IF('Races, Positions & Points'!BP25=\"\",\"\",'Races, Positions & Points'!BP25)","v":""},{"$f":"IF('Races, Positions & Points'!BS25=\"\",\"\",'Races, Positions & Points'!BS25)","v":""},{"$f":"IF('Races, Positions & Points'!BV25=\"\",\"\",'Races, Positions & Points'!BV25)","v":""},{"$f":"IF('Races, Positions & Points'!BY25=\"\",\"\",'Races, Positions & Points'!BY25)","v":""},{"$f":"IF('Races, Positions & Points'!CB25=\"\",\"\",'Races, Positions & Points'!CB25)","v":""},{"$f":"IF('Races, Positions & Points'!CE25=\"\",\"\",'Races, Positions & Points'!CE25)","v":""},{"$f":"IF('Races, Positions & Points'!CH25=\"\",\"\",'Races, Positions & Points'!CH25)","v":""},{"$f":"IF('Races, Positions & Points'!CI25=\"\",\"\",'Races, Positions & Points'!CI25)","v":""},{"$f":"IF('Races, Positions & Points'!CL25=\"\",\"\",'Races, Positions & Points'!CL25)","v":""},{"$f":"IF('Races, Positions & Points'!CO25=\"\",\"\",'Races, Positions & Points'!CO25)","v":""},{"$f":"IF('Races, Positions & Points'!CR25=\"\",\"\",'Races, Positions & Points'!CR25)","v":""},{"$f":"IF('Races, Positions & Points'!CU25=\"\",\"\",'Races, Positions & Points'!CU25)","v":""},{"$f":"IF('Races, Positions & Points'!CX25=\"\",\"\",'Races, Positions & Points'!CX25)","v":""},{"$f":"IF('Races, Positions & Points'!DA25=\"\",\"\",'Races, Positions & Points'!DA25)","v":""},{"$f":"IF('Races, Positions & Points'!DD25=\"\",\"\",'Races, Positions & Points'!DD25)","v":""},{"$f":"IF('Races, Positions & Points'!DG25=\"\",\"\",'Races, Positions & Points'!DG25)","v":""},{"$f":"IF('Races, Positions & Points'!DJ25=\"\",\"\",'Races, Positions & Points'!DJ25)","v":""},{"$f":"IF('Races, Positions & Points'!DM25=\"\",\"\",'Races, Positions & Points'!DM25)","v":""},{"$f":"IF('Races, Positions & Points'!DP25=\"\",\"\",'Races, Positions & Points'!DP25)","v":""},{"$f":"IF('Races, Positions & Points'!DS25=\"\",\"\",'Races, Positions & Points'!DS25)","v":""},{"$f":"IF('Races, Positions & Points'!DV25=\"\",\"\",'Races, Positions & Points'!DV25)","v":""},{"$f":"IF('Races, Positions & Points'!DY25=\"\",\"\",'Races, Positions & Points'!DY25)","v":""},{"$f":"IF('Races, Positions & Points'!EB25=\"\",\"\",'Races, Positions & Points'!EB25)","v":""},{"$f":"IF('Races, Positions & Points'!EE25=\"\",\"\",'Races, Positions & Points'!EE25)","v":""},{"$f":"IF('Races, Positions & Points'!EG25=\"\",\"\",'Races, Positions & Points'!EG25)","v":""},{"$f":"IF('Races, Positions & Points'!EJ25=\"\",\"\",'Races, Positions & Points'!EJ25)","v":""},{"$f":"IF('Races, Positions & Points'!EM25=\"\",\"\",'Races, Positions & Points'!EM25)","v":""},{"$f":"IF('Races, Positions & Points'!EP25=\"\",\"\",'Races, Positions & Points'!EP25)","v":""},{"$f":"IF('Races, Positions & Points'!ES25=\"\",\"\",'Races, Positions & Points'!ES25)","v":""},{"$f":"IF('Races, Positions & Points'!EV25=\"\",\"\",'Races, Positions & Points'!EV25)","v":""},{"$f":"IF('Races, Positions & Points'!EY25=\"\",\"\",'Races, Positions & Points'!EY25)","v":""},{"$f":"IF('Races, Positions & Points'!FB25=\"\",\"\",'Races, Positions & Points'!FB25)","v":""},{"$f":"IF('Races, Positions & Points'!FE25=\"\",\"\",'Races, Positions & Points'!FE25)","v":""},{"$f":"IF('Races, Positions & Points'!FH25=\"\",\"\",'Races, Positions & Points'!FH25)","v":""},{"$f":"IF('Races, Positions & Points'!FI25=\"\",\"\",'Races, Positions & Points'!FI25)","v":""},null,0,0,0,0,0,0,null,{"$f":"'Races, Positions & Points'!E25","v":13381},{"$f":"'Races, Positions & Points'!G25","v":32.840000000000003},"","","",32.840000000000003,"",32.840000000000003,42.84,42.84,null,"","","",32.840000000000003,"",32.840000000000003,42.84,42.84,null,"","","","","","","","","","","","","","","","",null,{"$f":"IF(MIN(DF25:DL25)>0,MIN(DF25:DL25),\"\")","v":""},{"$f":"IF(ISERROR(SMALL(DF25:DL25,2)),\"\",SMALL(DF25:DL25,2))","v":""},"","",null,{"$f":"IF(MIN(DC25:DE25)>0,MIN(DC25:DE25),\"\")","v":""},{"$f":"IF(ISERROR(SMALL(DC25:DE25,2)),\"\",SMALL(DC25:DE25,2))","v":""},{"$f":"IF(ISERROR(SMALL(DC25:DE25,2)),\"\",AVERAGE(CX25,CY25))","v":""},{"$f":"IF(ISERROR(CX25*1.2),\"\",IF(CX25<50,CX25+10,CX25*1.2))","v":""},null,"","","","","","","","","",""]
[{"$f":"'Races, Positions & Points'!A26","v":"Amy Middleton"},{"$f":"IF('Races, Positions & Points'!AB26=\"\",\"\",'Races, Positions & Points'!AB26)","v":""},{"$f":"IF('Races, Positions & Points'!AD26=\"\",\"\",'Races, Positions & Points'!AD26)","v":""},{"$f":"IF('Races, Positions & Points'!AG26=\"\",\"\",'Races, Positions & Points'!AG26)","v":54.06},{"$f":"IF('Races, Positions & Points'!AJ26=\"\",\"\",'Races, Positions & Points'!AJ26)","v":""},{"$f":"IF('Races, Positions & Points'!AK26=\"\",\"\",'Races, Positions & Points'!AK26)","v":""},{"$f":"IF('Races, Positions & Points'!AN26=\"\",\"\",'Races, Positions & Points'!AN26)","v":""},{"$f":"IF('Races, Positions & Points'!AO26=\"\",\"\",'Races, Positions & Points'!AO26)","v":""},{"$f":"IF('Races, Positions & Points'!AR26=\"\",\"\",'Races, Positions & Points'!AR26)","v":""},{"$f":"IF('Races, Positions & Points'!AU26=\"\",\"\",'Races, Positions & Points'!AU26)","v":""},{"$f":"IF('Races, Positions & Points'!AX26=\"\",\"\",'Races, Positions & Points'!AX26)","v":""},{"$f":"IF('Races, Positions & Points'!BA26=\"\",\"\",'Races, Positions & Points'!BA26)","v":""},{"$f":"IF('Races, Positions & Points'!BD26=\"\",\"\",'Races, Positions & Points'!BD26)","v":""},{"$f":"IF('Races, Positions & Points'!BG26=\"\",\"\",'Races, Positions & Points'!BG26)","v":""},{"$f":"IF('Races, Positions & Points'!BJ26=\"\",\"\",'Races, Positions & Points'!BJ26)","v":""},{"$f":"IF('Races, Positions & Points'!BM26=\"\",\"\",'Races, Positions & Points'!BM26)","v":""},{"$f":"IF('Races, Positions & Points'!BP26=\"\",\"\",'Races, Positions & Points'!BP26)","v":""},{"$f":"IF('Races, Positions & Points'!BS26=\"\",\"\",'Races, Positions & Points'!BS26)","v":""},{"$f":"IF('Races, Positions & Points'!BV26=\"\",\"\",'Races, Positions & Points'!BV26)","v":""},{"$f":"IF('Races, Positions & Points'!BY26=\"\",\"\",'Races, Positions & Points'!BY26)","v":""},{"$f":"IF('Races, Positions & Points'!CB26=\"\",\"\",'Races, Positions & Points'!CB26)","v":55.35},{"$f":"IF('Races, Positions & Points'!CE26=\"\",\"\",'Races, Positions & Points'!CE26)","v":""},{"$f":"IF('Races, Positions & Points'!CH26=\"\",\"\",'Races, Positions & Points'!CH26)","v":""},{"$f":"IF('Races, Positions & Points'!CI26=\"\",\"\",'Races, Positions & Points'!CI26)","v":""},{"$f":"IF('Races, Positions & Points'!CL26=\"\",\"\",'Races, Positions & Points'!CL26)","v":59.4},{"$f":"IF('Races, Positions & Points'!CO26=\"\",\"\",'Races, Positions & Points'!CO26)","v":""},{"$f":"IF('Races, Positions & Points'!CR26=\"\",\"\",'Races, Positions & Points'!CR26)","v":48.62},{"$f":"IF('Races, Positions & Points'!CU26=\"\",\"\",'Races, Positions & Points'!CU26)","v":60.11},{"$f":"IF('Races, Positions & Points'!CX26=\"\",\"\",'Races, Positions & Points'!CX26)","v":41.31},{"$f":"IF('Races, Positions & Points'!DA26=\"\",\"\",'Races, Positions & Points'!DA26)","v":""},{"$f":"IF('Races, Positions & Points'!DD26=\"\",\"\",'Races, Positions & Points'!DD26)","v":""},{"$f":"IF('Races, Positions & Points'!DG26=\"\",\"\",'Races, Positions & Points'!DG26)","v":""},{"$f":"IF('Races, Positions & Points'!DJ26=\"\",\"\",'Races, Positions & Points'!DJ26)","v":""},{"$f":"IF('Races, Positions & Points'!DM26=\"\",\"\",'Races, Positions & Points'!DM26)","v":""},{"$f":"IF('Races, Positions & Points'!DP26=\"\",\"\",'Races, Positions & Points'!DP26)","v":""},{"$f":"IF('Races, Positions & Points'!DS26=\"\",\"\",'Races, Positions & Points'!DS26)","v":58.55},{"$f":"IF('Races, Positions & Points'!DV26=\"\",\"\",'Races, Positions & Points'!DV26)","v":""},{"$f":"IF('Races, Positions & Points'!DY26=\"\",\"\",'Races, Positions & Points'!DY26)","v":""},{"$f":"IF('Races, Positions & Points'!EB26=\"\",\"\",'Races, Positions & Points'!EB26)","v":""},{"$f":"IF('Races, Positions & Points'!EE26=\"\",\"\",'Races, Positions & Points'!EE26)","v":"DNF"},{"$f":"IF('Races, Positions & Points'!EG26=\"\",\"\",'Races, Positions & Points'!EG26)","v":999.99},{"$f":"IF('Races, Positions & Points'!EJ26=\"\",\"\",'Races, Positions & Points'!EJ26)","v":""},{"$f":"IF('Races, Positions & Points'!EM26=\"\",\"\",'Races, Positions & Points'!EM26)","v":""},{"$f":"IF('Races, Positions & Points'!EP26=\"\",\"\",'Races, Positions & Points'!EP26)","v":""},{"$f":"IF('Races, Positions & Points'!ES26=\"\",\"\",'Races, Positions & Points'!ES26)","v":""},{"$f":"IF('Races, Positions & Points'!EV26=\"\",\"\",'Races, Positions & Points'!EV26)","v":""},{"$f":"IF('Races, Positions & Points'!EY26=\"\",\"\",'Races, Positions & Points'!EY26)","v":""},{"$f":"IF('Races, Positions & Points'!FB26=\"\",\"\",'Races, Positions & Points'!FB26)","v":""},{"$f":"IF('Races, Positions & Points'!FE26=\"\",\"\",'Races, Positions & Points'!FE26)","v":""},{"$f":"IF('Races, Positions & Points'!FH26=\"\",\"\",'Races, Positions & Points'!FH26)","v":""},{"$f":"IF('Races, Positions & Points'!FI26=\"\",\"\",'Races, Positions & Points'!FI26)","v":""},null,0,6,0,1,0,1,null,{"$f":"'Races, Positions & Points'!E26","v":20307},{"$f":"'Races, Positions & Points'!G26","v":51.15},41.31,48.62,44.97,46.23,51.31,44.97,61.38,44.97,null,"","","",51.15,"",51.15,61.38,61.38,null,"","","","","",41.31,"","","","",55.35,59.4,48.62,"",58.55,"",null,999.99,"","","",null,"","","","",null,"","","","","","","","",999.99,""]
[{"$f":"'Races, Positions & Points'!A27","v":"Elisabeth Thomas"},{"$f":"IF('Races, Positions & Points'!AB27=\"\",\"\",'Races, Positions & Points'!AB27)","v":""},{"$f":"IF('Races, Positions & Points'!AD27=\"\",\"\",'Races, Positions & Points'!AD27)","v":""},{"$f":"IF('Races, Positions & Points'!AG27=\"\",\"\",'Races, Positions & Points'!AG27)","v":""},{"$f":"IF('Races, Positions & Points'!AJ27=\"\",\"\",'Races, Positions & Points'!AJ27)","v":""},{"$f":"IF('Races, Positions & Points'!AK27=\"\",\"\",'Races, Positions & Points'!AK27)","v":""},{"$f":"IF('Races, Positions & Points'!AN27=\"\",\"\",'Races, Positions & Points'!AN27)","v":""},{"$f":"IF('Races, Positions & Points'!AO27=\"\",\"\",'Races, Positions & Points'!AO27)","v":""},{"$f":"IF('Races, Positions & Points'!AR27=\"\",\"\",'Races, Positions & Points'!AR27)","v":""},{"$f":"IF('Races, Positions & Points'!AU27=\"\",\"\",'Races, Positions & Points'!AU27)","v":""},{"$f":"IF('Races, Positions & Points'!AX27=\"\",\"\",'Races, Positions & Points'!AX27)","v":""},{"$f":"IF('Races, Positions & Points'!BA27=\"\",\"\",'Races, Positions & Points'!BA27)","v":""},{"$f":"IF('Races, Positions & Points'!BD27=\"\",\"\",'Races, Positions & Points'!BD27)","v":74.12},{"$f":"IF('Races, Positions & Points'!BG27=\"\",\"\",'Races, Positions & Points'!BG27)","v":""},{"$f":"IF('Races, Positions & Points'!BJ27=\"\",\"\",'Races, Positions & Points'!BJ27)","v":62.67},{"$f":"IF('Races, Positions & Points'!BM27=\"\",\"\",'Races, Positions & Points'!BM27)","v":""},{"$f":"IF('Races, Positions & Points'!BP27=\"\",\"\",'Races, Positions & Points'!BP27)","v":""},{"$f":"IF('Races, Positions & Points'!BS27=\"\",\"\",'Races, Positions & Points'!BS27)","v":""},{"$f":"IF('Races, Positions & Points'!BV27=\"\",\"\",'Races, Positions & Points'!BV27)","v":""},{"$f":"IF('Races, Positions & Points'!BY27=\"\",\"\",'Races, Positions & Points'!BY27)","v":""},{"$f":"IF('Races, Positions & Points'!CB27=\"\",\"\",'Races, Positions & Points'!CB27)","v":""},{"$f":"IF('Races, Positions & Points'!CE27=\"\",\"\",'Races, Positions & Points'!CE27)","v":""},{"$f":"IF('Races, Positions & Points'!CH27=\"\",\"\",'Races, Positions & Points'!CH27)","v":""},{"$f":"IF('Races, Positions & Points'!CI27=\"\",\"\",'Races, Positions & Points'!CI27)","v":""},{"$f":"IF('Races, Positions & Points'!CL27=\"\",\"\",'Races, Positions & Points'!CL27)","v":""},{"$f":"IF('Races, Positions & Points'!CO27=\"\",\"\",'Races, Positions & Points'!CO27)","v":""},{"$f":"IF('Races, Positions & Points'!CR27=\"\",\"\",'Races, Positions & Points'!CR27)","v":""},{"$f":"IF('Races, Positions & Points'!CU27=\"\",\"\",'Races, Positions & Points'!CU27)","v":43.35},{"$f":"IF('Races, Positions & Points'!CX27=\"\",\"\",'Races, Positions & Points'!CX27)","v":31.04},{"$f":"IF('Races, Positions & Points'!DA27=\"\",\"\",'Races, Positions & Points'!DA27)","v":"DNF"},{"$f":"IF('Races, Positions & Points'!DD27=\"\",\"\",'Races, Positions & Points'!DD27)","v":33.86},{"$f":"IF('Races, Positions & Points'!DG27=\"\",\"\",'Races, Positions & Points'!DG27)","v":""},{"$f":"IF('Races, Positions & Points'!DJ27=\"\",\"\",'Races, Positions & Points'!DJ27)","v":""},{"$f":"IF('Races, Positions & Points'!DM27=\"\",\"\",'Races, Positions & Points'!DM27)","v":""},{"$f":"IF('Races, Positions & Points'!DP27=\"\",\"\",'Races, Positions & Points'!DP27)","v":""},{"$f":"IF('Races, Positions & Points'!DS27=\"\",\"\",'Races, Positions & Points'!DS27)","v":56.04},{"$f":"IF('Races, Positions & Points'!DV27=\"\",\"\",'Races, Positions & Points'!DV27)","v":""},{"$f":"IF('Races, Positions & Points'!DY27=\"\",\"\",'Races, Positions & Points'!DY27)","v":""},{"$f":"IF('Races, Positions & Points'!EB27=\"\",\"\",'Races, Positions & Points'!EB27)","v":""},{"$f":"IF('Races, Positions & Points'!EE27=\"\",\"\",'Races, Positions & Points'!EE27)","v":""},{"$f":"IF('Races, Positions & Points'!EG27=\"\",\"\",'Races, Positions & Points'!EG27)","v":""},{"$f":"IF('Races, Positions & Points'!EJ27=\"\",\"\",'Races, Positions & Points'!EJ27)","v":""},{"$f":"IF('Races, Positions & Points'!EM27=\"\",\"\",'Races, Positions & Points'!EM27)","v":""},{"$f":"IF('Races, Positions & Points'!EP27=\"\",\"\",'Races, Positions & Points'!EP27)","v":""},{"$f":"IF('Races, Positions & Points'!ES27=\"\",\"\",'Races, Positions & Points'!ES27)","v":""},{"$f":"IF('Races, Positions & Points'!EV27=\"\",\"\",'Races, Positions & Points'!EV27)","v":""},{"$f":"IF('Races, Positions & Points'!EY27=\"\",\"\",'Races, Positions & Points'!EY27)","v":""},{"$f":"IF('Races, Positions & Points'!FB27=\"\",\"\",'Races, Positions & Points'!FB27)","v":""},{"$f":"IF('Races, Positions & Points'!FE27=\"\",\"\",'Races, Positions & Points'!FE27)","v":""},{"$f":"IF('Races, Positions & Points'!FH27=\"\",\"\",'Races, Positions & Points'!FH27)","v":""},{"$f":"IF('Races, Positions & Points'!FI27=\"\",\"\",'Races, Positions & Points'!FI27)","v":""},null,0,4,0,3,0,0,null,{"$f":"'Races, Positions & Points'!E27","v":18033},{"$f":"'Races, Positions & Points'!G27","v":72.7},31.04,56.04,43.54,51.87,41.04,41.04,87.24,41.04,null,"","","",72.7,"",72.7,87.24,87.24,null,"","","","",74.12,31.04,"","","","","","","","DNF",56.04,"",null,33.86,74.12,53.99,43.86,null,"","","","",null,"","","",74.12,33.86,"","","","",""]
[{"$f":"'Races, Positions & Points'!A28","v":"Maxine Hancock"},{"$f":"IF('Races, Positions & Points'!AB28=\"\",\"\",'Races, Positions & Points'!AB28)","v":""},{"$f":"IF('Races, Positions & Points'!AD28=\"\",\"\",'Races, Positions & Points'!AD28)","v":""},{"$f":"IF('Races, Positions & Points'!AG28=\"\",\"\",'Races, Positions & Points'!AG28)","v":""},{"$f":"IF('Races, Positions & Points'!AJ28=\"\",\"\",'Races, Positions & Points'!AJ28)","v":""},{"$f":"IF('Races, Positions & Points'!AK28=\"\",\"\",'Races, Positions & Points'!AK28)","v":""},{"$f":"IF('Races, Positions & Points'!AN28=\"\",\"\",'Races, Positions & Points'!AN28)","v":""},{"$f":"IF('Races, Positions & Points'!AO28=\"\",\"\",'Races, Positions & Points'!AO28)","v":""},{"$f":"IF('Races, Positions & Points'!AR28=\"\",\"\",'Races, Positions & Points'!AR28)","v":""},{"$f":"IF('Races, Positions & Points'!AU28=\"\",\"\",'Races, Positions & Points'!AU28)","v":""},{"$f":"IF('Races, Positions & Points'!AX28=\"\",\"\",'Races, Positions & Points'!AX28)","v":143.58000000000001},{"$f":"IF('Races, Positions & Points'!BA28=\"\",\"\",'Races, Positions & Points'!BA28)","v":132.80000000000001},{"$f":"IF('Races, Positions & Points'!BD28=\"\",\"\",'Races, Positions & Points'!BD28)","v":""},{"$f":"IF('Races, Positions & Points'!BG28=\"\",\"\",'Races, Positions & Points'!BG28)","v":""},{"$f":"IF('Races, Positions & Points'!BJ28=\"\",\"\",'Races, Positions & Points'!BJ28)","v":""},{"$f":"IF('Races, Positions & Points'!BM28=\"\",\"\",'Races, Positions & Points'!BM28)","v":""},{"$f":"IF('Races, Positions & Points'!BP28=\"\",\"\",'Races, Positions & Points'!BP28)","v":""},{"$f":"IF('Races, Positions & Points'!BS28=\"\",\"\",'Races, Positions & Points'!BS28)","v":""},{"$f":"IF('Races, Positions & Points'!BV28=\"\",\"\",'Races, Positions & Points'!BV28)","v":""},{"$f":"IF('Races, Positions & Points'!BY28=\"\",\"\",'Races, Positions & Points'!BY28)","v":108.11},{"$f":"IF('Races, Positions & Points'!CB28=\"\",\"\",'Races, Positions & Points'!CB28)","v":""},{"$f":"IF('Races, Positions & Points'!CE28=\"\",\"\",'Races, Positions & Points'!CE28)","v":92.89},{"$f":"IF('Races, Positions & Points'!CH28=\"\",\"\",'Races, Positions & Points'!CH28)","v":""},{"$f":"IF('Races, Positions & Points'!CI28=\"\",\"\",'Races, Positions & Points'!CI28)","v":""},{"$f":"IF('Races, Positions & Points'!CL28=\"\",\"\",'Races, Positions & Points'!CL28)","v":""},{"$f":"IF('Races, Positions & Points'!CO28=\"\",\"\",'Races, Positions & Points'!CO28)","v":"DNF"},{"$f":"IF('Races, Positions & Points'!CR28=\"\",\"\",'Races, Positions & Points'!CR28)","v":""},{"$f":"IF('Races, Positions & Points'!CU28=\"\",\"\",'Races, Positions & Points'!CU28)","v":""},{"$f":"IF('Races, Positions & Points'!CX28=\"\",\"\",'Races, Positions & Points'!CX28)","v":""},{"$f":"IF('Races, Positions & Points'!DA28=\"\",\"\",'Races, Positions & Points'!DA28)","v":""},{"$f":"IF('Races, Positions & Points'!DD28=\"\",\"\",'Races, Positions & Points'!DD28)","v":""},{"$f":"IF('Races, Positions & Points'!DG28=\"\",\"\",'Races, Positions & Points'!DG28)","v":""},{"$f":"IF('Races, Positions & Points'!DJ28=\"\",\"\",'Races, Positions & Points'!DJ28)","v":""},{"$f":"IF('Races, Positions & Points'!DM28=\"\",\"\",'Races, Positions & Points'!DM28)","v":""},{"$f":"IF('Races, Positions & Points'!DP28=\"\",\"\",'Races, Positions & Points'!DP28)","v":""},{"$f":"IF('Races, Positions & Points'!DS28=\"\",\"\",'Races, Positions & Points'!DS28)","v":""},{"$f":"IF('Races, Positions & Points'!DV28=\"\",\"\",'Races, Positions & Points'!DV28)","v":124.79},{"$f":"IF('Races, Positions & Points'!DY28=\"\",\"\",'Races, Positions & Points'!DY28)","v":132.25},{"$f":"IF('Races, Positions & Points'!EB28=\"\",\"\",'Races, Positions & Points'!EB28)","v":""},{"$f":"IF('Races, Positions & Points'!EE28=\"\",\"\",'Races, Positions & Points'!EE28)","v":""},{"$f":"IF('Races, Positions & Points'!EG28=\"\",\"\",'Races, Positions & Points'!EG28)","v":""},{"$f":"IF('Races, Positions & Points'!EJ28=\"\",\"\",'Races, Positions & Points'!EJ28)","v":102.32},{"$f":"IF('Races, Positions & Points'!EM28=\"\",\"\",'Races, Positions & Points'!EM28)","v":90.53},{"$f":"IF('Races, Positions & Points'!EP28=\"\",\"\",'Races, Positions & Points'!EP28)","v":""},{"$f":"IF('Races, Positions & Points'!ES28=\"\",\"\",'Races, Positions & Points'!ES28)","v":""},{"$f":"IF('Races, Positions & Points'!EV28=\"\",\"\",'Races, Positions & Points'!EV28)","v":""},{"$f":"IF('Races, Positions & Points'!EY28=\"\",\"\",'Races, Positions & Points'!EY28)","v":75.989999999999995},{"$f":"IF('Races, Positions & Points'!FB28=\"\",\"\",'Races, Positions & Points'!FB28)","v":""},{"$f":"IF('Races, Positions & Points'!FE28=\"\",\"\",'Races, Positions & Points'!FE28)","v":""},{"$f":"IF('Races, Positions & Points'!FH28=\"\",\"\",'Races, Positions & Points'!FH28)","v":""},{"$f":"IF('Races, Positions & Points'!FI28=\"\",\"\",'Races, Positions & Points'!FI28)","v":""},null,0,0,6,0,4,0,null,{"$f":"'Races, Positions & Points'!E28","v":18617},{"$f":"'Races, Positions & Points'!G28","v":74.28},"","","",74.28,"",74.28,89.14,89.14,null,75.989999999999995,92.89,84.44,75.14,91.19,74.28,89.14,84.44,null,124.79,75.989999999999995,92.89,"","","","","","","","","","","","","",null,"","","","",null,75.989999999999995,92.89,84.44,91.187999999999988,null,124.79,75.989999999999995,92.89,"","","","","","",""]
[{"$f":"'Races, Positions & Points'!A29","v":"Jessica Mayhew"},{"$f":"IF('Races, Positions & Points'!AB29=\"\",\"\",'Races, Positions & Points'!AB29)","v":""},{"$f":"IF('Races, Positions & Points'!AD29=\"\",\"\",'Races, Positions & Points'!AD29)","v":""},{"$f":"IF('Races, Positions & Points'!AG29=\"\",\"\",'Races, Positions & Points'!AG29)","v":43.98},{"$f":"IF('Races, Positions & Points'!AJ29=\"\",\"\",'Races, Positions & Points'!AJ29)","v":""},{"$f":"IF('Races, Positions & Points'!AK29=\"\",\"\",'Races, Positions & Points'!AK29)","v":""},{"$f":"IF('Races, Positions & Points'!AN29=\"\",\"\",'Races, Positions & Points'!AN29)","v":""},{"$f":"IF('Races, Positions & Points'!AO29=\"\",\"\",'Races, Positions & Points'!AO29)","v":""},{"$f":"IF('Races, Positions & Points'!AR29=\"\",\"\",'Races, Positions & Points'!AR29)","v":52.14},{"$f":"IF('Races, Positions & Points'!AU29=\"\",\"\",'Races, Positions & Points'!AU29)","v":"DNF"},{"$f":"IF('Races, Positions & Points'!AX29=\"\",\"\",'Races, Positions & Points'!AX29)","v":""},{"$f":"IF('Races, Positions & Points'!BA29=\"\",\"\",'Races, Positions & Points'!BA29)","v":""},{"$f":"IF('Races, Positions & Points'!BD29=\"\",\"\",'Races, Positions & Points'!BD29)","v":81.75},{"$f":"IF('Races, Positions & Points'!BG29=\"\",\"\",'Races, Positions & Points'!BG29)","v":""},{"$f":"IF('Races, Positions & Points'!BJ29=\"\",\"\",'Races, Positions & Points'!BJ29)","v":"DSQ"},{"$f":"IF('Races, Positions & Points'!BM29=\"\",\"\",'Races, Positions & Points'!BM29)","v":""},{"$f":"IF('Races, Positions & Points'!BP29=\"\",\"\",'Races, Positions & Points'!BP29)","v":""},{"$f":"IF('Races, Positions & Points'!BS29=\"\",\"\",'Races, Positions & Points'!BS29)","v":902.26},{"$f":"IF('Races, Positions & Points'!BV29=\"\",\"\",'Races, Positions & Points'!BV29)","v":""},{"$f":"IF('Races, Positions & Points'!BY29=\"\",\"\",'Races, Positions & Points'!BY29)","v":""},{"$f":"IF('Races, Positions & Points'!CB29=\"\",\"\",'Races, Positions & Points'!CB29)","v":""},{"$f":"IF('Races, Positions & Points'!CE29=\"\",\"\",'Races, Positions & Points'!CE29)","v":""},{"$f":"IF('Races, Positions & Points'!CH29=\"\",\"\",'Races, Positions & Points'!CH29)","v":""},{"$f":"IF('Races, Positions & Points'!CI29=\"\",\"\",'Races, Positions & Points'!CI29)","v":""},{"$f":"IF('Races, Positions & Points'!CL29=\"\",\"\",'Races, Positions & Points'!CL29)","v":51.56},{"$f":"IF('Races, Positions & Points'!CO29=\"\",\"\",'Races, Positions & Points'!CO29)","v":""},{"$f":"IF('Races, Positions & Points'!CR29=\"\",\"\",'Races, Positions & Points'!CR29)","v":62.03},{"$f":"IF('Races, Positions & Points'!CU29=\"\",\"\",'Races, Positions & Points'!CU29)","v":66.87},{"$f":"IF('Races, Positions & Points'!CX29=\"\",\"\",'Races, Positions & Points'!CX29)","v":65.430000000000007},{"$f":"IF('Races, Positions & Points'!DA29=\"\",\"\",'Races, Positions & Points'!DA29)","v":""},{"$f":"IF('Races, Positions & Points'!DD29=\"\",\"\",'Races, Positions & Points'!DD29)","v":68.900000000000006},{"$f":"IF('Races, Positions & Points'!DG29=\"\",\"\",'Races, Positions & Points'!DG29)","v":""},{"$f":"IF('Races, Positions & Points'!DJ29=\"\",\"\",'Races, Positions & Points'!DJ29)","v":""},{"$f":"IF('Races, Positions & Points'!DM29=\"\",\"\",'Races, Positions & Points'!DM29)","v":""},{"$f":"IF('Races, Positions & Points'!DP29=\"\",\"\",'Races, Positions & Points'!DP29)","v":""},{"$f":"IF('Races, Positions & Points'!DS29=\"\",\"\",'Races, Positions & Points'!DS29)","v":""},{"$f":"IF('Races, Positions & Points'!DV29=\"\",\"\",'Races, Positions & Points'!DV29)","v":""},{"$f":"IF('Races, Positions & Points'!DY29=\"\",\"\",'Races, Positions & Points'!DY29)","v":""},{"$f":"IF('Races, Positions & Points'!EB29=\"\",\"\",'Races, Positions & Points'!EB29)","v":""},{"$f":"IF('Races, Positions & Points'!EE29=\"\",\"\",'Races, Positions & Points'!EE29)","v":20},{"$f":"IF('Races, Positions & Points'!EG29=\"\",\"\",'Races, Positions & Points'!EG29)","v":87.31},{"$f":"IF('Races, Positions & Points'!EJ29=\"\",\"\",'Races, Positions & Points'!EJ29)","v":""},{"$f":"IF('Races, Positions & Points'!EM29=\"\",\"\",'Races, Positions & Points'!EM29)","v":""},{"$f":"IF('Races, Positions & Points'!EP29=\"\",\"\",'Races, Positions & Points'!EP29)","v":61.94},{"$f":"IF('Races, Positions & Points'!ES29=\"\",\"\",'Races, Positions & Points'!ES29)","v":83.13},{"$f":"IF('Races, Positions & Points'!EV29=\"\",\"\",'Races, Positions & Points'!EV29)","v":""},{"$f":"IF('Races, Positions & Points'!EY29=\"\",\"\",'Races, Positions & Points'!EY29)","v":""},{"$f":"IF('Races, Positions & Points'!FB29=\"\",\"\",'Races, Positions & Points'!FB29)","v":""},{"$f":"IF('Races, Positions & Points'!FE29=\"\",\"\",'Races, Positions & Points'!FE29)","v":""},{"$f":"IF('Races, Positions & Points'!FH29=\"\",\"\",'Races, Positions & Points'!FH29)","v":""},{"$f":"IF('Races, Positions & Points'!FI29=\"\",\"\",'Races, Positions & Points'!FI29)","v":""},null,0,5,0,{"$f":"SUMPRODUCT(--(B$4:AY$4=\"Out\"),--(B$3:AY$3=5),--(B$5:AY$5=\"Y\"),--(B29:AY29<>\"\"))","v":6},0,3,null,{"$f":"'Races, Positions & Points'!E29","v":21014},{"$f":"'Races, Positions & Points'!G29","v":84.18},43.98,51.56,47.77,64.08,53.98,47.77,101.02,47.77,null,"","","",84.18,"",84.18,101.02,101.02,null,"","","","",61.94,43.98,52.14,"","",902.26,"",51.56,62.03,"","","",null,61.94,68.900000000000006,65.42,74.327999999999989,null,"","","","",null,"","","",61.94,68.900000000000006,"DNF","",902.26,87.31,""]
[{"$f":"'Races, Positions & Points'!A30","v":"Hannah Shakeshaft"},{"$f":"IF('Races, Positions & Points'!AB30=\"\",\"\",'Races, Positions & Points'!AB30)","v":""},{"$f":"IF('Races, Positions & Points'!AD30=\"\",\"\",'Races, Positions & Points'!AD30)","v":""},{"$f":"IF('Races, Positions & Points'!AG30=\"\",\"\",'Races, Positions & Points'!AG30)","v":""},{"$f":"IF('Races, Positions & Points'!AJ30=\"\",\"\",'Races, Positions & Points'!AJ30)","v":""},{"$f":"IF('Races, Positions & Points'!AK30=\"\",\"\",'Races, Positions & Points'!AK30)","v":""},{"$f":"IF('Races, Positions & Points'!AN30=\"\",\"\",'Races, Positions & Points'!AN30)","v":""},{"$f":"IF('Races, Positions & Points'!AO30=\"\",\"\",'Races, Positions & Points'!AO30)","v":""},{"$f":"IF('Races, Positions & Points'!AR30=\"\",\"\",'Races, Positions & Points'!AR30)","v":""},{"$f":"IF('Races, Positions & Points'!AU30=\"\",\"\",'Races, Positions & Points'!AU30)","v":""},{"$f":"IF('Races, Positions & Points'!AX30=\"\",\"\",'Races, Positions & Points'!AX30)","v":""},{"$f":"IF('Races, Positions & Points'!BA30=\"\",\"\",'Races, Positions & Points'!BA30)","v":""},{"$f":"IF('Races, Positions & Points'!BD30=\"\",\"\",'Races, Positions & Points'!BD30)","v":""},{"$f":"IF('Races, Positions & Points'!BG30=\"\",\"\",'Races, Positions & Points'!BG30)","v":""},{"$f":"IF('Races, Positions & Points'!BJ30=\"\",\"\",'Races, Positions & Points'!BJ30)","v":""},{"$f":"IF('Races, Positions & Points'!BM30=\"\",\"\",'Races, Positions & Points'!BM30)","v":""},{"$f":"IF('Races, Positions & Points'!BP30=\"\",\"\",'Races, Positions & Points'!BP30)","v":""},{"$f":"IF('Races, Positions & Points'!BS30=\"\",\"\",'Races, Positions & Points'!BS30)","v":""},{"$f":"IF('Races, Positions & Points'!BV30=\"\",\"\",'Races, Positions & Points'!BV30)","v":""},{"$f":"IF('Races, Positions & Points'!BY30=\"\",\"\",'Races, Positions & Points'!BY30)","v":""},{"$f":"IF('Races, Positions & Points'!CB30=\"\",\"\",'Races, Positions & Points'!CB30)","v":""},{"$f":"IF('Races, Positions & Points'!CE30=\"\",\"\",'Races, Positions & Points'!CE30)","v":""},{"$f":"IF('Races, Positions & Points'!CH30=\"\",\"\",'Races, Positions & Points'!CH30)","v":""},{"$f":"IF('Races, Positions & Points'!CI30=\"\",\"\",'Races, Positions & Points'!CI30)","v":""},{"$f":"IF('Races, Positions & Points'!CL30=\"\",\"\",'Races, Positions & Points'!CL30)","v":""},{"$f":"IF('Races, Positions & Points'!CO30=\"\",\"\",'Races, Positions & Points'!CO30)","v":""},{"$f":"IF('Races, Positions & Points'!CR30=\"\",\"\",'Races, Positions & Points'!CR30)","v":""},{"$f":"IF('Races, Positions & Points'!CU30=\"\",\"\",'Races, Positions & Points'!CU30)","v":""},{"$f":"IF('Races, Positions & Points'!CX30=\"\",\"\",'Races, Positions & Points'!CX30)","v":""},{"$f":"IF('Races, Positions & Points'!DA30=\"\",\"\",'Races, Positions & Points'!DA30)","v":""},{"$f":"IF('Races, Positions & Points'!DD30=\"\",\"\",'Races, Positions & Points'!DD30)","v":""},{"$f":"IF('Races, Positions & Points'!DG30=\"\",\"\",'Races, Positions & Points'!DG30)","v":""},{"$f":"IF('Races, Positions & Points'!DJ30=\"\",\"\",'Races, Positions & Points'!DJ30)","v":""},{"$f":"IF('Races, Positions & Points'!DM30=\"\",\"\",'Races, Positions & Points'!DM30)","v":""},{"$f":"IF('Races, Positions & Points'!DP30=\"\",\"\",'Races, Positions & Points'!DP30)","v":""},{"$f":"IF('Races, Positions & Points'!DS30=\"\",\"\",'Races, Positions & Points'!DS30)","v":""},{"$f":"IF('Races, Positions & Points'!DV30=\"\",\"\",'Races, Positions & Points'!DV30)","v":""},{"$f":"IF('Races, Positions & Points'!DY30=\"\",\"\",'Races, Positions & Points'!DY30)","v":""},{"$f":"IF('Races, Positions & Points'!EB30=\"\",\"\",'Races, Positions & Points'!EB30)","v":""},{"$f":"IF('Races, Positions & Points'!EE30=\"\",\"\",'Races, Positions & Points'!EE30)","v":""},{"$f":"IF('Races, Positions & Points'!EG30=\"\",\"\",'Races, Positions & Points'!EG30)","v":""},{"$f":"IF('Races, Positions & Points'!EJ30=\"\",\"\",'Races, Positions & Points'!EJ30)","v":""},{"$f":"IF('Races, Positions & Points'!EM30=\"\",\"\",'Races, Positions & Points'!EM30)","v":""},{"$f":"IF('Races, Positions & Points'!EP30=\"\",\"\",'Races, Positions & Points'!EP30)","v":""},{"$f":"IF('Races, Positions & Points'!ES30=\"\",\"\",'Races, Positions & Points'!ES30)","v":""},{"$f":"IF('Races, Positions & Points'!EV30=\"\",\"\",'Races, Positions & Points'!EV30)","v":""},{"$f":"IF('Races, Positions & Points'!EY30=\"\",\"\",'Races, Positions & Points'!EY30)","v":""},{"$f":"IF('Races, Positions & Points'!FB30=\"\",\"\",'Races, Positions & Points'!FB30)","v":""},{"$f":"IF('Races, Positions & Points'!FE30=\"\",\"\",'Races, Positions & Points'!FE30)","v":""},{"$f":"IF('Races, Positions & Points'!FH30=\"\",\"\",'Races, Positions & Points'!FH30)","v":""},{"$f":"IF('Races, Positions & Points'!FI30=\"\",\"\",'Races, Positions & Points'!FI30)","v":""},null,0,0,0,{"$f":"SUMPRODUCT(--(B$4:AY$4=\"Out\"),--(B$3:AY$3=5),--(B$5:AY$5=\"Y\"),--(B30:AY30<>\"\"))","v":0},0,0,null,{"$f":"'Races, Positions & Points'!E30","v":19833},{"$f":"'Races, Positions & Points'!G30","v":140.29},"","","",140.29,"",140.29,168.35,168.35,null,"","","",140.29,"",140.29,168.35,168.35,null,"","","","","","","","","","","","","","","","",null,"","","","",null,"","","","",null,"","","","","","","","","",""]
[{"$f":"'Races, Positions & Points'!A31","v":"Chloe Care"},{"$f":"IF('Races, Positions & Points'!AB31=\"\",\"\",'Races, Positions & Points'!AB31)","v":224.07999999999998},{"$f":"IF('Races, Positions & Points'!AD31=\"\",\"\",'Races, Positions & Points'!AD31)","v":""},{"$f":"IF('Races, Positions & Points'!AG31=\"\",\"\",'Races, Positions & Points'!AG31)","v":""},{"$f":"IF('Races, Positions & Points'!AJ31=\"\",\"\",'Races, Positions & Points'!AJ31)","v":""},{"$f":"IF('Races, Positions & Points'!AK31=\"\",\"\",'Races, Positions & Points'!AK31)","v":""},{"$f":"IF('Races, Positions & Points'!AN31=\"\",\"\",'Races, Positions & Points'!AN31)","v":""},{"$f":"IF('Races, Positions & Points'!AO31=\"\",\"\",'Races, Positions & Points'!AO31)","v":""},{"$f":"IF('Races, Positions & Points'!AR31=\"\",\"\",'Races, Positions & Points'!AR31)","v":""},{"$f":"IF('Races, Positions & Points'!AU31=\"\",\"\",'Races, Positions & Points'!AU31)","v":""},{"$f":"IF('Races, Positions & Points'!AX31=\"\",\"\",'Races, Positions & Points'!AX31)","v":""},{"$f":"IF('Races, Positions & Points'!BA31=\"\",\"\",'Races, Positions & Points'!BA31)","v":""},{"$f":"IF('Races, Positions & Points'!BD31=\"\",\"\",'Races, Positions & Points'!BD31)","v":""},{"$f":"IF('Races, Positions & Points'!BG31=\"\",\"\",'Races, Positions & Points'!BG31)","v":""},{"$f":"IF('Races, Positions & Points'!BJ31=\"\",\"\",'Races, Positions & Points'!BJ31)","v":""},{"$f":"IF('Races, Positions & Points'!BM31=\"\",\"\",'Races, Positions & Points'!BM31)","v":""},{"$f":"IF('Races, Positions & Points'!BP31=\"\",\"\",'Races, Positions & Points'!BP31)","v":""},{"$f":"IF('Races, Positions & Points'!BS31=\"\",\"\",'Races, Positions & Points'!BS31)","v":""},{"$f":"IF('Races, Positions & Points'!BV31=\"\",\"\",'Races, Positions & Points'!BV31)","v":""},{"$f":"IF('Races, Positions & Points'!BY31=\"\",\"\",'Races, Positions & Points'!BY31)","v":""},{"$f":"IF('Races, Positions & Points'!CB31=\"\",\"\",'Races, Positions & Points'!CB31)","v":""},{"$f":"IF('Races, Positions & Points'!CE31=\"\",\"\",'Races, Positions & Points'!CE31)","v":""},{"$f":"IF('Races, Positions & Points'!CH31=\"\",\"\",'Races, Positions & Points'!CH31)","v":""},{"$f":"IF('Races, Positions & Points'!CI31=\"\",\"\",'Races, Positions & Points'!CI31)","v":""},{"$f":"IF('Races, Positions & Points'!CL31=\"\",\"\",'Races, Positions & Points'!CL31)","v":""},{"$f":"IF('Races, Positions & Points'!CO31=\"\",\"\",'Races, Positions & Points'!CO31)","v":""},{"$f":"IF('Races, Positions & Points'!CR31=\"\",\"\",'Races, Positions & Points'!CR31)","v":""},{"$f":"IF('Races, Positions & Points'!CU31=\"\",\"\",'Races, Positions & Points'!CU31)","v":""},{"$f":"IF('Races, Positions & Points'!CX31=\"\",\"\",'Races, Positions & Points'!CX31)","v":""},{"$f":"IF('Races, Positions & Points'!DA31=\"\",\"\",'Races, Positions & Points'!DA31)","v":207.02},{"$f":"IF('Races, Positions & Points'!DD31=\"\",\"\",'Races, Positions & Points'!DD31)","v":""},{"$f":"IF('Races, Positions & Points'!DG31=\"\",\"\",'Races, Positions & Points'!DG31)","v":""},{"$f":"IF('Races, Positions & Points'!DJ31=\"\",\"\",'Races, Positions & Points'!DJ31)","v":""},{"$f":"IF('Races, Positions & Points'!DM31=\"\",\"\",'Races, Positions & Points'!DM31)","v":""},{"$f":"IF('Races, Positions & Points'!DP31=\"\",\"\",'Races, Positions & Points'!DP31)","v":""},{"$f":"IF('Races, Positions & Points'!DS31=\"\",\"\",'Races, Positions & Points'!DS31)","v":""},{"$f":"IF('Races, Positions & Points'!DV31=\"\",\"\",'Races, Positions & Points'!DV31)","v":""},{"$f":"IF('Races, Positions & Points'!DY31=\"\",\"\",'Races, Positions & Points'!DY31)","v":""},{"$f":"IF('Races, Positions & Points'!EB31=\"\",\"\",'Races, Positions & Points'!EB31)","v":""},{"$f":"IF('Races, Positions & Points'!EE31=\"\",\"\",'Races, Positions & Points'!EE31)","v":""},{"$f":"IF('Races, Positions & Points'!EG31=\"\",\"\",'Races, Positions & Points'!EG31)","v":""},{"$f":"IF('Races, Positions & Points'!EJ31=\"\",\"\",'Races, Positions & Points'!EJ31)","v":""},{"$f":"IF('Races, Positions & Points'!EM31=\"\",\"\",'Races, Positions & Points'!EM31)","v":""},{"$f":"IF('Races, Positions & Points'!EP31=\"\",\"\",'Races, Positions & Points'!EP31)","v":""},{"$f":"IF('Races, Positions & Points'!ES31=\"\",\"\",'Races, Positions & Points'!ES31)","v":""},{"$f":"IF('Races, Positions & Points'!EV31=\"\",\"\",'Races, Positions & Points'!EV31)","v":""},{"$f":"IF('Races, Positions & Points'!EY31=\"\",\"\",'Races, Positions & Points'!EY31)","v":""},{"$f":"IF('Races, Positions & Points'!FB31=\"\",\"\",'Races, Positions & Points'!FB31)","v":""},{"$f":"IF('Races, Positions & Points'!FE31=\"\",\"\",'Races, Positions & Points'!FE31)","v":""},{"$f":"IF('Races, Positions & Points'!FH31=\"\",\"\",'Races, Positions & Points'!FH31)","v":""},{"$f":"IF('Races, Positions & Points'!FI31=\"\",\"\",'Races, Positions & Points'!FI31)","v":""},null,0,2,0,0,0,0,null,{"$f":"'Races, Positions & Points'!E31","v":19983},{"$f":"'Races, Positions & Points'!G31","v":203.01},207.02,224.07999999999998,215.55,205.02,248.42,203.01,243.61,215.55,null,"","","",203.01,"",203.01,243.61,243.61,null,"","","","",224.07999999999998,"","","","","","","","",207.02,"","",null,"","","","",null,"","","","",null,"","","","","","","","","",""]
[{"$f":"'Races, Positions & Points'!A32","v":"Geraldine Elgy"},{"$f":"IF('Races, Positions & Points'!AB32=\"\",\"\",'Races, Positions & Points'!AB32)","v":""},{"$f":"IF('Races, Positions & Points'!AD32=\"\",\"\",'Races, Positions & Points'!AD32)","v":""},{"$f":"IF('Races, Positions & Points'!AG32=\"\",\"\",'Races, Positions & Points'!AG32)","v":""},{"$f":"IF('Races, Positions & Points'!AJ32=\"\",\"\",'Races, Positions & Points'!AJ32)","v":""},{"$f":"IF('Races, Positions & Points'!AK32=\"\",\"\",'Races, Positions & Points'!AK32)","v":""},{"$f":"IF('Races, Positions & Points'!AN32=\"\",\"\",'Races, Positions & Points'!AN32)","v":""},{"$f":"IF('Races, Positions & Points'!AO32=\"\",\"\",'Races, Positions & Points'!AO32)","v":""},{"$f":"IF('Races, Positions & Points'!AR32=\"\",\"\",'Races, Positions & Points'!AR32)","v":""},{"$f":"IF('Races, Positions & Points'!AU32=\"\",\"\",'Races, Positions & Points'!AU32)","v":""},{"$f":"IF('Races, Positions & Points'!AX32=\"\",\"\",'Races, Positions & Points'!AX32)","v":""},{"$f":"IF('Races, Positions & Points'!BA32=\"\",\"\",'Races, Positions & Points'!BA32)","v":""},{"$f":"IF('Races, Positions & Points'!BD32=\"\",\"\",'Races, Positions & Points'!BD32)","v":""},{"$f":"IF('Races, Positions & Points'!BG32=\"\",\"\",'Races, Positions & Points'!BG32)","v":""},{"$f":"IF('Races, Positions & Points'!BJ32=\"\",\"\",'Races, Positions & Points'!BJ32)","v":""},{"$f":"IF('Races, Positions & Points'!BM32=\"\",\"\",'Races, Positions & Points'!BM32)","v":""},{"$f":"IF('Races, Positions & Points'!BP32=\"\",\"\",'Races, Positions & Points'!BP32)","v":""},{"$f":"IF('Races, Positions & Points'!BS32=\"\",\"\",'Races, Positions & Points'!BS32)","v":""},{"$f":"IF('Races, Positions & Points'!BV32=\"\",\"\",'Races, Positions & Points'!BV32)","v":""},{"$f":"IF('Races, Positions & Points'!BY32=\"\",\"\",'Races, Positions & Points'!BY32)","v":""},{"$f":"IF('Races, Positions & Points'!CB32=\"\",\"\",'Races, Positions & Points'!CB32)","v":""},{"$f":"IF('Races, Positions & Points'!CE32=\"\",\"\",'Races, Positions & Points'!CE32)","v":""},{"$f":"IF('Races, Positions & Points'!CH32=\"\",\"\",'Races, Positions & Points'!CH32)","v":""},{"$f":"IF('Races, Positions & Points'!CI32=\"\",\"\",'Races, Positions & Points'!CI32)","v":""},{"$f":"IF('Races, Positions & Points'!CL32=\"\",\"\",'Races, Positions & Points'!CL32)","v":""},{"$f":"IF('Races, Positions & Points'!CO32=\"\",\"\",'Races, Positions & Points'!CO32)","v":""},{"$f":"IF('Races, Positions & Points'!CR32=\"\",\"\",'Races, Positions & Points'!CR32)","v":""},{"$f":"IF('Races, Positions & Points'!CU32=\"\",\"\",'Races, Positions & Points'!CU32)","v":""},{"$f":"IF('Races, Positions & Points'!CX32=\"\",\"\",'Races, Positions & Points'!CX32)","v":""},{"$f":"IF('Races, Positions & Points'!DA32=\"\",\"\",'Races, Positions & Points'!DA32)","v":""},{"$f":"IF('Races, Positions & Points'!DD32=\"\",\"\",'Races, Positions & Points'!DD32)","v":""},{"$f":"IF('Races, Positions & Points'!DG32=\"\",\"\",'Races, Positions & Points'!DG32)","v":""},{"$f":"IF('Races, Positions & Points'!DJ32=\"\",\"\",'Races, Positions & Points'!DJ32)","v":""},{"$f":"IF('Races, Positions & Points'!DM32=\"\",\"\",'Races, Positions & Points'!DM32)","v":""},{"$f":"IF('Races, Positions & Points'!DP32=\"\",\"\",'Races, Positions & Points'!DP32)","v":""},{"$f":"IF('Races, Positions & Points'!DS32=\"\",\"\",'Races, Positions & Points'!DS32)","v":""},{"$f":"IF('Races, Positions & Points'!DV32=\"\",\"\",'Races, Positions & Points'!DV32)","v":""},{"$f":"IF('Races, Positions & Points'!DY32=\"\",\"\",'Races, Positions & Points'!DY32)","v":""},{"$f":"IF('Races, Positions & Points'!EB32=\"\",\"\",'Races, Positions & Points'!EB32)","v":""},{"$f":"IF('Races, Positions & Points'!EE32=\"\",\"\",'Races, Positions & Points'!EE32)","v":""},{"$f":"IF('Races, Positions & Points'!EG32=\"\",\"\",'Races, Positions & Points'!EG32)","v":""},{"$f":"IF('Races, Positions & Points'!EJ32=\"\",\"\",'Races, Positions & Points'!EJ32)","v":""},{"$f":"IF('Races, Positions & Points'!EM32=\"\",\"\",'Races, Positions & Points'!EM32)","v":""},{"$f":"IF('Races, Positions & Points'!EP32=\"\",\"\",'Races, Positions & Points'!EP32)","v":""},{"$f":"IF('Races, Positions & Points'!ES32=\"\",\"\",'Races, Positions & Points'!ES32)","v":""},{"$f":"IF('Races, Positions & Points'!EV32=\"\",\"\",'Races, Positions & Points'!EV32)","v":""},{"$f":"IF('Races, Positions & Points'!EY32=\"\",\"\",'Races, Positions & Points'!EY32)","v":""},{"$f":"IF('Races, Positions & Points'!FB32=\"\",\"\",'Races, Positions & Points'!FB32)","v":""},{"$f":"IF('Races, Positions & Points'!FE32=\"\",\"\",'Races, Positions & Points'!FE32)","v":""},{"$f":"IF('Races, Positions & Points'!FH32=\"\",\"\",'Races, Positions & Points'!FH32)","v":""},{"$f":"IF('Races, Positions & Points'!FI32=\"\",\"\",'Races, Positions & Points'!FI32)","v":""},null,0,0,0,0,0,0,null,{"$f":"'Races, Positions & Points'!E32","v":19165},{"$f":"'Races, Positions & Points'!G32","v":330.25},"","","",330.25,"",330.25,396.3,396.3,null,"","","",330.25,"",330.25,396.3,396.3,null,"","","","","","","","","","","","","","","","",null,"","","","",null,"","","","",null,"","","","","","","","","",""]
[{"$f":"'Races, Positions & Points'!A33","v":"Laura Newboult"},{"$f":"IF('Races, Positions & Points'!AB33=\"\",\"\",'Races, Positions & Points'!AB33)","v":""},{"$f":"IF('Races, Positions & Points'!AD33=\"\",\"\",'Races, Positions & Points'!AD33)","v":""},{"$f":"IF('Races, Positions & Points'!AG33=\"\",\"\",'Races, Positions & Points'!AG33)","v":""},{"$f":"IF('Races, Positions & Points'!AJ33=\"\",\"\",'Races, Positions & Points'!AJ33)","v":""},{"$f":"IF('Races, Positions & Points'!AK33=\"\",\"\",'Races, Positions & Points'!AK33)","v":""},{"$f":"IF('Races, Positions & Points'!AN33=\"\",\"\",'Races, Positions & Points'!AN33)","v":""},{"$f":"IF('Races, Positions & Points'!AO33=\"\",\"\",'Races, Positions & Points'!AO33)","v":""},{"$f":"IF('Races, Positions & Points'!AR33=\"\",\"\",'Races, Positions & Points'!AR33)","v":""},{"$f":"IF('Races, Positions & Points'!AU33=\"\",\"\",'Races, Positions & Points'!AU33)","v":""},{"$f":"IF('Races, Positions & Points'!AX33=\"\",\"\",'Races, Positions & Points'!AX33)","v":""},{"$f":"IF('Races, Positions & Points'!BA33=\"\",\"\",'Races, Positions & Points'!BA33)","v":""},{"$f":"IF('Races, Positions & Points'!BD33=\"\",\"\",'Races, Positions & Points'!BD33)","v":""},{"$f":"IF('Races, Positions & Points'!BG33=\"\",\"\",'Races, Positions & Points'!BG33)","v":""},{"$f":"IF('Races, Positions & Points'!BJ33=\"\",\"\",'Races, Positions & Points'!BJ33)","v":""},{"$f":"IF('Races, Positions & Points'!BM33=\"\",\"\",'Races, Positions & Points'!BM33)","v":""},{"$f":"IF('Races, Positions & Points'!BP33=\"\",\"\",'Races, Positions & Points'!BP33)","v":""},{"$f":"IF('Races, Positions & Points'!BS33=\"\",\"\",'Races, Positions & Points'!BS33)","v":""},{"$f":"IF('Races, Positions & Points'!BV33=\"\",\"\",'Races, Positions & Points'!BV33)","v":""},{"$f":"IF('Races, Positions & Points'!BY33=\"\",\"\",'Races, Positions & Points'!BY33)","v":""},{"$f":"IF('Races, Positions & Points'!CB33=\"\",\"\",'Races, Positions & Points'!CB33)","v":""},{"$f":"IF('Races, Positions & Points'!CE33=\"\",\"\",'Races, Positions & Points'!CE33)","v":""},{"$f":"IF('Races, Positions & Points'!CH33=\"\",\"\",'Races, Positions & Points'!CH33)","v":""},{"$f":"IF('Races, Positions & Points'!CI33=\"\",\"\",'Races, Positions & Points'!CI33)","v":""},{"$f":"IF('Races, Positions & Points'!CL33=\"\",\"\",'Races, Positions & Points'!CL33)","v":""},{"$f":"IF('Races, Positions & Points'!CO33=\"\",\"\",'Races, Positions & Points'!CO33)","v":""},{"$f":"IF('Races, Positions & Points'!CR33=\"\",\"\",'Races, Positions & Points'!CR33)","v":""},{"$f":"IF('Races, Positions & Points'!CU33=\"\",\"\",'Races, Positions & Points'!CU33)","v":""},{"$f":"IF('Races, Positions & Points'!CX33=\"\",\"\",'Races, Positions & Points'!CX33)","v":""},{"$f":"IF('Races, Positions & Points'!DA33=\"\",\"\",'Races, Positions & Points'!DA33)","v":""},{"$f":"IF('Races, Positions & Points'!DD33=\"\",\"\",'Races, Positions & Points'!DD33)","v":""},{"$f":"IF('Races, Positions & Points'!DG33=\"\",\"\",'Races, Positions & Points'!DG33)","v":""},{"$f":"IF('Races, Positions & Points'!DJ33=\"\",\"\",'Races, Positions & Points'!DJ33)","v":""},{"$f":"IF('Races, Positions & Points'!DM33=\"\",\"\",'Races, Positions & Points'!DM33)","v":""},{"$f":"IF('Races, Positions & Points'!DP33=\"\",\"\",'Races, Positions & Points'!DP33)","v":""},{"$f":"IF('Races, Positions & Points'!DS33=\"\",\"\",'Races, Positions & Points'!DS33)","v":""},{"$f":"IF('Races, Positions & Points'!DV33=\"\",\"\",'Races, Positions & Points'!DV33)","v":""},{"$f":"IF('Races, Positions & Points'!DY33=\"\",\"\",'Races, Positions & Points'!DY33)","v":""},{"$f":"IF('Races, Positions & Points'!EB33=\"\",\"\",'Races, Positions & Points'!EB33)","v":""},{"$f":"IF('Races, Positions & Points'!EE33=\"\",\"\",'Races, Positions & Points'!EE33)","v":""},{"$f":"IF('Races, Positions & Points'!EG33=\"\",\"\",'Races, Positions & Points'!EG33)","v":""},{"$f":"IF('Races, Positions & Points'!EJ33=\"\",\"\",'Races, Positions & Points'!EJ33)","v":""},{"$f":"IF('Races, Positions & Points'!EM33=\"\",\"\",'Races, Positions & Points'!EM33)","v":""},{"$f":"IF('Races, Positions & Points'!EP33=\"\",\"\",'Races, Positions & Points'!EP33)","v":""},{"$f":"IF('Races, Positions & Points'!ES33=\"\",\"\",'Races, Positions & Points'!ES33)","v":""},{"$f":"IF('Races, Positions & Points'!EV33=\"\",\"\",'Races, Positions & Points'!EV33)","v":""},{"$f":"IF('Races, Positions & Points'!EY33=\"\",\"\",'Races, Positions & Points'!EY33)","v":""},{"$f":"IF('Races, Positions & Points'!FB33=\"\",\"\",'Races, Positions & Points'!FB33)","v":""},{"$f":"IF('Races, Positions & Points'!FE33=\"\",\"\",'Races, Positions & Points'!FE33)","v":""},{"$f":"IF('Races, Positions & Points'!FH33=\"\",\"\",'Races, Positions & Points'!FH33)","v":""},{"$f":"IF('Races, Positions & Points'!FI33=\"\",\"\",'Races, Positions & Points'!FI33)","v":""},null,0,0,0,0,0,0,null,{"$f":"'Races, Positions & Points'!E33","v":20781},{"$f":"'Races, Positions & Points'!G33","v":428.94},"","","",428.94,"",428.94,514.73,514.73,null,"","","",428.94,"",428.94,514.73,514.73,null,"","","","","","","","","","","","","","","","",null,"","","","",null,"","","","",null,"","","","","","","","","",""]
[{"$f":"'Races, Positions & Points'!A34","v":"Robyn Doherty"},{"$f":"IF('Races, Positions & Points'!AB34=\"\",\"\",'Races, Positions & Points'!AB34)","v":""},{"$f":"IF('Races, Positions & Points'!AD34=\"\",\"\",'Races, Positions & Points'!AD34)","v":""},{"$f":"IF('Races, Positions & Points'!AG34=\"\",\"\",'Races, Positions & Points'!AG34)","v":""},{"$f":"IF('Races, Positions & Points'!AJ34=\"\",\"\",'Races, Positions & Points'!AJ34)","v":""},{"$f":"IF('Races, Positions & Points'!AK34=\"\",\"\",'Races, Positions & Points'!AK34)","v":""},{"$f":"IF('Races, Positions & Points'!AN34=\"\",\"\",'Races, Positions & Points'!AN34)","v":""},{"$f":"IF('Races, Positions & Points'!AO34=\"\",\"\",'Races, Positions & Points'!AO34)","v":""},{"$f":"IF('Races, Positions & Points'!AR34=\"\",\"\",'Races, Positions & Points'!AR34)","v":""},{"$f":"IF('Races, Positions & Points'!AU34=\"\",\"\",'Races, Positions & Points'!AU34)","v":""},{"$f":"IF('Races, Positions & Points'!AX34=\"\",\"\",'Races, Positions & Points'!AX34)","v":""},{"$f":"IF('Races, Positions & Points'!BA34=\"\",\"\",'Races, Positions & Points'!BA34)","v":""},{"$f":"IF('Races, Positions & Points'!BD34=\"\",\"\",'Races, Positions & Points'!BD34)","v":""},{"$f":"IF('Races, Positions & Points'!BG34=\"\",\"\",'Races, Positions & Points'!BG34)","v":""},{"$f":"IF('Races, Positions & Points'!BJ34=\"\",\"\",'Races, Positions & Points'!BJ34)","v":""},{"$f":"IF('Races, Positions & Points'!BM34=\"\",\"\",'Races, Positions & Points'!BM34)","v":""},{"$f":"IF('Races, Positions & Points'!BP34=\"\",\"\",'Races, Positions & Points'!BP34)","v":""},{"$f":"IF('Races, Positions & Points'!BS34=\"\",\"\",'Races, Positions & Points'!BS34)","v":""},{"$f":"IF('Races, Positions & Points'!BV34=\"\",\"\",'Races, Positions & Points'!BV34)","v":""},{"$f":"IF('Races, Positions & Points'!BY34=\"\",\"\",'Races, Positions & Points'!BY34)","v":""},{"$f":"IF('Races, Positions & Points'!CB34=\"\",\"\",'Races, Positions & Points'!CB34)","v":""},{"$f":"IF('Races, Positions & Points'!CE34=\"\",\"\",'Races, Positions & Points'!CE34)","v":""},{"$f":"IF('Races, Positions & Points'!CH34=\"\",\"\",'Races, Positions & Points'!CH34)","v":""},{"$f":"IF('Races, Positions & Points'!CI34=\"\",\"\",'Races, Positions & Points'!CI34)","v":""},{"$f":"IF('Races, Positions & Points'!CL34=\"\",\"\",'Races, Positions & Points'!CL34)","v":""},{"$f":"IF('Races, Positions & Points'!CO34=\"\",\"\",'Races, Positions & Points'!CO34)","v":""},{"$f":"IF('Races, Positions & Points'!CR34=\"\",\"\",'Races, Positions & Points'!CR34)","v":""},{"$f":"IF('Races, Positions & Points'!CU34=\"\",\"\",'Races, Positions & Points'!CU34)","v":""},{"$f":"IF('Races, Positions & Points'!CX34=\"\",\"\",'Races, Positions & Points'!CX34)","v":""},{"$f":"IF('Races, Positions & Points'!DA34=\"\",\"\",'Races, Positions & Points'!DA34)","v":""},{"$f":"IF('Races, Positions & Points'!DD34=\"\",\"\",'Races, Positions & Points'!DD34)","v":""},{"$f":"IF('Races, Positions & Points'!DG34=\"\",\"\",'Races, Positions & Points'!DG34)","v":""},{"$f":"IF('Races, Positions & Points'!DJ34=\"\",\"\",'Races, Positions & Points'!DJ34)","v":""},{"$f":"IF('Races, Positions & Points'!DM34=\"\",\"\",'Races, Positions & Points'!DM34)","v":""},{"$f":"IF('Races, Positions & Points'!DP34=\"\",\"\",'Races, Positions & Points'!DP34)","v":""},{"$f":"IF('Races, Positions & Points'!DS34=\"\",\"\",'Races, Positions & Points'!DS34)","v":""},{"$f":"IF('Races, Positions & Points'!DV34=\"\",\"\",'Races, Positions & Points'!DV34)","v":""},{"$f":"IF('Races, Positions & Points'!DY34=\"\",\"\",'Races, Positions & Points'!DY34)","v":""},{"$f":"IF('Races, Positions & Points'!EB34=\"\",\"\",'Races, Positions & Points'!EB34)","v":""},{"$f":"IF('Races, Positions & Points'!EE34=\"\",\"\",'Races, Positions & Points'!EE34)","v":""},{"$f":"IF('Races, Positions & Points'!EG34=\"\",\"\",'Races, Positions & Points'!EG34)","v":""},{"$f":"IF('Races, Positions & Points'!EJ34=\"\",\"\",'Races, Positions & Points'!EJ34)","v":""},{"$f":"IF('Races, Positions & Points'!EM34=\"\",\"\",'Races, Positions & Points'!EM34)","v":""},{"$f":"IF('Races, Positions & Points'!EP34=\"\",\"\",'Races, Positions & Points'!EP34)","v":""},{"$f":"IF('Races, Positions & Points'!ES34=\"\",\"\",'Races, Positions & Points'!ES34)","v":""},{"$f":"IF('Races, Positions & Points'!EV34=\"\",\"\",'Races, Positions & Points'!EV34)","v":""},{"$f":"IF('Races, Positions & Points'!EY34=\"\",\"\",'Races, Positions & Points'!EY34)","v":""},{"$f":"IF('Races, Positions & Points'!FB34=\"\",\"\",'Races, Positions & Points'!FB34)","v":""},{"$f":"IF('Races, Positions & Points'!FE34=\"\",\"\",'Races, Positions & Points'!FE34)","v":""},{"$f":"IF('Races, Positions & Points'!FH34=\"\",\"\",'Races, Positions & Points'!FH34)","v":""},{"$f":"IF('Races, Positions & Points'!FI34=\"\",\"\",'Races, Positions & Points'!FI34)","v":""},null,0,0,0,0,0,0,null,{"$f":"'Races, Positions & Points'!E34","v":19573},{"$f":"'Races, Positions & Points'!G34","v":636.34},"","","",636.34,"",636.34,763.61,763.61,null,"","","",636.34,"",636.34,763.61,763.61,null,"","","","","","","","","","","","","","","","",null,"","","","",null,"","","","",null,"","","","","","","","","",""]
[{"$f":"'Races, Positions & Points'!A35","v":"Jane Lee"},{"$f":"IF('Races, Positions & Points'!AB35=\"\",\"\",'Races, Positions & Points'!AB35)","v":""},{"$f":"IF('Races, Positions & Points'!AD35=\"\",\"\",'Races, Positions & Points'!AD35)","v":""},{"$f":"IF('Races, Positions & Points'!AG35=\"\",\"\",'Races, Positions & Points'!AG35)","v":""},{"$f":"IF('Races, Positions & Points'!AJ35=\"\",\"\",'Races, Positions & Points'!AJ35)","v":""},{"$f":"IF('Races, Positions & Points'!AK35=\"\",\"\",'Races, Positions & Points'!AK35)","v":""},{"$f":"IF('Races, Positions & Points'!AN35=\"\",\"\",'Races, Positions & Points'!AN35)","v":""},{"$f":"IF('Races, Positions & Points'!AO35=\"\",\"\",'Races, Positions & Points'!AO35)","v":""},{"$f":"IF('Races, Positions & Points'!AR35=\"\",\"\",'Races, Positions & Points'!AR35)","v":""},{"$f":"IF('Races, Positions & Points'!AU35=\"\",\"\",'Races, Positions & Points'!AU35)","v":""},{"$f":"IF('Races, Positions & Points'!AX35=\"\",\"\",'Races, Positions & Points'!AX35)","v":""},{"$f":"IF('Races, Positions & Points'!BA35=\"\",\"\",'Races, Positions & Points'!BA35)","v":""},{"$f":"IF('Races, Positions & Points'!BD35=\"\",\"\",'Races, Positions & Points'!BD35)","v":""},{"$f":"IF('Races, Positions & Points'!BG35=\"\",\"\",'Races, Positions & Points'!BG35)","v":""},{"$f":"IF('Races, Positions & Points'!BJ35=\"\",\"\",'Races, Positions & Points'!BJ35)","v":""},{"$f":"IF('Races, Positions & Points'!BM35=\"\",\"\",'Races, Positions & Points'!BM35)","v":""},{"$f":"IF('Races, Positions & Points'!BP35=\"\",\"\",'Races, Positions & Points'!BP35)","v":""},{"$f":"IF('Races, Positions & Points'!BS35=\"\",\"\",'Races, Positions & Points'!BS35)","v":""},{"$f":"IF('Races, Positions & Points'!BV35=\"\",\"\",'Races, Positions & Points'!BV35)","v":""},{"$f":"IF('Races, Positions & Points'!BY35=\"\",\"\",'Races, Positions & Points'!BY35)","v":""},{"$f":"IF('Races, Positions & Points'!CB35=\"\",\"\",'Races, Positions & Points'!CB35)","v":""},{"$f":"IF('Races, Positions & Points'!CE35=\"\",\"\",'Races, Positions & Points'!CE35)","v":""},{"$f":"IF('Races, Positions & Points'!CH35=\"\",\"\",'Races, Positions & Points'!CH35)","v":""},{"$f":"IF('Races, Positions & Points'!CI35=\"\",\"\",'Races, Positions & Points'!CI35)","v":""},{"$f":"IF('Races, Positions & Points'!CL35=\"\",\"\",'Races, Positions & Points'!CL35)","v":""},{"$f":"IF('Races, Positions & Points'!CO35=\"\",\"\",'Races, Positions & Points'!CO35)","v":""},{"$f":"IF('Races, Positions & Points'!CR35=\"\",\"\",'Races, Positions & Points'!CR35)","v":""},{"$f":"IF('Races, Positions & Points'!CU35=\"\",\"\",'Races, Positions & Points'!CU35)","v":""},{"$f":"IF('Races, Positions & Points'!CX35=\"\",\"\",'Races, Positions & Points'!CX35)","v":""},{"$f":"IF('Races, Positions & Points'!DA35=\"\",\"\",'Races, Positions & Points'!DA35)","v":""},{"$f":"IF('Races, Positions & Points'!DD35=\"\",\"\",'Races, Positions & Points'!DD35)","v":""},{"$f":"IF('Races, Positions & Points'!DG35=\"\",\"\",'Races, Positions & Points'!DG35)","v":""},{"$f":"IF('Races, Positions & Points'!DJ35=\"\",\"\",'Races, Positions & Points'!DJ35)","v":""},{"$f":"IF('Races, Positions & Points'!DM35=\"\",\"\",'Races, Positions & Points'!DM35)","v":""},{"$f":"IF('Races, Positions & Points'!DP35=\"\",\"\",'Races, Positions & Points'!DP35)","v":""},{"$f":"IF('Races, Positions & Points'!DS35=\"\",\"\",'Races, Positions & Points'!DS35)","v":""},{"$f":"IF('Races, Positions & Points'!DV35=\"\",\"\",'Races, Positions & Points'!DV35)","v":""},{"$f":"IF('Races, Positions & Points'!DY35=\"\",\"\",'Races, Positions & Points'!DY35)","v":""},{"$f":"IF('Races, Positions & Points'!EB35=\"\",\"\",'Races, Positions & Points'!EB35)","v":""},{"$f":"IF('Races, Positions & Points'!EE35=\"\",\"\",'Races, Positions & Points'!EE35)","v":""},{"$f":"IF('Races, Positions & Points'!EG35=\"\",\"\",'Races, Positions & Points'!EG35)","v":""},{"$f":"IF('Races, Positions & Points'!EJ35=\"\",\"\",'Races, Positions & Points'!EJ35)","v":""},{"$f":"IF('Races, Positions & Points'!EM35=\"\",\"\",'Races, Positions & Points'!EM35)","v":""},{"$f":"IF('Races, Positions & Points'!EP35=\"\",\"\",'Races, Positions & Points'!EP35)","v":""},{"$f":"IF('Races, Positions & Points'!ES35=\"\",\"\",'Races, Positions & Points'!ES35)","v":""},{"$f":"IF('Races, Positions & Points'!EV35=\"\",\"\",'Races, Positions & Points'!EV35)","v":""},{"$f":"IF('Races, Positions & Points'!EY35=\"\",\"\",'Races, Positions & Points'!EY35)","v":""},{"$f":"IF('Races, Positions & Points'!FB35=\"\",\"\",'Races, Positions & Points'!FB35)","v":""},{"$f":"IF('Races, Positions & Points'!FE35=\"\",\"\",'Races, Positions & Points'!FE35)","v":""},{"$f":"IF('Races, Positions & Points'!FH35=\"\",\"\",'Races, Positions & Points'!FH35)","v":""},{"$f":"IF('Races, Positions & Points'!FI35=\"\",\"\",'Races, Positions & Points'!FI35)","v":""},null,0,0,0,0,0,0,null,{"$f":"'Races, Positions & Points'!E35","v":41577},{"$f":"'Races, Positions & Points'!G35","v":640.45000000000005},"","","",640.45000000000005,"",640.45000000000005,768.54,768.54,null,"","","",640.45000000000005,"",640.45000000000005,768.54,768.54,null,"","","","","","","","","","","","","","","","",null,"","","","",null,"","","","",null,"","","","","","","","","",""]
[{"$f":"'Races, Positions & Points'!A36","v":"Emily Dawes"},{"$f":"IF('Races, Positions & Points'!AB36=\"\",\"\",'Races, Positions & Points'!AB36)","v":""},{"$f":"IF('Races, Positions & Points'!AD36=\"\",\"\",'Races, Positions & Points'!AD36)","v":""},{"$f":"IF('Races, Positions & Points'!AG36=\"\",\"\",'Races, Positions & Points'!AG36)","v":""},{"$f":"IF('Races, Positions & Points'!AJ36=\"\",\"\",'Races, Positions & Points'!AJ36)","v":""},{"$f":"IF('Races, Positions & Points'!AK36=\"\",\"\",'Races, Positions & Points'!AK36)","v":""},{"$f":"IF('Races, Positions & Points'!AN36=\"\",\"\",'Races, Positions & Points'!AN36)","v":""},{"$f":"IF('Races, Positions & Points'!AO36=\"\",\"\",'Races, Positions & Points'!AO36)","v":""},{"$f":"IF('Races, Positions & Points'!AR36=\"\",\"\",'Races, Positions & Points'!AR36)","v":""},{"$f":"IF('Races, Positions & Points'!AU36=\"\",\"\",'Races, Positions & Points'!AU36)","v":""},{"$f":"IF('Races, Positions & Points'!AX36=\"\",\"\",'Races, Positions & Points'!AX36)","v":""},{"$f":"IF('Races, Positions & Points'!BA36=\"\",\"\",'Races, Positions & Points'!BA36)","v":""},{"$f":"IF('Races, Positions & Points'!BD36=\"\",\"\",'Races, Positions & Points'!BD36)","v":""},{"$f":"IF('Races, Positions & Points'!BG36=\"\",\"\",'Races, Positions & Points'!BG36)","v":""},{"$f":"IF('Races, Positions & Points'!BJ36=\"\",\"\",'Races, Positions & Points'!BJ36)","v":""},{"$f":"IF('Races, Positions & Points'!BM36=\"\",\"\",'Races, Positions & Points'!BM36)","v":""},{"$f":"IF('Races, Positions & Points'!BP36=\"\",\"\",'Races, Positions & Points'!BP36)","v":""},{"$f":"IF('Races, Positions & Points'!BS36=\"\",\"\",'Races, Positions & Points'!BS36)","v":""},{"$f":"IF('Races, Positions & Points'!BV36=\"\",\"\",'Races, Positions & Points'!BV36)","v":""},{"$f":"IF('Races, Positions & Points'!BY36=\"\",\"\",'Races, Positions & Points'!BY36)","v":""},{"$f":"IF('Races, Positions & Points'!CB36=\"\",\"\",'Races, Positions & Points'!CB36)","v":""},{"$f":"IF('Races, Positions & Points'!CE36=\"\",\"\",'Races, Positions & Points'!CE36)","v":""},{"$f":"IF('Races, Positions & Points'!CH36=\"\",\"\",'Races, Positions & Points'!CH36)","v":""},{"$f":"IF('Races, Positions & Points'!CI36=\"\",\"\",'Races, Positions & Points'!CI36)","v":""},{"$f":"IF('Races, Positions & Points'!CL36=\"\",\"\",'Races, Positions & Points'!CL36)","v":""},{"$f":"IF('Races, Positions & Points'!CO36=\"\",\"\",'Races, Positions & Points'!CO36)","v":""},{"$f":"IF('Races, Positions & Points'!CR36=\"\",\"\",'Races, Positions & Points'!CR36)","v":""},{"$f":"IF('Races, Positions & Points'!CU36=\"\",\"\",'Races, Positions & Points'!CU36)","v":""},{"$f":"IF('Races, Positions & Points'!CX36=\"\",\"\",'Races, Positions & Points'!CX36)","v":""},{"$f":"IF('Races, Positions & Points'!DA36=\"\",\"\",'Races, Positions & Points'!DA36)","v":""},{"$f":"IF('Races, Positions & Points'!DD36=\"\",\"\",'Races, Positions & Points'!DD36)","v":""},{"$f":"IF('Races, Positions & Points'!DG36=\"\",\"\",'Races, Positions & Points'!DG36)","v":""},{"$f":"IF('Races, Positions & Points'!DJ36=\"\",\"\",'Races, Positions & Points'!DJ36)","v":""},{"$f":"IF('Races, Positions & Points'!DM36=\"\",\"\",'Races, Positions & Points'!DM36)","v":""},{"$f":"IF('Races, Positions & Points'!DP36=\"\",\"\",'Races, Positions & Points'!DP36)","v":""},{"$f":"IF('Races, Positions & Points'!DS36=\"\",\"\",'Races, Positions & Points'!DS36)","v":""},{"$f":"IF('Races, Positions & Points'!DV36=\"\",\"\",'Races, Positions & Points'!DV36)","v":""},{"$f":"IF('Races, Positions & Points'!DY36=\"\",\"\",'Races, Positions & Points'!DY36)","v":""},{"$f":"IF('Races, Positions & Points'!EB36=\"\",\"\",'Races, Positions & Points'!EB36)","v":""},{"$f":"IF('Races, Positions & Points'!EE36=\"\",\"\",'Races, Positions & Points'!EE36)","v":""},{"$f":"IF('Races, Positions & Points'!EG36=\"\",\"\",'Races, Positions & Points'!EG36)","v":""},{"$f":"IF('Races, Positions & Points'!EJ36=\"\",\"\",'Races, Positions & Points'!EJ36)","v":""},{"$f":"IF('Races, Positions & Points'!EM36=\"\",\"\",'Races, Positions & Points'!EM36)","v":""},{"$f":"IF('Races, Positions & Points'!EP36=\"\",\"\",'Races, Positions & Points'!EP36)","v":""},{"$f":"IF('Races, Positions & Points'!ES36=\"\",\"\",'Races, Positions & Points'!ES36)","v":""},{"$f":"IF('Races, Positions & Points'!EV36=\"\",\"\",'Races, Positions & Points'!EV36)","v":""},{"$f":"IF('Races, Positions & Points'!EY36=\"\",\"\",'Races, Positions & Points'!EY36)","v":""},{"$f":"IF('Races, Positions & Points'!FB36=\"\",\"\",'Races, Positions & Points'!FB36)","v":""},{"$f":"IF('Races, Positions & Points'!FE36=\"\",\"\",'Races, Positions & Points'!FE36)","v":""},{"$f":"IF('Races, Positions & Points'!FH36=\"\",\"\",'Races, Positions & Points'!FH36)","v":""},{"$f":"IF('Races, Positions & Points'!FI36=\"\",\"\",'Races, Positions & Points'!FI36)","v":""},null,0,0,0,0,0,0,null,{"$f":"'Races, Positions & Points'!E36","v":14263},{"$f":"'Races, Positions & Points'!G36","v":"NR"},"","","","","",0,{"$error":"#VALUE!"},{"$error":"#VALUE!"},null,"","","","","",0,{"$error":"#VALUE!"},{"$error":"#VALUE!"},null,"","","","","","","","","","","","","","","","",null,"","","","",null,"","","","",null,"","","","","","","","","",""]
[{"$f":"'Races, Positions & Points'!A37","v":"Sophia Phelps"},{"$f":"IF('Races, Positions & Points'!AB37=\"\",\"\",'Races, Positions & Points'!AB37)","v":""},{"$f":"IF('Races, Positions & Points'!AD37=\"\",\"\",'Races, Positions & Points'!AD37)","v":""},{"$f":"IF('Races, Positions & Points'!AG37=\"\",\"\",'Races, Positions & Points'!AG37)","v":""},{"$f":"IF('Races, Positions & Points'!AJ37=\"\",\"\",'Races, Positions & Points'!AJ37)","v":""},{"$f":"IF('Races, Positions & Points'!AK37=\"\",\"\",'Races, Positions & Points'!AK37)","v":""},{"$f":"IF('Races, Positions & Points'!AN37=\"\",\"\",'Races, Positions & Points'!AN37)","v":""},{"$f":"IF('Races, Positions & Points'!AO37=\"\",\"\",'Races, Positions & Points'!AO37)","v":""},{"$f":"IF('Races, Positions & Points'!AR37=\"\",\"\",'Races, Positions & Points'!AR37)","v":""},{"$f":"IF('Races, Positions & Points'!AU37=\"\",\"\",'Races, Positions & Points'!AU37)","v":""},{"$f":"IF('Races, Positions & Points'!AX37=\"\",\"\",'Races, Positions & Points'!AX37)","v":""},{"$f":"IF('Races, Positions & Points'!BA37=\"\",\"\",'Races, Positions & Points'!BA37)","v":""},{"$f":"IF('Races, Positions & Points'!BD37=\"\",\"\",'Races, Positions & Points'!BD37)","v":""},{"$f":"IF('Races, Positions & Points'!BG37=\"\",\"\",'Races, Positions & Points'!BG37)","v":""},{"$f":"IF('Races, Positions & Points'!BJ37=\"\",\"\",'Races, Positions & Points'!BJ37)","v":""},{"$f":"IF('Races, Positions & Points'!BM37=\"\",\"\",'Races, Positions & Points'!BM37)","v":""},{"$f":"IF('Races, Positions & Points'!BP37=\"\",\"\",'Races, Positions & Points'!BP37)","v":""},{"$f":"IF('Races, Positions & Points'!BS37=\"\",\"\",'Races, Positions & Points'!BS37)","v":""},{"$f":"IF('Races, Positions & Points'!BV37=\"\",\"\",'Races, Positions & Points'!BV37)","v":""},{"$f":"IF('Races, Positions & Points'!BY37=\"\",\"\",'Races, Positions & Points'!BY37)","v":""},{"$f":"IF('Races, Positions & Points'!CB37=\"\",\"\",'Races, Positions & Points'!CB37)","v":""},{"$f":"IF('Races, Positions & Points'!CE37=\"\",\"\",'Races, Positions & Points'!CE37)","v":""},{"$f":"IF('Races, Positions & Points'!CH37=\"\",\"\",'Races, Positions & Points'!CH37)","v":""},{"$f":"IF('Races, Positions & Points'!CI37=\"\",\"\",'Races, Positions & Points'!CI37)","v":""},{"$f":"IF('Races, Positions & Points'!CL37=\"\",\"\",'Races, Positions & Points'!CL37)","v":""},{"$f":"IF('Races, Positions & Points'!CO37=\"\",\"\",'Races, Positions & Points'!CO37)","v":""},{"$f":"IF('Races, Positions & Points'!CR37=\"\",\"\",'Races, Positions & Points'!CR37)","v":""},{"$f":"IF('Races, Positions & Points'!CU37=\"\",\"\",'Races, Positions & Points'!CU37)","v":""},{"$f":"IF('Races, Positions & Points'!CX37=\"\",\"\",'Races, Positions & Points'!CX37)","v":""},{"$f":"IF('Races, Positions & Points'!DA37=\"\",\"\",'Races, Positions & Points'!DA37)","v":""},{"$f":"IF('Races, Positions & Points'!DD37=\"\",\"\",'Races, Positions & Points'!DD37)","v":""},{"$f":"IF('Races, Positions & Points'!DG37=\"\",\"\",'Races, Positions & Points'!DG37)","v":""},{"$f":"IF('Races, Positions & Points'!DJ37=\"\",\"\",'Races, Positions & Points'!DJ37)","v":""},{"$f":"IF('Races, Positions & Points'!DM37=\"\",\"\",'Races, Positions & Points'!DM37)","v":""},{"$f":"IF('Races, Positions & Points'!DP37=\"\",\"\",'Races, Positions & Points'!DP37)","v":""},{"$f":"IF('Races, Positions & Points'!DS37=\"\",\"\",'Races, Positions & Points'!DS37)","v":""},{"$f":"IF('Races, Positions & Points'!DV37=\"\",\"\",'Races, Positions & Points'!DV37)","v":""},{"$f":"IF('Races, Positions & Points'!DY37=\"\",\"\",'Races, Positions & Points'!DY37)","v":""},{"$f":"IF('Races, Positions & Points'!EB37=\"\",\"\",'Races, Positions & Points'!EB37)","v":""},{"$f":"IF('Races, Positions & Points'!EE37=\"\",\"\",'Races, Positions & Points'!EE37)","v":""},{"$f":"IF('Races, Positions & Points'!EG37=\"\",\"\",'Races, Positions & Points'!EG37)","v":""},{"$f":"IF('Races, Positions & Points'!EJ37=\"\",\"\",'Races, Positions & Points'!EJ37)","v":""},{"$f":"IF('Races, Positions & Points'!EM37=\"\",\"\",'Races, Positions & Points'!EM37)","v":""},{"$f":"IF('Races, Positions & Points'!EP37=\"\",\"\",'Races, Positions & Points'!EP37)","v":""},{"$f":"IF('Races, Positions & Points'!ES37=\"\",\"\",'Races, Positions & Points'!ES37)","v":""},{"$f":"IF('Races, Positions & Points'!EV37=\"\",\"\",'Races, Positions & Points'!EV37)","v":""},{"$f":"IF('Races, Positions & Points'!EY37=\"\",\"\",'Races, Positions & Points'!EY37)","v":""},{"$f":"IF('Races, Positions & Points'!FB37=\"\",\"\",'Races, Positions & Points'!FB37)","v":""},{"$f":"IF('Races, Positions & Points'!FE37=\"\",\"\",'Races, Positions & Points'!FE37)","v":""},{"$f":"IF('Races, Positions & Points'!FH37=\"\",\"\",'Races, Positions & Points'!FH37)","v":""},{"$f":"IF('Races, Positions & Points'!FI37=\"\",\"\",'Races, Positions & Points'!FI37)","v":""},null,0,0,0,0,0,0,null,{"$f":"'Races, Positions & Points'!E37","v":17839},{"$f":"'Races, Positions & Points'!G37","v":"NR"},"","","","","",0,{"$error":"#VALUE!"},{"$error":"#VALUE!"},null,"","","","","",0,{"$error":"#VALUE!"},{"$error":"#VALUE!"},null,"","","","","","","","","","","","","","","","",null,"","","","",null,"","","","",null,"","","","","","","","","",""]
[{"$f":"'Races, Positions & Points'!A38","v":"Olivia Waller"},{"$f":"IF('Races, Positions & Points'!AB38=\"\",\"\",'Races, Positions & Points'!AB38)","v":""},{"$f":"IF('Races, Positions & Points'!AD38=\"\",\"\",'Races, Positions & Points'!AD38)","v":""},{"$f":"IF('Races, Positions & Points'!AG38=\"\",\"\",'Races, Positions & Points'!AG38)","v":""},{"$f":"IF('Races, Positions & Points'!AJ38=\"\",\"\",'Races, Positions & Points'!AJ38)","v":""},{"$f":"IF('Races, Positions & Points'!AK38=\"\",\"\",'Races, Positions & Points'!AK38)","v":""},{"$f":"IF('Races, Positions & Points'!AN38=\"\",\"\",'Races, Positions & Points'!AN38)","v":""},{"$f":"IF('Races, Positions & Points'!AO38=\"\",\"\",'Races, Positions & Points'!AO38)","v":""},{"$f":"IF('Races, Positions & Points'!AR38=\"\",\"\",'Races, Positions & Points'!AR38)","v":""},{"$f":"IF('Races, Positions & Points'!AU38=\"\",\"\",'Races, Positions & Points'!AU38)","v":""},{"$f":"IF('Races, Positions & Points'!AX38=\"\",\"\",'Races, Positions & Points'!AX38)","v":""},{"$f":"IF('Races, Positions & Points'!BA38=\"\",\"\",'Races, Positions & Points'!BA38)","v":""},{"$f":"IF('Races, Positions & Points'!BD38=\"\",\"\",'Races, Positions & Points'!BD38)","v":""},{"$f":"IF('Races, Positions & Points'!BG38=\"\",\"\",'Races, Positions & Points'!BG38)","v":""},{"$f":"IF('Races, Positions & Points'!BJ38=\"\",\"\",'Races, Positions & Points'!BJ38)","v":""},{"$f":"IF('Races, Positions & Points'!BM38=\"\",\"\",'Races, Positions & Points'!BM38)","v":""},{"$f":"IF('Races, Positions & Points'!BP38=\"\",\"\",'Races, Positions & Points'!BP38)","v":""},{"$f":"IF('Races, Positions & Points'!BS38=\"\",\"\",'Races, Positions & Points'!BS38)","v":""},{"$f":"IF('Races, Positions & Points'!BV38=\"\",\"\",'Races, Positions & Points'!BV38)","v":""},{"$f":"IF('Races, Positions & Points'!BY38=\"\",\"\",'Races, Positions & Points'!BY38)","v":""},{"$f":"IF('Races, Positions & Points'!CB38=\"\",\"\",'Races, Positions & Points'!CB38)","v":""},{"$f":"IF('Races, Positions & Points'!CE38=\"\",\"\",'Races, Positions & Points'!CE38)","v":""},{"$f":"IF('Races, Positions & Points'!CH38=\"\",\"\",'Races, Positions & Points'!CH38)","v":""},{"$f":"IF('Races, Positions & Points'!CI38=\"\",\"\",'Races, Positions & Points'!CI38)","v":""},{"$f":"IF('Races, Positions & Points'!CL38=\"\",\"\",'Races, Positions & Points'!CL38)","v":""},{"$f":"IF('Races, Positions & Points'!CO38=\"\",\"\",'Races, Positions & Points'!CO38)","v":""},{"$f":"IF('Races, Positions & Points'!CR38=\"\",\"\",'Races, Positions & Points'!CR38)","v":""},{"$f":"IF('Races, Positions & Points'!CU38=\"\",\"\",'Races, Positions & Points'!CU38)","v":""},{"$f":"IF('Races, Positions & Points'!CX38=\"\",\"\",'Races, Positions & Points'!CX38)","v":""},{"$f":"IF('Races, Positions & Points'!DA38=\"\",\"\",'Races, Positions & Points'!DA38)","v":""},{"$f":"IF('Races, Positions & Points'!DD38=\"\",\"\",'Races, Positions & Points'!DD38)","v":""},{"$f":"IF('Races, Positions & Points'!DG38=\"\",\"\",'Races, Positions & Points'!DG38)","v":""},{"$f":"IF('Races, Positions & Points'!DJ38=\"\",\"\",'Races, Positions & Points'!DJ38)","v":""},{"$f":"IF('Races, Positions & Points'!DM38=\"\",\"\",'Races, Positions & Points'!DM38)","v":""},{"$f":"IF('Races, Positions & Points'!DP38=\"\",\"\",'Races, Positions & Points'!DP38)","v":""},{"$f":"IF('Races, Positions & Points'!DS38=\"\",\"\",'Races, Positions & Points'!DS38)","v":""},{"$f":"IF('Races, Positions & Points'!DV38=\"\",\"\",'Races, Positions & Points'!DV38)","v":""},{"$f":"IF('Races, Positions & Points'!DY38=\"\",\"\",'Races, Positions & Points'!DY38)","v":""},{"$f":"IF('Races, Positions & Points'!EB38=\"\",\"\",'Races, Positions & Points'!EB38)","v":""},{"$f":"IF('Races, Positions & Points'!EE38=\"\",\"\",'Races, Positions & Points'!EE38)","v":""},{"$f":"IF('Races, Positions & Points'!EG38=\"\",\"\",'Races, Positions & Points'!EG38)","v":""},{"$f":"IF('Races, Positions & Points'!EJ38=\"\",\"\",'Races, Positions & Points'!EJ38)","v":""},{"$f":"IF('Races, Positions & Points'!EM38=\"\",\"\",'Races, Positions & Points'!EM38)","v":""},{"$f":"IF('Races, Positions & Points'!EP38=\"\",\"\",'Races, Positions & Points'!EP38)","v":""},{"$f":"IF('Races, Positions & Points'!ES38=\"\",\"\",'Races, Positions & Points'!ES38)","v":""},{"$f":"IF('Races, Positions & Points'!EV38=\"\",\"\",'Races, Positions & Points'!EV38)","v":""},{"$f":"IF('Races, Positions & Points'!EY38=\"\",\"\",'Races, Positions & Points'!EY38)","v":""},{"$f":"IF('Races, Positions & Points'!FB38=\"\",\"\",'Races, Positions & Points'!FB38)","v":""},{"$f":"IF('Races, Positions & Points'!FE38=\"\",\"\",'Races, Positions & Points'!FE38)","v":""},{"$f":"IF('Races, Positions & Points'!FH38=\"\",\"\",'Races, Positions & Points'!FH38)","v":""},{"$f":"IF('Races, Positions & Points'!FI38=\"\",\"\",'Races, Positions & Points'!FI38)","v":""},null,0,0,0,0,0,0,null,{"$f":"'Races, Positions & Points'!E38","v":17516},{"$f":"'Races, Positions & Points'!G38","v":"NR"},"","","","","",0,{"$error":"#VALUE!"},{"$error":"#VALUE!"},null,"","","","","",0,{"$error":"#VALUE!"},{"$error":"#VALUE!"},null,"","","","","","","","","","","","","","","","",null,"","","","",null,"","","","",null,"","","","","","","","","",""]
[{"$f":"'Races, Positions & Points'!A39","v":"Agathe Vallat"},{"$f":"IF('Races, Positions & Points'!AB39=\"\",\"\",'Races, Positions & Points'!AB39)","v":""},{"$f":"IF('Races, Positions & Points'!AD39=\"\",\"\",'Races, Positions & Points'!AD39)","v":""},{"$f":"IF('Races, Positions & Points'!AG39=\"\",\"\",'Races, Positions & Points'!AG39)","v":183.4},{"$f":"IF('Races, Positions & Points'!AJ39=\"\",\"\",'Races, Positions & Points'!AJ39)","v":""},{"$f":"IF('Races, Positions & Points'!AK39=\"\",\"\",'Races, Positions & Points'!AK39)","v":""},{"$f":"IF('Races, Positions & Points'!AN39=\"\",\"\",'Races, Positions & Points'!AN39)","v":""},{"$f":"IF('Races, Positions & Points'!AO39=\"\",\"\",'Races, Positions & Points'!AO39)","v":""},{"$f":"IF('Races, Positions & Points'!AR39=\"\",\"\",'Races, Positions & Points'!AR39)","v":""},{"$f":"IF('Races, Positions & Points'!AU39=\"\",\"\",'Races, Positions & Points'!AU39)","v":""},{"$f":"IF('Races, Positions & Points'!AX39=\"\",\"\",'Races, Positions & Points'!AX39)","v":""},{"$f":"IF('Races, Positions & Points'!BA39=\"\",\"\",'Races, Positions & Points'!BA39)","v":""},{"$f":"IF('Races, Positions & Points'!BD39=\"\",\"\",'Races, Positions & Points'!BD39)","v":""},{"$f":"IF('Races, Positions & Points'!BG39=\"\",\"\",'Races, Positions & Points'!BG39)","v":""},{"$f":"IF('Races, Positions & Points'!BJ39=\"\",\"\",'Races, Positions & Points'!BJ39)","v":""},{"$f":"IF('Races, Positions & Points'!BM39=\"\",\"\",'Races, Positions & Points'!BM39)","v":""},{"$f":"IF('Races, Positions & Points'!BP39=\"\",\"\",'Races, Positions & Points'!BP39)","v":""},{"$f":"IF('Races, Positions & Points'!BS39=\"\",\"\",'Races, Positions & Points'!BS39)","v":""},{"$f":"IF('Races, Positions & Points'!BV39=\"\",\"\",'Races, Positions & Points'!BV39)","v":""},{"$f":"IF('Races, Positions & Points'!BY39=\"\",\"\",'Races, Positions & Points'!BY39)","v":""},{"$f":"IF('Races, Positions & Points'!CB39=\"\",\"\",'Races, Positions & Points'!CB39)","v":""},{"$f":"IF('Races, Positions & Points'!CE39=\"\",\"\",'Races, Positions & Points'!CE39)","v":""},{"$f":"IF('Races, Positions & Points'!CH39=\"\",\"\",'Races, Positions & Points'!CH39)","v":""},{"$f":"IF('Races, Positions & Points'!CI39=\"\",\"\",'Races, Positions & Points'!CI39)","v":""},{"$f":"IF('Races, Positions & Points'!CL39=\"\",\"\",'Races, Positions & Points'!CL39)","v":""},{"$f":"IF('Races, Positions & Points'!CO39=\"\",\"\",'Races, Positions & Points'!CO39)","v":""},{"$f":"IF('Races, Positions & Points'!CR39=\"\",\"\",'Races, Positions & Points'!CR39)","v":""},{"$f":"IF('Races, Positions & Points'!CU39=\"\",\"\",'Races, Positions & Points'!CU39)","v":""},{"$f":"IF('Races, Positions & Points'!CX39=\"\",\"\",'Races, Positions & Points'!CX39)","v":224.71},{"$f":"IF('Races, Positions & Points'!DA39=\"\",\"\",'Races, Positions & Points'!DA39)","v":""},{"$f":"IF('Races, Positions & Points'!DD39=\"\",\"\",'Races, Positions & Points'!DD39)","v":""},{"$f":"IF('Races, Positions & Points'!DG39=\"\",\"\",'Races, Positions & Points'!DG39)","v":""},{"$f":"IF('Races, Positions & Points'!DJ39=\"\",\"\",'Races, Positions & Points'!DJ39)","v":""},{"$f":"IF('Races, Positions & Points'!DM39=\"\",\"\",'Races, Positions & Points'!DM39)","v":""},{"$f":"IF('Races, Positions & Points'!DP39=\"\",\"\",'Races, Positions & Points'!DP39)","v":""},{"$f":"IF('Races, Positions & Points'!DS39=\"\",\"\",'Races, Positions & Points'!DS39)","v":""},{"$f":"IF('Races, Positions & Points'!DV39=\"\",\"\",'Races, Positions & Points'!DV39)","v":""},{"$f":"IF('Races, Positions & Points'!DY39=\"\",\"\",'Races, Positions & Points'!DY39)","v":""},{"$f":"IF('Races, Positions & Points'!EB39=\"\",\"\",'Races, Positions & Points'!EB39)","v":""},{"$f":"IF('Races, Positions & Points'!EE39=\"\",\"\",'Races, Positions & Points'!EE39)","v":""},{"$f":"IF('Races, Positions & Points'!EG39=\"\",\"\",'Races, Positions & Points'!EG39)","v":""},{"$f":"IF('Races, Positions & Points'!EJ39=\"\",\"\",'Races, Positions & Points'!EJ39)","v":""},{"$f":"IF('Races, Positions & Points'!EM39=\"\",\"\",'Races, Positions & Points'!EM39)","v":""},{"$f":"IF('Races, Positions & Points'!EP39=\"\",\"\",'Races, Positions & Points'!EP39)","v":""},{"$f":"IF('Races, Positions & Points'!ES39=\"\",\"\",'Races, Positions & Points'!ES39)","v":""},{"$f":"IF('Races, Positions & Points'!EV39=\"\",\"\",'Races, Positions & Points'!EV39)","v":""},{"$f":"IF('Races, Positions & Points'!EY39=\"\",\"\",'Races, Positions & Points'!EY39)","v":""},{"$f":"IF('Races, Positions & Points'!FB39=\"\",\"\",'Races, Positions & Points'!FB39)","v":""},{"$f":"IF('Races, Positions & Points'!FE39=\"\",\"\",'Races, Positions & Points'!FE39)","v":""},{"$f":"IF('Races, Positions & Points'!FH39=\"\",\"\",'Races, Positions & Points'!FH39)","v":""},{"$f":"IF('Races, Positions & Points'!FI39=\"\",\"\",'Races, Positions & Points'!FI39)","v":""},null,0,1,0,1,0,0,null,{"$f":"'Races, Positions & Points'!E39","v":21606},{"$f":"'Races, Positions & Points'!G39","v":465.82},183.4,"","",324.61,220.08,220.08,558.98,220.08,null,"","","",465.82,"",465.82,558.98,558.98,null,"","","","","",183.4,"","","","","","","","","","",null,"","","","",null,"","","","",null,"","","","","","","","","",""]
[{"$f":"'Races, Positions & Points'!A42","v":"Carys Phillips"},{"$f":"IF('Races, Positions & Points'!AB42=\"\",\"\",'Races, Positions & Points'!AB42)","v":""},{"$f":"IF('Races, Positions & Points'!AD42=\"\",\"\",'Races, Positions & Points'!AD42)","v":""},{"$f":"IF('Races, Positions & Points'!AG42=\"\",\"\",'Races, Positions & Points'!AG42)","v":""},{"$f":"IF('Races, Positions & Points'!AJ42=\"\",\"\",'Races, Positions & Points'!AJ42)","v":""},{"$f":"IF('Races, Positions & Points'!AK42=\"\",\"\",'Races, Positions & Points'!AK42)","v":""},{"$f":"IF('Races, Positions & Points'!AN42=\"\",\"\",'Races, Positions & Points'!AN42)","v":""},{"$f":"IF('Races, Positions & Points'!AO42=\"\",\"\",'Races, Positions & Points'!AO42)","v":""},{"$f":"IF('Races, Positions & Points'!AR42=\"\",\"\",'Races, Positions & Points'!AR42)","v":""},{"$f":"IF('Races, Positions & Points'!AU42=\"\",\"\",'Races, Positions & Points'!AU42)","v":""},{"$f":"IF('Races, Positions & Points'!AX42=\"\",\"\",'Races, Positions & Points'!AX42)","v":""},{"$f":"IF('Races, Positions & Points'!BA42=\"\",\"\",'Races, Positions & Points'!BA42)","v":""},{"$f":"IF('Races, Positions & Points'!BD42=\"\",\"\",'Races, Positions & Points'!BD42)","v":""},{"$f":"IF('Races, Positions & Points'!BG42=\"\",\"\",'Races, Positions & Points'!BG42)","v":""},{"$f":"IF('Races, Positions & Points'!BJ42=\"\",\"\",'Races, Positions & Points'!BJ42)","v":""},{"$f":"IF('Races, Positions & Points'!BM42=\"\",\"\",'Races, Positions & Points'!BM42)","v":""},{"$f":"IF('Races, Positions & Points'!BP42=\"\",\"\",'Races, Positions & Points'!BP42)","v":""},{"$f":"IF('Races, Positions & Points'!BS42=\"\",\"\",'Races, Positions & Points'!BS42)","v":""},{"$f":"IF('Races, Positions & Points'!BV42=\"\",\"\",'Races, Positions & Points'!BV42)","v":""},{"$f":"IF('Races, Positions & Points'!BY42=\"\",\"\",'Races, Positions & Points'!BY42)","v":""},{"$f":"IF('Races, Positions & Points'!CB42=\"\",\"\",'Races, Positions & Points'!CB42)","v":""},{"$f":"IF('Races, Positions & Points'!CE42=\"\",\"\",'Races, Positions & Points'!CE42)","v":""},{"$f":"IF('Races, Positions & Points'!CH42=\"\",\"\",'Races, Positions & Points'!CH42)","v":""},{"$f":"IF('Races, Positions & Points'!CI42=\"\",\"\",'Races, Positions & Points'!CI42)","v":""},{"$f":"IF('Races, Positions & Points'!CL42=\"\",\"\",'Races, Positions & Points'!CL42)","v":""},{"$f":"IF('Races, Positions & Points'!CO42=\"\",\"\",'Races, Positions & Points'!CO42)","v":""},{"$f":"IF('Races, Positions & Points'!CR42=\"\",\"\",'Races, Positions & Points'!CR42)","v":""},{"$f":"IF('Races, Positions & Points'!CU42=\"\",\"\",'Races, Positions & Points'!CU42)","v":""},{"$f":"IF('Races, Positions & Points'!CX42=\"\",\"\",'Races, Positions & Points'!CX42)","v":""},{"$f":"IF('Races, Positions & Points'!DA42=\"\",\"\",'Races, Positions & Points'!DA42)","v":""},{"$f":"IF('Races, Positions & Points'!DD42=\"\",\"\",'Races, Positions & Points'!DD42)","v":""},{"$f":"IF('Races, Positions & Points'!DG42=\"\",\"\",'Races, Positions & Points'!DG42)","v":""},{"$f":"IF('Races, Positions & Points'!DJ42=\"\",\"\",'Races, Positions & Points'!DJ42)","v":""},{"$f":"IF('Races, Positions & Points'!DM42=\"\",\"\",'Races, Positions & Points'!DM42)","v":""},{"$f":"IF('Races, Positions & Points'!DP42=\"\",\"\",'Races, Positions & Points'!DP42)","v":""},{"$f":"IF('Races, Positions & Points'!DS42=\"\",\"\",'Races, Positions & Points'!DS42)","v":""},{"$f":"IF('Races, Positions & Points'!DV42=\"\",\"\",'Races, Positions & Points'!DV42)","v":""},{"$f":"IF('Races, Positions & Points'!DY42=\"\",\"\",'Races, Positions & Points'!DY42)","v":""},{"$f":"IF('Races, Positions & Points'!EB42=\"\",\"\",'Races, Positions & Points'!EB42)","v":""},{"$f":"IF('Races, Positions & Points'!EE42=\"\",\"\",'Races, Positions & Points'!EE42)","v":""},{"$f":"IF('Races, Positions & Points'!EG42=\"\",\"\",'Races, Positions & Points'!EG42)","v":""},{"$f":"IF('Races, Positions & Points'!EJ42=\"\",\"\",'Races, Positions & Points'!EJ42)","v":""},{"$f":"IF('Races, Positions & Points'!EM42=\"\",\"\",'Races, Positions & Points'!EM42)","v":""},{"$f":"IF('Races, Positions & Points'!EP42=\"\",\"\",'Races, Positions & Points'!EP42)","v":""},{"$f":"IF('Races, Positions & Points'!ES42=\"\",\"\",'Races, Positions & Points'!ES42)","v":""},{"$f":"IF('Races, Positions & Points'!EV42=\"\",\"\",'Races, Positions & Points'!EV42)","v":""},{"$f":"IF('Races, Positions & Points'!EY42=\"\",\"\",'Races, Positions & Points'!EY42)","v":""},{"$f":"IF('Races, Positions & Points'!FB42=\"\",\"\",'Races, Positions & Points'!FB42)","v":""},{"$f":"IF('Races, Positions & Points'!FE42=\"\",\"\",'Races, Positions & Points'!FE42)","v":""},{"$f":"IF('Races, Positions & Points'!FH42=\"\",\"\",'Races, Positions & Points'!FH42)","v":""},{"$f":"IF('Races, Positions & Points'!FI42=\"\",\"\",'Races, Positions & Points'!FI42)","v":""},null,0,0,0,0,0,0,null,{"$f":"'Races, Positions & Points'!E42","v":"Day"},{"$f":"'Races, Positions & Points'!G42","v":"NR"},"","","","","",0,{"$error":"#VALUE!"},{"$error":"#VALUE!"},null,"","","","","",0,{"$error":"#VALUE!"},{"$error":"#VALUE!"},null,"","","","","","","","","","","","","","","","",null,"","","","",null,"","","","",null,"","","","","","","","","",""]
[null,null,null,null,null,null,null,null,null,null,null,null,null,null,null,null,null,null,null,null,null,null,null,null,null,null,null,null,null,null,null,null,null,null,null,null,null,null,null,null,null,null,null,null,null,null,null,null,null,null,null,null,null,null,null,null,null,null,null,null,null,null,null,null,null,null,null,null,null,null,null,null,null,null,null,null,null,null,null,null,null,null,null,null,null,null,null,null,null,null,null,null,null,null,null,null,null,null,""]
[{"$f":"'Races, Positions & Points'!A44","v":"Harry Hornsby"},{"$f":"IF('Races, Positions & Points'!AB44=\"\",\"\",'Races, Positions & Points'!AB44)","v":""},{"$f":"IF('Races, Positions & Points'!AD44=\"\",\"\",'Races, Positions & Points'!AD44)","v":34.99},{"$f":"IF('Races, Positions & Points'!AG44=\"\",\"\",'Races, Positions & Points'!AG44)","v":5.14},{"$f":"IF('Races, Positions & Points'!AJ44=\"\",\"\",'Races, Positions & Points'!AJ44)","v":""},{"$f":"IF('Races, Positions & Points'!AK44=\"\",\"\",'Races, Positions & Points'!AK44)","v":""},{"$f":"IF('Races, Positions & Points'!AN44=\"\",\"\",'Races, Positions & Points'!AN44)","v":""},{"$f":"IF('Races, Positions & Points'!AO44=\"\",\"\",'Races, Positions & Points'!AO44)","v":""},{"$f":"IF('Races, Positions & Points'!AR44=\"\",\"\",'Races, Positions & Points'!AR44)","v":""},{"$f":"IF('Races, Positions & Points'!AU44=\"\",\"\",'Races, Positions & Points'!AU44)","v":""},{"$f":"IF('Races, Positions & Points'!AX44=\"\",\"\",'Races, Positions & Points'!AX44)","v":""},{"$f":"IF('Races, Positions & Points'!BA44=\"\",\"\",'Races, Positions & Points'!BA44)","v":""},{"$f":"IF('Races, Positions & Points'!BD44=\"\",\"\",'Races, Positions & Points'!BD44)","v":""},{"$f":"IF('Races, Positions & Points'!BG44=\"\",\"\",'Races, Positions & Points'!BG44)","v":""},{"$f":"IF('Races, Positions & Points'!BJ44=\"\",\"\",'Races, Positions & Points'!BJ44)","v":"DNF"},{"$f":"IF('Races, Positions & Points'!BM44=\"\",\"\",'Races, Positions & Points'!BM44)","v":"DNF"},{"$f":"IF('Races, Positions & Points'!BP44=\"\",\"\",'Races, Positions & Points'!BP44)","v":""},{"$f":"IF('Races, Positions & Points'!BS44=\"\",\"\",'Races, Positions & Points'!BS44)","v":"DNS"},{"$f":"IF('Races, Positions & Points'!BV44=\"\",\"\",'Races, Positions & Points'!BV44)","v":""},{"$f":"IF('Races, Positions & Points'!BY44=\"\",\"\",'Races, Positions & Points'!BY44)","v":""},{"$f":"IF('Races, Positions & Points'!CB44=\"\",\"\",'Races, Positions & Points'!CB44)","v":17.86},{"$f":"IF('Races, Positions & Points'!CE44=\"\",\"\",'Races, Positions & Points'!CE44)","v":""},{"$f":"IF('Races, Positions & Points'!CH44=\"\",\"\",'Races, Positions & Points'!CH44)","v":""},{"$f":"IF('Races, Positions & Points'!CI44=\"\",\"\",'Races, Positions & Points'!CI44)","v":""},{"$f":"IF('Races, Positions & Points'!CL44=\"\",\"\",'Races, Positions & Points'!CL44)","v":10.45},{"$f":"IF('Races, Positions & Points'!CO44=\"\",\"\",'Races, Positions & Points'!CO44)","v":""},{"$f":"IF('Races, Positions & Points'!CR44=\"\",\"\",'Races, Positions & Points'!CR44)","v":20.12},{"$f":"IF('Races, Positions & Points'!CU44=\"\",\"\",'Races, Positions & Points'!CU44)","v":27.47},{"$f":"IF('Races, Positions & Points'!CX44=\"\",\"\",'Races, Positions & Points'!CX44)","v":11.9},{"$f":"IF('Races, Positions & Points'!DA44=\"\",\"\",'Races, Positions & Points'!DA44)","v":""},{"$f":"IF('Races, Positions & Points'!DD44=\"\",\"\",'Races, Positions & Points'!DD44)","v":16.34},{"$f":"IF('Races, Positions & Points'!DG44=\"\",\"\",'Races, Positions & Points'!DG44)","v":""},{"$f":"IF('Races, Positions & Points'!DJ44=\"\",\"\",'Races, Positions & Points'!DJ44)","v":""},{"$f":"IF('Races, Positions & Points'!DM44=\"\",\"\",'Races, Positions & Points'!DM44)","v":""},{"$f":"IF('Races, Positions & Points'!DP44=\"\",\"\",'Races, Positions & Points'!DP44)","v":""},{"$f":"IF('Races, Positions & Points'!DS44=\"\",\"\",'Races, Positions & Points'!DS44)","v":""},{"$f":"IF('Races, Positions & Points'!DV44=\"\",\"\",'Races, Positions & Points'!DV44)","v":""},{"$f":"IF('Races, Positions & Points'!DY44=\"\",\"\",'Races, Positions & Points'!DY44)","v":""},{"$f":"IF('Races, Positions & Points'!EB44=\"\",\"\",'Races, Positions & Points'!EB44)","v":""},{"$f":"IF('Races, Positions & Points'!EE44=\"\",\"\",'Races, Positions & Points'!EE44)","v":6},{"$f":"IF('Races, Positions & Points'!EG44=\"\",\"\",'Races, Positions & Points'!EG44)","v":21.88},{"$f":"IF('Races, Positions & Points'!EJ44=\"\",\"\",'Races, Positions & Points'!EJ44)","v":""},{"$f":"IF('Races, Positions & Points'!EM44=\"\",\"\",'Races, Positions & Points'!EM44)","v":""},{"$f":"IF('Races, Positions & Points'!EP44=\"\",\"\",'Races, Positions & Points'!EP44)","v":""},{"$f":"IF('Races, Positions & Points'!ES44=\"\",\"\",'Races, Positions & Points'!ES44)","v":""},{"$f":"IF('Races, Positions & Points'!EV44=\"\",\"\",'Races, Positions & Points'!EV44)","v":""},{"$f":"IF('Races, Positions & Points'!EY44=\"\",\"\",'Races, Positions & Points'!EY44)","v":""},{"$f":"IF('Races, Positions & Points'!FB44=\"\",\"\",'Races, Positions & Points'!FB44)","v":""},{"$f":"IF('Races, Positions & Points'!FE44=\"\",\"\",'Races, Positions & Points'!FE44)","v":""},{"$f":"IF('Races, Positions & Points'!FH44=\"\",\"\",'Races, Positions & Points'!FH44)","v":""},{"$f":"IF('Races, Positions & Points'!FI44=\"\",\"\",'Races, Positions & Points'!FI44)","v":""},null,{"$f":"SUMPRODUCT(--(B$4:AY$4=\"In\"),--(B$3:AY$3>5),--(B$5:AY$5=\"Y\"),--(B42:AY42<>\"\"))","v":0},{"$f":"SUMPRODUCT(--(B$4:AY$4=\"Out\"),--(B$3:AY$3>5),--(B$5:AY$5=\"Y\"),--(B42:AY42<>\"\"))","v":6},{"$f":"SUMPRODUCT(--(B$4:AY$4=\"In\"),--(B$3:AY$3=5),--(B$5:AY$5=\"Y\"),--(B42:AY42<>\"\"))","v":1},{"$f":"SUMPRODUCT(--(B$4:AY$4=\"Out\"),--(B$3:AY$3=5),--(B$5:AY$5=\"Y\"),--(B42:AY42<>\"\"))","v":4},{"$f":"SUMPRODUCT(--(B$4:AY$4=\"In\"),--(B$3:AY$3=0),--(B$5:AY$5=\"Y\"),--(B42:AY42<>\"\"))","v":0},{"$f":"SUMPRODUCT(--(B$4:AY$4=\"Out\"),--(B$3:AY$3=0),--(B$5:AY$5=\"Y\"),--(B42:AY42<>\"\"))","v":1},null,{"$f":"'Races, Positions & Points'!E44","v":17356},{"$f":"'Races, Positions & Points'!G44","v":5.41},5.14,10.45,7.8,5.28,15.14,5.28,15.41,7.8,null,34.99,"","",20.2,44.99,5.41,15.41,15.41,null,{"$f":"IF(MIN(C42,K42,L42,AH42,AI42,AK42,AL42)>0,MIN(C42,K42,L42,AH42,AI42,AK42,AL42),\"\")","v":34.99},{"$f":"IF(MIN(E42,F42,G42,H42,Z42,AF42,AG42,AP42,AQ42,AU42)>0,MIN(E42,F42,G42,H42,Z42,AF42,AG42,AP42,AQ42,AU42),\"\")","v":""},{"$f":"IF(MIN(T42,V42)>0,MIN(T42,V42),\"\")","v":""},{"$f":"IF(MIN(W42,X42)>0,MIN(W42,X42),\"\")","v":""},{"$f":"IF(MIN(B42,M42,N42,AR42,AS42)>0,MIN(B42,M42,N42,AR42,AS42),\"\")","v":""},{"$f":"IF(MIN(D42,O42,AB42,AC42,AE42)>0,MIN(D42,O42,AB42,AC42,AE42),\"\")","v":5.14},{"$f":"IF(MIN(I42,J42)>0,MIN(I42,J42),\"\")","v":""},{"$f":"IF(Q42>0,Q42,\"\")","v":""},{"$f":"IF(MIN(S42,AM42,AT42,AY42)>0,MIN(S42,AM42,AT42,AY42),\"\")","v":""},{"$f":"IF(MIN(P42,R42)>0,MIN(P42,R42),\"\")","v":""},{"$f":"IF(U42>0,U42,\"\")","v":17.86},{"$f":"IF(MIN(Y42,AO42)>0,MIN(Y42,AO42),\"\")","v":10.45},{"$f":"IF(AA42>0,AA42,\"\")","v":20.12},{"$f":"IF(AD42>0,AD42,\"\")","v":""},{"$f":"IF(AJ42>0,AJ42,\"\")","v":""},{"$f":"IF(MIN(AV42,AW42)>0,MIN(AV42,AW42),\"\")","v":""},null,16.34,21.88,19.11,{"$f":"IF(ISERROR(CS42*1.2),\"\",IF(CS42<50,CS42+10,IF(CS42<999.99,CS42*1.2,\"\")))","v":26.34},null,34.99,"","",44.99,null,{"$f":"IF(MIN(C42,K42,L42,AH42,AI42,AK42,AL42)>0,MIN(C42,K42,L42,AH42,AI42,AK42,AL42),\"\")","v":34.99},{"$f":"IF(MIN(Z42,AF42,AG42,AP42,AQ42,AU42)>0,MIN(Z42,AF42,AG42,AP42,AQ42,AU42),\"\")","v":""},{"$f":"IF(MIN(T42,V42)>0,MIN(T42,V42),\"\")","v":""},{"$f":"IF(MIN(M42,N42,AR42,AS42)>0,MIN(M42,N42,AR42,AS42),\"\")","v":""},{"$f":"IF(MIN(O42,AE42),MIN(O42,AE42),\"\")","v":16.34},{"$f":"IF(J42>0,J42,\"\")","v":""},{"$f":"IF(MIN(AM42,AY42)>0,MIN(AM42,AY42),\"\")","v":""},{"$f":"IF(R42>0,R42,\"\")","v":"DNS"},21.88,{"$f":"IF(MIN(AV42,AW42),MIN(AV42,AW42),\"\")","v":""}]
[{"$f":"'Races, Positions & Points'!A45","v":"Jonny Powell"},{"$f":"IF('Races, Positions & Points'!AB45=\"\",\"\",'Races, Positions & Points'!AB45)","v":""},{"$f":"IF('Races, Positions & Points'!AD45=\"\",\"\",'Races, Positions & Points'!AD45)","v":51.35},{"$f":"IF('Races, Positions & Points'!AG45=\"\",\"\",'Races, Positions & Points'!AG45)","v":46.86},{"$f":"IF('Races, Positions & Points'!AJ45=\"\",\"\",'Races, Positions & Points'!AJ45)","v":""},{"$f":"IF('Races, Positions & Points'!AK45=\"\",\"\",'Races, Positions & Points'!AK45)","v":""},{"$f":"IF('Races, Positions & Points'!AN45=\"\",\"\",'Races, Positions & Points'!AN45)","v":""},{"$f":"IF('Races, Positions & Points'!AO45=\"\",\"\",'Races, Positions & Points'!AO45)","v":""},{"$f":"IF('Races, Positions & Points'!AR45=\"\",\"\",'Races, Positions & Points'!AR45)","v":""},{"$f":"IF('Races, Positions & Points'!AU45=\"\",\"\",'Races, Positions & Points'!AU45)","v":64},{"$f":"IF('Races, Positions & Points'!AX45=\"\",\"\",'Races, Positions & Points'!AX45)","v":""},{"$f":"IF('Races, Positions & Points'!BA45=\"\",\"\",'Races, Positions & Points'!BA45)","v":""},{"$f":"IF('Races, Positions & Points'!BD45=\"\",\"\",'Races, Positions & Points'!BD45)","v":54.16},{"$f":"IF('Races, Positions & Points'!BG45=\"\",\"\",'Races, Positions & Points'!BG45)","v":"DNS"},{"$f":"IF('Races, Positions & Points'!BJ45=\"\",\"\",'Races, Positions & Points'!BJ45)","v":""},{"$f":"IF('Races, Positions & Points'!BM45=\"\",\"\",'Races, Positions & Points'!BM45)","v":"DNF"},{"$f":"IF('Races, Positions & Points'!BP45=\"\",\"\",'Races, Positions & Points'!BP45)","v":""},{"$f":"IF('Races, Positions & Points'!BS45=\"\",\"\",'Races, Positions & Points'!BS45)","v":"DNS"},{"$f":"IF('Races, Positions & Points'!BV45=\"\",\"\",'Races, Positions & Points'!BV45)","v":""},{"$f":"IF('Races, Positions & Points'!BY45=\"\",\"\",'Races, Positions & Points'!BY45)","v":""},{"$f":"IF('Races, Positions & Points'!CB45=\"\",\"\",'Races, Positions & Points'!CB45)","v":""},{"$f":"IF('Races, Positions & Points'!CE45=\"\",\"\",'Races, Positions & Points'!CE45)","v":""},{"$f":"IF('Races, Positions & Points'!CH45=\"\",\"\",'Races, Positions & Points'!CH45)","v":""},{"$f":"IF('Races, Positions & Points'!CI45=\"\",\"\",'Races, Positions & Points'!CI45)","v":""},{"$f":"IF('Races, Positions & Points'!CL45=\"\",\"\",'Races, Positions & Points'!CL45)","v":""},{"$f":"IF('Races, Positions & Points'!CO45=\"\",\"\",'Races, Positions & Points'!CO45)","v":""},{"$f":"IF('Races, Positions & Points'!CR45=\"\",\"\",'Races, Positions & Points'!CR45)","v":""},{"$f":"IF('Races, Positions & Points'!CU45=\"\",\"\",'Races, Positions & Points'!CU45)","v":""},{"$f":"IF('Races, Positions & Points'!CX45=\"\",\"\",'Races, Positions & Points'!CX45)","v":""},{"$f":"IF('Races, Positions & Points'!DA45=\"\",\"\",'Races, Positions & Points'!DA45)","v":""},{"$f":"IF('Races, Positions & Points'!DD45=\"\",\"\",'Races, Positions & Points'!DD45)","v":""},{"$f":"IF('Races, Positions & Points'!DG45=\"\",\"\",'Races, Positions & Points'!DG45)","v":""},{"$f":"IF('Races, Positions & Points'!DJ45=\"\",\"\",'Races, Positions & Points'!DJ45)","v":""},{"$f":"IF('Races, Positions & Points'!DM45=\"\",\"\",'Races, Positions & Points'!DM45)","v":""},{"$f":"IF('Races, Positions & Points'!DP45=\"\",\"\",'Races, Positions & Points'!DP45)","v":""},{"$f":"IF('Races, Positions & Points'!DS45=\"\",\"\",'Races, Positions & Points'!DS45)","v":""},{"$f":"IF('Races, Positions & Points'!DV45=\"\",\"\",'Races, Positions & Points'!DV45)","v":""},{"$f":"IF('Races, Positions & Points'!DY45=\"\",\"\",'Races, Positions & Points'!DY45)","v":""},{"$f":"IF('Races, Positions & Points'!EB45=\"\",\"\",'Races, Positions & Points'!EB45)","v":""},{"$f":"IF('Races, Positions & Points'!EE45=\"\",\"\",'Races, Positions & Points'!EE45)","v":""},{"$f":"IF('Races, Positions & Points'!EG45=\"\",\"\",'Races, Positions & Points'!EG45)","v":""},{"$f":"IF('Races, Positions & Points'!EJ45=\"\",\"\",'Races, Positions & Points'!EJ45)","v":""},{"$f":"IF('Races, Positions & Points'!EM45=\"\",\"\",'Races, Positions & Points'!EM45)","v":""},{"$f":"IF('Races, Positions & Points'!EP45=\"\",\"\",'Races, Positions & Points'!EP45)","v":""},{"$f":"IF('Races, Positions & Points'!ES45=\"\",\"\",'Races, Positions & Points'!ES45)","v":""},{"$f":"IF('Races, Positions & Points'!EV45=\"\",\"\",'Races, Positions & Points'!EV45)","v":""},{"$f":"IF('Races, Positions & Points'!EY45=\"\",\"\",'Races, Positions & Points'!EY45)","v":""},{"$f":"IF('Races, Positions & Points'!FB45=\"\",\"\",'Races, Positions & Points'!FB45)","v":""},{"$f":"IF('Races, Positions & Points'!FE45=\"\",\"\",'Races, Positions & Points'!FE45)","v":""},{"$f":"IF('Races, Positions & Points'!FH45=\"\",\"\",'Races, Positions & Points'!FH45)","v":""},{"$f":"IF('Races, Positions & Points'!FI45=\"\",\"\",'Races, Positions & Points'!FI45)","v":""},null,{"$f":"SUMPRODUCT(--(B$4:AY$4=\"In\"),--(B$3:AY$3>5),--(B$5:AY$5=\"Y\"),--(B43:AY43<>\"\"))","v":0},{"$f":"SUMPRODUCT(--(B$4:AY$4=\"Out\"),--(B$3:AY$3>5),--(B$5:AY$5=\"Y\"),--(B43:AY43<>\"\"))","v":1},{"$f":"SUMPRODUCT(--(B$4:AY$4=\"In\"),--(B$3:AY$3=5),--(B$5:AY$5=\"Y\"),--(B43:AY43<>\"\"))","v":1},{"$f":"SUMPRODUCT(--(B$4:AY$4=\"Out\"),--(B$3:AY$3=5),--(B$5:AY$5=\"Y\"),--(B43:AY43<>\"\"))","v":5},{"$f":"SUMPRODUCT(--(B$4:AY$4=\"In\"),--(B$3:AY$3=0),--(B$5:AY$5=\"Y\"),--(B43:AY43<>\"\"))","v":0},{"$f":"SUMPRODUCT(--(B$4:AY$4=\"Out\"),--(B$3:AY$3=0),--(B$5:AY$5=\"Y\"),--(B43:AY43<>\"\"))","v":0},null,{"$f":"'Races, Positions & Points'!E45","v":17479},{"$f":"'Races, Positions & Points'!G45","v":18.72},46.86,54.16,50.51,32.79,56.86,18.72,28.72,28.72,null,51.35,"","",35.04,61.62,18.72,28.72,28.72,null,{"$f":"IF(MIN(C43,K43,L43,AH43,AI43,AK43,AL43)>0,MIN(C43,K43,L43,AH43,AI43,AK43,AL43),\"\")","v":51.35},"","","",54.16,46.86,64,"","","","","","","","","",null,54.16,64,59.08,64.99199999999999,null,51.35,"","",61.62,null,51.35,"","",54.16,"",64,"","DNS","",""]
[{"$f":"'Races, Positions & Points'!A46","v":"Andrew Du Plessis"},{"$f":"IF('Races, Positions & Points'!AB46=\"\",\"\",'Races, Positions & Points'!AB46)","v":""},{"$f":"IF('Races, Positions & Points'!AD46=\"\",\"\",'Races, Positions & Points'!AD46)","v":""},{"$f":"IF('Races, Positions & Points'!AG46=\"\",\"\",'Races, Positions & Points'!AG46)","v":""},{"$f":"IF('Races, Positions & Points'!AJ46=\"\",\"\",'Races, Positions & Points'!AJ46)","v":""},{"$f":"IF('Races, Positions & Points'!AK46=\"\",\"\",'Races, Positions & Points'!AK46)","v":""},{"$f":"IF('Races, Positions & Points'!AN46=\"\",\"\",'Races, Positions & Points'!AN46)","v":""},{"$f":"IF('Races, Positions & Points'!AO46=\"\",\"\",'Races, Positions & Points'!AO46)","v":""},{"$f":"IF('Races, Positions & Points'!AR46=\"\",\"\",'Races, Positions & Points'!AR46)","v":""},{"$f":"IF('Races, Positions & Points'!AU46=\"\",\"\",'Races, Positions & Points'!AU46)","v":""},{"$f":"IF('Races, Positions & Points'!AX46=\"\",\"\",'Races, Positions & Points'!AX46)","v":""},{"$f":"IF('Races, Positions & Points'!BA46=\"\",\"\",'Races, Positions & Points'!BA46)","v":""},{"$f":"IF('Races, Positions & Points'!BD46=\"\",\"\",'Races, Positions & Points'!BD46)","v":""},{"$f":"IF('Races, Positions & Points'!BG46=\"\",\"\",'Races, Positions & Points'!BG46)","v":""},{"$f":"IF('Races, Positions & Points'!BJ46=\"\",\"\",'Races, Positions & Points'!BJ46)","v":""},{"$f":"IF('Races, Positions & Points'!BM46=\"\",\"\",'Races, Positions & Points'!BM46)","v":""},{"$f":"IF('Races, Positions & Points'!BP46=\"\",\"\",'Races, Positions & Points'!BP46)","v":""},{"$f":"IF('Races, Positions & Points'!BS46=\"\",\"\",'Races, Positions & Points'!BS46)","v":""},{"$f":"IF('Races, Positions & Points'!BV46=\"\",\"\",'Races, Positions & Points'!BV46)","v":""},{"$f":"IF('Races, Positions & Points'!BY46=\"\",\"\",'Races, Positions & Points'!BY46)","v":""},{"$f":"IF('Races, Positions & Points'!CB46=\"\",\"\",'Races, Positions & Points'!CB46)","v":26.88},{"$f":"IF('Races, Positions & Points'!CE46=\"\",\"\",'Races, Positions & Points'!CE46)","v":""},{"$f":"IF('Races, Positions & Points'!CH46=\"\",\"\",'Races, Positions & Points'!CH46)","v":""},{"$f":"IF('Races, Positions & Points'!CI46=\"\",\"\",'Races, Positions & Points'!CI46)","v":""},{"$f":"IF('Races, Positions & Points'!CL46=\"\",\"\",'Races, Positions & Points'!CL46)","v":""},{"$f":"IF('Races, Positions & Points'!CO46=\"\",\"\",'Races, Positions & Points'!CO46)","v":""},{"$f":"IF('Races, Positions & Points'!CR46=\"\",\"\",'Races, Positions & Points'!CR46)","v":""},{"$f":"IF('Races, Positions & Points'!CU46=\"\",\"\",'Races, Positions & Points'!CU46)","v":""},{"$f":"IF('Races, Positions & Points'!CX46=\"\",\"\",'Races, Positions & Points'!CX46)","v":""},{"$f":"IF('Races, Positions & Points'!DA46=\"\",\"\",'Races, Positions & Points'!DA46)","v":""},{"$f":"IF('Races, Positions & Points'!DD46=\"\",\"\",'Races, Positions & Points'!DD46)","v":""},{"$f":"IF('Races, Positions & Points'!DG46=\"\",\"\",'Races, Positions & Points'!DG46)","v":""},{"$f":"IF('Races, Positions & Points'!DJ46=\"\",\"\",'Races, Positions & Points'!DJ46)","v":""},{"$f":"IF('Races, Positions & Points'!DM46=\"\",\"\",'Races, Positions & Points'!DM46)","v":""},{"$f":"IF('Races, Positions & Points'!DP46=\"\",\"\",'Races, Positions & Points'!DP46)","v":""},{"$f":"IF('Races, Positions & Points'!DS46=\"\",\"\",'Races, Positions & Points'!DS46)","v":""},{"$f":"IF('Races, Positions & Points'!DV46=\"\",\"\",'Races, Positions & Points'!DV46)","v":""},{"$f":"IF('Races, Positions & Points'!DY46=\"\",\"\",'Races, Positions & Points'!DY46)","v":""},{"$f":"IF('Races, Positions & Points'!EB46=\"\",\"\",'Races, Positions & Points'!EB46)","v":""},{"$f":"IF('Races, Positions & Points'!EE46=\"\",\"\",'Races, Positions & Points'!EE46)","v":""},{"$f":"IF('Races, Positions & Points'!EG46=\"\",\"\",'Races, Positions & Points'!EG46)","v":""},{"$f":"IF('Races, Positions & Points'!EJ46=\"\",\"\",'Races, Positions & Points'!EJ46)","v":""},{"$f":"IF('Races, Positions & Points'!EM46=\"\",\"\",'Races, Positions & Points'!EM46)","v":""},{"$f":"IF('Races, Positions & Points'!EP46=\"\",\"\",'Races, Positions & Points'!EP46)","v":""},{"$f":"IF('Races, Positions & Points'!ES46=\"\",\"\",'Races, Positions & Points'!ES46)","v":""},{"$f":"IF('Races, Positions & Points'!EV46=\"\",\"\",'Races, Positions & Points'!EV46)","v":""},{"$f":"IF('Races, Positions & Points'!EY46=\"\",\"\",'Races, Positions & Points'!EY46)","v":""},{"$f":"IF('Races, Positions & Points'!FB46=\"\",\"\",'Races, Positions & Points'!FB46)","v":""},{"$f":"IF('Races, Positions & Points'!FE46=\"\",\"\",'Races, Positions & Points'!FE46)","v":""},{"$f":"IF('Races, Positions & Points'!FH46=\"\",\"\",'Races, Positions & Points'!FH46)","v":""},{"$f":"IF('Races, Positions & Points'!FI46=\"\",\"\",'Races, Positions & Points'!FI46)","v":""},null,0,1,0,0,0,0,null,{"$f":"'Races, Positions & Points'!E46","v":12318},{"$f":"'Races, Positions & Points'!G46","v":23.04},26.88,"","",24.96,36.879999999999995,23.04,33.04,33.04,null,"","","",23.04,"",23.04,33.04,33.04,null,"","","","","","","","","","",26.88,"","","","","",null,"","","","",null,"","","","",null,"","","","","","","","","",""]
[{"$f":"'Races, Positions & Points'!A47","v":"Adam Beardmore"},{"$f":"IF('Races, Positions & Points'!AB47=\"\",\"\",'Races, Positions & Points'!AB47)","v":""},{"$f":"IF('Races, Positions & Points'!AD47=\"\",\"\",'Races, Positions & Points'!AD47)","v":""},{"$f":"IF('Races, Positions & Points'!AG47=\"\",\"\",'Races, Positions & Points'!AG47)","v":""},{"$f":"IF('Races, Positions & Points'!AJ47=\"\",\"\",'Races, Positions & Points'!AJ47)","v":""},{"$f":"IF('Races, Positions & Points'!AK47=\"\",\"\",'Races, Positions & Points'!AK47)","v":""},{"$f":"IF('Races, Positions & Points'!AN47=\"\",\"\",'Races, Positions & Points'!AN47)","v":""},{"$f":"IF('Races, Positions & Points'!AO47=\"\",\"\",'Races, Positions & Points'!AO47)","v":""},{"$f":"IF('Races, Positions & Points'!AR47=\"\",\"\",'Races, Positions & Points'!AR47)","v":""},{"$f":"IF('Races, Positions & Points'!AU47=\"\",\"\",'Races, Positions & Points'!AU47)","v":""},{"$f":"IF('Races, Positions & Points'!AX47=\"\",\"\",'Races, Positions & Points'!AX47)","v":""},{"$f":"IF('Races, Positions & Points'!BA47=\"\",\"\",'Races, Positions & Points'!BA47)","v":""},{"$f":"IF('Races, Positions & Points'!BD47=\"\",\"\",'Races, Positions & Points'!BD47)","v":""},{"$f":"IF('Races, Positions & Points'!BG47=\"\",\"\",'Races, Positions & Points'!BG47)","v":""},{"$f":"IF('Races, Positions & Points'!BJ47=\"\",\"\",'Races, Positions & Points'!BJ47)","v":""},{"$f":"IF('Races, Positions & Points'!BM47=\"\",\"\",'Races, Positions & Points'!BM47)","v":""},{"$f":"IF('Races, Positions & Points'!BP47=\"\",\"\",'Races, Positions & Points'!BP47)","v":""},{"$f":"IF('Races, Positions & Points'!BS47=\"\",\"\",'Races, Positions & Points'!BS47)","v":""},{"$f":"IF('Races, Positions & Points'!BV47=\"\",\"\",'Races, Positions & Points'!BV47)","v":""},{"$f":"IF('Races, Positions & Points'!BY47=\"\",\"\",'Races, Positions & Points'!BY47)","v":""},{"$f":"IF('Races, Positions & Points'!CB47=\"\",\"\",'Races, Positions & Points'!CB47)","v":""},{"$f":"IF('Races, Positions & Points'!CE47=\"\",\"\",'Races, Positions & Points'!CE47)","v":""},{"$f":"IF('Races, Positions & Points'!CH47=\"\",\"\",'Races, Positions & Points'!CH47)","v":""},{"$f":"IF('Races, Positions & Points'!CI47=\"\",\"\",'Races, Positions & Points'!CI47)","v":""},{"$f":"IF('Races, Positions & Points'!CL47=\"\",\"\",'Races, Positions & Points'!CL47)","v":""},{"$f":"IF('Races, Positions & Points'!CO47=\"\",\"\",'Races, Positions & Points'!CO47)","v":""},{"$f":"IF('Races, Positions & Points'!CR47=\"\",\"\",'Races, Positions & Points'!CR47)","v":""},{"$f":"IF('Races, Positions & Points'!CU47=\"\",\"\",'Races, Positions & Points'!CU47)","v":""},{"$f":"IF('Races, Positions & Points'!CX47=\"\",\"\",'Races, Positions & Points'!CX47)","v":""},{"$f":"IF('Races, Positions & Points'!DA47=\"\",\"\",'Races, Positions & Points'!DA47)","v":""},{"$f":"IF('Races, Positions & Points'!DD47=\"\",\"\",'Races, Positions & Points'!DD47)","v":""},{"$f":"IF('Races, Positions & Points'!DG47=\"\",\"\",'Races, Positions & Points'!DG47)","v":""},{"$f":"IF('Races, Positions & Points'!DJ47=\"\",\"\",'Races, Positions & Points'!DJ47)","v":""},{"$f":"IF('Races, Positions & Points'!DM47=\"\",\"\",'Races, Positions & Points'!DM47)","v":""},{"$f":"IF('Races, Positions & Points'!DP47=\"\",\"\",'Races, Positions & Points'!DP47)","v":""},{"$f":"IF('Races, Positions & Points'!DS47=\"\",\"\",'Races, Positions & Points'!DS47)","v":""},{"$f":"IF('Races, Positions & Points'!DV47=\"\",\"\",'Races, Positions & Points'!DV47)","v":""},{"$f":"IF('Races, Positions & Points'!DY47=\"\",\"\",'Races, Positions & Points'!DY47)","v":""},{"$f":"IF('Races, Positions & Points'!EB47=\"\",\"\",'Races, Positions & Points'!EB47)","v":""},{"$f":"IF('Races, Positions & Points'!EE47=\"\",\"\",'Races, Positions & Points'!EE47)","v":""},{"$f":"IF('Races, Positions & Points'!EG47=\"\",\"\",'Races, Positions & Points'!EG47)","v":""},{"$f":"IF('Races, Positions & Points'!EJ47=\"\",\"\",'Races, Positions & Points'!EJ47)","v":""},{"$f":"IF('Races, Positions & Points'!EM47=\"\",\"\",'Races, Positions & Points'!EM47)","v":""},{"$f":"IF('Races, Positions & Points'!EP47=\"\",\"\",'Races, Positions & Points'!EP47)","v":""},{"$f":"IF('Races, Positions & Points'!ES47=\"\",\"\",'Races, Positions & Points'!ES47)","v":""},{"$f":"IF('Races, Positions & Points'!EV47=\"\",\"\",'Races, Positions & Points'!EV47)","v":""},{"$f":"IF('Races, Positions & Points'!EY47=\"\",\"\",'Races, Positions & Points'!EY47)","v":""},{"$f":"IF('Races, Positions & Points'!FB47=\"\",\"\",'Races, Positions & Points'!FB47)","v":""},{"$f":"IF('Races, Positions & Points'!FE47=\"\",\"\",'Races, Positions & Points'!FE47)","v":""},{"$f":"IF('Races, Positions & Points'!FH47=\"\",\"\",'Races, Positions & Points'!FH47)","v":""},{"$f":"IF('Races, Positions & Points'!FI47=\"\",\"\",'Races, Positions & Points'!FI47)","v":""},null,0,0,0,0,0,0,null,{"$f":"'Races, Positions & Points'!E47","v":19704},{"$f":"'Races, Positions & Points'!G47","v":35.26},"","","",35.26,"",35.26,45.26,45.26,null,"","","",35.26,"",35.26,45.26,45.26,null,"","","","","","","","","","","","","","","","",null,"","","","",null,"","","","",null,"","","","","","","","","",""]
[{"$f":"'Races, Positions & Points'!A48","v":"Adam. Lee"},{"$f":"IF('Races, Positions & Points'!AB48=\"\",\"\",'Races, Positions & Points'!AB48)","v":""},{"$f":"IF('Races, Positions & Points'!AD48=\"\",\"\",'Races, Positions & Points'!AD48)","v":63.61},{"$f":"IF('Races, Positions & Points'!AG48=\"\",\"\",'Races, Positions & Points'!AG48)","v":41.88},{"$f":"IF('Races, Positions & Points'!AJ48=\"\",\"\",'Races, Positions & Points'!AJ48)","v":""},{"$f":"IF('Races, Positions & Points'!AK48=\"\",\"\",'Races, Positions & Points'!AK48)","v":""},{"$f":"IF('Races, Positions & Points'!AN48=\"\",\"\",'Races, Positions & Points'!AN48)","v":""},{"$f":"IF('Races, Positions & Points'!AO48=\"\",\"\",'Races, Positions & Points'!AO48)","v":""},{"$f":"IF('Races, Positions & Points'!AR48=\"\",\"\",'Races, Positions & Points'!AR48)","v":33.840000000000003},{"$f":"IF('Races, Positions & Points'!AU48=\"\",\"\",'Races, Positions & Points'!AU48)","v":34.11},{"$f":"IF('Races, Positions & Points'!AX48=\"\",\"\",'Races, Positions & Points'!AX48)","v":""},{"$f":"IF('Races, Positions & Points'!BA48=\"\",\"\",'Races, Positions & Points'!BA48)","v":""},{"$f":"IF('Races, Positions & Points'!BD48=\"\",\"\",'Races, Positions & Points'!BD48)","v":"DNF"},{"$f":"IF('Races, Positions & Points'!BG48=\"\",\"\",'Races, Positions & Points'!BG48)","v":"DNF"},{"$f":"IF('Races, Positions & Points'!BJ48=\"\",\"\",'Races, Positions & Points'!BJ48)","v":"DNF"},{"$f":"IF('Races, Positions & Points'!BM48=\"\",\"\",'Races, Positions & Points'!BM48)","v":"DNF"},{"$f":"IF('Races, Positions & Points'!BP48=\"\",\"\",'Races, Positions & Points'!BP48)","v":""},{"$f":"IF('Races, Positions & Points'!BS48=\"\",\"\",'Races, Positions & Points'!BS48)","v":60.14},{"$f":"IF('Races, Positions & Points'!BV48=\"\",\"\",'Races, Positions & Points'!BV48)","v":""},{"$f":"IF('Races, Positions & Points'!BY48=\"\",\"\",'Races, Positions & Points'!BY48)","v":""},{"$f":"IF('Races, Positions & Points'!CB48=\"\",\"\",'Races, Positions & Points'!CB48)","v":""},{"$f":"IF('Races, Positions & Points'!CE48=\"\",\"\",'Races, Positions & Points'!CE48)","v":""},{"$f":"IF('Races, Positions & Points'!CH48=\"\",\"\",'Races, Positions & Points'!CH48)","v":""},{"$f":"IF('Races, Positions & Points'!CI48=\"\",\"\",'Races, Positions & Points'!CI48)","v":""},{"$f":"IF('Races, Positions & Points'!CL48=\"\",\"\",'Races, Positions & Points'!CL48)","v":""},{"$f":"IF('Races, Positions & Points'!CO48=\"\",\"\",'Races, Positions & Points'!CO48)","v":""},{"$f":"IF('Races, Positions & Points'!CR48=\"\",\"\",'Races, Positions & Points'!CR48)","v":""},{"$f":"IF('Races, Positions & Points'!CU48=\"\",\"\",'Races, Positions & Points'!CU48)","v":44.18},{"$f":"IF('Races, Positions & Points'!CX48=\"\",\"\",'Races, Positions & Points'!CX48)","v":"DNF"},{"$f":"IF('Races, Positions & Points'!DA48=\"\",\"\",'Races, Positions & Points'!DA48)","v":588.66999999999996},{"$f":"IF('Races, Positions & Points'!DD48=\"\",\"\",'Races, Positions & Points'!DD48)","v":63.91},{"$f":"IF('Races, Positions & Points'!DG48=\"\",\"\",'Races, Positions & Points'!DG48)","v":""},{"$f":"IF('Races, Positions & Points'!DJ48=\"\",\"\",'Races, Positions & Points'!DJ48)","v":""},{"$f":"IF('Races, Positions & Points'!DM48=\"\",\"\",'Races, Positions & Points'!DM48)","v":""},{"$f":"IF('Races, Positions & Points'!DP48=\"\",\"\",'Races, Positions & Points'!DP48)","v":""},{"$f":"IF('Races, Positions & Points'!DS48=\"\",\"\",'Races, Positions & Points'!DS48)","v":56.48},{"$f":"IF('Races, Positions & Points'!DV48=\"\",\"\",'Races, Positions & Points'!DV48)","v":""},{"$f":"IF('Races, Positions & Points'!DY48=\"\",\"\",'Races, Positions & Points'!DY48)","v":""},{"$f":"IF('Races, Positions & Points'!EB48=\"\",\"\",'Races, Positions & Points'!EB48)","v":67.13},{"$f":"IF('Races, Positions & Points'!EE48=\"\",\"\",'Races, Positions & Points'!EE48)","v":19},{"$f":"IF('Races, Positions & Points'!EG48=\"\",\"\",'Races, Positions & Points'!EG48)","v":55.89},{"$f":"IF('Races, Positions & Points'!EJ48=\"\",\"\",'Races, Positions & Points'!EJ48)","v":""},{"$f":"IF('Races, Positions & Points'!EM48=\"\",\"\",'Races, Positions & Points'!EM48)","v":""},{"$f":"IF('Races, Positions & Points'!EP48=\"\",\"\",'Races, Positions & Points'!EP48)","v":84.74},{"$f":"IF('Races, Positions & Points'!ES48=\"\",\"\",'Races, Positions & Points'!ES48)","v":92.84},{"$f":"IF('Races, Positions & Points'!EV48=\"\",\"\",'Races, Positions & Points'!EV48)","v":""},{"$f":"IF('Races, Positions & Points'!EY48=\"\",\"\",'Races, Positions & Points'!EY48)","v":""},{"$f":"IF('Races, Positions & Points'!FB48=\"\",\"\",'Races, Positions & Points'!FB48)","v":""},{"$f":"IF('Races, Positions & Points'!FE48=\"\",\"\",'Races, Positions & Points'!FE48)","v":""},{"$f":"IF('Races, Positions & Points'!FH48=\"\",\"\",'Races, Positions & Points'!FH48)","v":""},{"$f":"IF('Races, Positions & Points'!FI48=\"\",\"\",'Races, Positions & Points'!FI48)","v":""},null,0,6,1,7,0,4,null,{"$f":"'Races, Positions & Points'!E48","v":41578},{"$f":"'Races, Positions & Points'!G48","v":38.93},33.840000000000003,41.88,37.86,36.39,43.84,36.39,48.93,37.86,null,63.61,"","",51.27,76.33,38.93,48.93,48.93,null,63.61,"","","",84.74,41.88,33.840000000000003,"",67.13,60.14,"",55.89,"",588.66999999999996,56.48,"",null,34.11,55.89,45,44.11,null,63.61,"","",76.331999999999994,null,63.61,"","",{"$f":"IF(MIN(M46,N46,AR46,AS46)>0,MIN(M46,N46,AR46,AS46),\"\")","v":84.74},{"$f":"IF(MIN(O46,AE46),MIN(O46,AE46),\"\")","v":63.91},{"$f":"IF(J46>0,J46,\"\")","v":34.11},{"$f":"IF(MIN(AM46,AY46)>0,MIN(AM46,AY46),\"\")","v":67.13},{"$f":"IF(R46>0,R46,\"\")","v":60.14},55.89,{"$f":"IF(MIN(AV46,AW46),MIN(AV46,AW46),\"\")","v":""}]
[{"$f":"'Races, Positions & Points'!A49","v":"Jack Rigby"},{"$f":"IF('Races, Positions & Points'!AB49=\"\",\"\",'Races, Positions & Points'!AB49)","v":""},{"$f":"IF('Races, Positions & Points'!AD49=\"\",\"\",'Races, Positions & Points'!AD49)","v":""},{"$f":"IF('Races, Positions & Points'!AG49=\"\",\"\",'Races, Positions & Points'!AG49)","v":""},{"$f":"IF('Races, Positions & Points'!AJ49=\"\",\"\",'Races, Positions & Points'!AJ49)","v":66.67},{"$f":"IF('Races, Positions & Points'!AK49=\"\",\"\",'Races, Positions & Points'!AK49)","v":115.29},{"$f":"IF('Races, Positions & Points'!AN49=\"\",\"\",'Races, Positions & Points'!AN49)","v":42.49},{"$f":"IF('Races, Positions & Points'!AO49=\"\",\"\",'Races, Positions & Points'!AO49)","v":34.57},{"$f":"IF('Races, Positions & Points'!AR49=\"\",\"\",'Races, Positions & Points'!AR49)","v":""},{"$f":"IF('Races, Positions & Points'!AU49=\"\",\"\",'Races, Positions & Points'!AU49)","v":""},{"$f":"IF('Races, Positions & Points'!AX49=\"\",\"\",'Races, Positions & Points'!AX49)","v":61.89},{"$f":"IF('Races, Positions & Points'!BA49=\"\",\"\",'Races, Positions & Points'!BA49)","v":"DNF"},{"$f":"IF('Races, Positions & Points'!BD49=\"\",\"\",'Races, Positions & Points'!BD49)","v":""},{"$f":"IF('Races, Positions & Points'!BG49=\"\",\"\",'Races, Positions & Points'!BG49)","v":""},{"$f":"IF('Races, Positions & Points'!BJ49=\"\",\"\",'Races, Positions & Points'!BJ49)","v":""},{"$f":"IF('Races, Positions & Points'!BM49=\"\",\"\",'Races, Positions & Points'!BM49)","v":""},{"$f":"IF('Races, Positions & Points'!BP49=\"\",\"\",'Races, Positions & Points'!BP49)","v":""},{"$f":"IF('Races, Positions & Points'!BS49=\"\",\"\",'Races, Positions & Points'!BS49)","v":""},{"$f":"IF('Races, Positions & Points'!BV49=\"\",\"\",'Races, Positions & Points'!BV49)","v":""},{"$f":"IF('Races, Positions & Points'!BY49=\"\",\"\",'Races, Positions & Points'!BY49)","v":""},{"$f":"IF('Races, Positions & Points'!CB49=\"\",\"\",'Races, Positions & Points'!CB49)","v":""},{"$f":"IF('Races, Positions & Points'!CE49=\"\",\"\",'Races, Positions & Points'!CE49)","v":""},{"$f":"IF('Races, Positions & Points'!CH49=\"\",\"\",'Races, Positions & Points'!CH49)","v":""},{"$f":"IF('Races, Positions & Points'!CI49=\"\",\"\",'Races, Positions & Points'!CI49)","v":""},{"$f":"IF('Races, Positions & Points'!CL49=\"\",\"\",'Races, Positions & Points'!CL49)","v":""},{"$f":"IF('Races, Positions & Points'!CO49=\"\",\"\",'Races, Positions & Points'!CO49)","v":""},{"$f":"IF('Races, Positions & Points'!CR49=\"\",\"\",'Races, Positions & Points'!CR49)","v":""},{"$f":"IF('Races, Positions & Points'!CU49=\"\",\"\",'Races, Positions & Points'!CU49)","v":85.01},{"$f":"IF('Races, Positions & Points'!CX49=\"\",\"\",'Races, Positions & Points'!CX49)","v":""},{"$f":"IF('Races, Positions & Points'!DA49=\"\",\"\",'Races, Positions & Points'!DA49)","v":""},{"$f":"IF('Races, Positions & Points'!DD49=\"\",\"\",'Races, Positions & Points'!DD49)","v":""},{"$f":"IF('Races, Positions & Points'!DG49=\"\",\"\",'Races, Positions & Points'!DG49)","v":""},{"$f":"IF('Races, Positions & Points'!DJ49=\"\",\"\",'Races, Positions & Points'!DJ49)","v":"DNF"},{"$f":"IF('Races, Positions & Points'!DM49=\"\",\"\",'Races, Positions & Points'!DM49)","v":""},{"$f":"IF('Races, Positions & Points'!DP49=\"\",\"\",'Races, Positions & Points'!DP49)","v":""},{"$f":"IF('Races, Positions & Points'!DS49=\"\",\"\",'Races, Positions & Points'!DS49)","v":""},{"$f":"IF('Races, Positions & Points'!DV49=\"\",\"\",'Races, Positions & Points'!DV49)","v":""},{"$f":"IF('Races, Positions & Points'!DY49=\"\",\"\",'Races, Positions & Points'!DY49)","v":""},{"$f":"IF('Races, Positions & Points'!EB49=\"\",\"\",'Races, Positions & Points'!EB49)","v":""},{"$f":"IF('Races, Positions & Points'!EE49=\"\",\"\",'Races, Positions & Points'!EE49)","v":""},{"$f":"IF('Races, Positions & Points'!EG49=\"\",\"\",'Races, Positions & Points'!EG49)","v":""},{"$f":"IF('Races, Positions & Points'!EJ49=\"\",\"\",'Races, Positions & Points'!EJ49)","v":999.99},{"$f":"IF('Races, Positions & Points'!EM49=\"\",\"\",'Races, Positions & Points'!EM49)","v":999.99},{"$f":"IF('Races, Positions & Points'!EP49=\"\",\"\",'Races, Positions & Points'!EP49)","v":""},{"$f":"IF('Races, Positions & Points'!ES49=\"\",\"\",'Races, Positions & Points'!ES49)","v":""},{"$f":"IF('Races, Positions & Points'!EV49=\"\",\"\",'Races, Positions & Points'!EV49)","v":""},{"$f":"IF('Races, Positions & Points'!EY49=\"\",\"\",'Races, Positions & Points'!EY49)","v":""},{"$f":"IF('Races, Positions & Points'!FB49=\"\",\"\",'Races, Positions & Points'!FB49)","v":""},{"$f":"IF('Races, Positions & Points'!FE49=\"\",\"\",'Races, Positions & Points'!FE49)","v":""},{"$f":"IF('Races, Positions & Points'!FH49=\"\",\"\",'Races, Positions & Points'!FH49)","v":""},{"$f":"IF('Races, Positions & Points'!FI49=\"\",\"\",'Races, Positions & Points'!FI49)","v":""},null,0,1,3,0,2,0,null,{"$f":"'Races, Positions & Points'!E49","v":41722},{"$f":"'Races, Positions & Points'!G49","v":50.4},85.01,"","",67.709999999999994,102.01,50.4,60.48,60.48,null,34.57,61.89,48.23,42.49,44.57,42.49,60.48,44.57,null,61.89,34.57,"","","",85.01,"","","","","","","","","","",null,"","","","",null,61.89,999.99,530.94000000000005,74.268000000000001,null,61.89,999.99,"","","","","","","",""]
[{"$f":"'Races, Positions & Points'!A50","v":"Phil Emmerson"},{"$f":"IF('Races, Positions & Points'!AB50=\"\",\"\",'Races, Positions & Points'!AB50)","v":""},{"$f":"IF('Races, Positions & Points'!AD50=\"\",\"\",'Races, Positions & Points'!AD50)","v":118.82},{"$f":"IF('Races, Positions & Points'!AG50=\"\",\"\",'Races, Positions & Points'!AG50)","v":""},{"$f":"IF('Races, Positions & Points'!AJ50=\"\",\"\",'Races, Positions & Points'!AJ50)","v":""},{"$f":"IF('Races, Positions & Points'!AK50=\"\",\"\",'Races, Positions & Points'!AK50)","v":""},{"$f":"IF('Races, Positions & Points'!AN50=\"\",\"\",'Races, Positions & Points'!AN50)","v":""},{"$f":"IF('Races, Positions & Points'!AO50=\"\",\"\",'Races, Positions & Points'!AO50)","v":""},{"$f":"IF('Races, Positions & Points'!AR50=\"\",\"\",'Races, Positions & Points'!AR50)","v":""},{"$f":"IF('Races, Positions & Points'!AU50=\"\",\"\",'Races, Positions & Points'!AU50)","v":""},{"$f":"IF('Races, Positions & Points'!AX50=\"\",\"\",'Races, Positions & Points'!AX50)","v":""},{"$f":"IF('Races, Positions & Points'!BA50=\"\",\"\",'Races, Positions & Points'!BA50)","v":""},{"$f":"IF('Races, Positions & Points'!BD50=\"\",\"\",'Races, Positions & Points'!BD50)","v":"DNF"},{"$f":"IF('Races, Positions & Points'!BG50=\"\",\"\",'Races, Positions & Points'!BG50)","v":"DNF"},{"$f":"IF('Races, Positions & Points'!BJ50=\"\",\"\",'Races, Positions & Points'!BJ50)","v":"DNF"},{"$f":"IF('Races, Positions & Points'!BM50=\"\",\"\",'Races, Positions & Points'!BM50)","v":43.54},{"$f":"IF('Races, Positions & Points'!BP50=\"\",\"\",'Races, Positions & Points'!BP50)","v":""},{"$f":"IF('Races, Positions & Points'!BS50=\"\",\"\",'Races, Positions & Points'!BS50)","v":"DNF"},{"$f":"IF('Races, Positions & Points'!BV50=\"\",\"\",'Races, Positions & Points'!BV50)","v":""},{"$f":"IF('Races, Positions & Points'!BY50=\"\",\"\",'Races, Positions & Points'!BY50)","v":""},{"$f":"IF('Races, Positions & Points'!CB50=\"\",\"\",'Races, Positions & Points'!CB50)","v":42.67},{"$f":"IF('Races, Positions & Points'!CE50=\"\",\"\",'Races, Positions & Points'!CE50)","v":""},{"$f":"IF('Races, Positions & Points'!CH50=\"\",\"\",'Races, Positions & Points'!CH50)","v":""},{"$f":"IF('Races, Positions & Points'!CI50=\"\",\"\",'Races, Positions & Points'!CI50)","v":""},{"$f":"IF('Races, Positions & Points'!CL50=\"\",\"\",'Races, Positions & Points'!CL50)","v":41.96},{"$f":"IF('Races, Positions & Points'!CO50=\"\",\"\",'Races, Positions & Points'!CO50)","v":""},{"$f":"IF('Races, Positions & Points'!CR50=\"\",\"\",'Races, Positions & Points'!CR50)","v":44.68},{"$f":"IF('Races, Positions & Points'!CU50=\"\",\"\",'Races, Positions & Points'!CU50)","v":"DSQ"},{"$f":"IF('Races, Positions & Points'!CX50=\"\",\"\",'Races, Positions & Points'!CX50)","v":42.07},{"$f":"IF('Races, Positions & Points'!DA50=\"\",\"\",'Races, Positions & Points'!DA50)","v":59.73},{"$f":"IF('Races, Positions & Points'!DD50=\"\",\"\",'Races, Positions & Points'!DD50)","v":50.35},{"$f":"IF('Races, Positions & Points'!DG50=\"\",\"\",'Races, Positions & Points'!DG50)","v":""},{"$f":"IF('Races, Positions & Points'!DJ50=\"\",\"\",'Races, Positions & Points'!DJ50)","v":""},{"$f":"IF('Races, Positions & Points'!DM50=\"\",\"\",'Races, Positions & Points'!DM50)","v":""},{"$f":"IF('Races, Positions & Points'!DP50=\"\",\"\",'Races, Positions & Points'!DP50)","v":""},{"$f":"IF('Races, Positions & Points'!DS50=\"\",\"\",'Races, Positions & Points'!DS50)","v":""},{"$f":"IF('Races, Positions & Points'!DV50=\"\",\"\",'Races, Positions & Points'!DV50)","v":""},{"$f":"IF('Races, Positions & Points'!DY50=\"\",\"\",'Races, Positions & Points'!DY50)","v":""},{"$f":"IF('Races, Positions & Points'!EB50=\"\",\"\",'Races, Positions & Points'!EB50)","v":""},{"$f":"IF('Races, Positions & Points'!EE50=\"\",\"\",'Races, Positions & Points'!EE50)","v":"DNF"},{"$f":"IF('Races, Positions & Points'!EG50=\"\",\"\",'Races, Positions & Points'!EG50)","v":999.99},{"$f":"IF('Races, Positions & Points'!EJ50=\"\",\"\",'Races, Positions & Points'!EJ50)","v":""},{"$f":"IF('Races, Positions & Points'!EM50=\"\",\"\",'Races, Positions & Points'!EM50)","v":""},{"$f":"IF('Races, Positions & Points'!EP50=\"\",\"\",'Races, Positions & Points'!EP50)","v":999.99},{"$f":"IF('Races, Positions & Points'!ES50=\"\",\"\",'Races, Positions & Points'!ES50)","v":999.99},{"$f":"IF('Races, Positions & Points'!EV50=\"\",\"\",'Races, Positions & Points'!EV50)","v":""},{"$f":"IF('Races, Positions & Points'!EY50=\"\",\"\",'Races, Positions & Points'!EY50)","v":""},{"$f":"IF('Races, Positions & Points'!FB50=\"\",\"\",'Races, Positions & Points'!FB50)","v":""},{"$f":"IF('Races, Positions & Points'!FE50=\"\",\"\",'Races, Positions & Points'!FE50)","v":""},{"$f":"IF('Races, Positions & Points'!FH50=\"\",\"\",'Races, Positions & Points'!FH50)","v":""},{"$f":"IF('Races, Positions & Points'!FI50=\"\",\"\",'Races, Positions & Points'!FI50)","v":""},null,0,7,1,5,0,3,null,{"$f":"'Races, Positions & Points'!E50","v":21084},{"$f":"'Races, Positions & Points'!G50","v":57.73},41.96,42.07,42.02,49.85,51.96,42.02,69.28,42.02,null,118.82,"","",88.28,142.58000000000001,57.73,69.28,69.28,null,118.82,"","","",999.99,42.07,"","","",43.54,42.67,41.96,44.68,59.73,"","",null,50.35,999.99,525.16999999999996,60.42,null,118.82,"","",142.58399999999997,null,118.82,"","",999.99,50.35,"","","DNF",999.99,""]
[{"$f":"'Races, Positions & Points'!A51","v":"Mark Hawkins"},{"$f":"IF('Races, Positions & Points'!AB51=\"\",\"\",'Races, Positions & Points'!AB51)","v":""},{"$f":"IF('Races, Positions & Points'!AD51=\"\",\"\",'Races, Positions & Points'!AD51)","v":""},{"$f":"IF('Races, Positions & Points'!AG51=\"\",\"\",'Races, Positions & Points'!AG51)","v":56.230000000000004},{"$f":"IF('Races, Positions & Points'!AJ51=\"\",\"\",'Races, Positions & Points'!AJ51)","v":""},{"$f":"IF('Races, Positions & Points'!AK51=\"\",\"\",'Races, Positions & Points'!AK51)","v":""},{"$f":"IF('Races, Positions & Points'!AN51=\"\",\"\",'Races, Positions & Points'!AN51)","v":""},{"$f":"IF('Races, Positions & Points'!AO51=\"\",\"\",'Races, Positions & Points'!AO51)","v":""},{"$f":"IF('Races, Positions & Points'!AR51=\"\",\"\",'Races, Positions & Points'!AR51)","v":69.5},{"$f":"IF('Races, Positions & Points'!AU51=\"\",\"\",'Races, Positions & Points'!AU51)","v":"DSQ"},{"$f":"IF('Races, Positions & Points'!AX51=\"\",\"\",'Races, Positions & Points'!AX51)","v":""},{"$f":"IF('Races, Positions & Points'!BA51=\"\",\"\",'Races, Positions & Points'!BA51)","v":""},{"$f":"IF('Races, Positions & Points'!BD51=\"\",\"\",'Races, Positions & Points'!BD51)","v":67.37},{"$f":"IF('Races, Positions & Points'!BG51=\"\",\"\",'Races, Positions & Points'!BG51)","v":57.97},{"$f":"IF('Races, Positions & Points'!BJ51=\"\",\"\",'Races, Positions & Points'!BJ51)","v":70.58},{"$f":"IF('Races, Positions & Points'!BM51=\"\",\"\",'Races, Positions & Points'!BM51)","v":""},{"$f":"IF('Races, Positions & Points'!BP51=\"\",\"\",'Races, Positions & Points'!BP51)","v":""},{"$f":"IF('Races, Positions & Points'!BS51=\"\",\"\",'Races, Positions & Points'!BS51)","v":""},{"$f":"IF('Races, Positions & Points'!BV51=\"\",\"\",'Races, Positions & Points'!BV51)","v":""},{"$f":"IF('Races, Positions & Points'!BY51=\"\",\"\",'Races, Positions & Points'!BY51)","v":""},{"$f":"IF('Races, Positions & Points'!CB51=\"\",\"\",'Races, Positions & Points'!CB51)","v":""},{"$f":"IF('Races, Positions & Points'!CE51=\"\",\"\",'Races, Positions & Points'!CE51)","v":""},{"$f":"IF('Races, Positions & Points'!CH51=\"\",\"\",'Races, Positions & Points'!CH51)","v":""},{"$f":"IF('Races, Positions & Points'!CI51=\"\",\"\",'Races, Positions & Points'!CI51)","v":""},{"$f":"IF('Races, Positions & Points'!CL51=\"\",\"\",'Races, Positions & Points'!CL51)","v":""},{"$f":"IF('Races, Positions & Points'!CO51=\"\",\"\",'Races, Positions & Points'!CO51)","v":""},{"$f":"IF('Races, Positions & Points'!CR51=\"\",\"\",'Races, Positions & Points'!CR51)","v":""},{"$f":"IF('Races, Positions & Points'!CU51=\"\",\"\",'Races, Positions & Points'!CU51)","v":"DNF"},{"$f":"IF('Races, Positions & Points'!CX51=\"\",\"\",'Races, Positions & Points'!CX51)","v":53.08},{"$f":"IF('Races, Positions & Points'!DA51=\"\",\"\",'Races, Positions & Points'!DA51)","v":""},{"$f":"IF('Races, Positions & Points'!DD51=\"\",\"\",'Races, Positions & Points'!DD51)","v":57.6},{"$f":"IF('Races, Positions & Points'!DG51=\"\",\"\",'Races, Positions & Points'!DG51)","v":""},{"$f":"IF('Races, Positions & Points'!DJ51=\"\",\"\",'Races, Positions & Points'!DJ51)","v":""},{"$f":"IF('Races, Positions & Points'!DM51=\"\",\"\",'Races, Positions & Points'!DM51)","v":""},{"$f":"IF('Races, Positions & Points'!DP51=\"\",\"\",'Races, Positions & Points'!DP51)","v":""},{"$f":"IF('Races, Positions & Points'!DS51=\"\",\"\",'Races, Positions & Points'!DS51)","v":""},{"$f":"IF('Races, Positions & Points'!DV51=\"\",\"\",'Races, Positions & Points'!DV51)","v":""},{"$f":"IF('Races, Positions & Points'!DY51=\"\",\"\",'Races, Positions & Points'!DY51)","v":""},{"$f":"IF('Races, Positions & Points'!EB51=\"\",\"\",'Races, Positions & Points'!EB51)","v":""},{"$f":"IF('Races, Positions & Points'!EE51=\"\",\"\",'Races, Positions & Points'!EE51)","v":23},{"$f":"IF('Races, Positions & Points'!EG51=\"\",\"\",'Races, Positions & Points'!EG51)","v":64.69},{"$f":"IF('Races, Positions & Points'!EJ51=\"\",\"\",'Races, Positions & Points'!EJ51)","v":""},{"$f":"IF('Races, Positions & Points'!EM51=\"\",\"\",'Races, Positions & Points'!EM51)","v":""},{"$f":"IF('Races, Positions & Points'!EP51=\"\",\"\",'Races, Positions & Points'!EP51)","v":999.99},{"$f":"IF('Races, Positions & Points'!ES51=\"\",\"\",'Races, Positions & Points'!ES51)","v":85.24},{"$f":"IF('Races, Positions & Points'!EV51=\"\",\"\",'Races, Positions & Points'!EV51)","v":""},{"$f":"IF('Races, Positions & Points'!EY51=\"\",\"\",'Races, Positions & Points'!EY51)","v":""},{"$f":"IF('Races, Positions & Points'!FB51=\"\",\"\",'Races, Positions & Points'!FB51)","v":""},{"$f":"IF('Races, Positions & Points'!FE51=\"\",\"\",'Races, Positions & Points'!FE51)","v":""},{"$f":"IF('Races, Positions & Points'!FH51=\"\",\"\",'Races, Positions & Points'!FH51)","v":""},{"$f":"IF('Races, Positions & Points'!FI51=\"\",\"\",'Races, Positions & Points'!FI51)","v":""},null,0,3,0,6,0,3,null,{"$f":"'Races, Positions & Points'!E51","v":19163},{"$f":"'Races, Positions & Points'!G51","v":61.45},53.08,57.97,55.53,57.27,63.7,55.53,73.739999999999995,55.53,null,"","","",61.45,"",61.45,73.739999999999995,73.739999999999995,null,"","","","",57.97,53.08,69.5,"","","","",64.69,"","","","",null,57.6,57.97,57.784999999999997,69.12,null,"","","","",null,"","","",57.97,57.6,"DSQ","","",64.69,""]
[{"$f":"'Races, Positions & Points'!A52","v":"Nick Miller"},{"$f":"IF('Races, Positions & Points'!AB52=\"\",\"\",'Races, Positions & Points'!AB52)","v":""},{"$f":"IF('Races, Positions & Points'!AD52=\"\",\"\",'Races, Positions & Points'!AD52)","v":""},{"$f":"IF('Races, Positions & Points'!AG52=\"\",\"\",'Races, Positions & Points'!AG52)","v":""},{"$f":"IF('Races, Positions & Points'!AJ52=\"\",\"\",'Races, Positions & Points'!AJ52)","v":""},{"$f":"IF('Races, Positions & Points'!AK52=\"\",\"\",'Races, Positions & Points'!AK52)","v":""},{"$f":"IF('Races, Positions & Points'!AN52=\"\",\"\",'Races, Positions & Points'!AN52)","v":""},{"$f":"IF('Races, Positions & Points'!AO52=\"\",\"\",'Races, Positions & Points'!AO52)","v":""},{"$f":"IF('Races, Positions & Points'!AR52=\"\",\"\",'Races, Positions & Points'!AR52)","v":""},{"$f":"IF('Races, Positions & Points'!AU52=\"\",\"\",'Races, Positions & Points'!AU52)","v":""},{"$f":"IF('Races, Positions & Points'!AX52=\"\",\"\",'Races, Positions & Points'!AX52)","v":""},{"$f":"IF('Races, Positions & Points'!BA52=\"\",\"\",'Races, Positions & Points'!BA52)","v":""},{"$f":"IF('Races, Positions & Points'!BD52=\"\",\"\",'Races, Positions & Points'!BD52)","v":""},{"$f":"IF('Races, Positions & Points'!BG52=\"\",\"\",'Races, Positions & Points'!BG52)","v":""},{"$f":"IF('Races, Positions & Points'!BJ52=\"\",\"\",'Races, Positions & Points'!BJ52)","v":""},{"$f":"IF('Races, Positions & Points'!BM52=\"\",\"\",'Races, Positions & Points'!BM52)","v":""},{"$f":"IF('Races, Positions & Points'!BP52=\"\",\"\",'Races, Positions & Points'!BP52)","v":""},{"$f":"IF('Races, Positions & Points'!BS52=\"\",\"\",'Races, Positions & Points'!BS52)","v":""},{"$f":"IF('Races, Positions & Points'!BV52=\"\",\"\",'Races, Positions & Points'!BV52)","v":""},{"$f":"IF('Races, Positions & Points'!BY52=\"\",\"\",'Races, Positions & Points'!BY52)","v":""},{"$f":"IF('Races, Positions & Points'!CB52=\"\",\"\",'Races, Positions & Points'!CB52)","v":""},{"$f":"IF('Races, Positions & Points'!CE52=\"\",\"\",'Races, Positions & Points'!CE52)","v":""},{"$f":"IF('Races, Positions & Points'!CH52=\"\",\"\",'Races, Positions & Points'!CH52)","v":""},{"$f":"IF('Races, Positions & Points'!CI52=\"\",\"\",'Races, Positions & Points'!CI52)","v":""},{"$f":"IF('Races, Positions & Points'!CL52=\"\",\"\",'Races, Positions & Points'!CL52)","v":""},{"$f":"IF('Races, Positions & Points'!CO52=\"\",\"\",'Races, Positions & Points'!CO52)","v":""},{"$f":"IF('Races, Positions & Points'!CR52=\"\",\"\",'Races, Positions & Points'!CR52)","v":""},{"$f":"IF('Races, Positions & Points'!CU52=\"\",\"\",'Races, Positions & Points'!CU52)","v":""},{"$f":"IF('Races, Positions & Points'!CX52=\"\",\"\",'Races, Positions & Points'!CX52)","v":""},{"$f":"IF('Races, Positions & Points'!DA52=\"\",\"\",'Races, Positions & Points'!DA52)","v":""},{"$f":"IF('Races, Positions & Points'!DD52=\"\",\"\",'Races, Positions & Points'!DD52)","v":""},{"$f":"IF('Races, Positions & Points'!DG52=\"\",\"\",'Races, Positions & Points'!DG52)","v":""},{"$f":"IF('Races, Positions & Points'!DJ52=\"\",\"\",'Races, Positions & Points'!DJ52)","v":""},{"$f":"IF('Races, Positions & Points'!DM52=\"\",\"\",'Races, Positions & Points'!DM52)","v":""},{"$f":"IF('Races, Positions & Points'!DP52=\"\",\"\",'Races, Positions & Points'!DP52)","v":""},{"$f":"IF('Races, Positions & Points'!DS52=\"\",\"\",'Races, Positions & Points'!DS52)","v":""},{"$f":"IF('Races, Positions & Points'!DV52=\"\",\"\",'Races, Positions & Points'!DV52)","v":""},{"$f":"IF('Races, Positions & Points'!DY52=\"\",\"\",'Races, Positions & Points'!DY52)","v":""},{"$f":"IF('Races, Positions & Points'!EB52=\"\",\"\",'Races, Positions & Points'!EB52)","v":""},{"$f":"IF('Races, Positions & Points'!EE52=\"\",\"\",'Races, Positions & Points'!EE52)","v":""},{"$f":"IF('Races, Positions & Points'!EG52=\"\",\"\",'Races, Positions & Points'!EG52)","v":""},{"$f":"IF('Races, Positions & Points'!EJ52=\"\",\"\",'Races, Positions & Points'!EJ52)","v":""},{"$f":"IF('Races, Positions & Points'!EM52=\"\",\"\",'Races, Positions & Points'!EM52)","v":""},{"$f":"IF('Races, Positions & Points'!EP52=\"\",\"\",'Races, Positions & Points'!EP52)","v":""},{"$f":"IF('Races, Positions & Points'!ES52=\"\",\"\",'Races, Positions & Points'!ES52)","v":""},{"$f":"IF('Races, Positions & Points'!EV52=\"\",\"\",'Races, Positions & Points'!EV52)","v":""},{"$f":"IF('Races, Positions & Points'!EY52=\"\",\"\",'Races, Positions & Points'!EY52)","v":""},{"$f":"IF('Races, Positions & Points'!FB52=\"\",\"\",'Races, Positions & Points'!FB52)","v":""},{"$f":"IF('Races, Positions & Points'!FE52=\"\",\"\",'Races, Positions & Points'!FE52)","v":""},{"$f":"IF('Races, Positions & Points'!FH52=\"\",\"\",'Races, Positions & Points'!FH52)","v":""},{"$f":"IF('Races, Positions & Points'!FI52=\"\",\"\",'Races, Positions & Points'!FI52)","v":""},null,0,0,0,0,0,0,null,{"$f":"'Races, Positions & Points'!E52","v":18607},{"$f":"'Races, Positions & Points'!G52","v":63.19},"","","",63.19,"",63.19,75.83,75.83,null,"","","",63.19,"",63.19,75.83,75.83,null,"","","","","","","","","","","","","","","","",null,"","","","",null,"","","","",null,"","","","","","","","","",""]
[{"$f":"'Races, Positions & Points'!A53","v":"Alasdair Thorley"},{"$f":"IF('Races, Positions & Points'!AB53=\"\",\"\",'Races, Positions & Points'!AB53)","v":""},{"$f":"IF('Races, Positions & Points'!AD53=\"\",\"\",'Races, Positions & Points'!AD53)","v":""},{"$f":"IF('Races, Positions & Points'!AG53=\"\",\"\",'Races, Positions & Points'!AG53)","v":""},{"$f":"IF('Races, Positions & Points'!AJ53=\"\",\"\",'Races, Positions & Points'!AJ53)","v":""},{"$f":"IF('Races, Positions & Points'!AK53=\"\",\"\",'Races, Positions & Points'!AK53)","v":""},{"$f":"IF('Races, Positions & Points'!AN53=\"\",\"\",'Races, Positions & Points'!AN53)","v":""},{"$f":"IF('Races, Positions & Points'!AO53=\"\",\"\",'Races, Positions & Points'!AO53)","v":""},{"$f":"IF('Races, Positions & Points'!AR53=\"\",\"\",'Races, Positions & Points'!AR53)","v":""},{"$f":"IF('Races, Positions & Points'!AU53=\"\",\"\",'Races, Positions & Points'!AU53)","v":""},{"$f":"IF('Races, Positions & Points'!AX53=\"\",\"\",'Races, Positions & Points'!AX53)","v":""},{"$f":"IF('Races, Positions & Points'!BA53=\"\",\"\",'Races, Positions & Points'!BA53)","v":""},{"$f":"IF('Races, Positions & Points'!BD53=\"\",\"\",'Races, Positions & Points'!BD53)","v":""},{"$f":"IF('Races, Positions & Points'!BG53=\"\",\"\",'Races, Positions & Points'!BG53)","v":""},{"$f":"IF('Races, Positions & Points'!BJ53=\"\",\"\",'Races, Positions & Points'!BJ53)","v":""},{"$f":"IF('Races, Positions & Points'!BM53=\"\",\"\",'Races, Positions & Points'!BM53)","v":""},{"$f":"IF('Races, Positions & Points'!BP53=\"\",\"\",'Races, Positions & Points'!BP53)","v":""},{"$f":"IF('Races, Positions & Points'!BS53=\"\",\"\",'Races, Positions & Points'!BS53)","v":""},{"$f":"IF('Races, Positions & Points'!BV53=\"\",\"\",'Races, Positions & Points'!BV53)","v":""},{"$f":"IF('Races, Positions & Points'!BY53=\"\",\"\",'Races, Positions & Points'!BY53)","v":""},{"$f":"IF('Races, Positions & Points'!CB53=\"\",\"\",'Races, Positions & Points'!CB53)","v":""},{"$f":"IF('Races, Positions & Points'!CE53=\"\",\"\",'Races, Positions & Points'!CE53)","v":""},{"$f":"IF('Races, Positions & Points'!CH53=\"\",\"\",'Races, Positions & Points'!CH53)","v":""},{"$f":"IF('Races, Positions & Points'!CI53=\"\",\"\",'Races, Positions & Points'!CI53)","v":""},{"$f":"IF('Races, Positions & Points'!CL53=\"\",\"\",'Races, Positions & Points'!CL53)","v":""},{"$f":"IF('Races, Positions & Points'!CO53=\"\",\"\",'Races, Positions & Points'!CO53)","v":""},{"$f":"IF('Races, Positions & Points'!CR53=\"\",\"\",'Races, Positions & Points'!CR53)","v":""},{"$f":"IF('Races, Positions & Points'!CU53=\"\",\"\",'Races, Positions & Points'!CU53)","v":""},{"$f":"IF('Races, Positions & Points'!CX53=\"\",\"\",'Races, Positions & Points'!CX53)","v":""},{"$f":"IF('Races, Positions & Points'!DA53=\"\",\"\",'Races, Positions & Points'!DA53)","v":""},{"$f":"IF('Races, Positions & Points'!DD53=\"\",\"\",'Races, Positions & Points'!DD53)","v":""},{"$f":"IF('Races, Positions & Points'!DG53=\"\",\"\",'Races, Positions & Points'!DG53)","v":""},{"$f":"IF('Races, Positions & Points'!DJ53=\"\",\"\",'Races, Positions & Points'!DJ53)","v":""},{"$f":"IF('Races, Positions & Points'!DM53=\"\",\"\",'Races, Positions & Points'!DM53)","v":""},{"$f":"IF('Races, Positions & Points'!DP53=\"\",\"\",'Races, Positions & Points'!DP53)","v":""},{"$f":"IF('Races, Positions & Points'!DS53=\"\",\"\",'Races, Positions & Points'!DS53)","v":""},{"$f":"IF('Races, Positions & Points'!DV53=\"\",\"\",'Races, Positions & Points'!DV53)","v":""},{"$f":"IF('Races, Positions & Points'!DY53=\"\",\"\",'Races, Positions & Points'!DY53)","v":""},{"$f":"IF('Races, Positions & Points'!EB53=\"\",\"\",'Races, Positions & Points'!EB53)","v":""},{"$f":"IF('Races, Positions & Points'!EE53=\"\",\"\",'Races, Positions & Points'!EE53)","v":""},{"$f":"IF('Races, Positions & Points'!EG53=\"\",\"\",'Races, Positions & Points'!EG53)","v":""},{"$f":"IF('Races, Positions & Points'!EJ53=\"\",\"\",'Races, Positions & Points'!EJ53)","v":""},{"$f":"IF('Races, Positions & Points'!EM53=\"\",\"\",'Races, Positions & Points'!EM53)","v":""},{"$f":"IF('Races, Positions & Points'!EP53=\"\",\"\",'Races, Positions & Points'!EP53)","v":""},{"$f":"IF('Races, Positions & Points'!ES53=\"\",\"\",'Races, Positions & Points'!ES53)","v":""},{"$f":"IF('Races, Positions & Points'!EV53=\"\",\"\",'Races, Positions & Points'!EV53)","v":""},{"$f":"IF('Races, Positions & Points'!EY53=\"\",\"\",'Races, Positions & Points'!EY53)","v":""},{"$f":"IF('Races, Positions & Points'!FB53=\"\",\"\",'Races, Positions & Points'!FB53)","v":""},{"$f":"IF('Races, Positions & Points'!FE53=\"\",\"\",'Races, Positions & Points'!FE53)","v":""},{"$f":"IF('Races, Positions & Points'!FH53=\"\",\"\",'Races, Positions & Points'!FH53)","v":""},{"$f":"IF('Races, Positions & Points'!FI53=\"\",\"\",'Races, Positions & Points'!FI53)","v":""},null,0,0,0,0,0,0,null,{"$f":"'Races, Positions & Points'!E53","v":18586},{"$f":"'Races, Positions & Points'!G53","v":69.650000000000006},"","","",69.650000000000006,"",69.650000000000006,83.58,83.58,null,"","","",69.650000000000006,"",69.650000000000006,83.58,83.58,null,"","","","","","","","","","","","","","","","",null,"","","","",null,"","","","",null,"","","","","","","","","",""]
[{"$f":"'Races, Positions & Points'!A54","v":"Nick Phelps"},{"$f":"IF('Races, Positions & Points'!AB54=\"\",\"\",'Races, Positions & Points'!AB54)","v":""},{"$f":"IF('Races, Positions & Points'!AD54=\"\",\"\",'Races, Positions & Points'!AD54)","v":""},{"$f":"IF('Races, Positions & Points'!AG54=\"\",\"\",'Races, Positions & Points'!AG54)","v":""},{"$f":"IF('Races, Positions & Points'!AJ54=\"\",\"\",'Races, Positions & Points'!AJ54)","v":""},{"$f":"IF('Races, Positions & Points'!AK54=\"\",\"\",'Races, Positions & Points'!AK54)","v":""},{"$f":"IF('Races, Positions & Points'!AN54=\"\",\"\",'Races, Positions & Points'!AN54)","v":""},{"$f":"IF('Races, Positions & Points'!AO54=\"\",\"\",'Races, Positions & Points'!AO54)","v":""},{"$f":"IF('Races, Positions & Points'!AR54=\"\",\"\",'Races, Positions & Points'!AR54)","v":""},{"$f":"IF('Races, Positions & Points'!AU54=\"\",\"\",'Races, Positions & Points'!AU54)","v":""},{"$f":"IF('Races, Positions & Points'!AX54=\"\",\"\",'Races, Positions & Points'!AX54)","v":""},{"$f":"IF('Races, Positions & Points'!BA54=\"\",\"\",'Races, Positions & Points'!BA54)","v":""},{"$f":"IF('Races, Positions & Points'!BD54=\"\",\"\",'Races, Positions & Points'!BD54)","v":""},{"$f":"IF('Races, Positions & Points'!BG54=\"\",\"\",'Races, Positions & Points'!BG54)","v":""},{"$f":"IF('Races, Positions & Points'!BJ54=\"\",\"\",'Races, Positions & Points'!BJ54)","v":""},{"$f":"IF('Races, Positions & Points'!BM54=\"\",\"\",'Races, Positions & Points'!BM54)","v":""},{"$f":"IF('Races, Positions & Points'!BP54=\"\",\"\",'Races, Positions & Points'!BP54)","v":""},{"$f":"IF('Races, Positions & Points'!BS54=\"\",\"\",'Races, Positions & Points'!BS54)","v":""},{"$f":"IF('Races, Positions & Points'!BV54=\"\",\"\",'Races, Positions & Points'!BV54)","v":""},{"$f":"IF('Races, Positions & Points'!BY54=\"\",\"\",'Races, Positions & Points'!BY54)","v":""},{"$f":"IF('Races, Positions & Points'!CB54=\"\",\"\",'Races, Positions & Points'!CB54)","v":85.53},{"$f":"IF('Races, Positions & Points'!CE54=\"\",\"\",'Races, Positions & Points'!CE54)","v":""},{"$f":"IF('Races, Positions & Points'!CH54=\"\",\"\",'Races, Positions & Points'!CH54)","v":""},{"$f":"IF('Races, Positions & Points'!CI54=\"\",\"\",'Races, Positions & Points'!CI54)","v":""},{"$f":"IF('Races, Positions & Points'!CL54=\"\",\"\",'Races, Positions & Points'!CL54)","v":""},{"$f":"IF('Races, Positions & Points'!CO54=\"\",\"\",'Races, Positions & Points'!CO54)","v":""},{"$f":"IF('Races, Positions & Points'!CR54=\"\",\"\",'Races, Positions & Points'!CR54)","v":""},{"$f":"IF('Races, Positions & Points'!CU54=\"\",\"\",'Races, Positions & Points'!CU54)","v":88.05},{"$f":"IF('Races, Positions & Points'!CX54=\"\",\"\",'Races, Positions & Points'!CX54)","v":""},{"$f":"IF('Races, Positions & Points'!DA54=\"\",\"\",'Races, Positions & Points'!DA54)","v":""},{"$f":"IF('Races, Positions & Points'!DD54=\"\",\"\",'Races, Positions & Points'!DD54)","v":80.08},{"$f":"IF('Races, Positions & Points'!DG54=\"\",\"\",'Races, Positions & Points'!DG54)","v":""},{"$f":"IF('Races, Positions & Points'!DJ54=\"\",\"\",'Races, Positions & Points'!DJ54)","v":""},{"$f":"IF('Races, Positions & Points'!DM54=\"\",\"\",'Races, Positions & Points'!DM54)","v":""},{"$f":"IF('Races, Positions & Points'!DP54=\"\",\"\",'Races, Positions & Points'!DP54)","v":""},{"$f":"IF('Races, Positions & Points'!DS54=\"\",\"\",'Races, Positions & Points'!DS54)","v":""},{"$f":"IF('Races, Positions & Points'!DV54=\"\",\"\",'Races, Positions & Points'!DV54)","v":""},{"$f":"IF('Races, Positions & Points'!DY54=\"\",\"\",'Races, Positions & Points'!DY54)","v":""},{"$f":"IF('Races, Positions & Points'!EB54=\"\",\"\",'Races, Positions & Points'!EB54)","v":""},{"$f":"IF('Races, Positions & Points'!EE54=\"\",\"\",'Races, Positions & Points'!EE54)","v":""},{"$f":"IF('Races, Positions & Points'!EG54=\"\",\"\",'Races, Positions & Points'!EG54)","v":""},{"$f":"IF('Races, Positions & Points'!EJ54=\"\",\"\",'Races, Positions & Points'!EJ54)","v":""},{"$f":"IF('Races, Positions & Points'!EM54=\"\",\"\",'Races, Positions & Points'!EM54)","v":""},{"$f":"IF('Races, Positions & Points'!EP54=\"\",\"\",'Races, Positions & Points'!EP54)","v":""},{"$f":"IF('Races, Positions & Points'!ES54=\"\",\"\",'Races, Positions & Points'!ES54)","v":""},{"$f":"IF('Races, Positions & Points'!EV54=\"\",\"\",'Races, Positions & Points'!EV54)","v":""},{"$f":"IF('Races, Positions & Points'!EY54=\"\",\"\",'Races, Positions & Points'!EY54)","v":""},{"$f":"IF('Races, Positions & Points'!FB54=\"\",\"\",'Races, Positions & Points'!FB54)","v":""},{"$f":"IF('Races, Positions & Points'!FE54=\"\",\"\",'Races, Positions & Points'!FE54)","v":""},{"$f":"IF('Races, Positions & Points'!FH54=\"\",\"\",'Races, Positions & Points'!FH54)","v":""},{"$f":"IF('Races, Positions & Points'!FI54=\"\",\"\",'Races, Positions & Points'!FI54)","v":""},null,0,2,0,1,0,0,null,{"$f":"'Races, Positions & Points'!E54","v":17840},{"$f":"'Races, Positions & Points'!G54","v":70.34},80.08,85.53,82.81,75.209999999999994,96.1,70.34,84.41,82.81,null,"","","",70.34,"",70.34,84.41,84.41,null,"","","","","",80.08,"","","","",85.53,"","","","","",null,80.08,"","",96.095999999999989,null,"","","","",null,"","","","",80.08,"","","","",""]
[{"$f":"'Races, Positions & Points'!A55","v":"Oliver Weeks"},{"$f":"IF('Races, Positions & Points'!AB55=\"\",\"\",'Races, Positions & Points'!AB55)","v":128.92000000000002},{"$f":"IF('Races, Positions & Points'!AD55=\"\",\"\",'Races, Positions & Points'!AD55)","v":""},{"$f":"IF('Races, Positions & Points'!AG55=\"\",\"\",'Races, Positions & Points'!AG55)","v":85.7},{"$f":"IF('Races, Positions & Points'!AJ55=\"\",\"\",'Races, Positions & Points'!AJ55)","v":80.12},{"$f":"IF('Races, Positions & Points'!AK55=\"\",\"\",'Races, Positions & Points'!AK55)","v":84.93},{"$f":"IF('Races, Positions & Points'!AN55=\"\",\"\",'Races, Positions & Points'!AN55)","v":85.62},{"$f":"IF('Races, Positions & Points'!AO55=\"\",\"\",'Races, Positions & Points'!AO55)","v":84.33},{"$f":"IF('Races, Positions & Points'!AR55=\"\",\"\",'Races, Positions & Points'!AR55)","v":74.990000000000009},{"$f":"IF('Races, Positions & Points'!AU55=\"\",\"\",'Races, Positions & Points'!AU55)","v":80.849999999999994},{"$f":"IF('Races, Positions & Points'!AX55=\"\",\"\",'Races, Positions & Points'!AX55)","v":83.16},{"$f":"IF('Races, Positions & Points'!BA55=\"\",\"\",'Races, Positions & Points'!BA55)","v":"DNF"},{"$f":"IF('Races, Positions & Points'!BD55=\"\",\"\",'Races, Positions & Points'!BD55)","v":""},{"$f":"IF('Races, Positions & Points'!BG55=\"\",\"\",'Races, Positions & Points'!BG55)","v":79.12},{"$f":"IF('Races, Positions & Points'!BJ55=\"\",\"\",'Races, Positions & Points'!BJ55)","v":58.48},{"$f":"IF('Races, Positions & Points'!BM55=\"\",\"\",'Races, Positions & Points'!BM55)","v":59.87},{"$f":"IF('Races, Positions & Points'!BP55=\"\",\"\",'Races, Positions & Points'!BP55)","v":""},{"$f":"IF('Races, Positions & Points'!BS55=\"\",\"\",'Races, Positions & Points'!BS55)","v":428.64},{"$f":"IF('Races, Positions & Points'!BV55=\"\",\"\",'Races, Positions & Points'!BV55)","v":""},{"$f":"IF('Races, Positions & Points'!BY55=\"\",\"\",'Races, Positions & Points'!BY55)","v":99.58},{"$f":"IF('Races, Positions & Points'!CB55=\"\",\"\",'Races, Positions & Points'!CB55)","v":""},{"$f":"IF('Races, Positions & Points'!CE55=\"\",\"\",'Races, Positions & Points'!CE55)","v":"DNF"},{"$f":"IF('Races, Positions & Points'!CH55=\"\",\"\",'Races, Positions & Points'!CH55)","v":""},{"$f":"IF('Races, Positions & Points'!CI55=\"\",\"\",'Races, Positions & Points'!CI55)","v":""},{"$f":"IF('Races, Positions & Points'!CL55=\"\",\"\",'Races, Positions & Points'!CL55)","v":70.7},{"$f":"IF('Races, Positions & Points'!CO55=\"\",\"\",'Races, Positions & Points'!CO55)","v":86.4},{"$f":"IF('Races, Positions & Points'!CR55=\"\",\"\",'Races, Positions & Points'!CR55)","v":""},{"$f":"IF('Races, Positions & Points'!CU55=\"\",\"\",'Races, Positions & Points'!CU55)","v":55.57},{"$f":"IF('Races, Positions & Points'!CX55=\"\",\"\",'Races, Positions & Points'!CX55)","v":77.37},{"$f":"IF('Races, Positions & Points'!DA55=\"\",\"\",'Races, Positions & Points'!DA55)","v":79.75},{"$f":"IF('Races, Positions & Points'!DD55=\"\",\"\",'Races, Positions & Points'!DD55)","v":64.290000000000006},{"$f":"IF('Races, Positions & Points'!DG55=\"\",\"\",'Races, Positions & Points'!DG55)","v":62.99},{"$f":"IF('Races, Positions & Points'!DJ55=\"\",\"\",'Races, Positions & Points'!DJ55)","v":98.99},{"$f":"IF('Races, Positions & Points'!DM55=\"\",\"\",'Races, Positions & Points'!DM55)","v":""},{"$f":"IF('Races, Positions & Points'!DP55=\"\",\"\",'Races, Positions & Points'!DP55)","v":""},{"$f":"IF('Races, Positions & Points'!DS55=\"\",\"\",'Races, Positions & Points'!DS55)","v":51.37},{"$f":"IF('Races, Positions & Points'!DV55=\"\",\"\",'Races, Positions & Points'!DV55)","v":73.16},{"$f":"IF('Races, Positions & Points'!DY55=\"\",\"\",'Races, Positions & Points'!DY55)","v":75},{"$f":"IF('Races, Positions & Points'!EB55=\"\",\"\",'Races, Positions & Points'!EB55)","v":""},{"$f":"IF('Races, Positions & Points'!EE55=\"\",\"\",'Races, Positions & Points'!EE55)","v":29},{"$f":"IF('Races, Positions & Points'!EG55=\"\",\"\",'Races, Positions & Points'!EG55)","v":75.150000000000006},{"$f":"IF('Races, Positions & Points'!EJ55=\"\",\"\",'Races, Positions & Points'!EJ55)","v":72.12},{"$f":"IF('Races, Positions & Points'!EM55=\"\",\"\",'Races, Positions & Points'!EM55)","v":999.99},{"$f":"IF('Races, Positions & Points'!EP55=\"\",\"\",'Races, Positions & Points'!EP55)","v":73.430000000000007},{"$f":"IF('Races, Positions & Points'!ES55=\"\",\"\",'Races, Positions & Points'!ES55)","v":69.38},{"$f":"IF('Races, Positions & Points'!EV55=\"\",\"\",'Races, Positions & Points'!EV55)","v":""},{"$f":"IF('Races, Positions & Points'!EY55=\"\",\"\",'Races, Positions & Points'!EY55)","v":75.58},{"$f":"IF('Races, Positions & Points'!FB55=\"\",\"\",'Races, Positions & Points'!FB55)","v":""},{"$f":"IF('Races, Positions & Points'!FE55=\"\",\"\",'Races, Positions & Points'!FE55)","v":""},{"$f":"IF('Races, Positions & Points'!FH55=\"\",\"\",'Races, Positions & Points'!FH55)","v":""},{"$f":"IF('Races, Positions & Points'!FI55=\"\",\"\",'Races, Positions & Points'!FI55)","v":""},null,0,8,8,6,4,3,null,{"$f":"'Races, Positions & Points'!E55","v":19051},{"$f":"'Races, Positions & Points'!G55","v":70.989999999999995},51.37,55.57,53.47,61.18,61.64,53.47,85.19,53.47,null,62.99,73.16,68.08,66.989999999999995,75.59,66.989999999999995,85.19,68.08,null,73.16,62.99,99.58,"",69.38,55.57,74.990000000000009,"","",59.87,"",70.7,"",79.75,51.37,"",null,58.48,69.38,63.929999999999993,70.175999999999988,null,62.99,73.16,68.075000000000003,75.587999999999994,null,73.16,62.99,99.58,69.38,58.48,80.849999999999994,"",428.64,75.150000000000006,""]
[{"$f":"'Races, Positions & Points'!A56","v":"James Smith"},{"$f":"IF('Races, Positions & Points'!AB56=\"\",\"\",'Races, Positions & Points'!AB56)","v":""},{"$f":"IF('Races, Positions & Points'!AD56=\"\",\"\",'Races, Positions & Points'!AD56)","v":""},{"$f":"IF('Races, Positions & Points'!AG56=\"\",\"\",'Races, Positions & Points'!AG56)","v":""},{"$f":"IF('Races, Positions & Points'!AJ56=\"\",\"\",'Races, Positions & Points'!AJ56)","v":""},{"$f":"IF('Races, Positions & Points'!AK56=\"\",\"\",'Races, Positions & Points'!AK56)","v":""},{"$f":"IF('Races, Positions & Points'!AN56=\"\",\"\",'Races, Positions & Points'!AN56)","v":""},{"$f":"IF('Races, Positions & Points'!AO56=\"\",\"\",'Races, Positions & Points'!AO56)","v":""},{"$f":"IF('Races, Positions & Points'!AR56=\"\",\"\",'Races, Positions & Points'!AR56)","v":""},{"$f":"IF('Races, Positions & Points'!AU56=\"\",\"\",'Races, Positions & Points'!AU56)","v":""},{"$f":"IF('Races, Positions & Points'!AX56=\"\",\"\",'Races, Positions & Points'!AX56)","v":""},{"$f":"IF('Races, Positions & Points'!BA56=\"\",\"\",'Races, Positions & Points'!BA56)","v":""},{"$f":"IF('Races, Positions & Points'!BD56=\"\",\"\",'Races, Positions & Points'!BD56)","v":""},{"$f":"IF('Races, Positions & Points'!BG56=\"\",\"\",'Races, Positions & Points'!BG56)","v":""},{"$f":"IF('Races, Positions & Points'!BJ56=\"\",\"\",'Races, Positions & Points'!BJ56)","v":""},{"$f":"IF('Races, Positions & Points'!BM56=\"\",\"\",'Races, Positions & Points'!BM56)","v":""},{"$f":"IF('Races, Positions & Points'!BP56=\"\",\"\",'Races, Positions & Points'!BP56)","v":""},{"$f":"IF('Races, Positions & Points'!BS56=\"\",\"\",'Races, Positions & Points'!BS56)","v":""},{"$f":"IF('Races, Positions & Points'!BV56=\"\",\"\",'Races, Positions & Points'!BV56)","v":""},{"$f":"IF('Races, Positions & Points'!BY56=\"\",\"\",'Races, Positions & Points'!BY56)","v":""},{"$f":"IF('Races, Positions & Points'!CB56=\"\",\"\",'Races, Positions & Points'!CB56)","v":""},{"$f":"IF('Races, Positions & Points'!CE56=\"\",\"\",'Races, Positions & Points'!CE56)","v":""},{"$f":"IF('Races, Positions & Points'!CH56=\"\",\"\",'Races, Positions & Points'!CH56)","v":""},{"$f":"IF('Races, Positions & Points'!CI56=\"\",\"\",'Races, Positions & Points'!CI56)","v":""},{"$f":"IF('Races, Positions & Points'!CL56=\"\",\"\",'Races, Positions & Points'!CL56)","v":69.09},{"$f":"IF('Races, Positions & Points'!CO56=\"\",\"\",'Races, Positions & Points'!CO56)","v":""},{"$f":"IF('Races, Positions & Points'!CR56=\"\",\"\",'Races, Positions & Points'!CR56)","v":58.33},{"$f":"IF('Races, Positions & Points'!CU56=\"\",\"\",'Races, Positions & Points'!CU56)","v":"DSQ"},{"$f":"IF('Races, Positions & Points'!CX56=\"\",\"\",'Races, Positions & Points'!CX56)","v":"DNF"},{"$f":"IF('Races, Positions & Points'!DA56=\"\",\"\",'Races, Positions & Points'!DA56)","v":""},{"$f":"IF('Races, Positions & Points'!DD56=\"\",\"\",'Races, Positions & Points'!DD56)","v":""},{"$f":"IF('Races, Positions & Points'!DG56=\"\",\"\",'Races, Positions & Points'!DG56)","v":""},{"$f":"IF('Races, Positions & Points'!DJ56=\"\",\"\",'Races, Positions & Points'!DJ56)","v":""},{"$f":"IF('Races, Positions & Points'!DM56=\"\",\"\",'Races, Positions & Points'!DM56)","v":""},{"$f":"IF('Races, Positions & Points'!DP56=\"\",\"\",'Races, Positions & Points'!DP56)","v":""},{"$f":"IF('Races, Positions & Points'!DS56=\"\",\"\",'Races, Positions & Points'!DS56)","v":""},{"$f":"IF('Races, Positions & Points'!DV56=\"\",\"\",'Races, Positions & Points'!DV56)","v":""},{"$f":"IF('Races, Positions & Points'!DY56=\"\",\"\",'Races, Positions & Points'!DY56)","v":""},{"$f":"IF('Races, Positions & Points'!EB56=\"\",\"\",'Races, Positions & Points'!EB56)","v":""},{"$f":"IF('Races, Positions & Points'!EE56=\"\",\"\",'Races, Positions & Points'!EE56)","v":"DSQ"},{"$f":"IF('Races, Positions & Points'!EG56=\"\",\"\",'Races, Positions & Points'!EG56)","v":999.99},{"$f":"IF('Races, Positions & Points'!EJ56=\"\",\"\",'Races, Positions & Points'!EJ56)","v":""},{"$f":"IF('Races, Positions & Points'!EM56=\"\",\"\",'Races, Positions & Points'!EM56)","v":""},{"$f":"IF('Races, Positions & Points'!EP56=\"\",\"\",'Races, Positions & Points'!EP56)","v":""},{"$f":"IF('Races, Positions & Points'!ES56=\"\",\"\",'Races, Positions & Points'!ES56)","v":""},{"$f":"IF('Races, Positions & Points'!EV56=\"\",\"\",'Races, Positions & Points'!EV56)","v":""},{"$f":"IF('Races, Positions & Points'!EY56=\"\",\"\",'Races, Positions & Points'!EY56)","v":""},{"$f":"IF('Races, Positions & Points'!FB56=\"\",\"\",'Races, Positions & Points'!FB56)","v":""},{"$f":"IF('Races, Positions & Points'!FE56=\"\",\"\",'Races, Positions & Points'!FE56)","v":""},{"$f":"IF('Races, Positions & Points'!FH56=\"\",\"\",'Races, Positions & Points'!FH56)","v":""},{"$f":"IF('Races, Positions & Points'!FI56=\"\",\"\",'Races, Positions & Points'!FI56)","v":""},null,0,4,0,0,0,1,null,{"$f":"'Races, Positions & Points'!E56","v":21595},{"$f":"'Races, Positions & Points'!G56","v":72.23},58.33,69.09,63.71,65.28,70,63.71,86.68,63.71,null,"","","",72.23,"",72.23,86.68,86.68,null,"","","","","","","","","","","",69.09,58.33,"","","",null,999.99,"","",{"$f":"IF(ISERROR(CS54*1.2),\"\",IF(CS54<50,CS54+10,IF(CS54<999.99,CS54*1.2,\"\")))","v":""},null,"","","","",null,"","","","","","","","",999.99,""]
[{"$f":"'Races, Positions & Points'!A57","v":"Gareth Miller"},{"$f":"IF('Races, Positions & Points'!AB57=\"\",\"\",'Races, Positions & Points'!AB57)","v":""},{"$f":"IF('Races, Positions & Points'!AD57=\"\",\"\",'Races, Positions & Points'!AD57)","v":68.16},{"$f":"IF('Races, Positions & Points'!AG57=\"\",\"\",'Races, Positions & Points'!AG57)","v":""},{"$f":"IF('Races, Positions & Points'!AJ57=\"\",\"\",'Races, Positions & Points'!AJ57)","v":""},{"$f":"IF('Races, Positions & Points'!AK57=\"\",\"\",'Races, Positions & Points'!AK57)","v":""},{"$f":"IF('Races, Positions & Points'!AN57=\"\",\"\",'Races, Positions & Points'!AN57)","v":""},{"$f":"IF('Races, Positions & Points'!AO57=\"\",\"\",'Races, Positions & Points'!AO57)","v":""},{"$f":"IF('Races, Positions & Points'!AR57=\"\",\"\",'Races, Positions & Points'!AR57)","v":""},{"$f":"IF('Races, Positions & Points'!AU57=\"\",\"\",'Races, Positions & Points'!AU57)","v":""},{"$f":"IF('Races, Positions & Points'!AX57=\"\",\"\",'Races, Positions & Points'!AX57)","v":""},{"$f":"IF('Races, Positions & Points'!BA57=\"\",\"\",'Races, Positions & Points'!BA57)","v":""},{"$f":"IF('Races, Positions & Points'!BD57=\"\",\"\",'Races, Positions & Points'!BD57)","v":""},{"$f":"IF('Races, Positions & Points'!BG57=\"\",\"\",'Races, Positions & Points'!BG57)","v":""},{"$f":"IF('Races, Positions & Points'!BJ57=\"\",\"\",'Races, Positions & Points'!BJ57)","v":""},{"$f":"IF('Races, Positions & Points'!BM57=\"\",\"\",'Races, Positions & Points'!BM57)","v":""},{"$f":"IF('Races, Positions & Points'!BP57=\"\",\"\",'Races, Positions & Points'!BP57)","v":""},{"$f":"IF('Races, Positions & Points'!BS57=\"\",\"\",'Races, Positions & Points'!BS57)","v":""},{"$f":"IF('Races, Positions & Points'!BV57=\"\",\"\",'Races, Positions & Points'!BV57)","v":""},{"$f":"IF('Races, Positions & Points'!BY57=\"\",\"\",'Races, Positions & Points'!BY57)","v":""},{"$f":"IF('Races, Positions & Points'!CB57=\"\",\"\",'Races, Positions & Points'!CB57)","v":""},{"$f":"IF('Races, Positions & Points'!CE57=\"\",\"\",'Races, Positions & Points'!CE57)","v":""},{"$f":"IF('Races, Positions & Points'!CH57=\"\",\"\",'Races, Positions & Points'!CH57)","v":""},{"$f":"IF('Races, Positions & Points'!CI57=\"\",\"\",'Races, Positions & Points'!CI57)","v":""},{"$f":"IF('Races, Positions & Points'!CL57=\"\",\"\",'Races, Positions & Points'!CL57)","v":""},{"$f":"IF('Races, Positions & Points'!CO57=\"\",\"\",'Races, Positions & Points'!CO57)","v":""},{"$f":"IF('Races, Positions & Points'!CR57=\"\",\"\",'Races, Positions & Points'!CR57)","v":""},{"$f":"IF('Races, Positions & Points'!CU57=\"\",\"\",'Races, Positions & Points'!CU57)","v":"DNF"},{"$f":"IF('Races, Positions & Points'!CX57=\"\",\"\",'Races, Positions & Points'!CX57)","v":42.26},{"$f":"IF('Races, Positions & Points'!DA57=\"\",\"\",'Races, Positions & Points'!DA57)","v":""},{"$f":"IF('Races, Positions & Points'!DD57=\"\",\"\",'Races, Positions & Points'!DD57)","v":64.290000000000006},{"$f":"IF('Races, Positions & Points'!DG57=\"\",\"\",'Races, Positions & Points'!DG57)","v":""},{"$f":"IF('Races, Positions & Points'!DJ57=\"\",\"\",'Races, Positions & Points'!DJ57)","v":""},{"$f":"IF('Races, Positions & Points'!DM57=\"\",\"\",'Races, Positions & Points'!DM57)","v":""},{"$f":"IF('Races, Positions & Points'!DP57=\"\",\"\",'Races, Positions & Points'!DP57)","v":""},{"$f":"IF('Races, Positions & Points'!DS57=\"\",\"\",'Races, Positions & Points'!DS57)","v":59.49},{"$f":"IF('Races, Positions & Points'!DV57=\"\",\"\",'Races, Positions & Points'!DV57)","v":""},{"$f":"IF('Races, Positions & Points'!DY57=\"\",\"\",'Races, Positions & Points'!DY57)","v":""},{"$f":"IF('Races, Positions & Points'!EB57=\"\",\"\",'Races, Positions & Points'!EB57)","v":""},{"$f":"IF('Races, Positions & Points'!EE57=\"\",\"\",'Races, Positions & Points'!EE57)","v":32},{"$f":"IF('Races, Positions & Points'!EG57=\"\",\"\",'Races, Positions & Points'!EG57)","v":79.430000000000007},{"$f":"IF('Races, Positions & Points'!EJ57=\"\",\"\",'Races, Positions & Points'!EJ57)","v":""},{"$f":"IF('Races, Positions & Points'!EM57=\"\",\"\",'Races, Positions & Points'!EM57)","v":""},{"$f":"IF('Races, Positions & Points'!EP57=\"\",\"\",'Races, Positions & Points'!EP57)","v":""},{"$f":"IF('Races, Positions & Points'!ES57=\"\",\"\",'Races, Positions & Points'!ES57)","v":""},{"$f":"IF('Races, Positions & Points'!EV57=\"\",\"\",'Races, Positions & Points'!EV57)","v":""},{"$f":"IF('Races, Positions & Points'!EY57=\"\",\"\",'Races, Positions & Points'!EY57)","v":""},{"$f":"IF('Races, Positions & Points'!FB57=\"\",\"\",'Races, Positions & Points'!FB57)","v":""},{"$f":"IF('Races, Positions & Points'!FE57=\"\",\"\",'Races, Positions & Points'!FE57)","v":""},{"$f":"IF('Races, Positions & Points'!FH57=\"\",\"\",'Races, Positions & Points'!FH57)","v":""},{"$f":"IF('Races, Positions & Points'!FI57=\"\",\"\",'Races, Positions & Points'!FI57)","v":""},null,0,3,1,1,0,1,null,{"$f":"'Races, Positions & Points'!E57","v":18509},{"$f":"'Races, Positions & Points'!G57","v":73.98},42.26,59.49,50.88,58.12,52.26,50.88,88.78,50.88,null,68.16,"","",71.069999999999993,81.790000000000006,71.069999999999993,88.78,81.790000000000006,null,68.16,"","","","",42.26,"","","","","",79.430000000000007,"","",59.49,"",null,64.290000000000006,79.430000000000007,71.860000000000014,{"$f":"IF(ISERROR(CS55*1.2),\"\",IF(CS55<50,CS55+10,IF(CS55<999.99,CS55*1.2,\"\")))","v":77.14800000000001},null,68.16,"","",81.791999999999987,null,68.16,"","","",64.290000000000006,"","","",79.430000000000007,""]
[{"$f":"'Races, Positions & Points'!A58","v":"Edmund Walker"},{"$f":"IF('Races, Positions & Points'!AB58=\"\",\"\",'Races, Positions & Points'!AB58)","v":""},{"$f":"IF('Races, Positions & Points'!AD58=\"\",\"\",'Races, Positions & Points'!AD58)","v":91.33},{"$f":"IF('Races, Positions & Points'!AG58=\"\",\"\",'Races, Positions & Points'!AG58)","v":""},{"$f":"IF('Races, Positions & Points'!AJ58=\"\",\"\",'Races, Positions & Points'!AJ58)","v":""},{"$f":"IF('Races, Positions & Points'!AK58=\"\",\"\",'Races, Positions & Points'!AK58)","v":""},{"$f":"IF('Races, Positions & Points'!AN58=\"\",\"\",'Races, Positions & Points'!AN58)","v":""},{"$f":"IF('Races, Positions & Points'!AO58=\"\",\"\",'Races, Positions & Points'!AO58)","v":""},{"$f":"IF('Races, Positions & Points'!AR58=\"\",\"\",'Races, Positions & Points'!AR58)","v":""},{"$f":"IF('Races, Positions & Points'!AU58=\"\",\"\",'Races, Positions & Points'!AU58)","v":""},{"$f":"IF('Races, Positions & Points'!AX58=\"\",\"\",'Races, Positions & Points'!AX58)","v":""},{"$f":"IF('Races, Positions & Points'!BA58=\"\",\"\",'Races, Positions & Points'!BA58)","v":""},{"$f":"IF('Races, Positions & Points'!BD58=\"\",\"\",'Races, Positions & Points'!BD58)","v":""},{"$f":"IF('Races, Positions & Points'!BG58=\"\",\"\",'Races, Positions & Points'!BG58)","v":""},{"$f":"IF('Races, Positions & Points'!BJ58=\"\",\"\",'Races, Positions & Points'!BJ58)","v":""},{"$f":"IF('Races, Positions & Points'!BM58=\"\",\"\",'Races, Positions & Points'!BM58)","v":""},{"$f":"IF('Races, Positions & Points'!BP58=\"\",\"\",'Races, Positions & Points'!BP58)","v":""},{"$f":"IF('Races, Positions & Points'!BS58=\"\",\"\",'Races, Positions & Points'!BS58)","v":""},{"$f":"IF('Races, Positions & Points'!BV58=\"\",\"\",'Races, Positions & Points'!BV58)","v":""},{"$f":"IF('Races, Positions & Points'!BY58=\"\",\"\",'Races, Positions & Points'!BY58)","v":""},{"$f":"IF('Races, Positions & Points'!CB58=\"\",\"\",'Races, Positions & Points'!CB58)","v":55.88},{"$f":"IF('Races, Positions & Points'!CE58=\"\",\"\",'Races, Positions & Points'!CE58)","v":""},{"$f":"IF('Races, Positions & Points'!CH58=\"\",\"\",'Races, Positions & Points'!CH58)","v":""},{"$f":"IF('Races, Positions & Points'!CI58=\"\",\"\",'Races, Positions & Points'!CI58)","v":""},{"$f":"IF('Races, Positions & Points'!CL58=\"\",\"\",'Races, Positions & Points'!CL58)","v":""},{"$f":"IF('Races, Positions & Points'!CO58=\"\",\"\",'Races, Positions & Points'!CO58)","v":""},{"$f":"IF('Races, Positions & Points'!CR58=\"\",\"\",'Races, Positions & Points'!CR58)","v":52.87},{"$f":"IF('Races, Positions & Points'!CU58=\"\",\"\",'Races, Positions & Points'!CU58)","v":"DSQ"},{"$f":"IF('Races, Positions & Points'!CX58=\"\",\"\",'Races, Positions & Points'!CX58)","v":65.790000000000006},{"$f":"IF('Races, Positions & Points'!DA58=\"\",\"\",'Races, Positions & Points'!DA58)","v":""},{"$f":"IF('Races, Positions & Points'!DD58=\"\",\"\",'Races, Positions & Points'!DD58)","v":""},{"$f":"IF('Races, Positions & Points'!DG58=\"\",\"\",'Races, Positions & Points'!DG58)","v":""},{"$f":"IF('Races, Positions & Points'!DJ58=\"\",\"\",'Races, Positions & Points'!DJ58)","v":""},{"$f":"IF('Races, Positions & Points'!DM58=\"\",\"\",'Races, Positions & Points'!DM58)","v":""},{"$f":"IF('Races, Positions & Points'!DP58=\"\",\"\",'Races, Positions & Points'!DP58)","v":""},{"$f":"IF('Races, Positions & Points'!DS58=\"\",\"\",'Races, Positions & Points'!DS58)","v":48.66},{"$f":"IF('Races, Positions & Points'!DV58=\"\",\"\",'Races, Positions & Points'!DV58)","v":""},{"$f":"IF('Races, Positions & Points'!DY58=\"\",\"\",'Races, Positions & Points'!DY58)","v":""},{"$f":"IF('Races, Positions & Points'!EB58=\"\",\"\",'Races, Positions & Points'!EB58)","v":""},{"$f":"IF('Races, Positions & Points'!EE58=\"\",\"\",'Races, Positions & Points'!EE58)","v":"DNF"},{"$f":"IF('Races, Positions & Points'!EG58=\"\",\"\",'Races, Positions & Points'!EG58)","v":999.99},{"$f":"IF('Races, Positions & Points'!EJ58=\"\",\"\",'Races, Positions & Points'!EJ58)","v":""},{"$f":"IF('Races, Positions & Points'!EM58=\"\",\"\",'Races, Positions & Points'!EM58)","v":""},{"$f":"IF('Races, Positions & Points'!EP58=\"\",\"\",'Races, Positions & Points'!EP58)","v":""},{"$f":"IF('Races, Positions & Points'!ES58=\"\",\"\",'Races, Positions & Points'!ES58)","v":""},{"$f":"IF('Races, Positions & Points'!EV58=\"\",\"\",'Races, Positions & Points'!EV58)","v":""},{"$f":"IF('Races, Positions & Points'!EY58=\"\",\"\",'Races, Positions & Points'!EY58)","v":""},{"$f":"IF('Races, Positions & Points'!FB58=\"\",\"\",'Races, Positions & Points'!FB58)","v":""},{"$f":"IF('Races, Positions & Points'!FE58=\"\",\"\",'Races, Positions & Points'!FE58)","v":""},{"$f":"IF('Races, Positions & Points'!FH58=\"\",\"\",'Races, Positions & Points'!FH58)","v":""},{"$f":"IF('Races, Positions & Points'!FI58=\"\",\"\",'Races, Positions & Points'!FI58)","v":""},null,0,5,1,0,0,1,null,{"$f":"'Races, Positions & Points'!E58","v":14213},{"$f":"'Races, Positions & Points'!G58","v":77.16},48.66,52.87,50.77,62.91,58.66,50.77,92.59,50.77,null,91.33,"","",84.25,109.6,77.16,92.59,92.59,null,91.33,"","","","",65.790000000000006,"","","","",55.88,999.99,52.87,"",48.66,"",null,999.99,"","","",null,91.33,"","",109.59599999999999,null,91.33,"","","","","","","",999.99,""]
[{"$f":"'Races, Positions & Points'!A59","v":"Jordan Rigby"},{"$f":"IF('Races, Positions & Points'!AB59=\"\",\"\",'Races, Positions & Points'!AB59)","v":""},{"$f":"IF('Races, Positions & Points'!AD59=\"\",\"\",'Races, Positions & Points'!AD59)","v":""},{"$f":"IF('Races, Positions & Points'!AG59=\"\",\"\",'Races, Positions & Points'!AG59)","v":""},{"$f":"IF('Races, Positions & Points'!AJ59=\"\",\"\",'Races, Positions & Points'!AJ59)","v":""},{"$f":"IF('Races, Positions & Points'!AK59=\"\",\"\",'Races, Positions & Points'!AK59)","v":""},{"$f":"IF('Races, Positions & Points'!AN59=\"\",\"\",'Races, Positions & Points'!AN59)","v":""},{"$f":"IF('Races, Positions & Points'!AO59=\"\",\"\",'Races, Positions & Points'!AO59)","v":""},{"$f":"IF('Races, Positions & Points'!AR59=\"\",\"\",'Races, Positions & Points'!AR59)","v":""},{"$f":"IF('Races, Positions & Points'!AU59=\"\",\"\",'Races, Positions & Points'!AU59)","v":""},{"$f":"IF('Races, Positions & Points'!AX59=\"\",\"\",'Races, Positions & Points'!AX59)","v":""},{"$f":"IF('Races, Positions & Points'!BA59=\"\",\"\",'Races, Positions & Points'!BA59)","v":""},{"$f":"IF('Races, Positions & Points'!BD59=\"\",\"\",'Races, Positions & Points'!BD59)","v":""},{"$f":"IF('Races, Positions & Points'!BG59=\"\",\"\",'Races, Positions & Points'!BG59)","v":""},{"$f":"IF('Races, Positions & Points'!BJ59=\"\",\"\",'Races, Positions & Points'!BJ59)","v":""},{"$f":"IF('Races, Positions & Points'!BM59=\"\",\"\",'Races, Positions & Points'!BM59)","v":""},{"$f":"IF('Races, Positions & Points'!BP59=\"\",\"\",'Races, Positions & Points'!BP59)","v":""},{"$f":"IF('Races, Positions & Points'!BS59=\"\",\"\",'Races, Positions & Points'!BS59)","v":""},{"$f":"IF('Races, Positions & Points'!BV59=\"\",\"\",'Races, Positions & Points'!BV59)","v":""},{"$f":"IF('Races, Positions & Points'!BY59=\"\",\"\",'Races, Positions & Points'!BY59)","v":""},{"$f":"IF('Races, Positions & Points'!CB59=\"\",\"\",'Races, Positions & Points'!CB59)","v":""},{"$f":"IF('Races, Positions & Points'!CE59=\"\",\"\",'Races, Positions & Points'!CE59)","v":""},{"$f":"IF('Races, Positions & Points'!CH59=\"\",\"\",'Races, Positions & Points'!CH59)","v":""},{"$f":"IF('Races, Positions & Points'!CI59=\"\",\"\",'Races, Positions & Points'!CI59)","v":""},{"$f":"IF('Races, Positions & Points'!CL59=\"\",\"\",'Races, Positions & Points'!CL59)","v":""},{"$f":"IF('Races, Positions & Points'!CO59=\"\",\"\",'Races, Positions & Points'!CO59)","v":""},{"$f":"IF('Races, Positions & Points'!CR59=\"\",\"\",'Races, Positions & Points'!CR59)","v":""},{"$f":"IF('Races, Positions & Points'!CU59=\"\",\"\",'Races, Positions & Points'!CU59)","v":119.95},{"$f":"IF('Races, Positions & Points'!CX59=\"\",\"\",'Races, Positions & Points'!CX59)","v":""},{"$f":"IF('Races, Positions & Points'!DA59=\"\",\"\",'Races, Positions & Points'!DA59)","v":""},{"$f":"IF('Races, Positions & Points'!DD59=\"\",\"\",'Races, Positions & Points'!DD59)","v":""},{"$f":"IF('Races, Positions & Points'!DG59=\"\",\"\",'Races, Positions & Points'!DG59)","v":""},{"$f":"IF('Races, Positions & Points'!DJ59=\"\",\"\",'Races, Positions & Points'!DJ59)","v":""},{"$f":"IF('Races, Positions & Points'!DM59=\"\",\"\",'Races, Positions & Points'!DM59)","v":""},{"$f":"IF('Races, Positions & Points'!DP59=\"\",\"\",'Races, Positions & Points'!DP59)","v":""},{"$f":"IF('Races, Positions & Points'!DS59=\"\",\"\",'Races, Positions & Points'!DS59)","v":""},{"$f":"IF('Races, Positions & Points'!DV59=\"\",\"\",'Races, Positions & Points'!DV59)","v":""},{"$f":"IF('Races, Positions & Points'!DY59=\"\",\"\",'Races, Positions & Points'!DY59)","v":""},{"$f":"IF('Races, Positions & Points'!EB59=\"\",\"\",'Races, Positions & Points'!EB59)","v":""},{"$f":"IF('Races, Positions & Points'!EE59=\"\",\"\",'Races, Positions & Points'!EE59)","v":""},{"$f":"IF('Races, Positions & Points'!EG59=\"\",\"\",'Races, Positions & Points'!EG59)","v":""},{"$f":"IF('Races, Positions & Points'!EJ59=\"\",\"\",'Races, Positions & Points'!EJ59)","v":""},{"$f":"IF('Races, Positions & Points'!EM59=\"\",\"\",'Races, Positions & Points'!EM59)","v":""},{"$f":"IF('Races, Positions & Points'!EP59=\"\",\"\",'Races, Positions & Points'!EP59)","v":""},{"$f":"IF('Races, Positions & Points'!ES59=\"\",\"\",'Races, Positions & Points'!ES59)","v":""},{"$f":"IF('Races, Positions & Points'!EV59=\"\",\"\",'Races, Positions & Points'!EV59)","v":""},{"$f":"IF('Races, Positions & Points'!EY59=\"\",\"\",'Races, Positions & Points'!EY59)","v":""},{"$f":"IF('Races, Positions & Points'!FB59=\"\",\"\",'Races, Positions & Points'!FB59)","v":""},{"$f":"IF('Races, Positions & Points'!FE59=\"\",\"\",'Races, Positions & Points'!FE59)","v":""},{"$f":"IF('Races, Positions & Points'!FH59=\"\",\"\",'Races, Positions & Points'!FH59)","v":""},{"$f":"IF('Races, Positions & Points'!FI59=\"\",\"\",'Races, Positions & Points'!FI59)","v":""},null,0,1,0,0,0,0,null,{"$f":"'Races, Positions & Points'!E59","v":19910},{"$f":"'Races, Positions & Points'!G59","v":111.82},119.95,"","",115.89,143.94,111.82,134.18,134.18,null,"","","",111.82,"",111.82,134.18,134.18,null,"","","","","",119.95,"","","","","","","","","","",null,"","","","",null,"","","","",null,"","","","","","","","","",""]
[{"$f":"'Races, Positions & Points'!A60","v":"Sam Dewison"},{"$f":"IF('Races, Positions & Points'!AB60=\"\",\"\",'Races, Positions & Points'!AB60)","v":""},{"$f":"IF('Races, Positions & Points'!AD60=\"\",\"\",'Races, Positions & Points'!AD60)","v":""},{"$f":"IF('Races, Positions & Points'!AG60=\"\",\"\",'Races, Positions & Points'!AG60)","v":""},{"$f":"IF('Races, Positions & Points'!AJ60=\"\",\"\",'Races, Positions & Points'!AJ60)","v":""},{"$f":"IF('Races, Positions & Points'!AK60=\"\",\"\",'Races, Positions & Points'!AK60)","v":""},{"$f":"IF('Races, Positions & Points'!AN60=\"\",\"\",'Races, Positions & Points'!AN60)","v":""},{"$f":"IF('Races, Positions & Points'!AO60=\"\",\"\",'Races, Positions & Points'!AO60)","v":""},{"$f":"IF('Races, Positions & Points'!AR60=\"\",\"\",'Races, Positions & Points'!AR60)","v":""},{"$f":"IF('Races, Positions & Points'!AU60=\"\",\"\",'Races, Positions & Points'!AU60)","v":""},{"$f":"IF('Races, Positions & Points'!AX60=\"\",\"\",'Races, Positions & Points'!AX60)","v":""},{"$f":"IF('Races, Positions & Points'!BA60=\"\",\"\",'Races, Positions & Points'!BA60)","v":""},{"$f":"IF('Races, Positions & Points'!BD60=\"\",\"\",'Races, Positions & Points'!BD60)","v":""},{"$f":"IF('Races, Positions & Points'!BG60=\"\",\"\",'Races, Positions & Points'!BG60)","v":""},{"$f":"IF('Races, Positions & Points'!BJ60=\"\",\"\",'Races, Positions & Points'!BJ60)","v":""},{"$f":"IF('Races, Positions & Points'!BM60=\"\",\"\",'Races, Positions & Points'!BM60)","v":""},{"$f":"IF('Races, Positions & Points'!BP60=\"\",\"\",'Races, Positions & Points'!BP60)","v":""},{"$f":"IF('Races, Positions & Points'!BS60=\"\",\"\",'Races, Positions & Points'!BS60)","v":""},{"$f":"IF('Races, Positions & Points'!BV60=\"\",\"\",'Races, Positions & Points'!BV60)","v":""},{"$f":"IF('Races, Positions & Points'!BY60=\"\",\"\",'Races, Positions & Points'!BY60)","v":""},{"$f":"IF('Races, Positions & Points'!CB60=\"\",\"\",'Races, Positions & Points'!CB60)","v":""},{"$f":"IF('Races, Positions & Points'!CE60=\"\",\"\",'Races, Positions & Points'!CE60)","v":""},{"$f":"IF('Races, Positions & Points'!CH60=\"\",\"\",'Races, Positions & Points'!CH60)","v":""},{"$f":"IF('Races, Positions & Points'!CI60=\"\",\"\",'Races, Positions & Points'!CI60)","v":""},{"$f":"IF('Races, Positions & Points'!CL60=\"\",\"\",'Races, Positions & Points'!CL60)","v":105.66},{"$f":"IF('Races, Positions & Points'!CO60=\"\",\"\",'Races, Positions & Points'!CO60)","v":""},{"$f":"IF('Races, Positions & Points'!CR60=\"\",\"\",'Races, Positions & Points'!CR60)","v":101.25},{"$f":"IF('Races, Positions & Points'!CU60=\"\",\"\",'Races, Positions & Points'!CU60)","v":""},{"$f":"IF('Races, Positions & Points'!CX60=\"\",\"\",'Races, Positions & Points'!CX60)","v":""},{"$f":"IF('Races, Positions & Points'!DA60=\"\",\"\",'Races, Positions & Points'!DA60)","v":""},{"$f":"IF('Races, Positions & Points'!DD60=\"\",\"\",'Races, Positions & Points'!DD60)","v":""},{"$f":"IF('Races, Positions & Points'!DG60=\"\",\"\",'Races, Positions & Points'!DG60)","v":""},{"$f":"IF('Races, Positions & Points'!DJ60=\"\",\"\",'Races, Positions & Points'!DJ60)","v":""},{"$f":"IF('Races, Positions & Points'!DM60=\"\",\"\",'Races, Positions & Points'!DM60)","v":""},{"$f":"IF('Races, Positions & Points'!DP60=\"\",\"\",'Races, Positions & Points'!DP60)","v":""},{"$f":"IF('Races, Positions & Points'!DS60=\"\",\"\",'Races, Positions & Points'!DS60)","v":""},{"$f":"IF('Races, Positions & Points'!DV60=\"\",\"\",'Races, Positions & Points'!DV60)","v":""},{"$f":"IF('Races, Positions & Points'!DY60=\"\",\"\",'Races, Positions & Points'!DY60)","v":""},{"$f":"IF('Races, Positions & Points'!EB60=\"\",\"\",'Races, Positions & Points'!EB60)","v":""},{"$f":"IF('Races, Positions & Points'!EE60=\"\",\"\",'Races, Positions & Points'!EE60)","v":53},{"$f":"IF('Races, Positions & Points'!EG60=\"\",\"\",'Races, Positions & Points'!EG60)","v":132.69999999999999},{"$f":"IF('Races, Positions & Points'!EJ60=\"\",\"\",'Races, Positions & Points'!EJ60)","v":""},{"$f":"IF('Races, Positions & Points'!EM60=\"\",\"\",'Races, Positions & Points'!EM60)","v":""},{"$f":"IF('Races, Positions & Points'!EP60=\"\",\"\",'Races, Positions & Points'!EP60)","v":""},{"$f":"IF('Races, Positions & Points'!ES60=\"\",\"\",'Races, Positions & Points'!ES60)","v":""},{"$f":"IF('Races, Positions & Points'!EV60=\"\",\"\",'Races, Positions & Points'!EV60)","v":""},{"$f":"IF('Races, Positions & Points'!EY60=\"\",\"\",'Races, Positions & Points'!EY60)","v":""},{"$f":"IF('Races, Positions & Points'!FB60=\"\",\"\",'Races, Positions & Points'!FB60)","v":""},{"$f":"IF('Races, Positions & Points'!FE60=\"\",\"\",'Races, Positions & Points'!FE60)","v":""},{"$f":"IF('Races, Positions & Points'!FH60=\"\",\"\",'Races, Positions & Points'!FH60)","v":""},{"$f":"IF('Races, Positions & Points'!FI60=\"\",\"\",'Races, Positions & Points'!FI60)","v":""},null,0,2,0,0,0,1,null,{"$f":"'Races, Positions & Points'!E60","v":20846},{"$f":"'Races, Positions & Points'!G60","v":119.86},101.25,105.66,103.46,110.56,121.5,103.46,143.83000000000001,103.46,null,"","","",119.86,"",119.86,143.83000000000001,143.83000000000001,null,"","","","","","","","","","","",105.66,101.25,"","","",null,132.69999999999999,"","",159.23999999999998,null,"","","","",null,"","","","","","","","",132.69999999999999,""]
[{"$f":"'Races, Positions & Points'!A61","v":"Roger Crombleholme"},{"$f":"IF('Races, Positions & Points'!AB61=\"\",\"\",'Races, Positions & Points'!AB61)","v":""},{"$f":"IF('Races, Positions & Points'!AD61=\"\",\"\",'Races, Positions & Points'!AD61)","v":""},{"$f":"IF('Races, Positions & Points'!AG61=\"\",\"\",'Races, Positions & Points'!AG61)","v":""},{"$f":"IF('Races, Positions & Points'!AJ61=\"\",\"\",'Races, Positions & Points'!AJ61)","v":""},{"$f":"IF('Races, Positions & Points'!AK61=\"\",\"\",'Races, Positions & Points'!AK61)","v":""},{"$f":"IF('Races, Positions & Points'!AN61=\"\",\"\",'Races, Positions & Points'!AN61)","v":""},{"$f":"IF('Races, Positions & Points'!AO61=\"\",\"\",'Races, Positions & Points'!AO61)","v":""},{"$f":"IF('Races, Positions & Points'!AR61=\"\",\"\",'Races, Positions & Points'!AR61)","v":""},{"$f":"IF('Races, Positions & Points'!AU61=\"\",\"\",'Races, Positions & Points'!AU61)","v":""},{"$f":"IF('Races, Positions & Points'!AX61=\"\",\"\",'Races, Positions & Points'!AX61)","v":""},{"$f":"IF('Races, Positions & Points'!BA61=\"\",\"\",'Races, Positions & Points'!BA61)","v":""},{"$f":"IF('Races, Positions & Points'!BD61=\"\",\"\",'Races, Positions & Points'!BD61)","v":""},{"$f":"IF('Races, Positions & Points'!BG61=\"\",\"\",'Races, Positions & Points'!BG61)","v":""},{"$f":"IF('Races, Positions & Points'!BJ61=\"\",\"\",'Races, Positions & Points'!BJ61)","v":""},{"$f":"IF('Races, Positions & Points'!BM61=\"\",\"\",'Races, Positions & Points'!BM61)","v":""},{"$f":"IF('Races, Positions & Points'!BP61=\"\",\"\",'Races, Positions & Points'!BP61)","v":""},{"$f":"IF('Races, Positions & Points'!BS61=\"\",\"\",'Races, Positions & Points'!BS61)","v":""},{"$f":"IF('Races, Positions & Points'!BV61=\"\",\"\",'Races, Positions & Points'!BV61)","v":""},{"$f":"IF('Races, Positions & Points'!BY61=\"\",\"\",'Races, Positions & Points'!BY61)","v":""},{"$f":"IF('Races, Positions & Points'!CB61=\"\",\"\",'Races, Positions & Points'!CB61)","v":""},{"$f":"IF('Races, Positions & Points'!CE61=\"\",\"\",'Races, Positions & Points'!CE61)","v":""},{"$f":"IF('Races, Positions & Points'!CH61=\"\",\"\",'Races, Positions & Points'!CH61)","v":""},{"$f":"IF('Races, Positions & Points'!CI61=\"\",\"\",'Races, Positions & Points'!CI61)","v":""},{"$f":"IF('Races, Positions & Points'!CL61=\"\",\"\",'Races, Positions & Points'!CL61)","v":""},{"$f":"IF('Races, Positions & Points'!CO61=\"\",\"\",'Races, Positions & Points'!CO61)","v":""},{"$f":"IF('Races, Positions & Points'!CR61=\"\",\"\",'Races, Positions & Points'!CR61)","v":""},{"$f":"IF('Races, Positions & Points'!CU61=\"\",\"\",'Races, Positions & Points'!CU61)","v":167.61},{"$f":"IF('Races, Positions & Points'!CX61=\"\",\"\",'Races, Positions & Points'!CX61)","v":177.57},{"$f":"IF('Races, Positions & Points'!DA61=\"\",\"\",'Races, Positions & Points'!DA61)","v":""},{"$f":"IF('Races, Positions & Points'!DD61=\"\",\"\",'Races, Positions & Points'!DD61)","v":""},{"$f":"IF('Races, Positions & Points'!DG61=\"\",\"\",'Races, Positions & Points'!DG61)","v":""},{"$f":"IF('Races, Positions & Points'!DJ61=\"\",\"\",'Races, Positions & Points'!DJ61)","v":""},{"$f":"IF('Races, Positions & Points'!DM61=\"\",\"\",'Races, Positions & Points'!DM61)","v":""},{"$f":"IF('Races, Positions & Points'!DP61=\"\",\"\",'Races, Positions & Points'!DP61)","v":""},{"$f":"IF('Races, Positions & Points'!DS61=\"\",\"\",'Races, Positions & Points'!DS61)","v":""},{"$f":"IF('Races, Positions & Points'!DV61=\"\",\"\",'Races, Positions & Points'!DV61)","v":""},{"$f":"IF('Races, Positions & Points'!DY61=\"\",\"\",'Races, Positions & Points'!DY61)","v":""},{"$f":"IF('Races, Positions & Points'!EB61=\"\",\"\",'Races, Positions & Points'!EB61)","v":""},{"$f":"IF('Races, Positions & Points'!EE61=\"\",\"\",'Races, Positions & Points'!EE61)","v":""},{"$f":"IF('Races, Positions & Points'!EG61=\"\",\"\",'Races, Positions & Points'!EG61)","v":""},{"$f":"IF('Races, Positions & Points'!EJ61=\"\",\"\",'Races, Positions & Points'!EJ61)","v":""},{"$f":"IF('Races, Positions & Points'!EM61=\"\",\"\",'Races, Positions & Points'!EM61)","v":""},{"$f":"IF('Races, Positions & Points'!EP61=\"\",\"\",'Races, Positions & Points'!EP61)","v":""},{"$f":"IF('Races, Positions & Points'!ES61=\"\",\"\",'Races, Positions & Points'!ES61)","v":""},{"$f":"IF('Races, Positions & Points'!EV61=\"\",\"\",'Races, Positions & Points'!EV61)","v":""},{"$f":"IF('Races, Positions & Points'!EY61=\"\",\"\",'Races, Positions & Points'!EY61)","v":""},{"$f":"IF('Races, Positions & Points'!FB61=\"\",\"\",'Races, Positions & Points'!FB61)","v":""},{"$f":"IF('Races, Positions & Points'!FE61=\"\",\"\",'Races, Positions & Points'!FE61)","v":""},{"$f":"IF('Races, Positions & Points'!FH61=\"\",\"\",'Races, Positions & Points'!FH61)","v":""},{"$f":"IF('Races, Positions & Points'!FI61=\"\",\"\",'Races, Positions & Points'!FI61)","v":""},null,0,2,0,0,0,0,null,{"$f":"'Races, Positions & Points'!E61","v":5666},{"$f":"'Races, Positions & Points'!G61","v":120.35},167.61,"","",143.97999999999999,201.13,120.35,144.41999999999999,144.41999999999999,null,"","","",120.35,"",120.35,144.41999999999999,144.41999999999999,null,"","","","","",167.61,"","","","","","","","","","",null,"","","","",null,"","","","",null,"","","","","","","","","",""]
[{"$f":"'Races, Positions & Points'!A62","v":"Joey Frost"},{"$f":"IF('Races, Positions & Points'!AB62=\"\",\"\",'Races, Positions & Points'!AB62)","v":""},{"$f":"IF('Races, Positions & Points'!AD62=\"\",\"\",'Races, Positions & Points'!AD62)","v":""},{"$f":"IF('Races, Positions & Points'!AG62=\"\",\"\",'Races, Positions & Points'!AG62)","v":""},{"$f":"IF('Races, Positions & Points'!AJ62=\"\",\"\",'Races, Positions & Points'!AJ62)","v":""},{"$f":"IF('Races, Positions & Points'!AK62=\"\",\"\",'Races, Positions & Points'!AK62)","v":""},{"$f":"IF('Races, Positions & Points'!AN62=\"\",\"\",'Races, Positions & Points'!AN62)","v":""},{"$f":"IF('Races, Positions & Points'!AO62=\"\",\"\",'Races, Positions & Points'!AO62)","v":""},{"$f":"IF('Races, Positions & Points'!AR62=\"\",\"\",'Races, Positions & Points'!AR62)","v":""},{"$f":"IF('Races, Positions & Points'!AU62=\"\",\"\",'Races, Positions & Points'!AU62)","v":""},{"$f":"IF('Races, Positions & Points'!AX62=\"\",\"\",'Races, Positions & Points'!AX62)","v":""},{"$f":"IF('Races, Positions & Points'!BA62=\"\",\"\",'Races, Positions & Points'!BA62)","v":""},{"$f":"IF('Races, Positions & Points'!BD62=\"\",\"\",'Races, Positions & Points'!BD62)","v":""},{"$f":"IF('Races, Positions & Points'!BG62=\"\",\"\",'Races, Positions & Points'!BG62)","v":""},{"$f":"IF('Races, Positions & Points'!BJ62=\"\",\"\",'Races, Positions & Points'!BJ62)","v":""},{"$f":"IF('Races, Positions & Points'!BM62=\"\",\"\",'Races, Positions & Points'!BM62)","v":""},{"$f":"IF('Races, Positions & Points'!BP62=\"\",\"\",'Races, Positions & Points'!BP62)","v":""},{"$f":"IF('Races, Positions & Points'!BS62=\"\",\"\",'Races, Positions & Points'!BS62)","v":""},{"$f":"IF('Races, Positions & Points'!BV62=\"\",\"\",'Races, Positions & Points'!BV62)","v":""},{"$f":"IF('Races, Positions & Points'!BY62=\"\",\"\",'Races, Positions & Points'!BY62)","v":""},{"$f":"IF('Races, Positions & Points'!CB62=\"\",\"\",'Races, Positions & Points'!CB62)","v":""},{"$f":"IF('Races, Positions & Points'!CE62=\"\",\"\",'Races, Positions & Points'!CE62)","v":""},{"$f":"IF('Races, Positions & Points'!CH62=\"\",\"\",'Races, Positions & Points'!CH62)","v":""},{"$f":"IF('Races, Positions & Points'!CI62=\"\",\"\",'Races, Positions & Points'!CI62)","v":""},{"$f":"IF('Races, Positions & Points'!CL62=\"\",\"\",'Races, Positions & Points'!CL62)","v":""},{"$f":"IF('Races, Positions & Points'!CO62=\"\",\"\",'Races, Positions & Points'!CO62)","v":""},{"$f":"IF('Races, Positions & Points'!CR62=\"\",\"\",'Races, Positions & Points'!CR62)","v":""},{"$f":"IF('Races, Positions & Points'!CU62=\"\",\"\",'Races, Positions & Points'!CU62)","v":""},{"$f":"IF('Races, Positions & Points'!CX62=\"\",\"\",'Races, Positions & Points'!CX62)","v":""},{"$f":"IF('Races, Positions & Points'!DA62=\"\",\"\",'Races, Positions & Points'!DA62)","v":""},{"$f":"IF('Races, Positions & Points'!DD62=\"\",\"\",'Races, Positions & Points'!DD62)","v":""},{"$f":"IF('Races, Positions & Points'!DG62=\"\",\"\",'Races, Positions & Points'!DG62)","v":""},{"$f":"IF('Races, Positions & Points'!DJ62=\"\",\"\",'Races, Positions & Points'!DJ62)","v":""},{"$f":"IF('Races, Positions & Points'!DM62=\"\",\"\",'Races, Positions & Points'!DM62)","v":""},{"$f":"IF('Races, Positions & Points'!DP62=\"\",\"\",'Races, Positions & Points'!DP62)","v":""},{"$f":"IF('Races, Positions & Points'!DS62=\"\",\"\",'Races, Positions & Points'!DS62)","v":""},{"$f":"IF('Races, Positions & Points'!DV62=\"\",\"\",'Races, Positions & Points'!DV62)","v":""},{"$f":"IF('Races, Positions & Points'!DY62=\"\",\"\",'Races, Positions & Points'!DY62)","v":""},{"$f":"IF('Races, Positions & Points'!EB62=\"\",\"\",'Races, Positions & Points'!EB62)","v":""},{"$f":"IF('Races, Positions & Points'!EE62=\"\",\"\",'Races, Positions & Points'!EE62)","v":""},{"$f":"IF('Races, Positions & Points'!EG62=\"\",\"\",'Races, Positions & Points'!EG62)","v":""},{"$f":"IF('Races, Positions & Points'!EJ62=\"\",\"\",'Races, Positions & Points'!EJ62)","v":""},{"$f":"IF('Races, Positions & Points'!EM62=\"\",\"\",'Races, Positions & Points'!EM62)","v":""},{"$f":"IF('Races, Positions & Points'!EP62=\"\",\"\",'Races, Positions & Points'!EP62)","v":""},{"$f":"IF('Races, Positions & Points'!ES62=\"\",\"\",'Races, Positions & Points'!ES62)","v":""},{"$f":"IF('Races, Positions & Points'!EV62=\"\",\"\",'Races, Positions & Points'!EV62)","v":""},{"$f":"IF('Races, Positions & Points'!EY62=\"\",\"\",'Races, Positions & Points'!EY62)","v":""},{"$f":"IF('Races, Positions & Points'!FB62=\"\",\"\",'Races, Positions & Points'!FB62)","v":""},{"$f":"IF('Races, Positions & Points'!FE62=\"\",\"\",'Races, Positions & Points'!FE62)","v":""},{"$f":"IF('Races, Positions & Points'!FH62=\"\",\"\",'Races, Positions & Points'!FH62)","v":""},{"$f":"IF('Races, Positions & Points'!FI62=\"\",\"\",'Races, Positions & Points'!FI62)","v":""},null,0,0,0,0,0,0,null,{"$f":"'Races, Positions & Points'!E62","v":20677},{"$f":"'Races, Positions & Points'!G62","v":127.79},"","","",127.79,"",127.79,153.35,153.35,null,"","","",127.79,"",127.79,153.35,153.35,null,"","","","","","","","","","","","","","","","",null,"","","","",null,"","","","",null,"","","","","","","","","",""]
[{"$f":"'Races, Positions & Points'!A63","v":"Sam Lee"},{"$f":"IF('Races, Positions & Points'!AB63=\"\",\"\",'Races, Positions & Points'!AB63)","v":208.71},{"$f":"IF('Races, Positions & Points'!AD63=\"\",\"\",'Races, Positions & Points'!AD63)","v":""},{"$f":"IF('Races, Positions & Points'!AG63=\"\",\"\",'Races, Positions & Points'!AG63)","v":205.29999999999998},{"$f":"IF('Races, Positions & Points'!AJ63=\"\",\"\",'Races, Positions & Points'!AJ63)","v":""},{"$f":"IF('Races, Positions & Points'!AK63=\"\",\"\",'Races, Positions & Points'!AK63)","v":""},{"$f":"IF('Races, Positions & Points'!AN63=\"\",\"\",'Races, Positions & Points'!AN63)","v":""},{"$f":"IF('Races, Positions & Points'!AO63=\"\",\"\",'Races, Positions & Points'!AO63)","v":""},{"$f":"IF('Races, Positions & Points'!AR63=\"\",\"\",'Races, Positions & Points'!AR63)","v":129.86000000000001},{"$f":"IF('Races, Positions & Points'!AU63=\"\",\"\",'Races, Positions & Points'!AU63)","v":215.45999999999998},{"$f":"IF('Races, Positions & Points'!AX63=\"\",\"\",'Races, Positions & Points'!AX63)","v":""},{"$f":"IF('Races, Positions & Points'!BA63=\"\",\"\",'Races, Positions & Points'!BA63)","v":""},{"$f":"IF('Races, Positions & Points'!BD63=\"\",\"\",'Races, Positions & Points'!BD63)","v":188.41},{"$f":"IF('Races, Positions & Points'!BG63=\"\",\"\",'Races, Positions & Points'!BG63)","v":182.66},{"$f":"IF('Races, Positions & Points'!BJ63=\"\",\"\",'Races, Positions & Points'!BJ63)","v":173.06},{"$f":"IF('Races, Positions & Points'!BM63=\"\",\"\",'Races, Positions & Points'!BM63)","v":""},{"$f":"IF('Races, Positions & Points'!BP63=\"\",\"\",'Races, Positions & Points'!BP63)","v":""},{"$f":"IF('Races, Positions & Points'!BS63=\"\",\"\",'Races, Positions & Points'!BS63)","v":""},{"$f":"IF('Races, Positions & Points'!BV63=\"\",\"\",'Races, Positions & Points'!BV63)","v":""},{"$f":"IF('Races, Positions & Points'!BY63=\"\",\"\",'Races, Positions & Points'!BY63)","v":""},{"$f":"IF('Races, Positions & Points'!CB63=\"\",\"\",'Races, Positions & Points'!CB63)","v":""},{"$f":"IF('Races, Positions & Points'!CE63=\"\",\"\",'Races, Positions & Points'!CE63)","v":""},{"$f":"IF('Races, Positions & Points'!CH63=\"\",\"\",'Races, Positions & Points'!CH63)","v":""},{"$f":"IF('Races, Positions & Points'!CI63=\"\",\"\",'Races, Positions & Points'!CI63)","v":""},{"$f":"IF('Races, Positions & Points'!CL63=\"\",\"\",'Races, Positions & Points'!CL63)","v":""},{"$f":"IF('Races, Positions & Points'!CO63=\"\",\"\",'Races, Positions & Points'!CO63)","v":""},{"$f":"IF('Races, Positions & Points'!CR63=\"\",\"\",'Races, Positions & Points'!CR63)","v":""},{"$f":"IF('Races, Positions & Points'!CU63=\"\",\"\",'Races, Positions & Points'!CU63)","v":"DNF"},{"$f":"IF('Races, Positions & Points'!CX63=\"\",\"\",'Races, Positions & Points'!CX63)","v":""},{"$f":"IF('Races, Positions & Points'!DA63=\"\",\"\",'Races, Positions & Points'!DA63)","v":""},{"$f":"IF('Races, Positions & Points'!DD63=\"\",\"\",'Races, Positions & Points'!DD63)","v":"DNF"},{"$f":"IF('Races, Positions & Points'!DG63=\"\",\"\",'Races, Positions & Points'!DG63)","v":""},{"$f":"IF('Races, Positions & Points'!DJ63=\"\",\"\",'Races, Positions & Points'!DJ63)","v":""},{"$f":"IF('Races, Positions & Points'!DM63=\"\",\"\",'Races, Positions & Points'!DM63)","v":""},{"$f":"IF('Races, Positions & Points'!DP63=\"\",\"\",'Races, Positions & Points'!DP63)","v":""},{"$f":"IF('Races, Positions & Points'!DS63=\"\",\"\",'Races, Positions & Points'!DS63)","v":""},{"$f":"IF('Races, Positions & Points'!DV63=\"\",\"\",'Races, Positions & Points'!DV63)","v":""},{"$f":"IF('Races, Positions & Points'!DY63=\"\",\"\",'Races, Positions & Points'!DY63)","v":""},{"$f":"IF('Races, Positions & Points'!EB63=\"\",\"\",'Races, Positions & Points'!EB63)","v":""},{"$f":"IF('Races, Positions & Points'!EE63=\"\",\"\",'Races, Positions & Points'!EE63)","v":""},{"$f":"IF('Races, Positions & Points'!EG63=\"\",\"\",'Races, Positions & Points'!EG63)","v":""},{"$f":"IF('Races, Positions & Points'!EJ63=\"\",\"\",'Races, Positions & Points'!EJ63)","v":""},{"$f":"IF('Races, Positions & Points'!EM63=\"\",\"\",'Races, Positions & Points'!EM63)","v":""},{"$f":"IF('Races, Positions & Points'!EP63=\"\",\"\",'Races, Positions & Points'!EP63)","v":""},{"$f":"IF('Races, Positions & Points'!ES63=\"\",\"\",'Races, Positions & Points'!ES63)","v":""},{"$f":"IF('Races, Positions & Points'!EV63=\"\",\"\",'Races, Positions & Points'!EV63)","v":""},{"$f":"IF('Races, Positions & Points'!EY63=\"\",\"\",'Races, Positions & Points'!EY63)","v":""},{"$f":"IF('Races, Positions & Points'!FB63=\"\",\"\",'Races, Positions & Points'!FB63)","v":""},{"$f":"IF('Races, Positions & Points'!FE63=\"\",\"\",'Races, Positions & Points'!FE63)","v":""},{"$f":"IF('Races, Positions & Points'!FH63=\"\",\"\",'Races, Positions & Points'!FH63)","v":""},{"$f":"IF('Races, Positions & Points'!FI63=\"\",\"\",'Races, Positions & Points'!FI63)","v":""},null,0,3,0,6,0,0,null,{"$f":"'Races, Positions & Points'!E63","v":41662},{"$f":"'Races, Positions & Points'!G63","v":128.82},129.86000000000001,173.06,151.46,129.34,155.83000000000001,128.82,154.58000000000001,151.46,null,"","","",128.82,"",128.82,154.58000000000001,154.58000000000001,null,"","","","",182.66,173.06,129.86000000000001,"","","","","","","","","",null,173.06,182.66,177.86,207.672,null,"","","","",null,"","","",182.66,173.06,215.45999999999998,"","","",""]
[{"$f":"'Races, Positions & Points'!A64","v":"Duncan Thorley"},{"$f":"IF('Races, Positions & Points'!AB64=\"\",\"\",'Races, Positions & Points'!AB64)","v":""},{"$f":"IF('Races, Positions & Points'!AD64=\"\",\"\",'Races, Positions & Points'!AD64)","v":""},{"$f":"IF('Races, Positions & Points'!AG64=\"\",\"\",'Races, Positions & Points'!AG64)","v":""},{"$f":"IF('Races, Positions & Points'!AJ64=\"\",\"\",'Races, Positions & Points'!AJ64)","v":""},{"$f":"IF('Races, Positions & Points'!AK64=\"\",\"\",'Races, Positions & Points'!AK64)","v":""},{"$f":"IF('Races, Positions & Points'!AN64=\"\",\"\",'Races, Positions & Points'!AN64)","v":""},{"$f":"IF('Races, Positions & Points'!AO64=\"\",\"\",'Races, Positions & Points'!AO64)","v":""},{"$f":"IF('Races, Positions & Points'!AR64=\"\",\"\",'Races, Positions & Points'!AR64)","v":""},{"$f":"IF('Races, Positions & Points'!AU64=\"\",\"\",'Races, Positions & Points'!AU64)","v":""},{"$f":"IF('Races, Positions & Points'!AX64=\"\",\"\",'Races, Positions & Points'!AX64)","v":""},{"$f":"IF('Races, Positions & Points'!BA64=\"\",\"\",'Races, Positions & Points'!BA64)","v":""},{"$f":"IF('Races, Positions & Points'!BD64=\"\",\"\",'Races, Positions & Points'!BD64)","v":""},{"$f":"IF('Races, Positions & Points'!BG64=\"\",\"\",'Races, Positions & Points'!BG64)","v":""},{"$f":"IF('Races, Positions & Points'!BJ64=\"\",\"\",'Races, Positions & Points'!BJ64)","v":""},{"$f":"IF('Races, Positions & Points'!BM64=\"\",\"\",'Races, Positions & Points'!BM64)","v":""},{"$f":"IF('Races, Positions & Points'!BP64=\"\",\"\",'Races, Positions & Points'!BP64)","v":""},{"$f":"IF('Races, Positions & Points'!BS64=\"\",\"\",'Races, Positions & Points'!BS64)","v":""},{"$f":"IF('Races, Positions & Points'!BV64=\"\",\"\",'Races, Positions & Points'!BV64)","v":""},{"$f":"IF('Races, Positions & Points'!BY64=\"\",\"\",'Races, Positions & Points'!BY64)","v":""},{"$f":"IF('Races, Positions & Points'!CB64=\"\",\"\",'Races, Positions & Points'!CB64)","v":""},{"$f":"IF('Races, Positions & Points'!CE64=\"\",\"\",'Races, Positions & Points'!CE64)","v":""},{"$f":"IF('Races, Positions & Points'!CH64=\"\",\"\",'Races, Positions & Points'!CH64)","v":""},{"$f":"IF('Races, Positions & Points'!CI64=\"\",\"\",'Races, Positions & Points'!CI64)","v":""},{"$f":"IF('Races, Positions & Points'!CL64=\"\",\"\",'Races, Positions & Points'!CL64)","v":""},{"$f":"IF('Races, Positions & Points'!CO64=\"\",\"\",'Races, Positions & Points'!CO64)","v":""},{"$f":"IF('Races, Positions & Points'!CR64=\"\",\"\",'Races, Positions & Points'!CR64)","v":""},{"$f":"IF('Races, Positions & Points'!CU64=\"\",\"\",'Races, Positions & Points'!CU64)","v":""},{"$f":"IF('Races, Positions & Points'!CX64=\"\",\"\",'Races, Positions & Points'!CX64)","v":""},{"$f":"IF('Races, Positions & Points'!DA64=\"\",\"\",'Races, Positions & Points'!DA64)","v":""},{"$f":"IF('Races, Positions & Points'!DD64=\"\",\"\",'Races, Positions & Points'!DD64)","v":""},{"$f":"IF('Races, Positions & Points'!DG64=\"\",\"\",'Races, Positions & Points'!DG64)","v":""},{"$f":"IF('Races, Positions & Points'!DJ64=\"\",\"\",'Races, Positions & Points'!DJ64)","v":""},{"$f":"IF('Races, Positions & Points'!DM64=\"\",\"\",'Races, Positions & Points'!DM64)","v":""},{"$f":"IF('Races, Positions & Points'!DP64=\"\",\"\",'Races, Positions & Points'!DP64)","v":""},{"$f":"IF('Races, Positions & Points'!DS64=\"\",\"\",'Races, Positions & Points'!DS64)","v":""},{"$f":"IF('Races, Positions & Points'!DV64=\"\",\"\",'Races, Positions & Points'!DV64)","v":""},{"$f":"IF('Races, Positions & Points'!DY64=\"\",\"\",'Races, Positions & Points'!DY64)","v":""},{"$f":"IF('Races, Positions & Points'!EB64=\"\",\"\",'Races, Positions & Points'!EB64)","v":""},{"$f":"IF('Races, Positions & Points'!EE64=\"\",\"\",'Races, Positions & Points'!EE64)","v":""},{"$f":"IF('Races, Positions & Points'!EG64=\"\",\"\",'Races, Positions & Points'!EG64)","v":""},{"$f":"IF('Races, Positions & Points'!EJ64=\"\",\"\",'Races, Positions & Points'!EJ64)","v":""},{"$f":"IF('Races, Positions & Points'!EM64=\"\",\"\",'Races, Positions & Points'!EM64)","v":""},{"$f":"IF('Races, Positions & Points'!EP64=\"\",\"\",'Races, Positions & Points'!EP64)","v":""},{"$f":"IF('Races, Positions & Points'!ES64=\"\",\"\",'Races, Positions & Points'!ES64)","v":""},{"$f":"IF('Races, Positions & Points'!EV64=\"\",\"\",'Races, Positions & Points'!EV64)","v":""},{"$f":"IF('Races, Positions & Points'!EY64=\"\",\"\",'Races, Positions & Points'!EY64)","v":""},{"$f":"IF('Races, Positions & Points'!FB64=\"\",\"\",'Races, Positions & Points'!FB64)","v":""},{"$f":"IF('Races, Positions & Points'!FE64=\"\",\"\",'Races, Positions & Points'!FE64)","v":""},{"$f":"IF('Races, Positions & Points'!FH64=\"\",\"\",'Races, Positions & Points'!FH64)","v":""},{"$f":"IF('Races, Positions & Points'!FI64=\"\",\"\",'Races, Positions & Points'!FI64)","v":""},null,0,0,0,0,0,0,null,{"$f":"'Races, Positions & Points'!E64","v":18998},{"$f":"'Races, Positions & Points'!G64","v":133.94999999999999},"","","",133.94999999999999,"",133.94999999999999,160.74,160.74,null,"","","",133.94999999999999,"",133.94999999999999,160.74,160.74,null,"","","","","","","","","","","","","","","","",null,"","","","",null,"","","","",null,"","","","","","","","","",""]
[{"$f":"'Races, Positions & Points'!A65","v":"Thomas Lawrence"},{"$f":"IF('Races, Positions & Points'!AB65=\"\",\"\",'Races, Positions & Points'!AB65)","v":""},{"$f":"IF('Races, Positions & Points'!AD65=\"\",\"\",'Races, Positions & Points'!AD65)","v":""},{"$f":"IF('Races, Positions & Points'!AG65=\"\",\"\",'Races, Positions & Points'!AG65)","v":""},{"$f":"IF('Races, Positions & Points'!AJ65=\"\",\"\",'Races, Positions & Points'!AJ65)","v":""},{"$f":"IF('Races, Positions & Points'!AK65=\"\",\"\",'Races, Positions & Points'!AK65)","v":""},{"$f":"IF('Races, Positions & Points'!AN65=\"\",\"\",'Races, Positions & Points'!AN65)","v":""},{"$f":"IF('Races, Positions & Points'!AO65=\"\",\"\",'Races, Positions & Points'!AO65)","v":""},{"$f":"IF('Races, Positions & Points'!AR65=\"\",\"\",'Races, Positions & Points'!AR65)","v":""},{"$f":"IF('Races, Positions & Points'!AU65=\"\",\"\",'Races, Positions & Points'!AU65)","v":""},{"$f":"IF('Races, Positions & Points'!AX65=\"\",\"\",'Races, Positions & Points'!AX65)","v":""},{"$f":"IF('Races, Positions & Points'!BA65=\"\",\"\",'Races, Positions & Points'!BA65)","v":""},{"$f":"IF('Races, Positions & Points'!BD65=\"\",\"\",'Races, Positions & Points'!BD65)","v":""},{"$f":"IF('Races, Positions & Points'!BG65=\"\",\"\",'Races, Positions & Points'!BG65)","v":""},{"$f":"IF('Races, Positions & Points'!BJ65=\"\",\"\",'Races, Positions & Points'!BJ65)","v":"DNF"},{"$f":"IF('Races, Positions & Points'!BM65=\"\",\"\",'Races, Positions & Points'!BM65)","v":""},{"$f":"IF('Races, Positions & Points'!BP65=\"\",\"\",'Races, Positions & Points'!BP65)","v":""},{"$f":"IF('Races, Positions & Points'!BS65=\"\",\"\",'Races, Positions & Points'!BS65)","v":""},{"$f":"IF('Races, Positions & Points'!BV65=\"\",\"\",'Races, Positions & Points'!BV65)","v":""},{"$f":"IF('Races, Positions & Points'!BY65=\"\",\"\",'Races, Positions & Points'!BY65)","v":""},{"$f":"IF('Races, Positions & Points'!CB65=\"\",\"\",'Races, Positions & Points'!CB65)","v":101.32},{"$f":"IF('Races, Positions & Points'!CE65=\"\",\"\",'Races, Positions & Points'!CE65)","v":""},{"$f":"IF('Races, Positions & Points'!CH65=\"\",\"\",'Races, Positions & Points'!CH65)","v":""},{"$f":"IF('Races, Positions & Points'!CI65=\"\",\"\",'Races, Positions & Points'!CI65)","v":""},{"$f":"IF('Races, Positions & Points'!CL65=\"\",\"\",'Races, Positions & Points'!CL65)","v":"DSQ"},{"$f":"IF('Races, Positions & Points'!CO65=\"\",\"\",'Races, Positions & Points'!CO65)","v":""},{"$f":"IF('Races, Positions & Points'!CR65=\"\",\"\",'Races, Positions & Points'!CR65)","v":137.47},{"$f":"IF('Races, Positions & Points'!CU65=\"\",\"\",'Races, Positions & Points'!CU65)","v":"DSQ"},{"$f":"IF('Races, Positions & Points'!CX65=\"\",\"\",'Races, Positions & Points'!CX65)","v":"DNS"},{"$f":"IF('Races, Positions & Points'!DA65=\"\",\"\",'Races, Positions & Points'!DA65)","v":"DNF"},{"$f":"IF('Races, Positions & Points'!DD65=\"\",\"\",'Races, Positions & Points'!DD65)","v":104.8},{"$f":"IF('Races, Positions & Points'!DG65=\"\",\"\",'Races, Positions & Points'!DG65)","v":""},{"$f":"IF('Races, Positions & Points'!DJ65=\"\",\"\",'Races, Positions & Points'!DJ65)","v":""},{"$f":"IF('Races, Positions & Points'!DM65=\"\",\"\",'Races, Positions & Points'!DM65)","v":""},{"$f":"IF('Races, Positions & Points'!DP65=\"\",\"\",'Races, Positions & Points'!DP65)","v":""},{"$f":"IF('Races, Positions & Points'!DS65=\"\",\"\",'Races, Positions & Points'!DS65)","v":""},{"$f":"IF('Races, Positions & Points'!DV65=\"\",\"\",'Races, Positions & Points'!DV65)","v":""},{"$f":"IF('Races, Positions & Points'!DY65=\"\",\"\",'Races, Positions & Points'!DY65)","v":""},{"$f":"IF('Races, Positions & Points'!EB65=\"\",\"\",'Races, Positions & Points'!EB65)","v":""},{"$f":"IF('Races, Positions & Points'!EE65=\"\",\"\",'Races, Positions & Points'!EE65)","v":54},{"$f":"IF('Races, Positions & Points'!EG65=\"\",\"\",'Races, Positions & Points'!EG65)","v":135.56},{"$f":"IF('Races, Positions & Points'!EJ65=\"\",\"\",'Races, Positions & Points'!EJ65)","v":""},{"$f":"IF('Races, Positions & Points'!EM65=\"\",\"\",'Races, Positions & Points'!EM65)","v":""},{"$f":"IF('Races, Positions & Points'!EP65=\"\",\"\",'Races, Positions & Points'!EP65)","v":174.2},{"$f":"IF('Races, Positions & Points'!ES65=\"\",\"\",'Races, Positions & Points'!ES65)","v":192.94},{"$f":"IF('Races, Positions & Points'!EV65=\"\",\"\",'Races, Positions & Points'!EV65)","v":""},{"$f":"IF('Races, Positions & Points'!EY65=\"\",\"\",'Races, Positions & Points'!EY65)","v":999.99},{"$f":"IF('Races, Positions & Points'!FB65=\"\",\"\",'Races, Positions & Points'!FB65)","v":""},{"$f":"IF('Races, Positions & Points'!FE65=\"\",\"\",'Races, Positions & Points'!FE65)","v":""},{"$f":"IF('Races, Positions & Points'!FH65=\"\",\"\",'Races, Positions & Points'!FH65)","v":""},{"$f":"IF('Races, Positions & Points'!FI65=\"\",\"\",'Races, Positions & Points'!FI65)","v":""},null,0,6,0,2,1,3,null,{"$f":"'Races, Positions & Points'!E65","v":19941},{"$f":"'Races, Positions & Points'!G65","v":144.61000000000001},101.32,104.8,103.06,122.97,121.58,103.06,173.53,103.06,null,"","","",144.61000000000001,"",144.61000000000001,173.53,173.53,null,"",999.99,"","",174.2,104.8,"","","","",101.32,135.56,137.47,"DNF","","",null,104.8,135.56,120.18,125.75999999999999,null,999.99,"","",1199.9880000000001,null,"",999.99,"",174.2,104.8,"","","",135.56,""]
[{"$f":"'Races, Positions & Points'!A66","v":"Ethan Hemming"},{"$f":"IF('Races, Positions & Points'!AB66=\"\",\"\",'Races, Positions & Points'!AB66)","v":213.44},{"$f":"IF('Races, Positions & Points'!AD66=\"\",\"\",'Races, Positions & Points'!AD66)","v":""},{"$f":"IF('Races, Positions & Points'!AG66=\"\",\"\",'Races, Positions & Points'!AG66)","v":164.73},{"$f":"IF('Races, Positions & Points'!AJ66=\"\",\"\",'Races, Positions & Points'!AJ66)","v":""},{"$f":"IF('Races, Positions & Points'!AK66=\"\",\"\",'Races, Positions & Points'!AK66)","v":""},{"$f":"IF('Races, Positions & Points'!AN66=\"\",\"\",'Races, Positions & Points'!AN66)","v":""},{"$f":"IF('Races, Positions & Points'!AO66=\"\",\"\",'Races, Positions & Points'!AO66)","v":""},{"$f":"IF('Races, Positions & Points'!AR66=\"\",\"\",'Races, Positions & Points'!AR66)","v":125.97},{"$f":"IF('Races, Positions & Points'!AU66=\"\",\"\",'Races, Positions & Points'!AU66)","v":198.38},{"$f":"IF('Races, Positions & Points'!AX66=\"\",\"\",'Races, Positions & Points'!AX66)","v":""},{"$f":"IF('Races, Positions & Points'!BA66=\"\",\"\",'Races, Positions & Points'!BA66)","v":""},{"$f":"IF('Races, Positions & Points'!BD66=\"\",\"\",'Races, Positions & Points'!BD66)","v":"DSQ"},{"$f":"IF('Races, Positions & Points'!BG66=\"\",\"\",'Races, Positions & Points'!BG66)","v":1183.5999999999999},{"$f":"IF('Races, Positions & Points'!BJ66=\"\",\"\",'Races, Positions & Points'!BJ66)","v":179.29},{"$f":"IF('Races, Positions & Points'!BM66=\"\",\"\",'Races, Positions & Points'!BM66)","v":185.36},{"$f":"IF('Races, Positions & Points'!BP66=\"\",\"\",'Races, Positions & Points'!BP66)","v":""},{"$f":"IF('Races, Positions & Points'!BS66=\"\",\"\",'Races, Positions & Points'!BS66)","v":209.25},{"$f":"IF('Races, Positions & Points'!BV66=\"\",\"\",'Races, Positions & Points'!BV66)","v":""},{"$f":"IF('Races, Positions & Points'!BY66=\"\",\"\",'Races, Positions & Points'!BY66)","v":""},{"$f":"IF('Races, Positions & Points'!CB66=\"\",\"\",'Races, Positions & Points'!CB66)","v":102.93},{"$f":"IF('Races, Positions & Points'!CE66=\"\",\"\",'Races, Positions & Points'!CE66)","v":""},{"$f":"IF('Races, Positions & Points'!CH66=\"\",\"\",'Races, Positions & Points'!CH66)","v":""},{"$f":"IF('Races, Positions & Points'!CI66=\"\",\"\",'Races, Positions & Points'!CI66)","v":""},{"$f":"IF('Races, Positions & Points'!CL66=\"\",\"\",'Races, Positions & Points'!CL66)","v":"DNF"},{"$f":"IF('Races, Positions & Points'!CO66=\"\",\"\",'Races, Positions & Points'!CO66)","v":""},{"$f":"IF('Races, Positions & Points'!CR66=\"\",\"\",'Races, Positions & Points'!CR66)","v":139.69999999999999},{"$f":"IF('Races, Positions & Points'!CU66=\"\",\"\",'Races, Positions & Points'!CU66)","v":"DNF"},{"$f":"IF('Races, Positions & Points'!CX66=\"\",\"\",'Races, Positions & Points'!CX66)","v":174.54},{"$f":"IF('Races, Positions & Points'!DA66=\"\",\"\",'Races, Positions & Points'!DA66)","v":""},{"$f":"IF('Races, Positions & Points'!DD66=\"\",\"\",'Races, Positions & Points'!DD66)","v":""},{"$f":"IF('Races, Positions & Points'!DG66=\"\",\"\",'Races, Positions & Points'!DG66)","v":""},{"$f":"IF('Races, Positions & Points'!DJ66=\"\",\"\",'Races, Positions & Points'!DJ66)","v":""},{"$f":"IF('Races, Positions & Points'!DM66=\"\",\"\",'Races, Positions & Points'!DM66)","v":""},{"$f":"IF('Races, Positions & Points'!DP66=\"\",\"\",'Races, Positions & Points'!DP66)","v":""},{"$f":"IF('Races, Positions & Points'!DS66=\"\",\"\",'Races, Positions & Points'!DS66)","v":134.1},{"$f":"IF('Races, Positions & Points'!DV66=\"\",\"\",'Races, Positions & Points'!DV66)","v":""},{"$f":"IF('Races, Positions & Points'!DY66=\"\",\"\",'Races, Positions & Points'!DY66)","v":""},{"$f":"IF('Races, Positions & Points'!EB66=\"\",\"\",'Races, Positions & Points'!EB66)","v":""},{"$f":"IF('Races, Positions & Points'!EE66=\"\",\"\",'Races, Positions & Points'!EE66)","v":""},{"$f":"IF('Races, Positions & Points'!EG66=\"\",\"\",'Races, Positions & Points'!EG66)","v":""},{"$f":"IF('Races, Positions & Points'!EJ66=\"\",\"\",'Races, Positions & Points'!EJ66)","v":""},{"$f":"IF('Races, Positions & Points'!EM66=\"\",\"\",'Races, Positions & Points'!EM66)","v":""},{"$f":"IF('Races, Positions & Points'!EP66=\"\",\"\",'Races, Positions & Points'!EP66)","v":""},{"$f":"IF('Races, Positions & Points'!ES66=\"\",\"\",'Races, Positions & Points'!ES66)","v":""},{"$f":"IF('Races, Positions & Points'!EV66=\"\",\"\",'Races, Positions & Points'!EV66)","v":""},{"$f":"IF('Races, Positions & Points'!EY66=\"\",\"\",'Races, Positions & Points'!EY66)","v":""},{"$f":"IF('Races, Positions & Points'!FB66=\"\",\"\",'Races, Positions & Points'!FB66)","v":""},{"$f":"IF('Races, Positions & Points'!FE66=\"\",\"\",'Races, Positions & Points'!FE66)","v":""},{"$f":"IF('Races, Positions & Points'!FH66=\"\",\"\",'Races, Positions & Points'!FH66)","v":""},{"$f":"IF('Races, Positions & Points'!FI66=\"\",\"\",'Races, Positions & Points'!FI66)","v":""},null,0,9,0,6,0,0,null,{"$f":"'Races, Positions & Points'!E66","v":19829},{"$f":"'Races, Positions & Points'!G66","v":150.21},102.93,125.97,114.45,126.57,123.52,114.45,180.25,114.45,null,"","","",150.21,"",150.21,180.25,180.25,null,"","","","",213.44,164.73,125.97,"","",185.36,102.93,"",139.69999999999999,"",134.1,"",null,179.29,198.38,188.83499999999998,215.148,null,"","","","",null,"","","",1183.5999999999999,179.29,198.38,"",209.25,"",""]
[{"$f":"'Races, Positions & Points'!A67","v":"James Elgy"},{"$f":"IF('Races, Positions & Points'!AB67=\"\",\"\",'Races, Positions & Points'!AB67)","v":""},{"$f":"IF('Races, Positions & Points'!AD67=\"\",\"\",'Races, Positions & Points'!AD67)","v":""},{"$f":"IF('Races, Positions & Points'!AG67=\"\",\"\",'Races, Positions & Points'!AG67)","v":""},{"$f":"IF('Races, Positions & Points'!AJ67=\"\",\"\",'Races, Positions & Points'!AJ67)","v":""},{"$f":"IF('Races, Positions & Points'!AK67=\"\",\"\",'Races, Positions & Points'!AK67)","v":""},{"$f":"IF('Races, Positions & Points'!AN67=\"\",\"\",'Races, Positions & Points'!AN67)","v":""},{"$f":"IF('Races, Positions & Points'!AO67=\"\",\"\",'Races, Positions & Points'!AO67)","v":""},{"$f":"IF('Races, Positions & Points'!AR67=\"\",\"\",'Races, Positions & Points'!AR67)","v":""},{"$f":"IF('Races, Positions & Points'!AU67=\"\",\"\",'Races, Positions & Points'!AU67)","v":""},{"$f":"IF('Races, Positions & Points'!AX67=\"\",\"\",'Races, Positions & Points'!AX67)","v":""},{"$f":"IF('Races, Positions & Points'!BA67=\"\",\"\",'Races, Positions & Points'!BA67)","v":""},{"$f":"IF('Races, Positions & Points'!BD67=\"\",\"\",'Races, Positions & Points'!BD67)","v":""},{"$f":"IF('Races, Positions & Points'!BG67=\"\",\"\",'Races, Positions & Points'!BG67)","v":""},{"$f":"IF('Races, Positions & Points'!BJ67=\"\",\"\",'Races, Positions & Points'!BJ67)","v":""},{"$f":"IF('Races, Positions & Points'!BM67=\"\",\"\",'Races, Positions & Points'!BM67)","v":""},{"$f":"IF('Races, Positions & Points'!BP67=\"\",\"\",'Races, Positions & Points'!BP67)","v":""},{"$f":"IF('Races, Positions & Points'!BS67=\"\",\"\",'Races, Positions & Points'!BS67)","v":""},{"$f":"IF('Races, Positions & Points'!BV67=\"\",\"\",'Races, Positions & Points'!BV67)","v":""},{"$f":"IF('Races, Positions & Points'!BY67=\"\",\"\",'Races, Positions & Points'!BY67)","v":""},{"$f":"IF('Races, Positions & Points'!CB67=\"\",\"\",'Races, Positions & Points'!CB67)","v":""},{"$f":"IF('Races, Positions & Points'!CE67=\"\",\"\",'Races, Positions & Points'!CE67)","v":""},{"$f":"IF('Races, Positions & Points'!CH67=\"\",\"\",'Races, Positions & Points'!CH67)","v":""},{"$f":"IF('Races, Positions & Points'!CI67=\"\",\"\",'Races, Positions & Points'!CI67)","v":""},{"$f":"IF('Races, Positions & Points'!CL67=\"\",\"\",'Races, Positions & Points'!CL67)","v":""},{"$f":"IF('Races, Positions & Points'!CO67=\"\",\"\",'Races, Positions & Points'!CO67)","v":""},{"$f":"IF('Races, Positions & Points'!CR67=\"\",\"\",'Races, Positions & Points'!CR67)","v":""},{"$f":"IF('Races, Positions & Points'!CU67=\"\",\"\",'Races, Positions & Points'!CU67)","v":""},{"$f":"IF('Races, Positions & Points'!CX67=\"\",\"\",'Races, Positions & Points'!CX67)","v":""},{"$f":"IF('Races, Positions & Points'!DA67=\"\",\"\",'Races, Positions & Points'!DA67)","v":""},{"$f":"IF('Races, Positions & Points'!DD67=\"\",\"\",'Races, Positions & Points'!DD67)","v":""},{"$f":"IF('Races, Positions & Points'!DG67=\"\",\"\",'Races, Positions & Points'!DG67)","v":""},{"$f":"IF('Races, Positions & Points'!DJ67=\"\",\"\",'Races, Positions & Points'!DJ67)","v":""},{"$f":"IF('Races, Positions & Points'!DM67=\"\",\"\",'Races, Positions & Points'!DM67)","v":""},{"$f":"IF('Races, Positions & Points'!DP67=\"\",\"\",'Races, Positions & Points'!DP67)","v":""},{"$f":"IF('Races, Positions & Points'!DS67=\"\",\"\",'Races, Positions & Points'!DS67)","v":""},{"$f":"IF('Races, Positions & Points'!DV67=\"\",\"\",'Races, Positions & Points'!DV67)","v":""},{"$f":"IF('Races, Positions & Points'!DY67=\"\",\"\",'Races, Positions & Points'!DY67)","v":""},{"$f":"IF('Races, Positions & Points'!EB67=\"\",\"\",'Races, Positions & Points'!EB67)","v":""},{"$f":"IF('Races, Positions & Points'!EE67=\"\",\"\",'Races, Positions & Points'!EE67)","v":""},{"$f":"IF('Races, Positions & Points'!EG67=\"\",\"\",'Races, Positions & Points'!EG67)","v":""},{"$f":"IF('Races, Positions & Points'!EJ67=\"\",\"\",'Races, Positions & Points'!EJ67)","v":""},{"$f":"IF('Races, Positions & Points'!EM67=\"\",\"\",'Races, Positions & Points'!EM67)","v":""},{"$f":"IF('Races, Positions & Points'!EP67=\"\",\"\",'Races, Positions & Points'!EP67)","v":""},{"$f":"IF('Races, Positions & Points'!ES67=\"\",\"\",'Races, Positions & Points'!ES67)","v":""},{"$f":"IF('Races, Positions & Points'!EV67=\"\",\"\",'Races, Positions & Points'!EV67)","v":""},{"$f":"IF('Races, Positions & Points'!EY67=\"\",\"\",'Races, Positions & Points'!EY67)","v":""},{"$f":"IF('Races, Positions & Points'!FB67=\"\",\"\",'Races, Positions & Points'!FB67)","v":""},{"$f":"IF('Races, Positions & Points'!FE67=\"\",\"\",'Races, Positions & Points'!FE67)","v":""},{"$f":"IF('Races, Positions & Points'!FH67=\"\",\"\",'Races, Positions & Points'!FH67)","v":""},{"$f":"IF('Races, Positions & Points'!FI67=\"\",\"\",'Races, Positions & Points'!FI67)","v":""},null,0,0,0,0,0,0,null,{"$f":"'Races, Positions & Points'!E67","v":19166},{"$f":"'Races, Positions & Points'!G67","v":166.36},"","","",166.36,"",166.36,199.63,199.63,null,"","","",166.36,"",166.36,199.63,199.63,null,"","","","","","","","","","","","","","","","",null,"","","","",null,"","","","",null,"","","","","","","","","",""]
[{"$f":"'Races, Positions & Points'!A68","v":"Toby Tarrant"},{"$f":"IF('Races, Positions & Points'!AB68=\"\",\"\",'Races, Positions & Points'!AB68)","v":""},{"$f":"IF('Races, Positions & Points'!AD68=\"\",\"\",'Races, Positions & Points'!AD68)","v":""},{"$f":"IF('Races, Positions & Points'!AG68=\"\",\"\",'Races, Positions & Points'!AG68)","v":""},{"$f":"IF('Races, Positions & Points'!AJ68=\"\",\"\",'Races, Positions & Points'!AJ68)","v":""},{"$f":"IF('Races, Positions & Points'!AK68=\"\",\"\",'Races, Positions & Points'!AK68)","v":""},{"$f":"IF('Races, Positions & Points'!AN68=\"\",\"\",'Races, Positions & Points'!AN68)","v":""},{"$f":"IF('Races, Positions & Points'!AO68=\"\",\"\",'Races, Positions & Points'!AO68)","v":""},{"$f":"IF('Races, Positions & Points'!AR68=\"\",\"\",'Races, Positions & Points'!AR68)","v":""},{"$f":"IF('Races, Positions & Points'!AU68=\"\",\"\",'Races, Positions & Points'!AU68)","v":""},{"$f":"IF('Races, Positions & Points'!AX68=\"\",\"\",'Races, Positions & Points'!AX68)","v":""},{"$f":"IF('Races, Positions & Points'!BA68=\"\",\"\",'Races, Positions & Points'!BA68)","v":""},{"$f":"IF('Races, Positions & Points'!BD68=\"\",\"\",'Races, Positions & Points'!BD68)","v":""},{"$f":"IF('Races, Positions & Points'!BG68=\"\",\"\",'Races, Positions & Points'!BG68)","v":""},{"$f":"IF('Races, Positions & Points'!BJ68=\"\",\"\",'Races, Positions & Points'!BJ68)","v":""},{"$f":"IF('Races, Positions & Points'!BM68=\"\",\"\",'Races, Positions & Points'!BM68)","v":""},{"$f":"IF('Races, Positions & Points'!BP68=\"\",\"\",'Races, Positions & Points'!BP68)","v":""},{"$f":"IF('Races, Positions & Points'!BS68=\"\",\"\",'Races, Positions & Points'!BS68)","v":""},{"$f":"IF('Races, Positions & Points'!BV68=\"\",\"\",'Races, Positions & Points'!BV68)","v":""},{"$f":"IF('Races, Positions & Points'!BY68=\"\",\"\",'Races, Positions & Points'!BY68)","v":""},{"$f":"IF('Races, Positions & Points'!CB68=\"\",\"\",'Races, Positions & Points'!CB68)","v":""},{"$f":"IF('Races, Positions & Points'!CE68=\"\",\"\",'Races, Positions & Points'!CE68)","v":""},{"$f":"IF('Races, Positions & Points'!CH68=\"\",\"\",'Races, Positions & Points'!CH68)","v":""},{"$f":"IF('Races, Positions & Points'!CI68=\"\",\"\",'Races, Positions & Points'!CI68)","v":""},{"$f":"IF('Races, Positions & Points'!CL68=\"\",\"\",'Races, Positions & Points'!CL68)","v":148.43},{"$f":"IF('Races, Positions & Points'!CO68=\"\",\"\",'Races, Positions & Points'!CO68)","v":""},{"$f":"IF('Races, Positions & Points'!CR68=\"\",\"\",'Races, Positions & Points'!CR68)","v":122.83},{"$f":"IF('Races, Positions & Points'!CU68=\"\",\"\",'Races, Positions & Points'!CU68)","v":""},{"$f":"IF('Races, Positions & Points'!CX68=\"\",\"\",'Races, Positions & Points'!CX68)","v":""},{"$f":"IF('Races, Positions & Points'!DA68=\"\",\"\",'Races, Positions & Points'!DA68)","v":""},{"$f":"IF('Races, Positions & Points'!DD68=\"\",\"\",'Races, Positions & Points'!DD68)","v":""},{"$f":"IF('Races, Positions & Points'!DG68=\"\",\"\",'Races, Positions & Points'!DG68)","v":""},{"$f":"IF('Races, Positions & Points'!DJ68=\"\",\"\",'Races, Positions & Points'!DJ68)","v":""},{"$f":"IF('Races, Positions & Points'!DM68=\"\",\"\",'Races, Positions & Points'!DM68)","v":""},{"$f":"IF('Races, Positions & Points'!DP68=\"\",\"\",'Races, Positions & Points'!DP68)","v":""},{"$f":"IF('Races, Positions & Points'!DS68=\"\",\"\",'Races, Positions & Points'!DS68)","v":""},{"$f":"IF('Races, Positions & Points'!DV68=\"\",\"\",'Races, Positions & Points'!DV68)","v":""},{"$f":"IF('Races, Positions & Points'!DY68=\"\",\"\",'Races, Positions & Points'!DY68)","v":""},{"$f":"IF('Races, Positions & Points'!EB68=\"\",\"\",'Races, Positions & Points'!EB68)","v":""},{"$f":"IF('Races, Positions & Points'!EE68=\"\",\"\",'Races, Positions & Points'!EE68)","v":""},{"$f":"IF('Races, Positions & Points'!EG68=\"\",\"\",'Races, Positions & Points'!EG68)","v":""},{"$f":"IF('Races, Positions & Points'!EJ68=\"\",\"\",'Races, Positions & Points'!EJ68)","v":""},{"$f":"IF('Races, Positions & Points'!EM68=\"\",\"\",'Races, Positions & Points'!EM68)","v":""},{"$f":"IF('Races, Positions & Points'!EP68=\"\",\"\",'Races, Positions & Points'!EP68)","v":""},{"$f":"IF('Races, Positions & Points'!ES68=\"\",\"\",'Races, Positions & Points'!ES68)","v":""},{"$f":"IF('Races, Positions & Points'!EV68=\"\",\"\",'Races, Positions & Points'!EV68)","v":""},{"$f":"IF('Races, Positions & Points'!EY68=\"\",\"\",'Races, Positions & Points'!EY68)","v":""},{"$f":"IF('Races, Positions & Points'!FB68=\"\",\"\",'Races, Positions & Points'!FB68)","v":""},{"$f":"IF('Races, Positions & Points'!FE68=\"\",\"\",'Races, Positions & Points'!FE68)","v":""},{"$f":"IF('Races, Positions & Points'!FH68=\"\",\"\",'Races, Positions & Points'!FH68)","v":""},{"$f":"IF('Races, Positions & Points'!FI68=\"\",\"\",'Races, Positions & Points'!FI68)","v":""},null,0,2,0,0,0,0,null,{"$f":"'Races, Positions & Points'!E68","v":21550},{"$f":"'Races, Positions & Points'!G68","v":186.2},122.83,148.43,135.63,154.52000000000001,147.4,135.63,223.44,135.63,null,"","","",186.2,"",186.2,223.44,223.44,null,"","","","","","","","","","","",148.43,122.83,"","","",null,"","","","",null,"","","","",null,"","","","","","","","","",""]
[{"$f":"'Races, Positions & Points'!A69","v":"Thomas Upton"},{"$f":"IF('Races, Positions & Points'!AB69=\"\",\"\",'Races, Positions & Points'!AB69)","v":175.91000000000003},{"$f":"IF('Races, Positions & Points'!AD69=\"\",\"\",'Races, Positions & Points'!AD69)","v":""},{"$f":"IF('Races, Positions & Points'!AG69=\"\",\"\",'Races, Positions & Points'!AG69)","v":""},{"$f":"IF('Races, Positions & Points'!AJ69=\"\",\"\",'Races, Positions & Points'!AJ69)","v":""},{"$f":"IF('Races, Positions & Points'!AK69=\"\",\"\",'Races, Positions & Points'!AK69)","v":""},{"$f":"IF('Races, Positions & Points'!AN69=\"\",\"\",'Races, Positions & Points'!AN69)","v":""},{"$f":"IF('Races, Positions & Points'!AO69=\"\",\"\",'Races, Positions & Points'!AO69)","v":""},{"$f":"IF('Races, Positions & Points'!AR69=\"\",\"\",'Races, Positions & Points'!AR69)","v":115.46000000000001},{"$f":"IF('Races, Positions & Points'!AU69=\"\",\"\",'Races, Positions & Points'!AU69)","v":141.07999999999998},{"$f":"IF('Races, Positions & Points'!AX69=\"\",\"\",'Races, Positions & Points'!AX69)","v":235.1},{"$f":"IF('Races, Positions & Points'!BA69=\"\",\"\",'Races, Positions & Points'!BA69)","v":169.29},{"$f":"IF('Races, Positions & Points'!BD69=\"\",\"\",'Races, Positions & Points'!BD69)","v":161.1},{"$f":"IF('Races, Positions & Points'!BG69=\"\",\"\",'Races, Positions & Points'!BG69)","v":137.08000000000001},{"$f":"IF('Races, Positions & Points'!BJ69=\"\",\"\",'Races, Positions & Points'!BJ69)","v":"DNF"},{"$f":"IF('Races, Positions & Points'!BM69=\"\",\"\",'Races, Positions & Points'!BM69)","v":""},{"$f":"IF('Races, Positions & Points'!BP69=\"\",\"\",'Races, Positions & Points'!BP69)","v":""},{"$f":"IF('Races, Positions & Points'!BS69=\"\",\"\",'Races, Positions & Points'!BS69)","v":""},{"$f":"IF('Races, Positions & Points'!BV69=\"\",\"\",'Races, Positions & Points'!BV69)","v":""},{"$f":"IF('Races, Positions & Points'!BY69=\"\",\"\",'Races, Positions & Points'!BY69)","v":""},{"$f":"IF('Races, Positions & Points'!CB69=\"\",\"\",'Races, Positions & Points'!CB69)","v":""},{"$f":"IF('Races, Positions & Points'!CE69=\"\",\"\",'Races, Positions & Points'!CE69)","v":""},{"$f":"IF('Races, Positions & Points'!CH69=\"\",\"\",'Races, Positions & Points'!CH69)","v":164.99},{"$f":"IF('Races, Positions & Points'!CI69=\"\",\"\",'Races, Positions & Points'!CI69)","v":240.44},{"$f":"IF('Races, Positions & Points'!CL69=\"\",\"\",'Races, Positions & Points'!CL69)","v":131.87},{"$f":"IF('Races, Positions & Points'!CO69=\"\",\"\",'Races, Positions & Points'!CO69)","v":""},{"$f":"IF('Races, Positions & Points'!CR69=\"\",\"\",'Races, Positions & Points'!CR69)","v":140.69999999999999},{"$f":"IF('Races, Positions & Points'!CU69=\"\",\"\",'Races, Positions & Points'!CU69)","v":125.83},{"$f":"IF('Races, Positions & Points'!CX69=\"\",\"\",'Races, Positions & Points'!CX69)","v":118.93},{"$f":"IF('Races, Positions & Points'!DA69=\"\",\"\",'Races, Positions & Points'!DA69)","v":157.9},{"$f":"IF('Races, Positions & Points'!DD69=\"\",\"\",'Races, Positions & Points'!DD69)","v":560.14},{"$f":"IF('Races, Positions & Points'!DG69=\"\",\"\",'Races, Positions & Points'!DG69)","v":133.75},{"$f":"IF('Races, Positions & Points'!DJ69=\"\",\"\",'Races, Positions & Points'!DJ69)","v":126.84},{"$f":"IF('Races, Positions & Points'!DM69=\"\",\"\",'Races, Positions & Points'!DM69)","v":141.73000000000002},{"$f":"IF('Races, Positions & Points'!DP69=\"\",\"\",'Races, Positions & Points'!DP69)","v":135.20000000000002},{"$f":"IF('Races, Positions & Points'!DS69=\"\",\"\",'Races, Positions & Points'!DS69)","v":""},{"$f":"IF('Races, Positions & Points'!DV69=\"\",\"\",'Races, Positions & Points'!DV69)","v":""},{"$f":"IF('Races, Positions & Points'!DY69=\"\",\"\",'Races, Positions & Points'!DY69)","v":""},{"$f":"IF('Races, Positions & Points'!EB69=\"\",\"\",'Races, Positions & Points'!EB69)","v":""},{"$f":"IF('Races, Positions & Points'!EE69=\"\",\"\",'Races, Positions & Points'!EE69)","v":40},{"$f":"IF('Races, Positions & Points'!EG69=\"\",\"\",'Races, Positions & Points'!EG69)","v":99.17},{"$f":"IF('Races, Positions & Points'!EJ69=\"\",\"\",'Races, Positions & Points'!EJ69)","v":133.9},{"$f":"IF('Races, Positions & Points'!EM69=\"\",\"\",'Races, Positions & Points'!EM69)","v":107.77},{"$f":"IF('Races, Positions & Points'!EP69=\"\",\"\",'Races, Positions & Points'!EP69)","v":110.73},{"$f":"IF('Races, Positions & Points'!ES69=\"\",\"\",'Races, Positions & Points'!ES69)","v":168.8},{"$f":"IF('Races, Positions & Points'!EV69=\"\",\"\",'Races, Positions & Points'!EV69)","v":""},{"$f":"IF('Races, Positions & Points'!EY69=\"\",\"\",'Races, Positions & Points'!EY69)","v":""},{"$f":"IF('Races, Positions & Points'!FB69=\"\",\"\",'Races, Positions & Points'!FB69)","v":""},{"$f":"IF('Races, Positions & Points'!FE69=\"\",\"\",'Races, Positions & Points'!FE69)","v":""},{"$f":"IF('Races, Positions & Points'!FH69=\"\",\"\",'Races, Positions & Points'!FH69)","v":""},{"$f":"IF('Races, Positions & Points'!FI69=\"\",\"\",'Races, Positions & Points'!FI69)","v":""},null,0,7,6,5,2,3,null,{"$f":"'Races, Positions & Points'!E69","v":21051},{"$f":"'Races, Positions & Points'!G69","v":189.87},99.17,110.73,104.95,144.52000000000001,119,104.95,227.84,104.95,null,107.77,135.20000000000002,121.49,148.82,129.32,121.49,227.84,121.49,null,135.20000000000002,107.77,"",164.99,110.73,118.93,115.46000000000001,"","","","",99.17,140.69999999999999,157.9,"","",null,99.17,110.73,104.95,119.00399999999999,null,107.77,135.20000000000002,121.48500000000001,129.32399999999998,null,135.20000000000002,107.77,"",110.73,560.14,141.07999999999998,"","",99.17,""]
[{"$f":"'Races, Positions & Points'!A70","v":"Edward Guy"},{"$f":"IF('Races, Positions & Points'!AB70=\"\",\"\",'Races, Positions & Points'!AB70)","v":""},{"$f":"IF('Races, Positions & Points'!AD70=\"\",\"\",'Races, Positions & Points'!AD70)","v":""},{"$f":"IF('Races, Positions & Points'!AG70=\"\",\"\",'Races, Positions & Points'!AG70)","v":""},{"$f":"IF('Races, Positions & Points'!AJ70=\"\",\"\",'Races, Positions & Points'!AJ70)","v":""},{"$f":"IF('Races, Positions & Points'!AK70=\"\",\"\",'Races, Positions & Points'!AK70)","v":""},{"$f":"IF('Races, Positions & Points'!AN70=\"\",\"\",'Races, Positions & Points'!AN70)","v":""},{"$f":"IF('Races, Positions & Points'!AO70=\"\",\"\",'Races, Positions & Points'!AO70)","v":""},{"$f":"IF('Races, Positions & Points'!AR70=\"\",\"\",'Races, Positions & Points'!AR70)","v":123.46000000000001},{"$f":"IF('Races, Positions & Points'!AU70=\"\",\"\",'Races, Positions & Points'!AU70)","v":"DSQ"},{"$f":"IF('Races, Positions & Points'!AX70=\"\",\"\",'Races, Positions & Points'!AX70)","v":""},{"$f":"IF('Races, Positions & Points'!BA70=\"\",\"\",'Races, Positions & Points'!BA70)","v":""},{"$f":"IF('Races, Positions & Points'!BD70=\"\",\"\",'Races, Positions & Points'!BD70)","v":153.16999999999999},{"$f":"IF('Races, Positions & Points'!BG70=\"\",\"\",'Races, Positions & Points'!BG70)","v":154.11000000000001},{"$f":"IF('Races, Positions & Points'!BJ70=\"\",\"\",'Races, Positions & Points'!BJ70)","v":""},{"$f":"IF('Races, Positions & Points'!BM70=\"\",\"\",'Races, Positions & Points'!BM70)","v":""},{"$f":"IF('Races, Positions & Points'!BP70=\"\",\"\",'Races, Positions & Points'!BP70)","v":""},{"$f":"IF('Races, Positions & Points'!BS70=\"\",\"\",'Races, Positions & Points'!BS70)","v":""},{"$f":"IF('Races, Positions & Points'!BV70=\"\",\"\",'Races, Positions & Points'!BV70)","v":""},{"$f":"IF('Races, Positions & Points'!BY70=\"\",\"\",'Races, Positions & Points'!BY70)","v":""},{"$f":"IF('Races, Positions & Points'!CB70=\"\",\"\",'Races, Positions & Points'!CB70)","v":""},{"$f":"IF('Races, Positions & Points'!CE70=\"\",\"\",'Races, Positions & Points'!CE70)","v":""},{"$f":"IF('Races, Positions & Points'!CH70=\"\",\"\",'Races, Positions & Points'!CH70)","v":""},{"$f":"IF('Races, Positions & Points'!CI70=\"\",\"\",'Races, Positions & Points'!CI70)","v":""},{"$f":"IF('Races, Positions & Points'!CL70=\"\",\"\",'Races, Positions & Points'!CL70)","v":""},{"$f":"IF('Races, Positions & Points'!CO70=\"\",\"\",'Races, Positions & Points'!CO70)","v":""},{"$f":"IF('Races, Positions & Points'!CR70=\"\",\"\",'Races, Positions & Points'!CR70)","v":""},{"$f":"IF('Races, Positions & Points'!CU70=\"\",\"\",'Races, Positions & Points'!CU70)","v":""},{"$f":"IF('Races, Positions & Points'!CX70=\"\",\"\",'Races, Positions & Points'!CX70)","v":""},{"$f":"IF('Races, Positions & Points'!DA70=\"\",\"\",'Races, Positions & Points'!DA70)","v":""},{"$f":"IF('Races, Positions & Points'!DD70=\"\",\"\",'Races, Positions & Points'!DD70)","v":172.45},{"$f":"IF('Races, Positions & Points'!DG70=\"\",\"\",'Races, Positions & Points'!DG70)","v":""},{"$f":"IF('Races, Positions & Points'!DJ70=\"\",\"\",'Races, Positions & Points'!DJ70)","v":""},{"$f":"IF('Races, Positions & Points'!DM70=\"\",\"\",'Races, Positions & Points'!DM70)","v":""},{"$f":"IF('Races, Positions & Points'!DP70=\"\",\"\",'Races, Positions & Points'!DP70)","v":""},{"$f":"IF('Races, Positions & Points'!DS70=\"\",\"\",'Races, Positions & Points'!DS70)","v":""},{"$f":"IF('Races, Positions & Points'!DV70=\"\",\"\",'Races, Positions & Points'!DV70)","v":""},{"$f":"IF('Races, Positions & Points'!DY70=\"\",\"\",'Races, Positions & Points'!DY70)","v":""},{"$f":"IF('Races, Positions & Points'!EB70=\"\",\"\",'Races, Positions & Points'!EB70)","v":""},{"$f":"IF('Races, Positions & Points'!EE70=\"\",\"\",'Races, Positions & Points'!EE70)","v":57},{"$f":"IF('Races, Positions & Points'!EG70=\"\",\"\",'Races, Positions & Points'!EG70)","v":158.15},{"$f":"IF('Races, Positions & Points'!EJ70=\"\",\"\",'Races, Positions & Points'!EJ70)","v":""},{"$f":"IF('Races, Positions & Points'!EM70=\"\",\"\",'Races, Positions & Points'!EM70)","v":""},{"$f":"IF('Races, Positions & Points'!EP70=\"\",\"\",'Races, Positions & Points'!EP70)","v":""},{"$f":"IF('Races, Positions & Points'!ES70=\"\",\"\",'Races, Positions & Points'!ES70)","v":""},{"$f":"IF('Races, Positions & Points'!EV70=\"\",\"\",'Races, Positions & Points'!EV70)","v":""},{"$f":"IF('Races, Positions & Points'!EY70=\"\",\"\",'Races, Positions & Points'!EY70)","v":""},{"$f":"IF('Races, Positions & Points'!FB70=\"\",\"\",'Races, Positions & Points'!FB70)","v":""},{"$f":"IF('Races, Positions & Points'!FE70=\"\",\"\",'Races, Positions & Points'!FE70)","v":""},{"$f":"IF('Races, Positions & Points'!FH70=\"\",\"\",'Races, Positions & Points'!FH70)","v":""},{"$f":"IF('Races, Positions & Points'!FI70=\"\",\"\",'Races, Positions & Points'!FI70)","v":""},null,0,1,0,4,0,1,null,{"$f":"'Races, Positions & Points'!E70","v":19379},{"$f":"'Races, Positions & Points'!G70","v":238.89},123.46000000000001,153.16999999999999,138.32,181.18,148.15,138.32,286.67,138.32,null,"","","",238.89,"",238.89,286.67,286.67,null,"","","","",153.16999999999999,172.45,123.46000000000001,"","","","",158.15,"","","","",null,153.16999999999999,158.15,155.66,183.80399999999997,null,"","","","",null,"","","",153.16999999999999,172.45,"DSQ","","",158.15,""]
[{"$f":"'Races, Positions & Points'!A71","v":"Samuel Doherty"},{"$f":"IF('Races, Positions & Points'!AB71=\"\",\"\",'Races, Positions & Points'!AB71)","v":""},{"$f":"IF('Races, Positions & Points'!AD71=\"\",\"\",'Races, Positions & Points'!AD71)","v":""},{"$f":"IF('Races, Positions & Points'!AG71=\"\",\"\",'Races, Positions & Points'!AG71)","v":""},{"$f":"IF('Races, Positions & Points'!AJ71=\"\",\"\",'Races, Positions & Points'!AJ71)","v":""},{"$f":"IF('Races, Positions & Points'!AK71=\"\",\"\",'Races, Positions & Points'!AK71)","v":""},{"$f":"IF('Races, Positions & Points'!AN71=\"\",\"\",'Races, Positions & Points'!AN71)","v":""},{"$f":"IF('Races, Positions & Points'!AO71=\"\",\"\",'Races, Positions & Points'!AO71)","v":""},{"$f":"IF('Races, Positions & Points'!AR71=\"\",\"\",'Races, Positions & Points'!AR71)","v":""},{"$f":"IF('Races, Positions & Points'!AU71=\"\",\"\",'Races, Positions & Points'!AU71)","v":""},{"$f":"IF('Races, Positions & Points'!AX71=\"\",\"\",'Races, Positions & Points'!AX71)","v":""},{"$f":"IF('Races, Positions & Points'!BA71=\"\",\"\",'Races, Positions & Points'!BA71)","v":""},{"$f":"IF('Races, Positions & Points'!BD71=\"\",\"\",'Races, Positions & Points'!BD71)","v":""},{"$f":"IF('Races, Positions & Points'!BG71=\"\",\"\",'Races, Positions & Points'!BG71)","v":""},{"$f":"IF('Races, Positions & Points'!BJ71=\"\",\"\",'Races, Positions & Points'!BJ71)","v":""},{"$f":"IF('Races, Positions & Points'!BM71=\"\",\"\",'Races, Positions & Points'!BM71)","v":""},{"$f":"IF('Races, Positions & Points'!BP71=\"\",\"\",'Races, Positions & Points'!BP71)","v":""},{"$f":"IF('Races, Positions & Points'!BS71=\"\",\"\",'Races, Positions & Points'!BS71)","v":""},{"$f":"IF('Races, Positions & Points'!BV71=\"\",\"\",'Races, Positions & Points'!BV71)","v":""},{"$f":"IF('Races, Positions & Points'!BY71=\"\",\"\",'Races, Positions & Points'!BY71)","v":""},{"$f":"IF('Races, Positions & Points'!CB71=\"\",\"\",'Races, Positions & Points'!CB71)","v":""},{"$f":"IF('Races, Positions & Points'!CE71=\"\",\"\",'Races, Positions & Points'!CE71)","v":""},{"$f":"IF('Races, Positions & Points'!CH71=\"\",\"\",'Races, Positions & Points'!CH71)","v":""},{"$f":"IF('Races, Positions & Points'!CI71=\"\",\"\",'Races, Positions & Points'!CI71)","v":""},{"$f":"IF('Races, Positions & Points'!CL71=\"\",\"\",'Races, Positions & Points'!CL71)","v":""},{"$f":"IF('Races, Positions & Points'!CO71=\"\",\"\",'Races, Positions & Points'!CO71)","v":""},{"$f":"IF('Races, Positions & Points'!CR71=\"\",\"\",'Races, Positions & Points'!CR71)","v":""},{"$f":"IF('Races, Positions & Points'!CU71=\"\",\"\",'Races, Positions & Points'!CU71)","v":""},{"$f":"IF('Races, Positions & Points'!CX71=\"\",\"\",'Races, Positions & Points'!CX71)","v":""},{"$f":"IF('Races, Positions & Points'!DA71=\"\",\"\",'Races, Positions & Points'!DA71)","v":""},{"$f":"IF('Races, Positions & Points'!DD71=\"\",\"\",'Races, Positions & Points'!DD71)","v":""},{"$f":"IF('Races, Positions & Points'!DG71=\"\",\"\",'Races, Positions & Points'!DG71)","v":""},{"$f":"IF('Races, Positions & Points'!DJ71=\"\",\"\",'Races, Positions & Points'!DJ71)","v":""},{"$f":"IF('Races, Positions & Points'!DM71=\"\",\"\",'Races, Positions & Points'!DM71)","v":""},{"$f":"IF('Races, Positions & Points'!DP71=\"\",\"\",'Races, Positions & Points'!DP71)","v":""},{"$f":"IF('Races, Positions & Points'!DS71=\"\",\"\",'Races, Positions & Points'!DS71)","v":""},{"$f":"IF('Races, Positions & Points'!DV71=\"\",\"\",'Races, Positions & Points'!DV71)","v":""},{"$f":"IF('Races, Positions & Points'!DY71=\"\",\"\",'Races, Positions & Points'!DY71)","v":""},{"$f":"IF('Races, Positions & Points'!EB71=\"\",\"\",'Races, Positions & Points'!EB71)","v":""},{"$f":"IF('Races, Positions & Points'!EE71=\"\",\"\",'Races, Positions & Points'!EE71)","v":""},{"$f":"IF('Races, Positions & Points'!EG71=\"\",\"\",'Races, Positions & Points'!EG71)","v":""},{"$f":"IF('Races, Positions & Points'!EJ71=\"\",\"\",'Races, Positions & Points'!EJ71)","v":""},{"$f":"IF('Races, Positions & Points'!EM71=\"\",\"\",'Races, Positions & Points'!EM71)","v":""},{"$f":"IF('Races, Positions & Points'!EP71=\"\",\"\",'Races, Positions & Points'!EP71)","v":""},{"$f":"IF('Races, Positions & Points'!ES71=\"\",\"\",'Races, Positions & Points'!ES71)","v":""},{"$f":"IF('Races, Positions & Points'!EV71=\"\",\"\",'Races, Positions & Points'!EV71)","v":""},{"$f":"IF('Races, Positions & Points'!EY71=\"\",\"\",'Races, Positions & Points'!EY71)","v":""},{"$f":"IF('Races, Positions & Points'!FB71=\"\",\"\",'Races, Positions & Points'!FB71)","v":""},{"$f":"IF('Races, Positions & Points'!FE71=\"\",\"\",'Races, Positions & Points'!FE71)","v":""},{"$f":"IF('Races, Positions & Points'!FH71=\"\",\"\",'Races, Positions & Points'!FH71)","v":""},{"$f":"IF('Races, Positions & Points'!FI71=\"\",\"\",'Races, Positions & Points'!FI71)","v":""},null,0,0,0,0,0,0,null,{"$f":"'Races, Positions & Points'!E71","v":19572},{"$f":"'Races, Positions & Points'!G71","v":257.08999999999997},"","","",257.08999999999997,"",257.08999999999997,308.51,308.51,null,"","","",257.08999999999997,"",257.08999999999997,308.51,308.51,null,"","","","","","","","","","","","","","","","",null,"","","","",null,"","","","",null,"","","","","","","","","",""]
[{"$f":"'Races, Positions & Points'!A72","v":"Karl Hancock"},{"$f":"IF('Races, Positions & Points'!AB72=\"\",\"\",'Races, Positions & Points'!AB72)","v":""},{"$f":"IF('Races, Positions & Points'!AD72=\"\",\"\",'Races, Positions & Points'!AD72)","v":""},{"$f":"IF('Races, Positions & Points'!AG72=\"\",\"\",'Races, Positions & Points'!AG72)","v":""},{"$f":"IF('Races, Positions & Points'!AJ72=\"\",\"\",'Races, Positions & Points'!AJ72)","v":""},{"$f":"IF('Races, Positions & Points'!AK72=\"\",\"\",'Races, Positions & Points'!AK72)","v":""},{"$f":"IF('Races, Positions & Points'!AN72=\"\",\"\",'Races, Positions & Points'!AN72)","v":""},{"$f":"IF('Races, Positions & Points'!AO72=\"\",\"\",'Races, Positions & Points'!AO72)","v":""},{"$f":"IF('Races, Positions & Points'!AR72=\"\",\"\",'Races, Positions & Points'!AR72)","v":""},{"$f":"IF('Races, Positions & Points'!AU72=\"\",\"\",'Races, Positions & Points'!AU72)","v":""},{"$f":"IF('Races, Positions & Points'!AX72=\"\",\"\",'Races, Positions & Points'!AX72)","v":""},{"$f":"IF('Races, Positions & Points'!BA72=\"\",\"\",'Races, Positions & Points'!BA72)","v":""},{"$f":"IF('Races, Positions & Points'!BD72=\"\",\"\",'Races, Positions & Points'!BD72)","v":""},{"$f":"IF('Races, Positions & Points'!BG72=\"\",\"\",'Races, Positions & Points'!BG72)","v":""},{"$f":"IF('Races, Positions & Points'!BJ72=\"\",\"\",'Races, Positions & Points'!BJ72)","v":""},{"$f":"IF('Races, Positions & Points'!BM72=\"\",\"\",'Races, Positions & Points'!BM72)","v":""},{"$f":"IF('Races, Positions & Points'!BP72=\"\",\"\",'Races, Positions & Points'!BP72)","v":""},{"$f":"IF('Races, Positions & Points'!BS72=\"\",\"\",'Races, Positions & Points'!BS72)","v":""},{"$f":"IF('Races, Positions & Points'!BV72=\"\",\"\",'Races, Positions & Points'!BV72)","v":""},{"$f":"IF('Races, Positions & Points'!BY72=\"\",\"\",'Races, Positions & Points'!BY72)","v":""},{"$f":"IF('Races, Positions & Points'!CB72=\"\",\"\",'Races, Positions & Points'!CB72)","v":""},{"$f":"IF('Races, Positions & Points'!CE72=\"\",\"\",'Races, Positions & Points'!CE72)","v":""},{"$f":"IF('Races, Positions & Points'!CH72=\"\",\"\",'Races, Positions & Points'!CH72)","v":""},{"$f":"IF('Races, Positions & Points'!CI72=\"\",\"\",'Races, Positions & Points'!CI72)","v":""},{"$f":"IF('Races, Positions & Points'!CL72=\"\",\"\",'Races, Positions & Points'!CL72)","v":""},{"$f":"IF('Races, Positions & Points'!CO72=\"\",\"\",'Races, Positions & Points'!CO72)","v":169.53},{"$f":"IF('Races, Positions & Points'!CR72=\"\",\"\",'Races, Positions & Points'!CR72)","v":""},{"$f":"IF('Races, Positions & Points'!CU72=\"\",\"\",'Races, Positions & Points'!CU72)","v":""},{"$f":"IF('Races, Positions & Points'!CX72=\"\",\"\",'Races, Positions & Points'!CX72)","v":""},{"$f":"IF('Races, Positions & Points'!DA72=\"\",\"\",'Races, Positions & Points'!DA72)","v":""},{"$f":"IF('Races, Positions & Points'!DD72=\"\",\"\",'Races, Positions & Points'!DD72)","v":""},{"$f":"IF('Races, Positions & Points'!DG72=\"\",\"\",'Races, Positions & Points'!DG72)","v":""},{"$f":"IF('Races, Positions & Points'!DJ72=\"\",\"\",'Races, Positions & Points'!DJ72)","v":""},{"$f":"IF('Races, Positions & Points'!DM72=\"\",\"\",'Races, Positions & Points'!DM72)","v":""},{"$f":"IF('Races, Positions & Points'!DP72=\"\",\"\",'Races, Positions & Points'!DP72)","v":""},{"$f":"IF('Races, Positions & Points'!DS72=\"\",\"\",'Races, Positions & Points'!DS72)","v":""},{"$f":"IF('Races, Positions & Points'!DV72=\"\",\"\",'Races, Positions & Points'!DV72)","v":""},{"$f":"IF('Races, Positions & Points'!DY72=\"\",\"\",'Races, Positions & Points'!DY72)","v":""},{"$f":"IF('Races, Positions & Points'!EB72=\"\",\"\",'Races, Positions & Points'!EB72)","v":""},{"$f":"IF('Races, Positions & Points'!EE72=\"\",\"\",'Races, Positions & Points'!EE72)","v":""},{"$f":"IF('Races, Positions & Points'!EG72=\"\",\"\",'Races, Positions & Points'!EG72)","v":""},{"$f":"IF('Races, Positions & Points'!EJ72=\"\",\"\",'Races, Positions & Points'!EJ72)","v":""},{"$f":"IF('Races, Positions & Points'!EM72=\"\",\"\",'Races, Positions & Points'!EM72)","v":""},{"$f":"IF('Races, Positions & Points'!EP72=\"\",\"\",'Races, Positions & Points'!EP72)","v":""},{"$f":"IF('Races, Positions & Points'!ES72=\"\",\"\",'Races, Positions & Points'!ES72)","v":""},{"$f":"IF('Races, Positions & Points'!EV72=\"\",\"\",'Races, Positions & Points'!EV72)","v":""},{"$f":"IF('Races, Positions & Points'!EY72=\"\",\"\",'Races, Positions & Points'!EY72)","v":""},{"$f":"IF('Races, Positions & Points'!FB72=\"\",\"\",'Races, Positions & Points'!FB72)","v":""},{"$f":"IF('Races, Positions & Points'!FE72=\"\",\"\",'Races, Positions & Points'!FE72)","v":""},{"$f":"IF('Races, Positions & Points'!FH72=\"\",\"\",'Races, Positions & Points'!FH72)","v":""},{"$f":"IF('Races, Positions & Points'!FI72=\"\",\"\",'Races, Positions & Points'!FI72)","v":""},null,0,0,1,0,0,0,null,{"$f":"'Races, Positions & Points'!E72","v":18616},{"$f":"'Races, Positions & Points'!G72","v":259.37},"","","",259.37,"",259.37,311.24,311.24,null,169.53,"","",214.45,203.44,203.44,311.24,203.44,null,"",169.53,"","","","","","","","","","","","","","",null,"","","","",null,169.53,"","",203.43600000000001,null,"",169.53,"","","","","","","",""]
[{"$f":"'Races, Positions & Points'!A73","v":"John Elgy"},{"$f":"IF('Races, Positions & Points'!AB73=\"\",\"\",'Races, Positions & Points'!AB73)","v":""},{"$f":"IF('Races, Positions & Points'!AD73=\"\",\"\",'Races, Positions & Points'!AD73)","v":""},{"$f":"IF('Races, Positions & Points'!AG73=\"\",\"\",'Races, Positions & Points'!AG73)","v":""},{"$f":"IF('Races, Positions & Points'!AJ73=\"\",\"\",'Races, Positions & Points'!AJ73)","v":""},{"$f":"IF('Races, Positions & Points'!AK73=\"\",\"\",'Races, Positions & Points'!AK73)","v":""},{"$f":"IF('Races, Positions & Points'!AN73=\"\",\"\",'Races, Positions & Points'!AN73)","v":""},{"$f":"IF('Races, Positions & Points'!AO73=\"\",\"\",'Races, Positions & Points'!AO73)","v":""},{"$f":"IF('Races, Positions & Points'!AR73=\"\",\"\",'Races, Positions & Points'!AR73)","v":""},{"$f":"IF('Races, Positions & Points'!AU73=\"\",\"\",'Races, Positions & Points'!AU73)","v":""},{"$f":"IF('Races, Positions & Points'!AX73=\"\",\"\",'Races, Positions & Points'!AX73)","v":""},{"$f":"IF('Races, Positions & Points'!BA73=\"\",\"\",'Races, Positions & Points'!BA73)","v":""},{"$f":"IF('Races, Positions & Points'!BD73=\"\",\"\",'Races, Positions & Points'!BD73)","v":""},{"$f":"IF('Races, Positions & Points'!BG73=\"\",\"\",'Races, Positions & Points'!BG73)","v":""},{"$f":"IF('Races, Positions & Points'!BJ73=\"\",\"\",'Races, Positions & Points'!BJ73)","v":""},{"$f":"IF('Races, Positions & Points'!BM73=\"\",\"\",'Races, Positions & Points'!BM73)","v":""},{"$f":"IF('Races, Positions & Points'!BP73=\"\",\"\",'Races, Positions & Points'!BP73)","v":""},{"$f":"IF('Races, Positions & Points'!BS73=\"\",\"\",'Races, Positions & Points'!BS73)","v":""},{"$f":"IF('Races, Positions & Points'!BV73=\"\",\"\",'Races, Positions & Points'!BV73)","v":""},{"$f":"IF('Races, Positions & Points'!BY73=\"\",\"\",'Races, Positions & Points'!BY73)","v":""},{"$f":"IF('Races, Positions & Points'!CB73=\"\",\"\",'Races, Positions & Points'!CB73)","v":""},{"$f":"IF('Races, Positions & Points'!CE73=\"\",\"\",'Races, Positions & Points'!CE73)","v":""},{"$f":"IF('Races, Positions & Points'!CH73=\"\",\"\",'Races, Positions & Points'!CH73)","v":""},{"$f":"IF('Races, Positions & Points'!CI73=\"\",\"\",'Races, Positions & Points'!CI73)","v":""},{"$f":"IF('Races, Positions & Points'!CL73=\"\",\"\",'Races, Positions & Points'!CL73)","v":""},{"$f":"IF('Races, Positions & Points'!CO73=\"\",\"\",'Races, Positions & Points'!CO73)","v":""},{"$f":"IF('Races, Positions & Points'!CR73=\"\",\"\",'Races, Positions & Points'!CR73)","v":""},{"$f":"IF('Races, Positions & Points'!CU73=\"\",\"\",'Races, Positions & Points'!CU73)","v":""},{"$f":"IF('Races, Positions & Points'!CX73=\"\",\"\",'Races, Positions & Points'!CX73)","v":""},{"$f":"IF('Races, Positions & Points'!DA73=\"\",\"\",'Races, Positions & Points'!DA73)","v":""},{"$f":"IF('Races, Positions & Points'!DD73=\"\",\"\",'Races, Positions & Points'!DD73)","v":""},{"$f":"IF('Races, Positions & Points'!DG73=\"\",\"\",'Races, Positions & Points'!DG73)","v":""},{"$f":"IF('Races, Positions & Points'!DJ73=\"\",\"\",'Races, Positions & Points'!DJ73)","v":""},{"$f":"IF('Races, Positions & Points'!DM73=\"\",\"\",'Races, Positions & Points'!DM73)","v":""},{"$f":"IF('Races, Positions & Points'!DP73=\"\",\"\",'Races, Positions & Points'!DP73)","v":""},{"$f":"IF('Races, Positions & Points'!DS73=\"\",\"\",'Races, Positions & Points'!DS73)","v":""},{"$f":"IF('Races, Positions & Points'!DV73=\"\",\"\",'Races, Positions & Points'!DV73)","v":""},{"$f":"IF('Races, Positions & Points'!DY73=\"\",\"\",'Races, Positions & Points'!DY73)","v":""},{"$f":"IF('Races, Positions & Points'!EB73=\"\",\"\",'Races, Positions & Points'!EB73)","v":""},{"$f":"IF('Races, Positions & Points'!EE73=\"\",\"\",'Races, Positions & Points'!EE73)","v":""},{"$f":"IF('Races, Positions & Points'!EG73=\"\",\"\",'Races, Positions & Points'!EG73)","v":""},{"$f":"IF('Races, Positions & Points'!EJ73=\"\",\"\",'Races, Positions & Points'!EJ73)","v":""},{"$f":"IF('Races, Positions & Points'!EM73=\"\",\"\",'Races, Positions & Points'!EM73)","v":""},{"$f":"IF('Races, Positions & Points'!EP73=\"\",\"\",'Races, Positions & Points'!EP73)","v":""},{"$f":"IF('Races, Positions & Points'!ES73=\"\",\"\",'Races, Positions & Points'!ES73)","v":""},{"$f":"IF('Races, Positions & Points'!EV73=\"\",\"\",'Races, Positions & Points'!EV73)","v":""},{"$f":"IF('Races, Positions & Points'!EY73=\"\",\"\",'Races, Positions & Points'!EY73)","v":""},{"$f":"IF('Races, Positions & Points'!FB73=\"\",\"\",'Races, Positions & Points'!FB73)","v":""},{"$f":"IF('Races, Positions & Points'!FE73=\"\",\"\",'Races, Positions & Points'!FE73)","v":""},{"$f":"IF('Races, Positions & Points'!FH73=\"\",\"\",'Races, Positions & Points'!FH73)","v":""},{"$f":"IF('Races, Positions & Points'!FI73=\"\",\"\",'Races, Positions & Points'!FI73)","v":""},null,0,0,0,0,0,0,null,{"$f":"'Races, Positions & Points'!E73","v":19164},{"$f":"'Races, Positions & Points'!G73","v":332.56},"","","",332.56,"",332.56,399.07,399.07,null,"","","",332.56,"",332.56,399.07,399.07,null,"","","","","","","","","","","","","","","","",null,"","","","",null,"","","","",null,"","","","","","","","","",""]
[{"$f":"'Races, Positions & Points'!A74","v":"Matthew Kirkland"},{"$f":"IF('Races, Positions & Points'!AB74=\"\",\"\",'Races, Positions & Points'!AB74)","v":""},{"$f":"IF('Races, Positions & Points'!AD74=\"\",\"\",'Races, Positions & Points'!AD74)","v":""},{"$f":"IF('Races, Positions & Points'!AG74=\"\",\"\",'Races, Positions & Points'!AG74)","v":""},{"$f":"IF('Races, Positions & Points'!AJ74=\"\",\"\",'Races, Positions & Points'!AJ74)","v":""},{"$f":"IF('Races, Positions & Points'!AK74=\"\",\"\",'Races, Positions & Points'!AK74)","v":""},{"$f":"IF('Races, Positions & Points'!AN74=\"\",\"\",'Races, Positions & Points'!AN74)","v":""},{"$f":"IF('Races, Positions & Points'!AO74=\"\",\"\",'Races, Positions & Points'!AO74)","v":""},{"$f":"IF('Races, Positions & Points'!AR74=\"\",\"\",'Races, Positions & Points'!AR74)","v":""},{"$f":"IF('Races, Positions & Points'!AU74=\"\",\"\",'Races, Positions & Points'!AU74)","v":""},{"$f":"IF('Races, Positions & Points'!AX74=\"\",\"\",'Races, Positions & Points'!AX74)","v":""},{"$f":"IF('Races, Positions & Points'!BA74=\"\",\"\",'Races, Positions & Points'!BA74)","v":""},{"$f":"IF('Races, Positions & Points'!BD74=\"\",\"\",'Races, Positions & Points'!BD74)","v":""},{"$f":"IF('Races, Positions & Points'!BG74=\"\",\"\",'Races, Positions & Points'!BG74)","v":""},{"$f":"IF('Races, Positions & Points'!BJ74=\"\",\"\",'Races, Positions & Points'!BJ74)","v":""},{"$f":"IF('Races, Positions & Points'!BM74=\"\",\"\",'Races, Positions & Points'!BM74)","v":""},{"$f":"IF('Races, Positions & Points'!BP74=\"\",\"\",'Races, Positions & Points'!BP74)","v":""},{"$f":"IF('Races, Positions & Points'!BS74=\"\",\"\",'Races, Positions & Points'!BS74)","v":""},{"$f":"IF('Races, Positions & Points'!BV74=\"\",\"\",'Races, Positions & Points'!BV74)","v":""},{"$f":"IF('Races, Positions & Points'!BY74=\"\",\"\",'Races, Positions & Points'!BY74)","v":""},{"$f":"IF('Races, Positions & Points'!CB74=\"\",\"\",'Races, Positions & Points'!CB74)","v":""},{"$f":"IF('Races, Positions & Points'!CE74=\"\",\"\",'Races, Positions & Points'!CE74)","v":""},{"$f":"IF('Races, Positions & Points'!CH74=\"\",\"\",'Races, Positions & Points'!CH74)","v":""},{"$f":"IF('Races, Positions & Points'!CI74=\"\",\"\",'Races, Positions & Points'!CI74)","v":""},{"$f":"IF('Races, Positions & Points'!CL74=\"\",\"\",'Races, Positions & Points'!CL74)","v":""},{"$f":"IF('Races, Positions & Points'!CO74=\"\",\"\",'Races, Positions & Points'!CO74)","v":""},{"$f":"IF('Races, Positions & Points'!CR74=\"\",\"\",'Races, Positions & Points'!CR74)","v":""},{"$f":"IF('Races, Positions & Points'!CU74=\"\",\"\",'Races, Positions & Points'!CU74)","v":""},{"$f":"IF('Races, Positions & Points'!CX74=\"\",\"\",'Races, Positions & Points'!CX74)","v":""},{"$f":"IF('Races, Positions & Points'!DA74=\"\",\"\",'Races, Positions & Points'!DA74)","v":""},{"$f":"IF('Races, Positions & Points'!DD74=\"\",\"\",'Races, Positions & Points'!DD74)","v":""},{"$f":"IF('Races, Positions & Points'!DG74=\"\",\"\",'Races, Positions & Points'!DG74)","v":""},{"$f":"IF('Races, Positions & Points'!DJ74=\"\",\"\",'Races, Positions & Points'!DJ74)","v":""},{"$f":"IF('Races, Positions & Points'!DM74=\"\",\"\",'Races, Positions & Points'!DM74)","v":""},{"$f":"IF('Races, Positions & Points'!DP74=\"\",\"\",'Races, Positions & Points'!DP74)","v":""},{"$f":"IF('Races, Positions & Points'!DS74=\"\",\"\",'Races, Positions & Points'!DS74)","v":""},{"$f":"IF('Races, Positions & Points'!DV74=\"\",\"\",'Races, Positions & Points'!DV74)","v":""},{"$f":"IF('Races, Positions & Points'!DY74=\"\",\"\",'Races, Positions & Points'!DY74)","v":""},{"$f":"IF('Races, Positions & Points'!EB74=\"\",\"\",'Races, Positions & Points'!EB74)","v":""},{"$f":"IF('Races, Positions & Points'!EE74=\"\",\"\",'Races, Positions & Points'!EE74)","v":""},{"$f":"IF('Races, Positions & Points'!EG74=\"\",\"\",'Races, Positions & Points'!EG74)","v":""},{"$f":"IF('Races, Positions & Points'!EJ74=\"\",\"\",'Races, Positions & Points'!EJ74)","v":""},{"$f":"IF('Races, Positions & Points'!EM74=\"\",\"\",'Races, Positions & Points'!EM74)","v":""},{"$f":"IF('Races, Positions & Points'!EP74=\"\",\"\",'Races, Positions & Points'!EP74)","v":""},{"$f":"IF('Races, Positions & Points'!ES74=\"\",\"\",'Races, Positions & Points'!ES74)","v":""},{"$f":"IF('Races, Positions & Points'!EV74=\"\",\"\",'Races, Positions & Points'!EV74)","v":""},{"$f":"IF('Races, Positions & Points'!EY74=\"\",\"\",'Races, Positions & Points'!EY74)","v":""},{"$f":"IF('Races, Positions & Points'!FB74=\"\",\"\",'Races, Positions & Points'!FB74)","v":""},{"$f":"IF('Races, Positions & Points'!FE74=\"\",\"\",'Races, Positions & Points'!FE74)","v":""},{"$f":"IF('Races, Positions & Points'!FH74=\"\",\"\",'Races, Positions & Points'!FH74)","v":""},{"$f":"IF('Races, Positions & Points'!FI74=\"\",\"\",'Races, Positions & Points'!FI74)","v":""},null,0,0,0,0,0,0,null,{"$f":"'Races, Positions & Points'!E74","v":21633},{"$f":"'Races, Positions & Points'!G74","v":345.98},"","","",345.98,"",345.98,415.18,415.18,null,"","","",345.98,"",345.98,415.18,415.18,null,"","","","","","","","","","","","","","","","",null,"","","","",null,"","","","",null,"","","","","","","","","",""]
[{"$f":"'Races, Positions & Points'!A75","v":"Phil Deller"},{"$f":"IF('Races, Positions & Points'!AB75=\"\",\"\",'Races, Positions & Points'!AB75)","v":""},{"$f":"IF('Races, Positions & Points'!AD75=\"\",\"\",'Races, Positions & Points'!AD75)","v":""},{"$f":"IF('Races, Positions & Points'!AG75=\"\",\"\",'Races, Positions & Points'!AG75)","v":""},{"$f":"IF('Races, Positions & Points'!AJ75=\"\",\"\",'Races, Positions & Points'!AJ75)","v":""},{"$f":"IF('Races, Positions & Points'!AK75=\"\",\"\",'Races, Positions & Points'!AK75)","v":""},{"$f":"IF('Races, Positions & Points'!AN75=\"\",\"\",'Races, Positions & Points'!AN75)","v":""},{"$f":"IF('Races, Positions & Points'!AO75=\"\",\"\",'Races, Positions & Points'!AO75)","v":""},{"$f":"IF('Races, Positions & Points'!AR75=\"\",\"\",'Races, Positions & Points'!AR75)","v":""},{"$f":"IF('Races, Positions & Points'!AU75=\"\",\"\",'Races, Positions & Points'!AU75)","v":""},{"$f":"IF('Races, Positions & Points'!AX75=\"\",\"\",'Races, Positions & Points'!AX75)","v":""},{"$f":"IF('Races, Positions & Points'!BA75=\"\",\"\",'Races, Positions & Points'!BA75)","v":""},{"$f":"IF('Races, Positions & Points'!BD75=\"\",\"\",'Races, Positions & Points'!BD75)","v":""},{"$f":"IF('Races, Positions & Points'!BG75=\"\",\"\",'Races, Positions & Points'!BG75)","v":""},{"$f":"IF('Races, Positions & Points'!BJ75=\"\",\"\",'Races, Positions & Points'!BJ75)","v":""},{"$f":"IF('Races, Positions & Points'!BM75=\"\",\"\",'Races, Positions & Points'!BM75)","v":""},{"$f":"IF('Races, Positions & Points'!BP75=\"\",\"\",'Races, Positions & Points'!BP75)","v":""},{"$f":"IF('Races, Positions & Points'!BS75=\"\",\"\",'Races, Positions & Points'!BS75)","v":""},{"$f":"IF('Races, Positions & Points'!BV75=\"\",\"\",'Races, Positions & Points'!BV75)","v":""},{"$f":"IF('Races, Positions & Points'!BY75=\"\",\"\",'Races, Positions & Points'!BY75)","v":""},{"$f":"IF('Races, Positions & Points'!CB75=\"\",\"\",'Races, Positions & Points'!CB75)","v":""},{"$f":"IF('Races, Positions & Points'!CE75=\"\",\"\",'Races, Positions & Points'!CE75)","v":""},{"$f":"IF('Races, Positions & Points'!CH75=\"\",\"\",'Races, Positions & Points'!CH75)","v":""},{"$f":"IF('Races, Positions & Points'!CI75=\"\",\"\",'Races, Positions & Points'!CI75)","v":""},{"$f":"IF('Races, Positions & Points'!CL75=\"\",\"\",'Races, Positions & Points'!CL75)","v":""},{"$f":"IF('Races, Positions & Points'!CO75=\"\",\"\",'Races, Positions & Points'!CO75)","v":""},{"$f":"IF('Races, Positions & Points'!CR75=\"\",\"\",'Races, Positions & Points'!CR75)","v":""},{"$f":"IF('Races, Positions & Points'!CU75=\"\",\"\",'Races, Positions & Points'!CU75)","v":""},{"$f":"IF('Races, Positions & Points'!CX75=\"\",\"\",'Races, Positions & Points'!CX75)","v":""},{"$f":"IF('Races, Positions & Points'!DA75=\"\",\"\",'Races, Positions & Points'!DA75)","v":""},{"$f":"IF('Races, Positions & Points'!DD75=\"\",\"\",'Races, Positions & Points'!DD75)","v":""},{"$f":"IF('Races, Positions & Points'!DG75=\"\",\"\",'Races, Positions & Points'!DG75)","v":""},{"$f":"IF('Races, Positions & Points'!DJ75=\"\",\"\",'Races, Positions & Points'!DJ75)","v":""},{"$f":"IF('Races, Positions & Points'!DM75=\"\",\"\",'Races, Positions & Points'!DM75)","v":""},{"$f":"IF('Races, Positions & Points'!DP75=\"\",\"\",'Races, Positions & Points'!DP75)","v":""},{"$f":"IF('Races, Positions & Points'!DS75=\"\",\"\",'Races, Positions & Points'!DS75)","v":""},{"$f":"IF('Races, Positions & Points'!DV75=\"\",\"\",'Races, Positions & Points'!DV75)","v":""},{"$f":"IF('Races, Positions & Points'!DY75=\"\",\"\",'Races, Positions & Points'!DY75)","v":""},{"$f":"IF('Races, Positions & Points'!EB75=\"\",\"\",'Races, Positions & Points'!EB75)","v":""},{"$f":"IF('Races, Positions & Points'!EE75=\"\",\"\",'Races, Positions & Points'!EE75)","v":""},{"$f":"IF('Races, Positions & Points'!EG75=\"\",\"\",'Races, Positions & Points'!EG75)","v":""},{"$f":"IF('Races, Positions & Points'!EJ75=\"\",\"\",'Races, Positions & Points'!EJ75)","v":""},{"$f":"IF('Races, Positions & Points'!EM75=\"\",\"\",'Races, Positions & Points'!EM75)","v":""},{"$f":"IF('Races, Positions & Points'!EP75=\"\",\"\",'Races, Positions & Points'!EP75)","v":""},{"$f":"IF('Races, Positions & Points'!ES75=\"\",\"\",'Races, Positions & Points'!ES75)","v":""},{"$f":"IF('Races, Positions & Points'!EV75=\"\",\"\",'Races, Positions & Points'!EV75)","v":""},{"$f":"IF('Races, Positions & Points'!EY75=\"\",\"\",'Races, Positions & Points'!EY75)","v":""},{"$f":"IF('Races, Positions & Points'!FB75=\"\",\"\",'Races, Positions & Points'!FB75)","v":""},{"$f":"IF('Races, Positions & Points'!FE75=\"\",\"\",'Races, Positions & Points'!FE75)","v":""},{"$f":"IF('Races, Positions & Points'!FH75=\"\",\"\",'Races, Positions & Points'!FH75)","v":""},{"$f":"IF('Races, Positions & Points'!FI75=\"\",\"\",'Races, Positions & Points'!FI75)","v":""},null,0,0,0,0,0,0,null,{"$f":"'Races, Positions & Points'!E75","v":17039},{"$f":"'Races, Positions & Points'!G75","v":780.34},"","","",780.34,"",780.34,936.41,936.41,null,"","","",780.34,"",780.34,936.41,936.41,null,"","","","","","","","","","","","","","","","",null,"","","","",null,"","","","",null,"","","","","","","","","",""]
[{"$f":"'Races, Positions & Points'!A76","v":"David Hancock"},{"$f":"IF('Races, Positions & Points'!AB76=\"\",\"\",'Races, Positions & Points'!AB76)","v":""},{"$f":"IF('Races, Positions & Points'!AD76=\"\",\"\",'Races, Positions & Points'!AD76)","v":""},{"$f":"IF('Races, Positions & Points'!AG76=\"\",\"\",'Races, Positions & Points'!AG76)","v":""},{"$f":"IF('Races, Positions & Points'!AJ76=\"\",\"\",'Races, Positions & Points'!AJ76)","v":""},{"$f":"IF('Races, Positions & Points'!AK76=\"\",\"\",'Races, Positions & Points'!AK76)","v":""},{"$f":"IF('Races, Positions & Points'!AN76=\"\",\"\",'Races, Positions & Points'!AN76)","v":""},{"$f":"IF('Races, Positions & Points'!AO76=\"\",\"\",'Races, Positions & Points'!AO76)","v":""},{"$f":"IF('Races, Positions & Points'!AR76=\"\",\"\",'Races, Positions & Points'!AR76)","v":""},{"$f":"IF('Races, Positions & Points'!AU76=\"\",\"\",'Races, Positions & Points'!AU76)","v":""},{"$f":"IF('Races, Positions & Points'!AX76=\"\",\"\",'Races, Positions & Points'!AX76)","v":""},{"$f":"IF('Races, Positions & Points'!BA76=\"\",\"\",'Races, Positions & Points'!BA76)","v":""},{"$f":"IF('Races, Positions & Points'!BD76=\"\",\"\",'Races, Positions & Points'!BD76)","v":""},{"$f":"IF('Races, Positions & Points'!BG76=\"\",\"\",'Races, Positions & Points'!BG76)","v":""},{"$f":"IF('Races, Positions & Points'!BJ76=\"\",\"\",'Races, Positions & Points'!BJ76)","v":""},{"$f":"IF('Races, Positions & Points'!BM76=\"\",\"\",'Races, Positions & Points'!BM76)","v":""},{"$f":"IF('Races, Positions & Points'!BP76=\"\",\"\",'Races, Positions & Points'!BP76)","v":""},{"$f":"IF('Races, Positions & Points'!BS76=\"\",\"\",'Races, Positions & Points'!BS76)","v":""},{"$f":"IF('Races, Positions & Points'!BV76=\"\",\"\",'Races, Positions & Points'!BV76)","v":""},{"$f":"IF('Races, Positions & Points'!BY76=\"\",\"\",'Races, Positions & Points'!BY76)","v":""},{"$f":"IF('Races, Positions & Points'!CB76=\"\",\"\",'Races, Positions & Points'!CB76)","v":""},{"$f":"IF('Races, Positions & Points'!CE76=\"\",\"\",'Races, Positions & Points'!CE76)","v":""},{"$f":"IF('Races, Positions & Points'!CH76=\"\",\"\",'Races, Positions & Points'!CH76)","v":""},{"$f":"IF('Races, Positions & Points'!CI76=\"\",\"\",'Races, Positions & Points'!CI76)","v":""},{"$f":"IF('Races, Positions & Points'!CL76=\"\",\"\",'Races, Positions & Points'!CL76)","v":""},{"$f":"IF('Races, Positions & Points'!CO76=\"\",\"\",'Races, Positions & Points'!CO76)","v":""},{"$f":"IF('Races, Positions & Points'!CR76=\"\",\"\",'Races, Positions & Points'!CR76)","v":""},{"$f":"IF('Races, Positions & Points'!CU76=\"\",\"\",'Races, Positions & Points'!CU76)","v":""},{"$f":"IF('Races, Positions & Points'!CX76=\"\",\"\",'Races, Positions & Points'!CX76)","v":""},{"$f":"IF('Races, Positions & Points'!DA76=\"\",\"\",'Races, Positions & Points'!DA76)","v":""},{"$f":"IF('Races, Positions & Points'!DD76=\"\",\"\",'Races, Positions & Points'!DD76)","v":""},{"$f":"IF('Races, Positions & Points'!DG76=\"\",\"\",'Races, Positions & Points'!DG76)","v":""},{"$f":"IF('Races, Positions & Points'!DJ76=\"\",\"\",'Races, Positions & Points'!DJ76)","v":""},{"$f":"IF('Races, Positions & Points'!DM76=\"\",\"\",'Races, Positions & Points'!DM76)","v":""},{"$f":"IF('Races, Positions & Points'!DP76=\"\",\"\",'Races, Positions & Points'!DP76)","v":""},{"$f":"IF('Races, Positions & Points'!DS76=\"\",\"\",'Races, Positions & Points'!DS76)","v":""},{"$f":"IF('Races, Positions & Points'!DV76=\"\",\"\",'Races, Positions & Points'!DV76)","v":""},{"$f":"IF('Races, Positions & Points'!DY76=\"\",\"\",'Races, Positions & Points'!DY76)","v":""},{"$f":"IF('Races, Positions & Points'!EB76=\"\",\"\",'Races, Positions & Points'!EB76)","v":""},{"$f":"IF('Races, Positions & Points'!EE76=\"\",\"\",'Races, Positions & Points'!EE76)","v":""},{"$f":"IF('Races, Positions & Points'!EG76=\"\",\"\",'Races, Positions & Points'!EG76)","v":""},{"$f":"IF('Races, Positions & Points'!EJ76=\"\",\"\",'Races, Positions & Points'!EJ76)","v":""},{"$f":"IF('Races, Positions & Points'!EM76=\"\",\"\",'Races, Positions & Points'!EM76)","v":""},{"$f":"IF('Races, Positions & Points'!EP76=\"\",\"\",'Races, Positions & Points'!EP76)","v":""},{"$f":"IF('Races, Positions & Points'!ES76=\"\",\"\",'Races, Positions & Points'!ES76)","v":""},{"$f":"IF('Races, Positions & Points'!EV76=\"\",\"\",'Races, Positions & Points'!EV76)","v":""},{"$f":"IF('Races, Positions & Points'!EY76=\"\",\"\",'Races, Positions & Points'!EY76)","v":""},{"$f":"IF('Races, Positions & Points'!FB76=\"\",\"\",'Races, Positions & Points'!FB76)","v":""},{"$f":"IF('Races, Positions & Points'!FE76=\"\",\"\",'Races, Positions & Points'!FE76)","v":""},{"$f":"IF('Races, Positions & Points'!FH76=\"\",\"\",'Races, Positions & Points'!FH76)","v":""},{"$f":"IF('Races, Positions & Points'!FI76=\"\",\"\",'Races, Positions & Points'!FI76)","v":""},null,0,0,0,0,0,0,null,{"$f":"'Races, Positions & Points'!E76","v":17037},{"$f":"'Races, Positions & Points'!G76","v":999.99},"","","","","",999.99,999.99,999.99,null,"","","","","",999.99,999.99,999.99,null,"","","","","","","","","","","","","","","","",null,"","","","",null,"","","","",null,"","","","","","","","","",""]
[{"$f":"'Races, Positions & Points'!A77","v":"Joe Bird"},{"$f":"IF('Races, Positions & Points'!AB77=\"\",\"\",'Races, Positions & Points'!AB77)","v":""},{"$f":"IF('Races, Positions & Points'!AD77=\"\",\"\",'Races, Positions & Points'!AD77)","v":""},{"$f":"IF('Races, Positions & Points'!AG77=\"\",\"\",'Races, Positions & Points'!AG77)","v":""},{"$f":"IF('Races, Positions & Points'!AJ77=\"\",\"\",'Races, Positions & Points'!AJ77)","v":""},{"$f":"IF('Races, Positions & Points'!AK77=\"\",\"\",'Races, Positions & Points'!AK77)","v":""},{"$f":"IF('Races, Positions & Points'!AN77=\"\",\"\",'Races, Positions & Points'!AN77)","v":""},{"$f":"IF('Races, Positions & Points'!AO77=\"\",\"\",'Races, Positions & Points'!AO77)","v":""},{"$f":"IF('Races, Positions & Points'!AR77=\"\",\"\",'Races, Positions & Points'!AR77)","v":""},{"$f":"IF('Races, Positions & Points'!AU77=\"\",\"\",'Races, Positions & Points'!AU77)","v":""},{"$f":"IF('Races, Positions & Points'!AX77=\"\",\"\",'Races, Positions & Points'!AX77)","v":""},{"$f":"IF('Races, Positions & Points'!BA77=\"\",\"\",'Races, Positions & Points'!BA77)","v":""},{"$f":"IF('Races, Positions & Points'!BD77=\"\",\"\",'Races, Positions & Points'!BD77)","v":""},{"$f":"IF('Races, Positions & Points'!BG77=\"\",\"\",'Races, Positions & Points'!BG77)","v":""},{"$f":"IF('Races, Positions & Points'!BJ77=\"\",\"\",'Races, Positions & Points'!BJ77)","v":""},{"$f":"IF('Races, Positions & Points'!BM77=\"\",\"\",'Races, Positions & Points'!BM77)","v":""},{"$f":"IF('Races, Positions & Points'!BP77=\"\",\"\",'Races, Positions & Points'!BP77)","v":""},{"$f":"IF('Races, Positions & Points'!BS77=\"\",\"\",'Races, Positions & Points'!BS77)","v":""},{"$f":"IF('Races, Positions & Points'!BV77=\"\",\"\",'Races, Positions & Points'!BV77)","v":""},{"$f":"IF('Races, Positions & Points'!BY77=\"\",\"\",'Races, Positions & Points'!BY77)","v":""},{"$f":"IF('Races, Positions & Points'!CB77=\"\",\"\",'Races, Positions & Points'!CB77)","v":""},{"$f":"IF('Races, Positions & Points'!CE77=\"\",\"\",'Races, Positions & Points'!CE77)","v":""},{"$f":"IF('Races, Positions & Points'!CH77=\"\",\"\",'Races, Positions & Points'!CH77)","v":""},{"$f":"IF('Races, Positions & Points'!CI77=\"\",\"\",'Races, Positions & Points'!CI77)","v":""},{"$f":"IF('Races, Positions & Points'!CL77=\"\",\"\",'Races, Positions & Points'!CL77)","v":""},{"$f":"IF('Races, Positions & Points'!CO77=\"\",\"\",'Races, Positions & Points'!CO77)","v":""},{"$f":"IF('Races, Positions & Points'!CR77=\"\",\"\",'Races, Positions & Points'!CR77)","v":""},{"$f":"IF('Races, Positions & Points'!CU77=\"\",\"\",'Races, Positions & Points'!CU77)","v":""},{"$f":"IF('Races, Positions & Points'!CX77=\"\",\"\",'Races, Positions & Points'!CX77)","v":""},{"$f":"IF('Races, Positions & Points'!DA77=\"\",\"\",'Races, Positions & Points'!DA77)","v":""},{"$f":"IF('Races, Positions & Points'!DD77=\"\",\"\",'Races, Positions & Points'!DD77)","v":""},{"$f":"IF('Races, Positions & Points'!DG77=\"\",\"\",'Races, Positions & Points'!DG77)","v":""},{"$f":"IF('Races, Positions & Points'!DJ77=\"\",\"\",'Races, Positions & Points'!DJ77)","v":""},{"$f":"IF('Races, Positions & Points'!DM77=\"\",\"\",'Races, Positions & Points'!DM77)","v":""},{"$f":"IF('Races, Positions & Points'!DP77=\"\",\"\",'Races, Positions & Points'!DP77)","v":""},{"$f":"IF('Races, Positions & Points'!DS77=\"\",\"\",'Races, Positions & Points'!DS77)","v":""},{"$f":"IF('Races, Positions & Points'!DV77=\"\",\"\",'Races, Positions & Points'!DV77)","v":""},{"$f":"IF('Races, Positions & Points'!DY77=\"\",\"\",'Races, Positions & Points'!DY77)","v":""},{"$f":"IF('Races, Positions & Points'!EB77=\"\",\"\",'Races, Positions & Points'!EB77)","v":""},{"$f":"IF('Races, Positions & Points'!EE77=\"\",\"\",'Races, Positions & Points'!EE77)","v":""},{"$f":"IF('Races, Positions & Points'!EG77=\"\",\"\",'Races, Positions & Points'!EG77)","v":""},{"$f":"IF('Races, Positions & Points'!EJ77=\"\",\"\",'Races, Positions & Points'!EJ77)","v":""},{"$f":"IF('Races, Positions & Points'!EM77=\"\",\"\",'Races, Positions & Points'!EM77)","v":""},{"$f":"IF('Races, Positions & Points'!EP77=\"\",\"\",'Races, Positions & Points'!EP77)","v":""},{"$f":"IF('Races, Positions & Points'!ES77=\"\",\"\",'Races, Positions & Points'!ES77)","v":""},{"$f":"IF('Races, Positions & Points'!EV77=\"\",\"\",'Races, Positions & Points'!EV77)","v":""},{"$f":"IF('Races, Positions & Points'!EY77=\"\",\"\",'Races, Positions & Points'!EY77)","v":""},{"$f":"IF('Races, Positions & Points'!FB77=\"\",\"\",'Races, Positions & Points'!FB77)","v":""},{"$f":"IF('Races, Positions & Points'!FE77=\"\",\"\",'Races, Positions & Points'!FE77)","v":""},{"$f":"IF('Races, Positions & Points'!FH77=\"\",\"\",'Races, Positions & Points'!FH77)","v":""},{"$f":"IF('Races, Positions & Points'!FI77=\"\",\"\",'Races, Positions & Points'!FI77)","v":""},null,0,0,0,0,0,0,null,{"$f":"'Races, Positions & Points'!E77","v":21714},{"$f":"'Races, Positions & Points'!G77","v":999.99},"","","","","",999.99,999.99,999.99,null,"","","","","",999.99,999.99,999.99,null,"","","","","","","","","","","","","","","","",null,"","","","",null,"","","","",null,"","","","","","","","","",""]
[{"$f":"'Races, Positions & Points'!A78","v":"Jake Heard"},{"$f":"IF('Races, Positions & Points'!AB78=\"\",\"\",'Races, Positions & Points'!AB78)","v":""},{"$f":"IF('Races, Positions & Points'!AD78=\"\",\"\",'Races, Positions & Points'!AD78)","v":""},{"$f":"IF('Races, Positions & Points'!AG78=\"\",\"\",'Races, Positions & Points'!AG78)","v":""},{"$f":"IF('Races, Positions & Points'!AJ78=\"\",\"\",'Races, Positions & Points'!AJ78)","v":""},{"$f":"IF('Races, Positions & Points'!AK78=\"\",\"\",'Races, Positions & Points'!AK78)","v":""},{"$f":"IF('Races, Positions & Points'!AN78=\"\",\"\",'Races, Positions & Points'!AN78)","v":""},{"$f":"IF('Races, Positions & Points'!AO78=\"\",\"\",'Races, Positions & Points'!AO78)","v":""},{"$f":"IF('Races, Positions & Points'!AR78=\"\",\"\",'Races, Positions & Points'!AR78)","v":""},{"$f":"IF('Races, Positions & Points'!AU78=\"\",\"\",'Races, Positions & Points'!AU78)","v":""},{"$f":"IF('Races, Positions & Points'!AX78=\"\",\"\",'Races, Positions & Points'!AX78)","v":""},{"$f":"IF('Races, Positions & Points'!BA78=\"\",\"\",'Races, Positions & Points'!BA78)","v":""},{"$f":"IF('Races, Positions & Points'!BD78=\"\",\"\",'Races, Positions & Points'!BD78)","v":""},{"$f":"IF('Races, Positions & Points'!BG78=\"\",\"\",'Races, Positions & Points'!BG78)","v":""},{"$f":"IF('Races, Positions & Points'!BJ78=\"\",\"\",'Races, Positions & Points'!BJ78)","v":""},{"$f":"IF('Races, Positions & Points'!BM78=\"\",\"\",'Races, Positions & Points'!BM78)","v":""},{"$f":"IF('Races, Positions & Points'!BP78=\"\",\"\",'Races, Positions & Points'!BP78)","v":""},{"$f":"IF('Races, Positions & Points'!BS78=\"\",\"\",'Races, Positions & Points'!BS78)","v":""},{"$f":"IF('Races, Positions & Points'!BV78=\"\",\"\",'Races, Positions & Points'!BV78)","v":""},{"$f":"IF('Races, Positions & Points'!BY78=\"\",\"\",'Races, Positions & Points'!BY78)","v":""},{"$f":"IF('Races, Positions & Points'!CB78=\"\",\"\",'Races, Positions & Points'!CB78)","v":""},{"$f":"IF('Races, Positions & Points'!CE78=\"\",\"\",'Races, Positions & Points'!CE78)","v":""},{"$f":"IF('Races, Positions & Points'!CH78=\"\",\"\",'Races, Positions & Points'!CH78)","v":""},{"$f":"IF('Races, Positions & Points'!CI78=\"\",\"\",'Races, Positions & Points'!CI78)","v":""},{"$f":"IF('Races, Positions & Points'!CL78=\"\",\"\",'Races, Positions & Points'!CL78)","v":""},{"$f":"IF('Races, Positions & Points'!CO78=\"\",\"\",'Races, Positions & Points'!CO78)","v":""},{"$f":"IF('Races, Positions & Points'!CR78=\"\",\"\",'Races, Positions & Points'!CR78)","v":""},{"$f":"IF('Races, Positions & Points'!CU78=\"\",\"\",'Races, Positions & Points'!CU78)","v":""},{"$f":"IF('Races, Positions & Points'!CX78=\"\",\"\",'Races, Positions & Points'!CX78)","v":""},{"$f":"IF('Races, Positions & Points'!DA78=\"\",\"\",'Races, Positions & Points'!DA78)","v":""},{"$f":"IF('Races, Positions & Points'!DD78=\"\",\"\",'Races, Positions & Points'!DD78)","v":""},{"$f":"IF('Races, Positions & Points'!DG78=\"\",\"\",'Races, Positions & Points'!DG78)","v":""},{"$f":"IF('Races, Positions & Points'!DJ78=\"\",\"\",'Races, Positions & Points'!DJ78)","v":""},{"$f":"IF('Races, Positions & Points'!DM78=\"\",\"\",'Races, Positions & Points'!DM78)","v":""},{"$f":"IF('Races, Positions & Points'!DP78=\"\",\"\",'Races, Positions & Points'!DP78)","v":""},{"$f":"IF('Races, Positions & Points'!DS78=\"\",\"\",'Races, Positions & Points'!DS78)","v":""},{"$f":"IF('Races, Positions & Points'!DV78=\"\",\"\",'Races, Positions & Points'!DV78)","v":""},{"$f":"IF('Races, Positions & Points'!DY78=\"\",\"\",'Races, Positions & Points'!DY78)","v":""},{"$f":"IF('Races, Positions & Points'!EB78=\"\",\"\",'Races, Positions & Points'!EB78)","v":""},{"$f":"IF('Races, Positions & Points'!EE78=\"\",\"\",'Races, Positions & Points'!EE78)","v":""},{"$f":"IF('Races, Positions & Points'!EG78=\"\",\"\",'Races, Positions & Points'!EG78)","v":""},{"$f":"IF('Races, Positions & Points'!EJ78=\"\",\"\",'Races, Positions & Points'!EJ78)","v":""},{"$f":"IF('Races, Positions & Points'!EM78=\"\",\"\",'Races, Positions & Points'!EM78)","v":""},{"$f":"IF('Races, Positions & Points'!EP78=\"\",\"\",'Races, Positions & Points'!EP78)","v":""},{"$f":"IF('Races, Positions & Points'!ES78=\"\",\"\",'Races, Positions & Points'!ES78)","v":""},{"$f":"IF('Races, Positions & Points'!EV78=\"\",\"\",'Races, Positions & Points'!EV78)","v":""},{"$f":"IF('Races, Positions & Points'!EY78=\"\",\"\",'Races, Positions & Points'!EY78)","v":""},{"$f":"IF('Races, Positions & Points'!FB78=\"\",\"\",'Races, Positions & Points'!FB78)","v":""},{"$f":"IF('Races, Positions & Points'!FE78=\"\",\"\",'Races, Positions & Points'!FE78)","v":""},{"$f":"IF('Races, Positions & Points'!FH78=\"\",\"\",'Races, Positions & Points'!FH78)","v":""},{"$f":"IF('Races, Positions & Points'!FI78=\"\",\"\",'Races, Positions & Points'!FI78)","v":""},null,0,0,0,0,0,0,null,{"$f":"'Races, Positions & Points'!E78","v":21075},{"$f":"'Races, Positions & Points'!G78","v":999.99},"","","","","",999.99,999.99,999.99,null,"","","","","",999.99,999.99,999.99,null,"",{"$f":"IF(MIN(E76,F76,G76,H76,Z76,AF76,AG76,AP76,AQ76,AU76)>0,MIN(E76,F76,G76,H76,Z76,AF76,AG76,AP76,AQ76,AU76),\"\")","v":""},{"$f":"IF(MIN(T76,V76)>0,MIN(T76,V76),\"\")","v":""},{"$f":"IF(MIN(W76,X76)>0,MIN(W76,X76),\"\")","v":""},{"$f":"IF(MIN(B76,M76,N76,AR76,AS76)>0,MIN(B76,M76,N76,AR76,AS76),\"\")","v":""},{"$f":"IF(MIN(D76,O76,AB76,AC76,AE76)>0,MIN(D76,O76,AB76,AC76,AE76),\"\")","v":""},{"$f":"IF(MIN(I76,J76)>0,MIN(I76,J76),\"\")","v":""},"",{"$f":"IF(MIN(S76,AM76,AT76,AY76)>0,MIN(S76,AM76,AT76,AY76),\"\")","v":""},{"$f":"IF(MIN(P76,R76)>0,MIN(P76,R76),\"\")","v":""},"","","","","",{"$f":"IF(MIN(AV76,AW76)>0,MIN(AV76,AW76),\"\")","v":""},null,"","","","",null,"","","","",null,"",{"$f":"IF(MIN(Z76,AF76,AG76,AP76,AQ76,AU76)>0,MIN(Z76,AF76,AG76,AP76,AQ76,AU76),\"\")","v":""},{"$f":"IF(MIN(T76,V76)>0,MIN(T76,V76),\"\")","v":""},{"$f":"IF(MIN(M76,N76,AR76,AS76)>0,MIN(M76,N76,AR76,AS76),\"\")","v":""},{"$f":"IF(MIN(O76,AE76),MIN(O76,AE76),\"\")","v":""},"","","","",{"$f":"IF(MIN(AV76,AW76),MIN(AV76,AW76),\"\")","v":""}]
[{"$f":"'Races, Positions & Points'!A79","v":"James Care"},{"$f":"IF('Races, Positions & Points'!AB79=\"\",\"\",'Races, Positions & Points'!AB79)","v":331.70000000000005},{"$f":"IF('Races, Positions & Points'!AD79=\"\",\"\",'Races, Positions & Points'!AD79)","v":""},{"$f":"IF('Races, Positions & Points'!AG79=\"\",\"\",'Races, Positions & Points'!AG79)","v":""},{"$f":"IF('Races, Positions & Points'!AJ79=\"\",\"\",'Races, Positions & Points'!AJ79)","v":""},{"$f":"IF('Races, Positions & Points'!AK79=\"\",\"\",'Races, Positions & Points'!AK79)","v":""},{"$f":"IF('Races, Positions & Points'!AN79=\"\",\"\",'Races, Positions & Points'!AN79)","v":""},{"$f":"IF('Races, Positions & Points'!AO79=\"\",\"\",'Races, Positions & Points'!AO79)","v":""},{"$f":"IF('Races, Positions & Points'!AR79=\"\",\"\",'Races, Positions & Points'!AR79)","v":""},{"$f":"IF('Races, Positions & Points'!AU79=\"\",\"\",'Races, Positions & Points'!AU79)","v":""},{"$f":"IF('Races, Positions & Points'!AX79=\"\",\"\",'Races, Positions & Points'!AX79)","v":""},{"$f":"IF('Races, Positions & Points'!BA79=\"\",\"\",'Races, Positions & Points'!BA79)","v":""},{"$f":"IF('Races, Positions & Points'!BD79=\"\",\"\",'Races, Positions & Points'!BD79)","v":""},{"$f":"IF('Races, Positions & Points'!BG79=\"\",\"\",'Races, Positions & Points'!BG79)","v":""},{"$f":"IF('Races, Positions & Points'!BJ79=\"\",\"\",'Races, Positions & Points'!BJ79)","v":""},{"$f":"IF('Races, Positions & Points'!BM79=\"\",\"\",'Races, Positions & Points'!BM79)","v":""},{"$f":"IF('Races, Positions & Points'!BP79=\"\",\"\",'Races, Positions & Points'!BP79)","v":""},{"$f":"IF('Races, Positions & Points'!BS79=\"\",\"\",'Races, Positions & Points'!BS79)","v":""},{"$f":"IF('Races, Positions & Points'!BV79=\"\",\"\",'Races, Positions & Points'!BV79)","v":""},{"$f":"IF('Races, Positions & Points'!BY79=\"\",\"\",'Races, Positions & Points'!BY79)","v":""},{"$f":"IF('Races, Positions & Points'!CB79=\"\",\"\",'Races, Positions & Points'!CB79)","v":""},{"$f":"IF('Races, Positions & Points'!CE79=\"\",\"\",'Races, Positions & Points'!CE79)","v":""},{"$f":"IF('Races, Positions & Points'!CH79=\"\",\"\",'Races, Positions & Points'!CH79)","v":""},{"$f":"IF('Races, Positions & Points'!CI79=\"\",\"\",'Races, Positions & Points'!CI79)","v":""},{"$f":"IF('Races, Positions & Points'!CL79=\"\",\"\",'Races, Positions & Points'!CL79)","v":""},{"$f":"IF('Races, Positions & Points'!CO79=\"\",\"\",'Races, Positions & Points'!CO79)","v":""},{"$f":"IF('Races, Positions & Points'!CR79=\"\",\"\",'Races, Positions & Points'!CR79)","v":""},{"$f":"IF('Races, Positions & Points'!CU79=\"\",\"\",'Races, Positions & Points'!CU79)","v":""},{"$f":"IF('Races, Positions & Points'!CX79=\"\",\"\",'Races, Positions & Points'!CX79)","v":""},{"$f":"IF('Races, Positions & Points'!DA79=\"\",\"\",'Races, Positions & Points'!DA79)","v":354.23},{"$f":"IF('Races, Positions & Points'!DD79=\"\",\"\",'Races, Positions & Points'!DD79)","v":""},{"$f":"IF('Races, Positions & Points'!DG79=\"\",\"\",'Races, Positions & Points'!DG79)","v":""},{"$f":"IF('Races, Positions & Points'!DJ79=\"\",\"\",'Races, Positions & Points'!DJ79)","v":""},{"$f":"IF('Races, Positions & Points'!DM79=\"\",\"\",'Races, Positions & Points'!DM79)","v":""},{"$f":"IF('Races, Positions & Points'!DP79=\"\",\"\",'Races, Positions & Points'!DP79)","v":""},{"$f":"IF('Races, Positions & Points'!DS79=\"\",\"\",'Races, Positions & Points'!DS79)","v":""},{"$f":"IF('Races, Positions & Points'!DV79=\"\",\"\",'Races, Positions & Points'!DV79)","v":""},{"$f":"IF('Races, Positions & Points'!DY79=\"\",\"\",'Races, Positions & Points'!DY79)","v":""},{"$f":"IF('Races, Positions & Points'!EB79=\"\",\"\",'Races, Positions & Points'!EB79)","v":""},{"$f":"IF('Races, Positions & Points'!EE79=\"\",\"\",'Races, Positions & Points'!EE79)","v":""},{"$f":"IF('Races, Positions & Points'!EG79=\"\",\"\",'Races, Positions & Points'!EG79)","v":""},{"$f":"IF('Races, Positions & Points'!EJ79=\"\",\"\",'Races, Positions & Points'!EJ79)","v":""},{"$f":"IF('Races, Positions & Points'!EM79=\"\",\"\",'Races, Positions & Points'!EM79)","v":""},{"$f":"IF('Races, Positions & Points'!EP79=\"\",\"\",'Races, Positions & Points'!EP79)","v":""},{"$f":"IF('Races, Positions & Points'!ES79=\"\",\"\",'Races, Positions & Points'!ES79)","v":""},{"$f":"IF('Races, Positions & Points'!EV79=\"\",\"\",'Races, Positions & Points'!EV79)","v":""},{"$f":"IF('Races, Positions & Points'!EY79=\"\",\"\",'Races, Positions & Points'!EY79)","v":""},{"$f":"IF('Races, Positions & Points'!FB79=\"\",\"\",'Races, Positions & Points'!FB79)","v":""},{"$f":"IF('Races, Positions & Points'!FE79=\"\",\"\",'Races, Positions & Points'!FE79)","v":""},{"$f":"IF('Races, Positions & Points'!FH79=\"\",\"\",'Races, Positions & Points'!FH79)","v":""},{"$f":"IF('Races, Positions & Points'!FI79=\"\",\"\",'Races, Positions & Points'!FI79)","v":""},null,0,2,0,0,0,0,null,{"$f":"'Races, Positions & Points'!E79","v":20590},{"$f":"'Races, Positions & Points'!G79","v":999.99},331.70000000000005,354.23,342.97,"",398.04,342.97,999.99,342.97,null,"","","","","",999.99,999.99,999.99,null,"","","","",331.70000000000005,"","",{"$f":"IF(Q77>0,Q77,\"\")","v":""},"","","","","",354.23,"","",null,"","","","",null,"","","","",null,"","","","","","","","","",""]
[{"$f":"'Races, Positions & Points'!A80","v":"Seamus O'Brien"},{"$f":"IF('Races, Positions & Points'!AB80=\"\",\"\",'Races, Positions & Points'!AB80)","v":""},{"$f":"IF('Races, Positions & Points'!AD80=\"\",\"\",'Races, Positions & Points'!AD80)","v":""},{"$f":"IF('Races, Positions & Points'!AG80=\"\",\"\",'Races, Positions & Points'!AG80)","v":""},{"$f":"IF('Races, Positions & Points'!AJ80=\"\",\"\",'Races, Positions & Points'!AJ80)","v":201.14},{"$f":"IF('Races, Positions & Points'!AK80=\"\",\"\",'Races, Positions & Points'!AK80)","v":201},{"$f":"IF('Races, Positions & Points'!AN80=\"\",\"\",'Races, Positions & Points'!AN80)","v":154.71},{"$f":"IF('Races, Positions & Points'!AO80=\"\",\"\",'Races, Positions & Points'!AO80)","v":158.47},{"$f":"IF('Races, Positions & Points'!AR80=\"\",\"\",'Races, Positions & Points'!AR80)","v":""},{"$f":"IF('Races, Positions & Points'!AU80=\"\",\"\",'Races, Positions & Points'!AU80)","v":""},{"$f":"IF('Races, Positions & Points'!AX80=\"\",\"\",'Races, Positions & Points'!AX80)","v":130.11000000000001},{"$f":"IF('Races, Positions & Points'!BA80=\"\",\"\",'Races, Positions & Points'!BA80)","v":"DNF"},{"$f":"IF('Races, Positions & Points'!BD80=\"\",\"\",'Races, Positions & Points'!BD80)","v":""},{"$f":"IF('Races, Positions & Points'!BG80=\"\",\"\",'Races, Positions & Points'!BG80)","v":""},{"$f":"IF('Races, Positions & Points'!BJ80=\"\",\"\",'Races, Positions & Points'!BJ80)","v":""},{"$f":"IF('Races, Positions & Points'!BM80=\"\",\"\",'Races, Positions & Points'!BM80)","v":""},{"$f":"IF('Races, Positions & Points'!BP80=\"\",\"\",'Races, Positions & Points'!BP80)","v":""},{"$f":"IF('Races, Positions & Points'!BS80=\"\",\"\",'Races, Positions & Points'!BS80)","v":""},{"$f":"IF('Races, Positions & Points'!BV80=\"\",\"\",'Races, Positions & Points'!BV80)","v":""},{"$f":"IF('Races, Positions & Points'!BY80=\"\",\"\",'Races, Positions & Points'!BY80)","v":""},{"$f":"IF('Races, Positions & Points'!CB80=\"\",\"\",'Races, Positions & Points'!CB80)","v":""},{"$f":"IF('Races, Positions & Points'!CE80=\"\",\"\",'Races, Positions & Points'!CE80)","v":""},{"$f":"IF('Races, Positions & Points'!CH80=\"\",\"\",'Races, Positions & Points'!CH80)","v":114.4},{"$f":"IF('Races, Positions & Points'!CI80=\"\",\"\",'Races, Positions & Points'!CI80)","v":115.54},{"$f":"IF('Races, Positions & Points'!CL80=\"\",\"\",'Races, Positions & Points'!CL80)","v":""},{"$f":"IF('Races, Positions & Points'!CO80=\"\",\"\",'Races, Positions & Points'!CO80)","v":""},{"$f":"IF('Races, Positions & Points'!CR80=\"\",\"\",'Races, Positions & Points'!CR80)","v":""},{"$f":"IF('Races, Positions & Points'!CU80=\"\",\"\",'Races, Positions & Points'!CU80)","v":""},{"$f":"IF('Races, Positions & Points'!CX80=\"\",\"\",'Races, Positions & Points'!CX80)","v":""},{"$f":"IF('Races, Positions & Points'!DA80=\"\",\"\",'Races, Positions & Points'!DA80)","v":""},{"$f":"IF('Races, Positions & Points'!DD80=\"\",\"\",'Races, Positions & Points'!DD80)","v":""},{"$f":"IF('Races, Positions & Points'!DG80=\"\",\"\",'Races, Positions & Points'!DG80)","v":""},{"$f":"IF('Races, Positions & Points'!DJ80=\"\",\"\",'Races, Positions & Points'!DJ80)","v":""},{"$f":"IF('Races, Positions & Points'!DM80=\"\",\"\",'Races, Positions & Points'!DM80)","v":114.08},{"$f":"IF('Races, Positions & Points'!DP80=\"\",\"\",'Races, Positions & Points'!DP80)","v":106.46},{"$f":"IF('Races, Positions & Points'!DS80=\"\",\"\",'Races, Positions & Points'!DS80)","v":""},{"$f":"IF('Races, Positions & Points'!DV80=\"\",\"\",'Races, Positions & Points'!DV80)","v":""},{"$f":"IF('Races, Positions & Points'!DY80=\"\",\"\",'Races, Positions & Points'!DY80)","v":""},{"$f":"IF('Races, Positions & Points'!EB80=\"\",\"\",'Races, Positions & Points'!EB80)","v":""},{"$f":"IF('Races, Positions & Points'!EE80=\"\",\"\",'Races, Positions & Points'!EE80)","v":""},{"$f":"IF('Races, Positions & Points'!EG80=\"\",\"\",'Races, Positions & Points'!EG80)","v":""},{"$f":"IF('Races, Positions & Points'!EJ80=\"\",\"\",'Races, Positions & Points'!EJ80)","v":91.92},{"$f":"IF('Races, Positions & Points'!EM80=\"\",\"\",'Races, Positions & Points'!EM80)","v":167.19},{"$f":"IF('Races, Positions & Points'!EP80=\"\",\"\",'Races, Positions & Points'!EP80)","v":""},{"$f":"IF('Races, Positions & Points'!ES80=\"\",\"\",'Races, Positions & Points'!ES80)","v":""},{"$f":"IF('Races, Positions & Points'!EV80=\"\",\"\",'Races, Positions & Points'!EV80)","v":""},{"$f":"IF('Races, Positions & Points'!EY80=\"\",\"\",'Races, Positions & Points'!EY80)","v":""},{"$f":"IF('Races, Positions & Points'!FB80=\"\",\"\",'Races, Positions & Points'!FB80)","v":""},{"$f":"IF('Races, Positions & Points'!FE80=\"\",\"\",'Races, Positions & Points'!FE80)","v":""},{"$f":"IF('Races, Positions & Points'!FH80=\"\",\"\",'Races, Positions & Points'!FH80)","v":""},{"$f":"IF('Races, Positions & Points'!FI80=\"\",\"\",'Races, Positions & Points'!FI80)","v":""},null,0,0,4,0,2,0,null,{"$f":"'Races, Positions & Points'!E80","v":19737},{"$f":"'Races, Positions & Points'!G80","v":999.99},"","","","","",999.99,999.99,999.99,null,91.92,106.46,99.19,"",110.3,99.19,999.99,99.19,null,106.46,91.92,"",114.4,"","","","","","","","","","","","",null,"","","","",null,91.92,106.46,99.19,110.304,null,106.46,91.92,"","","","","","","",""]
[{"$f":"'Races, Positions & Points'!A81","v":"Matthew Treuge"},{"$f":"IF('Races, Positions & Points'!AB81=\"\",\"\",'Races, Positions & Points'!AB81)","v":""},{"$f":"IF('Races, Positions & Points'!AD81=\"\",\"\",'Races, Positions & Points'!AD81)","v":""},{"$f":"IF('Races, Positions & Points'!AG81=\"\",\"\",'Races, Positions & Points'!AG81)","v":""},{"$f":"IF('Races, Positions & Points'!AJ81=\"\",\"\",'Races, Positions & Points'!AJ81)","v":""},{"$f":"IF('Races, Positions & Points'!AK81=\"\",\"\",'Races, Positions & Points'!AK81)","v":""},{"$f":"IF('Races, Positions & Points'!AN81=\"\",\"\",'Races, Positions & Points'!AN81)","v":""},{"$f":"IF('Races, Positions & Points'!AO81=\"\",\"\",'Races, Positions & Points'!AO81)","v":""},{"$f":"IF('Races, Positions & Points'!AR81=\"\",\"\",'Races, Positions & Points'!AR81)","v":""},{"$f":"IF('Races, Positions & Points'!AU81=\"\",\"\",'Races, Positions & Points'!AU81)","v":""},{"$f":"IF('Races, Positions & Points'!AX81=\"\",\"\",'Races, Positions & Points'!AX81)","v":""},{"$f":"IF('Races, Positions & Points'!BA81=\"\",\"\",'Races, Positions & Points'!BA81)","v":""},{"$f":"IF('Races, Positions & Points'!BD81=\"\",\"\",'Races, Positions & Points'!BD81)","v":""},{"$f":"IF('Races, Positions & Points'!BG81=\"\",\"\",'Races, Positions & Points'!BG81)","v":""},{"$f":"IF('Races, Positions & Points'!BJ81=\"\",\"\",'Races, Positions & Points'!BJ81)","v":""},{"$f":"IF('Races, Positions & Points'!BM81=\"\",\"\",'Races, Positions & Points'!BM81)","v":""},{"$f":"IF('Races, Positions & Points'!BP81=\"\",\"\",'Races, Positions & Points'!BP81)","v":""},{"$f":"IF('Races, Positions & Points'!BS81=\"\",\"\",'Races, Positions & Points'!BS81)","v":""},{"$f":"IF('Races, Positions & Points'!BV81=\"\",\"\",'Races, Positions & Points'!BV81)","v":""},{"$f":"IF('Races, Positions & Points'!BY81=\"\",\"\",'Races, Positions & Points'!BY81)","v":""},{"$f":"IF('Races, Positions & Points'!CB81=\"\",\"\",'Races, Positions & Points'!CB81)","v":""},{"$f":"IF('Races, Positions & Points'!CE81=\"\",\"\",'Races, Positions & Points'!CE81)","v":""},{"$f":"IF('Races, Positions & Points'!CH81=\"\",\"\",'Races, Positions & Points'!CH81)","v":""},{"$f":"IF('Races, Positions & Points'!CI81=\"\",\"\",'Races, Positions & Points'!CI81)","v":""},{"$f":"IF('Races, Positions & Points'!CL81=\"\",\"\",'Races, Positions & Points'!CL81)","v":""},{"$f":"IF('Races, Positions & Points'!CO81=\"\",\"\",'Races, Positions & Points'!CO81)","v":""},{"$f":"IF('Races, Positions & Points'!CR81=\"\",\"\",'Races, Positions & Points'!CR81)","v":""},{"$f":"IF('Races, Positions & Points'!CU81=\"\",\"\",'Races, Positions & Points'!CU81)","v":""},{"$f":"IF('Races, Positions & Points'!CX81=\"\",\"\",'Races, Positions & Points'!CX81)","v":256.52},{"$f":"IF('Races, Positions & Points'!DA81=\"\",\"\",'Races, Positions & Points'!DA81)","v":""},{"$f":"IF('Races, Positions & Points'!DD81=\"\",\"\",'Races, Positions & Points'!DD81)","v":""},{"$f":"IF('Races, Positions & Points'!DG81=\"\",\"\",'Races, Positions & Points'!DG81)","v":""},{"$f":"IF('Races, Positions & Points'!DJ81=\"\",\"\",'Races, Positions & Points'!DJ81)","v":""},{"$f":"IF('Races, Positions & Points'!DM81=\"\",\"\",'Races, Positions & Points'!DM81)","v":""},{"$f":"IF('Races, Positions & Points'!DP81=\"\",\"\",'Races, Positions & Points'!DP81)","v":""},{"$f":"IF('Races, Positions & Points'!DS81=\"\",\"\",'Races, Positions & Points'!DS81)","v":""},{"$f":"IF('Races, Positions & Points'!DV81=\"\",\"\",'Races, Positions & Points'!DV81)","v":""},{"$f":"IF('Races, Positions & Points'!DY81=\"\",\"\",'Races, Positions & Points'!DY81)","v":""},{"$f":"IF('Races, Positions & Points'!EB81=\"\",\"\",'Races, Positions & Points'!EB81)","v":""},{"$f":"IF('Races, Positions & Points'!EE81=\"\",\"\",'Races, Positions & Points'!EE81)","v":""},{"$f":"IF('Races, Positions & Points'!EG81=\"\",\"\",'Races, Positions & Points'!EG81)","v":""},{"$f":"IF('Races, Positions & Points'!EJ81=\"\",\"\",'Races, Positions & Points'!EJ81)","v":""},{"$f":"IF('Races, Positions & Points'!EM81=\"\",\"\",'Races, Positions & Points'!EM81)","v":""},{"$f":"IF('Races, Positions & Points'!EP81=\"\",\"\",'Races, Positions & Points'!EP81)","v":""},{"$f":"IF('Races, Positions & Points'!ES81=\"\",\"\",'Races, Positions & Points'!ES81)","v":""},{"$f":"IF('Races, Positions & Points'!EV81=\"\",\"\",'Races, Positions & Points'!EV81)","v":""},{"$f":"IF('Races, Positions & Points'!EY81=\"\",\"\",'Races, Positions & Points'!EY81)","v":""},{"$f":"IF('Races, Positions & Points'!FB81=\"\",\"\",'Races, Positions & Points'!FB81)","v":""},{"$f":"IF('Races, Positions & Points'!FE81=\"\",\"\",'Races, Positions & Points'!FE81)","v":""},{"$f":"IF('Races, Positions & Points'!FH81=\"\",\"\",'Races, Positions & Points'!FH81)","v":""},{"$f":"IF('Races, Positions & Points'!FI81=\"\",\"\",'Races, Positions & Points'!FI81)","v":""},null,0,1,0,0,0,0,null,{"$f":"'Races, Positions & Points'!E81","v":20670},{"$f":"'Races, Positions & Points'!G81","v":999.99},256.52,"","","",307.82,307.82,999.99,307.82,null,"","","","","",999.99,999.99,999.99,null,"","","","","",256.52,"","","","","","","","","","",null,"","","","",null,"","","","",null,"","","","","","","","","",""]
[{"$f":"'Races, Positions & Points'!A82","v":"JJ Frost"},{"$f":"IF('Races, Positions & Points'!AB82=\"\",\"\",'Races, Positions & Points'!AB82)","v":""},{"$f":"IF('Races, Positions & Points'!AD82=\"\",\"\",'Races, Positions & Points'!AD82)","v":""},{"$f":"IF('Races, Positions & Points'!AG82=\"\",\"\",'Races, Positions & Points'!AG82)","v":""},{"$f":"IF('Races, Positions & Points'!AJ82=\"\",\"\",'Races, Positions & Points'!AJ82)","v":""},{"$f":"IF('Races, Positions & Points'!AK82=\"\",\"\",'Races, Positions & Points'!AK82)","v":""},{"$f":"IF('Races, Positions & Points'!AN82=\"\",\"\",'Races, Positions & Points'!AN82)","v":""},{"$f":"IF('Races, Positions & Points'!AO82=\"\",\"\",'Races, Positions & Points'!AO82)","v":""},{"$f":"IF('Races, Positions & Points'!AR82=\"\",\"\",'Races, Positions & Points'!AR82)","v":""},{"$f":"IF('Races, Positions & Points'!AU82=\"\",\"\",'Races, Positions & Points'!AU82)","v":""},{"$f":"IF('Races, Positions & Points'!AX82=\"\",\"\",'Races, Positions & Points'!AX82)","v":""},{"$f":"IF('Races, Positions & Points'!BA82=\"\",\"\",'Races, Positions & Points'!BA82)","v":""},{"$f":"IF('Races, Positions & Points'!BD82=\"\",\"\",'Races, Positions & Points'!BD82)","v":""},{"$f":"IF('Races, Positions & Points'!BG82=\"\",\"\",'Races, Positions & Points'!BG82)","v":""},{"$f":"IF('Races, Positions & Points'!BJ82=\"\",\"\",'Races, Positions & Points'!BJ82)","v":""},{"$f":"IF('Races, Positions & Points'!BM82=\"\",\"\",'Races, Positions & Points'!BM82)","v":""},{"$f":"IF('Races, Positions & Points'!BP82=\"\",\"\",'Races, Positions & Points'!BP82)","v":""},{"$f":"IF('Races, Positions & Points'!BS82=\"\",\"\",'Races, Positions & Points'!BS82)","v":""},{"$f":"IF('Races, Positions & Points'!BV82=\"\",\"\",'Races, Positions & Points'!BV82)","v":""},{"$f":"IF('Races, Positions & Points'!BY82=\"\",\"\",'Races, Positions & Points'!BY82)","v":""},{"$f":"IF('Races, Positions & Points'!CB82=\"\",\"\",'Races, Positions & Points'!CB82)","v":""},{"$f":"IF('Races, Positions & Points'!CE82=\"\",\"\",'Races, Positions & Points'!CE82)","v":""},{"$f":"IF('Races, Positions & Points'!CH82=\"\",\"\",'Races, Positions & Points'!CH82)","v":""},{"$f":"IF('Races, Positions & Points'!CI82=\"\",\"\",'Races, Positions & Points'!CI82)","v":""},{"$f":"IF('Races, Positions & Points'!CL82=\"\",\"\",'Races, Positions & Points'!CL82)","v":""},{"$f":"IF('Races, Positions & Points'!CO82=\"\",\"\",'Races, Positions & Points'!CO82)","v":""},{"$f":"IF('Races, Positions & Points'!CR82=\"\",\"\",'Races, Positions & Points'!CR82)","v":""},{"$f":"IF('Races, Positions & Points'!CU82=\"\",\"\",'Races, Positions & Points'!CU82)","v":""},{"$f":"IF('Races, Positions & Points'!CX82=\"\",\"\",'Races, Positions & Points'!CX82)","v":""},{"$f":"IF('Races, Positions & Points'!DA82=\"\",\"\",'Races, Positions & Points'!DA82)","v":""},{"$f":"IF('Races, Positions & Points'!DD82=\"\",\"\",'Races, Positions & Points'!DD82)","v":""},{"$f":"IF('Races, Positions & Points'!DG82=\"\",\"\",'Races, Positions & Points'!DG82)","v":""},{"$f":"IF('Races, Positions & Points'!DJ82=\"\",\"\",'Races, Positions & Points'!DJ82)","v":""},{"$f":"IF('Races, Positions & Points'!DM82=\"\",\"\",'Races, Positions & Points'!DM82)","v":""},{"$f":"IF('Races, Positions & Points'!DP82=\"\",\"\",'Races, Positions & Points'!DP82)","v":""},{"$f":"IF('Races, Positions & Points'!DS82=\"\",\"\",'Races, Positions & Points'!DS82)","v":""},{"$f":"IF('Races, Positions & Points'!DV82=\"\",\"\",'Races, Positions & Points'!DV82)","v":""},{"$f":"IF('Races, Positions & Points'!DY82=\"\",\"\",'Races, Positions & Points'!DY82)","v":""},{"$f":"IF('Races, Positions & Points'!EB82=\"\",\"\",'Races, Positions & Points'!EB82)","v":""},{"$f":"IF('Races, Positions & Points'!EE82=\"\",\"\",'Races, Positions & Points'!EE82)","v":""},{"$f":"IF('Races, Positions & Points'!EG82=\"\",\"\",'Races, Positions & Points'!EG82)","v":""},{"$f":"IF('Races, Positions & Points'!EJ82=\"\",\"\",'Races, Positions & Points'!EJ82)","v":""},{"$f":"IF('Races, Positions & Points'!EM82=\"\",\"\",'Races, Positions & Points'!EM82)","v":""},{"$f":"IF('Races, Positions & Points'!EP82=\"\",\"\",'Races, Positions & Points'!EP82)","v":""},{"$f":"IF('Races, Positions & Points'!ES82=\"\",\"\",'Races, Positions & Points'!ES82)","v":""},{"$f":"IF('Races, Positions & Points'!EV82=\"\",\"\",'Races, Positions & Points'!EV82)","v":""},{"$f":"IF('Races, Positions & Points'!EY82=\"\",\"\",'Races, Positions & Points'!EY82)","v":""},{"$f":"IF('Races, Positions & Points'!FB82=\"\",\"\",'Races, Positions & Points'!FB82)","v":""},{"$f":"IF('Races, Positions & Points'!FE82=\"\",\"\",'Races, Positions & Points'!FE82)","v":""},{"$f":"IF('Races, Positions & Points'!FH82=\"\",\"\",'Races, Positions & Points'!FH82)","v":""},{"$f":"IF('Races, Positions & Points'!FI82=\"\",\"\",'Races, Positions & Points'!FI82)","v":""},null,0,0,0,0,0,0,null,{"$f":"'Races, Positions & Points'!E82","v":20676},{"$f":"'Races, Positions & Points'!G82","v":"NR"},"","","","","",0,{"$error":"#VALUE!"},{"$error":"#VALUE!"},null,"","","","","",0,{"$error":"#VALUE!"},{"$error":"#VALUE!"},null,"","","","","","","","","","",{"$f":"IF(U80>0,U80,\"\")","v":""},{"$f":"IF(MIN(Y80,AO80)>0,MIN(Y80,AO80),\"\")","v":""},{"$f":"IF(AA80>0,AA80,\"\")","v":""},{"$f":"IF(AD80>0,AD80,\"\")","v":""},{"$f":"IF(AJ80>0,AJ80,\"\")","v":""},"",null,"","","","",null,"","","","",null,"","","","","",{"$f":"IF(J80>0,J80,\"\")","v":""},{"$f":"IF(MIN(AM80,AY80)>0,MIN(AM80,AY80),\"\")","v":""},{"$f":"IF(R80>0,R80,\"\")","v":""},"",""]
[{"$f":"'Races, Positions & Points'!A83","v":"Ben Hall"},{"$f":"IF('Races, Positions & Points'!AB83=\"\",\"\",'Races, Positions & Points'!AB83)","v":""},{"$f":"IF('Races, Positions & Points'!AD83=\"\",\"\",'Races, Positions & Points'!AD83)","v":""},{"$f":"IF('Races, Positions & Points'!AG83=\"\",\"\",'Races, Positions & Points'!AG83)","v":""},{"$f":"IF('Races, Positions & Points'!AJ83=\"\",\"\",'Races, Positions & Points'!AJ83)","v":""},{"$f":"IF('Races, Positions & Points'!AK83=\"\",\"\",'Races, Positions & Points'!AK83)","v":""},{"$f":"IF('Races, Positions & Points'!AN83=\"\",\"\",'Races, Positions & Points'!AN83)","v":""},{"$f":"IF('Races, Positions & Points'!AO83=\"\",\"\",'Races, Positions & Points'!AO83)","v":""},{"$f":"IF('Races, Positions & Points'!AR83=\"\",\"\",'Races, Positions & Points'!AR83)","v":""},{"$f":"IF('Races, Positions & Points'!AU83=\"\",\"\",'Races, Positions & Points'!AU83)","v":""},{"$f":"IF('Races, Positions & Points'!AX83=\"\",\"\",'Races, Positions & Points'!AX83)","v":""},{"$f":"IF('Races, Positions & Points'!BA83=\"\",\"\",'Races, Positions & Points'!BA83)","v":""},{"$f":"IF('Races, Positions & Points'!BD83=\"\",\"\",'Races, Positions & Points'!BD83)","v":""},{"$f":"IF('Races, Positions & Points'!BG83=\"\",\"\",'Races, Positions & Points'!BG83)","v":""},{"$f":"IF('Races, Positions & Points'!BJ83=\"\",\"\",'Races, Positions & Points'!BJ83)","v":""},{"$f":"IF('Races, Positions & Points'!BM83=\"\",\"\",'Races, Positions & Points'!BM83)","v":""},{"$f":"IF('Races, Positions & Points'!BP83=\"\",\"\",'Races, Positions & Points'!BP83)","v":""},{"$f":"IF('Races, Positions & Points'!BS83=\"\",\"\",'Races, Positions & Points'!BS83)","v":""},{"$f":"IF('Races, Positions & Points'!BV83=\"\",\"\",'Races, Positions & Points'!BV83)","v":""},{"$f":"IF('Races, Positions & Points'!BY83=\"\",\"\",'Races, Positions & Points'!BY83)","v":""},{"$f":"IF('Races, Positions & Points'!CB83=\"\",\"\",'Races, Positions & Points'!CB83)","v":""},{"$f":"IF('Races, Positions & Points'!CE83=\"\",\"\",'Races, Positions & Points'!CE83)","v":""},{"$f":"IF('Races, Positions & Points'!CH83=\"\",\"\",'Races, Positions & Points'!CH83)","v":""},{"$f":"IF('Races, Positions & Points'!CI83=\"\",\"\",'Races, Positions & Points'!CI83)","v":""},{"$f":"IF('Races, Positions & Points'!CL83=\"\",\"\",'Races, Positions & Points'!CL83)","v":""},{"$f":"IF('Races, Positions & Points'!CO83=\"\",\"\",'Races, Positions & Points'!CO83)","v":""},{"$f":"IF('Races, Positions & Points'!CR83=\"\",\"\",'Races, Positions & Points'!CR83)","v":""},{"$f":"IF('Races, Positions & Points'!CU83=\"\",\"\",'Races, Positions & Points'!CU83)","v":""},{"$f":"IF('Races, Positions & Points'!CX83=\"\",\"\",'Races, Positions & Points'!CX83)","v":""},{"$f":"IF('Races, Positions & Points'!DA83=\"\",\"\",'Races, Positions & Points'!DA83)","v":""},{"$f":"IF('Races, Positions & Points'!DD83=\"\",\"\",'Races, Positions & Points'!DD83)","v":""},{"$f":"IF('Races, Positions & Points'!DG83=\"\",\"\",'Races, Positions & Points'!DG83)","v":""},{"$f":"IF('Races, Positions & Points'!DJ83=\"\",\"\",'Races, Positions & Points'!DJ83)","v":""},{"$f":"IF('Races, Positions & Points'!DM83=\"\",\"\",'Races, Positions & Points'!DM83)","v":""},{"$f":"IF('Races, Positions & Points'!DP83=\"\",\"\",'Races, Positions & Points'!DP83)","v":""},{"$f":"IF('Races, Positions & Points'!DS83=\"\",\"\",'Races, Positions & Points'!DS83)","v":""},{"$f":"IF('Races, Positions & Points'!DV83=\"\",\"\",'Races, Positions & Points'!DV83)","v":""},{"$f":"IF('Races, Positions & Points'!DY83=\"\",\"\",'Races, Positions & Points'!DY83)","v":""},{"$f":"IF('Races, Positions & Points'!EB83=\"\",\"\",'Races, Positions & Points'!EB83)","v":""},{"$f":"IF('Races, Positions & Points'!EE83=\"\",\"\",'Races, Positions & Points'!EE83)","v":""},{"$f":"IF('Races, Positions & Points'!EG83=\"\",\"\",'Races, Positions & Points'!EG83)","v":""},{"$f":"IF('Races, Positions & Points'!EJ83=\"\",\"\",'Races, Positions & Points'!EJ83)","v":""},{"$f":"IF('Races, Positions & Points'!EM83=\"\",\"\",'Races, Positions & Points'!EM83)","v":""},{"$f":"IF('Races, Positions & Points'!EP83=\"\",\"\",'Races, Positions & Points'!EP83)","v":""},{"$f":"IF('Races, Positions & Points'!ES83=\"\",\"\",'Races, Positions & Points'!ES83)","v":""},{"$f":"IF('Races, Positions & Points'!EV83=\"\",\"\",'Races, Positions & Points'!EV83)","v":""},{"$f":"IF('Races, Positions & Points'!EY83=\"\",\"\",'Races, Positions & Points'!EY83)","v":""},{"$f":"IF('Races, Positions & Points'!FB83=\"\",\"\",'Races, Positions & Points'!FB83)","v":""},{"$f":"IF('Races, Positions & Points'!FE83=\"\",\"\",'Races, Positions & Points'!FE83)","v":""},{"$f":"IF('Races, Positions & Points'!FH83=\"\",\"\",'Races, Positions & Points'!FH83)","v":""},{"$f":"IF('Races, Positions & Points'!FI83=\"\",\"\",'Races, Positions & Points'!FI83)","v":""},null,0,0,0,0,0,0,null,{"$f":"'Races, Positions & Points'!E83","v":21130},{"$f":"'Races, Positions & Points'!G83","v":"NR"},"","","","","",0,{"$error":"#VALUE!"},{"$error":"#VALUE!"},null,"","","","","",0,{"$error":"#VALUE!"},{"$error":"#VALUE!"},null,"","","","","","","","","","",{"$f":"IF(U81>0,U81,\"\")","v":""},{"$f":"IF(MIN(Y81,AO81)>0,MIN(Y81,AO81),\"\")","v":""},{"$f":"IF(AA81>0,AA81,\"\")","v":""},{"$f":"IF(AD81>0,AD81,\"\")","v":""},{"$f":"IF(AJ81>0,AJ81,\"\")","v":""},"",null,"","","","",null,"","","","",null,"","","","","",{"$f":"IF(J81>0,J81,\"\")","v":""},{"$f":"IF(MIN(AM81,AY81)>0,MIN(AM81,AY81),\"\")","v":""},{"$f":"IF(R81>0,R81,\"\")","v":""},"",""]
[{"$f":"'Races, Positions & Points'!A84","v":"Matthew Waller"},{"$f":"IF('Races, Positions & Points'!AB84=\"\",\"\",'Races, Positions & Points'!AB84)","v":""},{"$f":"IF('Races, Positions & Points'!AD84=\"\",\"\",'Races, Positions & Points'!AD84)","v":""},{"$f":"IF('Races, Positions & Points'!AG84=\"\",\"\",'Races, Positions & Points'!AG84)","v":""},{"$f":"IF('Races, Positions & Points'!AJ84=\"\",\"\",'Races, Positions & Points'!AJ84)","v":""},{"$f":"IF('Races, Positions & Points'!AK84=\"\",\"\",'Races, Positions & Points'!AK84)","v":""},{"$f":"IF('Races, Positions & Points'!AN84=\"\",\"\",'Races, Positions & Points'!AN84)","v":""},{"$f":"IF('Races, Positions & Points'!AO84=\"\",\"\",'Races, Positions & Points'!AO84)","v":""},{"$f":"IF('Races, Positions & Points'!AR84=\"\",\"\",'Races, Positions & Points'!AR84)","v":""},{"$f":"IF('Races, Positions & Points'!AU84=\"\",\"\",'Races, Positions & Points'!AU84)","v":""},{"$f":"IF('Races, Positions & Points'!AX84=\"\",\"\",'Races, Positions & Points'!AX84)","v":""},{"$f":"IF('Races, Positions & Points'!BA84=\"\",\"\",'Races, Positions & Points'!BA84)","v":""},{"$f":"IF('Races, Positions & Points'!BD84=\"\",\"\",'Races, Positions & Points'!BD84)","v":""},{"$f":"IF('Races, Positions & Points'!BG84=\"\",\"\",'Races, Positions & Points'!BG84)","v":""},{"$f":"IF('Races, Positions & Points'!BJ84=\"\",\"\",'Races, Positions & Points'!BJ84)","v":""},{"$f":"IF('Races, Positions & Points'!BM84=\"\",\"\",'Races, Positions & Points'!BM84)","v":""},{"$f":"IF('Races, Positions & Points'!BP84=\"\",\"\",'Races, Positions & Points'!BP84)","v":""},{"$f":"IF('Races, Positions & Points'!BS84=\"\",\"\",'Races, Positions & Points'!BS84)","v":""},{"$f":"IF('Races, Positions & Points'!BV84=\"\",\"\",'Races, Positions & Points'!BV84)","v":""},{"$f":"IF('Races, Positions & Points'!BY84=\"\",\"\",'Races, Positions & Points'!BY84)","v":""},{"$f":"IF('Races, Positions & Points'!CB84=\"\",\"\",'Races, Positions & Points'!CB84)","v":""},{"$f":"IF('Races, Positions & Points'!CE84=\"\",\"\",'Races, Positions & Points'!CE84)","v":""},{"$f":"IF('Races, Positions & Points'!CH84=\"\",\"\",'Races, Positions & Points'!CH84)","v":""},{"$f":"IF('Races, Positions & Points'!CI84=\"\",\"\",'Races, Positions & Points'!CI84)","v":""},{"$f":"IF('Races, Positions & Points'!CL84=\"\",\"\",'Races, Positions & Points'!CL84)","v":""},{"$f":"IF('Races, Positions & Points'!CO84=\"\",\"\",'Races, Positions & Points'!CO84)","v":""},{"$f":"IF('Races, Positions & Points'!CR84=\"\",\"\",'Races, Positions & Points'!CR84)","v":""},{"$f":"IF('Races, Positions & Points'!CU84=\"\",\"\",'Races, Positions & Points'!CU84)","v":""},{"$f":"IF('Races, Positions & Points'!CX84=\"\",\"\",'Races, Positions & Points'!CX84)","v":""},{"$f":"IF('Races, Positions & Points'!DA84=\"\",\"\",'Races, Positions & Points'!DA84)","v":""},{"$f":"IF('Races, Positions & Points'!DD84=\"\",\"\",'Races, Positions & Points'!DD84)","v":""},{"$f":"IF('Races, Positions & Points'!DG84=\"\",\"\",'Races, Positions & Points'!DG84)","v":""},{"$f":"IF('Races, Positions & Points'!DJ84=\"\",\"\",'Races, Positions & Points'!DJ84)","v":""},{"$f":"IF('Races, Positions & Points'!DM84=\"\",\"\",'Races, Positions & Points'!DM84)","v":""},{"$f":"IF('Races, Positions & Points'!DP84=\"\",\"\",'Races, Positions & Points'!DP84)","v":""},{"$f":"IF('Races, Positions & Points'!DS84=\"\",\"\",'Races, Positions & Points'!DS84)","v":""},{"$f":"IF('Races, Positions & Points'!DV84=\"\",\"\",'Races, Positions & Points'!DV84)","v":""},{"$f":"IF('Races, Positions & Points'!DY84=\"\",\"\",'Races, Positions & Points'!DY84)","v":""},{"$f":"IF('Races, Positions & Points'!EB84=\"\",\"\",'Races, Positions & Points'!EB84)","v":""},{"$f":"IF('Races, Positions & Points'!EE84=\"\",\"\",'Races, Positions & Points'!EE84)","v":""},{"$f":"IF('Races, Positions & Points'!EG84=\"\",\"\",'Races, Positions & Points'!EG84)","v":""},{"$f":"IF('Races, Positions & Points'!EJ84=\"\",\"\",'Races, Positions & Points'!EJ84)","v":""},{"$f":"IF('Races, Positions & Points'!EM84=\"\",\"\",'Races, Positions & Points'!EM84)","v":""},{"$f":"IF('Races, Positions & Points'!EP84=\"\",\"\",'Races, Positions & Points'!EP84)","v":""},{"$f":"IF('Races, Positions & Points'!ES84=\"\",\"\",'Races, Positions & Points'!ES84)","v":""},{"$f":"IF('Races, Positions & Points'!EV84=\"\",\"\",'Races, Positions & Points'!EV84)","v":""},{"$f":"IF('Races, Positions & Points'!EY84=\"\",\"\",'Races, Positions & Points'!EY84)","v":""},{"$f":"IF('Races, Positions & Points'!FB84=\"\",\"\",'Races, Positions & Points'!FB84)","v":""},{"$f":"IF('Races, Positions & Points'!FE84=\"\",\"\",'Races, Positions & Points'!FE84)","v":""},{"$f":"IF('Races, Positions & Points'!FH84=\"\",\"\",'Races, Positions & Points'!FH84)","v":""},{"$f":"IF('Races, Positions & Points'!FI84=\"\",\"\",'Races, Positions & Points'!FI84)","v":""},null,0,0,0,0,0,0,null,{"$f":"'Races, Positions & Points'!E84","v":17958},{"$f":"'Races, Positions & Points'!G84","v":"NR"},"","","","","",0,{"$error":"#VALUE!"},{"$error":"#VALUE!"},null,"","","","","",0,{"$error":"#VALUE!"},{"$error":"#VALUE!"},null,"","","","","","","","","","",{"$f":"IF(U82>0,U82,\"\")","v":""},{"$f":"IF(MIN(Y82,AO82)>0,MIN(Y82,AO82),\"\")","v":""},{"$f":"IF(AA82>0,AA82,\"\")","v":""},{"$f":"IF(AD82>0,AD82,\"\")","v":""},{"$f":"IF(AJ82>0,AJ82,\"\")","v":""},"",null,"","","","",null,"","","","",null,"","","","","",{"$f":"IF(J82>0,J82,\"\")","v":""},{"$f":"IF(MIN(AM82,AY82)>0,MIN(AM82,AY82),\"\")","v":""},{"$f":"IF(R82>0,R82,\"\")","v":""},"",""]
[{"$f":"'Races, Positions & Points'!A86","v":"Macaulay Clover"},{"$f":"IF('Races, Positions & Points'!AB86=\"\",\"\",'Races, Positions & Points'!AB86)","v":""},{"$f":"IF('Races, Positions & Points'!AD86=\"\",\"\",'Races, Positions & Points'!AD86)","v":""},{"$f":"IF('Races, Positions & Points'!AG86=\"\",\"\",'Races, Positions & Points'!AG86)","v":""},{"$f":"IF('Races, Positions & Points'!AJ86=\"\",\"\",'Races, Positions & Points'!AJ86)","v":""},{"$f":"IF('Races, Positions & Points'!AK86=\"\",\"\",'Races, Positions & Points'!AK86)","v":""},{"$f":"IF('Races, Positions & Points'!AN86=\"\",\"\",'Races, Positions & Points'!AN86)","v":""},{"$f":"IF('Races, Positions & Points'!AO86=\"\",\"\",'Races, Positions & Points'!AO86)","v":""},{"$f":"IF('Races, Positions & Points'!AR86=\"\",\"\",'Races, Positions & Points'!AR86)","v":""},{"$f":"IF('Races, Positions & Points'!AU86=\"\",\"\",'Races, Positions & Points'!AU86)","v":""},{"$f":"IF('Races, Positions & Points'!AX86=\"\",\"\",'Races, Positions & Points'!AX86)","v":""},{"$f":"IF('Races, Positions & Points'!BA86=\"\",\"\",'Races, Positions & Points'!BA86)","v":""},{"$f":"IF('Races, Positions & Points'!BD86=\"\",\"\",'Races, Positions & Points'!BD86)","v":""},{"$f":"IF('Races, Positions & Points'!BG86=\"\",\"\",'Races, Positions & Points'!BG86)","v":""},{"$f":"IF('Races, Positions & Points'!BJ86=\"\",\"\",'Races, Positions & Points'!BJ86)","v":""},{"$f":"IF('Races, Positions & Points'!BM86=\"\",\"\",'Races, Positions & Points'!BM86)","v":""},{"$f":"IF('Races, Positions & Points'!BP86=\"\",\"\",'Races, Positions & Points'!BP86)","v":""},{"$f":"IF('Races, Positions & Points'!BS86=\"\",\"\",'Races, Positions & Points'!BS86)","v":""},{"$f":"IF('Races, Positions & Points'!BV86=\"\",\"\",'Races, Positions & Points'!BV86)","v":""},{"$f":"IF('Races, Positions & Points'!BY86=\"\",\"\",'Races, Positions & Points'!BY86)","v":""},{"$f":"IF('Races, Positions & Points'!CB86=\"\",\"\",'Races, Positions & Points'!CB86)","v":""},{"$f":"IF('Races, Positions & Points'!CE86=\"\",\"\",'Races, Positions & Points'!CE86)","v":""},{"$f":"IF('Races, Positions & Points'!CH86=\"\",\"\",'Races, Positions & Points'!CH86)","v":""},{"$f":"IF('Races, Positions & Points'!CI86=\"\",\"\",'Races, Positions & Points'!CI86)","v":""},{"$f":"IF('Races, Positions & Points'!CL86=\"\",\"\",'Races, Positions & Points'!CL86)","v":""},{"$f":"IF('Races, Positions & Points'!CO86=\"\",\"\",'Races, Positions & Points'!CO86)","v":""},{"$f":"IF('Races, Positions & Points'!CR86=\"\",\"\",'Races, Positions & Points'!CR86)","v":""},{"$f":"IF('Races, Positions & Points'!CU86=\"\",\"\",'Races, Positions & Points'!CU86)","v":""},{"$f":"IF('Races, Positions & Points'!CX86=\"\",\"\",'Races, Positions & Points'!CX86)","v":""},{"$f":"IF('Races, Positions & Points'!DA86=\"\",\"\",'Races, Positions & Points'!DA86)","v":""},{"$f":"IF('Races, Positions & Points'!DD86=\"\",\"\",'Races, Positions & Points'!DD86)","v":""},{"$f":"IF('Races, Positions & Points'!DG86=\"\",\"\",'Races, Positions & Points'!DG86)","v":""},{"$f":"IF('Races, Positions & Points'!DJ86=\"\",\"\",'Races, Positions & Points'!DJ86)","v":""},{"$f":"IF('Races, Positions & Points'!DM86=\"\",\"\",'Races, Positions & Points'!DM86)","v":""},{"$f":"IF('Races, Positions & Points'!DP86=\"\",\"\",'Races, Positions & Points'!DP86)","v":""},{"$f":"IF('Races, Positions & Points'!DS86=\"\",\"\",'Races, Positions & Points'!DS86)","v":""},{"$f":"IF('Races, Positions & Points'!DV86=\"\",\"\",'Races, Positions & Points'!DV86)","v":""},{"$f":"IF('Races, Positions & Points'!DY86=\"\",\"\",'Races, Positions & Points'!DY86)","v":""},{"$f":"IF('Races, Positions & Points'!EB86=\"\",\"\",'Races, Positions & Points'!EB86)","v":""},{"$f":"IF('Races, Positions & Points'!EE86=\"\",\"\",'Races, Positions & Points'!EE86)","v":""},{"$f":"IF('Races, Positions & Points'!EG86=\"\",\"\",'Races, Positions & Points'!EG86)","v":""},{"$f":"IF('Races, Positions & Points'!EJ86=\"\",\"\",'Races, Positions & Points'!EJ86)","v":""},{"$f":"IF('Races, Positions & Points'!EM86=\"\",\"\",'Races, Positions & Points'!EM86)","v":""},{"$f":"IF('Races, Positions & Points'!EP86=\"\",\"\",'Races, Positions & Points'!EP86)","v":""},{"$f":"IF('Races, Positions & Points'!ES86=\"\",\"\",'Races, Positions & Points'!ES86)","v":""},{"$f":"IF('Races, Positions & Points'!EV86=\"\",\"\",'Races, Positions & Points'!EV86)","v":""},{"$f":"IF('Races, Positions & Points'!EY86=\"\",\"\",'Races, Positions & Points'!EY86)","v":""},{"$f":"IF('Races, Positions & Points'!FB86=\"\",\"\",'Races, Positions & Points'!FB86)","v":""},{"$f":"IF('Races, Positions & Points'!FE86=\"\",\"\",'Races, Positions & Points'!FE86)","v":""},{"$f":"IF('Races, Positions & Points'!FH86=\"\",\"\",'Races, Positions & Points'!FH86)","v":""},{"$f":"IF('Races, Positions & Points'!FI86=\"\",\"\",'Races, Positions & Points'!FI86)","v":""},null,0,0,0,0,0,0,null,{"$f":"'Races, Positions & Points'!E86","v":"Day"},{"$f":"'Races, Positions & Points'!G86","v":"NR"},"","","","","",0,{"$error":"#VALUE!"},{"$error":"#VALUE!"},null,"","","","","",0,{"$error":"#VALUE!"},{"$error":"#VALUE!"},null,"","","","","","","","","","",{"$f":"IF(U83>0,U83,\"\")","v":""},{"$f":"IF(MIN(Y83,AO83)>0,MIN(Y83,AO83),\"\")","v":""},{"$f":"IF(AA83>0,AA83,\"\")","v":""},{"$f":"IF(AD83>0,AD83,\"\")","v":""},{"$f":"IF(AJ83>0,AJ83,\"\")","v":""},"",null,"","","","",null,"","","","",null,"","","","","",{"$f":"IF(J83>0,J83,\"\")","v":""},{"$f":"IF(MIN(AM83,AY83)>0,MIN(AM83,AY83),\"\")","v":""},{"$f":"IF(R83>0,R83,\"\")","v":""},"",""]

{"sheet":"Age Calculation","index":6,"n_rows":108,"n_cols":17,"rows_kept":108,"cut":false,"hidden":true,"merged":[]}
[null,"Competition Year",2011,2012,2013,2014,2015,2016,2017,2018,2019,2020,2021,2022,2023,2024,2025]
["Year of Birth"]
[1920,null,{"$f":"IF(C$1-$A3<11,\"Mini\",IF(C$1-$A3<13,\"CH1\",IF(C$1-$A3<15,\"CH2\",IF(C$1-$A3<17,\"JN1\",IF(C$1-$A3<20,\"JN2\",IF(C$1-$A3<30,\"SEN\",\"MAS\"))))))","v":"MAS"},{"$f":"IF(D$1-$A3<11,\"Mini\",IF(D$1-$A3<13,\"CH1\",IF(D$1-$A3<15,\"CH2\",IF(D$1-$A3<17,\"JN1\",IF(D$1-$A3<20,\"JN2\",IF(D$1-$A3<30,\"SEN\",\"MAS\"))))))","v":"MAS"},"MAS","MAS","MAS","MAS","MAS","MAS","MAS","MAS","MAS","MAS","MAS","MAS","MAS"]
[1921,null,{"$f":"IF(C$1-$A4<11,\"Mini\",IF(C$1-$A4<13,\"CH1\",IF(C$1-$A4<15,\"CH2\",IF(C$1-$A4<17,\"JN1\",IF(C$1-$A4<20,\"JN2\",IF(C$1-$A4<30,\"SEN\",\"MAS\"))))))","v":"MAS"},"MAS","MAS","MAS","MAS","MAS","MAS","MAS","MAS","MAS","MAS","MAS","MAS","MAS","MAS"]
[1922,null,"MAS","MAS","MAS","MAS","MAS","MAS","MAS","MAS","MAS","MAS","MAS","MAS","MAS","MAS","MAS"]
[1923,null,"MAS","MAS","MAS","MAS","MAS","MAS","MAS","MAS","MAS","MAS","MAS","MAS","MAS","MAS","MAS"]
[1924,null,"MAS","MAS","MAS","MAS","MAS","MAS","MAS","MAS","MAS","MAS","MAS","MAS","MAS","MAS","MAS"]
[1925,null,"MAS","MAS","MAS","MAS","MAS","MAS","MAS","MAS","MAS","MAS","MAS","MAS","MAS","MAS","MAS"]
[1926,null,"MAS","MAS","MAS","MAS","MAS","MAS","MAS","MAS","MAS","MAS","MAS","MAS","MAS","MAS","MAS"]
[1927,null,"MAS","MAS","MAS","MAS","MAS","MAS","MAS","MAS","MAS","MAS","MAS","MAS","MAS","MAS","MAS"]
[1928,null,"MAS","MAS","MAS","MAS","MAS","MAS","MAS","MAS","MAS","MAS","MAS","MAS","MAS","MAS","MAS"]
[1929,null,"MAS","MAS","MAS","MAS","MAS","MAS","MAS","MAS","MAS","MAS","MAS","MAS","MAS","MAS","MAS"]
[1930,null,"MAS","MAS","MAS","MAS","MAS","MAS","MAS","MAS","MAS","MAS","MAS","MAS","MAS","MAS","MAS"]
[1931,null,"MAS","MAS","MAS","MAS","MAS","MAS","MAS","MAS","MAS","MAS","MAS","MAS","MAS","MAS","MAS"]
[1932,null,"MAS","MAS","MAS","MAS","MAS","MAS","MAS","MAS","MAS","MAS","MAS","MAS","MAS","MAS","MAS"]
[1933,null,"MAS","MAS","MAS","MAS","MAS","MAS","MAS","MAS","MAS","MAS","MAS","MAS","MAS","MAS","MAS"]
[1934,null,"MAS","MAS","MAS","MAS","MAS","MAS","MAS","MAS","MAS","MAS","MAS","MAS","MAS","MAS","MAS"]
[1935,null,"MAS","MAS","MAS","MAS","MAS","MAS","MAS","MAS","MAS","MAS","MAS","MAS","MAS","MAS","MAS"]
[1936,null,"MAS","MAS","MAS","MAS","MAS","MAS","MAS","MAS","MAS","MAS","MAS","MAS","MAS","MAS","MAS"]
[1937,null,"MAS","MAS","MAS","MAS","MAS","MAS","MAS","MAS","MAS","MAS","MAS","MAS","MAS","MAS","MAS"]
[1938,null,"MAS","MAS","MAS","MAS","MAS","MAS","MAS","MAS","MAS","MAS","MAS","MAS","MAS","MAS","MAS"]
[1939,null,"MAS","MAS","MAS","MAS","MAS","MAS","MAS","MAS","MAS","MAS","MAS","MAS","MAS","MAS","MAS"]
[1940,null,"MAS","MAS","MAS","MAS","MAS","MAS","MAS","MAS","MAS","MAS","MAS","MAS","MAS","MAS","MAS"]
[1941,null,"MAS","MAS","MAS","MAS","MAS","MAS","MAS","MAS","MAS","MAS","MAS","MAS","MAS","MAS","MAS"]
[1942,null,"MAS","MAS","MAS","MAS","MAS","MAS","MAS","MAS","MAS","MAS","MAS","MAS","MAS","MAS","MAS"]
[1943,null,"MAS","MAS","MAS","MAS","MAS","MAS","MAS","MAS","MAS","MAS","MAS","MAS","MAS","MAS","MAS"]
[1944,null,"MAS","MAS","MAS","MAS","MAS","MAS","MAS","MAS","MAS","MAS","MAS","MAS","MAS","MAS","MAS"]
[1945,null,"MAS","MAS","MAS","MAS","MAS","MAS","MAS","MAS","MAS","MAS","MAS","MAS","MAS","MAS","MAS"]
[1946,null,"MAS","MAS","MAS","MAS","MAS","MAS","MAS","MAS","MAS","MAS","MAS","MAS","MAS","MAS","MAS"]
[1947,null,"MAS","MAS","MAS","MAS","MAS","MAS","MAS","MAS","MAS","MAS","MAS","MAS","MAS","MAS","MAS"]
[1948,null,"MAS","MAS","MAS","MAS","MAS","MAS","MAS","MAS","MAS","MAS","MAS","MAS","MAS","MAS","MAS"]
[1949,null,"MAS","MAS","MAS","MAS","MAS","MAS","MAS","MAS","MAS","MAS","MAS","MAS","MAS","MAS","MAS"]
[1950,null,"MAS","MAS","MAS","MAS","MAS","MAS","MAS","MAS","MAS","MAS","MAS","MAS","MAS","MAS","MAS"]
[1951,null,"MAS","MAS","MAS","MAS","MAS","MAS","MAS","MAS","MAS","MAS","MAS","MAS","MAS","MAS","MAS"]
[1952,null,{"$f":"IF(C$1-$A35<11,\"Mini\",IF(C$1-$A35<13,\"CH1\",IF(C$1-$A35<15,\"CH2\",IF(C$1-$A35<17,\"JN1\",IF(C$1-$A35<20,\"JN2\",IF(C$1-$A35<30,\"SEN\",\"MAS\"))))))","v":"MAS"},"MAS","MAS","MAS","MAS","MAS","MAS","MAS","MAS","MAS","MAS","MAS","MAS","MAS","MAS"]
[1953,null,"MAS","MAS","MAS","MAS","MAS","MAS","MAS","MAS","MAS","MAS","MAS","MAS","MAS","MAS","MAS"]
[1954,null,"MAS","MAS","MAS","MAS","MAS","MAS","MAS","MAS","MAS","MAS","MAS","MAS","MAS","MAS","MAS"]
[1955,null,"MAS","MAS","MAS","MAS","MAS","MAS","MAS","MAS","MAS","MAS","MAS","MAS","MAS","MAS","MAS"]
[1956,null,"MAS","MAS","MAS","MAS","MAS","MAS","MAS","MAS","MAS","MAS","MAS","MAS","MAS","MAS","MAS"]
[1957,null,"MAS","MAS","MAS","MAS","MAS","MAS","MAS","MAS","MAS","MAS","MAS","MAS","MAS","MAS","MAS"]
[1958,null,"MAS","MAS","MAS","MAS","MAS","MAS","MAS","MAS","MAS","MAS","MAS","MAS","MAS","MAS","MAS"]
[1959,null,"MAS","MAS","MAS","MAS","MAS","MAS","MAS","MAS","MAS","MAS","MAS","MAS","MAS","MAS","MAS"]
[1960,null,"MAS","MAS","MAS","MAS","MAS","MAS","MAS","MAS","MAS","MAS","MAS","MAS","MAS","MAS","MAS"]
[1961,null,"MAS","MAS","MAS","MAS","MAS","MAS","MAS","MAS","MAS","MAS","MAS","MAS","MAS","MAS","MAS"]
[1962,null,"MAS","MAS","MAS","MAS","MAS","MAS","MAS","MAS","MAS","MAS","MAS","MAS","MAS","MAS","MAS"]
[1963,null,"MAS","MAS","MAS","MAS","MAS","MAS","MAS","MAS","MAS","MAS","MAS","MAS","MAS","MAS","MAS"]
[1964,null,"MAS","MAS","MAS","MAS","MAS","MAS","MAS","MAS","MAS","MAS","MAS","MAS","MAS","MAS","MAS"]
[1965,null,"MAS","MAS","MAS","MAS","MAS","MAS","MAS","MAS","MAS","MAS","MAS","MAS","MAS","MAS","MAS"]
[1966,null,"MAS","MAS","MAS","MAS","MAS","MAS","MAS","MAS","MAS","MAS","MAS","MAS","MAS","MAS","MAS"]
[1967,null,"MAS","MAS","MAS","MAS","MAS","MAS","MAS","MAS","MAS","MAS","MAS","MAS","MAS","MAS","MAS"]
[1968,null,"MAS","MAS","MAS","MAS","MAS","MAS","MAS","MAS","MAS","MAS","MAS","MAS","MAS","MAS","MAS"]
[1969,null,{"$f":"IF(C$1-$A52<11,\"Mini\",IF(C$1-$A52<13,\"CH1\",IF(C$1-$A52<15,\"CH2\",IF(C$1-$A52<17,\"JN1\",IF(C$1-$A52<20,\"JN2\",IF(C$1-$A52<30,\"SEN\",\"MAS\"))))))","v":"MAS"},"MAS","MAS","MAS","MAS","MAS","MAS","MAS","MAS","MAS","MAS","MAS","MAS","MAS","MAS"]
[1970,null,"MAS","MAS","MAS","MAS","MAS","MAS","MAS","MAS","MAS","MAS","MAS","MAS","MAS","MAS","MAS"]
[1971,null,"MAS","MAS","MAS","MAS","MAS","MAS","MAS","MAS","MAS","MAS","MAS","MAS","MAS","MAS","MAS"]
[1972,null,{"$f":"IF(C$1-$A55<11,\"Mini\",IF(C$1-$A55<13,\"CH1\",IF(C$1-$A55<15,\"CH2\",IF(C$1-$A55<17,\"JN1\",IF(C$1-$A55<20,\"JN2\",IF(C$1-$A55<30,\"SEN\",\"MAS\"))))))","v":"MAS"},"MAS","MAS","MAS","MAS","MAS","MAS","MAS","MAS","MAS","MAS","MAS","MAS","MAS","MAS"]
[1973,null,"MAS","MAS","MAS","MAS","MAS","MAS","MAS","MAS","MAS","MAS","MAS","MAS","MAS","MAS","MAS"]
[1974,null,"MAS","MAS","MAS","MAS","MAS","MAS","MAS","MAS","MAS","MAS","MAS","MAS","MAS","MAS","MAS"]
[1975,null,"MAS","MAS","MAS","MAS","MAS","MAS","MAS","MAS","MAS","MAS","MAS","MAS","MAS","MAS","MAS"]
[1976,null,"MAS","MAS","MAS","MAS","MAS","MAS","MAS","MAS","MAS","MAS","MAS","MAS","MAS","MAS","MAS"]
[1977,null,"MAS","MAS","MAS","MAS","MAS","MAS","MAS","MAS","MAS","MAS","MAS","MAS","MAS","MAS","MAS"]
[1978,null,"MAS","MAS","MAS","MAS","MAS","MAS","MAS","MAS","MAS","MAS","MAS","MAS","MAS","MAS","MAS"]
[1979,null,"MAS","MAS","MAS","MAS","MAS","MAS","MAS","MAS","MAS","MAS","MAS","MAS","MAS","MAS","MAS"]
[1980,null,"MAS","MAS","MAS","MAS","MAS","MAS","MAS","MAS","MAS","MAS","MAS","MAS","MAS","MAS","MAS"]
[1981,null,"MAS","MAS","MAS","MAS","MAS","MAS","MAS","MAS","MAS","MAS","MAS","MAS","MAS","MAS","MAS"]
[1982,null,"SEN","MAS","MAS","MAS","MAS","MAS","MAS","MAS","MAS","MAS","MAS","MAS","MAS","MAS","MAS"]
[1983,null,"SEN","SEN","MAS","MAS","MAS","MAS","MAS","MAS","MAS","MAS","MAS","MAS","MAS","MAS","MAS"]
[1984,null,"SEN","SEN","SEN","MAS","MAS","MAS","MAS","MAS","MAS","MAS","MAS","MAS","MAS","MAS","MAS"]
[1985,null,"SEN",{"$f":"IF(D$1-$A68<11,\"Mini\",IF(D$1-$A68<13,\"CH1\",IF(D$1-$A68<15,\"CH2\",IF(D$1-$A68<17,\"JN1\",IF(D$1-$A68<20,\"JN2\",IF(D$1-$A68<30,\"SEN\",\"MAS\"))))))","v":"SEN"},"SEN","SEN","MAS","MAS","MAS","MAS","MAS","MAS","MAS","MAS","MAS","MAS","MAS"]
[1986,null,"SEN","SEN","SEN","SEN","SEN","MAS","MAS","MAS","MAS","MAS","MAS","MAS","MAS","MAS","MAS"]
[1987,null,"SEN","SEN","SEN","SEN","SEN","SEN","MAS","MAS","MAS","MAS","MAS","MAS","MAS","MAS","MAS"]
[1988,null,"SEN","SEN","SEN","SEN","SEN","SEN","SEN","MAS","MAS","MAS","MAS","MAS","MAS","MAS","MAS"]
[1989,null,"SEN","SEN","SEN","SEN","SEN","SEN","SEN","SEN","MAS","MAS","MAS","MAS","MAS","MAS","MAS"]
[1990,null,"SEN","SEN","SEN","SEN","SEN","SEN","SEN","SEN","SEN","MAS","MAS","MAS","MAS","MAS","MAS"]
[1991,null,"SEN","SEN","SEN","SEN","SEN","SEN","SEN","SEN","SEN","SEN","MAS","MAS","MAS","MAS","MAS"]
[1992,null,"JN2","U21",{"$f":"IF(E$1-$A75<11,\"Mini\",IF(E$1-$A75<13,\"CH1\",IF(E$1-$A75<15,\"CH2\",IF(E$1-$A75<17,\"JN1\",IF(E$1-$A75<20,\"JN2\",IF(E$1-$A75<30,\"SEN\",\"MAS\"))))))","v":"SEN"},"SEN","SEN","SEN","SEN","SEN","SEN","SEN","SEN","MAS","MAS","MAS","MAS"]
[1993,null,"JN2","U21","U21",{"$f":"IF(F$1-$A76<11,\"Mini\",IF(F$1-$A76<13,\"CH1\",IF(F$1-$A76<15,\"CH2\",IF(F$1-$A76<17,\"JN1\",IF(F$1-$A76<20,\"JN2\",IF(F$1-$A76<30,\"SEN\",\"MAS\"))))))","v":"SEN"},"SEN","SEN","SEN","SEN","SEN","SEN","SEN","SEN","MAS","MAS","MAS"]
[1994,null,"JN2","U21","U21","U21",{"$f":"IF(G$1-$A77<11,\"Mini\",IF(G$1-$A77<13,\"CH1\",IF(G$1-$A77<15,\"CH2\",IF(G$1-$A77<17,\"JN1\",IF(G$1-$A77<20,\"JN2\",IF(G$1-$A77<30,\"SEN\",\"MAS\"))))))","v":"SEN"},"SEN","SEN","SEN","SEN","SEN","SEN","SEN","SEN","MAS","MAS"]
[1995,null,"JN1","U18","U21","U21","U21",{"$f":"IF(H$1-$A78<11,\"Mini\",IF(H$1-$A78<13,\"CH1\",IF(H$1-$A78<15,\"CH2\",IF(H$1-$A78<17,\"JN1\",IF(H$1-$A78<20,\"JN2\",IF(H$1-$A78<30,\"SEN\",\"MAS\"))))))","v":"SEN"},"SEN","SEN","SEN","SEN","SEN","SEN","SEN","SEN","MAS"]
[1996,null,"JN1","U18","U18","U21","U21","U21",{"$f":"IF(I$1-$A79<11,\"Mini\",IF(I$1-$A79<13,\"CH1\",IF(I$1-$A79<15,\"CH2\",IF(I$1-$A79<17,\"JN1\",IF(I$1-$A79<20,\"JN2\",IF(I$1-$A79<30,\"SEN\",\"MAS\"))))))","v":"SEN"},"SEN","SEN","SEN","SEN","SEN","SEN","SEN","SEN"]
[1997,null,"CH2","U16","U18","U18","U21","U21","U21",{"$f":"IF(J$1-$A80<11,\"Mini\",IF(J$1-$A80<13,\"CH1\",IF(J$1-$A80<15,\"CH2\",IF(J$1-$A80<17,\"JN1\",IF(J$1-$A80<20,\"JN2\",IF(J$1-$A80<30,\"SEN\",\"MAS\"))))))","v":"SEN"},"SEN","SEN","SEN","SEN","SEN","SEN","SEN"]
[1998,null,"CH2","U16","U16","U18","U18","U21","U21","U21","SEN","SEN","SEN","SEN","SEN","SEN","SEN"]
[1999,null,"CH1","U14","U16","U16","U18","U18","U21","U21","U21","SEN","SEN","SEN","SEN","SEN","SEN"]
[2000,null,"CH1","U14","U14","U16","U16","U18","U18","U21","U21","U21","SEN","SEN","SEN","SEN","SEN"]
[2001,null,"Mini","U12","U14","U14","U16","U16","U18","U18","U21","U21","U21","SEN","SEN","SEN","SEN"]
[2002,null,"Mini","U12","U12","U14","U14","U16","U16","U18","U18","U21","U21","U21","SEN","SEN","SEN"]
[2003,null,"Mini","U10","U12","U12","U14","U14","U16","U16","U18","U18","U21","U21","U21","SEN","SEN"]
[2004,null,"Mini","U10","U10","U12","U12","U14","U14","U16","U16","U18","U18","U21","U21","U21","SEN"]
[2005,null,null,null,"U10","U10","U12","U12","U14","U14","U16","U16","U18","U18","U21","U21","U21"]
[2006,null,null,null,null,"U10","U10","U12","U12","U14","U14","U16","U16","U18","U18","U21","U21"]
[2007,null,null,null,null,null,"U10","U10","U12","U12","U14","U14","U16","U16","U18","U18","U21"]
[2008,null,null,null,null,null,null,"U10","U10","U12","U12","U14","U14","U16","U16","U18","U18"]
[2009,null,null,null,null,null,null,null,"U10","U10","U12","U12","U14","U14","U16","U16","U18"]
[2010,null,null,null,null,null,null,null,null,"U10","U10","U12","U12","U14","U14","U16","U16"]
[2011,null,null,null,null,null,null,null,null,null,"U10","U10","U12","U12","U14","U14","U16"]
[2012,null,null,null,null,null,null,null,null,null,null,"U10","U10","U12","U12","U14","U14"]
[2013,null,null,null,null,null,null,null,null,null,null,null,"U10","U10","U12","U12","U14"]
[2014,null,null,null,null,null,null,null,null,null,null,null,null,"U10","U10","U12","U12"]
[2015,null,null,null,null,null,null,null,null,null,null,null,null,null,"U10","U10","U12"]
[2016,null,null,null,null,null,null,null,null,null,null,null,null,null,null,"U10","U10"]
[2017,null,null,null,null,null,null,null,null,null,null,null,null,null,null,null,"U10"]
[2018]
[2019]
[2020]
[2021]
[2022]
[2023]
[2024]
[2025]

{"sheet":"Start of Year Points","index":7,"n_rows":71,"n_cols":193,"rows_kept":71,"cut":false,"hidden":true,"merged":[]}
["REGNO","SURNAME","FORENAME","SEX","YOB","CAT","CLUB1","CLUB2","oBARTS 14.0 PTS",null,"iBARTS 14.1 PTS","oBARTS 14.1 PTS",null,"iBARTS 14.2 PTS","oBARTS 14.2 PTS",null,"iBARTS 14.3 PTS","oBARTS 14.3 PTS",null,"iBARTS 14.4 PTS","oBARTS 14.4 PTS",null,"iBARTS 14.5 PTS","oBARTS 14.5 PTS",null,"iBARTS 14.6 PTS","oBARTS 14.6 PTS"]
[20168,"BILL","Rachel","F",1990,"SEN","MID","MID",23.81,null,23.81,23.81,null,23.81,23.81,null,null,null,null,null,null,null,null,null,null,null,null,{"$f":"VLOOKUP(A2,'Races, Positions & Points'!E$8:G$86,2,FALSE)","v":0}]
[17888,"DELLER","Lucy","F",1996,"U21","MID","DRA",25.68,null,25.68,25.68,null,25.68,25.68,null,null,null,null,null,null,null,null,null,null,null,null,{"$f":"VLOOKUP(A3,'Races, Positions & Points'!E$8:G$86,2,FALSE)","v":0}]
[20696,"NEWBOULT","Helena","F",1998,"U18","MID","MID",27.39,null,27.39,27.39,null,27.39,27.39,null,null,null,null,null,null,null,null,null,null,null,null,{"$f":"VLOOKUP(A4,'Races, Positions & Points'!E$8:G$86,2,FALSE)","v":0}]
[13381,"VERNON","Rowan","F",1988,"SEN","MID","MID",32.840000000000003,null,32.840000000000003,32.840000000000003,null,32.840000000000003,32.840000000000003,null,null,null,null,null,null,null,null,null,null,null,null,{"$f":"VLOOKUP(A5,'Races, Positions & Points'!E$8:G$86,2,FALSE)","v":0}]
[20307,"MIDDLETON","Amy","F",1995,"U21","MID",null,51.15,null,51.15,51.15,null,51.15,51.15,null,null,null,null,null,null,null,null,null,null,null,null,{"$f":"VLOOKUP(A6,'Races, Positions & Points'!E$8:G$86,2,FALSE)","v":0}]
[18033,"THOMAS","Elisabeth","F",1996,"U21","MID","DRA",72.7,null,72.7,72.7,null,72.7,72.7,null,null,null,null,null,null,null,null,null,null,null,null,{"$f":"VLOOKUP(A7,'Races, Positions & Points'!E$8:G$86,2,FALSE)","v":0}]
[18617,"HANCOCK","Maxine","F",1997,"U18","MID","SMK",74.28,null,74.28,74.28,null,74.28,74.28,null,null,null,null,null,null,null,null,null,null,null,null,{"$f":"VLOOKUP(A8,'Races, Positions & Points'!E$8:G$86,2,FALSE)","v":0}]
[21014,"MAYHEW","Jessica","F",2000,"U16","MID","MID",84.18,null,84.18,53.98,null,84.18,48.06,null,null,null,null,null,null,null,null,null,null,null,null,{"$f":"VLOOKUP(A9,'Races, Positions & Points'!E$8:G$86,2,FALSE)","v":0}]
[19833,"SHAKESHAFT","Hannah","F",1996,"U21","MID","SMK",140.29,null,140.29,140.29,null,140.29,140.29,null,null,null,null,null,null,null,null,null,null,null,null,{"$f":"VLOOKUP(A10,'Races, Positions & Points'!E$8:G$86,2,FALSE)","v":0}]
[19983,"CARE","Chloe","F",1998,"U18","MID",null,203.01,null,203.01,203.01,null,203.01,203.01,null,null,null,null,null,null,null,null,null,null,null,null,{"$f":"VLOOKUP(A11,'Races, Positions & Points'!E$8:G$86,2,FALSE)","v":0}]
[19165,"ELGY","Geraldine","F",1954,"MAS","MID",null,330.25,null,330.25,330.25,null,330.25,330.25,null,null,null,null,null,null,null,null,null,null,null,null,{"$f":"VLOOKUP(A12,'Races, Positions & Points'!E$8:G$86,2,FALSE)","v":0}]
[20781,"NEWBOULT","Laura","F",1995,"U21","MID",null,428.94,null,428.94,428.94,null,428.94,428.94,null,null,null,null,null,null,null,null,null,null,null,null,{"$f":"VLOOKUP(A13,'Races, Positions & Points'!E$8:G$86,2,FALSE)","v":0}]
[19573,"DOHERTY","Robyn","F",1996,"U21","MID",null,636.34,null,636.34,636.34,null,636.34,636.34,null,null,null,null,null,null,null,null,null,null,null,null,{"$f":"VLOOKUP(A14,'Races, Positions & Points'!E$8:G$86,2,FALSE)","v":0}]
[41577,"LEE","Jane","F",1954,"MAS","MID",null,640.45000000000005,null,640.45000000000005,640.45000000000005,null,640.45000000000005,640.45000000000005,null,null,null,null,null,null,null,null,null,null,null,null,{"$f":"VLOOKUP(A15,'Races, Positions & Points'!E$8:G$86,2,FALSE)","v":0}]
[20669,"TREUGE","Lauren","F",2003,"U12","MID",null,999.99,null,999.99,999.99,null,999.99,999.99,null,null,null,null,null,null,null,null,null,null,null,null,{"$f":"VLOOKUP(A16,'Races, Positions & Points'!E$8:G$86,2,FALSE)","v":0}]
[20809,"O'BRIEN","Matilda","F",2004,"U12","MID",null,999.99,null,999.99,999.99,null,999.99,999.99,null,null,null,null,null,null,null,null,null,null,null,null,{"$f":"VLOOKUP(A17,'Races, Positions & Points'!E$8:G$86,2,FALSE)","v":0}]
[21569,"HEMMING","Anya","F",2005,"U10","MID",null,999.99,null,999.99,999.99,null,999.99,999.99,null,null,null,null,null,null,null,null,null,null,null,null,{"$f":"VLOOKUP(A18,'Races, Positions & Points'!E$8:G$86,2,FALSE)","v":0}]
[22015,"LLEWELLYN","Aaliyah","F",2006,"U10","WM","MID",999.99,null,999.99,999.99,null,999.99,999.99,null,null,null,null,null,null,null,null,null,null,null,null,{"$f":"VLOOKUP(A19,'Races, Positions & Points'!E$8:G$86,2,FALSE)","v":0}]
[17356,"HORNSBY","Harry","M",1991,"SEN","MID","MID",5.41,null,5.41,5.28,null,5.41,5.28,null,null,null,null,null,null,null,null,null,null,null,null,{"$f":"VLOOKUP(A20,'Races, Positions & Points'!E$8:G$86,2,FALSE)","v":0}]
[17479,"POWELL","Jonathan","M",1986,"SEN","RAV","MID",18.72,null,18.72,18.72,null,18.72,18.72,null,null,null,null,null,null,null,null,null,null,null,null,{"$f":"VLOOKUP(A21,'Races, Positions & Points'!E$8:G$86,2,FALSE)","v":0}]
[12318,"DU PLESSIS","Andrew","M",1985,"SEN","MID","DHO",23.04,null,23.04,23.04,null,23.04,23.04,null,null,null,null,null,null,null,null,null,null,null,null,{"$f":"VLOOKUP(A22,'Races, Positions & Points'!E$8:G$86,2,FALSE)","v":0}]
[19704,"BEARDMORE","Adam","M",1986,"SEN","MID",null,35.26,null,35.26,35.26,null,35.26,35.26,null,null,null,null,null,null,null,null,null,null,null,null,{"$f":"VLOOKUP(A23,'Races, Positions & Points'!E$8:G$86,2,FALSE)","v":0}]
[41578,"LEE","Adam","M",1994,"U21","PND","MID",38.93,null,38.93,38.93,null,38.93,36.39,null,null,null,null,null,null,null,null,null,null,null,null,{"$f":"VLOOKUP(A24,'Races, Positions & Points'!E$8:G$86,2,FALSE)","v":0}]
[41722,"RIGBY","Jack","M",1995,"U21","MID","IMP",50.4,null,42.49,50.4,null,42.49,50.4,null,null,null,null,null,null,null,null,null,null,null,null,{"$f":"VLOOKUP(A25,'Races, Positions & Points'!E$8:G$86,2,FALSE)","v":0}]
[21084,"EMMERSON","Philip","M",1990,"SEN","MID",null,57.73,null,57.73,57.73,null,57.73,57.73,null,null,null,null,null,null,null,null,null,null,null,null,{"$f":"VLOOKUP(A26,'Races, Positions & Points'!E$8:G$86,2,FALSE)","v":0}]
[19163,"HAWKINS","Mark","M",1979,"MAS","MID",null,61.45,null,61.45,58.84,null,61.45,57.1,null,null,null,null,null,null,null,null,null,null,null,null,{"$f":"VLOOKUP(A27,'Races, Positions & Points'!E$8:G$86,2,FALSE)","v":0}]
[18607,"MILLER","Nicholas","M",1993,"SEN","MID",null,63.19,null,63.19,63.19,null,63.19,63.19,null,null,null,null,null,null,null,null,null,null,null,null,{"$f":"VLOOKUP(A28,'Races, Positions & Points'!E$8:G$86,2,FALSE)","v":0}]
[18586,"THORLEY","Alasdair","M",1994,"U21","MID","OXU",69.650000000000006,null,69.650000000000006,69.650000000000006,null,69.650000000000006,69.650000000000006,null,null,null,null,null,null,null,null,null,null,null,null,{"$f":"VLOOKUP(A29,'Races, Positions & Points'!E$8:G$86,2,FALSE)","v":0}]
[17840,"PHELPS","Nicholas","M",1997,"U18","MID","MID",70.34,null,70.34,70.34,null,70.34,70.34,null,null,null,null,null,null,null,null,null,null,null,null,{"$f":"VLOOKUP(A30,'Races, Positions & Points'!E$8:G$86,2,FALSE)","v":0}]
[19051,"WEEKS","Oliver","M",2001,"U14","MID","DRA",70.989999999999995,null,70.989999999999995,70.989999999999995,null,70.989999999999995,70.989999999999995,null,null,null,null,null,null,null,null,null,null,null,null,{"$f":"VLOOKUP(A31,'Races, Positions & Points'!E$8:G$86,2,FALSE)","v":0}]
[21595,"SMITH","James","M",1992,"SEN","MID",null,72.23,null,72.23,72.23,null,72.23,72.23,null,null,null,null,null,null,null,null,null,null,null,null,{"$f":"VLOOKUP(A32,'Races, Positions & Points'!E$8:G$86,2,FALSE)","v":0}]
[18509,"MILLER","Gareth","M",1994,"U21","MID","SAS",73.98,null,71.069999999999993,73.98,null,71.069999999999993,73.98,null,null,null,null,null,null,null,null,null,null,null,null,{"$f":"VLOOKUP(A33,'Races, Positions & Points'!E$8:G$86,2,FALSE)","v":0}]
[14213,"WALKER","Edmund","M",1992,"SEN","MID","MID",77.16,null,77.16,77.16,null,77.16,77.16,null,null,null,null,null,null,null,null,null,null,null,null,{"$f":"VLOOKUP(A34,'Races, Positions & Points'!E$8:G$86,2,FALSE)","v":0}]
[19910,"RIGBY","Jordan","M",2000,"U16","MID","IMP",111.82,null,111.82,111.82,null,111.82,111.82,null,null,null,null,null,null,null,null,null,null,null,null,{"$f":"VLOOKUP(A35,'Races, Positions & Points'!E$8:G$86,2,FALSE)","v":0}]
[20846,"DEWISON","Samuel","M",1998,"U18","MID","MID",119.86,null,119.86,119.86,null,119.86,119.86,null,null,null,null,null,null,null,null,null,null,null,null,{"$f":"VLOOKUP(A36,'Races, Positions & Points'!E$8:G$86,2,FALSE)","v":0}]
[5666,"CROMBLEHOLME","Roger","M",1957,"MAS","MID","TEL",120.35,null,120.35,120.35,null,120.35,120.35,null,null,null,null,null,null,null,null,null,null,null,null,{"$f":"VLOOKUP(A37,'Races, Positions & Points'!E$8:G$86,2,FALSE)","v":0}]
[20677,"FROST","Joey","M",1995,"U21","MID",null,127.79,null,127.79,127.79,null,127.79,127.79,null,null,null,null,null,null,null,null,null,null,null,null,{"$f":"VLOOKUP(A38,'Races, Positions & Points'!E$8:G$86,2,FALSE)","v":0}]
[41662,"LEE","Sam","M",1996,"U21","MID",null,128.82,null,128.82,128.82,null,128.82,128.82,null,null,null,null,null,null,null,null,null,null,null,null,{"$f":"VLOOKUP(A39,'Races, Positions & Points'!E$8:G$86,2,FALSE)","v":0}]
[18998,"THORLEY","Duncan","M",1997,"U18","MID",null,133.94999999999999,null,133.94999999999999,133.94999999999999,null,133.94999999999999,133.94999999999999,null,null,null,null,null,null,null,null,null,null,null,null,{"$f":"VLOOKUP(A40,'Races, Positions & Points'!E$8:G$86,2,FALSE)","v":0}]
[19941,"LAWRENCE","Thomas","M",1999,"U16","MID","DRA",144.61000000000001,null,144.61000000000001,144.61000000000001,null,144.61000000000001,144.61000000000001,null,null,null,null,null,null,null,null,null,null,null,null,{"$f":"VLOOKUP(A41,'Races, Positions & Points'!E$8:G$86,2,FALSE)","v":0}]
[19829,"HEMMING","Ethan","M",2001,"U14","MID","MID",150.21,null,150.21,150.21,null,150.21,138.09,null,null,null,null,null,null,null,null,null,null,null,null,{"$f":"VLOOKUP(A42,'Races, Positions & Points'!E$8:G$86,2,FALSE)","v":0}]
[19166,"ELGY","James","M",1993,"SEN","MID",null,166.36,null,166.36,166.36,null,166.36,166.36,null,null,null,null,null,null,null,null,null,null,null,null,{"$f":"VLOOKUP(A43,'Races, Positions & Points'!E$8:G$86,2,FALSE)","v":0}]
[21550,"TARRANT","Toby","M",1997,"U18","MID",null,186.2,null,186.2,186.2,null,186.2,186.2,null,null,null,null,null,null,null,null,null,null,null,null,{"$f":"VLOOKUP(A44,'Races, Positions & Points'!E$8:G$86,2,FALSE)","v":0}]
[21051,"UPTON","Thomas","M",2001,"U14","MID",null,189.87,null,189.87,182.89,null,179.58,126.27,null,null,null,null,null,null,null,null,null,null,null,null,{"$f":"VLOOKUP(A45,'Races, Positions & Points'!E$8:G$86,2,FALSE)","v":0}]
[19379,"GUY","Edward","M",2001,"U14","TEL","MID",238.89,null,238.89,238.89,null,238.89,138.32,null,null,null,null,null,null,null,null,null,null,null,null,{"$f":"VLOOKUP(A46,'Races, Positions & Points'!E$8:G$86,2,FALSE)","v":0}]
[19572,"DOHERTY","Samuel","M",1999,"U16","MID",null,257.08999999999997,null,257.08999999999997,257.08999999999997,null,257.08999999999997,257.08999999999997,null,null,null,null,null,null,null,null,null,null,null,null,{"$f":"VLOOKUP(A47,'Races, Positions & Points'!E$8:G$86,2,FALSE)","v":0}]
[18616,"HANCOCK","Karl","M",1995,"U21","MID",null,259.37,null,259.37,259.37,null,259.37,259.37,null,null,null,null,null,null,null,null,null,null,null,null,{"$f":"VLOOKUP(A48,'Races, Positions & Points'!E$8:G$86,2,FALSE)","v":0}]
[19164,"ELGY","John","M",1951,"MAS","MID",null,332.56,null,332.56,332.56,null,332.56,332.56,null,null,null,null,null,null,null,null,null,null,null,null,{"$f":"VLOOKUP(A49,'Races, Positions & Points'!E$8:G$86,2,FALSE)","v":0}]
[21633,"KIRKLAND","Matthew","M",1992,"SEN","MID","MID",345.98,null,345.98,345.98,null,345.98,345.98,null,null,null,null,null,null,null,null,null,null,null,null,{"$f":"VLOOKUP(A50,'Races, Positions & Points'!E$8:G$86,2,FALSE)","v":0}]
[17039,"DELLER","Philip","M",1959,"MAS","MID",null,780.34,null,780.34,780.34,null,780.34,780.34,null,null,null,null,null,null,null,null,null,null,null,null,{"$f":"VLOOKUP(A51,'Races, Positions & Points'!E$8:G$86,2,FALSE)","v":0}]
[17037,"HANCOCK","David","M",1964,"MAS","MID","SMK",999.99,null,999.99,999.99,null,999.99,999.99,null,null,null,null,null,null,null,null,null,null,null,null,{"$f":"VLOOKUP(A52,'Races, Positions & Points'!E$8:G$86,2,FALSE)","v":0}]
[21714,"BIRD","Joseph","M",1994,"U21","MID","MID",999.99,null,999.99,999.99,null,999.99,999.99,null,null,null,null,null,null,null,null,null,null,null,null,{"$f":"VLOOKUP(A53,'Races, Positions & Points'!E$8:G$86,2,FALSE)","v":0}]
[21075,"HEARD","Jake","M",1998,"U18","MID",null,999.99,null,999.99,999.99,null,999.99,999.99,null,null,null,null,null,null,null,null,null,null,null,null,{"$f":"VLOOKUP(A54,'Races, Positions & Points'!E$8:G$86,2,FALSE)","v":0}]
[19737,"O'BRIEN","Seamus","M",2002,"U14","MID","EVO",999.99,null,185.65,999.99,null,142.41,999.99,null,null,null,null,null,null,null,null,null,null,null,null,{"$f":"VLOOKUP(A55,'Races, Positions & Points'!E$8:G$86,2,FALSE)","v":0}]
[20590,"CARE","James","M",2002,"U14","MID",null,999.99,null,999.99,398.04,null,999.99,398.04,null,null,null,null,null,null,null,null,null,null,null,null,{"$f":"VLOOKUP(A56,'Races, Positions & Points'!E$8:G$86,2,FALSE)","v":0}]
[20670,"TREUGE","Matthew","M",2002,"U14","MID","MID",999.99,null,999.99,999.99,null,999.99,999.99,null,null,null,null,null,null,null,null,null,null,null,null,{"$f":"VLOOKUP(A57,'Races, Positions & Points'!E$8:G$86,2,FALSE)","v":0}]
[20340,"SHAKESHAFT","James","M",2003,"U12","MID",null,999.99,null,999.99,999.99,null,999.99,999.99,null,null,null,null,null,null,null,null,null,null,null,null,{"$f":"VLOOKUP(A58,'Races, Positions & Points'!E$8:G$86,2,FALSE)","v":0}]
[20719,"HADLEY","Daniel","M",2004,"U12","MID","SMK",999.99,null,999.99,999.99,null,999.99,999.99,null,null,null,null,null,null,null,null,null,null,null,null,{"$f":"VLOOKUP(A59,'Races, Positions & Points'!E$8:G$86,2,FALSE)","v":0}]
[21052,"UPTON","Jack","M",2004,"U12","MID",null,999.99,null,999.99,999.99,null,999.99,999.99,null,null,null,null,null,null,null,null,null,null,null,null,{"$f":"VLOOKUP(A60,'Races, Positions & Points'!E$8:G$86,2,FALSE)","v":0}]
[20630,"TEAGUE","Jack","M",2004,"U12","MID",null,999.99,null,999.99,999.99,null,999.99,999.99,null,null,null,null,null,null,null,null,null,null,null,null,{"$f":"VLOOKUP(A61,'Races, Positions & Points'!E$8:G$86,2,FALSE)","v":0}]
[21837,"WOOLLEY","Kieran","M",2005,"U10","MID","WM",999.99,null,999.99,999.99,null,999.99,999.99,null,null,null,null,null,null,null,null,null,null,null,null,{"$f":"VLOOKUP(A62,'Races, Positions & Points'!E$8:G$86,2,FALSE)","v":0}]
[21606,"VALLAT","Agathe","F",1999,"U16","ALU","WBN",{"$f":"MIN(J63,L63,AA63,AC63,AD63)","v":465.82},null,465.82,465.82,null,465.82,465.82,null,null,null,null,null,null,null,null,null,null,null,null,{"$f":"VLOOKUP(A63,'Races, Positions & Points'!E$8:G$86,2,FALSE)","v":0}]
[14263,"DAWES","Emily","F",1991,"SEN",null,null,"NR",null,"NR","NR",null,"NR","NR",null,null,null,null,null,null,null,null,null,null,null,null,"NR"]
[17839,"PHELPS","Sophia","F",1994,"U21",null,null,"NR",null,"NR","NR",null,"NR","NR",null,null,null,null,null,null,null,null,null,null,null,null,"NR"]
[17516,"WALLER","Olivia","F",1994,"U21",null,null,"NR",null,"NR","NR",null,"NR","NR",null,null,null,null,null,null,null,null,null,null,null,null,"NR"]
[20676,"FROST","JJ","M",1993,"SEN",null,null,"NR",null,"NR","NR",null,"NR","NR",null,null,null,null,null,null,null,null,null,null,null,null,"NR",null,null,null,null,null,null,"","",null,null,null,null,null,null,null,null,null,null,null,null,null,null,null,null,null,null,null,null,null,null,null,null,null,null,null,null,null,null,null,null,null,null,null,null,null,null,null,null,null,null,null,null,null,null,null,null,null,null,null,null,null,null,null,null,null,null,null,null,null,null,null,null,null,null,null,null,null,null,null,null,null,null,null,null,null,null,null,null,null,null,null,null,null,null,null,null,null,null,null,null,null,null,null,null,null,null,null,null,null,null,null,null,null,null,null,null,null,null,null,null,null,null,null,null,null,null,null,null,null,null,null,null,null,null,null,null,null,null,null,null,null,null,null,null,null,null,null,null,null,null,null,0,0,null,"","","","",null,null,null,"","","",999.99]
[21130,"HALL","Ben","M",1994,"U21",null,null,"NR",null,"NR","NR",null,"NR","NR",null,null,null,null,null,null,null,null,null,null,null,null,"NR",null,null,null,null,null,null,"","",null,null,null,null,null,null,null,null,null,null,null,null,null,null,null,null,null,null,null,null,null,null,null,null,null,null,null,null,null,null,null,null,null,null,null,null,null,null,null,null,null,null,null,null,null,null,null,null,null,null,null,null,null,null,null,null,null,null,null,null,null,null,null,null,null,null,null,null,null,null,null,null,null,null,null,null,null,null,null,null,null,null,null,null,null,null,null,null,null,null,null,null,null,null,null,null,null,null,null,null,null,null,null,null,null,null,null,null,null,null,null,null,null,null,null,null,null,null,null,null,null,null,null,null,null,null,null,null,null,null,null,null,null,null,null,null,null,null,null,null,null,null,null,0,0,null,"","","","",null,null,null,"","","",999.99]
[17958,"WALLER","Matthew","M",1999,"U16",null,null,"NR",null,"NR","NR",null,"NR","NR",null,null,null,null,null,null,null,null,null,null,null,null,"NR",null,null,null,null,null,null,"","",null,null,null,null,null,null,null,null,null,null,null,null,null,null,null,null,null,null,null,null,null,null,null,null,null,null,null,null,null,null,null,null,null,null,null,null,null,null,null,null,null,null,null,null,null,null,null,null,null,null,null,null,null,null,null,null,null,null,null,null,null,null,null,null,null,null,null,null,null,null,null,null,null,null,null,null,null,null,null,null,null,null,null,null,null,null,null,null,null,null,null,null,null,null,null,null,null,null,null,null,null,null,null,null,null,null,null,null,null,null,null,null,null,null,null,null,null,null,null,null,null,null,null,null,null,null,null,null,null,null,null,null,null,null,null,null,null,null,null,null,null,null,null,0,0,null,"",398.04,"","",null,null,null,331.70000000000005,"","",398.04]
["Day",null,null,null,null,null,null,null,"NR",null,"NR","NR",null,"NR","NR",null,null,null,null,null,null,null,null,null,null,null,null,"NR",null,null,null,null,null,null,"","",null,null,null,null,null,null,null,null,null,null,null,null,null,null,null,null,null,null,null,null,null,null,null,null,null,null,null,null,null,null,null,null,null,null,null,null,null,null,null,null,null,null,null,null,null,null,null,null,null,null,null,null,null,null,null,null,null,null,null,null,null,null,null,null,null,null,null,null,null,null,null,null,null,null,null,null,null,null,null,null,null,null,null,null,null,null,null,null,null,null,null,null,null,null,null,null,null,null,null,null,null,null,null,null,null,null,null,null,null,null,null,null,null,null,null,null,null,null,null,null,null,null,null,null,null,null,null,null,null,null,null,null,null,null,null,null,null,null,null,null,null,null,null,0,0]
[22176,"GILES","Ella","F",2003,"U12","MID",null,999.99,null,999.99,999.99,null,999.99,999.99,null,null,null,null,null,null,null,null,null,null,null,null,999.99]

{"sheet":"2014.1","index":8,"n_rows":62,"n_cols":10,"rows_kept":62,"cut":false,"hidden":true,"merged":[]}
["REGNO","SURNAME","FORENAME","SEX","YOB","CAT","CLUB1","CLUB2","iBARTS 14.1 PTS","oBARTS 14.1 PTS"]
[20168,"BILL","Rachel","F",1990,"SEN","MID","MID",23.81,23.81]
[17888,"DELLER","Lucy","F",1996,"U21","MID","DRA",25.68,25.68]
[20696,"NEWBOULT","Helena","F",1998,"U18","MID","MID",27.39,27.39]
[13381,"VERNON","Rowan","F",1988,"SEN","MID","MID",32.840000000000003,32.840000000000003]
[20307,"MIDDLETON","Amy","F",1995,"U21","MID",null,51.15,51.15]
[18033,"THOMAS","Elisabeth","F",1996,"U21","MID","DRA",72.7,72.7]
[18617,"HANCOCK","Maxine","F",1997,"U18","MID","SMK",74.28,74.28]
[21014,"MAYHEW","Jessica","F",2000,"U16","MID","MID",84.18,53.98]
[19833,"SHAKESHAFT","Hannah","F",1996,"U21","MID","SMK",140.29,140.29]
[19983,"CARE","Chloe","F",1998,"U18","MID",null,203.01,203.01]
[19165,"ELGY","Geraldine","F",1954,"MAS","MID",null,330.25,330.25]
[20781,"NEWBOULT","Laura","F",1995,"U21","MID",null,428.94,428.94]
[19573,"DOHERTY","Robyn","F",1996,"U21","MID",null,636.34,636.34]
[41577,"LEE","Jane","F",1954,"MAS","MID",null,640.45000000000005,640.45000000000005]
[20669,"TREUGE","Lauren","F",2003,"U12","MID",null,999.99,999.99]
[20809,"O'BRIEN","Matilda","F",2004,"U12","MID",null,999.99,999.99]
[21569,"HEMMING","Anya","F",2005,"U10","MID",null,999.99,999.99]
[22015,"LLEWELLYN","Aaliyah","F",2006,"U10","WM","MID",999.99,999.99]
[17356,"HORNSBY","Harry","M",1991,"SEN","MID","MID",5.41,5.28]
[17479,"POWELL","Jonathan","M",1986,"SEN","RAV","MID",18.72,18.72]
[12318,"DU PLESSIS","Andrew","M",1985,"SEN","MID","DHO",23.04,23.04]
[19704,"BEARDMORE","Adam","M",1986,"SEN","MID",null,35.26,35.26]
[41578,"LEE","Adam","M",1994,"U21","PND","MID",38.93,38.93]
[41722,"RIGBY","Jack","M",1995,"U21","MID","IMP",42.49,50.4]
[21084,"EMMERSON","Philip","M",1990,"SEN","MID",null,57.73,57.73]
[19163,"HAWKINS","Mark","M",1979,"MAS","MID",null,61.45,58.84]
[18607,"MILLER","Nicholas","M",1993,"SEN","MID",null,63.19,63.19]
[18586,"THORLEY","Alasdair","M",1994,"U21","MID","OXU",69.650000000000006,69.650000000000006]
[17840,"PHELPS","Nicholas","M",1997,"U18","MID","MID",70.34,70.34]
[19051,"WEEKS","Oliver","M",2001,"U14","MID","DRA",70.989999999999995,70.989999999999995]
[18509,"MILLER","Gareth","M",1994,"U21","MID","SAS",71.069999999999993,73.98]
[21595,"SMITH","James","M",1992,"SEN","MID",null,72.23,72.23]
[14213,"WALKER","Edmund","M",1992,"SEN","MID","MID",77.16,77.16]
[19910,"RIGBY","Jordan","M",2000,"U16","MID","IMP",111.82,111.82]
[20846,"DEWISON","Samuel","M",1998,"U18","MID","MID",119.86,119.86]
[5666,"CROMBLEHOLME","Roger","M",1957,"MAS","MID","TEL",120.35,120.35]
[20677,"FROST","Joey","M",1995,"U21","MID",null,127.79,127.79]
[41662,"LEE","Sam","M",1996,"U21","MID",null,128.82,128.82]
[18998,"THORLEY","Duncan","M",1997,"U18","MID",null,133.94999999999999,133.94999999999999]
[19941,"LAWRENCE","Thomas","M",1999,"U16","MID","DRA",144.61000000000001,144.61000000000001]
[19829,"HEMMING","Ethan","M",2001,"U14","MID","MID",150.21,150.21]
[19166,"ELGY","James","M",1993,"SEN","MID",null,166.36,166.36]
[19737,"O'BRIEN","Seamus","M",2002,"U14","MID","EVO",185.65,999.99]
[21550,"TARRANT","Toby","M",1997,"U18","MID",null,186.2,186.2]
[21051,"UPTON","Thomas","M",2001,"U14","MID",null,189.87,182.89]
[19379,"GUY","Edward","M",2001,"U14","TEL","MID",238.89,238.89]
[19572,"DOHERTY","Samuel","M",1999,"U16","MID",null,257.08999999999997,257.08999999999997]
[18616,"HANCOCK","Karl","M",1995,"U21","MID",null,259.37,259.37]
[19164,"ELGY","John","M",1951,"MAS","MID",null,332.56,332.56]
[21633,"KIRKLAND","Matthew","M",1992,"SEN","MID","MID",345.98,345.98]
[17039,"DELLER","Philip","M",1959,"MAS","MID",null,780.34,780.34]
[20590,"CARE","James","M",2002,"U14","MID",null,999.99,398.04]
[17037,"HANCOCK","David","M",1964,"MAS","MID","SMK",999.99,999.99]
[21075,"HEARD","Jake","M",1998,"U18","MID",null,999.99,999.99]
[20670,"TREUGE","Matthew","M",2002,"U14","MID","MID",999.99,999.99]
[20719,"HADLEY","Daniel","M",2004,"U12","MID","SMK",999.99,999.99]
[21052,"UPTON","Jack","M",2004,"U12","MID",null,999.99,999.99]
[21837,"WOOLLEY","Kieran","M",2005,"U10","MID","WM",999.99,999.99]
[21714,"BIRD","Joseph","M",1994,"U21","MID","MID",999.99,999.99]
[20340,"SHAKESHAFT","James","M",2003,"U12","MID",null,999.99,999.99]
[20630,"TEAGUE","Jack","M",2004,"U12","MID",null,999.99,999.99]

{"sheet":"2014.2","index":9,"n_rows":1707,"n_cols":10,"rows_kept":1707,"cut":false,"hidden":true,"merged":[]}
["REGNO","SURNAME","FORENAME","SEX","YOB","CAT","CLUB1","CLUB2","iBARTS 14.2 PTS","oBARTS 14.2 PTS"]
[21762,"PORTER","Tom","M",1997,"U18","2KP","2KP",999.99,999.99]
[18659,"NAYLER","Graham","M",1959,"MAS","ASR","ALD",128.41999999999999,128.41999999999999]
[14261,"CALVERT","John","M",1949,"MAS","ASR","ALD",344.67,344.67]
[14814,"STEVENS","Anthony","M",1962,"MAS",null,"ALU",999.99,999.99]
[18234,"WHITE","Thomas","M",1992,"SEN","AMB","AMB",28.18,40.520000000000003]
[14994,"MACAULAY","Alice","F",1995,"U21","AMB","AMB",2.5,2.5]
[18454,"WIDDUP","Bethany","F",1995,"U21","AMB","AMB",15.87,15.87]
[17702,"TAYLOR","Imogen","F",1994,"U21","AMB","AMB",67.87,152.99]
[20142,"EATON","Oliver","M",1996,"U21","AMB","AMB",115.42,115.42]
[20141,"EATON","Freya","F",1998,"U18","AMB","AMB",134.16,134.16]
[18475,"ASQUITH","Max","M",1996,"U21","AMB","AMB",200.32,200.32]
[17930,"WILLIS","Robert","M",1996,"U21","AMB","AMB",497.44,497.44]
[17488,"KAHVE","Lucy","F",1998,"U18","AMB","AMB",999.99,999.99]
[20799,"POLLITT","Oliver","M",2003,"U12","AMB","AMB",999.99,999.99]
[17284,"SIEBER","James","M",1996,"U21","ASR","AMB",2.91,2.91]
[41693,"WARD","Ella","F",1999,"U16","CAR","AMB",64.91,64.91]
[41692,"WARD","Olivia","F",2000,"U16","CAR","AMB",65.78,72.61]
[41831,"DAVIES","Alex","M",2002,"U14","CAR","AMB",255.2,999.99]
[13766,"EVANS","Emily","F",1994,"U21","CHT","AMB",10,10]
[17560,"ANDERSON","Jessica","F",1998,"U18","GRV","AMB",83.53,83.53]
[20535,"PINI","Maximilian","M",2002,"U14","GRV","AMB",999.99,999.99]
[19159,"HENDERSON","Anna","F",1998,"U18","HEM","AMB",8.5500000000000007,17.5]
[19005,"NORRIS","Kieran","M",1995,"U21","HEM","AMB",16.3,16.3]
[11915,"TELLING","Marc","M",1984,"MAS","HEM","AMB",16.91,16.91]
[20639,"WOODWARD","Sarah","F",2001,"U14","HEM","AMB",93.86,93.86]
[19735,"LONG","Phoebe","F",1998,"U18","HEM","AMB",166.55,166.55]
[20543,"LODER","Edward","M",1999,"U16","HEM","AMB",194.65,194.65]
[20601,"BURNS","Madeleine","F",2001,"U14","HEM","AMB",198.9,198.9]
[21077,"LEACH","Charlie","M",2001,"U14","HEM","AMB",216.88,216.88]
[18010,"RIDDELL","Luke","M",1996,"U21","HEM","AMB",163.16,163.16]
[11619,"MESUT","Justin","M",1985,"SEN","NOR","AMB",65.62,65.62]
[20748,"DADE","Tommy","M",2003,"U12","NOR","AMB",999.99,999.99]
[19869,"LEWIS","Barney","M",1995,"U21","SMK","AMB",22.57,22.57]
[20163,"WAGHORNE","Robert","M",1997,"U18","SMK","AMB",76.41,76.41]
[18649,"RILEY","Megan","F",2000,"U16","SMK","AMB",86.47,90.08]
[19001,"GLASGOW","Sarah","F",2001,"U14","SMK","AMB",98.08,147.02000000000001]
[18912,"SMITH","Benjamin","M",1997,"U18","SPR","AMB",66.650000000000006,66.650000000000006]
[19295,"ELLISS","Jack","M",1997,"U18","SPR","AMB",999.99,999.99]
[20181,"HENDERSON","Lucas","M",2003,"U12","SRR","AMB",999.99,999.99]
[19498,"LILLYWHITE","Alexandra","F",1999,"U16","VIK","AMB",49.28,49.28]
[20687,"TROUNG","Aaron","M",2001,"U14","VIK","AMB",112.35,112.35]
[17177,"STEUDLE","Roy","M",1993,"SEN",null,"AMB",142.51,999.99]
[17686,"BUCHANAN","Alexandra","F",1994,"U21",null,"AMB",173.01,999.99]
[14103,"MILLER","Violet","F",1995,"U21",null,"AMB",999.99,999.99]
[18504,"RAPOSO","Charlie","M",1996,"U21",null,"AMB",999.99,999.99]
[21050,"HUISMAN MURO","Kaylan","M",2003,"U12",null,"AMB",999.99,999.99]
[31191,"BROWN","Rachel","F",2000,"U16","GDN","ASC",121.52,121.52]
[30830,"BROWN","Jamie","M",1996,"U21","GDN","ASC",271.08999999999997,271.08999999999997]
[31257,"LIVERSIDGE","Lauren","F",2000,"U16","GDN","ASC",999.99,999.99]
[36610,"MORRISON","Hannah","F",1999,"U16","GDN","ASC",999.99,999.99]
[31358,"PYE","Ryan","M",2004,"U12","GDN","ASC",999.99,999.99]
[31100,"LAWRIE","Alannah","F",1999,"U16","SSC","ASC",68.540000000000006,68.540000000000006]
[18618,"BOZIER","Hannah","F",1996,"U21","ASR","ASR",8.9,6.95]
[18674,"CHAPMAN","Euan","M",1997,"U18","ASR","ASR",57.61,57.61]
[22111,"HODGSON","Ellen","F",2001,"U14","ASR","ASR",999.99,285.38]
[22079,"MAYHEAD","Eve","F",2000,"U16","ASR","ASR",999.99,464.18]
[21102,"SMITH","Oscar","M",2002,"U14","ASR","ASR",999.99,192.41]
[21602,"MILNER","Archie","M",2000,"U16","ASR","ASR",188.14,188.14]
[22159,"SMITH","Ben","M",2001,"U14","ASR","ASR",999.99,999.99]
[20262,"CASE","Toby","M",2002,"U14","HEM","ASR",117.78,105.98]
[17970,"HATHWAY","Ellen","F",1994,"U21","LSU","ASR",11.59,11.59]
[21627,"TURNER","Oliver","M",2000,"U16",null,"ASR",322.12,322.12]
[21140,"BLACK","Lauren","F",2001,"U14","AVO","AVO",332.06,295.44]
[21563,"WILLIAMS","Lewis","M",1999,"U16","AVO","AVO",414.39,359.89]
[21921,"HARVEY","Michael","M",2002,"U14","AVO","AVO",999.99,253.7]
[22019,"FORD","John","M",1987,"SEN","AVO","AVO",999.99,999.99]
[22080,"SOMMERFIELD","George","M",1997,"U18","AVO","AVO",999.99,999.99]
[21555,"BLACK","Callum","M",2004,"U12","AVO","AVO",999.99,999.99]
[20649,"SCHUBERT","Maximilian","M",2003,"U12","AVO","AVO",999.99,999.99]
[21650,"GOTTS","Joey","M",1987,"SEN","BRO","BRO",153.33000000000001,153.33000000000001]
[21897,"MARTIN","Lily","F",2002,"U14","BRO","BRO",999.99,999.99]
[22151,"NABAR","Paul","M",1964,"MAS",null,"BRO",999.99,999.99]
[20930,"ABRISHAMI","Diaco","M",2002,"U14","BRO","BRS",999.99,999.99]
[21713,"BEGLIN","Thomas","M",2004,"U12","HEM","BRS",999.99,999.99]
[21595,"SMITH","James","M",1992,"SEN","MID","BRU",72.23,72.23]
[19196,"CASE","George","M",2001,"U14","AVO","BSA",999.99,188.5]
[21848,"THOMAS","Owen","M",2001,"U14","BFC","BSA",999.99,999.99]
[21063,"BULLIVANT","Peter","M",2000,"U16","BOW","BSA",999.99,999.99]
[20988,"ROBERTSON","Ewan","M",2001,"U14","BRO","BSA",145.76,145.76]
[19413,"MCCLOUD","Milo","M",1997,"U18","BSA","BSA",226.82,226.82]
[20332,"IGLINA","Sofia","F",1997,"U18","BSA","BSA",999.99,999.99]
[21528,"PANTELI","Charlotte","F",1999,"U16","BSA","BSA",999.99,999.99]
[21394,"ROGERS","Anna","F",2001,"U14","BSA","BSA",999.99,999.99]
[19421,"CHAJECKI","Sebastian","M",1997,"U18","BSA","BSA",999.99,999.99]
[19524,"DOYLE","Jake","M",2001,"U14","BSA","BSA",999.99,999.99]
[21907,"HOGAN","John","M",2000,"U16","BSA","BSA",999.99,999.99]
[20460,"PATRICK","Oliver","M",1997,"U18","BSA","BSA",999.99,999.99]
[21609,"REBERT","Ethan","M",1998,"U18","BSA","BSA",999.99,999.99]
[21395,"ROGERS","Marcus","M",1999,"U16","BSA","BSA",999.99,999.99]
[41445,"SPILL","George","M",1993,"SEN","CAR","BSA",231.48,999.99]
[31489,"PROVAN","Max","M",2001,"U14","CSC","BSA",999.99,999.99]
[21571,"LAUGHLAND","Maximilian","M",2004,"U12","FLK","BSA",999.99,999.99]
[30624,"TILLEY","Alexandra","F",1993,"SEN","GDN","BSA",43.05,46.21]
[30869,"TROUP","Kieran","M",2000,"U16","GDN","BSA",999.99,999.99]
[18740,"MARTIN-HARRINGTON","Beatrice","F",1997,"U18","GLO","BSA",60.29,60.29]
[19260,"MITCHELL","Olivia","F",2001,"U14","GLO","BSA",85.9,85.9]
[20208,"HOSKINS","Isabella","F",1999,"U16","GLO","BSA",332,332]
[31139,"MCNICOL","Archie","M",1999,"U16","GSC","BSA",999.99,999.99]
[30898,"KICK","Euan","M",1997,"U18","GSR","BSA",0.41,0.41]
[19773,"CURTIS","Marie","F",1997,"U18","HEM","BSA",49.86,49.86]
[21355,"TAPSELL","Charlotte","F",2001,"U14","HEM","BSA",136.03,144.21]
[19137,"COOPER","Yasmin","F",1998,"U18","HEM","BSA",29.99,29.99]
[19169,"MANSON","Cameron","F",1998,"U18","HEM","BSA",37.049999999999997,999.99]
[19363,"DEIGHTON","Harry","M",2000,"U16","HEM","BSA",98.2,98.2]
[19362,"DEIGHTON","Toby","M",1999,"U16","HEM","BSA",104.13,104.13]
[20360,"BUCKLAND","Amber","F",1997,"U18","HEM","BSA",204.07,204.07]
[19153,"GIBBINS","Joseph","M",1998,"U18","HEM","BSA",208.1,208.1]
[21521,"CHMIELOWSKA","Julia","F",1996,"U21","HEM","BSA",999.99,999.99]
[21924,"LOVE","Charlie","M",2001,"U14","HEM","BSA",999.99,999.99]
[20364,"TATTERSALL","James","M",1997,"U18","MSR","BSA",210.68,210.68]
[41622,"JENKINS","Nia","F",1995,"U21","NOR","BSA",8.85,10.86]
[20481,"HUDSON","Thomas","M",2001,"U14","NOR","BSA",92.4,92.4]
[12989,"RICHES","Stuart","M",1989,"SEN","NOR","BSA",7.57,7.57]
[12618,"BALDWIN","Thomas","M",1990,"SEN","NOR","BSA",17.3,17.3]
[41623,"JENKINS","Megan","F",1998,"U18","NOR","BSA",20,20]
[19564,"WAYLING","Lloyd","M",1995,"U21","NOR","BSA",32.97,32.97]
[14962,"SHAILES","Polly","F",1996,"U21","NOR","BSA",34.409999999999997,34.409999999999997]
[18810,"FENELEY","Luke","M",1997,"U18","NOR","BSA",69.23,69.23]
[19586,"BUTCHER","Jazmine","F",1997,"U18","NOR","BSA",100.59,100.59]
[18809,"FENELEY","William","M",1999,"U16","NOR","BSA",148.16,148.16]
[14899,"MERCER","Patrick","M",1995,"U21","NOR","BSA",999.99,999.99]
[19770,"COOPER","Izabelle","F",2001,"U14","SAS","BSA",999.99,999.99]
[21199,"HORTON","Siena","F",2002,"U14","SMK","BSA",132.88999999999999,999.99]
[19187,"HAY","Cameron","M",1999,"U16","SMK","BSA",261.19,999.99]
[19834,"HAY","Louis","M",2002,"U14","SMK","BSA",999.99,999.99]
[30919,"BUCHAN","Scott","M",1999,"U16","SSC","BSA",129.37,136.61000000000001]
[30633,"GUEST","Charlotte","F",1993,"SEN","SSC","BSA",129.78,129.78]
[31025,"CROCKART","Tom","M",2000,"U16","SSC","BSA",176.66,176.66]
[31034,"JOHNSTON","Hamish","M",1997,"U18","SSC","BSA",214.82,214.82]
[31068,"CROSS","Jack","M",1998,"U18","SSC","BSA",339.12,339.12]
[30779,"GUEST","Katharine","F",1995,"U21","SSC","BSA",355.6,355.6]
[30920,"GUEST","Kirsty","F",1997,"U18","SSC","BSA",659.75,659.75]
[30921,"GUEST","Christopher","M",1997,"U18","SSC","BSA",989,989]
[30883,"HUNTINGTON","Calum","M",1995,"U21","SSC","BSA",989,989]
[31249,"BARKER","Duncan","M",2003,"U12","SSC","BSA",999.99,999.99]
[17513,"FELLOWS","Jordan","M",1997,"U18","TEL","BSA",11.46,12.91]
[20216,"CAWTHORNE","Louis","M",2000,"U16","TOQ","BSA",133.80000000000001,132.69]
[20215,"CAWTHORNE","Harry","M",1999,"U16","TOQ","BSA",138.72,129.34]
[18072,"THOMAS","Cameron","M",1997,"U18","TOQ","BSA",45.79,45.79]
[20633,"CUNNINGHAM","Jake","M",2002,"U14","TOQ","BSA",999.99,999.99]
[21378,"STOCKER","Natasha","F",2001,"U14","TSN","BSA",242.44,242.44]
[21382,"STOCKER","Anastacia","F",2003,"U12","TSN","BSA",999.99,999.99]
[21397,"STOCKER","Sophie","F",2005,"U10","TSN","BSA",999.99,999.99]
[19680,"BAXTER","Phillipa","F",1998,"U18","VIK","BSA",150.13,150.13]
[21868,"GRAINGER","Christopher","M",1999,"U16","VIK","BSA",999.99,999.99]
[20366,"CHASTNEY","Rebecca","F",2002,"U14","WM","BSA",999.99,999.99]
[21331,"DILWORTH","Lucinda","F",1998,"U18",null,"BSA",104.75,104.75]
[19126,"HEGINBOTHAM","Erika","F",1998,"U18",null,"BSA",161.76,161.76]
[19125,"HEGINBOTHAM","Matthew","M",2000,"U16",null,"BSA",258.27,258.27]
[20455,"MCCALL","Oscar","M",2000,"U16",null,"BSA",375.15,375.15]
[18164,"TAYLOR","Laurie","M",1996,"U21",null,"BSA",421.44,421.44]
[21338,"BELL","Reece","F",2001,"U14",null,"BSA",999.99,999.99]
[22071,"DRUMMOND","Davina","F",2001,"U14",null,"BSA",999.99,999.99]
[22086,"DRUMMOND","Miranda","F",2002,"U14",null,"BSA",999.99,999.99]
[20620,"LEGEAIS","Marion","F",1998,"U18",null,"BSA",999.99,999.99]
[19831,"LISMORE","Sophie","F",1999,"U16",null,"BSA",999.99,999.99]
[19453,"LOEFFEN-GALLAGHER","Hannah","F",2000,"U16",null,"BSA",999.99,999.99]
[21392,"RAMPTON","Clementine","F",2001,"U14",null,"BSA",999.99,999.99]
[17803,"RICHARDS","Camille","F",1998,"U18",null,"BSA",999.99,999.99]
[21403,"SLADE","Hattie","F",1998,"U18",null,"BSA",999.99,999.99]
[21404,"SLADE","Isobel","F",1999,"U16",null,"BSA",999.99,999.99]
[20974,"BEAVIS","Riley","M",2002,"U14",null,"BSA",999.99,999.99]
[21886,"HILLMAN","Ben","M",2002,"U14",null,"BSA",999.99,999.99]
[21882,"HILLMAN","Luke","M",2001,"U14",null,"BSA",999.99,999.99]
[21562,"KEYS","Alexander","M",1998,"U18",null,"BSA",999.99,999.99]
[19830,"LISMORE","Jake","M",1997,"U18",null,"BSA",999.99,999.99]
[21401,"MATHER","Fred","M",2001,"U14",null,"BSA",999.99,999.99]
[21479,"MORGAN","Jonathan","M",1999,"U16",null,"BSA",999.99,999.99]
[20377,"O'NEILL","Jack","M",1999,"U16",null,"BSA",999.99,999.99]
[19796,"RICHARDS","Alexandre","M",2002,"U14",null,"BSA",999.99,999.99]
[21895,"RILEY","Joshua","M",1999,"U16",null,"BSA",999.99,999.99]
[21896,"RILEY","Thomas","M",2001,"U14",null,"BSA",999.99,999.99]
[20398,"TARANTELLI","Leone","M",1999,"U16",null,"BSA",999.99,999.99]
[20399,"TARANTELLI","Uberto","M",2000,"U16",null,"BSA",999.99,999.99]
[20290,"WILLS","Angus","M",1999,"U16",null,"BSA",999.99,999.99]
[22031,"GRANT","Amelia","F",2003,"U12",null,"BSA",999.99,999.99]
[21053,"GRANT","Isabelle","F",2003,"U12",null,"BSA",999.99,999.99]
[21966,"O'NEILL","Kita","F",2005,"U10",null,"BSA",999.99,999.99]
[20945,"O'NEILL","Maeve","F",2003,"U12",null,"BSA",999.99,999.99]
[22053,"JENNISON","Alexandre","M",2003,"U12",null,"BSA",999.99,999.99]
[21801,"KANE","Heathcliffe","M",2003,"U12",null,"BSA",999.99,999.99]
[21393,"RAMPTON","Thomas","M",2003,"U12",null,"BSA",999.99,999.99]
[21405,"SLADE","Ted","M",2003,"U12",null,"BSA",999.99,999.99]
[31452,"HAYWARD","Euan","M",1999,"U16","BSA","BSC",999.99,999.99]
[21536,"PARKER","Julia","F",1963,"MAS","VIK","CAD",999.99,999.99]
[41952,"RONAN","Eleanor","F",2000,"U16","SCI","CHL",370.93,370.93]
[19624,"SYMONS","Daniel","M",1995,"U21","CHT","CHT",81.8,81.8]
[10596,"BUNTON","Paul","M",1963,"MAS","CHT","CHT",122.87,122.87]
[20167,"COMELIO","Sebastian","M",2002,"U14","AVO","DHO",999.99,999.99]
[21710,"YUNG","HauTak","M",2002,"U14","BRS","DHO",999.99,999.99]
[21709,"YUNG","Adrian","M",2004,"U12","BRS","DHO",999.99,999.99]
[21150,"KARAVASILI","Zoe","F",1997,"U18","DHO","DHO",73.14,87.85]
[17950,"TODD-SAUNDERS","Samuel","M",1996,"U21","DHO","DHO",100.61,100.61]
[21149,"KARAVASILI","Leo","M",1999,"U16","DHO","DHO",158.79,158.79]
[17385,"STAMMERS","Benjamin","M",1995,"U21","DHO","DHO",445.21,445.21]
[19440,"ADAMS","Sarah","F",1997,"U18","DHO","DHO",999.99,999.99]
[20800,"DALE","Safia","F",2000,"U16","DHO","DHO",999.99,999.99]
[21785,"LEWITT","Isabelle","F",2001,"U14","DHO","DHO",999.99,999.99]
[21518,"MOONEY","Philippa","F",1999,"U16","DHO","DHO",999.99,999.99]
[17717,"STAMMERS","Sophie","F",1998,"U18","DHO","DHO",999.99,999.99]
[21889,"STOWELL","Susanna","F",2001,"U14","DHO","DHO",999.99,999.99]
[17951,"TODD-SAUNDERS","Helen","F",1999,"U16","DHO","DHO",999.99,999.99]
[20815,"DOYLE","Harrison","M",2000,"U16","DHO","DHO",999.99,999.99]
[20887,"LEAVITT","Samuel","M",1998,"U18","DHO","DHO",999.99,999.99]
[20922,"LEAVITT","William","M",1998,"U18","DHO","DHO",999.99,999.99]
[19791,"LOGUT","George-Louis","M",1996,"U21","DHO","DHO",999.99,999.99]
[20782,"MOONEY","Hugo","M",1997,"U18","DHO","DHO",999.99,999.99]
[20102,"PERETZ","Adi","M",1998,"U18","DHO","DHO",999.99,999.99]
[21922,"CHOHAN","Zacariya","M",2005,"U10","DHO","DHO",999.99,999.99]
[18807,"MROZ","Dominik","M",1993,"SEN","ESX","DHO",317.45,999.99]
[21103,"WILLIAMS-GRAVENER","David","M",2001,"U14","FLK","DHO",230.29,261.81]
[14344,"PORTER","Tobias","M",1993,"SEN","FLK","DHO",140.94,140.94]
[20122,"RABEY","Judson","M",2000,"U16","HEM","DHO",221.08,221.08]
[21923,"CHERRY","Tom","M",1996,"U21","HEM","DHO",999.99,999.99]
[12318,"DU PLESSIS","Andrew","M",1985,"SEN","MID","DHO",23.04,23.04]
[17893,"SEELEY","Grace","F",1995,"U21","RAV","DHO",466.63,466.63]
[17892,"SEELEY","Julia","F",1993,"SEN","RAV","DHO",481.91,481.91]
[8242,"ALCOTT","Chimene","F",1982,"MAS","SPR","DHO",177.16,177.16]
[18481,"ROTH","Phoebe","F",1994,"U21",null,"DHO",113.82,999.99]
[19990,"ASHMAN","Alexander","M",2000,"U16",null,"DHO",233.18,233.18]
[18990,"DONNELLON","Amy","F",1994,"U21",null,"DHO",999.99,999.99]
[21771,"FAIRHEAD","Iona","F",2000,"U16",null,"DHO",999.99,999.99]
[21940,"GALBRAITH","Clare","F",1963,"MAS",null,"DHO",999.99,999.99]
[21949,"GALBRAITH","Helena","F",2000,"U16",null,"DHO",999.99,999.99]
[21277,"MILLARD","Paige","F",2002,"U14",null,"DHO",999.99,999.99]
[21578,"YUNG","Catherine","F",1998,"U18",null,"DHO",999.99,999.99]
[21891,"BRANDT","Orlando","M",2001,"U14",null,"DHO",999.99,999.99]
[20315,"DERU","Joshua","M",1996,"U21",null,"DHO",999.99,999.99]
[21533,"DINGLE","Dominic","M",1996,"U21",null,"DHO",999.99,999.99]
[21532,"DINGLE","Timothy","M",1998,"U18",null,"DHO",999.99,999.99]
[12317,"DU PLESSIS","Stephen","M",1987,"SEN",null,"DHO",999.99,999.99]
[18246,"DUNHILL","Harry","M",1992,"SEN",null,"DHO",999.99,999.99]
[21529,"GILKINSON","Jake","M",1995,"U21",null,"DHO",999.99,999.99]
[21546,"LUKE","Charlie","M",2000,"U16",null,"DHO",999.99,999.99]
[21276,"MILLARD","Oliver","M",2000,"U16",null,"DHO",999.99,999.99]
[20125,"MYRSEP-FRANCE","Nicholas","M",1998,"U18",null,"DHO",999.99,999.99]
[14252,"NISBET","Angus","M",1993,"SEN",null,"DHO",999.99,999.99]
[20975,"OHARA","Mizuki","M",1998,"U18",null,"DHO",999.99,999.99]
[21415,"RASHCHUPKIN","Maxim","M",2002,"U14",null,"DHO",999.99,999.99]
[17818,"SHERRAS","Andrew","M",1995,"U21",null,"DHO",999.99,999.99]
[17819,"SHERRAS","Richard","M",1997,"U18",null,"DHO",999.99,999.99]
[20477,"STORER","James","M",1998,"U18",null,"DHO",999.99,999.99]
[21892,"BRANDT","Honor","F",2005,"U10",null,"DHO",999.99,999.99]
[20479,"STORER","Toby","M",2003,"U12",null,"DHO",999.99,999.99]
[19986,"USHER","Annie","F",1997,"U18","ASR","DRA",31.63,24.62]
[41480,"HOPKINS","Emily","F",1994,"U21","CAR","DRA",3.42,3.42]
[41274,"HALES","Alice","F",1992,"SEN","CAR","DRA",3.75,3.75]
[41182,"HALES","Thomas","M",1990,"SEN","CAR","DRA",5.63,5.32]
[41273,"HALES","Robert","M",1960,"MAS","CAR","DRA",61.58,55.31]
[41650,"SELLWOOD","Thomas","M",1996,"U21","CAR","DRA",98.98,67.12]
[41710,"CONSTANTINE","Joseph","M",2000,"U16","CAR","DRA",122.82,123.51]
[41816,"HYETT","Georgia","F",2000,"U16","CAR","DRA",150.21,127.45]
[41042,"WATSON","Andrew","M",1991,"SEN","CAR","DRA",0.41,0.41]
[41880,"HOPKINS","Harry","M",1999,"U16","CAR","DRA",155.06,155.06]
[41735,"CONSTANTINE","Benjamin","M",2003,"U12","CAR","DRA",999.99,999.99]
[41661,"THOMAS","Cyffin","M",2000,"U16","DRA","DRA",203.46,266.12]
[13838,"FRASER HAFTER","Fergus","M",1992,"SEN","DRA","DRA",448.5,448.5]
[41990,"CASHMORE","Edward","M",2001,"U14","EXD","DRA",225.45,217.58]
[41991,"CASHMORE","William","M",1998,"U18","EXD","DRA",243.43,205.03]
[41007,"GODDARD","Emily","F",1987,"SEN","GLO","DRA",24.64,24.64]
[41705,"HALLETT","Georgia","F",1996,"U21","GLO","DRA",24.96,23.97]
[19414,"DANNATT","Gemma","F",1996,"U21","GLO","DRA",76.08,76.08]
[19197,"PENHALE","Emma","F",2000,"U16","GLO","DRA",140.75,101.53]
[41837,"PRICE","Rhys","M",2001,"U14","GLO","DRA",201.19,180.93]
[17351,"DANNATT","Tim","M",1994,"U21","GLO","DRA",65,65]
[18676,"COOPER","Georgina","F",1996,"U21","GLO","DRA",71.180000000000007,71.180000000000007]
[41124,"JEAL","Alex","M",1990,"SEN","GLO","DRA",15.06,15.06]
[19051,"WEEKS","Oliver","M",2001,"U14","MID","DRA",70.989999999999995,70.989999999999995]
[18033,"THOMAS","Elisabeth","F",1996,"U21","MID","DRA",72.7,72.7]
[17888,"DELLER","Lucy","F",1996,"U21","MID","DRA",25.68,25.68]
[19941,"LAWRENCE","Thomas","M",1999,"U16","MID","DRA",144.61000000000001,144.61000000000001]
[14746,"LAMBDEN","Sarah","F",1995,"U21","MSR","DRA",2.5,2.5]
[14747,"OGDEN","Sophie","F",1996,"U21","MSR","DRA",4.4800000000000004,4.4800000000000004]
[17919,"RICHARDSON","Charles","M",1992,"SEN","MSR","DRA",14.73,14.73]
[13792,"KNOWLES","Michael","M",1995,"U21","MSR","DRA",32.97,32.97]
[19574,"MARTIN","Matthew","M",1995,"U21","MSR","DRA",39.96,42.98]
[18088,"RICHARDSON","George","M",1997,"U18","MSR","DRA",47.37,61.03]
[19781,"POTTER","Shannon","F",2001,"U14","MSR","DRA",62.21,78.58]
[41877,"GALE","Rhodri","M",1999,"U16","MSR","DRA",76.41,81.77]
[19019,"MCGREGOR-OGDEN","Cameron","M",2000,"U16","MSR","DRA",81.48,83.83]
[19569,"RASCAGNERES","Thomas","M",2000,"U16","MSR","DRA",79.34,87.89]
[13773,"TEE","David","M",1990,"SEN","MSR","DRA",42.98,42.98]
[19338,"MORTON","Sofia","F",1996,"U21","MSR","DRA",65.349999999999994,65.349999999999994]
[20173,"MCGREGOR-OGDEN","Holly","F",2003,"U12","MSR","DRA",999.99,999.99]
[41495,"PIERCE","Zac","M",1997,"U18","PND","DRA",255.62,255.62]
[18916,"FARR","Oliver","M",1995,"U21","PPS","DRA",29.16,34.03]
[20193,"BROWN","Cameron","M",1998,"U18","PPS","DRA",51.07,51.07]
[21107,"CARSON","Sam","M",1999,"U16","PPS","DRA",58.07,78.459999999999994]
[20717,"HALLETT","Jacob","M",1999,"U16","PPS","DRA",84.87,97.97]
[19585,"BLACK","Oliver","M",2001,"U14","PPS","DRA",151.69999999999999,153.69999999999999]
[21156,"COATES","Joseph","M",2000,"U16","PPS","DRA",181.71,181.71]
[20132,"BLACK","Grace","F",2003,"U12","PPS","DRA",999.99,999.99]
[18863,"HENERY","Deborah","F",1997,"U18","SHK","DRA",21.74,21.74]
[12972,"HEAVERSEDGE","Antony","M",1987,"SEN","SHK","DRA",48.53,999.99]
[42020,"HODDER","Lowri","F",1999,"U16","TOR","DRA",305.8,274.81]
[41719,"BUTTERWORTH","Thomas","M",2002,"U14","WWS","DRA",261.33999999999997,156.33000000000001]
[41721,"BUTTERWORTH","Daniel","M",1996,"U21","WWS","DRA",66.430000000000007,66.430000000000007]
[41966,"HODSON","Steffan","M",2005,"U10","WWS","DRA",999.99,999.99]
[41826,"BONNINGTON","Keira","F",2002,"U14",null,"DRA",999.99,999.99]
[19503,"LAWSON-TILLEY","Sarah","F",1994,"U21",null,"DRA",999.99,999.99]
[21272,"TILLEY","Katherine","F",2001,"U14",null,"DRA",999.99,999.99]
[41410,"PRITCHARD","Ray","M",1965,"MAS",null,"DRA",999.99,999.99]
[41967,"BONNINGTON","Chay","M",2005,"U10",null,"DRA",999.99,999.99]
[31424,"MUIR","Jimmy","M",2002,"U14","ASC","DSC",999.99,999.99]
[31426,"MUIR","Fiona","F",2006,"U10","ASC","DSC",999.99,999.99]
[31425,"MUIR","Kirsty","F",2004,"U12","ASC","DSC",999.99,999.99]
[20484,"BAILES","Max","M",1999,"U16","ESX","ELI",199.06,199.06]
[20805,"BAILES","Lucy","F",2001,"U14","ESX","ELI",295.49,295.49]
[21875,"HADDEN","Alexander","M",2001,"U14","ESX","ELI",999.99,999.99]
[19712,"BOTY","Carys","F",1999,"U16","HEM","ELI",130.43,130.43]
[21334,"BOTY","Nia","F",2003,"U12","HEM","ELI",999.99,999.99]
[21604,"OGDEN","Alexander","M",2005,"U10","NOR","ELI",999.99,999.99]
[20884,"THOMPSON","Joseph","M",2003,"U12","NOR","ELI",999.99,999.99]
[19504,"BROOKER","Lolli","F",2001,"U14","VIK","ELI",94.92,94.92]
[9379,"PROUDLOVE","Andrew","M",1958,"MAS","BRO","EVO",187.93,187.93]
[12458,"TELLING","Paul","M",1982,"MAS","EVO","EVO",34.03,34.03]
[13784,"BAGGIO","Max","M",1995,"U21","EVO","EVO",45.49,45.49]
[18382,"MEAD","Darcie","F",1996,"U21","EVO","EVO",47.69,47.69]
[20367,"BRUCE","Abigail","F",2000,"U16","EVO","EVO",102.67,102.67]
[20368,"BRUCE","Sasha","F",1999,"U16","EVO","EVO",129.72,129.72]
[21495,"WASHER","Piers","M",1998,"U18","EVO","EVO",138.97,138.97]
[18235,"TAYLOR","Isadora","F",1997,"U18","EVO","EVO",234.75,234.75]
[20603,"DIXON","Rory","M",1999,"U16","EVO","EVO",322.79000000000002,322.79000000000002]
[12428,"BAGGIO","Jayme","F",1991,"SEN","EVO","EVO",999.99,999.99]
[11941,"FAIRWEATHER","Sega","F",1990,"SEN","EVO","EVO",999.99,999.99]
[10812,"HUNT","Georgie","M",1984,"MAS","HEM","EVO",6.14,7.27]
[20972,"HUGEC","Nicole","F",2000,"U16","HEM","EVO",92.3,97.27]
[20832,"CALDWELL","Patrick","M",2000,"U16","HEM","EVO",116.47,132.02000000000001]
[20833,"CALDWELL","Anna","F",2002,"U14","HEM","EVO",157.79,999.99]
[20971,"HUGEC","Nadine","F",2002,"U14","HEM","EVO",154.54,999.99]
[20256,"DANENBERGSONS","Shana","F",2000,"U16","HEM","EVO",69.16,69.16]
[20761,"LEE","Dexter","M",2000,"U16","HEM","EVO",93.06,93.06]
[19510,"LOWE","Jordan","M",1998,"U18","HEM","EVO",213.67,213.67]
[21795,"MAGENES","Caterina","F",2000,"U16","HEM","EVO",999.99,999.99]
[19737,"O'BRIEN","Seamus","M",2002,"U14","MID","EVO",142.41,999.99]
[19531,"DANIELS","Daisi","F",2002,"U14","MSR","EVO",95.78,999.99]
[19275,"GREAVES","Rebecca","F",1999,"U16","MSR","EVO",144.13999999999999,144.13999999999999]
[18316,"CLISSOLD","Honor","F",1997,"U18","RAV","EVO",191.53,191.53]
[20253,"MATHEW","Oliver","M",2002,"U14","AVO","EXD",999.99,872.1]
[20146,"TAYLOR-TIPTON","Curtis","M",1996,"U21","FF","FF",233.12,233.12]
[20147,"TAYLOR-TIPTON","Justin","M",2000,"U16","FF","FF",239.23,239.23]
[21261,"TAYLOR-TIPTON","Ella","F",2004,"U12","FF","FF",999.99,999.99]
[21373,"FRY","Bradley","M",2005,"U10","FF","FF",999.99,999.99]
[19084,"BROWN","Thomas","M",1998,"U18","CHT","FLK",212.61,212.61]
[21204,"MIDSON","Poppy","F",2001,"U14","FLK","FLK",162.81,162.81]
[21205,"MIDSON","Molly","F",2003,"U12","FLK","FLK",999.99,999.99]
[19083,"BROWN","Jack","M",1995,"U21","GLO","FLK",53.19,53.19]
[30664,"ANGUS","Kate","F",1994,"U21","SSC","GDN",307.83,307.83]
[36608,"DUNCAN","Ruaraidh","M",2001,"U14","SSC","GDN",999.99,999.99]
[21811,"WELLS","Oliver","M",1994,"U21","HEM","GLO",999.99,68.53]
[20851,"BLOOM","Adam","M",1973,"MAS","WCS","GLO",100.85,100.85]
[20852,"BLOOM","Ryan","M",2001,"U14","WCS","GLO",136.66,132.22999999999999]
[36616,"CURRIE","Findlay","M",2001,"U14","BSC","GSC",999.99,999.99]
[36615,"CURRIE","Fergus","M",2005,"U10","BSC","GSC",999.99,999.99]
[31004,"MACWILLIAM","David","M",1996,"U21","BSC","GSR",72.290000000000006,72.290000000000006]
[31065,"SANDIESON","Cal","M",1998,"U18","BSC","GSR",999.99,999.99]
[30872,"JACKSON","Laura","F",1997,"U18","SSC","GSR",61.84,66.08]
[30711,"PRICE","Graeme","M",1995,"U21","SSC","GSR",63.81,63.85]
[30959,"ROFE","Thomas","M",1998,"U18","SSC","GSR",124.91,124.91]
[30927,"PRICE","Rhona","F",1999,"U16","SSC","GSR",138.06,138.06]
[30925,"STURROCK","Fraser","M",1997,"U18","SSC","GSR",140.85,140.85]
[30909,"BINGHAM","Sion","M",1997,"U18","SSC","GSR",158.87,201.69]
[21712,"CHAPLIN","Brendon","M",1996,"U21","BRS","HEM",297.33,297.33]
[21879,"LEES","James","M",2001,"U14","BSA","HEM",999.99,999.99]
[21878,"LEES","Nadia","F",2003,"U12","BSA","HEM",999.99,999.99]
[17467,"TREBILCOCK","Robert","M",1993,"SEN","HEM","HEM",13.23,13.58]
[14856,"GRANT","Thomas","M",1996,"U21","HEM","HEM",33.01,33.729999999999997]
[14809,"GREENFIELD","Max","M",1994,"U21","HEM","HEM",49.53,59.8]
[20376,"GOSS","Alfie","M",1999,"U16","HEM","HEM",150.57,572.45000000000005]
[22082,"HAWKINS","Zara","F",2001,"U14","HEM","HEM",999.99,190.45]
[19639,"BARTON","Daniel","M",1998,"U18","HEM","HEM",49.25,49.25]
[18661,"WARMINGTON","Richard","M",1997,"U18","HEM","HEM",73.569999999999993,73.569999999999993]
[20655,"SHOOTER","Hope","F",1993,"SEN","HEM","HEM",119.52,119.52]
[9129,"URQUHART","John","M",1968,"MAS","HEM","HEM",138.44999999999999,138.44999999999999]
[21219,"DEAN","Emily","F",1999,"U16","HEM","HEM",138.97,138.97]
[21188,"PARKES","Michael","M",1989,"SEN","HEM","HEM",143.43,143.43]
[20439,"STEVENS","Annecy","F",2000,"U16","HEM","HEM",193.12,193.12]
[21145,"WATERSTON","Laughlan","M",1971,"MAS","HEM","HEM",255.98,255.98]
[20890,"DAVIES","Megan","F",2001,"U14","HEM","HEM",262.36,262.36]
[21660,"NEUMANN","Sophie","F",1998,"U18","HEM","HEM",282.95,282.95]
[21196,"URQUHART","Colm","M",2001,"U14","HEM","HEM",416.92,416.92]
[22075,"CLARKE","Roisin","F",2002,"U14","HEM","HEM",999.99,999.99]
[22083,"HAWKINS","Danielle","F",2001,"U14","HEM","HEM",999.99,999.99]
[22084,"HAWKINS","Lily","F",2001,"U14","HEM","HEM",999.99,999.99]
[22049,"PETERSON","Amy","F",1999,"U16","HEM","HEM",999.99,999.99]
[21950,"STEVENS","Holly","F",1968,"MAS","HEM","HEM",999.99,999.99]
[20813,"TOH","Isabel","F",2000,"U16","HEM","HEM",999.99,999.99]
[21809,"TUTT","Anna","F",1974,"MAS","HEM","HEM",999.99,999.99]
[20725,"WARMINGTON","Harriet","F",2002,"U14","HEM","HEM",999.99,999.99]
[22091,"WOLOSZCZUK","Lucy","F",2001,"U14","HEM","HEM",999.99,999.99]
[21808,"ARLOTT","Martin","M",1971,"MAS","HEM","HEM",999.99,999.99]
[22025,"EDWARDES","Henry","M",1993,"SEN","HEM","HEM",999.99,999.99]
[22056,"SCHLOTE","Harry","M",2000,"U16","HEM","HEM",999.99,999.99]
[19077,"THURSFIELD","Emrys","M",1999,"U16","HEM","HEM",999.99,999.99]
[20811,"TOH","Alexander","M",2000,"U16","HEM","HEM",999.99,999.99]
[20812,"TOH","James","M",2000,"U16","HEM","HEM",999.99,999.99]
[22183,"PHIPPEN","Chris","M",1973,"MAS","HEM","HEM",999.99,999.99]
[20441,"STEVENS","Lilyella","F",2002,"U14","HEM","HEM",999.99,379.9]
[22110,"FAIRFULL","Madeleine","F",2006,"U10","HEM","HEM",999.99,999.99]
[21925,"MCLEISH","Emily","F",2003,"U12","HEM","HEM",999.99,999.99]
[20440,"STEVENS","Cordelia","F",2005,"U10","HEM","HEM",999.99,999.99]
[21719,"THOMAS","Sophie","F",2003,"U12","HEM","HEM",999.99,999.99]
[22076,"CLARKE","Alec","M",2004,"U12","HEM","HEM",999.99,999.99]
[22077,"CLARKE","Conall","M",2006,"U10","HEM","HEM",999.99,999.99]
[22088,"FAIRFULL","Max","M",2003,"U12","HEM","HEM",999.99,999.99]
[22026,"LOUTH","Oscar","M",2005,"U10","HEM","HEM",999.99,999.99]
[21707,"TAMANA","Hari","M",2003,"U12","HEM","HEM",999.99,999.99]
[21197,"URQUHART","Aidan","M",2004,"U12","HEM","HEM",999.99,999.99]
[14855,"GRANT","James","M",1994,"U21","LSU","HEM",24.53,24.53]
[22120,"BUTLER","Molly","F",2006,"U10","SAS","HEM",999.99,999.99]
[22060,"HUTCHINGS","Daniel","M",2005,"U10","SAS","HEM",999.99,999.99]
[20345,"GARMENT","Harriett","F",2000,"U16","WGC","HEM",465.82,465.82]
[21366,"LYONS","Alan","M",1965,"MAS",null,"HEM",221.64,221.64]
[21700,"MAGENES","Matilde","F",2002,"U14",null,"HEM",999.99,999.99]
[21411,"BUTLER","Simon","M",1962,"MAS",null,"HEM",999.99,999.99]
[21641,"WARNER","Hugo","M",2002,"U14",null,"HEM",999.99,999.99]
[22061,"MCGONIGAL","Cordelia","F",2003,"U12",null,"HEM",999.99,999.99]
[21708,"JAYARAJ","Jacob","M",2003,"U12",null,"HEM",999.99,999.99]
[20995,"SANDLER","Jameson","M",2003,"U12",null,"HEM",999.99,999.99]
[22186,"BENNETT","Harry","M",2004,"U12",null,"HEM",999.99,999.99]
[10660,"WALSH","Carrie","F",1963,"MAS","ALD","IMP",178.34,178.34]
[21167,"BANNISTER","Callum","M",1998,"U18","AVO","IMP",155.68,155.68]
[18996,"WHITTALL","Joseph","M",1995,"U21","BRS","IMP",158.19,158.19]
[41565,"EVANS","Emile","M",1996,"U21","CAR","IMP",31.94,31.94]
[19419,"WRIGHT","Alexander","M",1994,"U21","GLO","IMP",108.59,108.59]
[21349,"WANG","Alison","F",1980,"MAS","HEM","IMP",189.05,189.05]
[21545,"WANG","Matt","M",1983,"MAS","HEM","IMP",210.53,219.51]
[19361,"DEIGHTON","Oliver","M",1997,"U18","HEM","IMP",79.209999999999994,79.209999999999994]
[13289,"FLAHIVE","Niall","M",1993,"SEN","HEM","IMP",86.99,86.99]
[2743,"BROWN","Phil","M",1966,"MAS","HEM","IMP",216.42,216.42]
[20554,"DAVIES","Morgan","M",1999,"U16","HEM","IMP",223.81,223.81]
[20178,"DEIGHTON","Avelline","F",1967,"MAS","HEM","IMP",236.41,236.41]
[21657,"REES","Edward","M",1961,"MAS","IMP","IMP",297.82,297.82]
[21664,"MCCORMICK","John","M",1975,"MAS","IMP","IMP",326.95999999999998,326.95999999999998]
[21654,"IMAMZADE","Murat","M",1982,"MAS","IMP","IMP",999.99,999.99]
[41481,"FLAHIVE","Gerard","M",1992,"SEN","LSU","IMP",7.13,7.13]
[41722,"RIGBY","Jack","M",1995,"U21","MID","IMP",42.49,50.4]
[19910,"RIGBY","Jordan","M",2000,"U16","MID","IMP",111.82,111.82]
[18022,"WILLIAMS","Sam","M",1997,"U18","SAS","IMP",85.77,151.54]
[41908,"HANNA","Jordan","M",1998,"U18","SCI","IMP",130.9,130.9]
[19443,"SEAMAN","Michael","M",1986,"SEN","SZR","IMP",98.19,103.91]
[17126,"FITZPATRICK","Alexander","M",1994,"U21",null,"IMP",77.7,863.19]
[20302,"BASTOW","Milo","M",1997,"U18",null,"IMP",999.99,999.99]
[21860,"DRUMMOND","Thomas","M",1998,"U18",null,"IMP",999.99,999.99]
[17320,"RICCERI","Oliver","M",1995,"U21",null,"IMP",999.99,999.99]
[19638,"GASKIN","Sam","M",2000,"U16","BRO","K",306.05,306.05]
[21056,"SULEYMAN","Ata","M",2002,"U14","BRO","K",999.99,999.99]
[9694,"CLARK","Benjamin","M",1985,"SEN","BRO","K",27.87,27.87]
[14949,"MORGAN","Brad","M",1991,"SEN","BSA","K",20.41,20.41]
[4944,"HATCHER","Kirsty","F",1991,"SEN","CAR","K",42.03,42.03]
[13765,"EVANS","Charlotte","F",1991,"SEN","CHT","K",45.6,45.6]
[21485,"RHODES","Austin","M",1998,"U18","CHT","K",999.99,999.99]
[21484,"RHODES","Morgan","M",1998,"U18","CHT","K",999.99,999.99]
[12797,"CURTIS","Daniel","M",1991,"SEN","ESX","K",33.56,33.56]
[14575,"POTH","Robert","M",1997,"U18","HEM","K",0,13.07]
[13647,"THOMPSON","Matthew","M",1993,"SEN","HEM","K",3.71,3.71]
[19711,"PENNING-LAMBERT","Joshua","M",1998,"U18","HEM","K",53.89,53.89]
[19160,"HENDERSON","Tom","M",1996,"U21","HEM","K",101.43,104.33]
[20643,"TREW","Eleanor","F",1999,"U16","HEM","K",119.52,119.52]
[20644,"TREW","Isobel","F",1999,"U16","HEM","K",125.09,125.09]
[20645,"TREW","Richard","M",2000,"U16","HEM","K",140.69,140.69]
[19710,"PENNING- LAMBERT","Matthew","M",1996,"U21","HEM","K",146.51,146.51]
[20184,"NEWTON","William","M",2000,"U16","HEM","K",216.45,216.45]
[21059,"CHMIELOWSKA","Claudia","F",1998,"U18","HEM","K",999.99,999.99]
[21129,"LODER","Angus","M",2002,"U14","HEM","K",999.99,999.99]
[21194,"NEWTON","Charlie","M",2003,"U12","HEM","K",999.99,999.99]
[21501,"LEACH","Freddie","M",2002,"U14","HEM","K",999.99,999.99]
[14276,"JESSE","Zak","M",1994,"U21","IMP","K",352.01,521.29]
[20568,"COLEMAN","Arthur","M",1999,"U16","K","K",999.99,999.99]
[20816,"GROGAN","Max","M",2001,"U14","K","K",999.99,999.99]
[19857,"HETHERINGTON","George","M",1999,"U16","K","K",999.99,999.99]
[19856,"HETHERINGTON","Thomas","M",1995,"U21","K","K",999.99,999.99]
[21483,"MANET","Conrad","M",1998,"U18","K","K",999.99,999.99]
[19801,"SHAW","James","M",1998,"U18","K","K",999.99,999.99]
[19612,"WHITLEY","James","M",1997,"U18","K","K",999.99,999.99]
[18813,"WILLIAMS","Marcus","M",1996,"U21","NOR","K",999.99,999.99]
[10659,"RYDING","David","M",1986,"SEN","PND","K",46.6,46.6]
[41940,"MCCORMACK","Matthew","M",1998,"U18","SCI","K",114.11,136.88999999999999]
[13403,"TUCKER","Colin","M",1946,"MAS","SLP","K",989,989]
[14159,"ANDERSON","Beverley","F",1970,"MAS","VIK","K",67.87,67.87]
[10372,"ANDERSON","Christopher","M",1959,"MAS","VIK","K",163.66999999999999,163.66999999999999]
[14251,"NISBET","Kit","M",1990,"SEN",null,"K",166.85,999.99]
[12357,"SIMONDS","Franki","F",1990,"SEN",null,"K",19.7,19.7]
[10641,"DRAKE","Edward","M",1986,"SEN",null,"K",116.77,116.77]
[18918,"BINGLE-WILLIAMS","Katya","F",1999,"U16",null,"K",999.99,999.99]
[18919,"BINGLE-WILLIAMS","Lucy","F",2000,"U16",null,"K",999.99,999.99]
[20096,"BINGLE-WILLIAMS","Natasha","F",2002,"U14",null,"K",999.99,999.99]
[19535,"GORDON","Maya","F",1995,"U21",null,"K",999.99,999.99]
[18472,"STEVENSON","Elizabeth","F",1990,"SEN",null,"K",999.99,999.99]
[20308,"AGNEW","George","M",1999,"U16",null,"K",999.99,999.99]
[18917,"BINGLE-WILLIAMS","Christian","M",1998,"U18",null,"K",999.99,999.99]
[14871,"BULLEN","Robert","M",1989,"SEN",null,"K",999.99,999.99]
[17336,"FRENCH","James","M",1992,"SEN",null,"K",999.99,999.99]
[21517,"LUNN","Jake","M",2001,"U14",null,"K",999.99,999.99]
[17831,"MOYNIHAN","Nicholas","M",1994,"U21",null,"K",999.99,999.99]
[20379,"RAY","Matthew","M",1999,"U16",null,"K",999.99,999.99]
[20879,"ROBERTS","Henry","M",1999,"U16",null,"K",999.99,999.99]
[18513,"SAUNDERS","Gregory","M",1995,"U21",null,"K",999.99,999.99]
[18471,"STEVENSON","James","M",1994,"U21",null,"K",999.99,999.99]
[14808,"STRONG","Louis","M",1996,"U21",null,"K",999.99,999.99]
[14807,"STRONG","Oliver","M",1994,"U21",null,"K",999.99,999.99]
[22017,"HETHERINGTON","Max","M",2004,"U12",null,"K",999.99,999.99]
[20311,"DAVIS","Ethan","M",2001,"U14","KF","KF",999.99,999.99]
[9107,"LONSDALE","Emma","F",1984,"MAS","KND","KND",999.99,999.99]
[20314,"PETERS","Jack","M",1993,"SEN","HEM","LIO",258.74,999.99]
[17078,"HELLIWELL","Steven","M",1994,"U21","LIO","LIO",29.37,89.54]
[14382,"PARKER","Olivia","F",1993,"SEN","LIO","LIO",29.05,60.59]
[11570,"FREEMAN","Edward","M",1989,"SEN","LIO","LIO",39.700000000000003,153.91]
[20317,"WALTON","Kirsten","F",2000,"U16","LIO","LIO",54.53,88.21]
[5370,"HJORT","Andrew","M",1965,"MAS","LIO","LIO",67.64,73.290000000000006]
[20144,"BRIDGE","Oliver","M",1999,"U16","LIO","LIO",62.35,69.22]
[20143,"BRIDGE","Dominic","M",2001,"U14","LIO","LIO",94.2,97.67]
[21300,"CURRAN","John","M",1966,"MAS","LIO","LIO",231.62,999.99]
[21369,"SURMAN","Jake","M",1974,"MAS","LIO","LIO",234.05,283.97000000000003]
[21152,"DAVEY","Nathan","M",2001,"U14","LIO","LIO",223.77,257.19]
[21163,"HENDLEY","Sian","F",2000,"U16","LIO","LIO",323.5,375.25]
[20860,"BURTON","Maisie","F",2002,"U14","LIO","LIO",108.04,999.99]
[22127,"PULLAN","Aimee","F",2000,"U16","LIO","LIO",410.27,999.99]
[21968,"SULLIVAN","Ella","F",2002,"U14","LIO","LIO",378.62,999.99]
[18505,"PEXTON","Georgia","F",2000,"U16","LIO","LIO",96.16,132.28]
[10654,"BECK","Hannah","F",1987,"SEN","LIO","LIO",112.91,224.32]
[10612,"BECK","Catherine","F",1960,"MAS","LIO","LIO",138.94,271.10000000000002]
[20936,"HALL","Maria","F",1995,"U21","LIO","LIO",170.03,999.99]
[8747,"SWINDELLS","Robert","M",1965,"MAS","LIO","LIO",189.33,252.86]
[20901,"BOYCOTT","Nina","F",2000,"U16","LIO","LIO",251.24,999.99]
[20994,"SMITH","Simon","M",1974,"MAS","LIO","LIO",362.65,999.99]
[19070,"BENNETT","Russell","M",1973,"MAS","LIO","LIO",999.99,999.99]
[20700,"BENNETT","Grace","F",2005,"U10","LIO","LIO",999.99,999.99]
[20741,"WALTON","Mya","F",2004,"U12","LIO","LIO",999.99,999.99]
[19683,"BENNETT","Elliott","M",2003,"U12","LIO","LIO",999.99,999.99]
[22125,"BROWN","Joseph","M",2004,"U12","LIO","LIO",999.99,999.99]
[21666,"ELLIS","Lucas","M",2004,"U12","LIO","LIO",999.99,999.99]
[22123,"SUNDIN","Jacob","M",2006,"U10","LIO","LIO",999.99,999.99]
[19985,"THORNTON","Adam","M",2003,"U12","LIO","LIO",999.99,999.99]
[19002,"PETERS","Emma","F",1997,"U18","MSR","LIO",12.7,43.74]
[20544,"HINCHLIFFE","Jack","M",1997,"U18","PPS","LIO",99.25,99.25]
[18013,"WILCOCKSON","Melanie","F",1991,"SEN","PPS","LIO",77.150000000000006,83.01]
[17043,"TOMLINSON","Josef","M",1994,"U21","PPS","LIO",96.18,96.18]
[18745,"WEBSDALE","Cara","F",1997,"U18","RAV","LIO",158.58000000000001,999.99]
[18862,"HENERY","Sam","M",1995,"U21","SHK","LIO",128.13999999999999,156.77000000000001]
[18638,"BISHOP","Angus","M",1995,"U21","SHK","LIO",195.79,195.79]
[18729,"HENERY","David","M",1963,"MAS","SHK","LIO",386.87,386.87]
[18652,"THORNTON","Luke","M",1998,"U18",null,"LIO",110.26,132.19]
[19678,"MURRAY","Alastair","M",1996,"U21",null,"LIO",89.19,999.99]
[19679,"MURRAY","Louisa","F",1994,"U21",null,"LIO",160.84,999.99]
[21800,"RAMSDEN","Grace","F",1998,"U18",null,"LIO",999.99,999.99]
[19162,"WILLOUGHBY","Jo","F",1975,"MAS",null,"LIO",999.99,999.99]
[21509,"JEFFERSON","Jemima","F",2004,"U12",null,"LIO",999.99,999.99]
[21510,"JEFFERSON","Maisie","F",2003,"U12",null,"LIO",999.99,999.99]
[21969,"SURMAN","Evelyn","F",2003,"U12",null,"LIO",999.99,999.99]
[21970,"SURMAN","Martha","F",2005,"U10",null,"LIO",999.99,999.99]
[20976,"HARRISON","Samuel","M",2003,"U12",null,"LIO",999.99,999.99]
[13376,"SCILIMATI","Tania","F",1986,"SEN",null,"LSC",999.99,999.99]
[31512,"WOOD","Edmund","M",1999,"U16","DHO","LSR",999.99,999.99]
[31324,"GIBSON","Cameron","M",2001,"U14","GSR","LSR",217.48,217.48]
[31243,"GREENSHIELDS","Duncan","M",2002,"U14","SSC","LSR",999.99,999.99]
[30515,"GUNN","Cameron","M",1992,"SEN","SSC","LSR",55.96,55.96]
[30841,"MCBAIN","Sandy","M",1993,"SEN","SSC","LSR",83.66,83.66]
[30636,"BARKER","Katy","F",1996,"U21","SSC","LSR",104.08,104.08]
[31154,"CARRUTHERS","Harry","M",1999,"U16","SSC","LSR",127.07,127.07]
[31155,"CARRUTHERS","Philipa","F",1997,"U18","SSC","LSR",130.9,130.9]
[30936,"MACPHERSON","Stuart","M",1998,"U18","SSC","LSR",132.36000000000001,132.36000000000001]
[31102,"GREENSHIELDS","Andrew","M",1999,"U16","SSC","LSR",133.76,133.76]
[31125,"WAITT","Stuart","M",1999,"U16","SSC","LSR",183.37,183.37]
[31107,"LIVINGSTONE","Lewis","M",1999,"U16","SSC","LSR",215.71,215.71]
[31200,"MACPHERSON","Claire","F",2000,"U16","SSC","LSR",241.92,241.92]
[31394,"LAMOND","Emma","F",2002,"U14","SSC","LSR",999.99,999.99]
[18878,"SLATER","Ella","F",1991,"SEN","LSU","LSU",51.1,53.8]
[12858,"TUCKER","William","M",1991,"SEN","LSU","LSU",58.62,99.74]
[18757,"LUCIE-SMITH","Ross","M",1993,"SEN","LSU","LSU",63.53,115.43]
[21659,"BOJARSKA","Aleksandra","F",1961,"MAS","MAN","MAN",198.32,198.32]
[17356,"HORNSBY","Harry","M",1991,"SEN","MID","MID",5.41,5.28]
[14213,"WALKER","Edmund","M",1992,"SEN","MID","MID",77.16,77.16]
[21014,"MAYHEW","Jessica","F",2000,"U16","MID","MID",84.18,48.06]
[19829,"HEMMING","Ethan","M",2001,"U14","MID","MID",150.21,138.09]
[20168,"BILL","Rachel","F",1990,"SEN","MID","MID",23.81,23.81]
[20696,"NEWBOULT","Helena","F",1998,"U18","MID","MID",27.39,27.39]
[13381,"VERNON","Rowan","F",1988,"SEN","MID","MID",32.840000000000003,32.840000000000003]
[17840,"PHELPS","Nicholas","M",1997,"U18","MID","MID",70.34,70.34]
[20846,"DEWISON","Samuel","M",1998,"U18","MID","MID",119.86,119.86]
[21633,"KIRKLAND","Matthew","M",1992,"SEN","MID","MID",345.98,345.98]
[20670,"TREUGE","Matthew","M",2002,"U14","MID","MID",999.99,999.99]
[41578,"LEE","Adam","M",1994,"U21","PND","MID",38.93,36.39]
[17479,"POWELL","Jonathan","M",1986,"SEN","RAV","MID",18.72,18.72]
[19379,"GUY","Edward","M",2001,"U14","TEL","MID",238.89,138.32]
[18327,"CAVANAGH","Matthew","M",1996,"U21","DHO","MSR",136.97,136.97]
[21012,"EDWARDS","Issy","F",2001,"U14","DRA","MSR",234.22,234.22]
[19673,"MOLLIEX","Alex","M",1973,"MAS","MSR","MSR",66.2,73.209999999999994]
[19208,"BERGLINDARSON","Kristofer","M",2000,"U16","MSR","MSR",65.53,104.71]
[21139,"BURKINSHAW","Rowena","F",1979,"MAS","MSR","MSR",111.3,125.82]
[21772,"WHIPP","Edward","M",2001,"U14","MSR","MSR",200.68,259.43]
[21628,"BEGG","Alistair","M",2001,"U14","MSR","MSR",279.41000000000003,340.49]
[21642,"DOCKRY","Ben","M",2002,"U14","MSR","MSR",425.5,497.65]
[22113,"LAW","Theodore","M",1999,"U16","MSR","MSR",214.03,999.99]
[21336,"QUIGLEY","John","M",1972,"MAS","MSR","MSR",187.78,999.99]
[8067,"MCGREGOR-OGDEN","Carl","M",1961,"MAS","MSR","MSR",120.26,120.26]
[21958,"BACKHOUSE","Michael","M",1994,"U21","MSR","MSR",999.99,999.99]
[22055,"BALDWIN","Caitlin","F",2006,"U10","MSR","MSR",999.99,999.99]
[21643,"DOCKRY","Daniel","M",2006,"U10","MSR","MSR",999.99,999.99]
[21698,"STOCKS","Elliot","M",2005,"U10","MSR","MSR",999.99,999.99]
[21794,"WAGSTAFF","Lydia","F",1998,"U18","SHK","MSR",277.16000000000003,373.73]
[21007,"GLASSBROOK","Amy","F",2002,"U14",null,"MSR",277.68,319.56]
[22040,"FISHER","William","M",2000,"U16",null,"MSR",276.22000000000003,999.99]
[21815,"MUSTON","Charles","M",2002,"U14",null,"MSR",222.22,999.99]
[21753,"ATHERTON","Lucas","M",2001,"U14",null,"MSR",999.99,999.99]
[22051,"BACKHOUSE","Nicholas","M",1998,"U18",null,"MSR",999.99,999.99]
[22062,"HOWARTH","Catrin","F",2005,"U10",null,"MSR",999.99,999.99]
[21644,"HUMPHREYS","George","M",2005,"U10",null,"MSR",999.99,999.99]
[21786,"WILLIAMS","Jack","M",2005,"U10",null,"MSR",999.99,999.99]
[31097,"CHRISTEY","David","M",1999,"U16","BSA","MUC",224.95,224.95]
[31098,"CHRISTEY","Joe","M",2002,"U14","BSA","MUC",999.99,999.99]
[36633,"RONALD","James","M",1998,"U18","GSC","MUC",999.99,999.99]
[36632,"RONALD","Ross","M",2002,"U14","GSC","MUC",999.99,999.99]
[31087,"ROSS","Lyle","M",1999,"U16","SSC","MUC",88.48,88.48]
[30904,"TODD","Alison","F",1997,"U18","SSC","MUC",101.11,101.11]
[31071,"HULBERT","Jemma","F",1996,"U21","SSC","MUC",208.34,208.34]
[31070,"HULBERT","Lucy","F",1998,"U18","SSC","MUC",294.95,294.95]
[31431,"DILLON","Millie","F",2004,"U12","SSC","MUC",999.99,999.99]
[31438,"ROSS","Iona","F",2003,"U12","SSC","MUC",999.99,999.99]
[14168,"WHEATMAN","Max","M",1993,"SEN","NOR","NOR",55.27,55.27]
[20337,"SKIPPER","Megan","F",2001,"U14","NOR","NOR",106.62,106.62]
[20742,"SAMPSON","Melissa","F",1971,"MAS","NOR","NOR",137.72999999999999,137.72999999999999]
[21691,"LANE","Joshua","M",1999,"U16","NOR","NOR",145.6,145.6]
[20767,"WEBSTER","Atlanta","F",2000,"U16","NOR","NOR",185.74,185.74]
[20679,"SCOTT","Max","M",1997,"U18","NOR","NOR",189.57,189.57]
[14169,"WHEATMAN","Claire","F",1991,"SEN","NOR","NOR",296.81,296.81]
[22138,"BELLAMY","Edward","M",1987,"SEN","NOR","NOR",999.99,999.99]
[22059,"DADE","Jake","M",2006,"U10","NOR","NOR",999.99,999.99]
[19016,"SKIPPER","Sophie","F",1995,"U21","NOR","NOR",30.78,30.78]
[21568,"SPEARPOINT WALSH","Emily","F",1996,"U21","OVL","OVL",196.72,196.72]
[20779,"GOULD","David","M",1963,"MAS","OVL","OVL",999.99,999.99]
[21756,"TAFFS","Zara","F",2002,"U14","PLY","PLY",999.99,479.39]
[21198,"PITCHER","James","M",1984,"MAS","PLY","PLY",999.99,999.99]
[21448,"WALBRIDGE","James","M",1992,"SEN","PLY","PLY",288.41000000000003,288.41000000000003]
[18512,"WITTS","Kaigan","M",1994,"U21","PND","PND",52.64,52.64]
[21301,"HARRISON","Louise","F",1994,"U21","PND","PND",69.42,61.21]
[19645,"WISEMAN","Kelly","F",1993,"SEN","PND","PND",75.98,75.98]
[22012,"GATTY","Victoria","F",1999,"U16","PND","PND",188.51,101.9]
[21359,"GLOVER","Wiliam","M",1998,"U18","PND","PND",184.03,184.03]
[22132,"AUSTIN","William","M",2000,"U16","PND","PND",999.99,999.99]
[22020,"FERGUSON","Catrin","F",2006,"U10","PND","PND",999.99,999.99]
[21991,"GATTY","Persephone","F",2004,"U12","PND","PND",999.99,999.99]
[22033,"HESELTON","Rebecca","F",2003,"U12","PND","PND",999.99,999.99]
[22089,"LLOYD","Tomas","M",2003,"U12","PND","PND",999.99,999.99]
[14237,"HANDFORD-STYRING","Hannah","F",1996,"U21","PPS","PPS",742.08,999.99]
[17701,"GASH","Morgan","M",1999,"U16","SAS","PSC",114.43,131.57]
[19147,"O'MARA","Adam","M",1995,"U21","RAV","RAV",46.25,40.5]
[19676,"JACKSON","Millie","F",1999,"U16","RAV","RAV",52.11,46.16]
[19633,"FARREN","Claude","M",1971,"MAS","RAV","RAV",59.4,59.4]
[19677,"JACKSON","Lois","F",2001,"U14","RAV","RAV",88.46,83.57]
[19089,"FARREN","Rory","M",1998,"U18","RAV","RAV",36.24,36.24]
[19675,"JACKSON","Ian","M",1964,"MAS","RAV","RAV",67.989999999999995,67.989999999999995]
[21561,"HARROGATE-BRAMLEY","Cheryl","F",1962,"MAS","RAV","RAV",547.63,547.63]
[22124,"SCOTT","Benjamin","M",2003,"U12","RAV","RAV",999.99,999.99]
[19821,"BROWN","Alysha","F",2002,"U14","S2R","S2R",999.99,999.99]
[20299,"BROWN","Charlotte","F",2003,"U12","S2R","S2R",999.99,999.99]
[20694,"CATLIN","Glesni","F",2003,"U12","SMK","S2R",999.99,999.99]
[22010,"EDWARDS","Oliver","M",2005,"U10",null,"S2R",999.99,999.99]
[22032,"LONG","Timothy","M",2005,"U10",null,"S2R",999.99,999.99]
[19094,"WHITTALL","Martha","F",1997,"U18","ASR","SAS",243.55,243.55]
[18560,"JAMES","Sophie","F",1995,"U21","BRS","SAS",129.26,129.26]
[20159,"WHITTALL","Trevor","M",1958,"MAS","BRS","SAS",686.13,686.13]
[21019,"KILGOUR","Rory","M",1980,"MAS","BRS","SAS",999.99,999.99]
[19854,"BINGHAM","Jonathan","M",1999,"U16","ESX","SAS",89.66,88.17]
[19855,"BINGHAM","Nicholas","M",2002,"U14","ESX","SAS",214.16,153.08000000000001]
[19135,"NORRIS","John","M",1961,"MAS","HEM","SAS",100.98,100.98]
[19459,"REID","Judy","F",1960,"MAS","HEM","SAS",107.25,126.66]
[21658,"COLE","Hannah","F",1998,"U18","HEM","SAS",184.6,999.99]
[8713,"CLARKE","Christopher","M",1959,"MAS","HEM","SAS",340.2,358.49]
[19684,"DANNS","Jack","M",1992,"SEN","LSU","SAS",88.66,69.78]
[18509,"MILLER","Gareth","M",1994,"U21","MID","SAS",71.069999999999993,73.98]
[17002,"GREENFIELD","Hobie","M",1995,"U21","SAS","SAS",65.59,88.16]
[12522,"GASH","Richard","M",1991,"SEN","SAS","SAS",73.239999999999995,73.239999999999995]
[19628,"COOPER","Lauren","F",1999,"U16","SAS","SAS",141.43,141.43]
[19629,"COOPER","Jordan","M",1999,"U16","SAS","SAS",177.78,177.78]
[19074,"AMOS","John","M",1959,"MAS","SAS","SAS",244.28,263.81]
[19671,"GASH","Peter","M",1956,"MAS","SAS","SAS",270.86,419.66]
[18049,"GREENFIELD","Nigel","M",1962,"MAS","SAS","SAS",274.58999999999997,363.71]
[20493,"SMITH","Oliver","M",1995,"U21","SAS","SAS",999.99,999.99]
[21881,"STAYMAN","Jessica","F",2001,"U14","SOU","SAS",361.72,999.99]
[18778,"MORRISON","Michael","M",1957,"MAS","SOU","SAS",263.87,263.87]
[21880,"STAYMAN","Harry","M",2004,"U12","SOU","SAS",999.99,999.99]
[19031,"ARTHUR","April","F",2001,"U14","TSN","SAS",461.89,461.89]
[20839,"ROSS","Callum","M",2003,"U12","TSN","SAS",999.99,999.99]
[17332,"BROOKES","Philip","M",1993,"SEN",null,"SAS",225.18,225.18]
[20572,"DUNNE","Mikey","M",2002,"U14","SRR","SCM",194.78,999.99]
[31517,"SHARP","Calum","M",1997,"U18","AYR","SFR",154.43,154.43]
[31226,"FOWLER","Isla","F",2000,"U16","GSC","SFR",247.46,247.46]
[21143,"SLATER","James","M",1998,"U18","SHK","SHK",328.66,343.21]
[21826,"MARSH","Amy","F",2002,"U14","SHK","SHK",328.39,999.99]
[21825,"MARSH","Ella","F",2000,"U16","SHK","SHK",378.14,999.99]
[22114,"KNIGHTS-COOPER","Ellis","M",1996,"U21","SHK","SHK",362.39,999.99]
[22142,"ERRINGTON","Farne","M",1997,"U18","SHK","SHK",381.19,999.99]
[21171,"SLATER","Grace","F",2001,"U14","SHK","SHK",431.14,431.14]
[20904,"MARSH","Loretta","F",1975,"MAS","SHK","SHK",999.99,999.99]
[21603,"WILKINSON","Millie","F",2001,"U14","SHK","SHK",999.99,999.99]
[19394,"BLACK","Philip","M",1969,"MAS","SHK","SHK",999.99,999.99]
[20550,"OLIVER","Mark","M",1962,"MAS","BOW","SMK",163.57,163.57]
[17431,"LLEWELLYN","Joanna","F",1991,"SEN","BRO","SMK",249.31,249.31]
[20720,"RILEY","Ilana","F",2004,"U12","GRV","SMK",999.99,999.99]
[21159,"KEANE","Josh","M",1995,"U21","HEM","SMK",67.19,67.19]
[18256,"DAVIES","Finlay","M",1999,"U16","HEM","SMK",59.63,89.68]
[21074,"LEONARD","Heather","F",1973,"MAS","HEM","SMK",186.96,186.96]
[21260,"CLARKE","Edward","M",2000,"U16","HEM","SMK",201.1,201.1]
[19774,"BARTON","Dominic","M",2002,"U14","HEM","SMK",999.99,999.99]
[18617,"HANCOCK","Maxine","F",1997,"U18","MID","SMK",74.28,74.28]
[17037,"HANCOCK","David","M",1964,"MAS","MID","SMK",999.99,999.99]
[20719,"HADLEY","Daniel","M",2004,"U12","MID","SMK",999.99,999.99]
[18816,"GOLDSWORTHY","Richard","M",1995,"U21","SMK","SMK",56.27,56.27]
[21652,"ROBERTSHAW","Gavin","M",1975,"MAS","SMK","SMK",182.02,182.02]
[21206,"SMITH","Samuel","M",1997,"U18","SMK","SMK",199.95,199.95]
[20613,"WILLIS","James","M",2001,"U14","SMK","SMK",210.65,210.65]
[21695,"CROCKER","Alicia","F",1997,"U18","SMK","SMK",211.75,211.75]
[21356,"NEASHAM","Laurie","F",2000,"U16","SMK","SMK",295.16000000000003,295.16000000000003]
[20149,"BAILY","Luke","M",2002,"U14","SMK","SMK",999.99,999.99]
[21653,"SKEPPSTAM","Rasmus","M",2004,"U12","SMK","SMK",999.99,999.99]
[19702,"WEBB","Jamie","M",1998,"U18",null,"SMK",190.99,190.99]
[21226,"DRAKE","Joshua","M",2002,"U14",null,"SMK",999.99,999.99]
[21161,"ALBONE","Catherine","F",2003,"U12",null,"SMK",999.99,999.99]
[21213,"METHERINGHAM","Zachary","M",2004,"U12",null,"SMK",999.99,999.99]
[22119,"BELTON","Scarlett","F",2002,"U14","HEM","SOU",351.1,999.99]
[20595,"HAMMOND","Max","M",1994,"U21","SOU","SOU",132.9,132.9]
[20328,"HUTTNER","Maximilian","M",1997,"U18","BRS","SPR",999.99,999.99]
[20789,"HINTON","Georgina","F",2001,"U14","HEM","SPR",404.54,404.54]
[21284,"HINTON","Tilly","F",2004,"U12","HEM","SPR",999.99,999.99]
[13335,"ABSALOM","Daniel","M",1992,"SEN","LSU","SPR",47.15,47.15]
[12570,"ALLDRIDGE","Amanda","F",1991,"SEN","SMK","SPR",6.07,7.14]
[12571,"ALLDRIDGE","James","M",1988,"SEN","SMK","SPR",50.41,50.41]
[20187,"SMITH","James","M",1999,"U16","SMK","SPR",353.39,353.39]
[13814,"GREENHALGH","Eloise","F",1993,"SEN","SPR","SPR",14.33,14.33]
[19733,"DAVEY","Joseph","M",2000,"U16","SPR","SPR",118.11,118.11]
[17532,"GOWER","Jack","M",1994,"U21","SPR","SPR",120.26,999.99]
[18328,"KOCK","Evangeline","F",1994,"U21","SPR","SPR",134.01,178.01]
[20856,"FOSTER","Olivia","F",2001,"U14","SPR","SPR",154.80000000000001,154.80000000000001]
[41993,"FLUCK","Adam","M",2001,"U14","SPR","SPR",256.11,256.11]
[19273,"DENDLE","George","M",2000,"U16","SPR","SPR",292.47000000000003,292.47000000000003]
[17533,"GOWER","Rory","M",1996,"U21","SPR","SPR",322.62,999.99]
[14989,"JENSEN","Christian","M",1995,"U21","SPR","SPR",361.18,361.18]
[21283,"PATTON","Edward","M",2001,"U14","SPR","SPR",372.34,372.34]
[12359,"WHELAN","Peter","M",1989,"SEN","SPR","SPR",502.72,502.72]
[19987,"PITKETHLY","Calum","M",1999,"U16","SPR","SPR",559.46,999.99]
[21341,"CHRISTOPHER","Rebecca","F",1998,"U18","SPR","SPR",999.99,999.99]
[20352,"COLLEY","Isabella","F",1999,"U16","SPR","SPR",999.99,999.99]
[20842,"CORRIGAN","Caroline","F",2002,"U14","SPR","SPR",999.99,999.99]
[41992,"FLUCK","Catrin","F",1998,"U18","SPR","SPR",999.99,999.99]
[21919,"FROST","Eleanor","F",2002,"U14","SPR","SPR",999.99,999.99]
[21956,"HOUGHTON","Philippa","F",1999,"U16","SPR","SPR",999.99,999.99]
[21530,"HUFF","Sarah","F",1999,"U16","SPR","SPR",999.99,999.99]
[19069,"MAIKLEM","Jessica","F",1996,"U21","SPR","SPR",999.99,999.99]
[20635,"MAIKLEM","Melissa","F",1999,"U16","SPR","SPR",999.99,999.99]
[21235,"OUGRIN","Anastasia","F",2002,"U14","SPR","SPR",999.99,999.99]
[21519,"THOMPSON","Tilly","F",1999,"U16","SPR","SPR",999.99,999.99]
[21096,"VERNON","Rebecca","F",2002,"U14","SPR","SPR",999.99,999.99]
[21368,"VESELY","Cordelia","F",1999,"U16","SPR","SPR",999.99,999.99]
[21376,"VESELY","Miranda","F",2002,"U14","SPR","SPR",999.99,999.99]
[20849,"VICKERS","Katie","F",2001,"U14","SPR","SPR",999.99,999.99]
[21101,"WEEKS","Georgia","F",2001,"U14","SPR","SPR",999.99,999.99]
[21817,"ALDRIDGE-BATE","William","M",2002,"U14","SPR","SPR",999.99,999.99]
[21480,"CHRISTOV","Jonathan","M",2001,"U14","SPR","SPR",999.99,999.99]
[20353,"COLLEY","James","M",2001,"U14","SPR","SPR",999.99,999.99]
[20841,"CORRIGAN","Paul","M",2001,"U14","SPR","SPR",999.99,999.99]
[21743,"DE BOER","Nicholas","M",2000,"U16","SPR","SPR",999.99,999.99]
[19756,"ELLISS","Harry","M",2000,"U16","SPR","SPR",999.99,999.99]
[20913,"EPERON","Harrison","M",2002,"U14","SPR","SPR",999.99,999.99]
[21904,"FROST","Joshua","M",1998,"U18","SPR","SPR",999.99,999.99]
[20615,"FRYERS","Toby","M",2002,"U14","SPR","SPR",999.99,999.99]
[20880,"GILLETT","James","M",2002,"U14","SPR","SPR",999.99,999.99]
[21464,"HINTON","Marcus","M",2001,"U14","SPR","SPR",999.99,999.99]
[20309,"LEWIS","Samuel","M",1998,"U18","SPR","SPR",999.99,999.99]
[21278,"MIGUDA","Henry","M",2001,"U14","SPR","SPR",999.99,999.99]
[20871,"MORRIS","Ruaidhri","M",2001,"U14","SPR","SPR",999.99,999.99]
[20847,"SHIELLS","Bryan","M",1998,"U18","SPR","SPR",999.99,999.99]
[20692,"SHIELLS","Rory","M",1995,"U21","SPR","SPR",999.99,999.99]
[20336,"SIMPSON","Jack","M",1999,"U16","SPR","SPR",999.99,999.99]
[21527,"TATTERS","Ben","M",2001,"U14","SPR","SPR",999.99,999.99]
[21874,"TREVOR","Joseph","M",2001,"U14","SPR","SPR",999.99,999.99]
[21105,"TREVOR","Samuel","M",1999,"U16","SPR","SPR",999.99,999.99]
[20848,"VICKERS","Charlie","M",1999,"U16","SPR","SPR",999.99,999.99]
[20710,"WILMOT","Jack","M",2000,"U16","SPR","SPR",999.99,999.99]
[20855,"FOSTER","Sophie","F",2003,"U12","SPR","SPR",999.99,999.99]
[21876,"MARTIN","Allegra","F",2004,"U12","SPR","SPR",999.99,999.99]
[21377,"VESELY","Ophelia","F",2004,"U12","SPR","SPR",999.99,999.99]
[21400,"WEEKS","Ella","F",2004,"U12","SPR","SPR",999.99,999.99]
[22004,"BAKER","Giles","M",2003,"U12","SPR","SPR",999.99,999.99]
[20927,"CRUTCHFIELD","Eliot","M",2003,"U12","SPR","SPR",999.99,999.99]
[21275,"HART","Benjamin","M",2003,"U12","SPR","SPR",999.99,999.99]
[21854,"HINTON","Sam","M",2004,"U12","SPR","SPR",999.99,999.99]
[21780,"KADRNKA","Markus","M",2004,"U12","SPR","SPR",999.99,999.99]
[21810,"LEE","Rory","M",2003,"U12","SPR","SPR",999.99,999.99]
[21524,"TATTERS","Joshua","M",2003,"U12","SPR","SPR",999.99,999.99]
[21535,"HYDE","Gussie","F",2000,"U16","SUR","SPR",999.99,999.99]
[21363,"PATTON","Harriet","F",1999,"U16",null,"SPR",228.88,228.88]
[20878,"ATTARD","Oliver","M",1999,"U16",null,"SPR",999.99,999.99]
[22161,"MEYLER","Anna","F",1999,"U16",null,"SPR",999.99,999.99]
[21779,"ZIELEZNIK","Ben","M",2005,"U10",null,"SPR",999.99,999.99]
[21093,"ZIELEZNIK","Oskar","M",2004,"U12",null,"SPR",999.99,999.99]
[21522,"BOSWELL","Olivia","F",1999,"U16","SRR","SRR",189.87,189.87]
[21797,"SIM","Danyelle","F",1999,"U16","SRR","SRR",261.12,999.99]
[21798,"SIM","Lauren","F",2001,"U14","SRR","SRR",410.9,999.99]
[21796,"HOLT","Marisa","F",2001,"U14","SRR","SRR",999.99,999.99]
[22081,"HART","Michael","M",1997,"U18","SRR","SRR",999.99,999.99]
[30906,"BUCHAN","Fraser","M",1997,"U18","BSA","SSC",72.14,72.14]
[30952,"RANKIN","Charles","M",2001,"U14","BSA","SSC",162.91999999999999,162.91999999999999]
[31138,"RANKIN","Shona","F",2003,"U12","BSA","SSC",999.99,999.99]
[30852,"BANKS BROWN","Yandra","F",1996,"U21","CSC","SSC",999.99,999.99]
[36563,"LAPSLIE","Henry","M",2000,"U16","ELI","SSC",999.99,999.99]
[30832,"DICKSON","Graham","M",1996,"U21","GSR","SSC",31.18,36.01]
[30998,"WILLIAMS","Scott","M",1999,"U16","GSR","SSC",125.11,125.11]
[31128,"WILLIAMS","Conway","M",1965,"MAS","GSR","SSC",142.16,142.16]
[31007,"TAYLOR","Kate","F",1997,"U18","GSR","SSC",16.190000000000001,16.190000000000001]
[31036,"TAYLOR","Ross","M",1995,"U21","GSR","SSC",28.81,28.81]
[30964,"FERRIER","Rachael","F",1996,"U21","GSR","SSC",29.68,33.01]
[30988,"ANDERSON","Keri","F",1996,"U21","GSR","SSC",34.35,50.76]
[30555,"MCWHIRTER","Scott","M",1992,"SEN","GSR","SSC",36.270000000000003,39.74]
[30999,"WILLIAMS","Emma","F",1999,"U16","GSR","SSC",95.5,95.5]
[30965,"FERRIER","Kieran","M",1997,"U18","GSR","SSC",102.05,102.05]
[31335,"CLARKE","Jemma","F",2001,"U14","LSR","SSC",136.05000000000001,136.05000000000001]
[31348,"DALZIEL","William","M",2001,"U14","LSR","SSC",176.35,176.35]
[31336,"BARTHRAM","Alice","F",2001,"U14","LSR","SSC",226.09,226.09]
[31096,"REDPATH","Sandy","M",1996,"U21","LSR","SSC",154.51,154.51]
[31202,"MCROBB","Cameron","M",2000,"U16","LSR","SSC",166.39,166.39]
[31028,"MCBAIN","Corrie","M",1999,"U16","LSR","SSC",217.13,217.13]
[31353,"SKINNER","Eilidh","F",2001,"U14","LSR","SSC",364.38,364.38]
[31024,"JENNINGS","Euan","M",1997,"U18","LSR","SSC",586.27,586.27]
[31023,"JENNINGS","Sandy","M",1995,"U21","LSR","SSC",999.99,999.99]
[18913,"LEE","Francesca","F",1998,"U18","MSR","SSC",4.76,4.76]
[30850,"GLOISTEIN","Helen","F",1996,"U21","MUC","SSC",164.77,164.77]
[31379,"ALDRIDGE","Charlie","M",2001,"U14","MUC","SSC",288.52,288.52]
[31449,"ALDRIDGE","Iona","F",2003,"U12","MUC","SSC",999.99,999.99]
[36622,"MCKENDRICK","Lyle","F",2004,"U12","MUC","SSC",999.99,999.99]
[31553,"KELLY","Archie","M",2004,"U12","MUC","SSC",999.99,999.99]
[36621,"MACKECHNIE","Archie","M",2003,"U12","MUC","SSC",999.99,999.99]
[31236,"SMITH","Roli","M",2004,"U12","MUC","SSC",999.99,999.99]
[30388,"HENDERSON","Paul","M",1995,"U21",null,"SSC",16.88,19.54]
[31117,"GLASGOW","Peter","M",1994,"U21",null,"SSC",48.1,48.1]
[31003,"ANDREWS","Keir","M",1998,"U18",null,"SSC",93.74,93.74]
[30759,"DAULBY","Hannah","F",1995,"U21",null,"SSC",119.48,119.48]
[31105,"GALLOWAY","Duncan","M",1996,"U21",null,"SSC",124.18,124.18]
[30908,"ANDREWS","Greg","M",1997,"U18",null,"SSC",142.41999999999999,142.41999999999999]
[31135,"SANDFORD","Eliza","F",1996,"U21",null,"SSC",194.77,194.77]
[31221,"SMITH","Peter","M",2000,"U16",null,"SSC",284.42,284.42]
[31127,"SKINNER","Caroline","F",1998,"U18",null,"SSC",334.4,334.4]
[31422,"HAMLETT-HALL","Samuel","M",1998,"U18",null,"SSC",338.15,338.15]
[31322,"REED","Lewis","M",2001,"U14",null,"SSC",358.04,358.04]
[31323,"REED","Jemima","F",2003,"U12",null,"SSC",999.99,999.99]
[41999,"STADEN","Samuel","M",2001,"U14","SSP","SSP",999.99,999.99]
[21430,"TAYLOR SELT","Molly","F",1996,"U21","VIK","SUF",999.99,999.99]
[20602,"SMIDT-WALLIS","Brielle","F",2000,"U16","ASR","SUR",120.52,120.52]
[10199,"WILKEY","Sarah","F",1981,"MAS","SPR","SUR",999.99,999.99]
[18056,"YOUNG","Ella","F",1997,"U18","SUR","SUR",160,160]
[21884,"HUGHES","Rachel","F",1997,"U18","SUR","SUR",999.99,999.99]
[20651,"COLLIER","Harry","M",2002,"U14","MSR","SZR",205.48,999.99]
[20641,"HENERY","Robbie","M",1998,"U18","SHK","SZR",156.13,156.13]
[19993,"CHAPMAN","Lloyd","M",1999,"U16","SZR","SZR",73.16,83.91]
[20684,"GENTHER","Joshua","M",1998,"U18","SZR","SZR",108.93,115.55]
[22065,"DAY","Richard","M",1977,"MAS","SZR","SZR",255.03,999.99]
[19587,"BENNETT","Lucy","F",1999,"U16","SZR","SZR",112.44,112.44]
[19276,"EMERY","Jacob","M",2001,"U14","SZR","SZR",195.55,195.55]
[20277,"DUNION","Jamie","M",1999,"U16","SZR","SZR",262.45999999999998,262.45999999999998]
[20836,"FISHER","Edward","M",1999,"U16","SZR","SZR",999.99,999.99]
[21853,"KOTWICA","Dawid","M",1999,"U16","SZR","SZR",999.99,999.99]
[22002,"RYLAND","Peter","M",2001,"U14","SZR","SZR",999.99,999.99]
[20165,"COSHAM","Harry","M",2003,"U12","SZR","SZR",999.99,999.99]
[20837,"FISHER","George","M",2003,"U12","SZR","SZR",999.99,999.99]
[21967,"RYLAND","Callum","M",2003,"U12","SZR","SZR",999.99,999.99]
[21577,"CAREY","Joshua","M",2000,"U16",null,"SZR",999.99,999.99]
[21576,"CAREY","Matthew","M",1998,"U18",null,"SZR",999.99,999.99]
[20599,"SHERING","Nicole","F",2000,"U16","HEM","TEL",59.26,59.26]
[20840,"SNOW","Elise","F",1999,"U16","HEM","TEL",67.52,67.52]
[20766,"HUMPHREYS","Charles","M",2001,"U14","HEM","TEL",241.45,263.51]
[18318,"KRAHELSKI","Alicja","F",2000,"U16","HEM","TEL",33.22,33.22]
[19209,"WHEELER","William","M",1997,"U18","HEM","TEL",56.86,56.86]
[5666,"CROMBLEHOLME","Roger","M",1957,"MAS","MID","TEL",120.35,120.35]
[18704,"BEGG","Callum","M",1997,"U18","MSR","TEL",54.33,54.33]
[14661,"BULLOCK","Alexandra","F",1995,"U21","TEL","TEL",18.25,18.25]
[18571,"CONDE","Jamie","M",1992,"SEN","TEL","TEL",69.709999999999994,69.709999999999994]
[19832,"WILLIAMS","Grace","F",2000,"U16","TEL","TEL",81.400000000000006,81.400000000000006]
[19797,"STEVENSON","Christian","M",1998,"U18","TEL","TEL",144.85,93.97]
[21094,"DRUMMOND","Isabel","F",2001,"U14","TEL","TEL",272.29000000000002,324.52]
[17747,"GOULD","Charlotte","F",1992,"SEN","TEL","TEL",10.87,10.87]
[17515,"GIRLING","Kirran","M",1997,"U18","TEL","TEL",33.979999999999997,33.979999999999997]
[17787,"SHRIMPTON","Charlotte","F",1994,"U21","TEL","TEL",47,47]
[17972,"GOULD","Georgina","F",1994,"U21","TEL","TEL",51,51]
[20313,"WESTERN","Aaron","M",1998,"U18","TEL","TEL",999.99,999.99]
[21124,"DRUMMOND","Elinor","F",2003,"U12","TEL","TEL",999.99,999.99]
[20701,"FELLOWS","Charley","F",2003,"U12","TEL","TEL",999.99,999.99]
[21827,"DEEM","Charles","M",2005,"U10","TEL","TEL",999.99,999.99]
[20369,"LAW","Joshua","M",2003,"U12","TEL","TEL",999.99,999.99]
[22050,"WEBB","Andrew","M",2004,"U12","TEL","TEL",999.99,999.99]
[22073,"KING","Adam","M",1998,"U18","TKP","TKP",999.99,999.99]
[21259,"MIRACCO","Carlito","M",1999,"U16","HEM","TOQ",162.11000000000001,162.11000000000001]
[21755,"PASCOE","Eva","F",2002,"U14","PLY","TOQ",999.99,107.54]
[12123,"GEYER","Jai","M",1990,"SEN","TOQ","TOQ",25.77,42.13]
[19457,"SIMMONS","Nigel","M",1962,"MAS","TOQ","TOQ",382.33,382.33]
[21737,"MCCOLL","Ruari","M",2002,"U14","TOQ","TOQ",999.99,999.99]
[21759,"BOSWOOD-CLARK","Eve","F",2003,"U12","TOQ","TOQ",999.99,999.99]
[21736,"MCCOLL","Isla","F",2004,"U12","TOQ","TOQ",999.99,999.99]
[21556,"HUNT","Hannah","F",1997,"U18","TSD","TSD",198.29,146]
[21270,"CHAPMAN","Chloe","F",2003,"U12","TSD","TSD",999.99,999.99]
[21269,"CHAPMAN","David","M",1976,"MAS","TSD","TSD",999.99,999.99]
[21727,"STOKOE","Amy","F",2005,"U10","TSD","TSD",999.99,999.99]
[19644,"PRETTY","Antonia","F",1996,"U21","TSN","TSN",50.24,50.24]
[21718,"ROSS","David","M",1970,"MAS","TSN","TSN",195.27,195.27]
[21456,"VINCENT","Ben","M",2003,"U12","TSN","TSN",999.99,999.99]
[21901,"MANNBY","Siobhan","F",2000,"U16","VIK","VIK",999.99,999.99]
[12254,"CHAPMAN","Iain","M",1982,"MAS","VIK","VIK",999.99,999.99]
[21832,"LOCKWOOD","Marcus","M",1997,"U18","VIK","VIK",999.99,999.99]
[12334,"ROBERTSON","Stuart","M",1950,"MAS","WCS","WCS",261.93,261.93]
[20496,"SCRANAGE-HARRISON","Eleanor","F",2002,"U14","HEM","WGC",999.99,999.99]
[18931,"MILES","Joanna","F",1993,"SEN","WGC","WGC",82.33,82.33]
[19013,"HANLON","George","M",1999,"U16","FPS","WM",143,140.1]
[22015,"LLEWELLYN","Aaliyah","F",2006,"U10","MID","WM",999.99,999.99]
[21837,"WOOLLEY","Kieran","M",2005,"U10","MID","WM",999.99,999.99]
[20331,"LUCAS","Oliver","M",2002,"U14","WM","WM",999.99,999.99]
[21254,"WATSON","Josie","F",2004,"U12","WM","WM",999.99,999.99]
[19632,"GREENWAY","Daniel","M",1998,"U18",null,"WM",132.62,164.21]
[19631,"GREENWAY","Thomas","M",2001,"U14",null,"WM",137.99,188.11]
[21902,"HADLEY","Thomas","M",2000,"U16",null,"WM",999.99,999.99]
[19095,"JOHNS","Owen","M",2001,"U14",null,"WM",999.99,999.99]
[21233,"SIMPSON","Cameron","M",2002,"U14",null,"WM",999.99,999.99]
[20355,"JOHNS","Scott","M",2003,"U12",null,"WM",999.99,999.99]
[22136,"ORZEL","Emilia","F",2006,"U10",null,"WM",999.99,999.99]
[22155,"BALCHIN","Lewis","M",2000,"U16","2KP",null,999.99,999.99]
[21601,"SMITH","Anthony","M",1969,"MAS","ALD",null,228.31,228.31]
[21542,"FAWKE","Tim","M",1976,"MAS","ALD",null,999.99,999.99]
[30995,"BEATTIE","Natalie","F",1994,"U21","ARB",null,999.99,999.99]
[31488,"SHEPHERD","Calum","M",2000,"U16","ASC",null,999.99,999.99]
[31294,"RENNIE","Graham","M",1975,"MAS","ASC",null,242.18,298.95999999999998]
[31384,"GEEKIE","Alexander","M",2001,"U14","ASC",null,293.01,293.01]
[31234,"HALL","Adam","M",2000,"U16","ASC",null,297.10000000000002,297.10000000000002]
[36639,"DAVIES","Christina","F",1993,"SEN","ASC",null,999.99,999.99]
[31364,"CAMERON","Rory","M",2002,"U14","ASC",null,999.99,999.99]
[31547,"HALL","Mark","M",1964,"MAS","ASC",null,999.99,999.99]
[31567,"JACK","Fraser","M",2001,"U14","ASC",null,999.99,999.99]
[31558,"MENZIES","Fraser","M",1997,"U18","ASC",null,999.99,999.99]
[36568,"WATSON","Ralph","M",1962,"MAS","ASC",null,999.99,999.99]
[31548,"HALL","Alistair","M",2003,"U12","ASC",null,426.58,426.58]
[36592,"GIBB","Alana","F",2006,"U10","ASC",null,999.99,999.99]
[36588,"KING","Layla","F",2006,"U10","ASC",null,999.99,999.99]
[36637,"RITCHIE","Claudia","F",2007,"U8","ASC",null,999.99,999.99]
[36638,"RITCHIE","Gabriella","F",2008,"U8","ASC",null,999.99,999.99]
[36590,"BREMNER","Keilan","M",2003,"U12","ASC",null,999.99,999.99]
[36591,"GIBB","Arran","M",2003,"U12","ASC",null,999.99,999.99]
[36587,"KING","Logan","M",2003,"U12","ASC",null,999.99,999.99]
[31569,"SMITH","Cameron","M",2003,"U12","ASC",null,999.99,999.99]
[17936,"DAVIES","Jenny","F",1996,"U21","ASR",null,20.09,16.84]
[19086,"READER","Christopher","M",1996,"U21","ASR",null,30.44,30.44]
[18660,"HATHWAY","Isabella","F",1997,"U18","ASR",null,49.71,12.74]
[19686,"BRADFORD-SMITH","Jack","M",1996,"U21","ASR",null,69.319999999999993,69.319999999999993]
[20683,"SPEED","Craig","M",1999,"U16","ASR",null,95.84,85.53]
[20673,"BANNISTER","Adam","M",1999,"U16","ASR",null,118.03,99.96]
[21632,"SHEMMANS","Jake","M",2001,"U14","ASR",null,133.47,127.28]
[21594,"WORTT","Aaron","M",1999,"U16","ASR",null,159.6,137.63999999999999]
[21600,"SMITH","Euan","M",2000,"U16","ASR",null,199.42,199.42]
[21303,"BANNISTER","Lucy","F",2002,"U14","ASR",null,999.99,228.88]
[22072,"CHARLTON","Harvey","M",1998,"U18","ASR",null,999.99,110.83]
[21605,"SMITH","Nathan","M",2002,"U14","ASR",null,999.99,171.36]
[12802,"CALVERT","Peter","M",1988,"SEN","ASR",null,41.11,41.11]
[19085,"READER","William","M",1994,"U21","ASR",null,43.02,43.02]
[2657,"BANNISTER","Simon","M",1966,"MAS","ASR",null,75.36,75.36]
[14927,"DAVIES","Peter","M",1993,"SEN","ASR",null,90.28,90.28]
[17983,"WELLER","Mark","M",1992,"SEN","ASR",null,93.23,93.23]
[21004,"GIBBS","James","M",1998,"U18","ASR",null,179.46,179.46]
[19685,"BRADFORD-SMITH","George","M",1994,"U21","ASR",null,223.89,223.89]
[21612,"GIBBS","Jack","M",2001,"U14","ASR",null,269.41000000000003,269.41000000000003]
[21623,"FITZSIMMONS","Tobias","M",1999,"U16","ASR",null,691.71,691.71]
[21608,"HAIRE","Bradley","M",1998,"U18","ASR",null,999.99,999.99]
[21914,"COTTLE-BAILEY","Poppy","F",2003,"U12","ASR",null,999.99,999.99]
[21091,"LUTTERLOCH","Edward","M",2003,"U12","ASR",null,999.99,999.99]
[21645,"MELLON-HENDRY","Freddie","M",2004,"U12","ASR",null,999.99,999.99]
[22163,"COOPER-WALKER","Josef","M",2000,"U16","AVO",null,999.99,999.99]
[22167,"PRINCE","Derek","M",1964,"MAS","AVO",null,999.99,999.99]
[21387,"HUDDLESTON","David","M",1996,"U21","BAS",null,999.99,999.99]
[31008,"POGSON","Liam","M",1998,"U18","BLG",null,280.11,280.11]
[6383,"EVERITT","Simon","M",1964,"MAS","BOW",null,348.93,348.93]
[30864,"RATTRAY","Aleysha","F",1996,"U21","BRM",null,174.29,174.29]
[31303,"PETERS","Ella","F",1994,"U21","BRM",null,999.99,999.99]
[31133,"FARQUHARSON","Hamish","M",1999,"U16","BRM",null,999.99,999.99]
[31073,"PETERS","Lachlan","M",1997,"U18","BRM",null,999.99,999.99]
[19152,"LEWINGTON","Caitlin","F",1999,"U16","BRO",null,76.89,76.89]
[20584,"MCDONALD-PROCTOR","Richard","M",1998,"U18","BRO",null,99.26,99.86]
[21626,"ATKINSON","Andrew","M",1967,"MAS","BRO",null,323.20999999999998,323.20999999999998]
[20583,"MCDONALD-PROCTOR","William","M",2002,"U14","BRO",null,354.9,999.99]
[18558,"WILLOWS","Laurence","M",1996,"U21","BRO",null,38.72,38.72]
[14942,"FREEZE","Danielle","F",1990,"SEN","BRO",null,62.02,62.02]
[21357,"MOORE","Danica","F",2000,"U16","BRO",null,165.28,165.28]
[21076,"GEORGEL","Robert","M",1996,"U21","BRO",null,323.31,323.31]
[22070,"TURNER","Morgan","F",1999,"U16","BRO",null,999.99,999.99]
[21210,"WILLOWS","April","F",2002,"U14","BRO",null,999.99,999.99]
[22152,"NABAR","Antony","M",2006,"U10","BRO",null,999.99,999.99]
[21726,"HOLT","Samuel","M",1995,"U21","BRS",null,303.75,203.88]
[31469,"DAVIS","Meghan","F",2000,"U16","BSA",null,157.01,157.01]
[31173,"SCOTT","Lucy","F",1999,"U16","BSC",null,85.69,85.69]
[31134,"TURNER","Jennifer","F",2001,"U14","BSC",null,154.93,154.93]
[31519,"KEANEY","Seamus","M",2001,"U14","BSC",null,179.25,179.25]
[31326,"MURPHY","Rhys","M",1999,"U16","BSC",null,142.25,200.79]
[31540,"MCINTYRE","Scott","M",2002,"U14","BSC",null,306.83,999.99]
[31491,"MCNEILL","David","M",2000,"U16","BSC",null,999.99,999.99]
[31371,"SCOTT","Ruaraidh","M",2002,"U14","BSC",null,999.99,999.99]
[30833,"ALLAN","Katie","F",1996,"U21","BSC",null,66.62,66.62]
[31006,"ROSS","Harry","M",1998,"U18","BSC",null,108.44,108.44]
[31137,"COHN","Antony","M",1998,"U18","BSC",null,145.79,145.79]
[31204,"WATSON","Jack","M",1999,"U16","BSC",null,220.3,220.3]
[31432,"HERBERT","Calum","M",2001,"U14","BSC",null,251.3,251.3]
[31106,"CUNNINGHAM","Kyle","M",1996,"U21","BSC",null,287.86,287.86]
[30100,"CRAWFORD","Douglas","M",1987,"SEN","BSC",null,929.76,929.76]
[31493,"BRUCE","Emma","F",2000,"U16","BSC",null,999.99,999.99]
[31497,"CHAPMAN","Vaila","F",1997,"U18","BSC",null,999.99,999.99]
[31346,"MACKENZIE","Eve","F",2000,"U16","BSC",null,999.99,999.99]
[31245,"PETRIE","Aoife","F",2002,"U14","BSC",null,999.99,999.99]
[31244,"PETRIE","Isla","F",2000,"U16","BSC",null,999.99,999.99]
[30768,"VINCENTI","Anna","F",1995,"U21","BSC",null,999.99,999.99]
[31215,"ADLINGTON","Ben","M",1999,"U16","BSC",null,999.99,999.99]
[31041,"BOOTH","Harris","M",1997,"U18","BSC",null,999.99,999.99]
[31051,"BOW","Brandon","M",2001,"U14","BSC",null,999.99,999.99]
[31325,"CORRY","Matt","M",1997,"U18","BSC",null,999.99,999.99]
[36626,"DISCOMBE","Lewis","M",2002,"U14","BSC",null,999.99,999.99]
[31458,"DOHERTY","Lewis","M",1997,"U18","BSC",null,999.99,999.99]
[31570,"MACMILLAN","Fraser","M",2002,"U14","BSC",null,999.99,999.99]
[31273,"MCCORMICK","Chris","M",1998,"U18","BSC",null,999.99,999.99]
[31043,"MCGRATH","Sam","M",1997,"U18","BSC",null,999.99,999.99]
[31121,"MCKILLOP","Murray","M",1998,"U18","BSC",null,999.99,999.99]
[31403,"MCLAREN","Ronan","M",2001,"U14","BSC",null,999.99,999.99]
[36634,"SIMMERS","Robbie","M",2000,"U16","BSC",null,999.99,999.99]
[31541,"MCINTYRE","Ross","M",2004,"U12","BSC",null,999.99,999.99]
[36560,"MCKAIN","Ross","M",2003,"U12","BSC",null,999.99,999.99]
[36630,"MUNRO","Gregor","M",2004,"U12","BSC",null,999.99,999.99]
[31444,"PEEK","Harrison","M",2003,"U12","BSC",null,999.99,999.99]
[41938,"CRIDDLE","Isaac","M",2000,"U16","CAR",null,214.53,188.28]
[41987,"JONES","Iwan","M",1999,"U16","CAR",null,284.72000000000003,170.7]
[41656,"WATTS","Llewellyn","M",2001,"U14","CAR",null,291.31,222.06]
[41968,"FURLONG","Georgia","F",2000,"U16","CAR",null,229.25,184.8]
[41953,"MCNICOLL","Isla","F",1981,"MAS","CAR",null,999.99,162.26]
[42031,"JONES","Gethin","M",2001,"U14","CAR",null,999.99,201.65]
[41919,"TOUCHE","Alexandre","M",1997,"U18","CAR",null,77.94,77.94]
[42040,"HARRISON","Ursula","F",2000,"U16","CAR",null,999.99,999.99]
[42033,"COMPTON","Joseph","M",2005,"U10","CAR",null,999.99,999.99]
[41988,"CRIDDLE","Ollie","M",2004,"U12","CAR",null,999.99,999.99]
[41928,"JAMES","Lilli","F",2003,"U12","CAR",null,999.99,999.99]
[18933,"VALE","Lauren","F",2001,"U14","CHT",null,79.94,79.94]
[19623,"SYMONS","Rachel","F",1993,"SEN","CHT",null,40.1,40.1]
[18934,"VALE","Nikkie","F",1994,"U21","CHT",null,77.87,77.87]
[20239,"CHAMPION","Ben","M",1993,"SEN","CHT",null,110.46,110.46]
[21734,"ATKINSON","Molly","F",2001,"U14","CHT",null,999.99,999.99]
[21836,"WHITMARSH-ALI","Megan","F",2000,"U16","CHT",null,999.99,999.99]
[21857,"WHEELER","Ryan","M",1999,"U16","CHT",null,999.99,999.99]
[21649,"BUNTON","Ryan","M",2005,"U10","CHT",null,999.99,999.99]
[22177,"COOK","Joshua","M",2005,"U10","CHT",null,999.99,999.99]
[31433,"CRANE","Joanna","F",2001,"U14","CSC",null,999.99,999.99]
[31466,"DICKSON","Sophie","F",1999,"U16","CSC",null,999.99,999.99]
[31246,"HEWISON","Megan","F",2001,"U14","CSC",null,999.99,999.99]
[31478,"LATTO","Rosamund","F",1999,"U16","CSC",null,999.99,999.99]
[31468,"NEGRI","Daniella","F",2000,"U16","CSC",null,999.99,999.99]
[36565,"PIERCEY","Rachel","F",2001,"U14","CSC",null,999.99,999.99]
[36601,"REID","Sinead","F",2001,"U14","CSC",null,999.99,999.99]
[36609,"VAUGHAN","Molly","F",2001,"U14","CSC",null,999.99,999.99]
[31228,"ADAMSON","Alexander","M",1996,"U21","CSC",null,999.99,999.99]
[31477,"ADAMSON","Tristram","M",1997,"U18","CSC",null,999.99,999.99]
[31467,"DICKSON","Jamie","M",2001,"U14","CSC",null,999.99,999.99]
[31289,"DONALD","Daniel","M",1999,"U16","CSC",null,999.99,999.99]
[31470,"DUNCAN","Rory","M",1999,"U16","CSC",null,999.99,999.99]
[36612,"HORNSBY","Duncan","M",2000,"U16","CSC",null,999.99,999.99]
[31286,"KERR","George","M",2000,"U16","CSC",null,999.99,999.99]
[31285,"KERR","Henry","M",2000,"U16","CSC",null,999.99,999.99]
[36596,"LYNCH","Calum","M",2000,"U16","CSC",null,999.99,999.99]
[31435,"MCFADDEN","Cameron","M",2000,"U16","CSC",null,999.99,999.99]
[31446,"MCFADDEN","Iain","M",2002,"U14","CSC",null,999.99,999.99]
[31083,"MCFADDEN","Neil","M",1998,"U18","CSC",null,999.99,999.99]
[30978,"MCWILLIAM","Lewis","M",1997,"U18","CSC",null,999.99,999.99]
[31288,"PIERCEY","James","M",1997,"U18","CSC",null,999.99,999.99]
[31175,"ROBERTSON","John","M",1997,"U18","CSC",null,999.99,999.99]
[31187,"SMITH","Jack","M",1998,"U18","CSC",null,999.99,999.99]
[31305,"TATE","Thomas","M",1997,"U18","CSC",null,999.99,999.99]
[31078,"VAUGHAN","Seoras","M",1998,"U18","CSC",null,999.99,999.99]
[36606,"NEGRI","Belana","F",2003,"U12","CSC",null,999.99,999.99]
[36593,"ROBSON","Solmisty","F",2003,"U12","CSC",null,999.99,999.99]
[36584,"TATE","Emily","F",2003,"U12","CSC",null,999.99,999.99]
[36583,"TATE","Georgia","F",2004,"U12","CSC",null,999.99,999.99]
[31247,"HEWISON","Henry","M",2004,"U12","CSC",null,999.99,999.99]
[36624,"MARSHALL","Max","M",2006,"U10","CSC",null,999.99,999.99]
[36623,"MARSHALL","Zac","M",2004,"U12","CSC",null,999.99,999.99]
[36566,"PIERCEY","Michael","M",2004,"U12","CSC",null,999.99,999.99]
[22116,"ELPHICK","Alex","F",1999,"U16","ESX",null,999.99,999.99]
[638,"CAXTON","Martin","M",1955,"MAS","ESX",null,999.99,999.99]
[19128,"WILLIAMS","Beth","F",1995,"U21","FLK",null,65.22,65.22]
[17932,"SOUTHALL","Frazer","M",1997,"U18","FLK",null,69.069999999999993,69.069999999999993]
[19130,"WILLIAMS","Jamie","M",1992,"SEN","FLK",null,69.849999999999994,70.19]
[18378,"SOUTHALL","Merrick","M",2000,"U16","FLK",null,138.74,138.74]
[21169,"FOWLES","James","M",1999,"U16","FLK",null,167.1,179.94]
[21408,"MILLER-HASTINGS","Frankie","M",2000,"U16","FLK",null,175.42,197.23]
[21168,"FOWLES","Luke","M",2002,"U14","FLK",null,339.79,999.99]
[18610,"DEAKIN","William","M",1991,"SEN","FLK",null,28.84,28.84]
[21189,"BIGGS","Saul","M",1998,"U18","FLK",null,94.62,94.62]
[22162,"WESTON","Ryan","M",2000,"U16","FLK",null,999.99,999.99]
[21147,"TANDY","Joshua","M",2004,"U12","FLK",null,999.99,999.99]
[22078,"THORNTON","Eleanor","F",2000,"U16","FPS",null,999.99,189.79]
[21975,"HOCKING","Alexander","M",1999,"U16","FPS",null,999.99,257.93]
[21996,"IANNARILLI","Lia","F",2003,"U12","FPS",null,999.99,999.99]
[22058,"SMITH","Emily","F",2004,"U12","FPS",null,999.99,999.99]
[31093,"WHATFORD","Beth","F",2001,"U14","GDN",null,123.54,123.54]
[31201,"SIMPSON","Andrew","M",2000,"U16","GDN",null,178.16,178.16]
[36614,"GREEN","Eleanor","F",2001,"U14","GDN",null,999.99,999.99]
[31076,"STILL","Ella","F",1997,"U18","GDN",null,142.44999999999999,145.30000000000001]
[31208,"ALLAN","Tabitha","F",2000,"U16","GDN",null,187.21,187.21]
[30738,"PAXTON","Paul","M",1998,"U18","GDN",null,187.29,187.82]
[31209,"PRESSLIE","Jessica","F",2000,"U16","GDN",null,202.84,202.84]
[30669,"MACFIE","Euan","M",1994,"U21","GDN",null,229.93,229.93]
[31340,"ALLAN","Amelia","F",2001,"U14","GDN",null,252.74,252.74]
[30793,"CAMPBELL","Andrew","M",1995,"U21","GDN",null,271.7,271.7]
[30866,"GARVIE","Amber","F",1998,"U18","GDN",null,283.27,283.27]
[31088,"STILL","Ruby","F",1999,"U16","GDN",null,284.98,284.98]
[31206,"RASMUSEN","Erik","M",1998,"U18","GDN",null,288.04000000000002,288.04000000000002]
[31178,"ALEXANDER","Hamish","M",1999,"U16","GDN",null,301.31,301.31]
[31140,"RAY","Kathleen","F",1999,"U16","GDN",null,305.22000000000003,305.22000000000003]
[30912,"CAMPBELL","Iain","M",1997,"U18","GDN",null,334.53,334.53]
[31357,"CALDER","Emma","F",2002,"U14","GDN",null,999.99,999.99]
[31565,"DOUGLAS","Morven","F",2001,"U14","GDN",null,999.99,999.99]
[31153,"MORRISON","Rachael","F",1999,"U16","GDN",null,999.99,999.99]
[31207,"RASMUSEN","Victoria","F",2000,"U16","GDN",null,999.99,999.99]
[31504,"STEPHEN","Sadie","F",2000,"U16","GDN",null,999.99,999.99]
[36585,"STEPHEN","Wendy","F",2002,"U14","GDN",null,999.99,999.99]
[31290,"BROWN","Rory","M",1997,"U18","GDN",null,999.99,999.99]
[31230,"CAMPBELL","Graeme","M",2000,"U16","GDN",null,999.99,999.99]
[30854,"GARVIE","Scott","M",1996,"U21","GDN",null,999.99,999.99]
[36607,"MORRISON","Jack","M",2001,"U14","GDN",null,999.99,999.99]
[31255,"WILOWSKI","Kazimierz","M",2000,"U16","GDN",null,999.99,999.99]
[31436,"ALLAN","Phoebe","F",2004,"U12","GDN",null,999.99,999.99]
[31482,"BROWN","Anna","F",2006,"U10","GDN",null,999.99,999.99]
[31440,"PFLEGER","Isabella","F",2006,"U10","GDN",null,999.99,999.99]
[31447,"PRESSLIE","Sophie","F",2003,"U12","GDN",null,999.99,999.99]
[31481,"BROWN","Cameron","M",2003,"U12","GDN",null,999.99,999.99]
[31439,"PFLEGER","Harry","M",2005,"U10","GDN",null,999.99,999.99]
[36586,"STEPHEN","Gordie","M",2005,"U10","GDN",null,999.99,999.99]
[31434,"WHATFORD","Ben","M",2005,"U10","GDN",null,999.99,999.99]
[21358,"COOK","Ellie","F",1998,"U18","GLO",null,160.04,157.44]
[21255,"COOK","James","M",2002,"U14","GLO",null,999.99,269.08999999999997]
[18257,"MOZOL","James","M",1993,"SEN","GLO",null,37.020000000000003,37.020000000000003]
[20790,"SANDEMAN","Jonathan","M",1998,"U18","GLO",null,90.22,90.22]
[21224,"BENNION","James","M",1997,"U18","GLO",null,306.93,306.93]
[22182,"HILLS","Charlotte","F",1998,"U18","GLO",null,999.99,999.99]
[21580,"HOFFMAN-LITTLE","Jolie","F",2005,"U10","GLO",null,999.99,999.99]
[21258,"COOK","Alastair","M",2003,"U12","GLO",null,999.99,999.99]
[21630,"EDWARDS","Rachel","F",1963,"MAS","GRV",null,999.99,999.99]
[36602,"MACLACHLAN","Fergus","M",2002,"U14","GSC",null,999.99,999.99]
[36613,"PEDEN","Jamie","M",1998,"U18","GSC",null,999.99,999.99]
[30923,"VINTER","Owen","M",2001,"U14","GSR",null,89.77,89.77]
[31275,"MCKINLAY","Victoria","F",2000,"U16","GSR",null,107.97,107.97]
[31176,"WYLIE","Scott","M",2001,"U14","GSR",null,121.96,127.89]
[31182,"DICKSON","Bailey","M",2000,"U16","GSR",null,118.55,132.28]
[31314,"MCLEW","Christopher","M",2001,"U14","GSR",null,140.04,142.44]
[31278,"FITZPATRICK","Jimmy","M",2000,"U16","GSR",null,151.97,151.97]
[31282,"NESBITT","Kieran","M",2000,"U16","GSR",null,199.05,209.1]
[31283,"NESBITT","Ross","M",2002,"U14","GSR",null,249.1,999.99]
[31195,"WARD","Thomas","M",2002,"U14","GSR",null,220.04,999.99]
[30767,"RITCHIE","Nicole","F",1995,"U21","GSR",null,0,0]
[30831,"VINTER","Zak","M",1998,"U18","GSR",null,6.93,6.93]
[30614,"RYAN","Euan","M",1993,"SEN","GSR",null,24.17,24.17]
[30233,"MACBAIN","Scott","M",1987,"SEN","GSR",null,26.5,73.23]
[31169,"MCHUGH","Liam","M",1997,"U18","GSR",null,34.64,34.64]
[30867,"RYAN","Eilidh","F",2000,"U16","GSR",null,43.11,43.11]
[31203,"CARSON","Clare","F",1994,"U21","GSR",null,53.28,105.58]
[30931,"MIDDLETON","Fraser","M",1998,"U18","GSR",null,92.62,92.62]
[30974,"SANDLAND","Alasdair","M",2000,"U16","GSR",null,118.53,118.53]
[31130,"SANDLAND","Louise","F",2001,"U14","GSR",null,210.72,210.72]
[31161,"CAMPBELL","Erin","F",1999,"U16","GSR",null,257.23,257.23]
[31525,"WALLACE","Olivia","F",1999,"U16","GSR",null,375.43,375.43]
[31537,"PATHI","Rowan","M",1999,"U16","GSR",null,380.12,380.12]
[31552,"RATTRAY","Andrew","M",2000,"U16","GSR",null,441.81,441.81]
[31531,"BRAWLEY","Patrick","M",2000,"U16","GSR",null,447.37,447.37]
[31484,"BURKE","Olivia","F",2002,"U14","GSR",null,999.99,999.99]
[36635,"CLARK","Megan","F",1998,"U18","GSR",null,999.99,999.99]
[36604,"FITZPATRICK","Joy","F",1997,"U18","GSR",null,999.99,999.99]
[31146,"MURPHY","Louise","F",1997,"U18","GSR",null,999.99,999.99]
[31252,"OSBORNE","Jennifer","F",1991,"SEN","GSR",null,999.99,999.99]
[36562,"SZAFRANEK","Chloe","F",1992,"SEN","GSR",null,999.99,999.99]
[31524,"WALLACE","Sophia","F",2002,"U14","GSR",null,999.99,999.99]
[36618,"GRANT","Caolan","M",2002,"U14","GSR",null,999.99,999.99]
[36619,"GRANT","Taryn","M",2002,"U14","GSR",null,999.99,999.99]
[31486,"HODGSON","Ben","M",2001,"U14","GSR",null,999.99,999.99]
[36636,"JAMIESON","Fraser","M",2002,"U14","GSR",null,999.99,999.99]
[31457,"MILLER","Craig","M",2002,"U14","GSR",null,999.99,999.99]
[31450,"MILLER","Scott","M",1998,"U18","GSR",null,999.99,999.99]
[31151,"PATHI","Brogan","M",1998,"U18","GSR",null,999.99,999.99]
[31562,"TAYLOR","Calum","M",2002,"U14","GSR",null,999.99,999.99]
[30785,"WILD","Brett","M",1992,"SEN","GSR",null,999.99,999.99]
[31455,"YORK","Scott","M",2002,"U14","GSR",null,999.99,999.99]
[31532,"BRAWLEY","Ella","F",2004,"U12","GSR",null,999.99,999.99]
[31454,"FITZPATRICK","Molly","F",2003,"U12","GSR",null,999.99,999.99]
[31500,"WARD","Erin","F",2005,"U10","GSR",null,999.99,999.99]
[31464,"WARD","Isla","F",2004,"U12","GSR",null,999.99,999.99]
[31260,"WYLIE","Fiona","F",2003,"U12","GSR",null,999.99,999.99]
[31479,"BURKE","Luke","M",2004,"U12","GSR",null,999.99,999.99]
[36603,"CAMPBELL","Oliver","M",2003,"U12","GSR",null,999.99,999.99]
[31437,"MCLEW","Euan","M",2003,"U12","GSR",null,999.99,999.99]
[31129,"SANDLAND","Jamie","M",2003,"U12","GSR",null,999.99,999.99]
[31474,"SIMMONDS","Thomas","M",2003,"U12","GSR",null,999.99,999.99]
[31563,"TAYLOR","Finlay","M",2004,"U12","GSR",null,999.99,999.99]
[31523,"WYLIE","Gordon","M",2005,"U10","GSR",null,999.99,999.99]
[14350,"POTH","Daniel","M",1996,"U21","HEM",null,14.16,21.81]
[13952,"ROGERS","Rachelle","F",1995,"U21","HEM",null,11.2,999.99]
[18793,"O'NEILL","Ella","F",1997,"U18","HEM",null,27.27,30.36]
[18317,"KRAHELSKI","Oliver","M",1996,"U21","HEM",null,28.21,28.21]
[5480,"TURNOCK","Kerry","F",1972,"MAS","HEM",null,61.15,61.15]
[18467,"WHITE","Alex","M",1997,"U18","HEM",null,78.930000000000007,78.930000000000007]
[17439,"GREASBY","Alexandra","F",1994,"U21","HEM",null,111.86,111.86]
[13217,"SHARP","Anthony","M",1968,"MAS","HEM",null,140.66,140.66]
[20727,"BELL","Rosemary","F",2001,"U14","HEM",null,233.63,233.63]
[21720,"SHAIR","Tariq","M",1993,"SEN","HEM",null,281.63,281.63]
[19122,"GREASBY","Richard","M",1969,"MAS","HEM",null,758.49,758.49]
[21441,"ORCHARD","Ellie","F",2002,"U14","HEM",null,999.99,999.99]
[22009,"APPLETON","Byron","M",2001,"U14","HEM",null,999.99,999.99]
[20579,"SMITH","Gary","M",1984,"MAS","HEM",null,999.99,999.99]
[41974,"THOMAS","Pat","M",1960,"MAS","HEM",null,999.99,999.99]
[22188,"TRUST","Alex","M",2000,"U16","HEM",null,999.99,999.99]
[22121,"BENN","Jessica","F",2005,"U10","HEM",null,999.99,999.99]
[21699,"MAGENES","Edoardo","M",2004,"U12","HEM",null,999.99,999.99]
[31404,"CLUGNET","James","M",1996,"U21","HIG",null,999.99,999.99]
[36564,"MACLEAN","Beth","F",1998,"U18","HNC",null,999.99,999.99]
[31546,"GIBB","Duncan","M",1997,"U18","HNC",null,999.99,999.99]
[31396,"MACLEAN","Angus","M",1996,"U21","HNC",null,999.99,999.99]
[31392,"NICHOLLS","Harry","M",1996,"U21","HNC",null,999.99,999.99]
[31310,"YOUNG","Gregor","M",1995,"U21","HNC",null,999.99,999.99]
[36629,"LANG","Fergus","M",2000,"U16","K",null,999.99,999.99]
[20401,"MOORE","Benedict","M",2001,"U14","K",null,999.99,999.99]
[21964,"KEEN","Emily","F",2004,"U12","KF",null,999.99,999.99]
[19450,"SLATTERY","Rachel","F",1968,"MAS","KND",null,999.99,999.99]
[14393,"THEXTON","Heather","F",1990,"SEN","KND",null,999.99,999.99]
[22133,"APPLETON","Polly","F",1999,"U16","LIO",null,999.99,999.99]
[31318,"STARK","Daisy","F",2001,"U14","LSR",null,271.52,271.52]
[31199,"MORRIS","Christopher","M",2000,"U16","LSR",null,275.89,275.89]
[31333,"HANNAN","James","M",2001,"U14","LSR",null,287.01,287.01]
[31513,"PEARSON","Holly","F",2001,"U14","LSR",null,588.97,588.97]
[31109,"HEATLEY","Holly","F",1997,"U18","LSR",null,999.99,999.99]
[31339,"BURROW","Gregor","M",2002,"U14","LSR",null,999.99,999.99]
[31238,"KEITH","Mathew","M",1998,"U18","LSR",null,140.94999999999999,140.94999999999999]
[31039,"CAMERON","Alasdair","M",1995,"U21","LSR",null,165.79,165.79]
[31077,"HUNSLEY","Miriam","F",1995,"U21","LSR",null,210.12,210.12]
[31114,"SPEIR","Henry","M",1999,"U16","LSR",null,224.12,224.12]
[31029,"FLOCKHART","Sam","M",1998,"U18","LSR",null,253.4,253.4]
[31150,"GOODLAD","Finlay","M",1998,"U18","LSR",null,264.86,264.86]
[31327,"INWOOD","Morgan","F",2001,"U14","LSR",null,265,265]
[31142,"GIBB","Matthew","M",1997,"U18","LSR",null,283.04000000000002,283.04000000000002]
[31313,"MUNRO","Colin","M",1995,"U21","LSR",null,285.93,999.99]
[31157,"SPENCE","Matthew","M",2000,"U16","LSR",null,289.22000000000003,289.22000000000003]
[31265,"NAYLOR","Finlay","M",1998,"U18","LSR",null,333.83,333.83]
[31330,"MARTIN","Rebecca","F",1999,"U16","LSR",null,388.01,388.01]
[31413,"DORREN","Donald","M",2001,"U14","LSR",null,420.99,420.99]
[31258,"GIBB","Tabitha","F",2000,"U16","LSR",null,431.18,431.18]
[31233,"BEVERIDGE","Jamie","M",2000,"U16","LSR",null,433.96,433.96]
[31429,"HARPER","Callum","M",1998,"U18","LSR",null,434.07,434.07]
[31162,"DAVIDSON-MCQUEEN","Ramsay","M",1999,"U16","LSR",null,434.48,434.48]
[31164,"ODY","Robert","M",1998,"U18","LSR",null,465.51,465.51]
[31264,"GIBB","Eva","F",2000,"U16","LSR",null,470.48,470.48]
[31545,"WOOD","Milly","F",2000,"U16","LSR",null,616.37,616.37]
[31411,"BAKER","Rachel","F",2002,"U14","LSR",null,999.99,999.99]
[31317,"DAVIDSON-MCQUEEN","Cassie","F",2002,"U14","LSR",null,999.99,999.99]
[31555,"MCNUTT","Katie","F",2002,"U14","LSR",null,999.99,999.99]
[31476,"MORISETTI","Eilidh","F",2002,"U14","LSR",null,999.99,999.99]
[31507,"MYATT","Rona","F",1997,"U18","LSR",null,999.99,999.99]
[31430,"STEWART","Honor","F",2000,"U16","LSR",null,999.99,999.99]
[31400,"ARNOTT","Jack","M",2002,"U14","LSR",null,999.99,999.99]
[31520,"DUNN","Liam","M",2000,"U16","LSR",null,999.99,999.99]
[31542,"GILFILLAN","Charlie","M",2001,"U14","LSR",null,999.99,999.99]
[31508,"MARSTON","Rory","M",1999,"U16","LSR",null,999.99,999.99]
[31554,"MCNUTT","Josh","M",1998,"U18","LSR",null,999.99,999.99]
[31536,"MILLAR","Archie","M",2001,"U14","LSR",null,999.99,999.99]
[31428,"MUNN","Hamish","M",2002,"U14","LSR",null,999.99,999.99]
[31020,"SCOTT","Archie","M",1996,"U21","LSR",null,999.99,999.99]
[31557,"THORP","Cameron","M",2000,"U16","LSR",null,999.99,999.99]
[31376,"BOLE","Rebecca","F",2003,"U12","LSR",null,999.99,999.99]
[31332,"MARTIN","Annabelle","F",2003,"U12","LSR",null,999.99,999.99]
[31423,"MCKEY","Holly","F",2003,"U12","LSR",null,999.99,999.99]
[31344,"SPENCE","Rachel","F",2003,"U12","LSR",null,999.99,999.99]
[31543,"BECK","Ben","M",2003,"U12","LSR",null,999.99,999.99]
[31510,"CAMPBELL","Frederick","M",2003,"U12","LSR",null,999.99,999.99]
[31564,"CLYDE","Sam","M",2003,"U12","LSR",null,999.99,999.99]
[31515,"DALZIEL","Tom","M",2004,"U12","LSR",null,999.99,999.99]
[31516,"FLOCKHART","Ben","M",2003,"U12","LSR",null,999.99,999.99]
[31475,"GRIEVE","Joe","M",2003,"U12","LSR",null,999.99,999.99]
[31509,"HUNTER","Fraser","M",2003,"U12","LSR",null,999.99,999.99]
[31506,"MACDONALD","Finlay","M",2004,"U12","LSR",null,999.99,999.99]
[31535,"MILLAR","Jay","M",2003,"U12","LSR",null,999.99,999.99]
[36620,"MUNN","Rory","M",2004,"U12","LSR",null,999.99,999.99]
[31521,"MURRAY","Sam","M",2003,"U12","LSR",null,999.99,999.99]
[31568,"RALPH","Fergus","M",2003,"U12","LSR",null,999.99,999.99]
[31561,"SUTHERLAND","Finn","M",2003,"U12","LSR",null,999.99,999.99]
[1,"SHEDDEN","John","M",1943,"MAS","MER",null,999.99,999.99]
[20307,"MIDDLETON","Amy","F",1995,"U21","MID",null,51.15,51.15]
[21084,"EMMERSON","Philip","M",1990,"SEN","MID",null,57.73,57.73]
[19163,"HAWKINS","Mark","M",1979,"MAS","MID",null,61.45,57.1]
[41662,"LEE","Sam","M",1996,"U21","MID",null,128.82,128.82]
[21051,"UPTON","Thomas","M",2001,"U14","MID",null,179.58,126.27]
[19983,"CARE","Chloe","F",1998,"U18","MID",null,203.01,203.01]
[20590,"CARE","James","M",2002,"U14","MID",null,999.99,398.04]
[19704,"BEARDMORE","Adam","M",1986,"SEN","MID",null,35.26,35.26]
[20677,"FROST","Joey","M",1995,"U21","MID",null,127.79,127.79]
[19166,"ELGY","James","M",1993,"SEN","MID",null,166.36,166.36]
[21550,"TARRANT","Toby","M",1997,"U18","MID",null,186.2,186.2]
[19572,"DOHERTY","Samuel","M",1999,"U16","MID",null,257.08999999999997,257.08999999999997]
[19165,"ELGY","Geraldine","F",1954,"MAS","MID",null,330.25,330.25]
[19164,"ELGY","John","M",1951,"MAS","MID",null,332.56,332.56]
[19573,"DOHERTY","Robyn","F",1996,"U21","MID",null,636.34,636.34]
[17039,"DELLER","Philip","M",1959,"MAS","MID",null,780.34,780.34]
[21075,"HEARD","Jake","M",1998,"U18","MID",null,999.99,999.99]
[21569,"HEMMING","Anya","F",2005,"U10","MID",null,999.99,999.99]
[20809,"O'BRIEN","Matilda","F",2004,"U12","MID",null,999.99,999.99]
[20669,"TREUGE","Lauren","F",2003,"U12","MID",null,999.99,999.99]
[21052,"UPTON","Jack","M",2004,"U12","MID",null,999.99,999.99]
[22176,"GILES","Ella","F",2003,"U12","MID",null,999.99,999.99]
[22074,"PORTEOUS","Adrian","M",1965,"MAS","MSR",null,356.5,999.99]
[22044,"PORTEOUS","Nathan","M",2001,"U14","MSR",null,210.51,999.99]
[14806,"MACEY","Abbie","F",1994,"U21","MSR",null,54.4,115.93]
[20065,"WALKER-MORETTI","Ralph","M",1998,"U18","MSR",null,67.25,67.25]
[20552,"WHEELER","Sophie","F",2003,"U12","MSR",null,999.99,999.99]
[21908,"EDWARDS","William","M",2005,"U10","MSR",null,999.99,999.99]
[22054,"PORTEOUS","Daniel","M",2003,"U12","MSR",null,999.99,999.99]
[22170,"KELLY","Nicole","F",2006,"U10","MSR",null,999.99,999.99]
[31104,"DOUGLAS","Abigail","F",1999,"U16","MUC",null,86.78,86.78]
[31224,"MARDEN","Angus","M",2000,"U16","MUC",null,214.55,214.55]
[31216,"GALLOWAY","Drew","M",2000,"U16","MUC",null,263.73,263.73]
[31527,"LANG","Ishbel","F",2000,"U16","MUC",null,391.35,391.35]
[31533,"YOUNG","Olivia","F",2000,"U16","MUC",null,500.69,500.69]
[36597,"CALLION","Christina","F",1999,"U16","MUC",null,999.99,999.99]
[36605,"GALLOWAY","Maudie","F",2005,"U10","MUC",null,999.99,999.99]
[36598,"RAE","Lauren","F",2005,"U10","MUC",null,999.99,999.99]
[18629,"MOLLOY","Daniel","M",1993,"SEN","NOR",null,48.62,48.62]
[17438,"MOLLOY","Michael","M",1992,"SEN","NOR",null,0,0]
[20139,"COE","Megan","F",1997,"U18","NOR",null,31.87,31.87]
[20628,"RICHARDSON","Thomas","M",1997,"U18","NOR",null,46.09,46.09]
[20637,"WIGMORE","Matthew","M",1996,"U21","NOR",null,49.04,49.04]
[20754,"SPANTON","Jessica","F",1997,"U18","NOR",null,50.75,50.75]
[21120,"DAVIES","Ben","M",1995,"U21","NOR",null,65.97,65.97]
[20293,"CLAYTON","Adam","M",1996,"U21","NOR",null,82.16,82.16]
[21742,"SEWELL","Logan","M",1998,"U18","NOR",null,82.25,82.25]
[20339,"BURROUGHS","Hannah","F",2000,"U16","NOR",null,128.57,128.57]
[21253,"OLIVER","Ryan","M",1997,"U18","NOR",null,137.76,137.76]
[19749,"SPANTON","Nicholas","M",1965,"MAS","NOR",null,137.84,137.84]
[6894,"SHAILES","Darryl","M",1961,"MAS","NOR",null,139.08000000000001,139.08000000000001]
[21723,"HOWE","Charlie","M",2000,"U16","NOR",null,168.81,168.81]
[14940,"BECKETT","David","M",1960,"MAS","NOR",null,185.05,185.05]
[19738,"DEWULF-PETERS","Oliver","M",1994,"U21","NOR",null,301.87,301.87]
[22166,"HOLMES","Thomas","M",1999,"U16","NOR",null,999.99,999.99]
[22087,"PARKER","Travis","M",2005,"U10","NOR",null,999.99,999.99]
[22179,"HOLMES","Abby","F",2003,"U12","NOR",null,999.99,999.99]
[21119,"DAVIES","Harry","M",1999,"U16","NOR",null,112.44,112.44]
[21317,"BLEASDALE","Janice","F",1962,"MAS","NSC",null,999.99,999.99]
[21310,"KROLL","Ann","F",1971,"MAS","NSC",null,999.99,999.99]
[42026,"EVANS","Jac","M",2002,"U14","NW",null,999.99,999.99]
[41939,"MELIA","Tybalt","M",2000,"U16","NW",null,999.99,999.99]
[42032,"EVANS","Edward","M",2004,"U12","NW",null,999.99,999.99]
[18417,"SPEARPOINT","Nicholas","M",1966,"MAS","OVL",null,213.27,213.27]
[17435,"DAWSON","Laura","F",1993,"SEN","OVL",null,219.13,219.13]
[12400,"DAWSON","Andrew","M",1965,"MAS","OVL",null,304.49,304.49]
[41781,"BOWYER","Andy","M",1964,"MAS","OVL",null,999.99,999.99]
[5013,"HEATH","Peter","M",1944,"MAS","OVL",null,999.99,999.99]
[31459,"HALLIDAY","Duncan","M",1985,"SEN","P3",null,999.99,999.99]
[31063,"WISE","Kyle","M",1989,"SEN","P3",null,999.99,999.99]
[21750,"DAVEY","Tarran","M",2000,"U16","PLY",null,266.29000000000002,144.61000000000001]
[21757,"SPENCER","Samuel","M",1996,"U21","PLY",null,281.81,265.29000000000002]
[21748,"SAXBY","Kate","F",2002,"U14","PLY",null,999.99,426.24]
[22022,"SPENCER","Ania","F",1998,"U18","PLY",null,999.99,349.69]
[19170,"CORR","Christopher","M",1995,"U21","PND",null,6.38,5.98]
[19420,"WITTS","Callum","M",1998,"U18","PND",null,41.19,34.06]
[19146,"HUPPACH","Declan","M",1999,"U16","PND",null,52.86,34.39]
[20897,"NICKSON","Joseph","M",1996,"U21","PND",null,88.45,87.25]
[19048,"EAVES","Jonathan","M",1998,"U18","PND",null,132.28,102.89]
[20431,"HOLMES","John","M",1969,"MAS","PND",null,140.35,119.89]
[21146,"COOPER","Morgan","M",1998,"U18","PND",null,153.77000000000001,112.21]
[21651,"CULSHAW","Daniel","M",1997,"U18","PND",null,209.84,179.15]
[21625,"CORR","David","M",1998,"U18","PND",null,285.64999999999998,234.56]
[22001,"BUTTERWORTH","Samuel","M",2001,"U14","PND",null,999.99,199.99]
[20640,"FENELEY","Jack","M",2002,"U14","PND",null,999.99,153.63999999999999]
[21097,"HOLMES","Robert","M",2002,"U14","PND",null,203.54,118.28]
[19458,"HUPPACH","Josef","M",2002,"U14","PND",null,112.2,105.73]
[13389,"LEESON","Andrew","M",1989,"SEN","PND",null,28.85,28.85]
[13795,"ELLIOTT","Lauren","F",1991,"SEN","PND",null,205.38,999.99]
[10040,"EAVES","David","M",1967,"MAS","PND",null,401.52,401.52]
[22052,"VAUGHTON","Max","M",1999,"U16","PND",null,999.99,999.99]
[20428,"MURRAY","David","M",1994,"U21","PND",null,999.99,999.99]
[21597,"CULSHAW","Eleanor","F",2003,"U12","PND",null,999.99,999.99]
[20618,"EAVES","Eleanor","F",2003,"U12","PND",null,999.99,999.99]
[21621,"HOLMES","Charlotte","F",2005,"U10","PND",null,999.99,999.99]
[22034,"MARLOR","Bradley","M",2006,"U10","PND",null,999.99,999.99]
[22178,"BUTTERWORTH","Sophie","F",2005,"U10","PND",null,999.99,999.99]
[20711,"BEER","Georgina","F",1996,"U21","RAV",null,45.91,45.91]
[20712,"BEER","Lawrence","M",1998,"U18","RAV",null,71.34,71.34]
[13228,"MILSTED","James","M",1992,"SEN","RAV",null,97.83,96.13]
[21728,"BISHOP","Julian","M",1968,"MAS","RAV",null,372.62,457.09]
[13432,"NICHOL","Timothy","M",1984,"MAS","RAV",null,118.42,118.42]
[20713,"LARBY","Thomas","M",1994,"U21","RAV",null,124.41,124.41]
[17344,"LOWDON","Matthew","M",1995,"U21","RAV",null,999.99,999.99]
[21839,"HARROGATE-BRAMLEY","Alana","F",2003,"U12","RAV",null,999.99,999.99]
[41986,"EVANS","Isabel","F",2000,"U16","SAS",null,209.83,245.11]
[41985,"EVANS","Harrison","M",2000,"U16","SAS",null,210.67,203.92]
[20380,"RATCLIFFE","David","M",1998,"U18","SAS",null,302.32,302.32]
[20487,"GADZHUROV","Marko","M",1966,"MAS","SAS",null,999.99,999.99]
[20381,"RATCLIFFE","Thomas","M",2001,"U14","SAS",null,999.99,999.99]
[21862,"TOWNSEND","Alexander","M",1999,"U16","SAS",null,999.99,999.99]
[41971,"RYAN","Lee","M",2000,"U16","SCI",null,211.29,211.35]
[41969,"SINGLETON","Cillian","M",1999,"U16","SCI",null,221.6,226.36]
[41918,"DE DECKER","Carrig","M",1998,"U18","SCI",null,133.97,231.53]
[41970,"MCDOWELL","Harry","M",2000,"U16","SCI",null,236.36,236.38]
[41973,"COLUMB","Cameron","M",1999,"U16","SCI",null,187.32,365.56]
[42029,"LYNCH","Annmarie","F",2001,"U14","SCI",null,262.24,999.99]
[42036,"COLUMB","Nathan","M",2001,"U14","SCI",null,266.91000000000003,999.99]
[41608,"DOYLE","Eoin","M",1997,"U18","SCI",null,68.69,68.69]
[41764,"REILLY","Garreth","M",1999,"U16","SCI",null,79.64,79.64]
[41930,"BOLGER","Enda","M",1997,"U18","SCI",null,156.57,156.57]
[41984,"BROWN","Jack","M",2001,"U14","SCI",null,323.95999999999998,323.95999999999998]
[31261,"COWAN","Lorna","F",1998,"U18","SFR",null,161.57,161.57]
[31526,"WINNING","Charlotte","F",1998,"U18","SFR",null,371.57,371.57]
[31281,"LINKLATER","Ian","M",1953,"MAS","SFR",null,999.99,999.99]
[20391,"GRIFFITHS","Inez","F",1995,"U21","SHK",null,122.17,122.17]
[18099,"SUMMERHAYES","Molly","F",1997,"U18","SHK",null,588.37,999.99]
[8522,"ASHTON","Simon","M",1968,"MAS","SHK",null,989,989]
[17009,"HOUSTON","Alexandra","F",1994,"U21","SHK",null,999.99,999.99]
[17154,"SUMMERHAYES","Katie","F",1995,"U21","SHK",null,999.99,999.99]
[18628,"HOUSTON","Samuel","M",1996,"U21","SHK",null,999.99,999.99]
[20731,"NEASHAM","Grace","F",1998,"U18","SMK",null,131.21,131.21]
[17752,"SOMAN","Bethany","F",1997,"U18","SMK",null,91.36,91.36]
[20714,"VANBECK","Robert","M",1998,"U18","SMK",null,97.97,97.97]
[18616,"HANCOCK","Karl","M",1995,"U21","SMK",null,259.37,259.37]
[19753,"MAZE-BROWN","Riley","F",2002,"U14","SMK",null,999.99,999.99]
[20134,"SOMAN","Mia","F",2002,"U14","SMK",null,999.99,999.99]
[41910,"GORRINGE","Cerys","F",2000,"U16","SMK",null,999.99,999.99]
[19739,"ROSE","Rebecca","F",2002,"U14","SMK",null,999.99,999.99]
[41911,"GORRINGE","Giselle","F",2003,"U12","SMK",null,999.99,999.99]
[20695,"CATLIN","Osian","M",2005,"U10","SMK",null,999.99,999.99]
[21121,"STANWAY","Kayne","M",2005,"U10","SMK",null,999.99,999.99]
[21863,"TOWNSEND","Isabel","F",2002,"U14","SOU",null,999.99,999.99]
[41852,"FLUCK","Benjamin","M",1996,"U21","SPR",null,87.85,87.85]
[21963,"GREENE","Amelia","F",2002,"U14","SPR",null,999.99,999.99]
[21607,"LEIGHTON","Amie","F",2001,"U14","SPR",null,999.99,999.99]
[21406,"DEYKIN","Sebastian","M",1998,"U18","SPR",null,999.99,999.99]
[21186,"KIPPING","Lewis","M",2001,"U14","SRR",null,143.75,140.69]
[22067,"MOORE","Chris","M",2001,"U14","SRR",null,377.64,373.34]
[22068,"MOORE","Connor","M",2000,"U16","SRR",null,449.98,999.99]
[21799,"ELLISON","Molly","F",2000,"U16","SRR",null,999.99,999.99]
[22045,"HART","Rebecca","F",2005,"U10","SRR",null,999.99,999.99]
[30121,"HENDERSON","Callum","M",1989,"SEN","SSC",null,1.32,1.34]
[31089,"WRIGHT","Dewar","M",1999,"U16","SSC",null,76.430000000000007,76.430000000000007]
[30542,"MACKINNON","Christy","F",1992,"SEN","SSC",null,25.39,127.72]
[31311,"HAY","Adam","M",2001,"U14","SSC",null,226.4,226.4]
[31380,"CROOK","Andrew","M",1998,"U18","SSC",null,249.53,249.53]
[31356,"STEPHEN","Lachlan","M",2001,"U14","SSC",null,283.89999999999998,283.89999999999998]
[31148,"MCCALL","Andrew","M",2002,"U14","SSC",null,999.99,999.99]
[31319,"STEEL","Bruno","M",2002,"U14","SSC",null,999.99,999.99]
[30526,"STANG","Alastair","M",1992,"SEN","SSC",null,14.27,23.96]
[30778,"KUWALL","Duncan","M",1998,"U18","SSC",null,46.71,46.71]
[30862,"ROFE","Sean","M",1995,"U21","SSC",null,80.27,85.66]
[30646,"BALL","Elliot","M",1994,"U21","SSC",null,88.17,88.17]
[30349,"GIBSON","Gordon","M",1990,"SEN","SSC",null,103.36,103.36]
[30250,"MACFIE","Alastair","M",1989,"SEN","SSC",null,113.3,113.3]
[30827,"PATTERSON","Ross","M",1999,"U16","SSC",null,127.66,127.66]
[31032,"DILLON","Grant","M",1997,"U18","SSC",null,131.29,131.29]
[30293,"MCLEOD","Eilidh","F",1990,"SEN","SSC",null,149.04,240.23]
[31031,"INNES","Iain","M",1998,"U18","SSC",null,182.26,182.26]
[31213,"WAITT","Scott","M",2000,"U16","SSC",null,191.56,191.56]
[31197,"ANDERSON","Ewen","M",2000,"U16","SSC",null,203.39,203.39]
[31014,"BROWN","Rhys","M",1995,"U21","SSC",null,205.33,205.33]
[31241,"BROGAN","Alexandra","F",1996,"U21","SSC",null,268.7,268.7]
[31220,"CLARKE","Liam","M",1999,"U16","SSC",null,272.83999999999997,272.83999999999997]
[31308,"BROGAN","Jodie","F",1998,"U18","SSC",null,274.69,274.69]
[31375,"BOLE","Gemma","F",2001,"U14","SSC",null,306.52999999999997,306.52999999999997]
[30982,"THOMSON","Sarah","F",1996,"U21","SSC",null,327.78,327.78]
[31341,"LURRING","Connor","M",1999,"U16","SSC",null,397.31,397.31]
[31198,"INNES","Robbie","M",2000,"U16","SSC",null,406.94,406.94]
[30987,"THOMSON","Ross","M",1999,"U16","SSC",null,502.51,502.51]
[31374,"GILLIES","John","M",1999,"U16","SSC",null,557.61,557.61]
[31080,"ENGLAND","Jessica","F",1998,"U18","SSC",null,599.04,599.04]
[31132,"BROWN","Harry","M",1999,"U16","SSC",null,688.45,688.45]
[31035,"JEFFRAY","Claire","F",1977,"MAS","SSC",null,989,989]
[31316,"ANDERSON","Grace","F",2002,"U14","SSC",null,999.99,999.99]
[30868,"BROWN","Cara","F",1994,"U21","SSC",null,999.99,999.99]
[31081,"ENGLAND","Isabella","F",2000,"U16","SSC",null,999.99,999.99]
[31463,"TAYLOR","Rhona","F",2002,"U14","SSC",null,999.99,999.99]
[31021,"BARLOW","Benedict","M",1994,"U21","SSC",null,999.99,999.99]
[36628,"BARLOW","Robert","M",1954,"MAS","SSC",null,999.99,999.99]
[31115,"BARLOW","Xavier","M",1995,"U21","SSC",null,999.99,999.99]
[31067,"CHAMBET","Tom","M",2000,"U16","SSC",null,999.99,999.99]
[31398,"DALZIEL","James","M",1999,"U16","SSC",null,999.99,999.99]
[31559,"GOODMAN","Thomas","M",2001,"U14","SSC",null,999.99,999.99]
[31505,"LANGMUIR","Calum","M",2002,"U14","SSC",null,999.99,999.99]
[30953,"MCLEISH","Adam","M",1979,"MAS","SSC",null,999.99,999.99]
[31082,"PITCHERS","Brian","M",1942,"MAS","SSC",null,999.99,999.99]
[31168,"SMITH","Ossian","M",2001,"U14","SSC",null,999.99,999.99]
[31185,"TAYLOR","Lewis","M",1998,"U18","SSC",null,999.99,999.99]
[3199,"WHITTET","Jeremy","M",1967,"MAS","SSC",null,999.99,999.99]
[31499,"CROSS","Jemima","F",2003,"U12","SSC",null,999.99,999.99]
[36611,"ENGLAND","Amelia","F",2004,"U12","SSC",null,999.99,999.99]
[31483,"HAY","Ailsa","F",2004,"U12","SSC",null,999.99,999.99]
[31227,"MCCALL","Catriona","F",2004,"U12","SSC",null,999.99,999.99]
[31560,"GOODMAN","Matthew","M",2003,"U12","SSC",null,999.99,999.99]
[36594,"LIVINGSTONE","Zak","M",2003,"U12","SSC",null,999.99,999.99]
[36642,"MCKEY","Lewis","M",2006,"U10","SSC",null,999.99,999.99]
[36589,"STEEL","Luc","M",2005,"U10","SSC",null,999.99,999.99]
[30667,"MORRIS","Sarah","F",1994,"U21","STC",null,131.5,131.5]
[31188,"MORRISSEY","Anna","F",1990,"SEN","STC",null,999.99,999.99]
[30384,"CRUZ-MERMY","Alistair","M",1984,"MAS","STC",null,999.99,999.99]
[36617,"HOUSTOUN","Robert","M",1992,"SEN","STC",null,999.99,999.99]
[19723,"MATTHEWS","Brandon","M",1999,"U16","STS",null,55.38,55.38]
[20921,"DURANT","Richard","M",1967,"MAS","SUF",null,202.37,202.37]
[20108,"GODDARD","Thomas","M",1996,"U21","SUF",null,206.45,206.45]
[21154,"MARSH","Joshua","M",2001,"U14","SZR",null,197.61,197.61]
[21024,"JACKSON","Ellie","F",2002,"U14","TEL",null,202.37,167.27]
[19565,"BOWERS","Dieter","M",1996,"U21","TEL",null,120.04,120.04]
[21582,"HARPER","Thomas","M",2000,"U16","TEL",null,402.45,402.45]
[22085,"BRICKLEY","Iona","F",2006,"U10","TEL",null,999.99,999.99]
[21203,"BREESE","Thomas","M",2003,"U12","TEL",null,999.99,999.99]
[21108,"CAMPBELL","Harvey","M",2003,"U12","TEL",null,999.99,999.99]
[20729,"WILLIAMS","Matthew","M",2004,"U12","TEL",null,999.99,999.99]
[30848,"HARTE","Natalia","F",1992,"SEN","THR",null,33.97,61.09]
[31229,"HARTE","Giulia","F",1996,"U21","THR",null,999.99,999.99]
[19213,"TONGE","Charlotte","F",1994,"U21","TOQ",null,67.260000000000005,67.260000000000005]
[19211,"THOMAS","Kerry","F",1995,"U21","TOQ",null,111.71,111.71]
[21090,"KILROY-SILK","Ellaouise","F",2002,"U14","TOQ",null,999.99,999.99]
[20843,"MARSLAND","Steven","M",1970,"MAS","TOQ",null,999.99,999.99]
[41459,"GURNER","Samuel","M",1997,"U18","TOR",null,93.86,93.86]
[41702,"DAVIES","Jonathan","M",1974,"MAS","TOR",null,464.29,464.29]
[4378,"ROE","Nicholas","M",1956,"MAS","TOR",null,748.57,748.57]
[21557,"SHEPHERDSON","James","M",1999,"U16","TSD",null,309.2,309.2]
[21558,"SHEPHERDSON","Lauren","F",2003,"U12","TSD",null,999.99,999.99]
[22185,"BARTLETT","Holly","F",2003,"U12","TSD",null,999.99,999.99]
[22191,"CHAMPION","Benjamin","M",2005,"U10","TSD",null,999.99,999.99]
[21816,"TUBBS","Jessica","F",1999,"U16","TSN",null,999.99,999.99]
[21866,"MARKS KING","Alex","M",1999,"U16","TSN",null,999.99,999.99]
[22130,"STOCKER","Charley","M",1968,"MAS","TSN",null,999.99,999.99]
[22122,"THOMPSON","Niamh","F",2005,"U10","TSN",null,999.99,999.99]
[21823,"TUBBS","Charlie","M",2003,"U12","TSN",null,999.99,999.99]
[20095,"LALLY","Cameron","M",1996,"U21","VIK",null,99.55,99.55]
[17452,"WRIGHT","Natasha","F",1997,"U18","VIK",null,100.87,100.87]
[19696,"CUTHBERT","Daryl","M",1996,"U21","VIK",null,213.43,213.43]
[19235,"ROYAL","Natasha","F",1999,"U16","VIK",null,999.99,999.99]
[19700,"TOOGOOD","Natalia","F",1997,"U18","VIK",null,999.99,999.99]
[21362,"WILSON","Geoffrey","M",1996,"U21","VIK",null,999.99,999.99]
[21017,"ELLIFF","Alexa","F",2003,"U12","VIK",null,999.99,999.99]
[4777,"HATCHER","David","M",1985,"SEN","WCS",null,8.15,8.15]
[19570,"RICHMOND","Henry","M",1999,"U16","WCS",null,145.4,123.28]
[17257,"MARMENT","Christiaan","M",1997,"U18","WCS",null,113.81,113.81]
[18684,"MARMENT","Robyn","F",2000,"U16","WCS",null,218.24,218.24]
[4963,"RUDGE","Barnaby","M",1989,"SEN","WCS",null,999.99,999.99]
[21218,"BRESKAL","Bailey","M",1998,"U18","WGC",null,156.33000000000001,156.33000000000001]
[22164,"LONGSTAFF","Michael","M",2001,"U14","WGC",null,999.99,999.99]
[41841,"HORTON","Sam","M",1996,"U21","WWS",null,195.56,195.56]
[41923,"LAYTHAM","Jack","M",2000,"U16","WWS",null,999.99,999.99]
[42035,"LLEWELLYN-JONES","Aled","M",2003,"U12","WWS",null,999.99,999.99]
[42038,"WILEY","Casper","M",2006,"U10","WWS",null,999.99,999.99]
[41913,"WILEY","Lily","F",2003,"U12","WWS",null,999.99,999.99]
[1681,"PATON","Andrew","M",1968,"MAS","WYC",null,989,989]
[6231,"BARTLETT","Sally","F",1975,"MAS","WYC",null,999.99,999.99]
[12584,"BRUTON","Peter","M",1989,"SEN",null,null,10.73,16.45]
[18347,"DAVIS","George","M",1995,"U21",null,null,27.59,33.78]
[17963,"BREESE","Nathan","M",1999,"U16",null,null,89.86,93.27]
[21733,"SHAW","Benjamin","M",1999,"U16",null,null,141.97999999999999,146.18]
[21820,"GOODRIDGE","Rory","M",1998,"U18",null,null,226.44,213.98]
[18589,"MCCARTHY","Holly","F",1965,"MAS",null,null,241.88,999.99]
[17201,"CHAJECKI","Julian","M",1993,"SEN",null,null,140.94999999999999,999.99]
[21339,"REED","Matthew","M",1993,"SEN",null,null,102.74,999.99]
[42037,"WOOD","Tom","M",2000,"U16",null,null,252.43,999.99]
[14391,"BREESE","Ashley","M",1996,"U21",null,null,4,11.72]
[3940,"HARRISON","David","M",1984,"MAS",null,null,51.66,51.66]
[18346,"DAVIS","Matthew","M",1998,"U18",null,null,55.84,55.84]
[17591,"CHALKLEY","Oliver","M",1996,"U21",null,null,89.06,89.06]
[17412,"POCOCK","Elena","F",1993,"SEN",null,null,101.34,999.99]
[31000,"BARKER","Emily","F",1998,"U18",null,null,108.89,108.89]
[20347,"BROWN","Isobel","F",1999,"U16",null,null,126.85,153.08000000000001]
[19011,"KEYS","Georgia","F",2001,"U14",null,null,141.46,141.46]
[19346,"WILKINS","Simon","M",1992,"SEN",null,null,171.59,171.59]
[17692,"KIRK","Isabel","F",1997,"U18",null,null,176.65,176.65]
[18247,"ALLEN","Samuel","M",1994,"U21",null,null,188,198.97]
[13638,"CAMPBELL-WOODWARD","Sarah","F",1954,"MAS",null,null,208.53,208.53]
[31529,"PARTRIDGE","Andrew","M",1999,"U16",null,null,249.7,249.7]
[31210,"JAMIESON","Ryan","M",1996,"U21",null,null,277.64,277.64]
[20346,"BROWN","Jemima","F",2001,"U14",null,null,326.47000000000003,326.47000000000003]
[31544,"STRUTHERS","Ciorstaidh","F",2001,"U14",null,null,337.67,337.67]
[31539,"ETRI","Alim","M",1999,"U16",null,null,349.3,349.3]
[31331,"MARTIN","Oliver","M",2001,"U14",null,null,380.11,380.11]
[31309,"BREMNER","Alexander","M",2001,"U14",null,null,450.75,450.75]
[14404,"FYNN","Tarn","M",1994,"U21",null,null,672,672]
[17493,"CONNERY","Kali","M",1996,"U21",null,null,804,804]
[19199,"O'MEARA","Samuel","M",1999,"U16",null,null,960.6,999.99]
[22003,"ARNOLD","Joanna","F",1983,"MAS",null,null,999.99,999.99]
[18751,"BERRY","Laura","F",1988,"SEN",null,null,999.99,999.99]
[36640,"BRAATEN","Jaqueline","F",1998,"U18",null,null,999.99,999.99]
[36641,"BRAATEN","Yasmin","F",2000,"U16",null,null,999.99,999.99]
[21593,"COWELL","Milly","F",2002,"U14",null,null,999.99,999.99]
[21575,"DAVIES","Esmie","F",1999,"U16",null,null,999.99,999.99]
[22024,"DAVIES","Lulu","F",2002,"U14",null,null,999.99,999.99]
[41996,"ELLWOOD","Natasha","F",1992,"SEN",null,null,999.99,999.99]
[20018,"ENTWISTLE","Jacqueline","F",1959,"MAS",null,null,999.99,999.99]
[20576,"FITZGERALD","Jordan","F",1996,"U21",null,null,999.99,999.99]
[21776,"GEHRIG","Stephanie","F",1992,"SEN",null,null,999.99,999.99]
[21939,"GRIFFITHS","Nia","F",2000,"U16",null,null,999.99,999.99]
[21047,"HUTCHINSON","Elys","F",1999,"U16",null,null,999.99,999.99]
[41711,"LARGE","Sophie","F",2001,"U14",null,null,999.99,999.99]
[41682,"LEFEVRE","Paloma","F",2000,"U16",null,null,999.99,999.99]
[21972,"MORGAN","Samantha","F",2002,"U14",null,null,999.99,999.99]
[22005,"MURRAY-TACON","Alexandra","F",1997,"U18",null,null,999.99,999.99]
[21006,"NEYRINCK","Camille","F",1998,"U18",null,null,999.99,999.99]
[21735,"NICOL","Kirsty","F",1986,"SEN",null,null,999.99,999.99]
[41858,"POTTER","Maisie","F",1997,"U18",null,null,999.99,999.99]
[21900,"REBERT","Abby","F",2000,"U16",null,null,999.99,999.99]
[41980,"RESCIGNO","Giorgia","F",1993,"SEN",null,null,999.99,999.99]
[21893,"ROBERTS","Elizabeth","F",1996,"U21",null,null,999.99,999.99]
[21926,"ROBERTS","Sophie","F",1997,"U18",null,null,999.99,999.99]
[21850,"SMITH","Isobelle","F",1999,"U16",null,null,999.99,999.99]
[31566,"STEDMAN","Megan","F",2000,"U16",null,null,999.99,999.99]
[22048,"TEAL","Chloe","F",1996,"U21",null,null,999.99,999.99]
[21018,"THOMPSON","Lara","F",2000,"U16",null,null,999.99,999.99]
[22006,"VAGO","Annabel","F",2000,"U16",null,null,999.99,999.99]
[20573,"VEGTING","Amelia","F",1997,"U18",null,null,999.99,999.99]
[20612,"WHITE","Victoria","F",1994,"U21",null,null,999.99,999.99]
[36574,"WILSON","Judy","F",1952,"MAS",null,null,999.99,999.99]
[36573,"WISEMAN","Cara","F",1982,"MAS",null,null,999.99,999.99]
[36571,"YARD","Beverly","F",1900,"MAS",null,null,999.99,999.99]
[36569,"YOUNG","Maggie","F",1964,"MAS",null,null,999.99,999.99]
[8363,"ATKINSON","Michael","M",1978,"MAS",null,null,999.99,999.99]
[8362,"ATKINSON","Stuart","M",1982,"MAS",null,null,999.99,999.99]
[20416,"AVENT","Mathieu","M",1999,"U16",null,null,999.99,999.99]
[20997,"BIRAN","Itamar","M",1998,"U18",null,null,999.99,999.99]
[31461,"BOLAM","John","M",1955,"MAS",null,null,999.99,999.99]
[20586,"BRAY","Michael","M",1985,"SEN",null,null,999.99,999.99]
[20338,"BROWN","Jamie","M",1999,"U16",null,null,999.99,999.99]
[22129,"BRUNO","Benjamin","M",1999,"U16",null,null,999.99,999.99]
[30811,"BUCHAN","Murray","M",1991,"SEN",null,null,999.99,999.99]
[17380,"BUCHWISER","Lawrence","M",1995,"U21",null,null,999.99,999.99]
[19755,"BURTON","Lucas","M",2000,"U16",null,null,999.99,999.99]
[21766,"CARDON","Casey","M",1997,"U18",null,null,999.99,999.99]
[17202,"CHAJECKI","Alexander","M",1991,"SEN",null,null,999.99,999.99]
[21985,"CHERMETTE","Basile","M",1999,"U16",null,null,999.99,999.99]
[21973,"CRANE-ROBINSON","Theo","M",2001,"U14",null,null,999.99,999.99]
[21048,"DAVIES","Oliver","M",1997,"U18",null,null,999.99,999.99]
[22016,"DAVIS","Matthew","M",1999,"U16",null,null,999.99,999.99]
[31550,"DIVERS","Martin","M",1980,"MAS",null,null,999.99,999.99]
[21552,"ELLIS","Hamish","M",2002,"U14",null,null,999.99,999.99]
[31538,"ETRI","Aymen","M",1999,"U16",null,null,999.99,999.99]
[19544,"FARRELL","Jan","M",1983,"MAS",null,null,999.99,999.99]
[19728,"FIORI","Haydyn","M",2001,"U14",null,null,999.99,999.99]
[21469,"GERRETT","Sam","M",1988,"SEN",null,null,999.99,999.99]
[42025,"GUIGONNET","Edouard","M",2001,"U14",null,null,999.99,999.99]
[21859,"HARDING","Felix","M",2001,"U14",null,null,999.99,999.99]
[19674,"HEDLEY","Benja","M",1977,"MAS",null,null,999.99,999.99]
[41927,"HESLOP","Rory","M",1995,"U21",null,null,999.99,999.99]
[22046,"HODGE","Barnaby","M",2000,"U16",null,null,999.99,999.99]
[36561,"IRONSIDE","Glen","M",1999,"U16",null,null,999.99,999.99]
[31549,"JAMES","Richard","M",1965,"MAS",null,null,999.99,999.99]
[36595,"KEITH","Matthew","M",1998,"U18",null,null,999.99,999.99]
[20530,"MAJOR","Billy","M",1996,"U21",null,null,999.99,999.99]
[31171,"MATTHEW","Andrew","M",1990,"SEN",null,null,999.99,999.99]
[21043,"MEURER","Markus","M",1968,"MAS",null,null,999.99,999.99]
[41934,"MUNDAY","William","M",2000,"U16",null,null,999.99,999.99]
[21315,"NEVENS","Ted","M",1997,"U18",null,null,999.99,999.99]
[21481,"NG","Hugo","M",1997,"U18",null,null,999.99,999.99]
[21544,"OSMOND","Cosmo","M",2001,"U14",null,null,999.99,999.99]
[22043,"OSULLIVAN","Finley","M",2001,"U14",null,null,999.99,999.99]
[31530,"PARTRIDGE","Tom","M",2002,"U14",null,null,999.99,999.99]
[22036,"PICKUP","Dean","M",1967,"MAS",null,null,999.99,999.99]
[20777,"PINSENT","William","M",1955,"MAS",null,null,999.99,999.99]
[41814,"ROBERTS","Ian","M",1969,"MAS",null,null,999.99,999.99]
[22011,"RONZ","Robert","M",1982,"MAS",null,null,999.99,999.99]
[20564,"SHARROTT","Christopher","M",1978,"MAS",null,null,999.99,999.99]
[20520,"SHEPHERD","Matthew","M",1979,"MAS",null,null,999.99,999.99]
[21057,"STEINER","Toby","M",2000,"U16",null,null,999.99,999.99]
[21567,"STUART","Oliver","M",1999,"U16",null,null,999.99,999.99]
[22047,"TAYLOR","Duncan","M",2000,"U16",null,null,999.99,999.99]
[41876,"TAYLOR","Robert","M",1984,"MAS",null,null,999.99,999.99]
[31270,"TRINDER","Jamie","M",1994,"U21",null,null,999.99,999.99]
[21265,"UNDERKOFFLER","Lucas","M",1996,"U21",null,null,999.99,999.99]
[21765,"WADDINGTON","Thomas","M",1984,"MAS",null,null,999.99,999.99]
[41925,"WAJDA","Benjamin","M",1996,"U21",null,null,999.99,999.99]
[36580,"WHITE","John","M",1901,"MAS",null,null,999.99,999.99]
[36577,"WILLIAMSON","Andrew","M",1985,"SEN",null,null,999.99,999.99]
[36576,"WILLIS","Stephen","M",1976,"MAS",null,null,999.99,999.99]
[20814,"WOODWARD","Stewart","M",1955,"MAS",null,null,999.99,999.99]
[36572,"WRIGHT","Alex","M",1994,"U21",null,null,999.99,999.99]
[41977,"WYLIE","Callum","M",1999,"U16",null,null,999.99,999.99]
[36570,"YELLOWLEES","Jamie","M",1994,"U21",null,null,999.99,999.99]
[22144,"BREEN","Kate","F",2001,"U14",null,null,999.99,999.99]
[22189,"WILSON","Ceri","F",2000,"U16",null,null,999.99,999.99]
[22157,"FERGUSON","Ian","M",1960,"MAS",null,null,999.99,999.99]
[22143,"MCGONIGAL","Dominic","M",2000,"U16",null,null,999.99,999.99]
[20348,"BROWN","Elektra","F",2003,"U12",null,null,999.99,999.99]
[21769,"COOPER","Lauren","F",2005,"U10",null,null,999.99,999.99]
[21570,"JALLAT","Annabel","F",2003,"U12",null,null,999.99,999.99]
[22115,"KAMALY-ASL","Anna","F",2005,"U10",null,null,999.99,999.99]
[21887,"OSMOND","Christabel","F",2003,"U12",null,null,999.99,999.99]
[36599,"SCOTT","Cara","F",2004,"U12",null,null,999.99,999.99]
[20622,"TARANTELLI","Laudomia","F",2003,"U12",null,null,999.99,999.99]
[22007,"VAGO","Cristina","F",2003,"U12",null,null,999.99,999.99]
[31338,"CALDER","Lewis","M",2006,"U10",null,null,999.99,999.99]
[31337,"CALDER","Struan","M",2004,"U12",null,null,999.99,999.99]
[21976,"DALE-JONES","Jago","M",2004,"U12",null,null,999.99,999.99]
[21977,"DALE-JONES","Mack","M",2006,"U10",null,null,999.99,999.99]
[31345,"KELLAS","Guy","M",2003,"U12",null,null,999.99,999.99]
[21993,"MILKINS","William","M",2004,"U12",null,null,999.99,999.99]
[21965,"MOSS","Louis","M",2004,"U12",null,null,999.99,999.99]
[21888,"OSMOND","Orlando","M",2006,"U10",null,null,999.99,999.99]
[21998,"PARSONS","Oscar","M",2004,"U12",null,null,999.99,999.99]
[21663,"RIDDELL","Kelan","M",2003,"U12",null,null,999.99,999.99]
[42021,"SCANLON","Ryan","M",2004,"U12",null,null,999.99,999.99]
[22008,"VAGO","Peter","M",2005,"U10",null,null,999.99,999.99]
[21819,"WALKER","Reuben","M",2006,"U10",null,null,999.99,999.99]
[36579,"WILD","Oscar","M",2008,"U8",null,null,999.99,999.99]
[36578,"WILLIAMS","John","M",2008,"U8",null,null,999.99,999.99]
[36575,"WILSON","Inez","M",2008,"U8",null,null,999.99,999.99]
[22146,"HAMBLETON","Chloe","F",2004,"U12",null,null,999.99,999.99]

{"sheet":"2014.3","index":10,"n_rows":1808,"n_cols":10,"rows_kept":1808,"cut":false,"hidden":true,"merged":[]}
["REGNO","SURNAME","FORENAME","SEX","YOB","CAT","CLUB1","CLUB2","iBARTS 14.3 PTS","oBARTS 14.3 PTS"]
[36667,"POWELL","John","M",1967,"MAS","SFR",null,989,999.99]
[36662,"SATTAR","Zakee","M",2000,"U16","BSC",null,989,999.99]
[31455,"YORK","Scott","M",2002,"U14","GSR",null,989,999.99]
[19130,"WILLIAMS","Jamie","M",1992,"SEN","FLK",null,69.849999999999994,70.19]
[21283,"PATTON","Edward","M",2001,"U14","SPR","SPR",330.6,372.34]
[20496,"SCRANAGE-HARRISON","Eleanor","F",2002,"U14","HEM","WGC",140.30000000000001,999.99]
[21521,"CHMIELOWSKA","Julia","F",1996,"U21","HEM","BSA",109.73,999.99]
[21219,"DEAN","Emily","F",1999,"U16","HEM","HEM",122.7,138.97]
[41968,"FURLONG","Georgia","F",2000,"U16","CAR",null,190.45,184.8]
[22083,"HAWKINS","Danielle","F",2001,"U14","HEM","HEM",108.5,999.99]
[22084,"HAWKINS","Lily","F",2001,"U14","HEM","HEM",183.47,999.99]
[22082,"HAWKINS","Zara","F",2001,"U14","HEM","HEM",133.1,190.45]
[21357,"MOORE","Danica","F",2000,"U16","BRO",null,153.09,68.59]
[21378,"STOCKER","Natasha","F",2001,"U14","TSN","BSA",207.91,242.44]
[21355,"TAPSELL","Charlotte","F",2001,"U14","HEM","BSA",69.56,44]
[20644,"TREW","Isobel","F",1999,"U16","HEM","K",113.26,55.11]
[20725,"WARMINGTON","Harriet","F",2002,"U14","HEM","HEM",217.64,999.99]
[19440,"ADAMS","Sarah","F",1997,"U18","DHO","DHO",999.99,999.99]
[21161,"ALBONE","Catherine","F",2003,"U12",null,"SMK",999.99,999.99]
[8242,"ALCOTT","Chimene","F",1982,"MAS","SPR","DHO",177.16,177.16]
[31449,"ALDRIDGE","Iona","F",2003,"U12","MUC","SSC",999.99,999.99]
[31340,"ALLAN","Amelia","F",2001,"U14","GDN",null,227.04,252.74]
[30833,"ALLAN","Katie","F",1996,"U21","BSC",null,66.62,66.62]
[31436,"ALLAN","Phoebe","F",2004,"U12","GDN",null,999.99,999.99]
[31208,"ALLAN","Tabitha","F",2000,"U16","GDN",null,144.96,187.21]
[12570,"ALLDRIDGE","Amanda","F",1991,"SEN","SMK","SPR",6.07,7.14]
[14159,"ANDERSON","Beverley","F",1970,"MAS","VIK","K",67.87,67.87]
[31316,"ANDERSON","Grace","F",2002,"U14","SSC",null,999.99,999.99]
[17560,"ANDERSON","Jessica","F",1998,"U18","GRV","AMB",83.53,83.53]
[30988,"ANDERSON","Keri","F",1996,"U21","GSR","SSC",34.35,50.76]
[31312,"ANDERSON","Laura","F",1996,"U21","SSC","LSR",166.95,164]
[30664,"ANGUS","Kate","F",1994,"U21","SSC","GDN",307.83,307.83]
[22133,"APPLETON","Polly","F",1999,"U16","LIO",null,999.99,999.99]
[22003,"ARNOLD","Joanna","F",1983,"MAS",null,null,999.99,999.99]
[19031,"ARTHUR","April","F",2001,"U14","TSN","SAS",461.89,461.89]
[21734,"ATKINSON","Molly","F",2001,"U14","CHT",null,999.99,153.91999999999999]
[12428,"BAGGIO","Jayme","F",1991,"SEN","EVO","EVO",999.99,999.99]
[20805,"BAILES","Lucy","F",2001,"U14","ESX","ELI",295.49,295.49]
[31411,"BAKER","Rachel","F",2002,"U14","LSR",null,999.99,999.99]
[22055,"BALDWIN","Caitlin","F",2006,"U10","MSR","MSR",999.99,999.99]
[30852,"BANKS BROWN","Yandra","F",1996,"U21","CSC","SSC",999.99,999.99]
[21303,"BANNISTER","Lucy","F",2002,"U14","ASR",null,999.99,202.88]
[31000,"BARKER","Emily","F",1998,"U18",null,null,108.89,108.89]
[30636,"BARKER","Katy","F",1996,"U21","LSR",null,104.08,104.08]
[31336,"BARTHRAM","Alice","F",2001,"U14","LSR","SSC",226.09,226.09]
[22185,"BARTLETT","Holly","F",2003,"U12","TSD",null,999.99,999.99]
[6231,"BARTLETT","Sally","F",1975,"MAS","WYC",null,999.99,999.99]
[19680,"BAXTER","Phillipa","F",1998,"U18","VIK","BSA",150.13,150.13]
[30995,"BEATTIE","Natalie","F",1994,"U21","ARB",null,999.99,999.99]
[10612,"BECK","Catherine","F",1960,"MAS","LIO","LIO",138.94,271.10000000000002]
[10654,"BECK","Hannah","F",1987,"SEN","LIO","LIO",112.91,224.32]
[20711,"BEER","Georgina","F",1996,"U21","RAV",null,45.91,45.91]
[21338,"BELL","Reece","F",2001,"U14",null,"BSA",999.99,999.99]
[20727,"BELL","Rosemary","F",2001,"U14","HEM",null,233.63,233.63]
[22119,"BELTON","Scarlett","F",2002,"U14","HEM","SOU",351.1,999.99]
[22121,"BENN","Jessica","F",2005,"U10","HEM",null,999.99,999.99]
[20700,"BENNETT","Grace","F",2005,"U10","LIO","LIO",999.99,999.99]
[19587,"BENNETT","Lucy","F",1999,"U16","SZR","SZR",112.44,112.44]
[18751,"BERRY","Laura","F",1988,"SEN",null,null,999.99,999.99]
[20168,"BILL","Rachel","F",1990,"SEN","MID","MID",23.81,23.81]
[18918,"BINGLE-WILLIAMS","Katya","F",1999,"U16",null,"K",999.99,999.99]
[18919,"BINGLE-WILLIAMS","Lucy","F",2000,"U16",null,"K",999.99,999.99]
[20096,"BINGLE-WILLIAMS","Natasha","F",2002,"U14",null,"K",999.99,999.99]
[20132,"BLACK","Grace","F",2003,"U12","PPS","DRA",999.99,999.99]
[21140,"BLACK","Lauren","F",2001,"U14","AVO","AVO",332.06,295.44]
[21317,"BLEASDALE","Janice","F",1962,"MAS","NSC",null,999.99,999.99]
[21659,"BOJARSKA","Aleksandra","F",1961,"MAS","MAN","MAN",198.32,198.32]
[31375,"BOLE","Gemma","F",2001,"U14","SSC",null,306.52999999999997,299.58]
[31376,"BOLE","Rebecca","F",2003,"U12","LSR",null,999.99,999.99]
[41826,"BONNINGTON","Keira","F",2002,"U14",null,"DRA",999.99,999.99]
[21522,"BOSWELL","Olivia","F",1999,"U16","SRR","SRR",189.87,189.87]
[21759,"BOSWOOD-CLARK","Eve","F",2003,"U12","TOQ","TOQ",999.99,999.99]
[19712,"BOTY","Carys","F",1999,"U16","HEM","ELI",114.58,130.43]
[21334,"BOTY","Nia","F",2003,"U12","HEM","ELI",999.99,999.99]
[20901,"BOYCOTT","Nina","F",2000,"U16","LIO","LIO",251.24,999.99]
[18618,"BOZIER","Hannah","F",1996,"U21","ASR","ASR",8.9,6.95]
[36640,"BRAATEN","Jaqueline","F",1998,"U18",null,null,999.99,999.99]
[36641,"BRAATEN","Yasmin","F",2000,"U16",null,null,999.99,999.99]
[21892,"BRANDT","Honor","F",2005,"U10",null,"DHO",999.99,999.99]
[31532,"BRAWLEY","Ella","F",2004,"U12","GSR",null,999.99,999.99]
[22144,"BREEN","Kate","F",2001,"U14",null,null,999.99,999.99]
[22085,"BRICKLEY","Iona","F",2006,"U10","TEL",null,999.99,999.99]
[31241,"BROGAN","Alexandra","F",1996,"U21","SSC",null,268.7,268.7]
[31308,"BROGAN","Jodie","F",1998,"U18","SSC",null,274.69,274.69]
[19504,"BROOKER","Lolli","F",2001,"U14","VIK","ELI",94.92,94.92]
[19821,"BROWN","Alysha","F",2002,"U14","S2R","S2R",999.99,999.99]
[31482,"BROWN","Anna","F",2006,"U10","GDN",null,999.99,999.99]
[30868,"BROWN","Cara","F",1994,"U21","SSC","K",999.99,999.99]
[20299,"BROWN","Charlotte","F",2003,"U12","S2R","S2R",999.99,999.99]
[20348,"BROWN","Elektra","F",2003,"U12",null,null,999.99,999.99]
[20347,"BROWN","Isobel","F",1999,"U16",null,null,126.85,153.08000000000001]
[20346,"BROWN","Jemima","F",2001,"U14",null,null,326.47000000000003,326.47000000000003]
[31191,"BROWN","Rachel","F",2000,"U16","GDN","ASC",121.16,121.52]
[20367,"BRUCE","Abigail","F",2000,"U16","EVO","EVO",102.67,102.67]
[31493,"BRUCE","Emma","F",2000,"U16","BSC",null,227.48,175.72]
[20368,"BRUCE","Sasha","F",1999,"U16","EVO","EVO",129.72,129.72]
[17686,"BUCHANAN","Alexandra","F",1994,"U21",null,"AMB",173.01,999.99]
[20360,"BUCKLAND","Amber","F",1997,"U18","HEM","BSA",180.82,204.07]
[14661,"BULLOCK","Alexandra","F",1995,"U21","TEL","TEL",18.25,18.25]
[31484,"BURKE","Olivia","F",2002,"U14","GSR",null,999.99,999.99]
[21139,"BURKINSHAW","Rowena","F",1979,"MAS","MSR","MSR",100.78,125.82]
[20601,"BURNS","Madeleine","F",2001,"U14","HEM","AMB",198.9,198.9]
[20339,"BURROUGHS","Hannah","F",2000,"U16","NOR",null,128.57,128.57]
[20860,"BURTON","Maisie","F",2002,"U14","LIO","LIO",74.599999999999994,999.99]
[19586,"BUTCHER","Jazmine","F",1997,"U18","NOR","BSA",100.59,100.59]
[22120,"BUTLER","Molly","F",2006,"U10","SAS","HEM",999.99,999.99]
[22178,"BUTTERWORTH","Sophie","F",2005,"U10","PND",null,999.99,999.99]
[31357,"CALDER","Emma","F",2002,"U14","GDN",null,999.99,999.99]
[20833,"CALDWELL","Anna","F",2002,"U14","HEM","EVO",157.79,999.99]
[36597,"CALLION","Christina","F",1999,"U16","MUC",null,999.99,999.99]
[31161,"CAMPBELL","Erin","F",1999,"U16","GSR",null,257.23,257.23]
[13638,"CAMPBELL-WOODWARD","Sarah","F",1954,"MAS",null,null,208.53,208.53]
[19983,"CARE","Chloe","F",1998,"U18","MID",null,203.01,203.01]
[31155,"CARRUTHERS","Philipa","F",1997,"U18","SSC","LSR",130.9,130.9]
[31203,"CARSON","Clare","F",1994,"U21","GSR",null,53.28,105.58]
[20694,"CATLIN","Glesni","F",2003,"U12","SMK","S2R",999.99,999.99]
[21270,"CHAPMAN","Chloe","F",2003,"U12","TSD","TSD",999.99,999.99]
[31497,"CHAPMAN","Vaila","F",1997,"U18","BSC",null,999.99,999.99]
[20366,"CHASTNEY","Rebecca","F",2002,"U14","WM","BSA",999.99,999.99]
[21059,"CHMIELOWSKA","Claudia","F",1998,"U18","HEM","K",999.99,999.99]
[21341,"CHRISTOPHER","Rebecca","F",1998,"U18","SPR","SPR",999.99,999.99]
[36635,"CLARK","Megan","F",1998,"U18","GSR",null,999.99,999.99]
[31335,"CLARKE","Jemma","F",2001,"U14","LSR","SSC",136.05000000000001,132.55000000000001]
[22075,"CLARKE","Roisin","F",2002,"U14","HEM","HEM",999.99,999.99]
[18316,"CLISSOLD","Honor","F",1997,"U18","RAV","EVO",191.53,191.53]
[36651,"COBB","Stella","F",1999,"U16","LSR",null,999.99,378.65]
[20139,"COE","Megan","F",1997,"U18","NOR",null,31.87,21.16]
[21658,"COLE","Hannah","F",1998,"U18","HEM","SAS",184.6,999.99]
[20352,"COLLEY","Isabella","F",1999,"U16","SPR","SPR",999.99,999.99]
[21358,"COOK","Ellie","F",1998,"U18","GLO",null,160.04,157.44]
[18676,"COOPER","Georgina","F",1996,"U21","GLO","DRA",71.180000000000007,71.180000000000007]
[19770,"COOPER","Izabelle","F",2001,"U14","SAS","BSA",999.99,999.99]
[19628,"COOPER","Lauren","F",1999,"U16","SAS","SAS",141.43,141.43]
[21769,"COOPER","Lauren","F",2005,"U10",null,null,999.99,999.99]
[19137,"COOPER","Yasmin","F",1998,"U18","HEM","BSA",28.52,29.99]
[20842,"CORRIGAN","Caroline","F",2002,"U14","SPR","SPR",999.99,999.99]
[21914,"COTTLE-BAILEY","Poppy","F",2003,"U12","ASR",null,999.99,999.99]
[31261,"COWAN","Lorna","F",1998,"U18","SFR",null,161.57,161.57]
[21593,"COWELL","Milly","F",2002,"U14",null,null,999.99,999.99]
[31433,"CRANE","Joanna","F",2001,"U14","CSC",null,999.99,999.99]
[21695,"CROCKER","Alicia","F",1997,"U18","SMK","SMK",211.75,211.75]
[31499,"CROSS","Jemima","F",2003,"U12","SSC",null,999.99,999.99]
[21597,"CULSHAW","Eleanor","F",2003,"U12","PND",null,999.99,999.99]
[19773,"CURTIS","Marie","F",1997,"U18","HEM","BSA",49.86,49.86]
[20800,"DALE","Safia","F",2000,"U16","DHO","DHO",999.99,999.99]
[22308,"DANCE","Hannah","F",2001,"U14","ALD",null,999.99,999.99]
[20256,"DANENBERGSONS","Shana","F",2000,"U16","HEM","EVO",69.16,69.16]
[19531,"DANIELS","Daisi","F",2002,"U14","MSR","EVO",73.45,999.99]
[19414,"DANNATT","Gemma","F",1996,"U21","GLO","DRA",76.08,76.08]
[30759,"DAULBY","Hannah","F",1995,"U21",null,"SSC",119.48,119.48]
[31317,"DAVIDSON-MCQUEEN","Cassie","F",2002,"U14","LSR",null,999.99,398.89]
[36639,"DAVIES","Christina","F",1993,"SEN","ASC",null,999.99,237.5]
[21575,"DAVIES","Esmie","F",1999,"U16",null,null,999.99,999.99]
[17936,"DAVIES","Jenny","F",1996,"U21","ASR",null,20.09,7.5]
[22024,"DAVIES","Lulu","F",2002,"U14",null,null,999.99,999.99]
[20890,"DAVIES","Megan","F",2001,"U14","HEM","HEM",262.36,262.36]
[31469,"DAVIS","Meghan","F",2000,"U16","BSA",null,130.96,157.01]
[17435,"DAWSON","Laura","F",1993,"SEN","OVL",null,219.13,219.13]
[20178,"DEIGHTON","Avelline","F",1967,"MAS","HEM","IMP",221.22,236.41]
[17888,"DELLER","Lucy","F",1996,"U21","MID","DRA",25.68,25.68]
[31466,"DICKSON","Sophie","F",1999,"U16","CSC",null,999.99,999.99]
[31431,"DILLON","Millie","F",2004,"U12","SSC","MUC",999.99,999.99]
[21331,"DILWORTH","Lucinda","F",1998,"U18",null,"BSA",104.75,104.75]
[19573,"DOHERTY","Robyn","F",1996,"U21","MID",null,636.34,636.34]
[18990,"DONNELLON","Amy","F",1994,"U21",null,"DHO",999.99,999.99]
[31104,"DOUGLAS","Abigail","F",1999,"U16","MUC",null,86.78,86.78]
[31565,"DOUGLAS","Morven","F",2001,"U14","GDN",null,999.99,999.99]
[22071,"DRUMMOND","Davina","F",2001,"U14",null,"BSA",999.99,999.99]
[21124,"DRUMMOND","Elinor","F",2003,"U12","TEL","TEL",999.99,999.99]
[21094,"DRUMMOND","Isabel","F",2001,"U14","TEL","TEL",272.29000000000002,324.52]
[22086,"DRUMMOND","Miranda","F",2002,"U14",null,"BSA",999.99,999.99]
[20141,"EATON","Freya","F",1998,"U18","AMB","AMB",134.16,134.16]
[20618,"EAVES","Eleanor","F",2003,"U12","PND",null,999.99,999.99]
[21012,"EDWARDS","Issy","F",2001,"U14","DRA","MSR",234.22,234.22]
[21630,"EDWARDS","Rachel","F",1963,"MAS","GRV",null,999.99,999.99]
[19165,"ELGY","Geraldine","F",1954,"MAS","MID",null,330.25,330.25]
[21017,"ELLIFF","Alexa","F",2003,"U12","VIK",null,999.99,999.99]
[13795,"ELLIOTT","Lauren","F",1991,"SEN","PND",null,205.38,999.99]
[21799,"ELLISON","Molly","F",2000,"U16","SRR",null,999.99,348.23]
[41996,"ELLWOOD","Natasha","F",1992,"SEN",null,null,999.99,999.99]
[22116,"ELPHICK","Alex","F",1999,"U16","ESX",null,999.99,999.99]
[36611,"ENGLAND","Amelia","F",2004,"U12","SSC",null,999.99,999.99]
[31081,"ENGLAND","Isabella","F",2000,"U16","SSC",null,999.99,999.99]
[31080,"ENGLAND","Jessica","F",1998,"U18","SSC",null,599.04,599.04]
[20018,"ENTWISTLE","Jacqueline","F",1959,"MAS",null,null,999.99,999.99]
[13765,"EVANS","Charlotte","F",1991,"SEN","CHT","K",45.6,45.6]
[13766,"EVANS","Emily","F",1994,"U21","CHT","AMB",10,10]
[41986,"EVANS","Isabel","F",2000,"U16","SAS",null,209.83,222.05]
[22110,"FAIRFULL","Madeleine","F",2006,"U10","HEM","HEM",999.99,999.99]
[21771,"FAIRHEAD","Iona","F",2000,"U16",null,"DHO",999.99,999.99]
[11941,"FAIRWEATHER","Sega","F",1990,"SEN","EVO","EVO",999.99,999.99]
[20701,"FELLOWS","Charley","F",2003,"U12","TEL","TEL",999.99,999.99]
[22020,"FERGUSON","Catrin","F",2006,"U10","PND","PND",999.99,999.99]
[31225,"FERGUSON","Hannah","F",1999,"U16","LSR",null,999.99,999.99]
[36666,"FERGUSON","Zoe","F",2002,"U14","LSR",null,999.99,576.49]
[30964,"FERRIER","Rachael","F",1996,"U21","GSR","SSC",29.68,33.01]
[20576,"FITZGERALD","Jordan","F",1996,"U21",null,null,999.99,999.99]
[36604,"FITZPATRICK","Joy","F",1997,"U18","GSR",null,999.99,999.99]
[31454,"FITZPATRICK","Molly","F",2003,"U12","GSR",null,999.99,999.99]
[31091,"FLEMING","Alex","F",1999,"U16","SSC",null,242.05,242.05]
[41992,"FLUCK","Catrin","F",1998,"U18","SPR","SPR",999.99,999.99]
[22309,"FORBES","Hannah","F",1994,"U21","BRO",null,999.99,999.99]
[20856,"FOSTER","Olivia","F",2001,"U14","SPR","SPR",154.80000000000001,154.80000000000001]
[20855,"FOSTER","Sophie","F",2003,"U12","SPR","SPR",999.99,999.99]
[31226,"FOWLER","Isla","F",2000,"U16","GSC","SFR",188.11,247.46]
[14942,"FREEZE","Danielle","F",1990,"SEN","BRO",null,62.02,62.02]
[21919,"FROST","Eleanor","F",2002,"U14","SPR","SPR",999.99,999.99]
[21940,"GALBRAITH","Clare","F",1963,"MAS",null,"DHO",999.99,999.99]
[21949,"GALBRAITH","Helena","F",2000,"U16",null,"DHO",999.99,999.99]
[36605,"GALLOWAY","Maudie","F",2005,"U10","MUC",null,999.99,999.99]
[30500,"GARDINER","Carla-Marina","F",1989,"SEN","ESC",null,17.59,17.59]
[20345,"GARMENT","Harriett","F",2000,"U16","WGC","HEM",465.82,465.82]
[30866,"GARVIE","Amber","F",1998,"U18","GDN",null,283.27,283.27]
[21991,"GATTY","Persephone","F",2004,"U12","PND","PND",999.99,999.99]
[22012,"GATTY","Victoria","F",1999,"U16","PND","PND",188.51,64.69]
[21776,"GEHRIG","Stephanie","F",1992,"SEN",null,null,999.99,999.99]
[36592,"GIBB","Alana","F",2006,"U10","ASC",null,999.99,999.99]
[31264,"GIBB","Eva","F",2000,"U16","LSR",null,470.48,470.48]
[31258,"GIBB","Tabitha","F",2000,"U16","LSR",null,431.18,431.18]
[22176,"GILES","Ella","F",2003,"U12","MID",null,999.99,999.99]
[19001,"GLASGOW","Sarah","F",2001,"U14","SMK","AMB",87.21,147.02000000000001]
[21007,"GLASSBROOK","Amy","F",2002,"U14",null,"MSR",277.68,319.56]
[30850,"GLOISTEIN","Helen","F",1996,"U21","MUC","SSC",164.77,148.04]
[41007,"GODDARD","Emily","F",1987,"SEN","GLO","DRA",24.64,24.64]
[19535,"GORDON","Maya","F",1995,"U21",null,"K",999.99,999.99]
[41910,"GORRINGE","Cerys","F",2000,"U16","SMK",null,999.99,999.99]
[41911,"GORRINGE","Giselle","F",2003,"U12","SMK",null,999.99,999.99]
[17747,"GOULD","Charlotte","F",1992,"SEN","TEL","TEL",10.87,10.87]
[17972,"GOULD","Georgina","F",1994,"U21","TEL","TEL",51,51]
[22031,"GRANT","Amelia","F",2003,"U12",null,"BSA",999.99,999.99]
[21053,"GRANT","Isabelle","F",2003,"U12",null,"BSA",999.99,999.99]
[36669,"GRAY","Lynne","F",1998,"U18","HNC",null,999.99,999.99]
[17439,"GREASBY","Alexandra","F",1994,"U21","HEM",null,111.86,111.86]
[19275,"GREAVES","Rebecca","F",1999,"U16","MSR","EVO",144.13999999999999,144.13999999999999]
[36614,"GREEN","Eleanor","F",2001,"U14","GDN",null,588.24,528.52]
[21963,"GREENE","Amelia","F",2002,"U14","SPR",null,999.99,999.99]
[13814,"GREENHALGH","Eloise","F",1993,"SEN","SPR","SPR",14.33,14.33]
[31528,"GREIG","Anna","F",2001,"U14",null,null,999.99,999.99]
[20391,"GRIFFITHS","Inez","F",1995,"U21","SHK",null,122.17,122.17]
[21939,"GRIFFITHS","Nia","F",2000,"U16",null,null,999.99,999.99]
[30633,"GUEST","Charlotte","F",1993,"SEN","SSC",null,129.78,129.78]
[30779,"GUEST","Katharine","F",1995,"U21","SSC",null,355.6,355.6]
[30920,"GUEST","Kirsty","F",1997,"U18","BSA","SSC",659.75,659.75]
[41274,"HALES","Alice","F",1992,"SEN","CAR","DRA",3.75,3.75]
[20936,"HALL","Maria","F",1995,"U21","LIO","LIO",170.03,999.99]
[41705,"HALLETT","Georgia","F",1996,"U21","GLO","DRA",24.96,23.97]
[36652,"HALLIDAY","Grace","F",2002,"U14","LSR",null,999.99,999.99]
[22146,"HAMBLETON","Chloe","F",2004,"U12",null,null,999.99,999.99]
[18617,"HANCOCK","Maxine","F",1997,"U18","MID","SMK",74.28,74.28]
[14237,"HANDFORD-STYRING","Hannah","F",1996,"U21","PPS","PPS",742.08,999.99]
[21301,"HARRISON","Louise","F",1994,"U21","PND","PND",69.42,61.21]
[42040,"HARRISON","Ursula","F",2000,"U16","CAR",null,999.99,999.99]
[21839,"HARROGATE-BRAMLEY","Alana","F",2003,"U12","RAV",null,999.99,999.99]
[21561,"HARROGATE-BRAMLEY","Cheryl","F",1962,"MAS","RAV","RAV",547.63,445.09]
[22045,"HART","Rebecca","F",2005,"U10","SRR",null,999.99,999.99]
[31229,"HARTE","Giulia","F",1996,"U21","THR",null,999.99,999.99]
[30848,"HARTE","Natalia","F",1992,"SEN","THR",null,33.97,61.09]
[4944,"HATCHER","Kirsty","F",1991,"SEN","CAR","K",42.03,42.03]
[17970,"HATHWAY","Ellen","F",1994,"U21","LSU","ASR",11.59,11.59]
[18660,"HATHWAY","Isabella","F",1997,"U18","ASR",null,49.71,12.74]
[31483,"HAY","Ailsa","F",2004,"U12","SSC",null,999.99,999.99]
[31109,"HEATLEY","Holly","F",1997,"U18","LSR",null,999.99,152.9]
[19126,"HEGINBOTHAM","Erika","F",1998,"U18",null,"BSA",161.76,161.76]
[21569,"HEMMING","Anya","F",2005,"U10","MID",null,999.99,999.99]
[19159,"HENDERSON","Anna","F",1998,"U18","HEM","AMB",6.89,17.5]
[21163,"HENDLEY","Sian","F",2000,"U16","LIO","LIO",323.5,375.25]
[18863,"HENERY","Deborah","F",1997,"U18","SHK","DRA",21.74,21.74]
[22033,"HESELTON","Rebecca","F",2003,"U12","PND","PND",999.99,999.99]
[31246,"HEWISON","Megan","F",2001,"U14","CSC",null,999.99,999.99]
[22302,"HILLIARD","Charlotte","F",1999,"U16",null,null,999.99,999.99]
[36665,"HILLIER","Madelaine","F",2002,"U14","LSR",null,999.99,401.23]
[22182,"HILLS","Charlotte","F",1998,"U18","GLO",null,999.99,999.99]
[20789,"HINTON","Georgina","F",2001,"U14","HEM","SPR",404.54,404.54]
[21284,"HINTON","Tilly","F",2004,"U12","HEM","SPR",999.99,999.99]
[42020,"HODDER","Lowri","F",1999,"U16","TOR","DRA",305.8,260.83]
[22111,"HODGSON","Ellen","F",2001,"U14","ASR","ASR",999.99,169.11]
[21580,"HOFFMAN-LITTLE","Jolie","F",2005,"U10","GLO",null,999.99,999.99]
[22179,"HOLMES","Abby","F",2003,"U12","NOR",null,999.99,999.99]
[21621,"HOLMES","Charlotte","F",2005,"U10","PND",null,999.99,999.99]
[21796,"HOLT","Marisa","F",2001,"U14","SRR","SRR",999.99,526.09]
[41480,"HOPKINS","Emily","F",1994,"U21","CAR","DRA",3.42,3.42]
[21199,"HORTON","Siena","F",2002,"U14","SMK","BSA",132.88999999999999,999.99]
[20208,"HOSKINS","Isabella","F",1999,"U16","GLO","BSA",332,332]
[21956,"HOUGHTON","Philippa","F",1999,"U16","SPR","SPR",999.99,999.99]
[17009,"HOUSTON","Alexandra","F",1994,"U21","SHK",null,999.99,999.99]
[22062,"HOWARTH","Catrin","F",2005,"U10",null,"MSR",999.99,999.99]
[36657,"HOWAT","Emma","F",2003,"U12","MUC",null,999.99,999.99]
[21530,"HUFF","Sarah","F",1999,"U16","SPR","SPR",999.99,999.99]
[20971,"HUGEC","Nadine","F",2002,"U14","HEM","EVO",154.54,999.99]
[20972,"HUGEC","Nicole","F",2000,"U16","HEM","EVO",92.3,97.27]
[21884,"HUGHES","Rachel","F",1997,"U18","SUR","SUR",999.99,999.99]
[31071,"HULBERT","Jemma","F",1996,"U21","SSC","MUC",208.34,208.34]
[31070,"HULBERT","Lucy","F",1998,"U18","SSC","MUC",294.95,294.95]
[31077,"HUNSLEY","Miriam","F",1995,"U21","LSR",null,210.12,210.12]
[21556,"HUNT","Hannah","F",1997,"U18","TSD","TSD",198.29,146]
[21047,"HUTCHINSON","Elys","F",1999,"U16",null,null,999.99,999.99]
[21535,"HYDE","Gussie","F",2000,"U16","SUR","SPR",999.99,121.45]
[41816,"HYETT","Georgia","F",2000,"U16","CAR","DRA",150.21,127.45]
[21996,"IANNARILLI","Lia","F",2003,"U12","FPS",null,999.99,999.99]
[20332,"IGLINA","Sofia","F",1997,"U18","BSA","BSA",999.99,999.99]
[31327,"INWOOD","Morgan","F",2001,"U14","LSR",null,240.83,265]
[21024,"JACKSON","Ellie","F",2002,"U14","TEL",null,202.37,167.27]
[30872,"JACKSON","Laura","F",1997,"U18","SSC","GSR",61.84,66.08]
[19677,"JACKSON","Lois","F",2001,"U14","RAV","RAV",88.46,32.82]
[19676,"JACKSON","Millie","F",1999,"U16","RAV","RAV",52.11,26.81]
[36672,"JACOBS","Angus","F",1998,"U18","ASC",null,999.99,999.99]
[21570,"JALLAT","Annabel","F",2003,"U12",null,null,999.99,999.99]
[41928,"JAMES","Lilli","F",2003,"U12","CAR",null,999.99,999.99]
[18560,"JAMES","Sophie","F",1995,"U21","BRS","SAS",129.26,129.26]
[31266,"JAMIESON","Emily","F",2000,"U16",null,null,203.64,203.64]
[21509,"JEFFERSON","Jemima","F",2004,"U12",null,"LIO",999.99,999.99]
[21510,"JEFFERSON","Maisie","F",2003,"U12",null,"LIO",999.99,999.99]
[31035,"JEFFRAY","Claire","F",1977,"MAS","SSC",null,989,989]
[41623,"JENKINS","Megan","F",1998,"U18","NOR","BSA",20,20]
[41622,"JENKINS","Nia","F",1995,"U21","NOR","BSA",7.14,10.86]
[17488,"KAHVE","Lucy","F",1998,"U18","AMB","AMB",999.99,999.99]
[22115,"KAMALY-ASL","Anna","F",2005,"U10",null,null,999.99,999.99]
[21150,"KARAVASILI","Zoe","F",1997,"U18","DHO","DHO",73.14,87.85]
[21964,"KEEN","Emily","F",2004,"U12","KF",null,999.99,999.99]
[31382,"KELLY","Iona","F",2002,"U14","MUC","SSC",999.99,999.99]
[22170,"KELLY","Nicole","F",2006,"U10","MSR",null,999.99,999.99]
[19011,"KEYS","Georgia","F",2001,"U14",null,null,141.46,141.46]
[21090,"KILROY-SILK","Ellaouise","F",2002,"U14","TOQ",null,999.99,999.99]
[36588,"KING","Layla","F",2006,"U10","ASC",null,999.99,999.99]
[17692,"KIRK","Isabel","F",1997,"U18",null,null,176.65,176.65]
[18328,"KOCK","Evangeline","F",1994,"U21","SPR","SPR",134.01,178.01]
[18318,"KRAHELSKI","Alicja","F",2000,"U16","HEM","TEL",33.22,33.22]
[21310,"KROLL","Ann","F",1971,"MAS","NSC",null,999.99,999.99]
[14746,"LAMBDEN","Sarah","F",1995,"U21","MSR","DRA",2.5,2.5]
[31394,"LAMOND","Emma","F",2002,"U14","SSC","LSR",999.99,999.99]
[31527,"LANG","Ishbel","F",2000,"U16","MUC",null,391.35,391.35]
[41711,"LARGE","Sophie","F",2001,"U14",null,null,999.99,999.99]
[31478,"LATTO","Rosamund","F",1999,"U16","CSC",null,999.99,999.99]
[31100,"LAWRIE","Alannah","F",1999,"U16","SSC","ASC",68.540000000000006,63.81]
[19503,"LAWSON-TILLEY","Sarah","F",1994,"U21",null,"DRA",999.99,999.99]
[36654,"LEACH","Isla","F",2002,"U14","LSR",null,999.99,999.99]
[18913,"LEE","Francesca","F",1998,"U18","MSR","SSC",4.76,4.76]
[21878,"LEES","Nadia","F",2003,"U12","BSA","HEM",999.99,999.99]
[41682,"LEFEVRE","Paloma","F",2000,"U16",null,null,999.99,999.99]
[20620,"LEGEAIS","Marion","F",1998,"U18",null,"BSA",999.99,999.99]
[21607,"LEIGHTON","Amie","F",2001,"U14","SPR",null,999.99,999.99]
[21074,"LEONARD","Heather","F",1973,"MAS","HEM","SMK",186.96,186.96]
[19152,"LEWINGTON","Caitlin","F",1999,"U16","BRO",null,76.89,55.37]
[21785,"LEWITT","Isabelle","F",2001,"U14","DHO","DHO",999.99,999.99]
[19498,"LILLYWHITE","Alexandra","F",1999,"U16","VIK","AMB",49.28,34.22]
[19831,"LISMORE","Sophie","F",1999,"U16",null,"BSA",999.99,999.99]
[31257,"LIVERSIDGE","Lauren","F",2000,"U16","GDN","ASC",999.99,999.99]
[22015,"LLEWELLYN","Aaliyah","F",2006,"U10","MID","WM",999.99,999.99]
[17431,"LLEWELLYN","Joanna","F",1991,"SEN","BRO","SMK",249.31,249.31]
[19453,"LOEFFEN-GALLAGHER","Hannah","F",2000,"U16",null,"BSA",999.99,999.99]
[19735,"LONG","Phoebe","F",1998,"U18","HEM","AMB",166.55,166.55]
[9107,"LONSDALE","Emma","F",1984,"MAS","KND","KND",999.99,999.99]
[42029,"LYNCH","Annmarie","F",2001,"U14","SCI",null,262.24,999.99]
[14994,"MACAULAY","Alice","F",1995,"U21","AMB","AMB",2.5,2.5]
[14806,"MACEY","Abbie","F",1994,"U21","MSR",null,54.4,115.93]
[31346,"MACKENZIE","Eve","F",2000,"U16","BSC",null,999.99,999.99]
[30542,"MACKINNON","Christy","F",1992,"SEN","SSC",null,25.39,127.72]
[36564,"MACLEAN","Beth","F",1998,"U18","HNC",null,999.99,999.99]
[31200,"MACPHERSON","Claire","F",2000,"U16","SSC","LSR",209.39,241.92]
[21795,"MAGENES","Caterina","F",2000,"U16","HEM","EVO",999.99,999.99]
[21700,"MAGENES","Matilde","F",2002,"U14",null,"HEM",999.99,999.99]
[19069,"MAIKLEM","Jessica","F",1996,"U21","SPR","SPR",999.99,999.99]
[20635,"MAIKLEM","Melissa","F",1999,"U16","SPR","SPR",999.99,999.99]
[21901,"MANNBY","Siobhan","F",2000,"U16","VIK","VIK",999.99,999.99]
[19169,"MANSON","Cameron","F",1998,"U18","HEM","BSA",37.049999999999997,999.99]
[18684,"MARMENT","Robyn","F",2000,"U16","WCS",null,218.24,124.54]
[21826,"MARSH","Amy","F",2002,"U14","SHK","SHK",328.39,999.99]
[21825,"MARSH","Ella","F",2000,"U16","SHK","SHK",378.14,999.99]
[20904,"MARSH","Loretta","F",1975,"MAS","SHK","SHK",999.99,999.99]
[21876,"MARTIN","Allegra","F",2004,"U12","SPR","SPR",999.99,999.99]
[31332,"MARTIN","Annabelle","F",2003,"U12","LSR",null,999.99,999.99]
[21897,"MARTIN","Lily","F",2002,"U14","BRO","BRO",999.99,119.72]
[31330,"MARTIN","Rebecca","F",1999,"U16","LSR",null,388.01,313.60000000000002]
[18740,"MARTIN-HARRINGTON","Beatrice","F",1997,"U18","GLO","BSA",60.29,60.29]
[22079,"MAYHEAD","Eve","F",2000,"U16","ASR","ASR",999.99,464.18]
[21014,"MAYHEW","Jessica","F",2000,"U16","MID","MID",84.18,47.77]
[19753,"MAZE-BROWN","Riley","F",2002,"U14","SMK",null,999.99,999.99]
[31227,"MCCALL","Catriona","F",2004,"U12","SSC",null,999.99,999.99]
[18589,"MCCARTHY","Holly","F",1965,"MAS",null,null,241.88,999.99]
[21736,"MCCOLL","Isla","F",2004,"U12","TOQ","TOQ",999.99,999.99]
[22061,"MCGONIGAL","Cordelia","F",2003,"U12",null,"HEM",999.99,999.99]
[20173,"MCGREGOR-OGDEN","Holly","F",2003,"U12","MSR","DRA",999.99,999.99]
[36622,"MCKENDRICK","Lyle","F",2004,"U12","MUC","SSC",999.99,999.99]
[31423,"MCKEY","Holly","F",2003,"U12","LSR",null,999.99,999.99]
[31275,"MCKINLAY","Victoria","F",2000,"U16","GSR",null,103.63,101.88]
[21925,"MCLEISH","Emily","F",2003,"U12","HEM","HEM",999.99,999.99]
[30293,"MCLEOD","Eilidh","F",1990,"SEN","SSC",null,149.04,240.23]
[41953,"MCNICOLL","Isla","F",1981,"MAS","CAR",null,999.99,162.26]
[31555,"MCNUTT","Katie","F",2002,"U14","LSR",null,999.99,999.99]
[31556,"MCNUTT","Lucy","F",2004,"U12","LSR",null,999.99,999.99]
[18382,"MEAD","Darcie","F",1996,"U21","EVO","EVO",47.69,47.69]
[22161,"MEYLER","Anna","F",1999,"U16",null,"SPR",999.99,108.78]
[20307,"MIDDLETON","Amy","F",1995,"U21","MID",null,51.15,49.89]
[21205,"MIDSON","Molly","F",2003,"U12","FLK","FLK",999.99,999.99]
[21204,"MIDSON","Poppy","F",2001,"U14","FLK","FLK",162.81,95.38]
[18931,"MILES","Joanna","F",1993,"SEN","WGC","WGC",82.33,82.33]
[21277,"MILLARD","Paige","F",2002,"U14",null,"DHO",999.99,999.99]
[14103,"MILLER","Violet","F",1995,"U21",null,"AMB",999.99,999.99]
[19260,"MITCHELL","Olivia","F",2001,"U14","GLO","BSA",85.9,85.9]
[21518,"MOONEY","Philippa","F",1999,"U16","DHO","DHO",999.99,999.99]
[21972,"MORGAN","Samantha","F",2002,"U14",null,null,999.99,999.99]
[31476,"MORISETTI","Eilidh","F",2002,"U14","LSR",null,999.99,999.99]
[30667,"MORRIS","Sarah","F",1994,"U21","STC",null,131.5,131.5]
[36610,"MORRISON","Hannah","F",1999,"U16","GDN","ASC",999.99,999.99]
[31153,"MORRISON","Rachael","F",1999,"U16","GDN",null,999.99,999.99]
[31188,"MORRISSEY","Anna","F",1990,"SEN","STC",null,999.99,999.99]
[19338,"MORTON","Sofia","F",1996,"U21","MSR","DRA",65.349999999999994,65.349999999999994]
[31426,"MUIR","Fiona","F",2006,"U10","ASC","DSC",999.99,999.99]
[31425,"MUIR","Kirsty","F",2004,"U12","ASC","DSC",999.99,999.99]
[31146,"MURPHY","Louise","F",1997,"U18","GSR",null,999.99,999.99]
[19679,"MURRAY","Louisa","F",1994,"U21",null,"LIO",160.84,999.99]
[22005,"MURRAY-TACON","Alexandra","F",1997,"U18",null,null,999.99,999.99]
[31507,"MYATT","Rona","F",1997,"U18","LSR",null,999.99,999.99]
[20731,"NEASHAM","Grace","F",1998,"U18","SMK",null,131.21,131.21]
[21356,"NEASHAM","Laurie","F",2000,"U16","SMK","SMK",295.16000000000003,295.16000000000003]
[36606,"NEGRI","Belana","F",2003,"U12","CSC",null,999.99,999.99]
[31468,"NEGRI","Daniella","F",2000,"U16","CSC",null,999.99,999.99]
[21660,"NEUMANN","Sophie","F",1998,"U18","HEM","HEM",282.95,282.95]
[20696,"NEWBOULT","Helena","F",1998,"U18","MID","MID",27.39,27.39]
[21006,"NEYRINCK","Camille","F",1998,"U18",null,null,999.99,999.99]
[21735,"NICOL","Kirsty","F",1986,"SEN",null,null,999.99,999.99]
[20809,"O'BRIEN","Matilda","F",2004,"U12","MID",null,999.99,999.99]
[14747,"OGDEN","Sophie","F",1996,"U21","MSR","DRA",4.4800000000000004,4.4800000000000004]
[18793,"O'NEILL","Ella","F",1997,"U18","HEM",null,27.27,30.36]
[21966,"O'NEILL","Kita","F",2005,"U10",null,"BSA",999.99,999.99]
[20945,"O'NEILL","Maeve","F",2003,"U12",null,"BSA",999.99,999.99]
[21441,"ORCHARD","Ellie","F",2002,"U14","HEM",null,999.99,148.24]
[22136,"ORZEL","Emilia","F",2006,"U10",null,"WM",999.99,999.99]
[31252,"OSBORNE","Jennifer","F",1991,"SEN","GSR",null,999.99,999.99]
[21887,"OSMOND","Christabel","F",2003,"U12",null,null,999.99,999.99]
[21235,"OUGRIN","Anastasia","F",2002,"U14","SPR","SPR",999.99,999.99]
[21528,"PANTELI","Charlotte","F",1999,"U16","BSA","BSA",999.99,999.99]
[21536,"PARKER","Julia","F",1963,"MAS","VIK","CAD",999.99,999.99]
[14382,"PARKER","Olivia","F",1993,"SEN","LIO","LIO",29.05,60.59]
[21755,"PASCOE","Eva","F",2002,"U14","PLY","TOQ",999.99,107.54]
[21363,"PATTON","Harriet","F",1999,"U16",null,"SPR",228.88,228.88]
[31513,"PEARSON","Holly","F",2001,"U14","LSR",null,588.97,332.55]
[19197,"PENHALE","Emma","F",2000,"U16","GLO","DRA",140.75,96.25]
[31303,"PETERS","Ella","F",1994,"U21","BRM",null,999.99,999.99]
[19002,"PETERS","Emma","F",1997,"U18","MSR","LIO",9.14,43.74]
[22049,"PETERSON","Amy","F",1999,"U16","HEM","HEM",139.84,999.99]
[22200,"PETERSON","Lexie","F",2004,"U12","BRS","HEM",999.99,999.99]
[31245,"PETRIE","Aoife","F",2002,"U14","BSC",null,453.82,278.5]
[31244,"PETRIE","Isla","F",2000,"U16","BSC",null,229.24,999.99]
[18505,"PEXTON","Georgia","F",2000,"U16","LIO","LIO",96.16,132.28]
[31440,"PFLEGER","Isabella","F",2006,"U10","GDN",null,999.99,999.99]
[36565,"PIERCEY","Rachel","F",2001,"U14","CSC",null,999.99,999.99]
[21655,"PIRKHOFFER","Lucy","F",1999,"U16","SAS","SAS",156.72,156.72]
[17412,"POCOCK","Elena","F",1993,"SEN",null,null,101.34,999.99]
[41858,"POTTER","Maisie","F",1997,"U18",null,null,999.99,999.99]
[19781,"POTTER","Shannon","F",2001,"U14","MSR","DRA",57.92,78.58]
[31209,"PRESSLIE","Jessica","F",2000,"U16","GDN",null,158.94999999999999,202.84]
[31447,"PRESSLIE","Sophie","F",2003,"U12","GDN",null,999.99,999.99]
[19644,"PRETTY","Antonia","F",1996,"U21","TSN","TSN",50.24,50.24]
[30927,"PRICE","Rhona","F",1999,"U16","SSC","GSR",138.06,138.06]
[22127,"PULLAN","Aimee","F",2000,"U16","LIO","LIO",278.93,999.99]
[36598,"RAE","Lauren","F",2005,"U10","MUC",null,999.99,999.99]
[21392,"RAMPTON","Clementine","F",2001,"U14",null,"BSA",999.99,999.99]
[21800,"RAMSDEN","Grace","F",1998,"U18",null,"LIO",999.99,999.99]
[31138,"RANKIN","Shona","F",2003,"U12","BSA","SSC",999.99,999.99]
[31207,"RASMUSEN","Victoria","F",2000,"U16","GDN",null,293.48,999.99]
[30864,"RATTRAY","Aleysha","F",1996,"U21","BRM",null,174.29,174.29]
[31140,"RAY","Kathleen","F",1999,"U16","GDN",null,305.22000000000003,305.22000000000003]
[21900,"REBERT","Abby","F",2000,"U16",null,null,999.99,999.99]
[31323,"REED","Jemima","F",2003,"U12",null,"SSC",999.99,999.99]
[19459,"REID","Judy","F",1960,"MAS","HEM","SAS",107.25,126.66]
[36601,"REID","Sinead","F",2001,"U14","CSC",null,999.99,999.99]
[41980,"RESCIGNO","Giorgia","F",1993,"SEN",null,null,999.99,999.99]
[17803,"RICHARDS","Camille","F",1998,"U18",null,"BSA",999.99,999.99]
[20720,"RILEY","Ilana","F",2004,"U12","GRV","SMK",999.99,999.99]
[18649,"RILEY","Megan","F",2000,"U16","SMK","AMB",86.47,90.08]
[36637,"RITCHIE","Claudia","F",2007,"U8","ASC",null,999.99,999.99]
[36638,"RITCHIE","Gabriella","F",2008,"U8","ASC",null,999.99,999.99]
[30767,"RITCHIE","Nicole","F",1995,"U21","GSR",null,0,0]
[21893,"ROBERTS","Elizabeth","F",1996,"U21",null,null,999.99,999.99]
[21926,"ROBERTS","Sophie","F",1997,"U18",null,null,999.99,999.99]
[36593,"ROBSON","Solmisty","F",2003,"U12","CSC",null,999.99,999.99]
[21394,"ROGERS","Anna","F",2001,"U14","BSA","BSA",999.99,999.99]
[13952,"ROGERS","Rachelle","F",1995,"U21","HEM",null,11.2,999.99]
[41952,"RONAN","Eleanor","F",2000,"U16","SCI","CHL",370.93,370.93]
[19739,"ROSE","Rebecca","F",2002,"U14","SMK",null,999.99,999.99]
[31438,"ROSS","Iona","F",2003,"U12","SSC","MUC",999.99,999.99]
[18481,"ROTH","Phoebe","F",1994,"U21",null,"DHO",113.82,999.99]
[22217,"ROWLANDS","Alexandra","F",2004,"U12","KFS",null,999.99,999.99]
[19235,"ROYAL","Natasha","F",1999,"U16","VIK",null,999.99,45.01]
[30867,"RYAN","Eilidh","F",2000,"U16","GSC",null,43.11,43.11]
[20742,"SAMPSON","Melissa","F",1971,"MAS","NOR","NOR",137.72999999999999,118.09]
[31135,"SANDFORD","Eliza","F",1996,"U21",null,"SSC",194.77,194.77]
[31130,"SANDLAND","Louise","F",2001,"U14","GSR",null,210.72,210.72]
[21748,"SAXBY","Kate","F",2002,"U14","PLY",null,999.99,426.24]
[13376,"SCILIMATI","Tania","F",1986,"SEN",null,"LSC",999.99,999.99]
[36599,"SCOTT","Cara","F",2004,"U12",null,null,999.99,999.99]
[31173,"SCOTT","Lucy","F",1999,"U16","BSC",null,85.69,82.81]
[17893,"SEELEY","Grace","F",1995,"U21","RAV","DHO",466.63,466.63]
[17892,"SEELEY","Julia","F",1993,"SEN","RAV","DHO",481.91,481.91]
[14962,"SHAILES","Polly","F",1996,"U21","NOR","BSA",34.409999999999997,34.409999999999997]
[31350,"SHARP","Charlotte","F",2002,"U14","BSC","GSC",418.98,680.98]
[22303,"SHAW","Lara","F",2004,"U12","FF",null,999.99,999.99]
[21558,"SHEPHERDSON","Lauren","F",2003,"U12","TSD",null,999.99,999.99]
[20599,"SHERING","Nicole","F",2000,"U16","HEM","TEL",59.26,59.26]
[20655,"SHOOTER","Hope","F",1993,"SEN","HEM","HEM",119.52,119.52]
[17787,"SHRIMPTON","Charlotte","F",1994,"U21","TEL","TEL",47,47]
[21797,"SIM","Danyelle","F",1999,"U16","SRR","SRR",261.12,999.99]
[21798,"SIM","Lauren","F",2001,"U14","SRR","SRR",410.9,999.99]
[12357,"SIMONDS","Franki","F",1990,"SEN",null,"K",19.7,19.7]
[31127,"SKINNER","Caroline","F",1998,"U18",null,"SSC",334.4,334.4]
[31353,"SKINNER","Eilidh","F",2001,"U14","LSR","SSC",364.38,332.89]
[20337,"SKIPPER","Megan","F",2001,"U14","NOR","NOR",106.62,45.75]
[19016,"SKIPPER","Sophie","F",1995,"U21","NOR","NOR",30.78,23.15]
[21403,"SLADE","Hattie","F",1998,"U18",null,"BSA",999.99,999.99]
[21404,"SLADE","Isobel","F",1999,"U16",null,"BSA",999.99,999.99]
[18878,"SLATER","Ella","F",1991,"SEN","LSU","LSU",51.1,53.8]
[21171,"SLATER","Grace","F",2001,"U14","SHK","SHK",431.14,431.14]
[19450,"SLATTERY","Rachel","F",1968,"MAS","KND",null,999.99,999.99]
[20602,"SMIDT-WALLIS","Brielle","F",2000,"U16","ASR","SUR",120.52,77.849999999999994]
[22058,"SMITH","Emily","F",2004,"U12","FPS",null,999.99,999.99]
[21850,"SMITH","Isobelle","F",1999,"U16",null,null,999.99,999.99]
[20840,"SNOW","Elise","F",1999,"U16","EVO","EVO",58.41,67.52]
[17752,"SOMAN","Bethany","F",1997,"U18","SMK",null,91.36,91.36]
[20134,"SOMAN","Mia","F",2002,"U14","SMK",null,999.99,999.99]
[20754,"SPANTON","Jessica","F",1997,"U18","NOR",null,50.75,31.81]
[21568,"SPEARPOINT WALSH","Emily","F",1996,"U21","OVL","OVL",196.72,196.72]
[31471,"SPENCE","Madison","F",2005,"U10","LSR",null,999.99,999.99]
[31344,"SPENCE","Rachel","F",2003,"U12","LSR",null,999.99,999.99]
[22022,"SPENCER","Ania","F",1998,"U18","PLY",null,999.99,349.69]
[17717,"STAMMERS","Sophie","F",1998,"U18","DHO","DHO",999.99,999.99]
[31318,"STARK","Daisy","F",2001,"U14","LSR",null,271.52,271.52]
[21881,"STAYMAN","Jessica","F",2001,"U14","SOU","SAS",361.72,226.75]
[31566,"STEDMAN","Megan","F",2000,"U16",null,null,999.99,273.06]
[31504,"STEPHEN","Sadie","F",2000,"U16","GDN",null,999.99,999.99]
[36585,"STEPHEN","Wendy","F",2002,"U14","GDN",null,999.99,999.99]
[20439,"STEVENS","Annecy","F",2000,"U16","HEM","HEM",193.12,193.12]
[20440,"STEVENS","Cordelia","F",2005,"U10","HEM","HEM",999.99,999.99]
[21950,"STEVENS","Holly","F",1968,"MAS","HEM","HEM",999.99,999.99]
[20441,"STEVENS","Lilyella","F",2002,"U14","HEM","HEM",251.96,379.9]
[18472,"STEVENSON","Elizabeth","F",1990,"SEN",null,"K",999.99,999.99]
[31430,"STEWART","Honor","F",2000,"U16","LSR",null,999.99,999.99]
[31076,"STILL","Ella","F",1997,"U18","GDN",null,142.44999999999999,145.30000000000001]
[31088,"STILL","Ruby","F",1999,"U16","GDN",null,284.98,284.98]
[21382,"STOCKER","Anastacia","F",2003,"U12","TSN","BSA",999.99,999.99]
[21397,"STOCKER","Sophie","F",2005,"U10","TSN","BSA",999.99,999.99]
[21727,"STOKOE","Amy","F",2005,"U10","TSD","TSD",999.99,999.99]
[21889,"STOWELL","Susanna","F",2001,"U14","DHO","DHO",999.99,999.99]
[31544,"STRUTHERS","Ciorstaidh","F",2001,"U14","SFR",null,180.37,337.67]
[21968,"SULLIVAN","Ella","F",2002,"U14","LIO","LIO",378.62,999.99]
[17154,"SUMMERHAYES","Katie","F",1995,"U21","SHK",null,999.99,999.99]
[18099,"SUMMERHAYES","Molly","F",1997,"U18","SHK",null,588.37,999.99]
[21969,"SURMAN","Evelyn","F",2003,"U12",null,"LIO",999.99,999.99]
[21970,"SURMAN","Martha","F",2005,"U10",null,"LIO",999.99,999.99]
[19623,"SYMONS","Rachel","F",1993,"SEN","CHT",null,40.1,35.729999999999997]
[36562,"SZAFRANEK","Chloe","F",1992,"SEN","GSR",null,999.99,999.99]
[21756,"TAFFS","Zara","F",2002,"U14","PLY","PLY",999.99,479.39]
[20622,"TARANTELLI","Laudomia","F",2003,"U12",null,null,999.99,999.99]
[36584,"TATE","Emily","F",2003,"U12","CSC",null,999.99,999.99]
[36583,"TATE","Georgia","F",2004,"U12","CSC",null,999.99,999.99]
[17702,"TAYLOR","Imogen","F",1994,"U21","AMB","AMB",67.87,152.99]
[18235,"TAYLOR","Isadora","F",1997,"U18","EVO","EVO",234.75,234.75]
[31007,"TAYLOR","Kate","F",1997,"U18","GSR","SSC",16.190000000000001,16.190000000000001]
[31237,"TAYLOR","Rhiannon","F",1998,"U18","GDN",null,250.93,329.16]
[31463,"TAYLOR","Rhona","F",2002,"U14","SSC",null,999.99,999.99]
[21430,"TAYLOR SELT","Molly","F",1996,"U21","VIK","SUF",999.99,999.99]
[21261,"TAYLOR-TIPTON","Ella","F",2004,"U12","FF","FF",999.99,999.99]
[22048,"TEAL","Chloe","F",1996,"U21",null,null,999.99,999.99]
[14393,"THEXTON","Heather","F",1990,"SEN","KND",null,999.99,999.99]
[18033,"THOMAS","Elisabeth","F",1996,"U21","MID","DRA",72.7,67.69]
[19211,"THOMAS","Kerry","F",1995,"U21","TOQ",null,111.71,111.71]
[21719,"THOMAS","Sophie","F",2003,"U12","HEM","HEM",999.99,999.99]
[21018,"THOMPSON","Lara","F",2000,"U16",null,null,999.99,999.99]
[22122,"THOMPSON","Niamh","F",2005,"U10","TSN",null,999.99,999.99]
[21519,"THOMPSON","Tilly","F",1999,"U16","SPR","SPR",999.99,999.99]
[30982,"THOMSON","Sarah","F",1996,"U21","SSC",null,327.78,327.78]
[22078,"THORNTON","Eleanor","F",2000,"U16","FPS",null,999.99,189.79]
[30624,"TILLEY","Alexandra","F",1993,"SEN","GDN","BSA",43.05,46.21]
[21272,"TILLEY","Katherine","F",2001,"U14",null,"DRA",999.99,999.99]
[30904,"TODD","Alison","F",1997,"U18","SSC","MUC",101.11,101.11]
[17951,"TODD-SAUNDERS","Helen","F",1999,"U16","DHO","DHO",999.99,999.99]
[20813,"TOH","Isabel","F",2000,"U16","HEM","HEM",999.99,999.99]
[19213,"TONGE","Charlotte","F",1994,"U21","TOQ",null,67.260000000000005,67.260000000000005]
[19700,"TOOGOOD","Natalia","F",1997,"U18","VIK",null,999.99,89.15]
[21863,"TOWNSEND","Isabel","F",2002,"U14","SOU",null,999.99,999.99]
[20669,"TREUGE","Lauren","F",2003,"U12","MID",null,999.99,999.99]
[20643,"TREW","Eleanor","F",1999,"U16","HEM","K",119.52,108.27]
[22199,"TRUST","Emma","F",2004,"U12","HEM",null,999.99,999.99]
[21816,"TUBBS","Jessica","F",1999,"U16","TSN",null,999.99,999.99]
[31134,"TURNER","Jennifer","F",2001,"U14","BSC",null,133.4,139.09]
[22070,"TURNER","Morgan","F",1999,"U16","BRO",null,999.99,999.99]
[5480,"TURNOCK","Kerry","F",1972,"MAS","HEM",null,61.15,61.15]
[21809,"TUTT","Anna","F",1974,"MAS","HEM","HEM",999.99,999.99]
[19986,"USHER","Annie","F",1997,"U18","ASR","DRA",31.63,24.62]
[22006,"VAGO","Annabel","F",2000,"U16",null,null,999.99,999.99]
[22007,"VAGO","Cristina","F",2003,"U12",null,null,999.99,999.99]
[18933,"VALE","Lauren","F",2001,"U14","CHT",null,79.94,25]
[18934,"VALE","Nikkie","F",1994,"U21","CHT",null,77.87,77.87]
[36609,"VAUGHAN","Molly","F",2001,"U14","CSC",null,999.99,999.99]
[20573,"VEGTING","Amelia","F",1997,"U18",null,null,999.99,999.99]
[21096,"VERNON","Rebecca","F",2002,"U14","SPR","SPR",999.99,999.99]
[13381,"VERNON","Rowan","F",1988,"SEN","MID","MID",32.840000000000003,32.840000000000003]
[21368,"VESELY","Cordelia","F",1999,"U16","SPR","SPR",999.99,999.99]
[21376,"VESELY","Miranda","F",2002,"U14","SPR","SPR",999.99,999.99]
[21377,"VESELY","Ophelia","F",2004,"U12","SPR","SPR",999.99,999.99]
[20849,"VICKERS","Katie","F",2001,"U14","SPR","SPR",999.99,999.99]
[30768,"VINCENTI","Anna","F",1995,"U21","BSC",null,999.99,999.99]
[21794,"WAGSTAFF","Lydia","F",1998,"U18","SHK","MSR",252.54,373.73]
[31525,"WALLACE","Olivia","F",1999,"U16","GSR",null,375.43,375.43]
[31524,"WALLACE","Sophia","F",2002,"U14","GSR",null,283.45999999999998,245.24]
[10660,"WALSH","Carrie","F",1963,"MAS","ALD","IMP",178.34,178.34]
[20317,"WALTON","Kirsten","F",2000,"U16","LIO","LIO",54.53,88.21]
[20741,"WALTON","Mya","F",2004,"U12","LIO","LIO",999.99,999.99]
[21349,"WANG","Alison","F",1980,"MAS","MSR","IMP",189.05,189.05]
[41693,"WARD","Ella","F",1999,"U16","CAR","AMB",64.91,64.91]
[31500,"WARD","Erin","F",2005,"U10","GSR",null,999.99,999.99]
[31464,"WARD","Isla","F",2004,"U12","GSR",null,999.99,999.99]
[41692,"WARD","Olivia","F",2000,"U16","CAR","AMB",65.78,72.61]
[21254,"WATSON","Josie","F",2004,"U12","WM","WM",999.99,999.99]
[18745,"WEBSDALE","Cara","F",1997,"U18","RAV","LIO",158.58000000000001,999.99]
[20767,"WEBSTER","Atlanta","F",2000,"U16","NOR","NOR",185.74,155.4]
[21400,"WEEKS","Ella","F",2004,"U12","SPR","SPR",999.99,999.99]
[21101,"WEEKS","Georgia","F",2001,"U14","SPR","SPR",999.99,999.99]
[21492,"WEIR","Emer","F",1999,"U16","RAV",null,171.47,171.47]
[31093,"WHATFORD","Beth","F",2001,"U14","GDN",null,108.79,123.54]
[14169,"WHEATMAN","Claire","F",1991,"SEN","NOR","NOR",296.81,296.81]
[20552,"WHEELER","Sophie","F",2003,"U12","MSR",null,999.99,999.99]
[20612,"WHITE","Victoria","F",1994,"U21",null,null,999.99,999.99]
[22213,"WHITMARSH-ALI","Evie","F",2005,"U10","CHT",null,999.99,999.99]
[21836,"WHITMARSH-ALI","Megan","F",2000,"U16","CHT",null,999.99,138.1]
[19094,"WHITTALL","Martha","F",1997,"U18","ASR","SAS",243.55,243.55]
[18454,"WIDDUP","Bethany","F",1995,"U21","AMB","AMB",15.87,15.87]
[18013,"WILCOCKSON","Melanie","F",1991,"SEN","PPS","LIO",77.150000000000006,83.01]
[41913,"WILEY","Lily","F",2003,"U12","WWS",null,999.99,999.99]
[10199,"WILKEY","Sarah","F",1981,"MAS","SPR","SUR",999.99,999.99]
[22304,"WILKINS","Eleanor","F",2000,"U16","BRS",null,999.99,105.62]
[21603,"WILKINSON","Millie","F",2001,"U14","SHK","SHK",999.99,999.99]
[19128,"WILLIAMS","Beth","F",1995,"U21","FLK",null,65.22,65.22]
[30999,"WILLIAMS","Emma","F",1999,"U16","GSR","SSC",95.5,95.5]
[19832,"WILLIAMS","Grace","F",2000,"U16","TEL","TEL",81.400000000000006,81.400000000000006]
[19162,"WILLOUGHBY","Jo","F",1975,"MAS",null,"LIO",999.99,999.99]
[21210,"WILLOWS","April","F",2002,"U14","BRO",null,999.99,999.99]
[22189,"WILSON","Ceri","F",2000,"U16",null,null,999.99,999.99]
[36574,"WILSON","Judy","F",1952,"MAS",null,null,999.99,999.99]
[31526,"WINNING","Charlotte","F",1998,"U18","SFR",null,371.57,371.57]
[31111,"WINTHROP","Claire","F",1997,"U18","LSR",null,88.3,88.3]
[31369,"WINTHROP","Zoe","F",1999,"U16","LSR",null,175.34,175.06]
[36573,"WISEMAN","Cara","F",1982,"MAS",null,null,999.99,999.99]
[19645,"WISEMAN","Kelly","F",1993,"SEN","PND","PND",75.98,75.98]
[22091,"WOLOSZCZUK","Lucy","F",2001,"U14","HEM","HEM",999.99,999.99]
[31545,"WOOD","Milly","F",2000,"U16","LSR",null,616.37,616.37]
[20639,"WOODWARD","Sarah","F",2001,"U14","HEM","AMB",93.86,93.86]
[17452,"WRIGHT","Natasha","F",1997,"U18","VIK",null,100.87,100.87]
[31522,"WYLIE","Anna","F",1998,"U18","MUC",null,274.66000000000003,274.66000000000003]
[31260,"WYLIE","Fiona","F",2003,"U12","GSR",null,999.99,999.99]
[36571,"YARD","Beverly","F",1900,"MAS",null,null,999.99,999.99]
[18056,"YOUNG","Ella","F",1997,"U18","SUR","SUR",160,160]
[36569,"YOUNG","Maggie","F",1964,"MAS",null,null,999.99,999.99]
[31533,"YOUNG","Olivia","F",2000,"U16","MUC",null,500.69,500.69]
[21578,"YUNG","Catherine","F",1998,"U18",null,"DHO",999.99,999.99]
[20930,"ABRISHAMI","Diaco","M",2002,"U14","BRO","BRS",999.99,999.99]
[13335,"ABSALOM","Daniel","M",1992,"SEN","LSU","SPR",47.15,47.15]
[31228,"ADAMSON","Alexander","M",1996,"U21","CSC",null,999.99,999.99]
[31477,"ADAMSON","Tristram","M",1997,"U18","CSC",null,999.99,999.99]
[31215,"ADLINGTON","Ben","M",1999,"U16","BSC",null,999.99,999.99]
[20308,"AGNEW","George","M",1999,"U16",null,"K",999.99,999.99]
[31379,"ALDRIDGE","Charlie","M",2001,"U14","MUC","SSC",288.52,288.52]
[21817,"ALDRIDGE-BATE","William","M",2002,"U14","SPR","SPR",999.99,999.99]
[31178,"ALEXANDER","Hamish","M",1999,"U16","GDN",null,301.31,301.31]
[12571,"ALLDRIDGE","James","M",1988,"SEN","SMK","SPR",48.16,50.41]
[18247,"ALLEN","Samuel","M",1994,"U21",null,null,188,198.97]
[19074,"AMOS","John","M",1959,"MAS","SAS","SAS",244.28,263.81]
[10372,"ANDERSON","Christopher","M",1959,"MAS","VIK","K",163.66999999999999,153.91999999999999]
[31197,"ANDERSON","Ewen","M",2000,"U16","SSC",null,203.39,199.75]
[30908,"ANDREWS","Greg","M",1997,"U18",null,"SSC",142.41999999999999,142.41999999999999]
[31003,"ANDREWS","Keir","M",1998,"U18",null,"SSC",93.74,89.58]
[22009,"APPLETON","Byron","M",2001,"U14","HEM",null,108.94,103.79]
[21808,"ARLOTT","Martin","M",1971,"MAS","HEM","HEM",999.99,999.99]
[31400,"ARNOTT","Jack","M",2002,"U14","LSR",null,999.99,445.94]
[19990,"ASHMAN","Alexander","M",2000,"U16",null,"DHO",233.18,233.18]
[8522,"ASHTON","Simon","M",1968,"MAS","SHK",null,989,989]
[18475,"ASQUITH","Max","M",1996,"U21","AMB","AMB",200.32,200.32]
[21753,"ATHERTON","Lucas","M",2001,"U14",null,"MSR",999.99,999.99]
[21626,"ATKINSON","Andrew","M",1967,"MAS","BRO",null,238.25,123.13]
[8363,"ATKINSON","Michael","M",1978,"MAS",null,null,999.99,999.99]
[8362,"ATKINSON","Stuart","M",1982,"MAS",null,null,999.99,999.99]
[20878,"ATTARD","Oliver","M",1999,"U16",null,"SPR",999.99,999.99]
[22132,"AUSTIN","William","M",2000,"U16","PND","PND",999.99,197.18]
[20416,"AVENT","Mathieu","M",1999,"U16",null,null,999.99,999.99]
[21958,"BACKHOUSE","Michael","M",1994,"U21","MSR","MSR",999.99,999.99]
[22051,"BACKHOUSE","Nicholas","M",1998,"U18",null,"MSR",999.99,999.99]
[13784,"BAGGIO","Max","M",1995,"U21","EVO","EVO",45.49,45.49]
[20484,"BAILES","Max","M",1999,"U16","ESX","ELI",199.06,199.06]
[22198,"BAILEY","Noah","M",2006,"U10","MID","WM",999.99,999.99]
[20149,"BAILY","Luke","M",2002,"U14","SMK","SMK",999.99,999.99]
[22004,"BAKER","Giles","M",2003,"U12","SPR","SPR",999.99,999.99]
[22155,"BALCHIN","Lewis","M",2000,"U16","2KP",null,999.99,999.99]
[12618,"BALDWIN","Thomas","M",1990,"SEN","NOR","BSA",17.3,17.3]
[30646,"BALL","Elliot","M",1994,"U21","SSC",null,88.17,88.17]
[20673,"BANNISTER","Adam","M",1999,"U16","ASR",null,118.03,93.2]
[21167,"BANNISTER","Callum","M",1998,"U18","AVO","IMP",155.68,155.68]
[2657,"BANNISTER","Simon","M",1966,"MAS","ASR",null,75.36,75.36]
[31249,"BARKER","Duncan","M",2003,"U12","SSC","BSA",999.99,999.99]
[31021,"BARLOW","Benedict","M",1994,"U21","SSC",null,999.99,999.99]
[36628,"BARLOW","Robert","M",1954,"MAS","SSC",null,999.99,999.99]
[31115,"BARLOW","Xavier","M",1995,"U21","SSC",null,999.99,999.99]
[19639,"BARTON","Daniel","M",1998,"U18","HEM","HEM",43.11,49.25]
[19774,"BARTON","Dominic","M",2002,"U14","HEM","SMK",209.49,999.99]
[20302,"BASTOW","Milo","M",1997,"U18",null,"IMP",999.99,999.99]
[22202,"BAYLES","Sebastian","M",2004,"U12","SPR","SPR",999.99,999.99]
[19704,"BEARDMORE","Adam","M",1986,"SEN","MID",null,35.26,35.26]
[20974,"BEAVIS","Riley","M",2002,"U14",null,"BSA",999.99,999.99]
[31543,"BECK","Ben","M",2003,"U12","LSR",null,999.99,999.99]
[31355,"BECK","Zak","M",2001,"U14","LSR",null,500.98,389.87]
[14940,"BECKETT","David","M",1960,"MAS","NOR",null,185.05,185.05]
[20712,"BEER","Lawrence","M",1998,"U18","RAV",null,71.34,71.34]
[21628,"BEGG","Alistair","M",2001,"U14","MSR","MSR",279.41000000000003,340.49]
[18704,"BEGG","Callum","M",1997,"U18","MSR","TEL",54.33,54.33]
[21713,"BEGLIN","Thomas","M",2004,"U12","HEM","BRS",999.99,999.99]
[22138,"BELLAMY","Edward","M",1987,"SEN","NOR","NOR",999.99,257.67]
[19683,"BENNETT","Elliott","M",2003,"U12","LIO","LIO",999.99,999.99]
[22186,"BENNETT","Harry","M",2004,"U12",null,"HEM",999.99,999.99]
[19070,"BENNETT","Russell","M",1973,"MAS","LIO","LIO",999.99,999.99]
[21224,"BENNION","James","M",1997,"U18","GLO",null,306.93,306.93]
[19208,"BERGLINDARSON","Kristofer","M",2000,"U16","MSR","MSR",65.53,104.71]
[31233,"BEVERIDGE","Jamie","M",2000,"U16","LSR",null,433.96,433.96]
[21189,"BIGGS","Saul","M",1998,"U18","FLK",null,94.62,77.88]
[19854,"BINGHAM","Jonathan","M",1999,"U16","ESX","SAS",74.23,74.489999999999995]
[19855,"BINGHAM","Nicholas","M",2002,"U14","ESX","SAS",161.81,135.28]
[30909,"BINGHAM","Sion","M",1997,"U18","SSC","STC",158.87,201.69]
[18917,"BINGLE-WILLIAMS","Christian","M",1998,"U18",null,"K",999.99,999.99]
[20997,"BIRAN","Itamar","M",1998,"U18",null,null,999.99,999.99]
[18638,"BISHOP","Angus","M",1995,"U21","SHK","LIO",195.79,195.79]
[21728,"BISHOP","Julian","M",1968,"MAS","RAV",null,372.62,294.60000000000002]
[21555,"BLACK","Callum","M",2004,"U12","AVO","AVO",999.99,999.99]
[19585,"BLACK","Oliver","M",2001,"U14","PPS","DRA",151.69999999999999,153.69999999999999]
[19394,"BLACK","Philip","M",1969,"MAS","SHK","SHK",999.99,999.99]
[20851,"BLOOM","Adam","M",1973,"MAS","WCS","GLO",100.85,88.74]
[20852,"BLOOM","Ryan","M",2001,"U14","WCS","GLO",136.66,117.79]
[31461,"BOLAM","John","M",1955,"MAS",null,null,999.99,999.99]
[41930,"BOLGER","Enda","M",1997,"U18","SCI",null,156.57,156.57]
[41967,"BONNINGTON","Chay","M",2005,"U10",null,"DRA",999.99,999.99]
[31041,"BOOTH","Harris","M",1997,"U18","BSC",null,999.99,999.99]
[19713,"BOTY","Harry","M",1997,"U18","HEM","ELI",69.760000000000005,88.66]
[31051,"BOW","Brandon","M",2001,"U14","BSC",null,999.99,999.99]
[19565,"BOWERS","Dieter","M",1996,"U21","TEL",null,120.04,120.04]
[41781,"BOWYER","Andy","M",1964,"MAS","OVL",null,999.99,999.99]
[19685,"BRADFORD-SMITH","George","M",1994,"U21","ASR",null,223.89,223.89]
[19686,"BRADFORD-SMITH","Jack","M",1996,"U21","ASR",null,69.319999999999993,64.819999999999993]
[21891,"BRANDT","Orlando","M",2001,"U14",null,"DHO",999.99,999.99]
[31531,"BRAWLEY","Patrick","M",2000,"U16","GSR",null,345.08,410.87]
[20586,"BRAY","Michael","M",1985,"SEN",null,null,999.99,999.99]
[14391,"BREESE","Ashley","M",1996,"U21",null,null,4,11.72]
[17963,"BREESE","Nathan","M",1999,"U16",null,null,89.86,93.27]
[21203,"BREESE","Thomas","M",2003,"U12","TEL",null,999.99,999.99]
[31309,"BREMNER","Alexander","M",2001,"U14",null,null,450.75,450.75]
[31271,"BREMNER","Fin","M",1999,"U16","ASC",null,999.99,999.99]
[36590,"BREMNER","Keilan","M",2003,"U12","ASC",null,999.99,999.99]
[21218,"BRESKAL","Bailey","M",1998,"U18","WGC",null,156.33000000000001,156.33000000000001]
[20143,"BRIDGE","Dominic","M",2001,"U14","LIO","LIO",94.2,97.67]
[20144,"BRIDGE","Oliver","M",1999,"U16","LIO","LIO",62.35,69.22]
[17332,"BROOKES","Philip","M",1993,"SEN",null,"SAS",225.18,225.18]
[20193,"BROWN","Cameron","M",1998,"U18","PPS","DRA",51.07,51.07]
[31481,"BROWN","Cameron","M",2003,"U12","GDN",null,999.99,999.99]
[31132,"BROWN","Harry","M",1999,"U16","SSC",null,688.45,688.45]
[19083,"BROWN","Jack","M",1995,"U21","GLO","FLK",53.19,53.19]
[41984,"BROWN","Jack","M",2001,"U14","SCI",null,323.95999999999998,323.95999999999998]
[30830,"BROWN","Jamie","M",1996,"U21","GDN","ASC",271.08999999999997,271.08999999999997]
[20338,"BROWN","Jamie","M",1999,"U16",null,null,999.99,999.99]
[22125,"BROWN","Joseph","M",2004,"U12","LIO","LIO",999.99,999.99]
[2743,"BROWN","Phil","M",1966,"MAS","HEM","IMP",216.42,216.42]
[31014,"BROWN","Rhys","M",1995,"U21","SSC",null,205.33,205.33]
[31290,"BROWN","Rory","M",1997,"U18","GDN",null,999.99,999.99]
[19084,"BROWN","Thomas","M",1998,"U18","CHT","FLK",212.61,212.61]
[22129,"BRUNO","Benjamin","M",1999,"U16",null,null,999.99,999.99]
[12584,"BRUTON","Peter","M",1989,"SEN",null,null,10.73,16.45]
[30906,"BUCHAN","Fraser","M",1997,"U18","BSA","SSC",72.14,72.14]
[30811,"BUCHAN","Murray","M",1991,"SEN",null,null,999.99,999.99]
[30919,"BUCHAN","Scott","M",1999,"U16","SSC","BSA",129.37,136.61000000000001]
[17380,"BUCHWISER","Lawrence","M",1995,"U21",null,null,999.99,999.99]
[36674,"BUDGE","Andrew","M",2000,"U16","ASC",null,999.99,999.99]
[14871,"BULLEN","Robert","M",1989,"SEN",null,"K",999.99,999.99]
[21063,"BULLIVANT","Peter","M",2000,"U16","BOW","BSA",999.99,999.99]
[10596,"BUNTON","Paul","M",1963,"MAS","CHT","CHT",122.87,106.38]
[21649,"BUNTON","Ryan","M",2005,"U10","CHT",null,999.99,999.99]
[31479,"BURKE","Luke","M",2004,"U12","GSR",null,999.99,999.99]
[31339,"BURROW","Gregor","M",2002,"U14","LSR",null,999.99,323.32]
[19755,"BURTON","Lucas","M",2000,"U16",null,null,999.99,999.99]
[21411,"BUTLER","Simon","M",1962,"MAS",null,"HEM",999.99,999.99]
[41721,"BUTTERWORTH","Daniel","M",1996,"U21","WWS","DRA",66.430000000000007,66.430000000000007]
[22001,"BUTTERWORTH","Samuel","M",2001,"U14","PND",null,999.99,193.83]
[41719,"BUTTERWORTH","Thomas","M",2002,"U14","WWS","DRA",261.33999999999997,139.37]
[31338,"CALDER","Lewis","M",2006,"U10",null,null,999.99,999.99]
[31337,"CALDER","Struan","M",2004,"U12",null,null,999.99,999.99]
[20832,"CALDWELL","Patrick","M",2000,"U16","HEM","EVO",116.47,132.02000000000001]
[14261,"CALVERT","John","M",1949,"MAS","ASR","ALD",344.67,265.04000000000002]
[12802,"CALVERT","Peter","M",1988,"SEN","ASR",null,41.11,41.11]
[31039,"CAMERON","Alasdair","M",1995,"U21","LSR",null,165.79,157.27000000000001]
[31364,"CAMERON","Rory","M",2002,"U14","ASC",null,999.99,999.99]
[30793,"CAMPBELL","Andrew","M",1995,"U21","GDN",null,271.7,271.7]
[31510,"CAMPBELL","Frederick","M",2003,"U12","LSR",null,999.99,999.99]
[31230,"CAMPBELL","Graeme","M",2000,"U16","GDN",null,999.99,999.99]
[21108,"CAMPBELL","Harvey","M",2003,"U12","TEL",null,999.99,999.99]
[30912,"CAMPBELL","Iain","M",1997,"U18","GDN",null,334.53,334.53]
[36603,"CAMPBELL","Oliver","M",2003,"U12","GSR",null,999.99,999.99]
[21766,"CARDON","Casey","M",1997,"U18",null,null,999.99,999.99]
[20590,"CARE","James","M",2002,"U14","MID",null,999.99,398.04]
[21577,"CAREY","Joshua","M",2000,"U16",null,"SZR",999.99,999.99]
[21576,"CAREY","Matthew","M",1998,"U18",null,"SZR",999.99,999.99]
[31154,"CARRUTHERS","Harry","M",1999,"U16","SSC","LSR",127.07,127.07]
[21107,"CARSON","Sam","M",1999,"U16","PPS","DRA",58.07,78.459999999999994]
[19196,"CASE","George","M",2001,"U14","AVO","BSA",999.99,188.5]
[20262,"CASE","Toby","M",2002,"U14","HEM","ASR",98.02,82.18]
[41990,"CASHMORE","Edward","M",2001,"U14","EXD","DRA",225.45,217.58]
[41991,"CASHMORE","William","M",1998,"U18","EXD","DRA",243.43,205.03]
[20695,"CATLIN","Osian","M",2005,"U10","SMK",null,999.99,999.99]
[18327,"CAVANAGH","Matthew","M",1996,"U21","DHO","MSR",136.97,136.97]
[20215,"CAWTHORNE","Harry","M",1999,"U16","TOQ","BSA",138.72,129.34]
[20216,"CAWTHORNE","Louis","M",2000,"U16","TOQ","BSA",133.80000000000001,114.83]
[638,"CAXTON","Martin","M",1955,"MAS","ESX",null,999.99,999.99]
[17202,"CHAJECKI","Alexander","M",1991,"SEN",null,null,999.99,999.99]
[17201,"CHAJECKI","Julian","M",1993,"SEN",null,null,140.94999999999999,999.99]
[19421,"CHAJECKI","Sebastian","M",1997,"U18","BSA","BSA",999.99,999.99]
[17591,"CHALKLEY","Oliver","M",1996,"U21",null,null,89.06,89.06]
[31067,"CHAMBET","Tom","M",2000,"U16","SSC",null,999.99,999.99]
[20239,"CHAMPION","Ben","M",1993,"SEN","CHT",null,110.46,65.510000000000005]
[22191,"CHAMPION","Benjamin","M",2005,"U10","TSD",null,999.99,999.99]
[21712,"CHAPLIN","Brendon","M",1996,"U21","BRS","HEM",297.33,297.33]
[21269,"CHAPMAN","David","M",1976,"MAS","TSD","TSD",999.99,999.99]
[18674,"CHAPMAN","Euan","M",1997,"U18","ASR","ASR",57.61,57.61]
[12254,"CHAPMAN","Iain","M",1982,"MAS","VIK","VIK",999.99,999.99]
[19993,"CHAPMAN","Lloyd","M",1999,"U16","SZR","SZR",73.16,83.91]
[21191,"CHARLTON","Ben","M",1997,"U18","RAV",null,113.48,97.39]
[22072,"CHARLTON","Harvey","M",1998,"U18","ASR",null,999.99,81.53]
[21985,"CHERMETTE","Basile","M",1999,"U16",null,null,999.99,999.99]
[21923,"CHERRY","Tom","M",1996,"U21","HEM","DHO",999.99,999.99]
[21922,"CHOHAN","Zacariya","M",2005,"U10","DHO","DHO",999.99,999.99]
[31097,"CHRISTEY","David","M",1999,"U16","BSA","MUC",224.95,224.95]
[31098,"CHRISTEY","Joe","M",2002,"U14","BSA","MUC",999.99,999.99]
[21480,"CHRISTOV","Jonathan","M",2001,"U14","SPR","SPR",999.99,999.99]
[9694,"CLARK","Benjamin","M",1985,"SEN","BRO","K",27.87,21.74]
[22076,"CLARKE","Alec","M",2004,"U12","HEM","HEM",999.99,999.99]
[8713,"CLARKE","Christopher","M",1959,"MAS","HEM","SAS",340.2,358.49]
[22077,"CLARKE","Conall","M",2006,"U10","HEM","HEM",999.99,999.99]
[21260,"CLARKE","Edward","M",2000,"U16","HEM","SMK",140.09,201.1]
[31220,"CLARKE","Liam","M",1999,"U16","SSC",null,272.83999999999997,272.83999999999997]
[20293,"CLAYTON","Adam","M",1996,"U21","NOR",null,82.16,82.16]
[31404,"CLUGNET","James","M",1996,"U21","HIG",null,999.99,999.99]
[31564,"CLYDE","Sam","M",2003,"U12","LSR",null,999.99,999.99]
[21156,"COATES","Joseph","M",2000,"U16","PPS","DRA",181.71,181.71]
[31137,"COHN","Antony","M",1998,"U18","BSC",null,145.79,145.79]
[20568,"COLEMAN","Arthur","M",1999,"U16","K","K",999.99,999.99]
[20353,"COLLEY","James","M",2001,"U14","SPR","SPR",999.99,999.99]
[20651,"COLLIER","Harry","M",2002,"U14","MSR","SZR",194.93,999.99]
[41973,"COLUMB","Cameron","M",1999,"U16","SCI",null,187.32,365.56]
[42036,"COLUMB","Nathan","M",2001,"U14","SCI",null,266.91000000000003,999.99]
[20167,"COMELIO","Sebastian","M",2002,"U14","AVO","DHO",999.99,999.99]
[42033,"COMPTON","Joseph","M",2005,"U10","CAR",null,999.99,999.99]
[18571,"CONDE","Jamie","M",1992,"SEN","TEL","TEL",69.709999999999994,69.709999999999994]
[17493,"CONNERY","Kali","M",1996,"U21",null,null,804,804]
[41735,"CONSTANTINE","Benjamin","M",2003,"U12","CAR","DRA",999.99,999.99]
[41710,"CONSTANTINE","Joseph","M",2000,"U16","CAR","DRA",122.82,123.51]
[21258,"COOK","Alastair","M",2003,"U12","GLO",null,999.99,999.99]
[21255,"COOK","James","M",2002,"U14","GLO",null,999.99,269.08999999999997]
[22177,"COOK","Joshua","M",2005,"U10","CHT",null,999.99,999.99]
[19629,"COOPER","Jordan","M",1999,"U16","SAS","SAS",177.78,177.78]
[21146,"COOPER","Morgan","M",1998,"U18","PND",null,153.77000000000001,112.21]
[22163,"COOPER-WALKER","Josef","M",2000,"U16","AVO",null,999.99,999.99]
[19170,"CORR","Christopher","M",1995,"U21","PND",null,6.38,5.98]
[21625,"CORR","David","M",1998,"U18","PND",null,285.64999999999998,234.56]
[20841,"CORRIGAN","Paul","M",2001,"U14","SPR","SPR",999.99,999.99]
[31325,"CORRY","Matt","M",1997,"U18","BSC",null,999.99,999.99]
[20165,"COSHAM","Harry","M",2003,"U12","SZR","SZR",999.99,999.99]
[22216,"COTTAM","Bill","M",1994,"U21",null,null,999.99,999.99]
[21973,"CRANE-ROBINSON","Theo","M",2001,"U14",null,null,999.99,999.99]
[30100,"CRAWFORD","Douglas","M",1987,"SEN","BSC",null,929.76,929.76]
[41938,"CRIDDLE","Isaac","M",2000,"U16","CAR",null,214.53,188.28]
[41988,"CRIDDLE","Ollie","M",2004,"U12","CAR",null,999.99,999.99]
[31025,"CROCKART","Tom","M",2000,"U16","SSC","BSA",176.66,176.66]
[5666,"CROMBLEHOLME","Roger","M",1957,"MAS","MID","TEL",120.35,120.35]
[31380,"CROOK","Andrew","M",1998,"U18","SSC",null,249.53,246.13]
[31068,"CROSS","Jack","M",1998,"U18","SSC","BSA",339.12,339.12]
[20927,"CRUTCHFIELD","Eliot","M",2003,"U12","SPR","SPR",999.99,999.99]
[30384,"CRUZ-MERMY","Alistair","M",1984,"MAS","STC",null,999.99,999.99]
[21651,"CULSHAW","Daniel","M",1997,"U18","PND",null,209.84,179.15]
[20633,"CUNNINGHAM","Jake","M",2002,"U14","TOQ","BSA",999.99,999.99]
[31106,"CUNNINGHAM","Kyle","M",1996,"U21","BSC",null,287.86,287.86]
[21300,"CURRAN","John","M",1966,"MAS","LIO","LIO",231.62,999.99]
[36615,"CURRIE","Fergus","M",2005,"U10","BSC","GSC",999.99,999.99]
[36616,"CURRIE","Findlay","M",2001,"U14","BSC","GSC",999.99,999.99]
[12797,"CURTIS","Daniel","M",1991,"SEN","ESX","K",33.56,33.56]
[19696,"CUTHBERT","Daryl","M",1996,"U21","VIK",null,213.43,201.01]
[22059,"DADE","Jake","M",2006,"U10","NOR","NOR",999.99,999.99]
[20748,"DADE","Tommy","M",2003,"U12","NOR","AMB",999.99,999.99]
[21976,"DALE-JONES","Jago","M",2004,"U12",null,null,999.99,999.99]
[21977,"DALE-JONES","Mack","M",2006,"U10",null,null,999.99,999.99]
[31398,"DALZIEL","James","M",1999,"U16","SSC",null,999.99,999.99]
[31515,"DALZIEL","Tom","M",2004,"U12","LSR",null,999.99,999.99]
[31348,"DALZIEL","William","M",2001,"U14","LSR","SSC",176.35,176.35]
[17351,"DANNATT","Tim","M",1994,"U21","GLO","DRA",65,65]
[19684,"DANNS","Jack","M",1992,"SEN","LSU","SAS",88.66,69.78]
[19733,"DAVEY","Joseph","M",2000,"U16","SPR","SPR",101.82,118.11]
[21152,"DAVEY","Nathan","M",2001,"U14","LIO","LIO",189.77,257.19]
[21750,"DAVEY","Tarran","M",2000,"U16","PLY",null,266.29000000000002,144.61000000000001]
[31162,"DAVIDSON-MCQUEEN","Ramsay","M",1999,"U16","LSR",null,434.48,434.48]
[41831,"DAVIES","Alex","M",2002,"U14","CAR","AMB",205.28,999.99]
[21120,"DAVIES","Ben","M",1995,"U21","NOR",null,65.97,65.97]
[18256,"DAVIES","Finlay","M",1999,"U16","HEM","SMK",49.03,89.68]
[21119,"DAVIES","Harry","M",1999,"U16","NOR",null,112.44,99.51]
[41702,"DAVIES","Jonathan","M",1974,"MAS","TOR",null,464.29,464.29]
[20554,"DAVIES","Morgan","M",1999,"U16","HEM","IMP",223.81,223.81]
[21048,"DAVIES","Oliver","M",1997,"U18",null,null,999.99,999.99]
[14927,"DAVIES","Peter","M",1993,"SEN","ASR",null,90.28,90.28]
[20311,"DAVIS","Ethan","M",2001,"U14","KF","KF",999.99,999.99]
[18347,"DAVIS","George","M",1995,"U21",null,null,27.59,33.78]
[18346,"DAVIS","Matthew","M",1998,"U18",null,null,55.84,55.84]
[22016,"DAVIS","Matthew","M",1999,"U16",null,null,999.99,999.99]
[12400,"DAWSON","Andrew","M",1965,"MAS","OVL",null,304.49,304.49]
[22065,"DAY","Richard","M",1977,"MAS","SZR","SZR",255.03,999.99]
[21743,"DE BOER","Nicholas","M",2000,"U16","SPR","SPR",999.99,999.99]
[41918,"DE DECKER","Carrig","M",1998,"U18","SCI",null,133.97,231.53]
[18610,"DEAKIN","William","M",1991,"SEN","FLK",null,28.84,28.84]
[21827,"DEEM","Charles","M",2005,"U10","TEL","TEL",999.99,999.99]
[19363,"DEIGHTON","Harry","M",2000,"U16","HEM","BSA",98.2,98.2]
[19361,"DEIGHTON","Oliver","M",1997,"U18","HEM","IMP",79.209999999999994,79.209999999999994]
[19362,"DEIGHTON","Toby","M",1999,"U16","HEM","AMB",104.13,104.13]
[17039,"DELLER","Philip","M",1959,"MAS","MID",null,780.34,780.34]
[19273,"DENDLE","George","M",2000,"U16","SPR","SPR",219.05,292.47000000000003]
[20315,"DERU","Joshua","M",1996,"U21",null,"DHO",999.99,999.99]
[20846,"DEWISON","Samuel","M",1998,"U18","MID","MID",119.86,103.46]
[19738,"DEWULF-PETERS","Oliver","M",1994,"U21","NOR",null,301.87,301.87]
[21406,"DEYKIN","Sebastian","M",1998,"U18","SPR",null,999.99,999.99]
[31182,"DICKSON","Bailey","M",2000,"U16","GSR",null,105.26,129.83000000000001]
[30832,"DICKSON","Graham","M",1996,"U21","GSR","SSC",31.18,36.01]
[31467,"DICKSON","Jamie","M",2001,"U14","CSC",null,999.99,999.99]
[31032,"DILLON","Grant","M",1997,"U18","SSC",null,131.29,131.29]
[21533,"DINGLE","Dominic","M",1996,"U21",null,"DHO",999.99,999.99]
[21532,"DINGLE","Timothy","M",1998,"U18",null,"DHO",999.99,999.99]
[36626,"DISCOMBE","Lewis","M",2002,"U14","BSC",null,999.99,214.38]
[31259,"DISCOMBE","Ross","M",1998,"U18","BSC",null,192.09,202.09]
[31550,"DIVERS","Martin","M",1980,"MAS",null,null,999.99,999.99]
[20603,"DIXON","Rory","M",1999,"U16","EVO","EVO",322.79000000000002,322.79000000000002]
[21642,"DOCKRY","Ben","M",2002,"U14","MSR","MSR",425.5,497.65]
[21643,"DOCKRY","Daniel","M",2006,"U10","MSR","MSR",999.99,999.99]
[31458,"DOHERTY","Lewis","M",1997,"U18","BSC",null,999.99,999.99]
[19572,"DOHERTY","Samuel","M",1999,"U16","MID",null,257.08999999999997,257.08999999999997]
[31289,"DONALD","Daniel","M",1999,"U16","CSC",null,999.99,999.99]
[36661,"DORFMAN","Robert","M",1998,"U18","GSC",null,999.99,999.99]
[31413,"DORREN","Donald","M",2001,"U14","LSR",null,420.99,287.01]
[41608,"DOYLE","Eoin","M",1997,"U18","SCI",null,68.69,68.69]
[20815,"DOYLE","Harrison","M",2000,"U16","DHO","DHO",999.99,999.99]
[19524,"DOYLE","Jake","M",2001,"U14","BSA","BSA",999.99,999.99]
[10641,"DRAKE","Edward","M",1986,"SEN",null,"K",116.77,116.77]
[21226,"DRAKE","Joshua","M",2002,"U14",null,"SMK",999.99,999.99]
[21860,"DRUMMOND","Thomas","M",1998,"U18",null,"IMP",999.99,999.99]
[12318,"DU PLESSIS","Andrew","M",1985,"SEN","MID","DHO",23.04,23.04]
[12317,"DU PLESSIS","Stephen","M",1987,"SEN",null,"DHO",999.99,999.99]
[31361,"D'ULISSE","Ben","M",2000,"U16","SSC",null,999.99,999.99]
[31470,"DUNCAN","Rory","M",1999,"U16","CSC",null,999.99,999.99]
[36608,"DUNCAN","Ruaraidh","M",2001,"U14","SSC","GDN",999.99,999.99]
[18246,"DUNHILL","Harry","M",1992,"SEN",null,"DHO",999.99,999.99]
[20277,"DUNION","Jamie","M",1999,"U16","SZR","SZR",262.45999999999998,262.45999999999998]
[31520,"DUNN","Liam","M",2000,"U16","LSR",null,999.99,999.99]
[20572,"DUNNE","Mikey","M",2002,"U14","SRR","SCM",194.78,999.99]
[20921,"DURANT","Richard","M",1967,"MAS","SUF",null,202.37,191.63]
[20142,"EATON","Oliver","M",1996,"U21","AMB","AMB",115.42,115.42]
[10040,"EAVES","David","M",1967,"MAS","PND",null,401.52,401.52]
[19048,"EAVES","Jonathan","M",1998,"U18","PND",null,132.28,102.89]
[22025,"EDWARDES","Henry","M",1993,"SEN","HEM","HEM",999.99,999.99]
[22010,"EDWARDS","Oliver","M",2005,"U10",null,"S2R",999.99,999.99]
[21908,"EDWARDS","William","M",2005,"U10","MSR",null,999.99,999.99]
[19166,"ELGY","James","M",1993,"SEN","MID",null,166.36,166.36]
[19164,"ELGY","John","M",1951,"MAS","MID",null,332.56,332.56]
[21552,"ELLIS","Hamish","M",2002,"U14",null,null,999.99,999.99]
[21666,"ELLIS","Lucas","M",2004,"U12","LIO","LIO",999.99,999.99]
[19756,"ELLISS","Harry","M",2000,"U16","SPR","SPR",999.99,999.99]
[19295,"ELLISS","Jack","M",1997,"U18","SPR","AMB",999.99,999.99]
[19276,"EMERY","Jacob","M",2001,"U14","SZR","SZR",195.55,195.55]
[21084,"EMMERSON","Philip","M",1990,"SEN","MID",null,57.73,42.32]
[20913,"EPERON","Harrison","M",2002,"U14","SPR","SPR",999.99,999.99]
[22142,"ERRINGTON","Farne","M",1997,"U18","SHK","SHK",381.19,999.99]
[31539,"ETRI","Alim","M",1999,"U16",null,null,349.3,349.3]
[31538,"ETRI","Aymen","M",1999,"U16",null,null,999.99,999.99]
[42032,"EVANS","Edward","M",2004,"U12","NW",null,999.99,999.99]
[41565,"EVANS","Emile","M",1996,"U21","CAR","IMP",31.94,31.94]
[41985,"EVANS","Harrison","M",2000,"U16","SAS",null,210.67,188]
[42026,"EVANS","Jac","M",2002,"U14","NW",null,999.99,999.99]
[6383,"EVERITT","Simon","M",1964,"MAS","BOW",null,348.93,348.93]
[22088,"FAIRFULL","Max","M",2003,"U12","HEM","HEM",999.99,999.99]
[31133,"FARQUHARSON","Hamish","M",1999,"U16","BRM",null,999.99,999.99]
[18916,"FARR","Oliver","M",1995,"U21","PPS","DRA",29.16,34.03]
[19544,"FARRELL","Jan","M",1983,"MAS",null,null,999.99,999.99]
[19633,"FARREN","Claude","M",1971,"MAS","RAV","RAV",59.4,59.4]
[19089,"FARREN","Rory","M",1998,"U18","RAV","RAV",36.24,35.06]
[21542,"FAWKE","Tim","M",1976,"MAS","ALD",null,999.99,999.99]
[17513,"FELLOWS","Jordan","M",1997,"U18","TEL","BSA",11.46,12.91]
[20640,"FENELEY","Jack","M",2002,"U14","PND",null,999.99,153.63999999999999]
[18810,"FENELEY","Luke","M",1997,"U18","NOR","BSA",69.23,69.23]
[18809,"FENELEY","William","M",1999,"U16","NOR","BSA",148.16,148.16]
[22157,"FERGUSON","Ian","M",1960,"MAS",null,null,999.99,999.99]
[30965,"FERRIER","Kieran","M",1997,"U18","GSR","SSC",102.05,102.05]
[19728,"FIORI","Haydyn","M",2001,"U14",null,null,999.99,999.99]
[20836,"FISHER","Edward","M",1999,"U16","SZR","SZR",999.99,999.99]
[20837,"FISHER","George","M",2003,"U12","SZR","SZR",999.99,999.99]
[22040,"FISHER","William","M",2000,"U16",null,"MSR",276.22000000000003,999.99]
[17126,"FITZPATRICK","Alexander","M",1994,"U21",null,"IMP",77.7,863.19]
[31278,"FITZPATRICK","Jimmy","M",2000,"U16","GSR",null,151.97,151.97]
[22211,"FITZSIMMONS","Rupert","M",1996,"U21",null,null,999.99,999.99]
[21623,"FITZSIMMONS","Tobias","M",1999,"U16","ASR",null,691.71,691.71]
[41481,"FLAHIVE","Gerard","M",1992,"SEN","LSU","IMP",7.13,7.13]
[13289,"FLAHIVE","Niall","M",1993,"SEN","HEM","IMP",86.99,86.99]
[31090,"FLEMING","Iain","M",1997,"U18","SSC",null,202.1,202.1]
[31516,"FLOCKHART","Ben","M",2003,"U12","LSR",null,999.99,999.99]
[36650,"FLOCKHART","Jack","M",2005,"U10","LSR",null,999.99,999.99]
[31029,"FLOCKHART","Sam","M",1998,"U18","LSR",null,253.4,253.4]
[41993,"FLUCK","Adam","M",2001,"U14","SPR","SPR",167.02,256.11]
[41852,"FLUCK","Benjamin","M",1996,"U21","SPR",null,87.85,87.85]
[22019,"FORD","John","M",1987,"SEN","AVO","AVO",999.99,999.99]
[21169,"FOWLES","James","M",1999,"U16","FLK",null,167.1,114.23]
[21168,"FOWLES","Luke","M",2002,"U14","FLK",null,339.79,999.99]
[36664,"FRASER","Murdo","M",2002,"U14","LSR",null,999.99,999.99]
[31551,"FRASER","Rory","M",2003,"U12","LSR",null,999.99,999.99]
[13838,"FRASER HAFTER","Fergus","M",1992,"SEN","DRA","DRA",448.5,448.5]
[11570,"FREEMAN","Edward","M",1989,"SEN","LIO","LIO",39.700000000000003,153.91]
[17336,"FRENCH","James","M",1992,"SEN",null,"K",999.99,999.99]
[20677,"FROST","Joey","M",1995,"U21","MID",null,127.79,127.79]
[21904,"FROST","Joshua","M",1998,"U18","SPR","SPR",999.99,999.99]
[21373,"FRY","Bradley","M",2005,"U10","FF","FF",999.99,999.99]
[20615,"FRYERS","Toby","M",2002,"U14","SPR","SPR",999.99,999.99]
[14404,"FYNN","Tarn","M",1994,"U21",null,null,672,672]
[20487,"GADZHUROV","Marko","M",1966,"MAS","SAS",null,999.99,999.99]
[41877,"GALE","Rhodri","M",1999,"U16","MSR","DRA",74.11,81.77]
[31216,"GALLOWAY","Drew","M",2000,"U16","MUC",null,263.73,242.15]
[31105,"GALLOWAY","Duncan","M",1996,"U21",null,"SSC",124.18,124.18]
[30854,"GARVIE","Scott","M",1996,"U21","GDN",null,999.99,999.99]
[17701,"GASH","Morgan","M",1999,"U16","SAS","PSC",114.43,131.57]
[19671,"GASH","Peter","M",1956,"MAS","SAS","SAS",270.86,419.66]
[12522,"GASH","Richard","M",1991,"SEN","SAS","SAS",73.239999999999995,73.239999999999995]
[19638,"GASKIN","Sam","M",2000,"U16","BRO","K",306.05,306.05]
[31384,"GEEKIE","Alexander","M",2001,"U14","ASC",null,233.87,293.01]
[20684,"GENTHER","Joshua","M",1998,"U18","SZR","SZR",108.93,115.55]
[36673,"GENTLE","Fynn","M",2000,"U16","ASC",null,999.99,999.99]
[21076,"GEORGEL","Robert","M",1996,"U21","BRO",null,323.31,323.31]
[21469,"GERRETT","Sam","M",1988,"SEN",null,null,999.99,999.99]
[12123,"GEYER","Jai","M",1990,"SEN","TOQ","TOQ",25.77,42.13]
[36591,"GIBB","Arran","M",2003,"U12","ASC",null,999.99,999.99]
[31546,"GIBB","Duncan","M",1997,"U18","HNC",null,999.99,999.99]
[31142,"GIBB","Matthew","M",1997,"U18","LSR",null,283.04000000000002,283.04000000000002]
[19153,"GIBBINS","Joseph","M",1998,"U18","HEM","BSA",208.1,208.1]
[21612,"GIBBS","Jack","M",2001,"U14","ASR",null,269.41000000000003,247.48]
[21004,"GIBBS","James","M",1998,"U18","ASR",null,179.46,108.73]
[31324,"GIBSON","Cameron","M",2001,"U14","GSR","LSR",175.63,217.48]
[30349,"GIBSON","Gordon","M",1990,"SEN","SSC",null,103.36,103.36]
[22203,"GILES","Daniel","M",2003,"U12","MID",null,999.99,999.99]
[31542,"GILFILLAN","Charlie","M",2001,"U14","LSR",null,999.99,999.99]
[21529,"GILKINSON","Jake","M",1995,"U21",null,"DHO",999.99,999.99]
[20880,"GILLETT","James","M",2002,"U14","SPR","SPR",999.99,999.99]
[31374,"GILLIES","John","M",1999,"U16","SSC",null,557.61,557.61]
[36655,"GILLIES","Stuart","M",1970,"MAS","SFR",null,165.49,999.99]
[17515,"GIRLING","Kirran","M",1997,"U18","TEL","TEL",33.979999999999997,33.979999999999997]
[31117,"GLASGOW","Peter","M",1994,"U21","SSC",null,48.1,48.1]
[21359,"GLOVER","Wiliam","M",1998,"U18","PND","PND",184.03,184.03]
[22219,"GODBOLD","Owen","M",1999,"U16","NFS",null,999.99,999.99]
[20108,"GODDARD","Thomas","M",1996,"U21","SUF",null,206.45,206.45]
[18816,"GOLDSWORTHY","Richard","M",1995,"U21","SMK","SMK",56.27,56.27]
[31150,"GOODLAD","Finlay","M",1998,"U18","LSR",null,224.3,264.86]
[31560,"GOODMAN","Matthew","M",2003,"U12","SSC",null,999.99,999.99]
[31559,"GOODMAN","Thomas","M",2001,"U14","SSC",null,999.99,999.99]
[21820,"GOODRIDGE","Rory","M",1998,"U18",null,null,226.44,206.86]
[20376,"GOSS","Alfie","M",1999,"U16","HEM","HEM",120.82,572.45000000000005]
[21650,"GOTTS","Joey","M",1987,"SEN","BRO","BRO",153.33000000000001,153.33000000000001]
[20779,"GOULD","David","M",1963,"MAS","OVL","OVL",999.99,999.99]
[17532,"GOWER","Jack","M",1994,"U21","SPR","SPR",120.26,999.99]
[17533,"GOWER","Rory","M",1996,"U21","SPR","SPR",322.62,999.99]
[21868,"GRAINGER","Christopher","M",1999,"U16","VIK","BSA",999.99,209.33]
[36618,"GRANT","Caolan","M",2002,"U14","GSR",null,999.99,999.99]
[14855,"GRANT","James","M",1994,"U21","LSU","HEM",24.53,24.53]
[36619,"GRANT","Taryn","M",2002,"U14","GSR",null,999.99,999.99]
[14856,"GRANT","Thomas","M",1996,"U21","HEM","HEM",33.01,33.729999999999997]
[31395,"GRAY","Stuart","M",1996,"U21","HNC",null,999.99,999.99]
[19122,"GREASBY","Richard","M",1969,"MAS","HEM",null,758.49,758.49]
[17002,"GREENFIELD","Hobie","M",1995,"U21","SAS","SAS",65.59,88.16]
[14809,"GREENFIELD","Max","M",1994,"U21","HEM","HEM",49.53,59.8]
[18049,"GREENFIELD","Nigel","M",1962,"MAS","SAS","SAS",274.58999999999997,363.71]
[31102,"GREENSHIELDS","Andrew","M",1999,"U16","SSC","LSR",133.76,118.01]
[31243,"GREENSHIELDS","Duncan","M",2002,"U14","SSC","LSR",999.99,155.72999999999999]
[19632,"GREENWAY","Daniel","M",1998,"U18",null,"WM",132.62,164.21]
[19631,"GREENWAY","Thomas","M",2001,"U14",null,"WM",137.99,188.11]
[31475,"GRIEVE","Joe","M",2003,"U12","LSR",null,999.99,999.99]
[20816,"GROGAN","Max","M",2001,"U14","K","K",999.99,999.99]
[30921,"GUEST","Christopher","M",1997,"U18","BSA","SSC",989,989]
[42025,"GUIGONNET","Edouard","M",2001,"U14",null,null,999.99,999.99]
[30515,"GUNN","Cameron","M",1992,"SEN","SSC","LSR",55.96,55.96]
[41459,"GURNER","Samuel","M",1997,"U18","TOR",null,93.86,93.86]
[19379,"GUY","Edward","M",2001,"U14","TEL","MID",238.89,138.32]
[21875,"HADDEN","Alexander","M",2001,"U14","ESX","ELI",999.99,999.99]
[36646,"HADDEN","Campbell","M",2000,"U16","LSR",null,999.99,999.99]
[20719,"HADLEY","Daniel","M",2004,"U12","MID","SMK",999.99,999.99]
[21902,"HADLEY","Thomas","M",2000,"U16",null,"WM",999.99,999.99]
[21608,"HAIRE","Bradley","M",1998,"U18","ASR",null,999.99,999.99]
[41273,"HALES","Robert","M",1960,"MAS","CAR","DRA",61.58,55.31]
[41182,"HALES","Thomas","M",1990,"SEN","CAR","DRA",5.63,5.25]
[31234,"HALL","Adam","M",2000,"U16","ASC",null,263.83999999999997,297.10000000000002]
[31548,"HALL","Alistair","M",2003,"U12","ASC",null,426.58,426.58]
[31547,"HALL","Mark","M",1964,"MAS","ASC",null,999.99,999.99]
[20717,"HALLETT","Jacob","M",1999,"U16","PPS","DRA",84.87,97.97]
[31459,"HALLIDAY","Duncan","M",1985,"SEN","P3",null,999.99,999.99]
[31422,"HAMLETT-HALL","Samuel","M",1998,"U18",null,"SSC",338.15,338.15]
[20595,"HAMMOND","Max","M",1994,"U21","SOU","SOU",132.9,132.9]
[17037,"HANCOCK","David","M",1964,"MAS","MID","SMK",999.99,999.99]
[18616,"HANCOCK","Karl","M",1995,"U21","SMK",null,203.44,259.37]
[19013,"HANLON","George","M",1999,"U16","FPS","WM",143,140.1]
[41908,"HANNA","Jordan","M",1998,"U18","SCI","IMP",130.9,130.9]
[31333,"HANNAN","James","M",2001,"U14","LSR",null,287.01,287.01]
[21859,"HARDING","Felix","M",2001,"U14",null,null,999.99,999.99]
[31429,"HARPER","Callum","M",1998,"U18","LSR",null,434.07,434.07]
[21582,"HARPER","Thomas","M",2000,"U16","TEL",null,402.45,402.45]
[3940,"HARRISON","David","M",1984,"MAS",null,null,51.66,51.66]
[20976,"HARRISON","Samuel","M",2003,"U12",null,"LIO",999.99,999.99]
[21275,"HART","Benjamin","M",2003,"U12","SPR","SPR",999.99,999.99]
[22081,"HART","Michael","M",1997,"U18","SRR","SRR",999.99,999.99]
[21921,"HARVEY","Michael","M",2002,"U14","AVO","AVO",999.99,253.7]
[4777,"HATCHER","David","M",1985,"SEN","WCS",null,8.15,8.15]
[19163,"HAWKINS","Mark","M",1979,"MAS","MID",null,61.45,57.1]
[31311,"HAY","Adam","M",2001,"U14","SSC",null,226.4,211.73]
[19187,"HAY","Cameron","M",1999,"U16","SMK","BSA",261.19,999.99]
[19834,"HAY","Louis","M",2002,"U14","SMK","BSA",999.99,999.99]
[31452,"HAYWARD","Euan","M",1999,"U16","BSA","BSC",142.19999999999999,999.99]
[21075,"HEARD","Jake","M",1998,"U18","MID",null,999.99,999.99]
[5013,"HEATH","Peter","M",1944,"MAS","OVL",null,999.99,999.99]
[12972,"HEAVERSEDGE","Antony","M",1987,"SEN","SHK","DRA",48.53,999.99]
[19674,"HEDLEY","Benja","M",1977,"MAS",null,null,999.99,999.99]
[19125,"HEGINBOTHAM","Matthew","M",2000,"U16",null,"BSA",258.27,258.27]
[17078,"HELLIWELL","Steven","M",1994,"U21","LIO","LIO",29.37,89.54]
[19829,"HEMMING","Ethan","M",2001,"U14","MID","MID",150.21,114.45]
[30121,"HENDERSON","Callum","M",1989,"SEN","SSC",null,1.32,1.34]
[20181,"HENDERSON","Lucas","M",2003,"U12","SRR","AMB",999.99,999.99]
[30388,"HENDERSON","Paul","M",1995,"U21",null,"SSC",16.88,17.11]
[19160,"HENDERSON","Tom","M",1996,"U21","HEM","K",101.43,104.33]
[18729,"HENERY","David","M",1963,"MAS","SHK","LIO",386.87,386.87]
[20641,"HENERY","Robbie","M",1998,"U18","SHK","SZR",156.13,156.13]
[18862,"HENERY","Sam","M",1995,"U21","SHK","LIO",128.13999999999999,156.77000000000001]
[31432,"HERBERT","Calum","M",2001,"U14","BSC",null,251.3,251.3]
[41927,"HESLOP","Rory","M",1995,"U21",null,null,999.99,999.99]
[19857,"HETHERINGTON","George","M",1999,"U16","K","K",999.99,999.99]
[22017,"HETHERINGTON","Max","M",2004,"U12",null,"K",999.99,999.99]
[19856,"HETHERINGTON","Thomas","M",1995,"U21","K","K",999.99,999.99]
[31247,"HEWISON","Henry","M",2004,"U12","CSC",null,999.99,999.99]
[21886,"HILLMAN","Ben","M",2002,"U14",null,"BSA",999.99,999.99]
[21882,"HILLMAN","Luke","M",2001,"U14",null,"BSA",999.99,999.99]
[20544,"HINCHLIFFE","Jack","M",1997,"U18","PPS","LIO",99.25,99.25]
[21464,"HINTON","Marcus","M",2001,"U14","SPR","SPR",999.99,999.99]
[21854,"HINTON","Sam","M",2004,"U12","SPR","SPR",999.99,999.99]
[5370,"HJORT","Andrew","M",1965,"MAS","LIO","LIO",67.64,73.290000000000006]
[21975,"HOCKING","Alexander","M",1999,"U16","FPS",null,999.99,257.93]
[22046,"HODGE","Barnaby","M",2000,"U16",null,null,999.99,999.99]
[31486,"HODGSON","Ben","M",2001,"U14","GSR",null,999.99,999.99]
[41966,"HODSON","Steffan","M",2005,"U10","WWS","DRA",999.99,999.99]
[21907,"HOGAN","John","M",2000,"U16","BSA","BSA",999.99,999.99]
[20431,"HOLMES","John","M",1969,"MAS","PND",null,140.35,119.89]
[22220,"HOLMES","Peter","M",1966,"MAS","NOR",null,999.99,999.99]
[21097,"HOLMES","Robert","M",2002,"U14","PND",null,203.54,106.29]
[22166,"HOLMES","Thomas","M",1999,"U16","NOR",null,999.99,108.21]
[21726,"HOLT","Samuel","M",1995,"U21","BRS",null,303.75,203.88]
[22214,"HOOK","Kristian","M",1992,"SEN","ASR",null,999.99,76.73]
[41880,"HOPKINS","Harry","M",1999,"U16","CAR","DRA",155.06,155.06]
[36612,"HORNSBY","Duncan","M",2000,"U16","CSC",null,999.99,999.99]
[17356,"HORNSBY","Harry","M",1991,"SEN","MID","MID",5.41,5.28]
[41841,"HORTON","Sam","M",1996,"U21","WWS",null,195.56,195.56]
[18628,"HOUSTON","Samuel","M",1996,"U21","SHK",null,999.99,999.99]
[36617,"HOUSTOUN","Robert","M",1992,"SEN","STC",null,999.99,999.99]
[31373,"HOWARD-JOHNSTON","Philip","M",2001,"U14","SSC",null,999.99,999.99]
[21723,"HOWE","Charlie","M",2000,"U16","NOR",null,168.81,116.27]
[21387,"HUDDLESTON","David","M",1996,"U21","BAS",null,999.99,999.99]
[20481,"HUDSON","Thomas","M",2001,"U14","NOR","BSA",92.4,92.4]
[21050,"HUISMAN MURO","Kaylan","M",2003,"U12",null,"AMB",999.99,999.99]
[20766,"HUMPHREYS","Charles","M",2001,"U14","HEM","TEL",178.16,171.47]
[21644,"HUMPHREYS","George","M",2005,"U10",null,"MSR",999.99,999.99]
[10812,"HUNT","Georgie","M",1984,"MAS","HEM","EVO",5,7.27]
[31509,"HUNTER","Fraser","M",2003,"U12","LSR",null,999.99,999.99]
[30883,"HUNTINGTON","Calum","M",1995,"U21","SSC","BSA",989,989]
[19146,"HUPPACH","Declan","M",1999,"U16","PND",null,52.86,34.36]
[19458,"HUPPACH","Josef","M",2002,"U14","PND",null,112.2,88.7]
[22060,"HUTCHINGS","Daniel","M",2005,"U10","SAS","HEM",999.99,999.99]
[20328,"HUTTNER","Maximilian","M",1997,"U18","BRS","SPR",999.99,999.99]
[21654,"IMAMZADE","Murat","M",1982,"MAS","IMP","IMP",999.99,999.99]
[31031,"INNES","Iain","M",1998,"U18","SSC",null,182.26,182.26]
[31198,"INNES","Robbie","M",2000,"U16","SSC",null,406.94,406.94]
[36561,"IRONSIDE","Glen","M",1999,"U16",null,null,999.99,999.99]
[22209,"ISON","Sebastian","M",2000,"U16","HEM",null,999.99,999.99]
[31567,"JACK","Fraser","M",2001,"U14","ASC",null,999.99,999.99]
[19675,"JACKSON","Ian","M",1964,"MAS","RAV","RAV",67.989999999999995,67.989999999999995]
[31363,"JACOBS","Finlay","M",2002,"U14","ASC",null,999.99,999.99]
[31549,"JAMES","Richard","M",1965,"MAS",null,null,999.99,999.99]
[36636,"JAMIESON","Fraser","M",2002,"U14","GSR",null,999.99,999.99]
[31210,"JAMIESON","Ryan","M",1996,"U21",null,null,277.64,277.64]
[21708,"JAYARAJ","Jacob","M",2003,"U12",null,"HEM",999.99,999.99]
[41124,"JEAL","Alex","M",1990,"SEN","GLO","DRA",15.06,15.06]
[36671,"JENKINS","Kyle","M",1999,"U16","BSC",null,999.99,999.99]
[31024,"JENNINGS","Euan","M",1997,"U18","LSR","SSC",586.27,586.27]
[31023,"JENNINGS","Sandy","M",1995,"U21","LSR","SSC",999.99,999.99]
[22053,"JENNISON","Alexandre","M",2003,"U12",null,"BSA",999.99,999.99]
[14989,"JENSEN","Christian","M",1995,"U21","SPR","SPR",361.18,361.18]
[14276,"JESSE","Zak","M",1994,"U21","IMP","K",352.01,521.29]
[19095,"JOHNS","Owen","M",2001,"U14",null,"WM",999.99,999.99]
[20355,"JOHNS","Scott","M",2003,"U12",null,"WM",999.99,999.99]
[31034,"JOHNSTON","Hamish","M",1997,"U18","BSA","SSC",214.82,214.82]
[42031,"JONES","Gethin","M",2001,"U14","CAR",null,999.99,184.12]
[41987,"JONES","Iwan","M",1999,"U16","CAR",null,284.72000000000003,150.78]
[21780,"KADRNKA","Markus","M",2004,"U12","SPR","SPR",999.99,999.99]
[21801,"KANE","Heathcliffe","M",2003,"U12",null,"BSA",999.99,999.99]
[21149,"KARAVASILI","Leo","M",1999,"U16","DHO","DHO",158.79,158.79]
[21159,"KEANE","Josh","M",1995,"U21","HEM","SMK",42.32,67.19]
[31519,"KEANEY","Seamus","M",2001,"U14","BSC",null,179.25,179.25]
[31238,"KEITH","Mathew","M",1998,"U18","LSR",null,140.94999999999999,140.94999999999999]
[36595,"KEITH","Matthew","M",1998,"U18",null,null,999.99,999.99]
[31345,"KELLAS","Guy","M",2003,"U12",null,null,999.99,999.99]
[31553,"KELLY","Archie","M",2004,"U12","MUC","SSC",999.99,999.99]
[31286,"KERR","George","M",2000,"U16","CSC",null,999.99,999.99]
[31285,"KERR","Henry","M",2000,"U16","CSC",null,999.99,999.99]
[21562,"KEYS","Alexander","M",1998,"U18",null,"BSA",999.99,999.99]
[30898,"KICK","Euan","M",1997,"U18","GSR","BSA",0.41,0.41]
[21019,"KILGOUR","Rory","M",1980,"MAS","BRS","SAS",999.99,999.99]
[22073,"KING","Adam","M",1998,"U18","TKP","TKP",999.99,999.99]
[36587,"KING","Logan","M",2003,"U12","ASC",null,999.99,999.99]
[21186,"KIPPING","Lewis","M",2001,"U14","SRR",null,143.75,140.69]
[21633,"KIRKLAND","Matthew","M",1992,"SEN","MID","MID",345.98,345.98]
[22114,"KNIGHTS-COOPER","Ellis","M",1996,"U21","SHK","SHK",362.39,999.99]
[13792,"KNOWLES","Michael","M",1995,"U21","MSR","DRA",32.97,32.97]
[21853,"KOTWICA","Dawid","M",1999,"U16","SZR","SZR",999.99,999.99]
[18317,"KRAHELSKI","Oliver","M",1996,"U21","HEM",null,28.21,28.21]
[30778,"KUWALL","Duncan","M",1998,"U18","SSC",null,46.71,46.71]
[20095,"LALLY","Cameron","M",1996,"U21","VIK",null,99.55,99.55]
[21691,"LANE","Joshua","M",1999,"U16","NOR","NOR",145.6,144.49]
[36629,"LANG","Fergus","M",2000,"U16","K",null,999.99,999.99]
[31505,"LANGMUIR","Calum","M",2002,"U14","SSC",null,999.99,999.99]
[36563,"LAPSLIE","Henry","M",2000,"U16","ELI","SSC",999.99,999.99]
[20713,"LARBY","Thomas","M",1994,"U21","RAV",null,124.41,124.41]
[21571,"LAUGHLAND","Maximilian","M",2004,"U12","FLK","BSA",999.99,999.99]
[20369,"LAW","Joshua","M",2003,"U12","TEL","TEL",999.99,999.99]
[22113,"LAW","Theodore","M",1999,"U16","MSR","MSR",214.03,999.99]
[19941,"LAWRENCE","Thomas","M",1999,"U16","MID","DRA",144.61000000000001,119.4]
[41923,"LAYTHAM","Jack","M",2000,"U16","WWS",null,999.99,999.99]
[21077,"LEACH","Charlie","M",2001,"U14","HEM","AMB",172.79,216.88]
[21501,"LEACH","Freddie","M",2002,"U14","HEM","K",236.63,999.99]
[20887,"LEAVITT","Samuel","M",1998,"U18","DHO","DHO",999.99,999.99]
[20922,"LEAVITT","William","M",1998,"U18","DHO","DHO",999.99,999.99]
[41578,"LEE","Adam","M",1994,"U21","PND","MID",38.93,36.39]
[20761,"LEE","Dexter","M",2000,"U16","HEM","EVO",89.53,93.06]
[21810,"LEE","Rory","M",2003,"U12","SPR","SPR",999.99,999.99]
[41662,"LEE","Sam","M",1996,"U21","MID",null,128.82,128.82]
[21879,"LEES","James","M",2001,"U14","BSA","HEM",999.99,999.99]
[13389,"LEESON","Andrew","M",1989,"SEN","PND",null,28.85,28.85]
[31329,"LEIGHTON","Alasdair","M",2001,"U14","LSR","SSC",839.69,839.69]
[19869,"LEWIS","Barney","M",1995,"U21","SMK","AMB",22.57,22.57]
[20309,"LEWIS","Samuel","M",1998,"U18","SPR","SPR",999.99,999.99]
[31281,"LINKLATER","Ian","M",1953,"MAS","SFR",null,999.99,999.99]
[19830,"LISMORE","Jake","M",1997,"U18",null,"BSA",999.99,999.99]
[31107,"LIVINGSTONE","Lewis","M",1999,"U16","SSC","LSR",215.71,186.56]
[36594,"LIVINGSTONE","Zak","M",2003,"U12","SSC",null,999.99,999.99]
[42035,"LLEWELLYN-JONES","Aled","M",2003,"U12","WWS",null,999.99,999.99]
[22089,"LLOYD","Tomas","M",2003,"U12","PND","PND",999.99,999.99]
[21832,"LOCKWOOD","Marcus","M",1997,"U18","VIK","VIK",999.99,999.99]
[21129,"LODER","Angus","M",2002,"U14","HEM","K",999.99,999.99]
[20543,"LODER","Edward","M",1999,"U16","HEM","AMB",194.65,194.65]
[19791,"LOGUT","George-Louis","M",1996,"U21","DHO","DHO",999.99,999.99]
[22032,"LONG","Timothy","M",2005,"U10",null,"S2R",999.99,999.99]
[22164,"LONGSTAFF","Michael","M",2001,"U14","WGC",null,140.38,999.99]
[22026,"LOUTH","Oscar","M",2005,"U10","HEM","HEM",999.99,999.99]
[21924,"LOVE","Charlie","M",2001,"U14","HEM","BSA",999.99,999.99]
[17344,"LOWDON","Matthew","M",1995,"U21","RAV",null,999.99,999.99]
[19510,"LOWE","Jordan","M",1998,"U18","HEM","EVO",213.67,213.67]
[20331,"LUCAS","Oliver","M",2002,"U14","WM","WM",999.99,999.99]
[18757,"LUCIE-SMITH","Ross","M",1993,"SEN","LSU","LSU",63.53,115.43]
[21546,"LUKE","Charlie","M",2000,"U16",null,"DHO",999.99,999.99]
[21517,"LUNN","Jake","M",2001,"U14",null,"K",999.99,999.99]
[31341,"LURRING","Connor","M",1999,"U16","SSC",null,397.31,397.31]
[21091,"LUTTERLOCH","Edward","M",2003,"U12","ASR",null,999.99,999.99]
[36596,"LYNCH","Calum","M",2000,"U16","CSC",null,999.99,999.99]
[36663,"LYNCH","Shaun","M",1999,"U16","MUC",null,999.99,288.70999999999998]
[21366,"LYONS","Alan","M",1965,"MAS",null,"HEM",221.64,221.64]
[22207,"MABLEY","Benjamin","M",2001,"U14",null,"HEM",477.47,999.99]
[22208,"MABLEY","James","M",2004,"U12",null,"HEM",999.99,999.99]
[30233,"MACBAIN","Scott","M",1987,"SEN","GSR",null,26.5,73.23]
[31506,"MACDONALD","Finlay","M",2004,"U12","LSR",null,999.99,999.99]
[30250,"MACFIE","Alastair","M",1989,"SEN","SSC",null,113.3,113.3]
[30669,"MACFIE","Euan","M",1994,"U21","GDN",null,229.93,229.93]
[36621,"MACKECHNIE","Archie","M",2003,"U12","MUC","SSC",999.99,999.99]
[36602,"MACLACHLAN","Fergus","M",2002,"U14","GSC",null,329.76,999.99]
[31396,"MACLEAN","Angus","M",1996,"U21","HNC",null,999.99,999.99]
[31570,"MACMILLAN","Fraser","M",2002,"U14","BSC",null,999.99,999.99]
[30936,"MACPHERSON","Stuart","M",1998,"U18","SSC","LSR",115.94,132.36000000000001]
[31004,"MACWILLIAM","David","M",1996,"U21","BSC","GSR",70.459999999999994,72.290000000000006]
[21699,"MAGENES","Edoardo","M",2004,"U12","HEM",null,999.99,999.99]
[20530,"MAJOR","Billy","M",1996,"U21",null,null,999.99,999.99]
[21483,"MANET","Conrad","M",1998,"U18","K","K",999.99,999.99]
[31224,"MARDEN","Angus","M",2000,"U16","MUC",null,214.55,214.55]
[21866,"MARKS KING","Alex","M",1999,"U16","TSN",null,999.99,999.99]
[22034,"MARLOR","Bradley","M",2006,"U10","PND",null,999.99,999.99]
[17257,"MARMENT","Christiaan","M",1997,"U18","WCS",null,113.81,113.81]
[21154,"MARSH","Joshua","M",2001,"U14","SZR",null,197.61,197.61]
[36624,"MARSHALL","Max","M",2006,"U10","CSC",null,999.99,999.99]
[36623,"MARSHALL","Zac","M",2004,"U12","CSC",null,999.99,999.99]
[20843,"MARSLAND","Steven","M",1970,"MAS","TOQ",null,999.99,999.99]
[31508,"MARSTON","Rory","M",1999,"U16","LSR",null,999.99,999.99]
[19574,"MARTIN","Matthew","M",1995,"U21","MSR","DRA",39.96,42.98]
[31331,"MARTIN","Oliver","M",2001,"U14",null,null,380.11,380.11]
[21401,"MATHER","Fred","M",2001,"U14",null,"BSA",999.99,999.99]
[20253,"MATHEW","Oliver","M",2002,"U14","AVO","EXD",999.99,872.1]
[31171,"MATTHEW","Andrew","M",1990,"SEN",null,null,999.99,999.99]
[19723,"MATTHEWS","Brandon","M",1999,"U16","STS",null,55.38,55.38]
[22212,"MCANALLY","Ewan","M",2003,"U12",null,null,999.99,999.99]
[31028,"MCBAIN","Corrie","M",1999,"U16","LSR","SSC",217.13,217.13]
[30841,"MCBAIN","Sandy","M",1993,"SEN","SSC","LSR",83.66,83.66]
[31148,"MCCALL","Andrew","M",2002,"U14","SSC",null,999.99,246.6]
[20455,"MCCALL","Oscar","M",2000,"U16",null,"BSA",375.15,375.15]
[19413,"MCCLOUD","Milo","M",1997,"U18","BSA","BSA",226.82,226.82]
[21737,"MCCOLL","Ruari","M",2002,"U14","TOQ","TOQ",999.99,999.99]
[41940,"MCCORMACK","Matthew","M",1998,"U18","SCI","K",114.11,136.88999999999999]
[31273,"MCCORMICK","Chris","M",1998,"U18","BSC",null,999.99,999.99]
[21664,"MCCORMICK","John","M",1975,"MAS","IMP","IMP",326.95999999999998,326.95999999999998]
[20584,"MCDONALD-PROCTOR","Richard","M",1998,"U18","BRO",null,89.44,99.86]
[20583,"MCDONALD-PROCTOR","William","M",2002,"U14","BRO",null,354.9,999.99]
[41970,"MCDOWELL","Harry","M",2000,"U16","SCI",null,236.36,236.38]
[31435,"MCFADDEN","Cameron","M",2000,"U16","CSC",null,301.66000000000003,999.99]
[31446,"MCFADDEN","Iain","M",2002,"U14","CSC",null,422.76,999.99]
[31083,"MCFADDEN","Neil","M",1998,"U18","CSC",null,167.52,999.99]
[22143,"MCGONIGAL","Dominic","M",2000,"U16",null,null,999.99,999.99]
[31043,"MCGRATH","Sam","M",1997,"U18","BSC",null,999.99,999.99]
[19019,"MCGREGOR-OGDEN","Cameron","M",2000,"U16","MSR","DRA",81.48,83.83]
[8067,"MCGREGOR-OGDEN","Carl","M",1961,"MAS","MSR","MSR",120.26,120.26]
[31169,"MCHUGH","Liam","M",1997,"U18","GSR",null,33.770000000000003,34.64]
[36645,"MCINTOSH","Magnus","M",2002,"U14","LSR",null,999.99,374.52]
[31541,"MCINTYRE","Ross","M",2004,"U12","BSC",null,999.99,999.99]
[31540,"MCINTYRE","Scott","M",2002,"U14","BSC",null,177.66,181.69]
[36560,"MCKAIN","Ross","M",2003,"U12","BSC",null,999.99,999.99]
[36642,"MCKEY","Lewis","M",2006,"U10","SSC",null,999.99,999.99]
[31121,"MCKILLOP","Murray","M",1998,"U18","BSC",null,999.99,270.23]
[31403,"MCLAREN","Ronan","M",2001,"U14","BSC",null,999.99,999.99]
[30953,"MCLEISH","Adam","M",1979,"MAS","SSC",null,999.99,999.99]
[31314,"MCLEW","Christopher","M",2001,"U14","GSR",null,139.94,142.44]
[31437,"MCLEW","Euan","M",2003,"U12","GSR",null,999.99,999.99]
[31491,"MCNEILL","David","M",2000,"U16","BSC",null,312.95999999999998,207.65]
[31139,"MCNICOL","Archie","M",1999,"U16","GSC","BSA",999.99,999.99]
[31554,"MCNUTT","Josh","M",1998,"U18","LSR",null,999.99,999.99]
[31202,"MCROBB","Cameron","M",2000,"U16","LSR","SSC",139.13,166.39]
[30555,"MCWHIRTER","Scott","M",1992,"SEN","GSR","SSC",36.270000000000003,39.74]
[30978,"MCWILLIAM","Lewis","M",1997,"U18","CSC",null,999.99,999.99]
[41939,"MELIA","Tybalt","M",2000,"U16","NW",null,999.99,999.99]
[21645,"MELLON-HENDRY","Freddie","M",2004,"U12","ASR",null,999.99,999.99]
[31558,"MENZIES","Fraser","M",1997,"U18","ASC",null,999.99,999.99]
[36660,"MENZIES","Ian","M",2007,"U8","MUC",null,999.99,999.99]
[14899,"MERCER","Patrick","M",1995,"U21","NOR","BSA",999.99,64.86]
[11619,"MESUT","Justin","M",1985,"SEN","NOR","AMB",65.62,65.62]
[21213,"METHERINGHAM","Zachary","M",2004,"U12",null,"SMK",999.99,999.99]
[21043,"MEURER","Markus","M",1968,"MAS",null,null,999.99,999.99]
[30931,"MIDDLETON","Fraser","M",1998,"U18","GSR",null,92.62,92.62]
[21278,"MIGUDA","Henry","M",2001,"U14","SPR","SPR",999.99,999.99]
[21993,"MILKINS","William","M",2004,"U12",null,null,999.99,999.99]
[31536,"MILLAR","Archie","M",2001,"U14","LSR",null,999.99,541.36]
[31535,"MILLAR","Jay","M",2003,"U12","LSR",null,999.99,999.99]
[21276,"MILLARD","Oliver","M",2000,"U16",null,"DHO",999.99,999.99]
[31457,"MILLER","Craig","M",2002,"U14","GSR",null,999.99,999.99]
[18509,"MILLER","Gareth","M",1994,"U21","MID","SAS",71.069999999999993,73.98]
[31450,"MILLER","Scott","M",1998,"U18","GSR",null,999.99,999.99]
[21408,"MILLER-HASTINGS","Frankie","M",2000,"U16","FLK",null,146.69,133.96]
[21602,"MILNER","Archie","M",2000,"U16","ASR","ASR",188.14,188.14]
[13228,"MILSTED","James","M",1992,"SEN","RAV",null,97.83,89.9]
[21259,"MIRACCO","Carlito","M",1999,"U16","HEM","TOQ",162.11000000000001,162.11000000000001]
[36659,"MITCHELL","Munro","M",2002,"U14","ARB",null,536.91999999999996,999.99]
[36658,"MITCHELL","Russell","M",2002,"U14","ARB",null,999.99,999.99]
[19673,"MOLLIEX","Alex","M",1973,"MAS","MSR","MSR",63.31,73.209999999999994]
[18629,"MOLLOY","Daniel","M",1993,"SEN","NOR",null,48.62,28.17]
[17438,"MOLLOY","Michael","M",1992,"SEN","NOR",null,0,0]
[20782,"MOONEY","Hugo","M",1997,"U18","DHO","DHO",999.99,999.99]
[20401,"MOORE","Benedict","M",2001,"U14","K",null,999.99,999.99]
[22067,"MOORE","Chris","M",2001,"U14","SRR",null,377.64,252.42]
[22068,"MOORE","Connor","M",2000,"U16","SRR",null,449.98,463.6]
[14949,"MORGAN","Brad","M",1991,"SEN","BSA","K",20.41,20.41]
[21479,"MORGAN","Jonathan","M",1999,"U16",null,"BSA",999.99,999.99]
[31199,"MORRIS","Christopher","M",2000,"U16","LSR",null,275.89,274.93]
[20871,"MORRIS","Ruaidhri","M",2001,"U14","SPR","SPR",999.99,999.99]
[36607,"MORRISON","Jack","M",2001,"U14","GDN",null,999.99,999.99]
[18778,"MORRISON","Michael","M",1957,"MAS","SOU","SAS",263.87,263.87]
[21965,"MOSS","Louis","M",2004,"U12",null,null,999.99,999.99]
[17831,"MOYNIHAN","Nicholas","M",1994,"U21",null,"K",999.99,999.99]
[18257,"MOZOL","James","M",1993,"SEN","GLO",null,37.020000000000003,37.020000000000003]
[18807,"MROZ","Dominik","M",1993,"SEN","ESX","DHO",317.45,999.99]
[31424,"MUIR","Jimmy","M",2002,"U14","ASC","DSC",999.99,999.99]
[41934,"MUNDAY","William","M",2000,"U16",null,null,999.99,999.99]
[31428,"MUNN","Hamish","M",2002,"U14","LSR",null,999.99,472.08]
[36620,"MUNN","Rory","M",2004,"U12","LSR",null,999.99,999.99]
[31342,"MUNRO","Calum","M",2002,"U14","BSC",null,454.06,999.99]
[31313,"MUNRO","Colin","M",1995,"U21","LSR",null,285.93,999.99]
[36630,"MUNRO","Gregor","M",2004,"U12","BSC",null,999.99,999.99]
[31326,"MURPHY","Rhys","M",1999,"U16","BSC",null,117.97,200.79]
[19678,"MURRAY","Alastair","M",1996,"U21",null,"LIO",89.19,999.99]
[20428,"MURRAY","David","M",1994,"U21","PND",null,999.99,144.61000000000001]
[31521,"MURRAY","Sam","M",2003,"U12","LSR",null,999.99,999.99]
[21815,"MUSTON","Charles","M",2002,"U14",null,"MSR",222.22,999.99]
[20125,"MYRSEP-FRANCE","Nicholas","M",1998,"U18",null,"DHO",999.99,999.99]
[22152,"NABAR","Antony","M",2006,"U10","BRO",null,999.99,999.99]
[22151,"NABAR","Paul","M",1964,"MAS",null,"BRO",999.99,999.99]
[18659,"NAYLER","Graham","M",1959,"MAS","ASR","ALD",128.41999999999999,110.68]
[31265,"NAYLOR","Finlay","M",1998,"U18","LSR",null,333.83,333.83]
[31282,"NESBITT","Kieran","M",2000,"U16","GSR",null,151.30000000000001,163.43]
[31283,"NESBITT","Ross","M",2002,"U14","GSR",null,164.92,138.44999999999999]
[21315,"NEVENS","Ted","M",1997,"U18",null,null,999.99,999.99]
[21194,"NEWTON","Charlie","M",2003,"U12","HEM","K",999.99,999.99]
[20184,"NEWTON","William","M",2000,"U16","HEM","K",116.22,216.45]
[21481,"NG","Hugo","M",1997,"U18",null,null,999.99,999.99]
[13432,"NICHOL","Timothy","M",1984,"MAS","RAV",null,118.42,118.42]
[31392,"NICHOLLS","Harry","M",1996,"U21","HNC",null,999.99,999.99]
[20897,"NICKSON","Joseph","M",1996,"U21","PND",null,88.45,80.36]
[14252,"NISBET","Angus","M",1993,"SEN",null,"DHO",999.99,999.99]
[14251,"NISBET","Kit","M",1990,"SEN",null,"K",166.85,999.99]
[19135,"NORRIS","John","M",1961,"MAS","HEM","SAS",98.92,100.98]
[19005,"NORRIS","Kieran","M",1995,"U21","HEM","AMB",16.3,16.3]
[19737,"O'BRIEN","Seamus","M",2002,"U14","MID","EVO",122.26,999.99]
[42041,"O'CALLANAIN","Eoin","M",1998,"U18","SCI",null,999.99,999.99]
[31164,"ODY","Robert","M",1998,"U18","LSR",null,465.51,465.51]
[21604,"OGDEN","Alexander","M",2005,"U10","NOR","ELI",999.99,999.99]
[20975,"OHARA","Mizuki","M",1998,"U18",null,"DHO",999.99,999.99]
[31351,"OLDFIELD","Max","M",2002,"U14","MUC","SSC",999.99,349.27]
[20550,"OLIVER","Mark","M",1962,"MAS","BOW","SMK",163.57,163.57]
[21253,"OLIVER","Ryan","M",1997,"U18","NOR",null,137.76,137.76]
[19147,"O'MARA","Adam","M",1995,"U21","RAV","RAV",46.25,39.89]
[19199,"O'MEARA","Samuel","M",1999,"U16",null,null,960.6,999.99]
[20377,"O'NEILL","Jack","M",1999,"U16",null,"BSA",999.99,999.99]
[21544,"OSMOND","Cosmo","M",2001,"U14",null,null,999.99,999.99]
[21888,"OSMOND","Orlando","M",2006,"U10",null,null,999.99,999.99]
[22043,"OSULLIVAN","Finley","M",2001,"U14",null,null,999.99,999.99]
[22204,"OWENS","Andrew","M",1996,"U21","CHT","CHT",999.99,190.02]
[22195,"OWENS","Christopher","M",1999,"U16","CHT","CHT",131.09,80.59]
[22197,"OWENS","Timothy","M",1965,"MAS","BOW","BOW",175.07,111.14]
[22087,"PARKER","Travis","M",2005,"U10","NOR",null,999.99,999.99]
[21188,"PARKES","Michael","M",1989,"SEN","HEM","HEM",143.43,143.43]
[21998,"PARSONS","Oscar","M",2004,"U12",null,null,999.99,999.99]
[31529,"PARTRIDGE","Andrew","M",1999,"U16",null,null,249.7,249.7]
[31530,"PARTRIDGE","Tom","M",2002,"U14",null,null,999.99,999.99]
[31151,"PATHI","Brogan","M",1998,"U18","GSR",null,999.99,999.99]
[31537,"PATHI","Rowan","M",1999,"U16","GSR",null,380.12,380.12]
[1681,"PATON","Andrew","M",1968,"MAS","WYC",null,989,989]
[20460,"PATRICK","Oliver","M",1997,"U18","BSA","BSA",999.99,999.99]
[30827,"PATTERSON","Ross","M",1999,"U16","SSC",null,127.66,115.01]
[22192,"PATTINSON","Sam","M",1998,"U18","KND","KND",999.99,999.99]
[30738,"PAXTON","Paul","M",1998,"U18","GDN",null,187.29,187.82]
[36613,"PEDEN","Jamie","M",1998,"U18","GSC",null,999.99,999.99]
[31444,"PEEK","Harrison","M",2003,"U12","BSC",null,999.99,999.99]
[31445,"PEEK","Jackson","M",2004,"U12","BSC",null,999.99,999.99]
[19710,"PENNING- LAMBERT","Matthew","M",1996,"U21","HEM","K",146.51,146.51]
[19711,"PENNING-LAMBERT","Joshua","M",1998,"U18","HEM","K",53.89,53.89]
[20102,"PERETZ","Adi","M",1998,"U18","DHO","DHO",999.99,999.99]
[20314,"PETERS","Jack","M",1993,"SEN","HEM","LIO",233.81,999.99]
[31073,"PETERS","Lachlan","M",1997,"U18","BRM",null,999.99,999.99]
[31439,"PFLEGER","Harry","M",2005,"U10","GDN",null,999.99,999.99]
[17840,"PHELPS","Nicholas","M",1997,"U18","MID","MID",70.34,70.34]
[22183,"PHIPPEN","Chris","M",1973,"MAS","HEM","HEM",100.73,999.99]
[22036,"PICKUP","Dean","M",1967,"MAS",null,null,999.99,999.99]
[41495,"PIERCE","Zac","M",1997,"U18","PND","DRA",255.62,255.62]
[31288,"PIERCEY","James","M",1997,"U18","CSC",null,182.21,999.99]
[36566,"PIERCEY","Michael","M",2004,"U12","CSC",null,999.99,999.99]
[20535,"PINI","Maximilian","M",2002,"U14","GRV","AMB",999.99,999.99]
[20777,"PINSENT","William","M",1955,"MAS",null,null,999.99,999.99]
[21198,"PITCHER","James","M",1984,"MAS","PLY","PLY",999.99,999.99]
[31082,"PITCHERS","Brian","M",1942,"MAS","SSC",null,999.99,999.99]
[19987,"PITKETHLY","Calum","M",1999,"U16","SPR","SPR",559.46,999.99]
[31008,"POGSON","Liam","M",1998,"U18","BLG",null,280.11,280.11]
[20799,"POLLITT","Oliver","M",2003,"U12","AMB","AMB",999.99,999.99]
[22074,"PORTEOUS","Adrian","M",1965,"MAS","MSR",null,356.5,999.99]
[22054,"PORTEOUS","Daniel","M",2003,"U12","MSR",null,999.99,999.99]
[22044,"PORTEOUS","Nathan","M",2001,"U14","MSR",null,210.51,999.99]
[14344,"PORTER","Tobias","M",1993,"SEN","FLK","DHO",140.94,140.94]
[21762,"PORTER","Tom","M",1997,"U18","2KP","2KP",999.99,999.99]
[14350,"POTH","Daniel","M",1996,"U21","HEM",null,14.16,21.81]
[14575,"POTH","Robert","M",1997,"U18","HEM","K",0,13.07]
[17479,"POWELL","Jonathan","M",1986,"SEN","RAV","MID",18.72,18.72]
[36668,"POWELL","Nathan","M",2002,"U14","SFR",null,198.23,999.99]
[30711,"PRICE","Graeme","M",1995,"U21","SSC","GSR",63.81,63.85]
[41837,"PRICE","Rhys","M",2001,"U14","GLO","DRA",201.19,149.16999999999999]
[22167,"PRINCE","Derek","M",1964,"MAS","AVO",null,999.99,999.99]
[41410,"PRITCHARD","Ray","M",1965,"MAS",null,"DRA",999.99,999.99]
[9379,"PROUDLOVE","Andrew","M",1958,"MAS","BRO","EVO",187.93,132.79]
[31489,"PROVAN","Max","M",2001,"U14","CSC","BSA",999.99,999.99]
[31358,"PYE","Ryan","M",2004,"U12","GDN","ASC",999.99,999.99]
[21336,"QUIGLEY","John","M",1972,"MAS","MSR","MSR",187.78,999.99]
[20122,"RABEY","Judson","M",2000,"U16","HEM","DHO",221.08,221.08]
[31568,"RALPH","Fergus","M",2003,"U12","LSR",null,999.99,999.99]
[21393,"RAMPTON","Thomas","M",2003,"U12",null,"BSA",999.99,999.99]
[30952,"RANKIN","Charles","M",2001,"U14","BSA","SSC",123.48,162.91999999999999]
[18504,"RAPOSO","Charlie","M",1996,"U21",null,"AMB",999.99,999.99]
[19569,"RASCAGNERES","Thomas","M",2000,"U16","MSR","DRA",79.34,87.89]
[21415,"RASHCHUPKIN","Maxim","M",2002,"U14",null,"DHO",999.99,999.99]
[31206,"RASMUSEN","Erik","M",1998,"U18","GDN",null,259.20999999999998,288.04000000000002]
[20380,"RATCLIFFE","David","M",1998,"U18","SAS",null,302.32,302.32]
[20381,"RATCLIFFE","Thomas","M",2001,"U14","SAS",null,999.99,999.99]
[31552,"RATTRAY","Andrew","M",2000,"U16","GSR",null,301.66000000000003,441.81]
[20379,"RAY","Matthew","M",1999,"U16",null,"K",999.99,999.99]
[19086,"READER","Christopher","M",1996,"U21","ASR",null,30.44,30.44]
[19085,"READER","William","M",1994,"U21","ASR",null,43.02,36.4]
[21609,"REBERT","Ethan","M",1998,"U18","BSA","BSA",999.99,999.99]
[31096,"REDPATH","Sandy","M",1996,"U21","LSR","SSC",154.51,154.51]
[31315,"REED","Aidan","M",2001,"U14","LSR",null,427.06,413.46]
[31322,"REED","Lewis","M",2001,"U14",null,"SSC",358.04,326.45]
[21339,"REED","Matthew","M",1993,"SEN",null,null,79.78,999.99]
[22301,"REEDER","Edward","M",1997,"U18",null,null,999.99,999.99]
[21657,"REES","Edward","M",1961,"MAS","IMP","IMP",218.42,297.82]
[41764,"REILLY","Garreth","M",1999,"U16","SCI",null,79.64,79.64]
[31294,"RENNIE","Graham","M",1975,"MAS","ASC",null,242.18,298.95999999999998]
[21485,"RHODES","Austin","M",1998,"U18","CHT","K",999.99,999.99]
[21484,"RHODES","Morgan","M",1998,"U18","CHT","K",999.99,999.99]
[17320,"RICCERI","Oliver","M",1995,"U21",null,"IMP",999.99,999.99]
[19796,"RICHARDS","Alexandre","M",2002,"U14",null,"BSA",999.99,999.99]
[17919,"RICHARDSON","Charles","M",1992,"SEN","MSR","DRA",14.73,14.73]
[18088,"RICHARDSON","George","M",1997,"U18","MSR","DRA",47.37,61.03]
[20628,"RICHARDSON","Thomas","M",1997,"U18","NOR",null,46.09,46.09]
[12989,"RICHES","Stuart","M",1989,"SEN","NOR","BSA",7.57,7.57]
[19570,"RICHMOND","Henry","M",1999,"U16","WCS",null,145.4,97.02]
[21663,"RIDDELL","Kelan","M",2003,"U12",null,null,999.99,999.99]
[18010,"RIDDELL","Luke","M",1996,"U21","HEM","AMB",163.16,163.16]
[41722,"RIGBY","Jack","M",1995,"U21","MID","IMP",42.49,50.4]
[19910,"RIGBY","Jordan","M",2000,"U16","MID","IMP",111.82,111.82]
[21895,"RILEY","Joshua","M",1999,"U16",null,"BSA",999.99,999.99]
[21896,"RILEY","Thomas","M",2001,"U14",null,"BSA",999.99,999.99]
[20879,"ROBERTS","Henry","M",1999,"U16",null,"K",999.99,999.99]
[41814,"ROBERTS","Ian","M",1969,"MAS",null,null,999.99,999.99]
[21652,"ROBERTSHAW","Gavin","M",1975,"MAS","SMK","SMK",177.64,182.02]
[20988,"ROBERTSON","Ewan","M",2001,"U14","BRO","BSA",131.37,145.76]
[31175,"ROBERTSON","John","M",1997,"U18","CSC",null,999.99,999.99]
[12334,"ROBERTSON","Stuart","M",1950,"MAS","WCS","WCS",261.93,261.93]
[22201,"ROBINSON","Bertie","M",2004,"U12","SPR","SPR",999.99,999.99]
[36643,"ROBLES-THOME","David","M",2002,"U14","LSR",null,999.99,999.99]
[4378,"ROE","Nicholas","M",1956,"MAS","TOR",null,748.57,748.57]
[30862,"ROFE","Sean","M",1995,"U21","SSC",null,80.27,85.66]
[30959,"ROFE","Thomas","M",1998,"U18","SSC","GSR",124.91,124.91]
[21395,"ROGERS","Marcus","M",1999,"U16","BSA","BSA",999.99,999.99]
[36633,"RONALD","James","M",1998,"U18","GSC","MUC",999.99,999.99]
[36632,"RONALD","Ross","M",2002,"U14","GSC","MUC",328.32,999.99]
[22011,"RONZ","Robert","M",1982,"MAS",null,null,999.99,999.99]
[20839,"ROSS","Callum","M",2003,"U12","TSN","SAS",999.99,999.99]
[21718,"ROSS","David","M",1970,"MAS","TSN","TSN",195.27,83.3]
[31006,"ROSS","Harry","M",1998,"U18","BSC",null,93,108.44]
[31087,"ROSS","Lyle","M",1999,"U16","SSC","MUC",88.48,88.48]
[4963,"RUDGE","Barnaby","M",1989,"SEN","WCS",null,999.99,999.99]
[30614,"RYAN","Euan","M",1993,"SEN","GSR",null,24.17,24.17]
[41971,"RYAN","Lee","M",2000,"U16","SCI",null,211.29,211.35]
[10659,"RYDING","David","M",1986,"SEN","PND","K",46.6,46.6]
[21967,"RYLAND","Callum","M",2003,"U12","SZR","SZR",999.99,999.99]
[22002,"RYLAND","Peter","M",2001,"U14","SZR","SZR",999.99,999.99]
[36649,"SADDLER","Jack","M",2005,"U10","LSR",null,999.99,999.99]
[36648,"SADDLER","Sam","M",2002,"U14","SSC","LSR",999.99,487.44]
[20790,"SANDEMAN","Jonathan","M",1998,"U18","GLO",null,90.22,90.22]
[31065,"SANDIESON","Cal","M",1998,"U18","BSC","GSR",999.99,999.99]
[30974,"SANDLAND","Alasdair","M",2000,"U16","GSR",null,118.53,103.3]
[31129,"SANDLAND","Jamie","M",2003,"U12","GSR",null,999.99,999.99]
[20995,"SANDLER","Jameson","M",2003,"U12",null,"HEM",999.99,999.99]
[18513,"SAUNDERS","Gregory","M",1995,"U21",null,"K",999.99,999.99]
[42021,"SCANLON","Ryan","M",2004,"U12",null,null,999.99,999.99]
[22056,"SCHLOTE","Harry","M",2000,"U16","HEM","HEM",333.97,999.99]
[20649,"SCHUBERT","Maximilian","M",2003,"U12","AVO","AVO",999.99,999.99]
[31020,"SCOTT","Archie","M",1996,"U21","LSR",null,999.99,999.99]
[22124,"SCOTT","Benjamin","M",2003,"U12","RAV","RAV",999.99,999.99]
[31441,"SCOTT","Luke","M",2001,"U14","LSR",null,999.99,999.99]
[20679,"SCOTT","Max","M",1997,"U18","NOR","NOR",189.57,189.57]
[31371,"SCOTT","Ruaraidh","M",2002,"U14","BSC",null,177.08,212.14]
[19443,"SEAMAN","Michael","M",1986,"SEN","SZR","IMP",98.19,103.91]
[41650,"SELLWOOD","Thomas","M",1996,"U21","CAR","DRA",98.98,67.12]
[21742,"SEWELL","Logan","M",1998,"U18","NOR",null,82.25,44.75]
[6894,"SHAILES","Darryl","M",1961,"MAS","NOR",null,139.08000000000001,139.08000000000001]
[21720,"SHAIR","Tariq","M",1993,"SEN","HEM",null,281.63,281.63]
[13217,"SHARP","Anthony","M",1968,"MAS","HEM",null,140.66,140.66]
[31517,"SHARP","Calum","M",1997,"U18","AYR","SFR",154.43,154.43]
[20564,"SHARROTT","Christopher","M",1978,"MAS",null,null,999.99,999.99]
[36647,"SHARWOOD-SMITH","James","M",2002,"U14","LSR",null,999.99,999.99]
[21733,"SHAW","Benjamin","M",1999,"U16",null,null,141.97999999999999,146.18]
[19801,"SHAW","James","M",1998,"U18","K","K",999.99,999.99]
[1,"SHEDDEN","John","M",1943,"MAS","MER",null,999.99,999.99]
[21632,"SHEMMANS","Jake","M",2001,"U14","ASR",null,133.47,117.29]
[31488,"SHEPHERD","Calum","M",2000,"U16","ASC",null,250.09,288.07]
[20520,"SHEPHERD","Matthew","M",1979,"MAS",null,null,999.99,999.99]
[21557,"SHEPHERDSON","James","M",1999,"U16","TSD",null,309.2,273.39]
[17818,"SHERRAS","Andrew","M",1995,"U21",null,"DHO",999.99,999.99]
[17819,"SHERRAS","Richard","M",1997,"U18",null,"DHO",999.99,999.99]
[20847,"SHIELLS","Bryan","M",1998,"U18","SPR","SPR",999.99,999.99]
[20692,"SHIELLS","Rory","M",1995,"U21","SPR","SPR",999.99,999.99]
[17284,"SIEBER","James","M",1996,"U21","ASR","AMB",2.91,2.91]
[36634,"SIMMERS","Robbie","M",2000,"U16","BSC",null,999.99,999.99]
[31474,"SIMMONDS","Thomas","M",2003,"U12","GSR",null,999.99,999.99]
[19457,"SIMMONS","Nigel","M",1962,"MAS","TOQ","TOQ",382.33,382.33]
[31201,"SIMPSON","Andrew","M",2000,"U16","GDN",null,166.61,167.46]
[21233,"SIMPSON","Cameron","M",2002,"U14",null,"WM",999.99,999.99]
[20336,"SIMPSON","Jack","M",1999,"U16","SPR","SPR",999.99,999.99]
[31354,"SIMPSON","Neil","M",2002,"U14","GDN",null,999.99,567.14]
[41969,"SINGLETON","Cillian","M",1999,"U16","SCI",null,221.6,226.36]
[21653,"SKEPPSTAM","Rasmus","M",2004,"U12","SMK","SMK",999.99,999.99]
[21405,"SLADE","Ted","M",2003,"U12",null,"BSA",999.99,999.99]
[21143,"SLATER","James","M",1998,"U18","SHK","SHK",328.66,343.21]
[21601,"SMITH","Anthony","M",1969,"MAS","ALD",null,228.31,180.48]
[22159,"SMITH","Ben","M",2001,"U14","ASR","ASR",999.99,999.99]
[18912,"SMITH","Benjamin","M",1997,"U18","SPR","AMB",66.650000000000006,66.650000000000006]
[31569,"SMITH","Cameron","M",2003,"U12","ASC",null,999.99,999.99]
[21600,"SMITH","Euan","M",2000,"U16","ASR",null,199.42,137.52000000000001]
[20579,"SMITH","Gary","M",1984,"MAS","HEM",null,999.99,999.99]
[31187,"SMITH","Jack","M",1998,"U18","CSC",null,999.99,999.99]
[21595,"SMITH","James","M",1992,"SEN","MID","BRU",72.23,63.71]
[20187,"SMITH","James","M",1999,"U16","SMK","SPR",353.39,353.39]
[21605,"SMITH","Nathan","M",2002,"U14","ASR",null,999.99,138.38999999999999]
[20493,"SMITH","Oliver","M",1995,"U21","SAS","SAS",999.99,999.99]
[21102,"SMITH","Oscar","M",2002,"U14","ASR","ASR",999.99,192.41]
[31168,"SMITH","Ossian","M",2001,"U14","SSC",null,999.99,999.99]
[31221,"SMITH","Peter","M",2000,"U16",null,"SSC",284.42,256.66000000000003]
[31236,"SMITH","Roli","M",2004,"U12","MUC","SSC",999.99,999.99]
[21206,"SMITH","Samuel","M",1997,"U18","SMK","SMK",199.95,199.95]
[20994,"SMITH","Simon","M",1974,"MAS","LIO","LIO",362.65,999.99]
[22080,"SOMMERFIELD","George","M",1997,"U18","AVO","AVO",999.99,999.99]
[17932,"SOUTHALL","Frazer","M",1997,"U18","FLK",null,69.069999999999993,48.8]
[18378,"SOUTHALL","Merrick","M",2000,"U16","FLK",null,138.74,77.88]
[19749,"SPANTON","Nicholas","M",1965,"MAS","NOR",null,137.84,137.84]
[18417,"SPEARPOINT","Nicholas","M",1966,"MAS","OVL",null,213.27,213.27]
[20683,"SPEED","Craig","M",1999,"U16","ASR",null,95.84,61.38]
[31114,"SPEIR","Henry","M",1999,"U16","LSR",null,224.12,224.12]
[31157,"SPENCE","Matthew","M",2000,"U16","LSR",null,289.22000000000003,251.29]
[21757,"SPENCER","Samuel","M",1996,"U21","PLY",null,281.81,265.29000000000002]
[41445,"SPILL","George","M",1993,"SEN","CAR","BSA",231.48,999.99]
[41999,"STADEN","Samuel","M",2001,"U14","SSP","SSP",999.99,999.99]
[17385,"STAMMERS","Benjamin","M",1995,"U21","DHO","DHO",445.21,445.21]
[30526,"STANG","Alastair","M",1992,"SEN","SSC",null,14.27,23.96]
[22218,"STANLEY","Harvey","M",2005,"U10","SAS",null,999.99,999.99]
[21121,"STANWAY","Kayne","M",2005,"U10","SMK",null,999.99,999.99]
[21880,"STAYMAN","Harry","M",2004,"U12","SOU","SAS",999.99,999.99]
[36653,"STEDMAN","Joel","M",1997,"U18","MUC",null,999.99,999.99]
[31319,"STEEL","Bruno","M",2002,"U14","SSC",null,999.99,267.45]
[36589,"STEEL","Luc","M",2005,"U10","SSC",null,999.99,999.99]
[21057,"STEINER","Toby","M",2000,"U16",null,null,999.99,999.99]
[36586,"STEPHEN","Gordie","M",2005,"U10","GDN",null,999.99,999.99]
[31356,"STEPHEN","Lachlan","M",2001,"U14","SSC",null,283.89999999999998,241.2]
[17177,"STEUDLE","Roy","M",1993,"SEN",null,"AMB",142.51,999.99]
[14814,"STEVENS","Anthony","M",1962,"MAS",null,"ALU",999.99,999.99]
[19797,"STEVENSON","Christian","M",1998,"U18","TEL","TEL",144.85,93.97]
[18471,"STEVENSON","James","M",1994,"U21",null,"K",999.99,999.99]
[36644,"STEWART","James","M",2004,"U12","LSR",null,999.99,999.99]
[22130,"STOCKER","Charley","M",1968,"MAS","TSN",null,999.99,999.99]
[21698,"STOCKS","Elliot","M",2005,"U10","MSR","MSR",999.99,999.99]
[20477,"STORER","James","M",1998,"U18",null,"DHO",999.99,999.99]
[20479,"STORER","Toby","M",2003,"U12",null,"DHO",999.99,999.99]
[14808,"STRONG","Louis","M",1996,"U21",null,"K",999.99,999.99]
[14807,"STRONG","Oliver","M",1994,"U21",null,"K",999.99,999.99]
[31501,"STRUTHERS","Ailig","M",1999,"U16","SFR",null,241.69,379.54]
[21567,"STUART","Oliver","M",1999,"U16",null,null,999.99,999.99]
[30925,"STURROCK","Fraser","M",1997,"U18","SSC","GSR",140.85,140.85]
[21056,"SULEYMAN","Ata","M",2002,"U14","BRO","K",999.99,190.02]
[22123,"SUNDIN","Jacob","M",2006,"U10","LIO","LIO",999.99,999.99]
[21369,"SURMAN","Jake","M",1974,"MAS","LIO","LIO",234.05,283.97000000000003]
[31561,"SUTHERLAND","Finn","M",2003,"U12","LSR",null,999.99,999.99]
[8747,"SWINDELLS","Robert","M",1965,"MAS","LIO","LIO",189.33,252.86]
[19624,"SYMONS","Daniel","M",1995,"U21","CHT","CHT",81.8,19.899999999999999]
[21707,"TAMANA","Hari","M",2003,"U12","HEM","HEM",999.99,999.99]
[21147,"TANDY","Joshua","M",2004,"U12","FLK",null,999.99,999.99]
[20398,"TARANTELLI","Leone","M",1999,"U16",null,"BSA",999.99,999.99]
[20399,"TARANTELLI","Uberto","M",2000,"U16",null,"BSA",999.99,999.99]
[21550,"TARRANT","Toby","M",1997,"U18","MID",null,186.2,135.63]
[31305,"TATE","Thomas","M",1997,"U18","CSC",null,999.99,999.99]
[21527,"TATTERS","Ben","M",2001,"U14","SPR","SPR",999.99,999.99]
[21524,"TATTERS","Joshua","M",2003,"U12","SPR","SPR",999.99,999.99]
[20364,"TATTERSALL","James","M",1997,"U18","MSR","BSA",210.68,210.68]
[31562,"TAYLOR","Calum","M",2002,"U14","GSR",null,999.99,999.99]
[22047,"TAYLOR","Duncan","M",2000,"U16",null,null,999.99,999.99]
[31186,"TAYLOR","Finlay","M",1999,"U16","SSC",null,999.99,999.99]
[31563,"TAYLOR","Finlay","M",2004,"U12","GSR",null,999.99,999.99]
[18164,"TAYLOR","Laurie","M",1996,"U21",null,"BSA",421.44,421.44]
[31185,"TAYLOR","Lewis","M",1998,"U18","SSC",null,999.99,999.99]
[41876,"TAYLOR","Robert","M",1984,"MAS",null,null,999.99,999.99]
[31036,"TAYLOR","Ross","M",1995,"U21","GSR","SSC",28.81,28.81]
[20146,"TAYLOR-TIPTON","Curtis","M",1996,"U21","FF","FF",233.12,233.12]
[20147,"TAYLOR-TIPTON","Justin","M",2000,"U16","FF","FF",239.23,239.23]
[13773,"TEE","David","M",1990,"SEN","MSR","DRA",42.98,42.98]
[11915,"TELLING","Marc","M",1984,"MAS","HEM","AMB",16.91,16.91]
[12458,"TELLING","Paul","M",1982,"MAS","EVO","EVO",34.03,34.03]
[41851,"THOMAS","Benjamin","M",1998,"U18","CAR",null,110.74,110.74]
[18072,"THOMAS","Cameron","M",1997,"U18","TOQ","BSA",45.79,45.79]
[41661,"THOMAS","Cyffin","M",2000,"U16","DRA","DRA",167.53,266.12]
[21848,"THOMAS","Owen","M",2001,"U14","BFC","BSA",999.99,999.99]
[41974,"THOMAS","Pat","M",1960,"MAS","HEM",null,270.47000000000003,999.99]
[20884,"THOMPSON","Joseph","M",2003,"U12","NOR","ELI",999.99,999.99]
[13647,"THOMPSON","Matthew","M",1993,"SEN","HEM","K",3.71,3.71]
[20214,"THOMPSON","Peter","M",1995,"U21","KND",null,999.99,153.41999999999999]
[36670,"THOMSON","Fraser","M",2002,"U14","SFR",null,999.99,999.99]
[30987,"THOMSON","Ross","M",1999,"U16","SSC",null,502.51,502.51]
[19985,"THORNTON","Adam","M",2003,"U12","LIO","LIO",999.99,999.99]
[18652,"THORNTON","Luke","M",1998,"U18",null,"LIO",110.26,132.19]
[31557,"THORP","Cameron","M",2000,"U16","LSR",null,999.99,999.99]
[19077,"THURSFIELD","Emrys","M",1999,"U16","HEM","HEM",999.99,999.99]
[17950,"TODD-SAUNDERS","Samuel","M",1996,"U21","DHO","DHO",100.61,100.61]
[20811,"TOH","Alexander","M",2000,"U16","HEM","HEM",999.99,999.99]
[20812,"TOH","James","M",2000,"U16","HEM","HEM",999.99,999.99]
[17043,"TOMLINSON","Josef","M",1994,"U21","PPS","LIO",96.18,96.18]
[41919,"TOUCHE","Alexandre","M",1997,"U18","CAR",null,77.94,77.94]
[21862,"TOWNSEND","Alexander","M",1999,"U16","SAS",null,999.99,999.99]
[17467,"TREBILCOCK","Robert","M",1993,"SEN","HEM","HEM",13.23,13.58]
[20670,"TREUGE","Matthew","M",2002,"U14","MID","MID",999.99,999.99]
[21874,"TREVOR","Joseph","M",2001,"U14","SPR","SPR",999.99,999.99]
[21105,"TREVOR","Samuel","M",1999,"U16","SPR","SPR",999.99,999.99]
[20645,"TREW","Richard","M",2000,"U16","HEM","K",140.69,140.69]
[31270,"TRINDER","Jamie","M",1994,"U21",null,null,999.99,999.99]
[20687,"TROUNG","Aaron","M",2001,"U14","VIK","AMB",89.58,78.72]
[30869,"TROUP","Kieran","M",2000,"U16","GDN","BSA",999.99,999.99]
[22188,"TRUST","Alex","M",2000,"U16","HEM",null,999.99,168.1]
[21823,"TUBBS","Charlie","M",2003,"U12","TSN",null,999.99,999.99]
[13403,"TUCKER","Colin","M",1946,"MAS","SLP","K",989,989]
[12858,"TUCKER","William","M",1991,"SEN","LSU","LSU",58.62,99.74]
[22306,"TURNER","Alfie","M",2003,"U12","HEM",null,999.99,999.99]
[21627,"TURNER","Oliver","M",2000,"U16",null,"ASR",322.12,179.2]
[21265,"UNDERKOFFLER","Lucas","M",1996,"U21",null,null,999.99,999.99]
[21052,"UPTON","Jack","M",2004,"U12","MID",null,999.99,999.99]
[21051,"UPTON","Thomas","M",2001,"U14","MID",null,167.14,123.67]
[21197,"URQUHART","Aidan","M",2004,"U12","HEM","HEM",999.99,999.99]
[21196,"URQUHART","Colm","M",2001,"U14","HEM","HEM",416.92,416.92]
[9129,"URQUHART","John","M",1968,"MAS","HEM","HEM",138.44999999999999,138.44999999999999]
[22008,"VAGO","Peter","M",2005,"U10",null,null,999.99,999.99]
[20714,"VANBECK","Robert","M",1998,"U18","SMK",null,82.36,97.97]
[31078,"VAUGHAN","Seoras","M",1998,"U18","CSC",null,999.99,999.99]
[22052,"VAUGHTON","Max","M",1999,"U16","PND",null,999.99,999.99]
[20848,"VICKERS","Charlie","M",1999,"U16","SPR","SPR",999.99,999.99]
[21456,"VINCENT","Ben","M",2003,"U12","TSN","TSN",999.99,999.99]
[30923,"VINTER","Owen","M",2001,"U14","GSR",null,89.77,89.77]
[30831,"VINTER","Zak","M",1998,"U18","GSR",null,6.93,6.93]
[21765,"WADDINGTON","Thomas","M",1984,"MAS",null,null,999.99,999.99]
[20163,"WAGHORNE","Robert","M",1997,"U18","SMK","AMB",76.41,76.41]
[31213,"WAITT","Scott","M",2000,"U16","SSC",null,191.56,175.02]
[31125,"WAITT","Stuart","M",1999,"U16","SSC","LSR",183.37,162.04]
[41925,"WAJDA","Benjamin","M",1996,"U21",null,null,999.99,999.99]
[21448,"WALBRIDGE","James","M",1992,"SEN","PLY","PLY",288.41000000000003,288.41000000000003]
[14213,"WALKER","Edmund","M",1992,"SEN","MID","MID",77.16,54.38]
[21819,"WALKER","Reuben","M",2006,"U10",null,null,999.99,999.99]
[20065,"WALKER-MORETTI","Ralph","M",1998,"U18","MSR",null,67.25,67.25]
[21545,"WANG","Matt","M",1983,"MAS","HEM","IMP",210.53,219.51]
[31195,"WARD","Thomas","M",2002,"U14","GSR",null,175.01,999.99]
[18661,"WARMINGTON","Richard","M",1997,"U18","HEM","HEM",67.14,73.569999999999993]
[21641,"WARNER","Hugo","M",2002,"U14",null,"HEM",999.99,999.99]
[22196,"WARSOP","Rowan","M",2000,"U16","NOR",null,999.99,289.42]
[21495,"WASHER","Piers","M",1998,"U18","EVO","EVO",138.97,138.97]
[21145,"WATERSTON","Laughlan","M",1971,"MAS","HEM","HEM",255.98,255.98]
[41042,"WATSON","Andrew","M",1991,"SEN","CAR","DRA",0.41,0.41]
[31204,"WATSON","Jack","M",1999,"U16","BSC",null,220.3,220.3]
[36568,"WATSON","Ralph","M",1962,"MAS","ASC",null,403.93,999.99]
[41656,"WATTS","Llewellyn","M",2001,"U14","CAR",null,291.31,222.06]
[19564,"WAYLING","Lloyd","M",1995,"U21","NOR","BSA",32.97,32.97]
[22050,"WEBB","Andrew","M",2004,"U12","TEL","TEL",999.99,999.99]
[19702,"WEBB","Jamie","M",1998,"U18",null,"SMK",190.99,190.99]
[19051,"WEEKS","Oliver","M",2001,"U14","MID","DRA",70.989999999999995,59.18]
[17983,"WELLER","Mark","M",1992,"SEN","ASR",null,93.23,93.23]
[21811,"WELLS","Oliver","M",1994,"U21","HEM","GLO",999.99,53.4]
[36656,"WELSH","Cameron","M",2000,"U16","ASC",null,999.99,999.99]
[20313,"WESTERN","Aaron","M",1998,"U18","TEL","TEL",999.99,999.99]
[22162,"WESTON","Ryan","M",2000,"U16","FLK",null,999.99,201.62]
[31434,"WHATFORD","Ben","M",2005,"U10","GDN",null,999.99,999.99]
[14168,"WHEATMAN","Max","M",1993,"SEN","NOR","NOR",55.27,55.27]
[21857,"WHEELER","Ryan","M",1999,"U16","CHT",null,999.99,999.99]
[19209,"WHEELER","William","M",1997,"U18","HEM","TEL",56.86,56.86]
[12359,"WHELAN","Peter","M",1989,"SEN","SPR","SPR",502.72,502.72]
[21772,"WHIPP","Edward","M",2001,"U14","MSR","MSR",200.68,259.43]
[18467,"WHITE","Alex","M",1997,"U18","HEM",null,78.930000000000007,78.930000000000007]
[36580,"WHITE","John","M",1901,"MAS",null,null,999.99,999.99]
[18234,"WHITE","Thomas","M",1992,"SEN","AMB","AMB",28.18,40.520000000000003]
[19612,"WHITLEY","James","M",1997,"U18","K","K",999.99,999.99]
[18996,"WHITTALL","Joseph","M",1995,"U21","BRS","IMP",158.19,158.19]
[20159,"WHITTALL","Trevor","M",1958,"MAS","BRS","SAS",686.13,686.13]
[3199,"WHITTET","Jeremy","M",1967,"MAS","SSC",null,999.99,999.99]
[20637,"WIGMORE","Matthew","M",1996,"U21","NOR",null,49.04,47]
[30785,"WILD","Brett","M",1992,"SEN","GSR",null,999.99,999.99]
[36579,"WILD","Oscar","M",2008,"U8",null,null,999.99,999.99]
[42038,"WILEY","Casper","M",2006,"U10","WWS",null,999.99,999.99]
[19346,"WILKINS","Simon","M",1992,"SEN",null,null,171.59,171.59]
[31128,"WILLIAMS","Conway","M",1965,"MAS","GSR","SSC",142.16,142.16]
[21786,"WILLIAMS","Jack","M",2005,"U10",null,"MSR",999.99,999.99]
[36578,"WILLIAMS","John","M",2008,"U8",null,null,999.99,999.99]
[21563,"WILLIAMS","Lewis","M",1999,"U16","AVO","AVO",414.39,359.89]
[18813,"WILLIAMS","Marcus","M",1996,"U21","NOR","K",999.99,999.99]
[20729,"WILLIAMS","Matthew","M",2004,"U12","TEL",null,999.99,999.99]
[18022,"WILLIAMS","Sam","M",1997,"U18","SAS","IMP",84.66,103.02]
[30998,"WILLIAMS","Scott","M",1999,"U16","GSR","SSC",121.49,125.11]
[21103,"WILLIAMS-GRAVENER","David","M",2001,"U14","FLK","DHO",185.75,168.76]
[36577,"WILLIAMSON","Andrew","M",1985,"SEN",null,null,999.99,999.99]
[20613,"WILLIS","James","M",2001,"U14","SMK","SMK",206.92,210.65]
[17930,"WILLIS","Robert","M",1996,"U21","AMB","AMB",497.44,497.44]
[36576,"WILLIS","Stephen","M",1976,"MAS",null,null,999.99,999.99]
[18558,"WILLOWS","Laurence","M",1996,"U21","BRO",null,38.72,28.77]
[20290,"WILLS","Angus","M",1999,"U16",null,"BSA",999.99,999.99]
[20710,"WILMOT","Jack","M",2000,"U16","SPR","SPR",999.99,999.99]
[31255,"WILOWSKI","Kazimierz","M",2000,"U16","GDN",null,999.99,999.99]
[21362,"WILSON","Geoffrey","M",1996,"U21","VIK",null,999.99,275.12]
[36575,"WILSON","Inez","M",2008,"U8",null,null,999.99,999.99]
[31063,"WISE","Kyle","M",1989,"SEN","P3",null,999.99,999.99]
[19420,"WITTS","Callum","M",1998,"U18","PND",null,41.19,19.16]
[18512,"WITTS","Kaigan","M",1994,"U21","PND","PND",52.64,43.1]
[31512,"WOOD","Edmund","M",1999,"U16","DHO","LSR",186.94,999.99]
[42037,"WOOD","Tom","M",2000,"U16",null,null,252.43,999.99]
[20814,"WOODWARD","Stewart","M",1955,"MAS",null,null,999.99,999.99]
[21837,"WOOLLEY","Kieran","M",2005,"U10","MID","WM",999.99,999.99]
[21594,"WORTT","Aaron","M",1999,"U16","ASR",null,159.6,104.47]
[36572,"WRIGHT","Alex","M",1994,"U21",null,null,999.99,999.99]
[19419,"WRIGHT","Alexander","M",1994,"U21","GLO","IMP",108.59,108.59]
[31089,"WRIGHT","Dewar","M",1999,"U16","SSC",null,76.430000000000007,76.430000000000007]
[41977,"WYLIE","Callum","M",1999,"U16",null,null,999.99,999.99]
[31523,"WYLIE","Gordon","M",2005,"U10","GSR",null,999.99,999.99]
[31176,"WYLIE","Scott","M",2001,"U14","GSR",null,116.1,127.89]
[36570,"YELLOWLEES","Jamie","M",1994,"U21",null,null,999.99,999.99]
[31310,"YOUNG","Gregor","M",1995,"U21","HNC",null,999.99,999.99]
[21709,"YUNG","Adrian","M",2004,"U12","BRS","DHO",999.99,999.99]
[21710,"YUNG","HauTak","M",2002,"U14","BRS","DHO",999.99,999.99]
[21779,"ZIELEZNIK","Ben","M",2005,"U10",null,"SPR",999.99,999.99]
[21093,"ZIELEZNIK","Oskar","M",2004,"U12",null,"SPR",999.99,999.99]

{"sheet":"Latest Points (2014.3)","index":11,"n_rows":55,"n_cols":10,"rows_kept":55,"cut":false,"hidden":true,"merged":[]}
["REGNO","SURNAME","FORENAME","SEX","YOB","CAT","CLUB1","CLUB2","iBARTS 14.3 PTS","oBARTS 14.3 PTS"]
[20168,"BILL","Rachel","F",1990,"SEN","MID","MID",23.81,23.81]
[19983,"CARE","Chloe","F",1998,"U18","MID",null,203.01,203.01]
[17888,"DELLER","Lucy","F",1996,"U21","MID","DRA",25.68,25.68]
[19573,"DOHERTY","Robyn","F",1996,"U21","MID",null,636.34,636.34]
[19165,"ELGY","Geraldine","F",1954,"MAS","MID",null,330.25,330.25]
[22176,"GILES","Ella","F",2003,"U12","MID",null,999.99,999.99]
[18617,"HANCOCK","Maxine","F",1997,"U18","MID","SMK",74.28,74.28]
[21569,"HEMMING","Anya","F",2005,"U10","MID",null,999.99,999.99]
[22015,"LLEWELLYN","Aaliyah","F",2006,"U10","MID","WM",999.99,999.99]
[21014,"MAYHEW","Jessica","F",2000,"U16","MID","MID",84.18,47.77]
[20307,"MIDDLETON","Amy","F",1995,"U21","MID",null,51.15,49.89]
[20696,"NEWBOULT","Helena","F",1998,"U18","MID","MID",27.39,27.39]
[20809,"O'BRIEN","Matilda","F",2004,"U12","MID",null,999.99,999.99]
[18033,"THOMAS","Elisabeth","F",1996,"U21","MID","DRA",72.7,67.69]
[20669,"TREUGE","Lauren","F",2003,"U12","MID",null,999.99,999.99]
[13381,"VERNON","Rowan","F",1988,"SEN","MID","MID",32.840000000000003,32.840000000000003]
[22198,"BAILEY","Noah","M",2006,"U10","MID","WM",999.99,999.99]
[19704,"BEARDMORE","Adam","M",1986,"SEN","MID",null,35.26,35.26]
[20590,"CARE","James","M",2002,"U14","MID",null,999.99,398.04]
[5666,"CROMBLEHOLME","Roger","M",1957,"MAS","MID","TEL",120.35,120.35]
[17039,"DELLER","Philip","M",1959,"MAS","MID",null,780.34,780.34]
[20846,"DEWISON","Samuel","M",1998,"U18","MID","MID",119.86,103.46]
[19572,"DOHERTY","Samuel","M",1999,"U16","MID",null,257.08999999999997,257.08999999999997]
[12318,"DU PLESSIS","Andrew","M",1985,"SEN","MID","DHO",23.04,23.04]
[19166,"ELGY","James","M",1993,"SEN","MID",null,166.36,166.36]
[19164,"ELGY","John","M",1951,"MAS","MID",null,332.56,332.56]
[21084,"EMMERSON","Philip","M",1990,"SEN","MID",null,57.73,42.32]
[20677,"FROST","Joey","M",1995,"U21","MID",null,127.79,127.79]
[22203,"GILES","Daniel","M",2003,"U12","MID",null,999.99,999.99]
[20719,"HADLEY","Daniel","M",2004,"U12","MID","SMK",999.99,999.99]
[17037,"HANCOCK","David","M",1964,"MAS","MID","SMK",999.99,999.99]
[19163,"HAWKINS","Mark","M",1979,"MAS","MID",null,61.45,57.1]
[21075,"HEARD","Jake","M",1998,"U18","MID",null,999.99,999.99]
[19829,"HEMMING","Ethan","M",2001,"U14","MID","MID",150.21,114.45]
[17356,"HORNSBY","Harry","M",1991,"SEN","MID","MID",5.41,5.28]
[21633,"KIRKLAND","Matthew","M",1992,"SEN","MID","MID",345.98,345.98]
[19941,"LAWRENCE","Thomas","M",1999,"U16","MID","DRA",144.61000000000001,119.4]
[41662,"LEE","Sam","M",1996,"U21","MID",null,128.82,128.82]
[18509,"MILLER","Gareth","M",1994,"U21","MID","SAS",71.069999999999993,73.98]
[19737,"O'BRIEN","Seamus","M",2002,"U14","MID","EVO",122.26,999.99]
[17840,"PHELPS","Nicholas","M",1997,"U18","MID","MID",70.34,70.34]
[41722,"RIGBY","Jack","M",1995,"U21","MID","IMP",42.49,50.4]
[19910,"RIGBY","Jordan","M",2000,"U16","MID","IMP",111.82,111.82]
[21595,"SMITH","James","M",1992,"SEN","MID","BRU",72.23,63.71]
[21550,"TARRANT","Toby","M",1997,"U18","MID",null,186.2,135.63]
[20670,"TREUGE","Matthew","M",2002,"U14","MID","MID",999.99,999.99]
[21052,"UPTON","Jack","M",2004,"U12","MID",null,999.99,999.99]
[21051,"UPTON","Thomas","M",2001,"U14","MID",null,167.14,123.67]
[14213,"WALKER","Edmund","M",1992,"SEN","MID","MID",77.16,54.38]
[19051,"WEEKS","Oliver","M",2001,"U14","MID","DRA",70.989999999999995,59.18]
[21837,"WOOLLEY","Kieran","M",2005,"U10","MID","WM",999.99,999.99]
[41578,"LEE","Adam","M",1994,"U21","PND","MID",38.93,36.39]
[17479,"POWELL","Jonathan","M",1986,"SEN","RAV","MID",18.72,18.72]
[19379,"GUY","Edward","M",2001,"U14","TEL","MID",238.89,138.32]