{"text_format":"1","workbook":"xlsx","n_sheets":10,"sheets":["Races, Positions & Points","Points Rules","Individual Statistics","Club Statistics","Attendance","Points Calculation","Age Calculation","Start of Year Points","2013.1","Latest Points (2103.5)"],"not_rendered":{"charts":0,"images":0,"macros":1,"external_links":0,"defined_names":3,"comments":0,"pivot_tables":0},"unopened":[],"bounds":{"document_bytes":16777216,"sheet_cells":100000,"rows_first":2000,"rows_last":500,"rows_between":2000,"halvings":0,"cell_chars":16384,"cell_head_chars":4096},"cells_cut":0,"cells_raw":0,"read":"whole","date_system":"1900"}

{"sheet":"Races, Positions & Points","index":0,"n_rows":124,"n_cols":150,"rows_kept":124,"cut":false,"hidden":false,"merged":[[0,131,0,132],[0,102,0,103],[0,107,0,108],[0,110,0,111],[0,113,0,114],[0,116,0,117],[0,119,0,120],[0,122,0,123],[0,125,0,126],[0,128,0,129],[0,87,0,88],[0,90,0,91],[0,93,0,94],[0,96,0,97],[0,99,0,100],[0,71,0,72],[0,74,0,75],[0,77,0,78],[0,81,0,82],[0,84,0,85],[0,56,0,57],[0,59,0,60],[0,62,0,63],[0,65,0,66],[0,68,0,69],[0,43,0,44],[0,47,0,48],[0,50,0,51],[0,53,0,54],[0,28,0,29],[0,31,0,32],[0,34,0,35],[0,37,0,38],[0,40,0,41],[4,1,5,1],[0,14,0,15],[0,18,0,19],[0,22,0,23],[0,25,0,26]]}
[2013,null,"BARTS Points Races",null,null,null,null,null,null,null,null,null,"DATE","2013-04-14",1,null,"2013-04-20",null,{"$f":"1+O1","v":2},null,"2013-04-21",null,{"$f":"1+S1","v":3},null,"2013-04-27",{"$f":"1+W1","v":4},null,"2013-04-28",{"$f":"1+Z1","v":5},null,"2013-05-04",{"$f":"1+AC1","v":6},null,"2013-05-05",{"$f":"1+AF1","v":7},null,"2013-05-11",{"$f":"1+AI1","v":8},null,"2013-05-12",{"$f":"1+AL1","v":9},null,"2013-05-18",{"$f":"1+AO1","v":10},null,"2013-05-19",null,{"$f":"1+AR1","v":11},null,"2013-05-25",{"$f":"1+AV1","v":12},null,"2013-05-26",{"$f":"1+AY1","v":13},null,"2013-06-08",{"$f":"1+BB1","v":14},null,"2013-06-08",{"$f":"1+BE1","v":15},null,"2013-06-09",{"$f":"1+BH1","v":16},null,"2013-06-09",{"$f":"1+BK1","v":17},null,"2013-06-15",{"$f":"1+BN1","v":18},null,"2013-06-16",{"$f":"1+BQ1","v":19},null,"2013-06-22",{"$f":"1+BT1","v":20},null,"2013-06-23",{"$f":"1+BW1","v":21},null,"2013-06-23",null,{"$f":"1+BZ1","v":22},null,"2013-06-29",{"$f":"1+CD1","v":23},null,"2013-06-30",{"$f":"1+CG1","v":24},null,"2013-07-06",{"$f":"1+CJ1","v":25},null,"2013-07-07",{"$f":"1+CM1","v":26},null,"2013-07-13",{"$f":"1+CP1","v":27},null,"2013-07-14",{"$f":"1+CS1","v":28},null,"2013-08-24",{"$f":"1+CV1","v":29},null,"2013-08-25",{"$f":"1+CY1","v":30},"2013-08-31",{"$f":"1+DB1","v":31},null,"2013-09-07",{"$f":"1+DD1","v":32},null,"2013-09-08",{"$f":"1+DG1","v":33},null,"2013-09-15",{"$f":"1+DJ1","v":34},null,"2013-09-21",{"$f":"1+DM1","v":35},null,"2013-09-28",{"$f":"1+DP1","v":36},null,"2013-10-05",{"$f":"1+DS1","v":37},null,"2013-10-06",{"$f":"1+DV1","v":38},null,"2013-10-12",{"$f":"1+DY1","v":39},null,"2013-10-27",{"$f":"1+EB1","v":40}]
["Interactive Results",null,null,null,null,null,null,null,null,null,null,null,"EVENT","SSW Champery",null,null,"Telford CN",null,null,null,"Manchester CN",null,null,null,"GBR Indoor #1",null,null,"Anglo Welsh",null,null,"GBR Outdoor #1",null,null,"GBR Outdoor #2",null,null,"GBR Indoor #2",null,null,"GBR Indoor #3",null,null,"Welwyn CN",null,null,"Milton Keynes CN",null,null,null,"Pendle CN",null,null,"Stoke CN",null,null,"Twin Peaks 1",null,null,"Norfolk CN",null,null,"Twin Peaks 2",null,null,"Suffolk CN",null,null,"GBR Indoor #4",null,null,"Scottish Indoor",null,null,"Midland CN",null,null,"Gloucester CN",null,null,"Hemel CN",null,null,null,"GBR Outdoor #3",null,null,"GBR Outdoor #4",null,null,"GBR Outdoor #5",null,null,"GBR Outdoor #6",null,null,"GBR Indoor #5",null,null,"GBR Indoor #6",null,null,"Scottish Champs",null,null,"Scottish GS",null,"All England",null,null,"Welsh National",null,null,"Welsh Open",null,null,"Craig McFie Classic",null,null,"British Outdoor",null,null,"British Indoor",null,null,"Irish Champs",null,null,"Irish Champs",null,null,"BARSC Indoor",null,null,"Bairns/Lassies"]
["Race Registration",null,null,null,null,null,null,null,null,null,null,null,"VENUE","Gloucester",null,null,"Chill Factore",null,null,null,"Chill Factore",null,null,null,"Milton Keynes",null,null,"Milton Keynes",null,null,"Pendle",null,null,"Pendle",null,null,"Chill Factore",null,null,"Chill Factore",null,null,"Welwyn CN",null,null,"Milton Keynes",null,null,null,"Pendle",null,null,"Pendle",null,null,"Firpark",null,null,"Norwich",null,null,"HillEnd",null,null,"Ipswich",null,null,"Braehead",null,null,"Breahead",null,null,"Gloucester",null,null,"Gloucester",null,null,"Snow Centre",null,null,null,"Pontypool",null,null,"Pontypool",null,null,"Gloucester",null,null,"Gloucester",null,null,"Chill Factore",null,null,"Chill Factore",null,null,"HillEnd",null,null,"HillEnd",null,"Gloucester",null,null,"Pontypool",null,null,"Pontypool",null,null,"HillEnd",null,null,"Norwich",null,null,"Chill Factore",null,null,"Kilternan",null,null,"Kilternan",null,null,"Chill Factore",null,null,"HillEnd"]
[null,null,null,null,null,null,null,null,null,null,null,null,"Min",10,"points","Out",10,"points","In",null,10,"points","In",null,5,"points","In",0,"points","In",5,"points","Out",5,"points","Out",5,"points","In",5,"points","In",10,"points","Out",10,"points","In",null,10,"points","Out",10,"points","Out",10,"points","Out",10,"points","Out",10,"points","Out",10,"points","Out",5,"points","In",0,"points","In",10,"points","Out",10,"points","Out",10,"points","In",null,5,"points","Out",5,"points","Out",5,"points","Out",5,"points","Out",5,"points","In",5,"points","In",0,"points","Out",null,"Out",0,"points","Out",5,"points","Out",0,"points","Out",10,"points","Out",0,"points","Out",0,"points","In",0,"points","Out",0,"points","Out",0,"points","In",null,"Out"]
["Britski","M/F",null,"AGE","REG","POINTS",null,null,"POINTS","POINTS","CURRENT","NEXT",2013,"Overall","Age","Event","Overall","Age","Run1","Run 2","Overall","Age","Run1","Run 2","Overall","Age","Event","Overall","Age","Event","Overall","Age","Event","Overall","Age","Event","Overall","Age","Event","Overall","Age","Event","Overall","Age","Event","Overall","Age","Run1","Run 2","Overall","Age","Event","Overall","Age","Event","Overall","Age","Event","Overall","Age","Event","Overall","Age","Event","Overall","Age","Event","Overall","Age","Event","Overall","Age","Event","Overall","Age","Event","Overall","Age","Event","Overall","Age","Run1","Run 2","Overall","Age","Event","Overall","Age","Event","Overall","Age","Event","Overall","Age","Event","Overall","Age","Event","Overall","Age","Event","Overall","Age","Event","Overall","Age","Overall","Age","Event","Overall","Age","Event","Overall","Age","Event","Overall","Age","Event","Overall","Age","Event","Overall","Age","Event","Overall","Age","Event","Overall","Age","Event","Overall","Age","Event","Overall","Age"]
["Seeding",null,"YEAR","GROUP","NUM",2013,2013.1,2013.2,2013.3,2013.4,2013.5,2013.6,"Change","Position","Position","Points","Position","Position","Points","Points","Position","Position","Points","Points","Position","Position","Points","Position","Position","Points","Position","Position","Points","Position","Position","Points","Position","Position","Points","Position","Position","Points","Position","Position","Points","Position","Position","Points","Points","Position","Position","Points","Position","Position","Points","Position","Position","Points","Position","Position","Points","Position","Position","Points","Position","Position","Points","Position","Position","Points","Position","Position","Points","Position","Position","Points","Position","Position","Points","Position","Position","Points","Points","Position","Position","Points","Position","Position","Points","Position","Position","Points","Position","Position","Points","Position","Position","Points","Position","Position","Points","Position","Position","Points","Position","Position","Position","Position","Points","Position","Position","Points","Position","Position","Points","Position","Position","Points","Position","Position","Points","Position","Position","Points","Position","Position","Points","Position","Position","Points","Position","Position","Points","Position","Position",null,"Overall Podiums","Age Group Podiums",null,"5 point ",2013,"Diff","% Diff","Start *",null,null,{"$f":"'Points Calculation'!BB1","v":"Best Race Points"},{"$f":"'Points Calculation'!BC1","v":"Second Best Race Points"},{"$f":"'Points Calculation'!BD1","v":"Points Calc Based on Best Two Races"},{"$f":"'Points Calculation'!BG1","v":"Points"}]
["GIRLS",null,null,null,null,null,null,null,null,null,null,null,null,null,null,null,null,null,null,null,null,null,null,null,null,null,null,null,null,null,null,null,null,null,null,null,null,null,null,null,null,null,null,null,null,null,null,null,null,null,null,null,null,null,null,null,null,null,null,null,null,null,null,null,null,null,null,null,null,null,null,null,null,null,null,null,null,null,null,null,null,null,null,null,null,null,null,null,null,null,null,null,null,null,null,null,null,null,null,null,null,null,null,null,null,null,null,null,null,null,null,null,null,null,null,null,null,null,null,null,null,null,null,null,null,null,null,null,null,null,null,null,null,null,null,null," "," "]
["Lauren Treuge","F",2003,{"$f":"INDEX('Age Calculation'!$A$1:'Age Calculation'!$Q$108,MATCH(C8,'Age Calculation'!$A$1:'Age Calculation'!$A$108),MATCH($A$1,'Age Calculation'!$A$1:'Age Calculation'!$Q$1))","v":"U12"},20669,999.99,999.99,999.99,999.99,999.99,999.99,null,{"$f":"IF(F8<999.99,IF(MIN(G8,L8)<F8,MIN(G8,L8)-F8,\"\"),\"\")","v":""},"DNF","DNF",999.99,null,null,null,null,null,null,null,null,null,null,null,null,null,null,null,null,null,null,null,null,null,null,null,null,null,null,null,null,null,null,null,null,null,null,null,null,null,null,null,null,null,null,null,null,null,null,null,null,null,null,null,null,null,null,null,null,null,null,null,null,null,null,null,null,null,null,null,null,null,null,null,null,null,null,null,null,null,null,null,null,null,null,null,null,null,null,null,null,null,null,null,null,null,null,null,null,4,4,999.99,null,null,null,null,null,null,null,null,null,null,null,null,null,null,null,null,null,null,null,null,null,null,{"$f":"SUM((O$5:EF$5=\"Age\")*(O8:EF8<=3))-SUM((O$5:EF$5=\"Age\")*(O8:EF8=0))","v":0}]
["Tilley O'Brien","F",2004,{"$f":"INDEX('Age Calculation'!$A$1:'Age Calculation'!$Q$108,MATCH(C9,'Age Calculation'!$A$1:'Age Calculation'!$A$108),MATCH($A$1,'Age Calculation'!$A$1:'Age Calculation'!$Q$1))","v":"U10"},20809,999.99,999.99,999.99,999.99,999.99,999.99,null,{"$f":"IF(F9<999.99,IF(MIN(G9,L9)<F9,MIN(G9,L9)-F9,\"\"),\"\")","v":""},null,null,null,6,1,999.99,999.99,6,1,999.99,999.99,null,null,null,null,null,null,null,null,null,null,null,null,null,null,null,null,null,null,null,null,null,10,2,999.99,999.99,null,null,null,null,null,null,null,null,null,null,null,null,null,null,null,null,null,null,null,null,null,null,null,null,null,null,null,null,null,null,4,1,999.99,999.99,null,null,null,null,null,null,null,null,null,null,null,null,null,null,null,5,1,999.99,null,null,null,null,null,null,null,null,null,null,null,null,null,null,null,null,null,null,null,null,7,1,999.99,null,null,null,null,null,null,null,null,null,null,null,null,null,{"$f":"SUM((O$5:EF$5=\"Age\")*(O9:EF9<=3))-SUM((O$5:EF$5=\"Age\")*(O9:EF9=0))","v":6}]
["Anya Hemming","F",2005,{"$f":"INDEX('Age Calculation'!$A$1:'Age Calculation'!$Q$108,MATCH(C10,'Age Calculation'!$A$1:'Age Calculation'!$A$108),MATCH($A$1,'Age Calculation'!$A$1:'Age Calculation'!$Q$1))","v":"U10"},21569,999.99,999.99,999.99,999.99,999.99,999.99,null,{"$f":"IF(F10<999.99,IF(MIN(G10,L10)<F10,MIN(G10,L10)-F10,\"\"),\"\")","v":""},4,2,999.99,null,null,null,null,null,null,null,null,null,null,null,17,3,999.99,null,null,null,null,null,null,null,null,null,null,null,null,3,1,999.99,null,null,null,null,3,2,999.99,4,2,999.99,null,null,null,7,1,999.99,null,null,null,6,1,999.99,null,null,null,null,null,null,9,3,999.99,7,3,999.99,null,null,null,null,null,null,null,null,null,null,null,null,null,null,null,null,null,null,null,null,null,null,null,null,null,null,null,9,4,999.99,null,null,null,6,2,999.99,null,null,null,5,1,999.99,null,null,null,null,null,null,null,null,null,null,null,null,null,null,null,null,{"$f":"SUM((O$5:EF$5=\"Age\")*(O10:EF10<=3))-SUM((O$5:EF$5=\"Age\")*(O10:EF10=0))","v":11}]
["BOYS",null,null,null,null,null,null,null,null,null,null,null,null,null,null,null,null,null,null,null,null,null,null,null,null,null,null,null,null,null,null,null,null,null,null,null,null,null,null,null,null,null,null,null,null,null,null,null,null,null,null,null,null,null,null,null,null,null,null,null,null,null,null,null,null,null,null,null,null,null,null,null,null,null,null,null,null,null,null,null,null,null,null,null,null,null,null,null,null,null,null,null,null,null,null,null,null,null,null,null,null,null,null,null,null,null,null,null,null,null,null,null,null,null,null,null,null,null,null,null,null,null,null,null,null,null,null,null,null,null,null,null,null,null,null,null," "]
["James Care","M",2002,{"$f":"INDEX('Age Calculation'!$A$1:'Age Calculation'!$Q$108,MATCH(C12,'Age Calculation'!$A$1:'Age Calculation'!$A$108),MATCH($A$1,'Age Calculation'!$A$1:'Age Calculation'!$Q$1))","v":"U12"},20590,999.99,999.99,999.99,999.99,999.99,999.99,null,{"$f":"IF(F12<999.99,IF(MIN(G12,L12)<F12,MIN(G12,L12)-F12,\"\"),\"\")","v":""},12,10,999.99,null,null,null,null,null,null,null,null,null,null,null,null,null,null,null,null,null,null,null,null,null,null,null,null,null,null,null,null,null,null,null,null,null,null,null,null,null,null,null,null,null,null,null,null,null,null,null,null,null,null,null,null,null,null,null,null,null,null,null,null,16,11,999.99,null,null,null,null,null,null,null,null,null,null,null,null,null,null,null,null,null,null,null,null,null,null,null,null,null,null,null,null,null,null,null,null,null,null,null,null,null,null,null,null,null,null,null,null,null,null,null,null,null,null,null,null,null,null,null,null,null,null,{"$f":"SUM((O$5:EF$5=\"Age\")*(O12:EF12<=3))-SUM((O$5:EF$5=\"Age\")*(O12:EF12=0))","v":0}]
["Macaulay Clover","M",2002,{"$f":"INDEX('Age Calculation'!$A$1:'Age Calculation'!$Q$108,MATCH(C13,'Age Calculation'!$A$1:'Age Calculation'!$A$108),MATCH($A$1,'Age Calculation'!$A$1:'Age Calculation'!$Q$1))","v":"U12"},"Day","NR","NR","NR","NR","NR","NR",null,"",10,9,999.99,null,null,null,null,null,null,null,null,null,null,null,null,null,null,null,null,null,null,null,null,null,null,null,null,null,null,null,null,null,null,null,null,null,null,null,null,null,null,null,null,null,null,null,null,null,null,null,null,null,null,null,null,null,null,null,null,null,null,null,null,null,null,null,null,null,null,null,null,null,null,null,null,null,null,null,null,null,null,null,null,null,null,null,null,null,null,null,null,null,null,null,null,null,null,null,null,null,null,null,null,null,null,null,null,null,null,null,null,null,null,null,null,null,null,null,null,null,null,null,null,null,{"$f":"SUM((O$5:EF$5=\"Age\")*(O13:EF13<=3))-SUM((O$5:EF$5=\"Age\")*(O13:EF13=0))","v":0}]
["Seamus O'Brien","M",2002,{"$f":"INDEX('Age Calculation'!$A$1:'Age Calculation'!$Q$108,MATCH(C14,'Age Calculation'!$A$1:'Age Calculation'!$A$108),MATCH($A$1,'Age Calculation'!$A$1:'Age Calculation'!$Q$1))","v":"U12"},19737,999.99,999.99,999.99,999.99,999.99,999.99,null,"",null,null,null,"DNF","DNF",999.99,999.99,6,6,999.99,999.99,"DNS","DNS",null,null,null,null,null,null,null,null,null,null,4,4,999.99,5,5,999.99,null,null,null,null,null,null,null,null,null,null,null,null,null,null,null,null,null,null,null,null,null,null,null,null,null,null,null,null,null,null,null,null,null,null,null,null,null,2,2,999.99,999.99,null,null,null,null,null,null,null,null,null,null,null,null,null,null,null,6,6,999.99,null,null,null,null,null,null,null,null,null,null,null,null,null,null,null,null,null,null,null,null,2,2,999.99,null,null,null,null,null,null,null,null,null,null,null,null,null,{"$f":"SUM((O$5:EF$5=\"Age\")*(O14:EF14<=3))-SUM((O$5:EF$5=\"Age\")*(O14:EF14=0))","v":2}]
["Matthew Treuge","M",2002,{"$f":"INDEX('Age Calculation'!$A$1:'Age Calculation'!$Q$108,MATCH(C15,'Age Calculation'!$A$1:'Age Calculation'!$A$108),MATCH($A$1,'Age Calculation'!$A$1:'Age Calculation'!$Q$1))","v":"U12"},20670,999.99,999.99,999.99,999.99,999.99,999.99,null,"",7,6,999.99,null,null,null,null,null,null,null,null,null,null,null,null,null,null,null,null,null,null,null,null,null,null,null,null,null,null,null,null,null,null,null,null,null,null,null,null,null,null,null,null,null,null,null,null,null,null,null,null,null,null,null,null,null,null,null,null,null,null,null,null,null,null,null,null,null,null,null,null,null,null,null,null,null,null,null,null,null,null,null,null,null,null,null,null,null,null,null,null,null,null,null,null,null,null,null,null,8,7,999.99,null,null,null,null,null,null,null,null,null,null,null,null,null,null,null,null,null,null,null,null,null,null,{"$f":"SUM((O$5:EF$5=\"Age\")*(O15:EF15<=3))-SUM((O$5:EF$5=\"Age\")*(O15:EF15=0))","v":0}]
["James Shakeshaft","M",2003,{"$f":"INDEX('Age Calculation'!$A$1:'Age Calculation'!$Q$108,MATCH(C16,'Age Calculation'!$A$1:'Age Calculation'!$A$108),MATCH($A$1,'Age Calculation'!$A$1:'Age Calculation'!$Q$1))","v":"U12"},20340,999.99,999.99,999.99,999.99,999.99,999.99,null,"",null,null,null,null,null,null,null,null,null,null,null,null,null,null,null,null,null,null,null,null,null,null,null,null,null,null,null,null,null,null,null,null,null,null,null,null,null,null,null,null,null,null,null,null,null,null,null,null,null,null,null,null,null,null,null,null,null,null,null,null,15,11,999.99,null,null,null,null,null,null,null,null,null,null,null,null,null,null,null,null,null,null,null,null,null,null,null,null,null,null,null,null,null,null,null,null,null,null,null,null,null,null,null,null,null,null,null,null,null,null,null,null,null,null,null,null,null,null,null,null,null,null,null,null,0,{"$f":"SUM((O$5:EF$5=\"Age\")*(O16:EF16<=3))-SUM((O$5:EF$5=\"Age\")*(O16:EF16=0))","v":0}]
["Daniel Hadley","M",2004,{"$f":"INDEX('Age Calculation'!$A$1:'Age Calculation'!$Q$108,MATCH(C17,'Age Calculation'!$A$1:'Age Calculation'!$A$108),MATCH($A$1,'Age Calculation'!$A$1:'Age Calculation'!$Q$1))","v":"U10"},20719,999.99,999.99,999.99,999.99,999.99,999.99,null,"",null,null,null,null,null,null,null,null,null,null,null,15,4,999.99,12,3,999.99,null,null,null,null,null,null,null,null,null,null,null,null,null,null,null,9,3,999.99,999.99,null,null,null,null,null,null,null,null,null,null,null,null,null,null,null,null,null,null,null,null,null,null,null,null,14,4,999.99,null,null,null,null,null,null,null,null,null,null,null,null,null,null,null,null,null,null,null,null,null,null,null,null,null,null,null,null,null,null,null,null,null,null,null,null,null,null,null,null,null,null,null,null,null,null,null,null,null,null,null,null,null,null,null,null,null,null,null,null,null,{"$f":"SUM((O$5:EF$5=\"Age\")*(O17:EF17<=3))-SUM((O$5:EF$5=\"Age\")*(O17:EF17=0))","v":2}]
["Jack Teague","M",2004,{"$f":"INDEX('Age Calculation'!$A$1:'Age Calculation'!$Q$108,MATCH(C18,'Age Calculation'!$A$1:'Age Calculation'!$A$108),MATCH($A$1,'Age Calculation'!$A$1:'Age Calculation'!$Q$1))","v":"U10"},20630,999.99,999.99,999.99,999.99,999.99,999.99,null,"",6,1,999.99,null,null,null,null,null,null,null,null,null,null,null,null,null,null,null,null,null,null,null,null,null,null,null,null,null,null,null,null,null,null,null,null,null,null,null,null,null,null,null,null,null,null,null,null,null,null,null,null,null,null,null,null,null,null,null,null,null,12,3,999.99,null,null,null,null,null,null,null,null,null,null,null,null,null,null,null,null,null,null,null,null,null,null,null,null,null,null,null,null,null,null,null,null,null,null,null,null,null,null,null,null,null,null,null,null,null,null,null,null,null,null,null,null,null,null,null,null,null,null,null,null,null,{"$f":"SUM((O$5:EF$5=\"Age\")*(O18:EF18<=3))-SUM((O$5:EF$5=\"Age\")*(O18:EF18=0))","v":2}]
["Jack Upton","M",2004,{"$f":"INDEX('Age Calculation'!$A$1:'Age Calculation'!$Q$108,MATCH(C19,'Age Calculation'!$A$1:'Age Calculation'!$A$108),MATCH($A$1,'Age Calculation'!$A$1:'Age Calculation'!$Q$1))","v":"U10"},21052,999.99,999.99,999.99,999.99,999.99,999.99,null,"",null,null,null,null,null,null,null,null,null,null,null,null,null,null,10,1,999.99,null,null,null,null,null,null,null,null,null,null,null,null,null,null,null,6,1,999.99,999.99,9,2,999.99,5,1,999.99,null,null,null,"DNF","DNF",999.99,null,null,null,4,1,999.99,null,null,null,null,null,null,7,1,999.99,6,1,999.99,null,null,null,null,null,null,null,5,1,999.99,4,1,999.99,3,1,999.99,null,null,null,null,null,null,null,null,null,null,null,4,1,999.99,null,null,null,2,1,999.99,null,null,null,2,1,999.99,null,null,null,null,null,null,null,null,null,null,null,null,null,null,null,null,{"$f":"SUM((O$5:EF$5=\"Age\")*(O19:EF19<=3))-SUM((O$5:EF$5=\"Age\")*(O19:EF19=0))","v":13}]
["FEMALES",null,null,null,null,null,null,null,null,null,null,null,"",null,null,null,null,null,null,null,null,null,null,null,null,null,null,null,null,null,null,null,null,null,null,null,null,null,null,null,null,null,null,null,null,null,null,null,null,null,null,null,null,null,null,null,null,null,null,null,null,null,null,null,null,null,null,null,null,null,null,null,null,null,null,null,null,null,null,null,null,null,null,null,null,null,null,null,null,null,null,null,null,null,null,null,null,null,null,null,null,null,null,null,null,null,null,null,null,null,null,null,null,null,null,null,null,null,null,null,null,null,null,null,null,null,null,null,null,null,null,null,null,null,null,null," "]
["Lucy Deller","F",1996,{"$f":"INDEX('Age Calculation'!$A$1:'Age Calculation'!$Q$108,MATCH(C21,'Age Calculation'!$A$1:'Age Calculation'!$A$108),MATCH($A$1,'Age Calculation'!$A$1:'Age Calculation'!$Q$1))","v":"U18"},17888,15.68,15.68,15.68,15.68,15.68,15.68,{"$f":"IF('Points Calculation'!BG21<K21,'Points Calculation'!BG21,\"\")","v":""},{"$f":"IF(F21<999.99,IF(MIN(K21,L21)<F21,MIN(K21,L21)-F21,\"\"),\"\")","v":""},10,6,116.79,20,9,108.54,117.18,18,9,100.34,122.89,19,7,121.95,13,6,80.11,6,2,31.3,8,3,45.53,14,5,98.64,9,4,78.77,2,1,43.87,null,null,null,null,4,2,25.01,5,2,26.15,null,null,null,4,2,26.36,null,null,null,6,3,35.950000000000003,7,5,77.2,9,6,74.8,6,4,97.23,8,4,56.72,null,null,null,null,"DNF","DNF",999.99,null,null,null,11,5,37.54,9,5,36.18,12,6,68.48,11,5,68.3,null,null,null,null,null,"DNF","DNF",999.99,8,5,69.540000000000006,"DSQ","DSQ",999.99,null,null,null,8,4,53.39,16,7,78.8,"DNF","DNF",999.99,4,3,81.599999999999994,6,3,57.22,null,null,null,{"$f":"SUM((N$5:EE$5=\"Overall\")*(N21:EE21<=3))-SUM((N$5:EE$5=\"Overall\")*(N21:EE21=0))","v":1},{"$f":"SUM((O$5:EF$5=\"Age\")*(O21:EF21<=3))-SUM((O$5:EF$5=\"Age\")*(O21:EF21=0))","v":9},null,{"$f":"IF(MIN('Points Calculation'!CB21,'Points Calculation'!CC21)>0,MIN('Points Calculation'!CB21,'Points Calculation'!CC21),\"\")","v":33.74},{"$f":"IF(MIN('Points Calculation'!BD21,'Points Calculation'!BF21)>0,MIN('Points Calculation'!BD21,'Points Calculation'!BF21),\"\")","v":25.69},{"$f":"IF(EJ21<>\"\",EJ21-EK21,\"\")","v":8.0500000000000007},{"$f":"IF(EJ21<>\"\",EL21/EK21,\"\")","v":0.3133514986376022},{"$f":"IF(F21>800,999.99,IF(F21<50,F21+10,F21*1.2))","v":25.68},null,null,{"$f":"'Points Calculation'!BB21","v":25.01},{"$f":"'Points Calculation'!BC21","v":26.36},{"$f":"'Points Calculation'!BD21","v":25.69},{"$f":"'Points Calculation'!BG21","v":15.68}]
["Rowan Vernon","F",1988,{"$f":"INDEX('Age Calculation'!$A$1:'Age Calculation'!$Q$108,MATCH(C22,'Age Calculation'!$A$1:'Age Calculation'!$A$108),MATCH($A$1,'Age Calculation'!$A$1:'Age Calculation'!$Q$1))","v":"SEN"},13381,22.84,22.84,22.84,22.84,22.84,22.84,null,"",null,null,null,null,null,null,null,null,null,null,null,null,null,null,null,null,null,null,null,null,null,null,null,null,null,null,null,null,null,null,null,null,null,null,null,null,null,null,null,null,null,null,null,null,null,null,null,null,null,null,null,null,null,null,null,null,null,null,null,null,null,null,null,null,null,null,null,null,null,null,null,null,null,null,null,null,null,null,null,null,null,null,null,null,null,null,null,null,null,null,null,null,null,null,null,null,null,null,null,null,null,null,null,null,null,null,null,null,null,null,null,null,null,null,null,null,null,null,null,null,null,null,null,{"$f":"SUM((N$5:EE$5=\"Overall\")*(N22:EE22<=3))-SUM((N$5:EE$5=\"Overall\")*(N22:EE22=0))","v":0},{"$f":"SUM((O$5:EF$5=\"Age\")*(O22:EF22<=3))-SUM((O$5:EF$5=\"Age\")*(O22:EF22=0))","v":0},null,null,{"$f":"IF(MIN('Points Calculation'!BD22,'Points Calculation'!BF22)>0,MIN('Points Calculation'!BD22,'Points Calculation'!BF22),\"\")","v":""},null,null,{"$f":"F22+10","v":32.840000000000003},null,null,{"$f":"'Points Calculation'!BB22","v":""},{"$f":"'Points Calculation'!BC22","v":""},{"$f":"'Points Calculation'!BD22","v":""},{"$f":"'Points Calculation'!BG22","v":22.84}]
["Rachel Bill","F",1990,{"$f":"INDEX('Age Calculation'!$A$1:'Age Calculation'!$Q$108,MATCH(C23,'Age Calculation'!$A$1:'Age Calculation'!$A$108),MATCH($A$1,'Age Calculation'!$A$1:'Age Calculation'!$Q$1))","v":"SEN"},20168,33.85,33.85,33.85,23.81,23.81,23.81,{"$f":"IF('Points Calculation'!BG23<K23,'Points Calculation'!BG23,\"\")","v":""},-10.040000000000003,"DNF","DNF",999.99,null,null,null,null,null,null,null,null,null,null,null,null,null,null,null,null,null,null,null,null,null,null,null,11,1,79.430000000000007,null,null,null,null,null,null,null,5,2,25.68,4,2,25.28,null,null,null,2,1,22.33,null,null,null,2,1,25.41,null,null,null,null,null,null,"DNF","DNF",999.99,"DNS3","DNS3",999.99,null,null,null,null,null,null,null,"DNF","DNF",999.99,"DNF","DNF",999.99,null,null,null,null,null,null,null,null,null,null,null,null,null,null,"DNF","DNF",999.99,null,null,null,null,null,null,null,null,null,"DNF","DNF",999.99,null,null,null,null,null,null,null,null,null,null,null,null,null,null,null,{"$f":"SUM((N$5:EE$5=\"Overall\")*(N23:EE23<=3))-SUM((N$5:EE$5=\"Overall\")*(N23:EE23=0))","v":2},{"$f":"SUM((O$5:EF$5=\"Age\")*(O23:EF23<=3))-SUM((O$5:EF$5=\"Age\")*(O23:EF23=0))","v":5},null,{"$f":"IF(MIN('Points Calculation'!CB23,'Points Calculation'!CC23)>0,MIN('Points Calculation'!CB23,'Points Calculation'!CC23),\"\")","v":95.316000000000003},{"$f":"IF(MIN('Points Calculation'!BD23,'Points Calculation'!BF23)>0,MIN('Points Calculation'!BD23,'Points Calculation'!BF23),\"\")","v":23.81},{"$f":"IF(EJ23<>\"\",EJ23-EK23,\"\")","v":71.506},{"$f":"IF(EJ23<>\"\",EL23/EK23,\"\")","v":3.0031919361612771},{"$f":"IF(F23>800,999.99,IF(F23<50,F23+10,F23*1.2))","v":43.85},null,null,{"$f":"'Points Calculation'!BB23","v":22.33},{"$f":"'Points Calculation'!BC23","v":25.28},{"$f":"'Points Calculation'!BD23","v":23.81},{"$f":"'Points Calculation'!BG23","v":23.81}]
["Helena Newboult","F",1998,{"$f":"INDEX('Age Calculation'!$A$1:'Age Calculation'!$Q$108,MATCH(C24,'Age Calculation'!$A$1:'Age Calculation'!$A$108),MATCH($A$1,'Age Calculation'!$A$1:'Age Calculation'!$Q$1))","v":"U16"},20696,30.53,30.53,30.53,27.39,27.39,27.39,{"$f":"IF('Points Calculation'!BG24<K24,'Points Calculation'!BG24,\"\")","v":""},-3.1400000000000006,5,1,77.48,16,5,94.58,111.63,15,4,95.03,103.49,null,null,null,null,null,null,12,2,83.32,"DSQ","DSQ",999.99,null,null,null,null,null,null,null,null,null,null,null,null,null,6,1,36.28,6,1,38.76,null,null,null,5,2,27.26,null,null,null,4,1,27.52,null,null,null,null,null,null,8,1,113.48,11,1,66.59,null,null,null,null,null,null,null,null,null,null,null,null,null,null,null,null,null,null,null,null,null,null,null,null,null,null,null,"DNF","DNF",999.99,null,null,null,null,null,null,null,null,null,12,2,61.96,null,null,null,null,null,null,null,null,null,null,null,null,null,null,null,{"$f":"SUM((N$5:EE$5=\"Overall\")*(N24:EE24<=3))-SUM((N$5:EE$5=\"Overall\")*(N24:EE24=0))","v":0},{"$f":"SUM((O$5:EF$5=\"Age\")*(O24:EF24<=3))-SUM((O$5:EF$5=\"Age\")*(O24:EF24=0))","v":9},null,{"$f":"IF(MIN('Points Calculation'!CB24,'Points Calculation'!CC24)>0,MIN('Points Calculation'!CB24,'Points Calculation'!CC24),\"\")","v":69.72},{"$f":"IF(MIN('Points Calculation'!BD24,'Points Calculation'!BF24)>0,MIN('Points Calculation'!BD24,'Points Calculation'!BF24),\"\")","v":27.39},42.33,1.5454545454545454,40.53,null,null,{"$f":"'Points Calculation'!BB24","v":27.26},{"$f":"'Points Calculation'!BC24","v":27.52},{"$f":"'Points Calculation'!BD24","v":27.39},{"$f":"'Points Calculation'!BG24","v":27.39}]
["Amy Middleton","F",1995,{"$f":"INDEX('Age Calculation'!$A$1:'Age Calculation'!$Q$108,MATCH(C25,'Age Calculation'!$A$1:'Age Calculation'!$A$108),MATCH($A$1,'Age Calculation'!$A$1:'Age Calculation'!$Q$1))","v":"U21"},20307,69.36,69.36,69.36,51.15,51.15,51.15,{"$f":"IF('Points Calculation'!BG25<K25,'Points Calculation'!BG25,\"\")","v":""},-18.21,6,2,78.33,21,3,103.04,133.4,null,null,null,null,null,null,null,null,null,null,"DNF","DNF",999.99,13,5,101.75,null,null,null,null,null,null,null,null,null,null,null,null,null,7,2,54.55,7,2,41.15,null,null,null,null,null,null,null,null,null,null,null,null,null,null,null,null,null,null,"DNF","DNF",999.99,10,5,64.47,null,null,null,null,"DNF","DNF",999.99,"DNF","DNF",999.99,16,4,72.75,12,4,68.98,null,null,null,null,null,null,null,null,null,null,null,"DNF","DNF",999.99,10,3,87.35,8,1,117.19,null,null,null,18,6,97.33,null,null,null,null,null,null,null,null,null,null,null,null,null,null,null,{"$f":"SUM((N$5:EE$5=\"Overall\")*(N25:EE25<=3))-SUM((N$5:EE$5=\"Overall\")*(N25:EE25=0))","v":0},{"$f":"SUM((O$5:EF$5=\"Age\")*(O25:EF25<=3))-SUM((O$5:EF$5=\"Age\")*(O25:EF25=0))","v":6},null,{"$f":"IF(MIN('Points Calculation'!CB25,'Points Calculation'!CC25)>0,MIN('Points Calculation'!CB25,'Points Calculation'!CC25),\"\")","v":78.164999999999992},{"$f":"IF(MIN('Points Calculation'!BD25,'Points Calculation'!BF25)>0,MIN('Points Calculation'!BD25,'Points Calculation'!BF25),\"\")","v":51.15},27.014999999999993,0.52815249266862163,83.231999999999999,null,null,{"$f":"'Points Calculation'!BB25","v":41.15},{"$f":"'Points Calculation'!BC25","v":64.47},{"$f":"'Points Calculation'!BD25","v":52.81},{"$f":"'Points Calculation'!BG25","v":51.15}]
["Elisabeth Thomas","F",1996,{"$f":"INDEX('Age Calculation'!$A$1:'Age Calculation'!$Q$108,MATCH(C26,'Age Calculation'!$A$1:'Age Calculation'!$A$108),MATCH($A$1,'Age Calculation'!$A$1:'Age Calculation'!$Q$1))","v":"U18"},18033,60.58,60.58,60.58,60.58,60.58,60.58,{"$f":"IF('Points Calculation'!BG26<K26,'Points Calculation'!BG26,\"\")","v":""},"",null,null,null,null,null,null,null,null,null,null,null,null,null,null,null,null,null,null,null,null,null,null,null,null,null,null,null,null,null,null,null,null,null,null,null,null,null,null,null,null,null,null,null,null,null,null,null,null,null,null,null,null,null,null,null,null,null,null,null,null,null,null,null,null,null,null,null,null,null,null,null,null,null,null,null,null,null,null,null,null,null,null,null,null,null,null,null,null,null,null,null,null,null,null,null,null,null,null,null,"DNS","DNS",999.99,null,null,null,16,8,74.260000000000005,null,null,null,null,null,null,null,null,null,null,null,null,null,null,null,{"$f":"SUM((N$5:EE$5=\"Overall\")*(N26:EE26<=3))-SUM((N$5:EE$5=\"Overall\")*(N26:EE26=0))","v":0},{"$f":"SUM((O$5:EF$5=\"Age\")*(O26:EF26<=3))-SUM((O$5:EF$5=\"Age\")*(O26:EF26=0))","v":0},null,{"$f":"IF(MIN('Points Calculation'!CB26,'Points Calculation'!CC26)>0,MIN('Points Calculation'!CB26,'Points Calculation'!CC26),\"\")","v":89.112000000000009},{"$f":"IF(MIN('Points Calculation'!BD26,'Points Calculation'!BF26)>0,MIN('Points Calculation'!BD26,'Points Calculation'!BF26),\"\")","v":89.11},2.0000000000095497E-3,2.2444170126916729E-5,72.695999999999998,null,null,{"$f":"'Points Calculation'!BB26","v":74.260000000000005},{"$f":"'Points Calculation'!BC26","v":999.99},{"$f":"'Points Calculation'!BD26","v":537.13},{"$f":"'Points Calculation'!BG26","v":60.58}]
["Maxine Hancock","F",1997,{"$f":"INDEX('Age Calculation'!$A$1:'Age Calculation'!$Q$108,MATCH(C27,'Age Calculation'!$A$1:'Age Calculation'!$A$108),MATCH($A$1,'Age Calculation'!$A$1:'Age Calculation'!$Q$1))","v":"U18"},18617,124.82,94.5,74.28,74.28,74.28,74.28,{"$f":"IF('Points Calculation'!BG27<K27,'Points Calculation'!BG27,\"\")","v":""},-50.539999999999992,null,null,null,13,7,79.78,78.75,16,8,106.54,111.42,12,5,87.55,12,5,78.760000000000005,null,null,null,null,null,null,17,6,120.91,13,5,94.66,null,null,null,18,6,69.8,null,null,null,null,null,null,null,null,null,null,null,null,null,null,null,null,null,null,null,9,6,90.93,13,8,94.75,null,null,null,null,null,null,19,5,269.07,117.57,null,null,null,null,null,null,null,null,null,null,null,null,18,7,103.39,18,6,119.45,null,null,null,null,null,null,null,null,null,null,null,null,null,null,null,null,null,null,null,null,23,8,131.18,null,null,null,null,null,null,12,4,122.26,null,null,null,{"$f":"SUM((N$5:EE$5=\"Overall\")*(N27:EE27<=3))-SUM((N$5:EE$5=\"Overall\")*(N27:EE27=0))","v":0},{"$f":"SUM((O$5:EF$5=\"Age\")*(O27:EF27<=3))-SUM((O$5:EF$5=\"Age\")*(O27:EF27=0))","v":0},null,{"$f":"IF(MIN('Points Calculation'!CB27,'Points Calculation'!CC27)>0,MIN('Points Calculation'!CB27,'Points Calculation'!CC27),\"\")","v":84.844999999999999},{"$f":"IF(MIN('Points Calculation'!BD27,'Points Calculation'!BF27)>0,MIN('Points Calculation'!BD27,'Points Calculation'!BF27),\"\")","v":74.28},10.564999999999998,0.14223209477652124,149.78399999999999,null,null,{"$f":"'Points Calculation'!BB27","v":69.8},{"$f":"'Points Calculation'!BC27","v":78.75},{"$f":"'Points Calculation'!BD27","v":74.28},{"$f":"'Points Calculation'!BG27","v":74.28}]
["Jessica Mayhew","F",2000,{"$f":"INDEX('Age Calculation'!$A$1:'Age Calculation'!$Q$108,MATCH(C28,'Age Calculation'!$A$1:'Age Calculation'!$A$108),MATCH($A$1,'Age Calculation'!$A$1:'Age Calculation'!$Q$1))","v":"U14"},21014,124.09,124.09,113.11,87.53,84.18,84.18,{"$f":"IF('Points Calculation'!BG28<K28,'Points Calculation'!BG28,\"\")","v":""},-39.909999999999997,11,2,125.9,null,null,null,null,23,4,129.57,185.5,null,null,null,null,null,null,15,2,102.13,14,1,103.99,null,null,null,null,null,null,null,null,null,null,null,null,null,null,null,null,null,null,null,null,null,null,17,2,91.81,null,null,null,15,2,83.25,null,null,null,null,null,null,9,1,118,14,1,85.1,null,null,null,null,null,null,null,null,null,null,17,2,99.31,14,2,88.75,null,null,null,null,null,null,null,null,null,null,null,null,null,null,null,null,null,null,null,null,null,null,null,null,null,null,null,null,null,null,null,null,null,null,null,null,null,null,null,null,null,{"$f":"SUM((N$5:EE$5=\"Overall\")*(N28:EE28<=3))-SUM((N$5:EE$5=\"Overall\")*(N28:EE28=0))","v":0},{"$f":"SUM((O$5:EF$5=\"Age\")*(O28:EF28<=3))-SUM((O$5:EF$5=\"Age\")*(O28:EF28=0))","v":9},null,{"$f":"IF(MIN('Points Calculation'!CB28,'Points Calculation'!CC28)>0,MIN('Points Calculation'!CB28,'Points Calculation'!CC28),\"\")","v":95.44},{"$f":"IF(MIN('Points Calculation'!BD28,'Points Calculation'!BF28)>0,MIN('Points Calculation'!BD28,'Points Calculation'!BF28),\"\")","v":84.18},11.259999999999991,0.13376098835827976,148.90799999999999,null,null,{"$f":"'Points Calculation'!BB28","v":83.25},{"$f":"'Points Calculation'!BC28","v":85.1},{"$f":"'Points Calculation'!BD28","v":84.18},{"$f":"'Points Calculation'!BG28","v":84.18}]
["Hannah Shakeshaft","F",1996,{"$f":"INDEX('Age Calculation'!$A$1:'Age Calculation'!$Q$108,MATCH(C29,'Age Calculation'!$A$1:'Age Calculation'!$A$108),MATCH($A$1,'Age Calculation'!$A$1:'Age Calculation'!$Q$1))","v":"U18"},19833,116.91,116.91,116.91,116.91,116.91,116.91,{"$f":"IF('Points Calculation'!BG29<K29,'Points Calculation'!BG29,\"\")","v":""},"",null,null,null,null,null,null,null,null,null,null,null,null,null,null,null,null,null,null,null,null,null,null,null,null,null,null,null,null,null,null,null,null,null,null,null,null,null,null,null,null,null,null,null,null,null,null,null,null,null,null,null,null,null,null,null,null,null,null,null,null,null,null,null,null,null,null,null,null,null,null,null,null,null,null,null,null,null,null,null,null,null,null,null,null,null,null,null,null,null,null,null,null,null,null,null,null,null,null,null,null,null,null,null,null,null,null,null,null,null,null,null,null,null,null,null,null,null,null,null,null,null,null,null,{"$f":"SUM((N$5:EE$5=\"Overall\")*(N29:EE29<=3))-SUM((N$5:EE$5=\"Overall\")*(N29:EE29=0))","v":0},{"$f":"SUM((O$5:EF$5=\"Age\")*(O29:EF29<=3))-SUM((O$5:EF$5=\"Age\")*(O29:EF29=0))","v":0},null,{"$f":"IF(MIN('Points Calculation'!CB29,'Points Calculation'!CC29)>0,MIN('Points Calculation'!CB29,'Points Calculation'!CC29),\"\")","v":""},{"$f":"IF(MIN('Points Calculation'!BD29,'Points Calculation'!BF29)>0,MIN('Points Calculation'!BD29,'Points Calculation'!BF29),\"\")","v":""},"","",140.292,null,null,{"$f":"'Points Calculation'!BB29","v":""},{"$f":"'Points Calculation'!BC29","v":""},{"$f":"'Points Calculation'!BD29","v":""},{"$f":"'Points Calculation'!BG29","v":116.91}]
["Chloe Care","F",1998,{"$f":"INDEX('Age Calculation'!$A$1:'Age Calculation'!$Q$108,MATCH(C30,'Age Calculation'!$A$1:'Age Calculation'!$A$108),MATCH($A$1,'Age Calculation'!$A$1:'Age Calculation'!$Q$1))","v":"U16"},19983,224.39,224.39,207.02,207.02,203.01,203.01,{"$f":"IF('Points Calculation'!BG30<K30,'Points Calculation'!BG30,\"\")","v":""},-21.379999999999995,16,3,290.22000000000003,null,null,null,null,null,null,null,null,null,null,null,null,null,null,null,null,null,null,null,null,null,null,null,null,null,null,20,6,189.64,null,null,null,null,null,null,null,null,null,null,null,null,null,null,null,null,null,null,null,null,null,null,null,null,null,null,null,null,null,null,null,26,2,244.28,null,null,null,null,null,null,null,null,null,null,null,null,null,22,5,216.38,null,null,null,null,null,null,null,null,null,null,null,null,null,null,null,null,null,null,null,null,null,null,null,null,null,null,null,null,null,null,null,null,null,null,null,null,null,null,null,null,null,{"$f":"SUM((N$5:EE$5=\"Overall\")*(N30:EE30<=3))-SUM((N$5:EE$5=\"Overall\")*(N30:EE30=0))","v":0},{"$f":"SUM((O$5:EF$5=\"Age\")*(O30:EF30<=3))-SUM((O$5:EF$5=\"Age\")*(O30:EF30=0))","v":2},null,{"$f":"IF(MIN('Points Calculation'!CB30,'Points Calculation'!CC30)>0,MIN('Points Calculation'!CB30,'Points Calculation'!CC30),\"\")","v":259.65600000000001},{"$f":"IF(MIN('Points Calculation'!BD30,'Points Calculation'!BF30)>0,MIN('Points Calculation'!BD30,'Points Calculation'!BF30),\"\")","v":203.01},56.646000000000015,0.27903058962612687,269.26799999999997,null,null,{"$f":"'Points Calculation'!BB30","v":189.64},{"$f":"'Points Calculation'!BC30","v":216.38},{"$f":"'Points Calculation'!BD30","v":203.01},{"$f":"'Points Calculation'!BG30","v":203.01}]
["Geraldine Elgy","F",1954,{"$f":"INDEX('Age Calculation'!$A$1:'Age Calculation'!$Q$108,MATCH(C31,'Age Calculation'!$A$1:'Age Calculation'!$A$108),MATCH($A$1,'Age Calculation'!$A$1:'Age Calculation'!$Q$1))","v":"MAS"},19165,275.20999999999998,275.20999999999998,275.20999999999998,275.20999999999998,275.20999999999998,275.20999999999998,{"$f":"IF('Points Calculation'!BG31<K31,'Points Calculation'!BG31,\"\")","v":""},"",null,null,null,null,null,null,null,null,null,null,null,null,null,null,null,null,null,null,null,null,null,null,null,null,null,null,null,null,null,null,null,null,null,null,null,null,null,null,null,null,null,null,null,null,null,null,null,null,null,null,null,null,null,null,null,null,null,null,null,null,null,null,null,null,null,null,null,null,null,null,null,null,null,null,null,null,null,null,null,null,null,null,null,null,null,null,null,null,null,null,null,null,null,null,null,null,null,null,null,null,null,null,null,null,null,null,null,null,null,null,null,null,null,null,null,null,null,null,null,null,null,null,null,{"$f":"SUM((N$5:EE$5=\"Overall\")*(N31:EE31<=3))-SUM((N$5:EE$5=\"Overall\")*(N31:EE31=0))","v":0},{"$f":"SUM((O$5:EF$5=\"Age\")*(O31:EF31<=3))-SUM((O$5:EF$5=\"Age\")*(O31:EF31=0))","v":0},null,{"$f":"IF(MIN('Points Calculation'!CB31,'Points Calculation'!CC31)>0,MIN('Points Calculation'!CB31,'Points Calculation'!CC31),\"\")","v":""},{"$f":"IF(MIN('Points Calculation'!BD31,'Points Calculation'!BF31)>0,MIN('Points Calculation'!BD31,'Points Calculation'!BF31),\"\")","v":""},"","",{"$f":"F31","v":275.20999999999998},null,null,{"$f":"'Points Calculation'!BB31","v":""},{"$f":"'Points Calculation'!BC31","v":""},{"$f":"'Points Calculation'!BD31","v":""},{"$f":"'Points Calculation'!BG31","v":275.20999999999998}]
["Laura Newboult","F",1995,{"$f":"INDEX('Age Calculation'!$A$1:'Age Calculation'!$Q$108,MATCH(C32,'Age Calculation'!$A$1:'Age Calculation'!$A$108),MATCH($A$1,'Age Calculation'!$A$1:'Age Calculation'!$Q$1))","v":"U21"},20781,357.45,357.45,357.45,357.45,357.45,357.45,{"$f":"IF('Points Calculation'!BG32<K32,'Points Calculation'!BG32,\"\")","v":""},"",null,null,null,null,null,null,null,null,null,null,null,null,null,null,null,null,null,null,null,null,null,null,null,null,null,null,null,null,null,null,null,null,null,null,null,null,null,null,null,null,null,null,null,null,null,null,null,null,null,null,null,null,null,null,null,null,null,null,null,null,null,null,null,null,null,null,null,null,null,null,null,null,null,null,null,null,null,null,null,null,null,null,null,null,null,null,null,null,null,null,null,null,null,null,null,null,null,null,null,null,null,null,null,null,null,null,null,null,null,null,null,null,null,null,null,null,null,null,null,null,null,null,null,{"$f":"SUM((N$5:EE$5=\"Overall\")*(N32:EE32<=3))-SUM((N$5:EE$5=\"Overall\")*(N32:EE32=0))","v":0},{"$f":"SUM((O$5:EF$5=\"Age\")*(O32:EF32<=3))-SUM((O$5:EF$5=\"Age\")*(O32:EF32=0))","v":0},null,{"$f":"IF(MIN('Points Calculation'!CB32,'Points Calculation'!CC32)>0,MIN('Points Calculation'!CB32,'Points Calculation'!CC32),\"\")","v":""},{"$f":"IF(MIN('Points Calculation'!BD32,'Points Calculation'!BF32)>0,MIN('Points Calculation'!BD32,'Points Calculation'!BF32),\"\")","v":""},"","",357.45,null,null,{"$f":"'Points Calculation'!BB32","v":""},{"$f":"'Points Calculation'!BC32","v":""},{"$f":"'Points Calculation'!BD32","v":""},{"$f":"'Points Calculation'!BG32","v":357.45}]
["Robyn Doherty","F",1996,{"$f":"INDEX('Age Calculation'!$A$1:'Age Calculation'!$Q$108,MATCH(C33,'Age Calculation'!$A$1:'Age Calculation'!$A$108),MATCH($A$1,'Age Calculation'!$A$1:'Age Calculation'!$Q$1))","v":"U18"},19573,530.29,530.29,530.29,530.29,530.29,530.29,{"$f":"IF('Points Calculation'!BG33<K33,'Points Calculation'!BG33,\"\")","v":""},"",null,null,null,null,null,null,null,null,null,null,null,null,null,null,null,null,null,null,null,null,null,null,null,null,null,null,null,null,null,null,null,null,null,null,null,null,null,null,null,null,null,null,null,null,null,null,null,null,null,null,null,null,null,null,null,null,null,null,null,null,null,null,null,null,null,null,null,null,null,null,null,null,null,null,null,null,null,null,null,null,null,null,null,null,null,null,null,null,null,null,null,null,null,null,null,null,null,null,null,null,null,null,null,null,null,null,null,null,null,null,null,null,null,null,null,null,null,null,null,null,null,null,null,{"$f":"SUM((N$5:EE$5=\"Overall\")*(N33:EE33<=3))-SUM((N$5:EE$5=\"Overall\")*(N33:EE33=0))","v":0},{"$f":"SUM((O$5:EF$5=\"Age\")*(O33:EF33<=3))-SUM((O$5:EF$5=\"Age\")*(O33:EF33=0))","v":0},null,{"$f":"IF(MIN('Points Calculation'!CB33,'Points Calculation'!CC33)>0,MIN('Points Calculation'!CB33,'Points Calculation'!CC33),\"\")","v":""},{"$f":"IF(MIN('Points Calculation'!BD33,'Points Calculation'!BF33)>0,MIN('Points Calculation'!BD33,'Points Calculation'!BF33),\"\")","v":""},"","",530.29,null,null,{"$f":"'Points Calculation'!BB33","v":""},{"$f":"'Points Calculation'!BC33","v":""},{"$f":"'Points Calculation'!BD33","v":""},{"$f":"'Points Calculation'!BG33","v":530.29}]
["Jane Lee","F",1954,{"$f":"INDEX('Age Calculation'!$A$1:'Age Calculation'!$Q$108,MATCH(C34,'Age Calculation'!$A$1:'Age Calculation'!$A$108),MATCH($A$1,'Age Calculation'!$A$1:'Age Calculation'!$Q$1))","v":"MAS"},41577,533.71,533.71,533.71,533.71,533.71,533.71,{"$f":"IF('Points Calculation'!BG34<K34,'Points Calculation'!BG34,\"\")","v":""},"",null,null,null,null,null,null,null,null,null,null,null,null,null,null,null,null,null,null,null,null,null,null,null,null,null,null,null,null,null,null,null,null,null,null,null,null,null,null,null,null,null,null,null,null,null,null,null,null,null,null,null,null,null,null,null,null,null,null,null,null,null,null,null,null,null,null,null,null,null,null,null,null,null,null,null,null,null,null,null,null,null,null,null,null,null,null,null,null,null,null,null,null,null,null,null,null,null,null,null,null,null,null,null,null,null,null,null,null,null,null,null,null,null,null,null,null,null,null,null,null,null,null,null,{"$f":"SUM((N$5:EE$5=\"Overall\")*(N34:EE34<=3))-SUM((N$5:EE$5=\"Overall\")*(N34:EE34=0))","v":0},{"$f":"SUM((O$5:EF$5=\"Age\")*(O34:EF34<=3))-SUM((O$5:EF$5=\"Age\")*(O34:EF34=0))","v":0},null,{"$f":"IF(MIN('Points Calculation'!CB34,'Points Calculation'!CC34)>0,MIN('Points Calculation'!CB34,'Points Calculation'!CC34),\"\")","v":""},{"$f":"IF(MIN('Points Calculation'!BD34,'Points Calculation'!BF34)>0,MIN('Points Calculation'!BD34,'Points Calculation'!BF34),\"\")","v":""},"","",533.71,null,null,{"$f":"'Points Calculation'!BB34","v":""},{"$f":"'Points Calculation'!BC34","v":""},{"$f":"'Points Calculation'!BD34","v":""},{"$f":"'Points Calculation'!BG34","v":533.71}]
["Emily Dawes","F",1991,{"$f":"INDEX('Age Calculation'!$A$1:'Age Calculation'!$Q$108,MATCH(C35,'Age Calculation'!$A$1:'Age Calculation'!$A$108),MATCH($A$1,'Age Calculation'!$A$1:'Age Calculation'!$Q$1))","v":"SEN"},14263,"NR","NR","NR","NR","NR","NR",null,"",null,null,null,null,null,null,null,null,null,null,null,null,null,null,null,null,null,null,null,null,null,null,null,null,null,null,null,null,null,null,null,null,null,null,null,null,null,null,null,null,null,null,null,null,null,null,null,null,null,null,null,null,null,null,null,null,null,null,null,null,null,null,null,null,null,null,null,null,null,null,null,null,null,null,null,null,null,null,null,null,null,null,null,null,null,null,null,null,null,null,null,null,null,null,null,null,null,null,null,null,null,null,null,null,null,null,null,null,null,null,null,null,null,null,null,null,null,null,null,null,null,null,null,{"$f":"SUM((N$5:EE$5=\"Overall\")*(N35:EE35<=3))-SUM((N$5:EE$5=\"Overall\")*(N35:EE35=0))","v":0},{"$f":"SUM((O$5:EF$5=\"Age\")*(O35:EF35<=3))-SUM((O$5:EF$5=\"Age\")*(O35:EF35=0))","v":0},null,{"$f":"IF(MIN('Points Calculation'!CB35,'Points Calculation'!CC35)>0,MIN('Points Calculation'!CB35,'Points Calculation'!CC35),\"\")","v":""},{"$f":"IF(MIN('Points Calculation'!BD35,'Points Calculation'!BF35)>0,MIN('Points Calculation'!BD35,'Points Calculation'!BF35),\"\")","v":""},"","","NR",null,null,{"$f":"'Points Calculation'!BB35","v":""},{"$f":"'Points Calculation'!BC35","v":0},{"$f":"'Points Calculation'!BD35","v":0},{"$f":"'Points Calculation'!BG35","v":0}]
["Sophia Phelps","F",1994,{"$f":"INDEX('Age Calculation'!$A$1:'Age Calculation'!$Q$108,MATCH(C36,'Age Calculation'!$A$1:'Age Calculation'!$A$108),MATCH($A$1,'Age Calculation'!$A$1:'Age Calculation'!$Q$1))","v":"U21"},17839,"NR","NR","NR","NR","NR","NR",null,"",null,null,null,null,null,null,null,null,null,null,null,null,null,null,null,null,null,null,null,null,null,null,null,null,null,null,null,null,null,null,null,null,null,null,null,null,null,null,null,null,null,null,null,null,null,null,null,null,null,null,null,null,null,null,null,null,null,null,null,null,null,null,null,null,null,null,null,null,null,null,null,null,null,null,null,null,null,null,null,null,null,null,null,null,null,null,null,null,null,null,null,null,null,null,null,null,null,null,null,null,null,null,null,null,null,null,null,null,null,null,null,null,null,null,null,null,null,null,null,null,null,null,null,{"$f":"SUM((N$5:EE$5=\"Overall\")*(N36:EE36<=3))-SUM((N$5:EE$5=\"Overall\")*(N36:EE36=0))","v":0},{"$f":"SUM((O$5:EF$5=\"Age\")*(O36:EF36<=3))-SUM((O$5:EF$5=\"Age\")*(O36:EF36=0))","v":0},null,{"$f":"IF(MIN('Points Calculation'!CB36,'Points Calculation'!CC36)>0,MIN('Points Calculation'!CB36,'Points Calculation'!CC36),\"\")","v":""},{"$f":"IF(MIN('Points Calculation'!BD36,'Points Calculation'!BF36)>0,MIN('Points Calculation'!BD36,'Points Calculation'!BF36),\"\")","v":""},"","","NR",null,null,{"$f":"'Points Calculation'!BB36","v":""},{"$f":"'Points Calculation'!BC36","v":0},{"$f":"'Points Calculation'!BD36","v":0},{"$f":"'Points Calculation'!BG36","v":0}]
["Olivia Waller","F",1994,{"$f":"INDEX('Age Calculation'!$A$1:'Age Calculation'!$Q$108,MATCH(C37,'Age Calculation'!$A$1:'Age Calculation'!$A$108),MATCH($A$1,'Age Calculation'!$A$1:'Age Calculation'!$Q$1))","v":"U21"},17516,"NR","NR","NR","NR","NR","NR",null,"",null,null,null,null,null,null,null,null,null,null,null,null,null,null,null,null,null,null,null,null,null,null,null,null,null,null,null,null,null,null,null,null,null,null,null,null,null,null,null,null,null,null,null,null,null,null,null,null,null,null,null,null,null,null,null,null,null,null,null,null,null,null,null,null,null,null,null,null,null,null,null,null,null,null,null,null,null,null,null,null,null,null,null,null,null,null,null,null,null,null,null,null,null,null,null,null,null,null,null,null,null,null,null,null,null,null,null,null,null,null,null,null,null,null,null,null,null,null,null,null,null,null,null,{"$f":"SUM((N$5:EE$5=\"Overall\")*(N37:EE37<=3))-SUM((N$5:EE$5=\"Overall\")*(N37:EE37=0))","v":0},{"$f":"SUM((O$5:EF$5=\"Age\")*(O37:EF37<=3))-SUM((O$5:EF$5=\"Age\")*(O37:EF37=0))","v":0},null,{"$f":"IF(MIN('Points Calculation'!CB37,'Points Calculation'!CC37)>0,MIN('Points Calculation'!CB37,'Points Calculation'!CC37),\"\")","v":""},{"$f":"IF(MIN('Points Calculation'!BD37,'Points Calculation'!BF37)>0,MIN('Points Calculation'!BD37,'Points Calculation'!BF37),\"\")","v":""},"","","NR",null,null,{"$f":"'Points Calculation'!BB37","v":""},{"$f":"'Points Calculation'!BC37","v":0},{"$f":"'Points Calculation'!BD37","v":0},{"$f":"'Points Calculation'!BG37","v":0}]
["Agathe Vallat","F",1999,"U16",21606,999.99,999.99,999.99,999.99,465.82,465.82,{"$f":"IF('Points Calculation'!BG38<K38,'Points Calculation'!BG38,\"\")","v":""},"",null,null,null,null,null,null,null,null,null,null,null,null,null,null,null,null,null,null,null,null,null,null,null,null,null,null,null,null,null,null,null,null,null,null,null,null,null,null,null,null,null,null,null,null,null,null,null,null,null,null,null,null,null,null,null,null,null,null,null,null,27,5,388.18,null,null,null,null,null,null,null,null,null,null,null,null,null,null,null,null,null,null,null,null,null,null,null,null,null,null,null,null,null,null,null,null,null,null,null,null,null,null,null,null,null,null,null,null,null,null,null,null,null,null,null,null,null,null,null,null,null,null,null,null,{"$f":"SUM((N$5:EE$5=\"Overall\")*(N38:EE38<=3))-SUM((N$5:EE$5=\"Overall\")*(N38:EE38=0))","v":0},{"$f":"SUM((O$5:EF$5=\"Age\")*(O38:EF38<=3))-SUM((O$5:EF$5=\"Age\")*(O38:EF38=0))","v":0},null,{"$f":"IF(MIN('Points Calculation'!CB37,'Points Calculation'!CC37)>0,MIN('Points Calculation'!CB37,'Points Calculation'!CC37),\"\")","v":""},{"$f":"IF(MIN('Points Calculation'!BD38,'Points Calculation'!BF38)>0,MIN('Points Calculation'!BD38,'Points Calculation'!BF38),\"\")","v":465.82},{"$f":"IF(EJ38<>\"\",EJ38-EK38,\"\")","v":""},{"$f":"IF(EJ38<>\"\",EL38/EK38,\"\")","v":""},999.99,null,null,{"$f":"'Points Calculation'!BB38","v":388.18},{"$f":"'Points Calculation'!BC38","v":""},{"$f":"'Points Calculation'!BD38","v":""},{"$f":"'Points Calculation'!BG38","v":465.82}]
["Carys Phillips","F",1999,"U16","Day","NR","NR","NR","NR","NR","NR",null,"",null,null,null,null,null,null,null,null,null,null,null,null,null,null,null,null,null,null,null,null,null,null,null,null,null,null,null,null,null,null,null,null,null,null,null,null,null,null,null,null,null,null,null,null,null,null,null,null,null,null,null,null,null,null,null,null,null,null,null,null,26,4,333.45,null,null,null,null,null,null,null,null,null,null,null,null,null,null,null,null,null,null,null,null,null,null,null,null,null,null,null,null,null,null,null,null,null,null,null,null,null,null,null,null,null,null,null,null,null,null,null,null,null,null,null,null,null,null,null,null,null,null,null,null,{"$f":"SUM((N$5:EE$5=\"Overall\")*(N39:EE39<=3))-SUM((N$5:EE$5=\"Overall\")*(N39:EE39=0))","v":0},{"$f":"SUM((O$5:EF$5=\"Age\")*(O39:EF39<=3))-SUM((O$5:EF$5=\"Age\")*(O39:EF39=0))","v":0},null,{"$f":"IF(MIN('Points Calculation'!CB38,'Points Calculation'!CC38)>0,MIN('Points Calculation'!CB38,'Points Calculation'!CC38),\"\")","v":""},{"$f":"IF(MIN('Points Calculation'!BD39,'Points Calculation'!BF39)>0,MIN('Points Calculation'!BD39,'Points Calculation'!BF39),\"\")","v":400.14},{"$f":"IF(EJ39<>\"\",EJ39-EK39,\"\")","v":""},{"$f":"IF(EJ39<>\"\",EL39/EK39,\"\")","v":""},"NR",null,null,{"$f":"'Points Calculation'!BB39","v":333.45},{"$f":"'Points Calculation'!BC39","v":""},{"$f":"'Points Calculation'!BD39","v":""},{"$f":"'Points Calculation'!BG39","v":400.14}]
["MALES",null,null,null,null,null,null,null,null,null,null,{"$f":"IF('Points Calculation'!BG40<I40,'Points Calculation'!BG40,\"\")","v":""},null,null,null,null,null,null,null,null,null,null,null,null,null,null,null,null,null,null,null,null,null,null,null,null,null,null,null,null,null,null,null,null,null,null,null,null,null,null,null,null,null,null,null,null,null,null,null,null,null,null,null,null,null,null,null,null,null,null,null,null,null,null,null,null,null,null,null,null,null,null,null,null,null,null,null,null,null,null,null,null,null,null,null,null,null,null,null,null,null,null,null,null,null,null,null,null,null,null,null,null,null,null,null,null,null,null,null,null,null,null,null,null,null,null,null,null,null,null,null,null,null,null,null,null," "]
["Harry Hornsby","M",1991,{"$f":"INDEX('Age Calculation'!$A$1:'Age Calculation'!$Q$108,MATCH(C41,'Age Calculation'!$A$1:'Age Calculation'!$A$108),MATCH($A$1,'Age Calculation'!$A$1:'Age Calculation'!$Q$1))","v":"SEN"},17356,4.17,4.17,4.17,4.17,4.17,4.17,{"$f":"IF('Points Calculation'!BG41<K41,'Points Calculation'!BG41,\"\")","v":""},{"$f":"IF(F41<999.99,IF(MIN(K41,L41)<F41,MIN(K41,L41)-F41,\"\"),\"\")","v":""},1,1,10,null,null,null,null,null,null,null,null,null,null,null,null,null,null,null,null,null,null,null,null,null,null,null,null,null,null,null,null,null,null,null,null,null,null,null,null,null,null,null,null,null,null,4,3,19.489999999999998,null,null,null,1,1,10,null,null,null,null,null,null,1,1,10,4,2,33.770000000000003,null,null,null,null,51,8,1046.98,"DSQ","DSQ",999.99,5,4,29.61,"DNF","DNF",999.99,null,null,null,null,null,null,null,null,null,null,null,4,4,14.76,null,null,null,null,null,null,null,null,null,"DSQ","DSQ",999.99,null,null,null,null,null,null,null,null,null,null,null,null,null,null,null,{"$f":"SUM((N$5:EE$5=\"Overall\")*(N41:EE41<=3))-SUM((N$5:EE$5=\"Overall\")*(N41:EE41=0))","v":3},{"$f":"SUM((O$5:EF$5=\"Age\")*(O41:EF41<=3))-SUM((O$5:EF$5=\"Age\")*(O41:EF41=0))","v":5},null,{"$f":"IF(MIN('Points Calculation'!CB41,'Points Calculation'!CC41)>0,MIN('Points Calculation'!CB41,'Points Calculation'!CC41),\"\")","v":20},{"$f":"IF(MIN('Points Calculation'!BD41,'Points Calculation'!BF41)>0,MIN('Points Calculation'!BD41,'Points Calculation'!BF41),\"\")","v":10},10,1,{"$f":"IF(F41>800,999.99,IF(F41<50,F41+10,F41*1.2))","v":14.17},null,null,{"$f":"'Points Calculation'!BB41","v":10},{"$f":"'Points Calculation'!BC41","v":10},{"$f":"'Points Calculation'!BD41","v":10},{"$f":"'Points Calculation'!BG41","v":4.17}]
["Andrew Du Plessis","M",1985,{"$f":"INDEX('Age Calculation'!$A$1:'Age Calculation'!$Q$108,MATCH(C42,'Age Calculation'!$A$1:'Age Calculation'!$A$108),MATCH($A$1,'Age Calculation'!$A$1:'Age Calculation'!$Q$1))","v":"SEN"},12318,25.51,25.51,25.51,25.51,24.62,24.62,{"$f":"IF('Points Calculation'!BG42<K42,'Points Calculation'!BG42,\"\")","v":""},-0.89000000000000057,null,null,null,null,null,null,null,5,1,31.44,{"$f":"29.4+12.34","v":41.739999999999995},null,null,null,4,1,38.869999999999997,null,null,null,null,null,null,null,null,null,null,null,null,null,null,null,null,null,null,null,null,null,null,null,null,null,null,null,null,null,null,null,null,null,null,6,4,33.85,null,null,null,null,null,null,4,3,23.72,null,null,null,null,null,null,null,6,4,49.36,null,null,null,8,7,42.47,null,null,null,null,null,null,null,null,null,null,null,null,null,null,"DNF","DNF",999.99,null,null,null,null,null,null,null,null,null,8,6,43.41,null,null,null,null,null,null,null,null,null,null,null,null,null,null,null,{"$f":"SUM((N$5:EE$5=\"Overall\")*(N42:EE42<=3))-SUM((N$5:EE$5=\"Overall\")*(N42:EE42=0))","v":0},{"$f":"SUM((O$5:EF$5=\"Age\")*(O42:EF42<=3))-SUM((O$5:EF$5=\"Age\")*(O42:EF42=0))","v":3},null,{"$f":"IF(MIN('Points Calculation'!CB42,'Points Calculation'!CC42)>0,MIN('Points Calculation'!CB42,'Points Calculation'!CC42),\"\")","v":40.67},{"$f":"IF(MIN('Points Calculation'!BD42,'Points Calculation'!BF42)>0,MIN('Points Calculation'!BD42,'Points Calculation'!BF42),\"\")","v":27.58},13.090000000000003,0.47461928934010167,35.510000000000005,null,null,{"$f":"'Points Calculation'!BB42","v":23.72},{"$f":"'Points Calculation'!BC42","v":31.44},{"$f":"'Points Calculation'!BD42","v":27.58},{"$f":"'Points Calculation'!BG42","v":24.62}]
["Adam Beardmore","M",1986,{"$f":"INDEX('Age Calculation'!$A$1:'Age Calculation'!$Q$108,MATCH(C43,'Age Calculation'!$A$1:'Age Calculation'!$A$108),MATCH($A$1,'Age Calculation'!$A$1:'Age Calculation'!$Q$1))","v":"SEN"},19704,29.85,29.85,29.85,29.85,29.85,29.85,{"$f":"IF('Points Calculation'!BG43<K43,'Points Calculation'!BG43,\"\")","v":""},"",null,null,null,null,null,null,null,null,null,null,null,null,null,null,null,null,null,null,null,null,null,null,null,null,null,null,null,null,null,null,null,null,null,null,null,null,null,null,null,null,null,null,null,null,null,null,null,null,null,null,null,null,null,null,null,null,null,null,null,null,"DNF","DNF",999.99,null,null,null,null,null,null,null,null,null,null,null,null,null,null,null,null,null,null,null,null,null,null,null,null,null,null,null,null,null,null,null,null,null,null,null,null,null,null,null,null,null,null,20,9,64.56,null,null,null,null,null,null,null,null,null,null,null,null,null,null,null,{"$f":"SUM((N$5:EE$5=\"Overall\")*(N43:EE43<=3))-SUM((N$5:EE$5=\"Overall\")*(N43:EE43=0))","v":0},{"$f":"SUM((O$5:EF$5=\"Age\")*(O43:EF43<=3))-SUM((O$5:EF$5=\"Age\")*(O43:EF43=0))","v":0},null,{"$f":"IF(MIN('Points Calculation'!CB43,'Points Calculation'!CC43)>0,MIN('Points Calculation'!CB43,'Points Calculation'!CC43),\"\")","v":77.471999999999994},{"$f":"IF(MIN('Points Calculation'!BD43,'Points Calculation'!BF43)>0,MIN('Points Calculation'!BD43,'Points Calculation'!BF43),\"\")","v":77.47},1.9999999999953388E-3,2.5816445075452935E-5,39.85,null,null,{"$f":"'Points Calculation'!BB43","v":64.56},{"$f":"'Points Calculation'!BC43","v":999.99},{"$f":"'Points Calculation'!BD43","v":532.28},{"$f":"'Points Calculation'!BG43","v":29.85}]
["Jonny Powell","M",1986,{"$f":"INDEX('Age Calculation'!$A$1:'Age Calculation'!$Q$108,MATCH(C44,'Age Calculation'!$A$1:'Age Calculation'!$A$108),MATCH($A$1,'Age Calculation'!$A$1:'Age Calculation'!$Q$1))","v":"SEN"},17479,30.83,30.83,30.83,30.83,30.83,28.96,{"$f":"IF('Points Calculation'!BG44<K44,'Points Calculation'!BG44,\"\")","v":23.31},-7.52,4,3,51.55,15,1,{"$f":"41.12+18.92","v":60.04},{"$f":"56.28+15.74","v":72.02},11,2,{"$f":"45.89+19.15","v":65.039999999999992},{"$f":"34.3+12.34","v":46.64},null,null,null,12,2,70.91,2,1,57.24,"DNF","DNF",999.99,null,null,null,null,null,null,3,2,36.36,6,2,62.71,null,null,null,null,null,null,null,null,null,null,9,7,45.46,null,null,null,8,6,42.71,10,3,51.64,11,3,47.75,6,4,37.81,5,3,47.61,null,null,null,null,null,null,null,null,null,null,null,null,null,null,null,null,null,null,null,null,null,null,3,2,27.08,5,2,7,7,32.909999999999997,7,6,45.99,1,1,20.71,3,1,26.12,6,5,30.96,null,null,null,2,2,25.91,2,2,25.95,9,3,48.46,null,null,null,{"$f":"SUM((N$5:EE$5=\"Overall\")*(N44:EE44<=3))-SUM((N$5:EE$5=\"Overall\")*(N44:EE44=0))","v":7},{"$f":"SUM((O$5:EF$5=\"Age\")*(O44:EF44<=3))-SUM((O$5:EF$5=\"Age\")*(O44:EF44=0))","v":17},null,{"$f":"IF(MIN('Points Calculation'!CB44,'Points Calculation'!CC44)>0,MIN('Points Calculation'!CB44,'Points Calculation'!CC44),\"\")","v":23.310000000000002},{"$f":"IF(MIN('Points Calculation'!BD44,'Points Calculation'!BF44)>0,MIN('Points Calculation'!BD44,'Points Calculation'!BF44),\"\")","v":23.31},3.5527136788005009E-15,1.5241156923211072E-16,40.83,null,null,{"$f":"'Points Calculation'!BB44","v":20.71},{"$f":"'Points Calculation'!BC44","v":25.91},{"$f":"'Points Calculation'!BD44","v":23.31},{"$f":"'Points Calculation'!BG44","v":23.31}]
["Nick Miller","M",1993,{"$f":"INDEX('Age Calculation'!$A$1:'Age Calculation'!$Q$108,MATCH(C45,'Age Calculation'!$A$1:'Age Calculation'!$A$108),MATCH($A$1,'Age Calculation'!$A$1:'Age Calculation'!$Q$1))","v":"U21"},18607,56.48,56.48,56.48,56.48,56.48,56.48,{"$f":"IF('Points Calculation'!BG45<K45,'Points Calculation'!BG45,\"\")","v":""},"",null,null,null,null,null,null,null,null,null,null,null,null,null,null,null,null,null,null,null,null,null,null,null,null,null,null,null,null,null,null,null,null,null,null,null,null,null,null,null,null,null,null,null,null,null,null,null,null,null,null,null,null,null,null,null,null,null,null,null,null,null,null,null,null,null,null,null,null,null,null,null,null,null,null,null,null,null,null,null,null,null,null,null,null,null,null,null,null,null,null,null,null,null,null,null,null,null,null,null,null,null,null,null,null,null,null,null,null,null,null,null,null,null,null,null,null,null,null,null,null,null,null,null,{"$f":"SUM((N$5:EE$5=\"Overall\")*(N45:EE45<=3))-SUM((N$5:EE$5=\"Overall\")*(N45:EE45=0))","v":0},{"$f":"SUM((O$5:EF$5=\"Age\")*(O45:EF45<=3))-SUM((O$5:EF$5=\"Age\")*(O45:EF45=0))","v":0},null,{"$f":"IF(MIN('Points Calculation'!CB45,'Points Calculation'!CC45)>0,MIN('Points Calculation'!CB45,'Points Calculation'!CC45),\"\")","v":""},{"$f":"IF(MIN('Points Calculation'!BD45,'Points Calculation'!BF45)>0,MIN('Points Calculation'!BD45,'Points Calculation'!BF45),\"\")","v":""},"","",67.775999999999996,null,null,{"$f":"'Points Calculation'!BB45","v":""},{"$f":"'Points Calculation'!BC45","v":""},{"$f":"'Points Calculation'!BD45","v":""},{"$f":"'Points Calculation'!BG45","v":56.48}]
["Mark Hawkins","M",1979,{"$f":"INDEX('Age Calculation'!$A$1:'Age Calculation'!$Q$108,MATCH(C46,'Age Calculation'!$A$1:'Age Calculation'!$A$108),MATCH($A$1,'Age Calculation'!$A$1:'Age Calculation'!$Q$1))","v":"MAS"},19163,57.13,57.13,57.13,57.13,57.13,57.13,{"$f":"IF('Points Calculation'!BG46<K46,'Points Calculation'!BG46,\"\")","v":""},"",null,null,null,null,null,null,null,null,null,null,null,null,null,null,null,null,null,10,1,102.79,24,4,153.54,null,null,null,null,null,null,null,null,null,null,null,null,null,10,1,79.27,10,1,65.55,null,null,null,null,null,null,null,null,null,null,null,null,null,null,null,null,null,null,20,1,78.03,24,1,100.6,null,null,null,null,8,1,66.53,22,3,166.33,42,5,142.94,15,1,82.95,null,null,null,null,null,null,null,null,null,null,null,23,1,96.77,14,2,72.36,12,1,71.08,null,null,null,34,2,85,null,null,null,null,null,null,null,null,null,null,null,null,null,null,null,{"$f":"SUM((N$5:EE$5=\"Overall\")*(N46:EE46<=3))-SUM((N$5:EE$5=\"Overall\")*(N46:EE46=0))","v":0},{"$f":"SUM((O$5:EF$5=\"Age\")*(O46:EF46<=3))-SUM((O$5:EF$5=\"Age\")*(O46:EF46=0))","v":12},null,{"$f":"IF(MIN('Points Calculation'!CB46,'Points Calculation'!CC46)>0,MIN('Points Calculation'!CB46,'Points Calculation'!CC46),\"\")","v":74.740000000000009},{"$f":"IF(MIN('Points Calculation'!BD46,'Points Calculation'!BF46)>0,MIN('Points Calculation'!BD46,'Points Calculation'!BF46),\"\")","v":66.040000000000006},8.7000000000000028,0.13173834039975776,68.555999999999997,null,null,{"$f":"'Points Calculation'!BB46","v":65.55},{"$f":"'Points Calculation'!BC46","v":66.53},{"$f":"'Points Calculation'!BD46","v":66.040000000000006},{"$f":"'Points Calculation'!BG46","v":57.13}]
["Jack Rigby","M",1995,{"$f":"INDEX('Age Calculation'!$A$1:'Age Calculation'!$Q$108,MATCH(C47,'Age Calculation'!$A$1:'Age Calculation'!$A$108),MATCH($A$1,'Age Calculation'!$A$1:'Age Calculation'!$Q$1))","v":"U21"},41722,62.46,58.49,53.73,53.73,53.73,53.73,{"$f":"IF('Points Calculation'!BG47<K47,'Points Calculation'!BG47,\"\")","v":""},-8.730000000000004,null,null,null,11,3,{"$f":"45.69+18.92","v":64.61},{"$f":"38.78+15.74","v":54.52},null,null,null,null,24,4,167.44,10,6,69.25,null,null,null,null,null,null,9,4,44.99,"DNF","DNF",999.99,null,null,null,null,null,null,null,null,null,null,null,null,null,null,null,null,null,null,null,null,null,null,null,null,null,null,null,null,null,null,null,null,null,null,null,null,null,null,null,null,null,null,null,null,null,null,null,null,null,null,null,null,null,null,null,null,"DNF","DNF",999.99,null,null,null,null,null,null,null,null,null,null,null,null,null,null,null,null,null,null,null,null,"DNF","DNF",999.99,null,null,null,null,null,null,14,5,65.75,null,null,null,{"$f":"SUM((N$5:EE$5=\"Overall\")*(N47:EE47<=3))-SUM((N$5:EE$5=\"Overall\")*(N47:EE47=0))","v":0},{"$f":"SUM((O$5:EF$5=\"Age\")*(O47:EF47<=3))-SUM((O$5:EF$5=\"Age\")*(O47:EF47=0))","v":1},null,{"$f":"IF(MIN('Points Calculation'!CB47,'Points Calculation'!CC47)>0,MIN('Points Calculation'!CB47,'Points Calculation'!CC47),\"\")","v":54.99},{"$f":"IF(MIN('Points Calculation'!BD47,'Points Calculation'!BF47)>0,MIN('Points Calculation'!BD47,'Points Calculation'!BF47),\"\")","v":54.99},0,0,74.951999999999998,null,null,{"$f":"'Points Calculation'!BB47","v":44.99},{"$f":"'Points Calculation'!BC47","v":69.25},{"$f":"'Points Calculation'!BD47","v":57.12},{"$f":"'Points Calculation'!BG47","v":53.73}]
["Adam. Lee","M",1994,{"$f":"INDEX('Age Calculation'!$A$1:'Age Calculation'!$Q$108,MATCH(C48,'Age Calculation'!$A$1:'Age Calculation'!$A$108),MATCH($A$1,'Age Calculation'!$A$1:'Age Calculation'!$Q$1))","v":"U21"},41578,59.81,59.81,59.81,59.81,59.49,59.49,{"$f":"IF('Points Calculation'!BG48<K48,'Points Calculation'!BG48,\"\")","v":43.52},-16.29,6,2,69.41,22,8,{"$f":"72.19+18.92","v":91.11},{"$f":"72.36+15.74","v":88.1},21,9,{"$f":"82.61+19.15","v":101.75999999999999},{"$f":"81.06+12.34","v":93.4},null,null,null,null,null,null,5,3,70.19,"DNF","DNF",999.99,null,null,null,null,null,null,null,null,null,null,null,null,null,5,3,61.86,5,3,62.87,null,null,null,null,null,null,null,null,null,null,null,null,null,null,null,null,null,null,19,7,74.09,16,7,88.13,null,null,null,null,18,3,106.96,"DSQ","DSQ",999.99,19,6,75.459999999999994,9,3,59.17,null,null,null,null,null,null,7,2,73.56,8,4,"DNF","DNF",999.99,15,3,73.89,7,2,48.28,null,null,null,22,6,65.03,13,4,66.86,3,1,38.76,"DSQ","DSQ",999.99,null,null,null,null,null,null,{"$f":"SUM((N$5:EE$5=\"Overall\")*(N48:EE48<=3))-SUM((N$5:EE$5=\"Overall\")*(N48:EE48=0))","v":1},{"$f":"SUM((O$5:EF$5=\"Age\")*(O48:EF48<=3))-SUM((O$5:EF$5=\"Age\")*(O48:EF48=0))","v":10},null,{"$f":"IF(MIN('Points Calculation'!CB48,'Points Calculation'!CC48)>0,MIN('Points Calculation'!CB48,'Points Calculation'!CC48),\"\")","v":43.519999999999996},{"$f":"IF(MIN('Points Calculation'!BD48,'Points Calculation'!BF48)>0,MIN('Points Calculation'!BD48,'Points Calculation'!BF48),\"\")","v":43.52},-7.1054273576010019E-15,-1.6326809185664065E-16,71.772000000000006,null,null,{"$f":"'Points Calculation'!BB48","v":38.76},{"$f":"'Points Calculation'!BC48","v":48.28},{"$f":"'Points Calculation'!BD48","v":43.52},{"$f":"'Points Calculation'!BG48","v":43.52}]
["Alasdair Thorley","M",1994,{"$f":"INDEX('Age Calculation'!$A$1:'Age Calculation'!$Q$108,MATCH(C49,'Age Calculation'!$A$1:'Age Calculation'!$A$108),MATCH($A$1,'Age Calculation'!$A$1:'Age Calculation'!$Q$1))","v":"U21"},18586,61.87,61.87,61.87,61.87,61.87,61.87,{"$f":"IF('Points Calculation'!BG49<K49,'Points Calculation'!BG49,\"\")","v":""},"",null,null,null,null,null,null,null,null,null,null,null,null,null,null,null,null,null,null,null,null,null,null,null,null,null,null,null,null,null,null,null,null,null,null,null,null,null,null,null,null,null,null,null,null,null,null,null,null,null,null,null,null,null,null,null,null,null,null,null,null,null,null,null,null,null,null,null,null,null,null,null,null,null,null,null,null,null,null,null,null,null,null,null,null,null,null,null,null,null,null,null,null,null,null,null,null,null,null,null,null,null,null,null,null,null,null,null,null,null,null,null,null,null,null,null,null,null,null,null,null,null,null,null,{"$f":"SUM((N$5:EE$5=\"Overall\")*(N49:EE49<=3))-SUM((N$5:EE$5=\"Overall\")*(N49:EE49=0))","v":0},{"$f":"SUM((O$5:EF$5=\"Age\")*(O49:EF49<=3))-SUM((O$5:EF$5=\"Age\")*(O49:EF49=0))","v":0},null,{"$f":"IF(MIN('Points Calculation'!CB49,'Points Calculation'!CC49)>0,MIN('Points Calculation'!CB49,'Points Calculation'!CC49),\"\")","v":""},{"$f":"IF(MIN('Points Calculation'!BD49,'Points Calculation'!BF49)>0,MIN('Points Calculation'!BD49,'Points Calculation'!BF49),\"\")","v":""},"","",74.244,null,null,{"$f":"'Points Calculation'!BB49","v":""},{"$f":"'Points Calculation'!BC49","v":""},{"$f":"'Points Calculation'!BD49","v":""},{"$f":"'Points Calculation'!BG49","v":61.87}]
["Phil Emmerson","M",1990,{"$f":"INDEX('Age Calculation'!$A$1:'Age Calculation'!$Q$108,MATCH(C50,'Age Calculation'!$A$1:'Age Calculation'!$A$108),MATCH($A$1,'Age Calculation'!$A$1:'Age Calculation'!$Q$1))","v":"SEN"},21084,104.55,97.42,97.42,62.32,62.32,62.32,{"$f":"IF('Points Calculation'!BG50<K50,'Points Calculation'!BG50,\"\")","v":""},-42.23,"DNF","DNF",999.99,31,3,{"$f":"100.52+18.92","v":119.44},{"$f":"107.83+15.74","v":123.57},23,5,{"$f":"96.83+19.15","v":115.97999999999999},{"$f":"77.95+12.34","v":90.29},null,null,null,null,null,null,"DNF","DNF",999.99,15,2,127.92,null,null,null,null,null,null,"DSQ","DSQ",999.99,null,null,null,null,17,3,98.44,null,null,null,null,null,null,"DSQ","DSQ",999.99,null,null,null,14,8,51.93,null,null,null,null,null,null,"DSQ","DSQ",999.99,12,5,76.83,null,null,null,null,"DNF","DNF",999.99,"DNF","DNF",999.99,"DNF","DNF",999.99,"DNF","DNF",999.99,null,null,null,null,null,null,null,null,null,null,null,"DNF","DNF",999.99,null,null,null,null,null,null,null,null,null,36,11,85.23,null,null,null,null,null,null,null,null,null,null,null,null,null,null,null,{"$f":"SUM((N$5:EE$5=\"Overall\")*(N50:EE50<=3))-SUM((N$5:EE$5=\"Overall\")*(N50:EE50=0))","v":0},{"$f":"SUM((O$5:EF$5=\"Age\")*(O50:EF50<=3))-SUM((O$5:EF$5=\"Age\")*(O50:EF50=0))","v":3},null,{"$f":"IF(MIN('Points Calculation'!CB50,'Points Calculation'!CC50)>0,MIN('Points Calculation'!CB50,'Points Calculation'!CC50),\"\")","v":102.276},{"$f":"IF(MIN('Points Calculation'!BD50,'Points Calculation'!BF50)>0,MIN('Points Calculation'!BD50,'Points Calculation'!BF50),\"\")","v":62.32},39.955999999999996,0.64114249037227211,125.46,null,null,{"$f":"'Points Calculation'!BB50","v":51.93},{"$f":"'Points Calculation'!BC50","v":76.83},{"$f":"'Points Calculation'!BD50","v":64.38},{"$f":"'Points Calculation'!BG50","v":62.32}]
["Nick Phelps","M",1997,{"$f":"INDEX('Age Calculation'!$A$1:'Age Calculation'!$Q$108,MATCH(C51,'Age Calculation'!$A$1:'Age Calculation'!$A$108),MATCH($A$1,'Age Calculation'!$A$1:'Age Calculation'!$Q$1))","v":"U18"},17840,62.44,62.44,62.44,62.44,62.44,62.44,{"$f":"IF('Points Calculation'!BG51<K51,'Points Calculation'!BG51,\"\")","v":""},"",null,null,null,null,null,null,null,null,null,null,null,null,null,null,null,null,null,null,null,null,null,null,null,null,null,null,null,null,null,null,null,null,null,null,null,null,null,null,null,null,null,null,null,null,null,null,null,null,null,null,null,null,null,null,null,null,null,null,null,null,24,6,82.54,25,6,102.36,null,null,null,null,"DNF","DNF",999.99,8,2,87.12,36,5,121.69,19,1,89.56,null,null,null,null,null,null,null,null,null,null,null,16,4,81.239999999999995,null,null,null,"DNS","DNS",999.99,null,null,null,null,null,null,null,null,null,null,null,null,null,null,null,null,null,null,null,null,null,{"$f":"SUM((N$5:EE$5=\"Overall\")*(N51:EE51<=3))-SUM((N$5:EE$5=\"Overall\")*(N51:EE51=0))","v":0},{"$f":"SUM((O$5:EF$5=\"Age\")*(O51:EF51<=3))-SUM((O$5:EF$5=\"Age\")*(O51:EF51=0))","v":2},null,{"$f":"IF(MIN('Points Calculation'!CB51,'Points Calculation'!CC51)>0,MIN('Points Calculation'!CB51,'Points Calculation'!CC51),\"\")","v":84.18},{"$f":"IF(MIN('Points Calculation'!BD51,'Points Calculation'!BF51)>0,MIN('Points Calculation'!BD51,'Points Calculation'!BF51),\"\")","v":84.18},0,0,74.927999999999997,null,null,{"$f":"'Points Calculation'!BB51","v":81.239999999999995},{"$f":"'Points Calculation'!BC51","v":87.12},{"$f":"'Points Calculation'!BD51","v":84.18},{"$f":"'Points Calculation'!BG51","v":62.44}]
["James Smith","M",1992,{"$f":"INDEX('Age Calculation'!$A$1:'Age Calculation'!$Q$108,MATCH(C52,'Age Calculation'!$A$1:'Age Calculation'!$A$108),MATCH($A$1,'Age Calculation'!$A$1:'Age Calculation'!$Q$1))","v":"SEN"},21595,999.99,105.14,105.14,87.48,87.48,87.48,{"$f":"IF('Points Calculation'!BG52<K52,'Points Calculation'!BG52,\"\")","v":""},"","DNF","DNF",999.99,25,2,{"$f":"87.72+18.92","v":106.64},{"$f":"71.88+15.74","v":87.61999999999999},20,4,{"$f":"79.85+19.15","v":99},{"$f":"77.05+12.34","v":89.39},null,null,null,null,null,null,25,3,219.8,34,4,369.27,null,null,null,null,null,null,"DSQ","DSQ",999.99,null,null,null,null,12,2,87.34,null,null,null,null,null,null,null,null,null,null,null,null,null,null,null,null,null,null,null,null,null,null,null,null,null,null,null,null,null,null,null,null,null,null,null,null,null,null,null,null,null,null,null,null,null,null,null,null,null,null,null,null,null,null,null,null,null,null,null,null,null,null,null,null,null,null,null,null,null,null,null,null,null,null,null,null,null,null,null,null,null,null,null,null,{"$f":"SUM((N$5:EE$5=\"Overall\")*(N52:EE52<=3))-SUM((N$5:EE$5=\"Overall\")*(N52:EE52=0))","v":0},{"$f":"SUM((O$5:EF$5=\"Age\")*(O52:EF52<=3))-SUM((O$5:EF$5=\"Age\")*(O52:EF52=0))","v":3},null,{"$f":"IF(MIN('Points Calculation'!CB52,'Points Calculation'!CC52)>0,MIN('Points Calculation'!CB52,'Points Calculation'!CC52),\"\")","v":263.76},{"$f":"IF(MIN('Points Calculation'!BD52,'Points Calculation'!BF52)>0,MIN('Points Calculation'!BD52,'Points Calculation'!BF52),\"\")","v":87.48},176.27999999999997,2.0150891632373109,999.99,null,null,{"$f":"'Points Calculation'!BB52","v":87.34},{"$f":"'Points Calculation'!BC52","v":87.61999999999999},{"$f":"'Points Calculation'!BD52","v":87.48},{"$f":"'Points Calculation'!BG52","v":87.48}]
["Oliver Weeks","M",2001,{"$f":"INDEX('Age Calculation'!$A$1:'Age Calculation'!$Q$108,MATCH(C53,'Age Calculation'!$A$1:'Age Calculation'!$A$108),MATCH($A$1,'Age Calculation'!$A$1:'Age Calculation'!$Q$1))","v":"U14"},19051,119.29,104.12,90.4,90.4,87.55,83.72,{"$f":"IF('Points Calculation'!BG53<K53,'Points Calculation'!BG53,\"\")","v":75.58},{"$f":"IF(F53<999.99,IF(MIN(K53,L53)<F53,MIN(K53,L53)-F53,\"\"),\"\")","v":-43.710000000000008},"DSQ","DSQ",999.99,28,1,{"$f":"101.43+18.92","v":120.35000000000001},{"$f":"83.23+15.74","v":98.97},19,1,{"$f":"79.85+19.15","v":99},{"$f":"76.61+12.34","v":88.95},12,1,105.39,20,1,94.4,32,5,344.79,22,1,151.07,null,null,null,22,1,88.91,16,1,118.09,10,1,91.88,null,28,2,142.83000000000001,20,2,105.27,null,null,null,38,3,137.1,null,null,null,32,1,95.95,null,null,null,null,null,null,30,2,101.9,null,null,null,58,16,86.19,537.46,"DNF","DNF",999.99,20,1,146.47999999999999,59,10,681.67,25,1,115.13,53,14,418.28,46,8,210.68,null,null,null,null,null,16,1,81.239999999999995,22,1,107.74,13,1,92.95,null,null,null,39,2,102.15,17,1,77.94,null,null,null,null,null,null,18,1,69.91,null,null,null,{"$f":"SUM((N$5:EE$5=\"Overall\")*(N53:EE53<=3))-SUM((N$5:EE$5=\"Overall\")*(N53:EE53=0))","v":0},{"$f":"SUM((O$5:EF$5=\"Age\")*(O53:EF53<=3))-SUM((O$5:EF$5=\"Age\")*(O53:EF53=0))","v":21},null,{"$f":"IF(MIN('Points Calculation'!CB53,'Points Calculation'!CC53)>0,MIN('Points Calculation'!CB53,'Points Calculation'!CC53),\"\")","v":75.574999999999989},{"$f":"IF(MIN('Points Calculation'!BD53,'Points Calculation'!BF53)>0,MIN('Points Calculation'!BD53,'Points Calculation'!BF53),\"\")","v":75.58},-5.0000000000096634E-3,-6.6155067478296692E-5,143.148,null,null,{"$f":"'Points Calculation'!BB53","v":69.91},{"$f":"'Points Calculation'!BC53","v":81.239999999999995},{"$f":"'Points Calculation'!BD53","v":75.58},{"$f":"'Points Calculation'!BG53","v":75.58}]
["Roger Crombleholme","M",1957,{"$f":"INDEX('Age Calculation'!$A$1:'Age Calculation'!$Q$108,MATCH(C54,'Age Calculation'!$A$1:'Age Calculation'!$A$108),MATCH($A$1,'Age Calculation'!$A$1:'Age Calculation'!$Q$1))","v":"MAS"},5666,104.12,104.12,104.12,104.12,104.12,104.12,{"$f":"IF('Points Calculation'!BG54<K54,'Points Calculation'!BG54,\"\")","v":""},{"$f":"IF(F54<999.99,IF(MIN(K54,L54)<F54,MIN(K54,L54)-F54,\"\"),\"\")","v":""},null,null,null,null,null,null,null,null,null,null,null,null,null,null,null,null,null,null,null,null,null,null,null,null,null,null,null,null,null,null,null,null,null,null,null,null,null,null,null,null,null,null,null,null,null,null,null,null,null,null,null,null,null,null,null,null,null,null,null,null,40,6,141.93,"DNF","DNF",999.99,null,null,null,null,null,null,null,null,null,null,null,null,null,null,null,null,null,null,null,null,null,null,null,null,null,null,null,null,null,null,null,null,null,null,null,null,null,null,null,null,null,null,null,null,null,null,null,null,null,null,null,null,null,null,null,null,null,{"$f":"SUM((N$5:EE$5=\"Overall\")*(N54:EE54<=3))-SUM((N$5:EE$5=\"Overall\")*(N54:EE54=0))","v":0},{"$f":"SUM((O$5:EF$5=\"Age\")*(O54:EF54<=3))-SUM((O$5:EF$5=\"Age\")*(O54:EF54=0))","v":0},null,{"$f":"IF(MIN('Points Calculation'!CB54,'Points Calculation'!CC54)>0,MIN('Points Calculation'!CB54,'Points Calculation'!CC54),\"\")","v":""},{"$f":"IF(MIN('Points Calculation'!BD54,'Points Calculation'!BF54)>0,MIN('Points Calculation'!BD54,'Points Calculation'!BF54),\"\")","v":170.32},"","",124.944,null,null,{"$f":"'Points Calculation'!BB54","v":141.93},{"$f":"'Points Calculation'!BC54","v":""},{"$f":"'Points Calculation'!BD54","v":""},{"$f":"'Points Calculation'!BG54","v":104.12}]
["Joey Frost","M",1995,{"$f":"INDEX('Age Calculation'!$A$1:'Age Calculation'!$Q$108,MATCH(C55,'Age Calculation'!$A$1:'Age Calculation'!$A$108),MATCH($A$1,'Age Calculation'!$A$1:'Age Calculation'!$Q$1))","v":"U21"},20677,110.32,110.32,110.32,110.32,110.32,110.32,{"$f":"IF('Points Calculation'!BG55<K55,'Points Calculation'!BG55,\"\")","v":""},"",null,null,null,null,null,null,null,null,null,null,null,null,null,null,null,null,null,null,null,null,null,null,null,null,null,null,null,null,null,null,null,null,null,null,null,null,null,null,null,null,null,null,null,null,null,null,null,null,null,null,null,null,null,null,null,null,null,null,null,null,null,null,null,null,null,null,null,null,null,null,null,null,null,null,null,null,null,null,null,null,null,null,null,null,null,null,null,null,null,null,null,null,null,null,null,null,null,null,null,null,null,null,null,null,null,null,null,null,null,null,null,null,null,null,null,null,null,null,null,null,null,null,null,{"$f":"SUM((N$5:EE$5=\"Overall\")*(N55:EE55<=3))-SUM((N$5:EE$5=\"Overall\")*(N55:EE55=0))","v":0},{"$f":"SUM((O$5:EF$5=\"Age\")*(O55:EF55<=3))-SUM((O$5:EF$5=\"Age\")*(O55:EF55=0))","v":0},null,{"$f":"IF(MIN('Points Calculation'!CB55,'Points Calculation'!CC55)>0,MIN('Points Calculation'!CB55,'Points Calculation'!CC55),\"\")","v":""},{"$f":"IF(MIN('Points Calculation'!BD55,'Points Calculation'!BF55)>0,MIN('Points Calculation'!BD55,'Points Calculation'!BF55),\"\")","v":""},"","",132.38399999999999,null,null,{"$f":"'Points Calculation'!BB55","v":""},{"$f":"'Points Calculation'!BC55","v":""},{"$f":"'Points Calculation'!BD55","v":""},{"$f":"'Points Calculation'!BG55","v":110.32}]
["Jordan Rigby","M",2000,{"$f":"INDEX('Age Calculation'!$A$1:'Age Calculation'!$Q$108,MATCH(C56,'Age Calculation'!$A$1:'Age Calculation'!$A$108),MATCH($A$1,'Age Calculation'!$A$1:'Age Calculation'!$Q$1))","v":"U14"},19910,144.43,139.44999999999999,135.66,135.66,116.41,116.41,{"$f":"IF('Points Calculation'!BG56<K56,'Points Calculation'!BG56,\"\")","v":""},-28.02000000000001,14,1,134.47,51,5,{"$f":"188.7+18.92","v":207.62},{"$f":"192.01+15.74","v":207.75},null,null,null,null,null,null,null,null,null,null,22,1,190.65,35,6,474.44,null,null,null,null,null,null,26,4,136.84,null,null,null,null,33,3,158.72,30,3,143.53,null,null,null,null,null,null,null,null,null,null,null,null,null,null,null,null,null,null,28,1,97.01,32,1,125.74,null,null,null,null,null,null,null,null,null,null,null,null,null,"DSQ","DSQ",999.99,null,null,null,null,null,null,null,null,null,null,null,null,null,null,null,null,null,null,null,null,null,null,null,null,null,null,null,null,null,null,null,null,null,null,null,null,null,null,null,null,null,{"$f":"SUM((N$5:EE$5=\"Overall\")*(N56:EE56<=3))-SUM((N$5:EE$5=\"Overall\")*(N56:EE56=0))","v":0},{"$f":"SUM((O$5:EF$5=\"Age\")*(O56:EF56<=3))-SUM((O$5:EF$5=\"Age\")*(O56:EF56=0))","v":6},null,{"$f":"IF(MIN('Points Calculation'!CB56,'Points Calculation'!CC56)>0,MIN('Points Calculation'!CB56,'Points Calculation'!CC56),\"\")","v":161.364},{"$f":"IF(MIN('Points Calculation'!BD56,'Points Calculation'!BF56)>0,MIN('Points Calculation'!BD56,'Points Calculation'!BF56),\"\")","v":116.41},44.954000000000008,0.38616957306073368,173.316,null,null,{"$f":"'Points Calculation'!BB56","v":97.01},{"$f":"'Points Calculation'!BC56","v":136.84},{"$f":"'Points Calculation'!BD56","v":116.93},{"$f":"'Points Calculation'!BG56","v":116.41}]
["James Elgy","M",1993,{"$f":"INDEX('Age Calculation'!$A$1:'Age Calculation'!$Q$108,MATCH(C57,'Age Calculation'!$A$1:'Age Calculation'!$A$108),MATCH($A$1,'Age Calculation'!$A$1:'Age Calculation'!$Q$1))","v":"U21"},19166,142.46,142.46,142.46,142.46,142.46,142.46,{"$f":"IF('Points Calculation'!BG57<K57,'Points Calculation'!BG57,\"\")","v":""},"",null,null,null,null,null,null,null,null,null,null,null,null,null,null,null,null,null,null,null,null,null,null,null,null,null,null,null,null,null,null,null,null,null,null,null,null,null,null,null,null,null,null,null,null,null,null,null,null,null,null,null,null,null,null,null,null,null,null,null,null,null,null,null,null,null,null,null,null,null,null,null,null,null,null,null,null,null,null,null,null,null,null,null,null,null,null,null,null,null,null,null,null,null,null,null,null,null,null,null,null,null,null,null,null,null,null,null,null,null,null,null,null,null,null,null,null,null,null,null,null,null,null,null,{"$f":"SUM((N$5:EE$5=\"Overall\")*(N57:EE57<=3))-SUM((N$5:EE$5=\"Overall\")*(N57:EE57=0))","v":0},{"$f":"SUM((O$5:EF$5=\"Age\")*(O57:EF57<=3))-SUM((O$5:EF$5=\"Age\")*(O57:EF57=0))","v":0},null,{"$f":"IF(MIN('Points Calculation'!CB57,'Points Calculation'!CC57)>0,MIN('Points Calculation'!CB57,'Points Calculation'!CC57),\"\")","v":""},{"$f":"IF(MIN('Points Calculation'!BD57,'Points Calculation'!BF57)>0,MIN('Points Calculation'!BD57,'Points Calculation'!BF57),\"\")","v":""},"","",170.952,null,null,{"$f":"'Points Calculation'!BB57","v":""},{"$f":"'Points Calculation'!BC57","v":""},{"$f":"'Points Calculation'!BD57","v":""},{"$f":"'Points Calculation'!BG57","v":142.46}]
["Sam Lee","M",1996,{"$f":"INDEX('Age Calculation'!$A$1:'Age Calculation'!$Q$108,MATCH(C58,'Age Calculation'!$A$1:'Age Calculation'!$A$108),MATCH($A$1,'Age Calculation'!$A$1:'Age Calculation'!$Q$1))","v":"U18"},41662,154.66,154.66,154.66,143.62,138.66,138.66,{"$f":"IF('Points Calculation'!BG58<K58,'Points Calculation'!BG58,\"\")","v":133.41},-21.25,"DNF","DNF",999.99,null,null,null,null,null,null,null,null,null,null,null,null,null,null,"DNF","DNF",999.99,29,5,189.94,null,null,null,null,null,null,null,null,null,null,null,null,null,34,5,161.24,27,4,132.57,null,null,null,null,null,null,null,null,null,null,null,null,null,null,null,null,null,null,42,9,144.75,44,10,175.81,null,null,null,null,40,9,198.01,39,8,376.93,"DNF","DNF",999.99,38,6,166.79,null,null,null,null,null,null,null,null,null,null,null,38,10,163.61000000000001,29,10,175.95,17,8,134.24,null,null,null,61,9,185.55,null,null,null,null,null,null,null,null,null,null,null,null,null,null,null,{"$f":"SUM((N$5:EE$5=\"Overall\")*(N58:EE58<=3))-SUM((N$5:EE$5=\"Overall\")*(N58:EE58=0))","v":0},{"$f":"SUM((O$5:EF$5=\"Age\")*(O58:EF58<=3))-SUM((O$5:EF$5=\"Age\")*(O58:EF58=0))","v":0},null,{"$f":"IF(MIN('Points Calculation'!CB58,'Points Calculation'!CC58)>0,MIN('Points Calculation'!CB58,'Points Calculation'!CC58),\"\")","v":148.92500000000001},{"$f":"IF(MIN('Points Calculation'!BD58,'Points Calculation'!BF58)>0,MIN('Points Calculation'!BD58,'Points Calculation'!BF58),\"\")","v":133.41},15.515000000000015,0.11629563001274279,185.59199999999998,null,null,{"$f":"'Points Calculation'!BB58","v":132.57},{"$f":"'Points Calculation'!BC58","v":134.24},{"$f":"'Points Calculation'!BD58","v":133.41},{"$f":"'Points Calculation'!BG58","v":133.41}]
["Sam Dewison","M",1998,{"$f":"INDEX('Age Calculation'!$A$1:'Age Calculation'!$Q$108,MATCH(C59,'Age Calculation'!$A$1:'Age Calculation'!$A$108),MATCH($A$1,'Age Calculation'!$A$1:'Age Calculation'!$Q$1))","v":"U16"},20846,238.66,238.66,207.52,124.45,124.45,124.45,{"$f":"IF('Points Calculation'!BG59<K59,'Points Calculation'!BG59,\"\")","v":""},-114.21,null,null,null,null,null,null,null,null,null,null,null,null,null,null,null,null,null,null,null,null,null,null,null,null,null,null,null,null,null,32,12,176.37,null,null,null,null,null,null,null,null,null,null,null,null,null,35,4,129.36000000000001,null,null,null,43,10,119.54,null,null,null,null,null,null,"DSQ","DSQ",999.99,41,9,167.05,null,null,null,null,null,null,null,null,null,null,null,null,null,null,null,null,null,null,null,null,null,null,null,null,null,null,null,null,null,null,null,null,null,null,null,null,null,null,null,"DNF","DNF",999.99,null,null,null,null,null,null,null,null,null,null,null,null,null,null,null,{"$f":"SUM((N$5:EE$5=\"Overall\")*(N59:EE59<=3))-SUM((N$5:EE$5=\"Overall\")*(N59:EE59=0))","v":0},{"$f":"SUM((O$5:EF$5=\"Age\")*(O59:EF59<=3))-SUM((O$5:EF$5=\"Age\")*(O59:EF59=0))","v":0},null,{"$f":"IF(MIN('Points Calculation'!CB59,'Points Calculation'!CC59)>0,MIN('Points Calculation'!CB59,'Points Calculation'!CC59),\"\")","v":1199.9880000000001},{"$f":"IF(MIN('Points Calculation'!BD59,'Points Calculation'!BF59)>0,MIN('Points Calculation'!BD59,'Points Calculation'!BF59),\"\")","v":124.45},1075.538,8.6423302531137001,286.392,null,null,{"$f":"'Points Calculation'!BB59","v":119.54},{"$f":"'Points Calculation'!BC59","v":129.36000000000001},{"$f":"'Points Calculation'!BD59","v":124.45},{"$f":"'Points Calculation'!BG59","v":124.45}]
["Thomas Lawrence","M",1999,{"$f":"INDEX('Age Calculation'!$A$1:'Age Calculation'!$Q$108,MATCH(C60,'Age Calculation'!$A$1:'Age Calculation'!$A$108),MATCH($A$1,'Age Calculation'!$A$1:'Age Calculation'!$Q$1))","v":"U16"},19941,191.81,191.81,190.21,149.19999999999999,149.19999999999999,149.19999999999999,{"$f":"IF('Points Calculation'!BG60<K60,'Points Calculation'!BG60,\"\")","v":""},-42.610000000000014,null,null,null,56,18,{"$f":"235.3+18.92","v":254.22000000000003},{"$f":"251.12+15.74","v":266.86},50,18,{"$f":"610.82+19.15","v":629.97},{"$f":"194.64+12.34","v":206.98},null,null,null,null,null,null,29,11,274.2,28,9,188.6,null,null,null,null,null,null,null,null,null,null,null,null,null,null,null,null,37,14,176.44,null,null,null,47,9,156.07,null,null,null,53,12,142.33000000000001,null,null,null,null,null,null,48,9,168.24,39,8,159.25,null,null,null,null,36,10,191.75,"DNF","DNF",999.99,null,null,null,null,null,null,null,null,null,null,null,null,null,null,null,null,null,"DNF","DNF",999.99,28,6,165.91,"DNF","DNF",999.99,null,null,null,54,12,156.42000000000002,null,null,null,null,null,null,null,null,null,null,null,null,null,null,null,{"$f":"SUM((N$5:EE$5=\"Overall\")*(N60:EE60<=3))-SUM((N$5:EE$5=\"Overall\")*(N60:EE60=0))","v":0},{"$f":"SUM((O$5:EF$5=\"Age\")*(O60:EF60<=3))-SUM((O$5:EF$5=\"Age\")*(O60:EF60=0))","v":0},null,{"$f":"IF(MIN('Points Calculation'!CB60,'Points Calculation'!CC60)>0,MIN('Points Calculation'!CB60,'Points Calculation'!CC60),\"\")","v":161.16500000000002},{"$f":"IF(MIN('Points Calculation'!BD60,'Points Calculation'!BF60)>0,MIN('Points Calculation'!BD60,'Points Calculation'!BF60),\"\")","v":149.19999999999999},11.965000000000032,8.0194369973190571E-2,230.172,null,null,{"$f":"'Points Calculation'!BB60","v":142.33000000000001},{"$f":"'Points Calculation'!BC60","v":156.07},{"$f":"'Points Calculation'!BD60","v":149.19999999999999},{"$f":"'Points Calculation'!BG60","v":149.19999999999999}]
["Ethan Hemming","M",2001,{"$f":"INDEX('Age Calculation'!$A$1:'Age Calculation'!$Q$108,MATCH(C61,'Age Calculation'!$A$1:'Age Calculation'!$A$108),MATCH($A$1,'Age Calculation'!$A$1:'Age Calculation'!$Q$1))","v":"U14"},19829,211.91,196.43,191.39,157.65,154.80000000000001,154.80000000000001,{"$f":"IF('Points Calculation'!BG61<K61,'Points Calculation'!BG61,\"\")","v":""},-57.109999999999985,23,3,180.95,null,null,null,null,null,null,null,null,null,null,null,50,18,302.72000000000003,null,null,null,null,null,null,null,null,null,null,null,null,38,8,201.82,null,null,null,null,36,4,169.82,34,4,170.34,null,null,null,53,7,174.55,null,null,null,59,7,145.47999999999999,null,null,null,null,null,null,46,11,164.11,45,4,176.4,null,null,null,null,null,null,null,null,null,null,48,3,190.48,null,null,null,null,null,null,null,null,null,null,null,null,null,null,46,7,196.76,null,null,null,22,4,170.9,null,null,null,60,5,182.5,null,null,null,null,null,null,null,null,null,null,null,null,null,null,null,{"$f":"SUM((N$5:EE$5=\"Overall\")*(N61:EE61<=3))-SUM((N$5:EE$5=\"Overall\")*(N61:EE61=0))","v":0},{"$f":"SUM((O$5:EF$5=\"Age\")*(O61:EF61<=3))-SUM((O$5:EF$5=\"Age\")*(O61:EF61=0))","v":2},null,{"$f":"IF(MIN('Points Calculation'!CB61,'Points Calculation'!CC61)>0,MIN('Points Calculation'!CB61,'Points Calculation'!CC61),\"\")","v":175.92500000000001},{"$f":"IF(MIN('Points Calculation'!BD61,'Points Calculation'!BF61)>0,MIN('Points Calculation'!BD61,'Points Calculation'!BF61),\"\")","v":154.80000000000001},21.125,0.13646640826873385,254.29199999999997,null,null,{"$f":"'Points Calculation'!BB61","v":145.47999999999999},{"$f":"'Points Calculation'!BC61","v":164.11},{"$f":"'Points Calculation'!BD61","v":154.80000000000001},{"$f":"'Points Calculation'!BG61","v":154.80000000000001}]
["Duncan Thorley","M",1997,{"$f":"INDEX('Age Calculation'!$A$1:'Age Calculation'!$Q$108,MATCH(C62,'Age Calculation'!$A$1:'Age Calculation'!$A$108),MATCH($A$1,'Age Calculation'!$A$1:'Age Calculation'!$Q$1))","v":"U18"},18998,197.45,197.45,197.45,159.29,159.29,138.54,{"$f":"IF('Points Calculation'!BG62<K62,'Points Calculation'!BG62,\"\")","v":""},-58.91,null,null,null,null,null,null,null,null,null,null,null,null,null,null,null,null,null,null,null,null,null,null,null,null,null,null,null,null,null,null,null,null,null,null,null,null,27,4,132.74,null,null,null,null,null,null,null,null,null,null,null,null,null,null,null,null,null,null,null,null,null,"DNF","DNF",999.99,null,null,null,null,null,null,null,null,null,null,null,null,null,null,null,null,null,null,null,null,null,null,null,null,null,18,2,144.33000000000001,21,4,null,null,null,null,null,null,null,null,null,null,null,null,null,null,null,null,null,null,null,null,null,null,null,null,null,null,null,null,null,null,{"$f":"SUM((N$5:EE$5=\"Overall\")*(N62:EE62<=3))-SUM((N$5:EE$5=\"Overall\")*(N62:EE62=0))","v":0},{"$f":"SUM((O$5:EF$5=\"Age\")*(O62:EF62<=3))-SUM((O$5:EF$5=\"Age\")*(O62:EF62=0))","v":1},null,{"$f":"IF(MIN('Points Calculation'!CB62,'Points Calculation'!CC62)>0,MIN('Points Calculation'!CB62,'Points Calculation'!CC62),\"\")","v":173.196},{"$f":"IF(MIN('Points Calculation'!BD62,'Points Calculation'!BF62)>0,MIN('Points Calculation'!BD62,'Points Calculation'!BF62),\"\")","v":138.54},34.656000000000006,0.25015158077089655,236.93999999999997,null,null,{"$f":"'Points Calculation'!BB62","v":132.74},{"$f":"'Points Calculation'!BC62","v":144.33000000000001},{"$f":"'Points Calculation'!BD62","v":138.54},{"$f":"'Points Calculation'!BG62","v":138.54}]
["Toby Tarrant","M",1997,{"$f":"INDEX('Age Calculation'!$A$1:'Age Calculation'!$Q$108,MATCH(C63,'Age Calculation'!$A$1:'Age Calculation'!$A$108),MATCH($A$1,'Age Calculation'!$A$1:'Age Calculation'!$Q$1))","v":"U18"},21550,999.99,999.99,246.2,190.79,190.79,190.79,{"$f":"IF('Points Calculation'!BG63<K63,'Points Calculation'!BG63,\"\")","v":""},"",null,null,null,null,null,null,null,null,null,null,null,null,null,null,null,null,null,null,null,null,null,null,null,null,null,null,null,null,null,41,6,205.17,null,null,null,null,null,null,null,null,null,null,null,null,null,76,16,556.09,null,null,null,68,17,176.4,null,null,null,null,null,null,"DNF","DNF",999.99,"DNS","DNS",999.99,null,null,null,null,null,null,null,null,null,null,null,null,null,null,null,null,null,null,null,null,null,null,null,null,null,null,null,null,null,null,null,null,null,null,null,null,null,null,null,null,null,null,null,null,null,null,null,null,null,null,null,null,null,null,null,null,null,{"$f":"SUM((N$5:EE$5=\"Overall\")*(N63:EE63<=3))-SUM((N$5:EE$5=\"Overall\")*(N63:EE63=0))","v":0},{"$f":"SUM((O$5:EF$5=\"Age\")*(O63:EF63<=3))-SUM((O$5:EF$5=\"Age\")*(O63:EF63=0))","v":0},null,{"$f":"IF(MIN('Points Calculation'!CB63,'Points Calculation'!CC63)>0,MIN('Points Calculation'!CB63,'Points Calculation'!CC63),\"\")","v":""},{"$f":"IF(MIN('Points Calculation'!BD63,'Points Calculation'!BF63)>0,MIN('Points Calculation'!BD63,'Points Calculation'!BF63),\"\")","v":190.79},"","",999.99,null,null,{"$f":"'Points Calculation'!BB63","v":176.4},{"$f":"'Points Calculation'!BC63","v":205.17},{"$f":"'Points Calculation'!BD63","v":190.79},{"$f":"'Points Calculation'!BG63","v":190.79}]
["Thomas Upton","M",2001,{"$f":"INDEX('Age Calculation'!$A$1:'Age Calculation'!$Q$108,MATCH(C64,'Age Calculation'!$A$1:'Age Calculation'!$A$108),MATCH($A$1,'Age Calculation'!$A$1:'Age Calculation'!$Q$1))","v":"U14"},21051,341.66,341.66,297.64,203.96,194.78,194.78,{"$f":"IF('Points Calculation'!BG64<K64,'Points Calculation'!BG64,\"\")","v":194.46},-147.20000000000002,null,null,null,null,null,null,null,null,null,null,null,null,null,null,46,15,253.61,null,null,null,null,null,null,null,null,null,null,null,null,null,null,null,36,10,260.56,null,42,7,240.7,41,6,226.64,null,null,null,66,12,215,null,null,null,75,11,192.91,null,null,null,null,null,null,54,9,211.47,55,8,236.02,null,null,null,null,null,null,null,38,8,341,52,6,226.46,41,4,196.65,null,null,null,null,null,null,null,null,null,null,null,"DNF","DNF",999.99,null,null,null,24,6,196,null,null,null,66,7,337.78999999999996,null,null,null,null,null,null,null,null,null,null,null,null,null,null,null,{"$f":"SUM((N$5:EE$5=\"Overall\")*(N64:EE64<=3))-SUM((N$5:EE$5=\"Overall\")*(N64:EE64=0))","v":0},{"$f":"SUM((O$5:EF$5=\"Age\")*(O64:EF64<=3))-SUM((O$5:EF$5=\"Age\")*(O64:EF64=0))","v":0},null,{"$f":"IF(MIN('Points Calculation'!CB64,'Points Calculation'!CC64)>0,MIN('Points Calculation'!CB64,'Points Calculation'!CC64),\"\")","v":196.32499999999999},{"$f":"IF(MIN('Points Calculation'!BD64,'Points Calculation'!BF64)>0,MIN('Points Calculation'!BD64,'Points Calculation'!BF64),\"\")","v":194.46},1.8649999999999807,9.5906613185229896E-3,409.99200000000002,null,null,{"$f":"'Points Calculation'!BB64","v":192.91},{"$f":"'Points Calculation'!BC64","v":196},{"$f":"'Points Calculation'!BD64","v":194.46},{"$f":"'Points Calculation'!BG64","v":194.46}]
["Edward Guy","M",2001,{"$f":"INDEX('Age Calculation'!$A$1:'Age Calculation'!$Q$108,MATCH(C65,'Age Calculation'!$A$1:'Age Calculation'!$A$108),MATCH($A$1,'Age Calculation'!$A$1:'Age Calculation'!$Q$1))","v":"U14"},19379,210.93,210.93,210.93,210.93,210.93,210.93,{"$f":"IF('Points Calculation'!BG65<K65,'Points Calculation'!BG65,\"\")","v":""},"",null,null,null,55,8,{"$f":"242.61+18.92","v":261.53000000000003},{"$f":"238.35+15.74","v":254.09},null,null,null,null,null,null,null,null,null,null,31,4,311.55,31,3,232.87,null,null,null,null,null,null,null,null,null,null,null,null,null,45,10,258.61,43,8,237.85,null,null,null,null,null,null,null,null,null,null,null,null,null,null,null,null,null,null,null,null,null,null,null,null,null,null,null,null,"DSQ","DSQ",999.99,null,null,null,null,null,null,null,null,null,null,null,null,null,null,null,null,null,null,null,null,null,null,null,null,null,null,null,null,null,null,null,null,null,null,null,null,null,null,null,null,null,null,null,null,null,null,null,null,null,null,{"$f":"SUM((N$5:EE$5=\"Overall\")*(N65:EE65<=3))-SUM((N$5:EE$5=\"Overall\")*(N65:EE65=0))","v":0},{"$f":"SUM((O$5:EF$5=\"Age\")*(O65:EF65<=3))-SUM((O$5:EF$5=\"Age\")*(O65:EF65=0))","v":1},null,{"$f":"IF(MIN('Points Calculation'!CB65,'Points Calculation'!CC65)>0,MIN('Points Calculation'!CB65,'Points Calculation'!CC65),\"\")","v":279.44400000000002},{"$f":"IF(MIN('Points Calculation'!BD65,'Points Calculation'!BF65)>0,MIN('Points Calculation'!BD65,'Points Calculation'!BF65),\"\")","v":243.48},35.964000000000027,0.14770823065549543,253.11599999999999,null,null,{"$f":"'Points Calculation'!BB65","v":232.87},{"$f":"'Points Calculation'!BC65","v":254.09},{"$f":"'Points Calculation'!BD65","v":243.48},{"$f":"'Points Calculation'!BG65","v":210.93}]
["Samuel Doherty","M",1999,{"$f":"INDEX('Age Calculation'!$A$1:'Age Calculation'!$Q$108,MATCH(C66,'Age Calculation'!$A$1:'Age Calculation'!$A$108),MATCH($A$1,'Age Calculation'!$A$1:'Age Calculation'!$Q$1))","v":"U16"},19572,218.06,218.06,218.06,218.06,218.06,218.06,{"$f":"IF('Points Calculation'!BG66<K66,'Points Calculation'!BG66,\"\")","v":""},"",null,null,null,null,null,null,null,null,null,null,null,null,null,null,null,null,null,null,null,null,null,null,null,null,null,null,null,null,null,null,null,null,null,null,null,null,null,null,null,null,null,null,null,null,null,null,null,null,null,null,null,null,null,null,null,null,null,null,null,null,null,null,null,null,null,null,null,null,null,null,null,null,null,null,null,null,null,null,null,null,null,null,null,null,null,null,null,null,null,null,null,null,null,null,null,null,null,null,null,null,null,null,null,null,null,null,null,null,null,null,null,null,null,null,null,null,null,null,null,null,null,null,null,{"$f":"SUM((N$5:EE$5=\"Overall\")*(N66:EE66<=3))-SUM((N$5:EE$5=\"Overall\")*(N66:EE66=0))","v":0},{"$f":"SUM((O$5:EF$5=\"Age\")*(O66:EF66<=3))-SUM((O$5:EF$5=\"Age\")*(O66:EF66=0))","v":0},null,{"$f":"IF(MIN('Points Calculation'!CB66,'Points Calculation'!CC66)>0,MIN('Points Calculation'!CB66,'Points Calculation'!CC66),\"\")","v":""},{"$f":"IF(MIN('Points Calculation'!BD66,'Points Calculation'!BF66)>0,MIN('Points Calculation'!BD66,'Points Calculation'!BF66),\"\")","v":""},"","",261.67199999999997,null,null,{"$f":"'Points Calculation'!BB66","v":""},{"$f":"'Points Calculation'!BC66","v":""},{"$f":"'Points Calculation'!BD66","v":""},{"$f":"'Points Calculation'!BG66","v":218.06}]
["Karl Hancock","M",1995,{"$f":"INDEX('Age Calculation'!$A$1:'Age Calculation'!$Q$108,MATCH(C67,'Age Calculation'!$A$1:'Age Calculation'!$A$108),MATCH($A$1,'Age Calculation'!$A$1:'Age Calculation'!$Q$1))","v":"U21"},18616,245.23,245.23,232.6,232.6,232.6,232.6,{"$f":"IF('Points Calculation'!BG67<K67,'Points Calculation'!BG67,\"\")","v":""},-12.629999999999995,null,null,null,null,null,null,null,null,null,null,null,39,6,219.97,null,null,null,null,null,null,null,null,null,null,null,null,null,null,null,null,null,null,null,null,null,null,null,null,null,null,null,null,null,null,null,null,null,null,null,null,null,null,null,null,null,null,null,null,null,null,null,null,null,null,null,null,null,null,null,null,null,null,null,null,null,null,null,null,null,null,null,null,null,null,null,null,null,null,null,null,null,null,null,null,null,null,null,null,null,null,null,null,null,null,null,null,null,null,null,null,null,null,null,null,null,null,null,null,null,null,null,null,null,{"$f":"SUM((N$5:EE$5=\"Overall\")*(N67:EE67<=3))-SUM((N$5:EE$5=\"Overall\")*(N67:EE67=0))","v":0},{"$f":"SUM((O$5:EF$5=\"Age\")*(O67:EF67<=3))-SUM((O$5:EF$5=\"Age\")*(O67:EF67=0))","v":0},null,{"$f":"IF(MIN('Points Calculation'!CB67,'Points Calculation'!CC67)>0,MIN('Points Calculation'!CB67,'Points Calculation'!CC67),\"\")","v":263.964},{"$f":"IF(MIN('Points Calculation'!BD67,'Points Calculation'!BF67)>0,MIN('Points Calculation'!BD67,'Points Calculation'!BF67),\"\")","v":263.95999999999998},4.0000000000190994E-3,1.5153811183585012E-5,294.27599999999995,null,null,{"$f":"'Points Calculation'!BB67","v":219.97},{"$f":"'Points Calculation'!BC67","v":""},{"$f":"'Points Calculation'!BD67","v":""},{"$f":"'Points Calculation'!BG67","v":232.6}]
["John Elgy","M",1951,{"$f":"INDEX('Age Calculation'!$A$1:'Age Calculation'!$Q$108,MATCH(C68,'Age Calculation'!$A$1:'Age Calculation'!$A$108),MATCH($A$1,'Age Calculation'!$A$1:'Age Calculation'!$Q$1))","v":"MAS"},19164,280.95999999999998,280.95999999999998,280.95999999999998,280.95999999999998,280.95999999999998,280.95999999999998,{"$f":"IF('Points Calculation'!BG68<K68,'Points Calculation'!BG68,\"\")","v":""},"",null,null,null,null,null,null,null,null,null,null,null,null,null,null,null,null,null,null,null,null,null,null,null,null,null,null,null,null,null,null,null,null,null,null,null,null,null,null,null,null,null,null,null,null,null,null,null,null,null,null,null,null,null,null,null,null,null,null,null,null,null,null,null,null,null,null,null,null,null,null,null,null,null,null,null,null,null,null,null,null,null,null,null,null,null,null,null,null,null,null,null,null,null,null,null,null,null,null,null,null,null,null,null,null,null,null,null,null,null,null,null,null,null,null,null,null,null,null,null,null,null,null,null,{"$f":"SUM((N$5:EE$5=\"Overall\")*(N68:EE68<=3))-SUM((N$5:EE$5=\"Overall\")*(N68:EE68=0))","v":0},{"$f":"SUM((O$5:EF$5=\"Age\")*(O68:EF68<=3))-SUM((O$5:EF$5=\"Age\")*(O68:EF68=0))","v":0},null,{"$f":"IF(MIN('Points Calculation'!CB68,'Points Calculation'!CC68)>0,MIN('Points Calculation'!CB68,'Points Calculation'!CC68),\"\")","v":""},{"$f":"IF(MIN('Points Calculation'!BD68,'Points Calculation'!BF68)>0,MIN('Points Calculation'!BD68,'Points Calculation'!BF68),\"\")","v":""},"","",337.15199999999999,null,null,{"$f":"'Points Calculation'!BB68","v":""},{"$f":"'Points Calculation'!BC68","v":""},{"$f":"'Points Calculation'!BD68","v":""},{"$f":"'Points Calculation'!BG68","v":280.95999999999998}]
["Phil Deller","M",1959,{"$f":"INDEX('Age Calculation'!$A$1:'Age Calculation'!$Q$108,MATCH(C69,'Age Calculation'!$A$1:'Age Calculation'!$A$108),MATCH($A$1,'Age Calculation'!$A$1:'Age Calculation'!$Q$1))","v":"MAS"},17039,654.11,654.11,654.11,654.11,654.11,654.11,{"$f":"IF('Points Calculation'!BG69<K69,'Points Calculation'!BG69,\"\")","v":""},"",null,null,null,null,null,null,null,null,null,null,null,null,null,null,null,null,null,null,null,null,null,null,null,null,null,null,null,null,null,null,null,null,null,null,null,null,null,null,null,null,null,null,null,null,null,null,null,null,null,null,null,null,null,null,null,null,null,null,null,null,null,null,null,null,null,null,null,null,null,null,null,null,null,null,null,null,null,null,null,null,null,null,null,null,null,null,null,null,null,null,null,null,null,null,null,null,null,null,null,null,null,null,null,null,null,null,null,null,null,null,null,null,null,null,null,null,null,null,null,null,null,null,null,{"$f":"SUM((N$5:EE$5=\"Overall\")*(N69:EE69<=3))-SUM((N$5:EE$5=\"Overall\")*(N69:EE69=0))","v":0},{"$f":"SUM((O$5:EF$5=\"Age\")*(O69:EF69<=3))-SUM((O$5:EF$5=\"Age\")*(O69:EF69=0))","v":0},null,{"$f":"IF(MIN('Points Calculation'!CB69,'Points Calculation'!CC69)>0,MIN('Points Calculation'!CB69,'Points Calculation'!CC69),\"\")","v":""},{"$f":"IF(MIN('Points Calculation'!BD69,'Points Calculation'!BF69)>0,MIN('Points Calculation'!BD69,'Points Calculation'!BF69),\"\")","v":""},"","",784.93200000000002,null,null,{"$f":"'Points Calculation'!BB69","v":""},{"$f":"'Points Calculation'!BC69","v":""},{"$f":"'Points Calculation'!BD69","v":""},{"$f":"'Points Calculation'!BG69","v":654.11}]
["David Hancock","M",1964,{"$f":"INDEX('Age Calculation'!$A$1:'Age Calculation'!$Q$108,MATCH(C70,'Age Calculation'!$A$1:'Age Calculation'!$A$108),MATCH($A$1,'Age Calculation'!$A$1:'Age Calculation'!$Q$1))","v":"MAS"},17037,999.99,999.99,999.99,999.99,999.99,999.99,{"$f":"IF('Points Calculation'!BG70<K70,'Points Calculation'!BG70,\"\")","v":""},"",null,null,null,null,null,null,null,null,null,null,null,null,null,null,null,null,null,null,null,null,null,null,null,null,null,null,null,null,null,null,null,null,null,null,null,null,null,null,null,null,null,null,null,null,null,null,null,null,null,null,null,null,null,null,null,null,null,null,null,null,null,null,null,null,null,null,null,null,null,null,null,null,null,null,null,null,null,null,null,null,null,null,null,null,null,null,null,null,null,null,null,null,null,null,null,null,null,null,null,null,null,null,null,null,null,null,null,null,null,null,null,null,null,null,null,null,null,null,null,null,null,null,null,{"$f":"SUM((N$5:EE$5=\"Overall\")*(N70:EE70<=3))-SUM((N$5:EE$5=\"Overall\")*(N70:EE70=0))","v":0},{"$f":"SUM((O$5:EF$5=\"Age\")*(O70:EF70<=3))-SUM((O$5:EF$5=\"Age\")*(O70:EF70=0))","v":0},null,{"$f":"IF(MIN('Points Calculation'!CB70,'Points Calculation'!CC70)>0,MIN('Points Calculation'!CB70,'Points Calculation'!CC70),\"\")","v":""},{"$f":"IF(MIN('Points Calculation'!BD70,'Points Calculation'!BF70)>0,MIN('Points Calculation'!BD70,'Points Calculation'!BF70),\"\")","v":""},"","",999.99,null,null,{"$f":"'Points Calculation'!BB70","v":""},{"$f":"'Points Calculation'!BC70","v":""},{"$f":"'Points Calculation'!BD70","v":""},{"$f":"'Points Calculation'!BG70","v":999.99}]
["Matthew Kirkland","M",1992,{"$f":"INDEX('Age Calculation'!$A$1:'Age Calculation'!$Q$108,MATCH(C71,'Age Calculation'!$A$1:'Age Calculation'!$A$108),MATCH($A$1,'Age Calculation'!$A$1:'Age Calculation'!$Q$1))","v":"SEN"},21633,999.99,999.99,999.99,999.99,350.57,350.57,{"$f":"IF('Points Calculation'!BG71<K71,'Points Calculation'!BG71,\"\")","v":""},"",null,null,null,null,null,null,null,null,null,null,null,null,null,null,null,null,null,null,null,null,null,null,null,null,null,null,null,null,null,null,null,null,null,null,null,null,null,null,null,null,null,null,null,null,null,null,null,null,null,null,null,null,null,null,null,null,null,null,null,null,64,8,293.18,65,8,292.14,null,null,null,null,null,null,null,null,null,null,null,null,null,null,null,null,null,null,null,null,null,null,null,null,null,null,null,null,null,null,null,null,null,null,null,null,null,null,null,null,null,null,null,null,null,null,null,null,null,null,null,null,null,null,null,null,null,{"$f":"SUM((N$5:EE$5=\"Overall\")*(N71:EE71<=3))-SUM((N$5:EE$5=\"Overall\")*(N71:EE71=0))","v":0},{"$f":"SUM((O$5:EF$5=\"Age\")*(O71:EF71<=3))-SUM((O$5:EF$5=\"Age\")*(O71:EF71=0))","v":0},null,{"$f":"IF(MIN('Points Calculation'!CB71,'Points Calculation'!CC71)>0,MIN('Points Calculation'!CB71,'Points Calculation'!CC71),\"\")","v":""},{"$f":"IF(MIN('Points Calculation'!BD71,'Points Calculation'!BF71)>0,MIN('Points Calculation'!BD71,'Points Calculation'!BF71),\"\")","v":350.57},"","",999.99,null,null,{"$f":"'Points Calculation'!BB71","v":292.14},{"$f":"'Points Calculation'!BC71","v":""},{"$f":"'Points Calculation'!BD71","v":""},{"$f":"'Points Calculation'!BG71","v":350.57}]
["Ben Hall","M",1994,{"$f":"INDEX('Age Calculation'!$A$1:'Age Calculation'!$Q$108,MATCH(C72,'Age Calculation'!$A$1:'Age Calculation'!$A$108),MATCH($A$1,'Age Calculation'!$A$1:'Age Calculation'!$Q$1))","v":"U21"},21130,"NR","NR","NR","NR",null,null,null,"",null,null,null,null,null,null,null,null,null,null,null,null,null,null,null,null,null,null,null,null,null,null,null,null,null,null,null,null,null,null,null,null,null,null,null,null,null,null,null,null,null,null,null,null,null,null,null,null,null,null,null,null,null,null,null,null,null,null,null,null,null,null,null,null,null,null,null,null,null,null,null,null,null,null,null,null,null,null,null,null,null,null,null,null,null,null,null,null,null,null,null,null,null,null,null,null,null,null,null,null,null,null,null,null,null,null,null,null,null,null,null,null,null,null,null,null,null,null,null,null,null,null,null,{"$f":"SUM((N$5:EE$5=\"Overall\")*(N72:EE72<=3))-SUM((N$5:EE$5=\"Overall\")*(N72:EE72=0))","v":0},{"$f":"SUM((O$5:EF$5=\"Age\")*(O72:EF72<=3))-SUM((O$5:EF$5=\"Age\")*(O72:EF72=0))","v":0},null,{"$f":"IF(MIN('Points Calculation'!CB72,'Points Calculation'!CC72)>0,MIN('Points Calculation'!CB72,'Points Calculation'!CC72),\"\")","v":""},{"$f":"IF(MIN('Points Calculation'!BD72,'Points Calculation'!BF72)>0,MIN('Points Calculation'!BD72,'Points Calculation'!BF72),\"\")","v":""},"","",{"$f":"F72","v":"NR"},null,null,{"$f":"'Points Calculation'!BB72","v":""},{"$f":"'Points Calculation'!BC72","v":0},{"$f":"'Points Calculation'!BD72","v":0},{"$f":"'Points Calculation'!BG72","v":0}]
["Matthew Waller","M",1999,{"$f":"INDEX('Age Calculation'!$A$1:'Age Calculation'!$Q$108,MATCH(C73,'Age Calculation'!$A$1:'Age Calculation'!$A$108),MATCH($A$1,'Age Calculation'!$A$1:'Age Calculation'!$Q$1))","v":"U16"},17958,"NR","NR","NR","NR",null,null,null,"",null,null,null,null,null,null,null,null,null,null,null,null,null,null,null,null,null,null,null,null,null,null,null,null,null,null,null,null,null,null,null,null,null,null,null,null,null,null,null,null,null,null,null,null,null,null,null,null,null,null,null,null,null,null,null,null,null,null,null,null,null,null,null,null,null,null,null,null,null,null,null,null,null,null,null,null,null,null,null,null,null,null,null,null,null,null,null,null,null,null,null,null,null,null,null,null,null,null,null,null,null,null,null,null,null,null,null,null,null,null,null,null,null,null,null,null,null,null,null,null,null,null,null,{"$f":"SUM((N$5:EE$5=\"Overall\")*(N73:EE73<=3))-SUM((N$5:EE$5=\"Overall\")*(N73:EE73=0))","v":0},{"$f":"SUM((O$5:EF$5=\"Age\")*(O73:EF73<=3))-SUM((O$5:EF$5=\"Age\")*(O73:EF73=0))","v":0},null,{"$f":"IF(MIN('Points Calculation'!CB73,'Points Calculation'!CC73)>0,MIN('Points Calculation'!CB73,'Points Calculation'!CC73),\"\")","v":""},{"$f":"IF(MIN('Points Calculation'!BD73,'Points Calculation'!BF73)>0,MIN('Points Calculation'!BD73,'Points Calculation'!BF73),\"\")","v":""},"","","NR",null,null,{"$f":"'Points Calculation'!BB73","v":""},{"$f":"'Points Calculation'!BC73","v":0},{"$f":"'Points Calculation'!BD73","v":0},{"$f":"'Points Calculation'!BG73","v":0}]
["JJ Frost","M",1993,{"$f":"INDEX('Age Calculation'!$A$1:'Age Calculation'!$Q$108,MATCH(C74,'Age Calculation'!$A$1:'Age Calculation'!$A$108),MATCH($A$1,'Age Calculation'!$A$1:'Age Calculation'!$Q$1))","v":"U21"},20676,"NR","NR","NR","NR",null,null,null,"",null,null,null,null,null,null,null,null,null,null,null,null,null,null,null,null,null,null,null,null,null,null,null,null,null,null,null,null,null,null,null,null,null,null,null,null,null,null,null,null,null,null,null,null,null,null,null,null,null,null,null,null,null,null,null,null,null,null,null,null,null,null,null,null,null,null,null,null,null,null,null,null,null,null,null,null,null,null,null,null,null,null,null,null,null,null,null,null,null,null,null,null,null,null,null,null,null,null,null,null,null,null,null,null,null,null,null,null,null,null,null,null,null,null,null,null,null,null,null,null,null,null,null,{"$f":"SUM((N$5:EE$5=\"Overall\")*(N74:EE74<=3))-SUM((N$5:EE$5=\"Overall\")*(N74:EE74=0))","v":0},{"$f":"SUM((O$5:EF$5=\"Age\")*(O74:EF74<=3))-SUM((O$5:EF$5=\"Age\")*(O74:EF74=0))","v":0},null,{"$f":"IF(MIN('Points Calculation'!CB74,'Points Calculation'!CC74)>0,MIN('Points Calculation'!CB74,'Points Calculation'!CC74),\"\")","v":""},{"$f":"IF(MIN('Points Calculation'!BD74,'Points Calculation'!BF74)>0,MIN('Points Calculation'!BD74,'Points Calculation'!BF74),\"\")","v":""},"","","NR",null,null,{"$f":"'Points Calculation'!BB74","v":""},{"$f":"'Points Calculation'!BC74","v":0},{"$f":"'Points Calculation'!BD74","v":0},{"$f":"'Points Calculation'!BG74","v":0}]
["Jake Heard","M",1998,{"$f":"INDEX('Age Calculation'!$A$1:'Age Calculation'!$Q$108,MATCH(C75,'Age Calculation'!$A$1:'Age Calculation'!$A$108),MATCH($A$1,'Age Calculation'!$A$1:'Age Calculation'!$Q$1))","v":"U16"},21075,"NR","NR","NR","NR",null,null,null,"",null,null,null,null,null,null,null,null,null,null,null,null,null,null,null,null,null,null,null,null,null,null,null,null,null,null,null,null,null,null,null,null,null,null,null,null,null,null,null,null,null,null,null,null,null,null,null,null,null,null,null,null,null,null,null,null,null,null,null,null,"DNF","DNF",999.99,"DSQ","DSQ",999.99,null,null,null,null,null,null,null,null,null,null,null,null,null,null,null,null,null,null,null,null,null,null,null,null,null,null,null,null,null,null,null,null,null,null,null,null,null,null,null,null,null,null,null,null,null,null,null,null,null,null,null,null,null,null,null,null,null,{"$f":"SUM((N$5:EE$5=\"Overall\")*(N75:EE75<=3))-SUM((N$5:EE$5=\"Overall\")*(N75:EE75=0))","v":0},{"$f":"SUM((O$5:EF$5=\"Age\")*(O75:EF75<=3))-SUM((O$5:EF$5=\"Age\")*(O75:EF75=0))","v":0},null,{"$f":"IF(MIN('Points Calculation'!CB75,'Points Calculation'!CC75)>0,MIN('Points Calculation'!CB75,'Points Calculation'!CC75),\"\")","v":""},{"$f":"IF(MIN('Points Calculation'!BD75,'Points Calculation'!BF75)>0,MIN('Points Calculation'!BD75,'Points Calculation'!BF75),\"\")","v":""},"","","NR",null,null,{"$f":"'Points Calculation'!BB75","v":""},{"$f":"'Points Calculation'!BC75","v":0},{"$f":"'Points Calculation'!BD75","v":0},{"$f":"'Points Calculation'!BG75","v":0}]
["Joe Bird","M",1994,{"$f":"INDEX('Age Calculation'!$A$1:'Age Calculation'!$Q$108,MATCH(C76,'Age Calculation'!$A$1:'Age Calculation'!$A$108),MATCH($A$1,'Age Calculation'!$A$1:'Age Calculation'!$Q$1))","v":"U21"},21714,999.99,999.99,999.99,999.99,null,null,null,"",null,null,null,null,null,null,null,null,null,null,null,null,null,null,null,null,null,null,null,null,null,null,null,null,null,null,null,null,null,null,null,null,null,null,null,null,null,null,null,null,null,null,null,null,null,null,null,null,null,null,null,null,null,null,null,null,null,null,null,null,null,null,null,null,null,null,null,null,null,null,null,null,null,null,null,null,null,null,null,null,null,null,null,null,null,null,null,null,null,null,null,null,null,null,null,null,null,null,null,null,null,null,null,null,null,null,null,null,null,null,null,null,null,null,null,null,null,null,null,null,null,null,null,{"$f":"SUM((N$5:EE$5=\"Overall\")*(N76:EE76<=3))-SUM((N$5:EE$5=\"Overall\")*(N76:EE76=0))","v":0},{"$f":"SUM((O$5:EF$5=\"Age\")*(O76:EF76<=3))-SUM((O$5:EF$5=\"Age\")*(O76:EF76=0))","v":0},null,{"$f":"IF(MIN('Points Calculation'!CB76,'Points Calculation'!CC76)>0,MIN('Points Calculation'!CB76,'Points Calculation'!CC76),\"\")","v":""},{"$f":"IF(MIN('Points Calculation'!BD76,'Points Calculation'!BF76)>0,MIN('Points Calculation'!BD76,'Points Calculation'!BF76),\"\")","v":""},"","",999.99,null,null,{"$f":"'Points Calculation'!BB76","v":""},{"$f":"'Points Calculation'!BC76","v":0},{"$f":"'Points Calculation'!BD76","v":0},{"$f":"'Points Calculation'!BG76","v":0}]
["Edmund Walker","M",1992,{"$f":"INDEX('Age Calculation'!$A$1:'Age Calculation'!$Q$108,MATCH(C77,'Age Calculation'!$A$1:'Age Calculation'!$A$108),MATCH($A$1,'Age Calculation'!$A$1:'Age Calculation'!$Q$1))","v":"SEN"},"Day","NR","NR","NR","NR","NR","NR",null,"",null,null,null,null,null,null,null,null,null,null,null,null,null,null,null,null,null,null,null,null,null,null,null,null,null,null,null,null,null,null,null,null,null,null,null,null,null,null,null,null,null,null,null,null,null,23,9,91.4,null,null,null,20,9,72.099999999999994,null,null,null,null,null,null,null,null,null,null,null,null,null,null,null,null,null,null,null,null,null,null,null,null,null,null,null,null,null,null,null,null,null,null,null,null,null,null,null,null,null,null,null,null,null,null,null,null,null,null,null,null,null,null,null,null,null,null,null,null,null,null,null,null,null,null,null,null,null,{"$f":"SUM((N$5:EE$5=\"Overall\")*(N77:EE77<=3))-SUM((N$5:EE$5=\"Overall\")*(N77:EE77=0))","v":0},{"$f":"SUM((O$5:EF$5=\"Age\")*(O77:EF77<=3))-SUM((O$5:EF$5=\"Age\")*(O77:EF77=0))","v":0},null,{"$f":"IF(MIN('Points Calculation'!CB77,'Points Calculation'!CC77)>0,MIN('Points Calculation'!CB77,'Points Calculation'!CC77),\"\")","v":""},{"$f":"IF(MIN('Points Calculation'!BD77,'Points Calculation'!BF77)>0,MIN('Points Calculation'!BD77,'Points Calculation'!BF77),\"\")","v":81.75},"","","NR",null,null,{"$f":"'Points Calculation'!BB77","v":72.099999999999994},{"$f":"'Points Calculation'!BC77","v":91.4},{"$f":"'Points Calculation'!BD77","v":81.75},{"$f":"'Points Calculation'!BG77","v":81.75}]
["Total Podiums",null,null,null,null,null,null,null,null,null,null,null,null,{"$f":"COUNTIF(N21:N76,\"<=3\")","v":1},{"$f":"COUNTIF(O8:O76,\"<=3\")","v":11},{"$f":"COUNT(P8:P71)","v":21},{"$f":"COUNTIF(Q21:Q76,\"<=3\")","v":0},{"$f":"COUNTIF(R8:R76,\"<=3\")","v":7},{"$f":"COUNT(S8:S71)","v":15},{"$f":"COUNT(T8:T71)","v":15},{"$f":"COUNTIF(U21:U76,\"<=3\")","v":0},{"$f":"COUNTIF(V8:V76,\"<=3\")","v":4},{"$f":"COUNT(W8:W71)","v":13},{"$f":"COUNT(X8:X71)","v":13},{"$f":"COUNTIF(Y21:Y76,\"<=3\")","v":0},{"$f":"COUNTIF(Z8:Z76,\"<=3\")","v":1},{"$f":"COUNT(AA8:AA71)","v":6},{"$f":"COUNTIF(AB21:AB76,\"<=3\")","v":0},{"$f":"COUNTIF(AC8:AC76,\"<=3\")","v":6},{"$f":"COUNT(AD8:AD71)","v":11},{"$f":"COUNTIF(AE21:AE76,\"<=3\")","v":1},{"$f":"COUNTIF(AF8:AF76,\"<=3\")","v":8},{"$f":"COUNT(AG8:AG71)","v":14},{"$f":"COUNTIF(AH21:AH76,\"<=3\")","v":0},{"$f":"COUNTIF(AI8:AI76,\"<=3\")","v":5},{"$f":"COUNT(AJ8:AJ71)","v":14},{"$f":"COUNTIF(AK21:AK76,\"<=3\")","v":0},{"$f":"COUNTIF(AL8:AL76,\"<=3\")","v":0},{"$f":"COUNT(AM8:AM71)","v":4},{"$f":"COUNTIF(AN21:AN76,\"<=3\")","v":0},{"$f":"COUNTIF(AO8:AO76,\"<=3\")","v":2},{"$f":"COUNT(AP8:AP71)","v":6},{"$f":"COUNTIF(AQ21:AQ76,\"<=3\")","v":2},{"$f":"COUNTIF(AR8:AR76,\"<=3\")","v":4},{"$f":"COUNT(AS8:AS71)","v":11},{"$f":"COUNTIF(AT21:AT76,\"<=3\")","v":0},{"$f":"COUNTIF(AU8:AU76,\"<=3\")","v":5},{"$f":"COUNT(AV8:AV71)","v":7},{"$f":"COUNT(AW8:AW71)","v":3},{"$f":"COUNTIF(AX21:AX76,\"<=3\")","v":0},{"$f":"COUNTIF(AY8:AY76,\"<=3\")","v":12},{"$f":"COUNT(AZ8:AZ71)","v":17},{"$f":"COUNTIF(BA21:BA76,\"<=3\")","v":0},{"$f":"COUNTIF(BB8:BB76,\"<=3\")","v":10},{"$f":"COUNT(BC8:BC71)","v":15},{"$f":"COUNTIF(BD21:BD76,\"<=3\")","v":0},{"$f":"COUNTIF(BE8:BE76,\"<=3\")","v":0},null,{"$f":"COUNTIF(BG21:BG76,\"<=3\")","v":1},{"$f":"COUNTIF(BH8:BH76,\"<=3\")","v":7},{"$f":"COUNT(BI8:BI71)","v":15},{"$f":"COUNTIF(BJ21:BJ76,\"<=3\")","v":0},{"$f":"COUNTIF(BK8:BK76,\"<=3\")","v":0},null,{"$f":"COUNTIF(BM21:BM76,\"<=3\")","v":2},{"$f":"COUNTIF(BN8:BN76,\"<=3\")","v":8},{"$f":"COUNT(BO8:BO71)","v":16},{"$f":"COUNTIF(BP21:BP76,\"<=3\")","v":0},{"$f":"COUNTIF(BQ8:BQ76,\"<=3\")","v":1},{"$f":"COUNT(BR8:BR71)","v":3},{"$f":"COUNTIF(BS21:BS76,\"<=3\")","v":0},{"$f":"COUNTIF(BT8:BT76,\"<=3\")","v":1},{"$f":"COUNT(BU8:BU71)","v":3},{"$f":"COUNTIF(BV21:BV76,\"<=3\")","v":1},{"$f":"COUNTIF(BW8:BW76,\"<=3\")","v":10},{"$f":"COUNT(BX8:BX71)","v":31},{"$f":"COUNTIF(BY21:BY76,\"<=3\")","v":0},{"$f":"COUNTIF(BZ8:BZ76,\"<=3\")","v":9},{"$f":"COUNT(CA8:CA71)","v":24},{"$f":"COUNTIF(CB21:CB76,\"<=3\")","v":0},{"$f":"COUNTIF(CC8:CC76,\"<=3\")","v":2},{"$f":"COUNT(CD8:CD71)","v":4},{"$f":"COUNT(CE8:CE71)","v":4},{"$f":"COUNTIF(CF21:CF76,\"<=3\")","v":0},{"$f":"COUNTIF(CG8:CG76,\"<=3\")","v":2},{"$f":"COUNT(CH8:CH71)","v":12},{"$f":"COUNTIF(CI21:CI76,\"<=3\")","v":0},{"$f":"COUNTIF(CJ8:CJ76,\"<=3\")","v":4},{"$f":"COUNT(CK8:CK71)","v":12},{"$f":"COUNTIF(CL21:CL76,\"<=3\")","v":0},{"$f":"COUNTIF(CM8:CM76,\"<=3\")","v":3},{"$f":"COUNT(CN8:CN71)","v":15},{"$f":"COUNTIF(CO21:CO76,\"<=3\")","v":0},{"$f":"COUNTIF(CP8:CP76,\"<=3\")","v":6},{"$f":"COUNT(CQ8:CQ71)","v":14},{"$f":"COUNTIF(CR21:CR76,\"<=3\")","v":0},{"$f":"COUNTIF(CS8:CS76,\"<=3\")","v":0},{"$f":"COUNT(CT8:CT71)","v":3},{"$f":"COUNTIF(CU21:CU76,\"<=3\")","v":0},{"$f":"COUNTIF(CV8:CV76,\"<=3\")","v":1},{"$f":"COUNT(CW8:CW71)","v":6},{"$f":"COUNTIF(CX21:CX76,\"<=3\")","v":1},{"$f":"COUNTIF(CY8:CY76,\"<=3\")","v":3},{"$f":"COUNT(CZ8:CZ71)","v":3},{"$f":"COUNTIF(DA21:DA76,\"<=3\")","v":0},{"$f":"COUNTIF(DB8:DB76,\"<=3\")","v":1},{"$f":"COUNTIF(DC21:DC76,\"<=3\")","v":0},{"$f":"COUNTIF(DD8:DD76,\"<=3\")","v":3},{"$f":"COUNT(DE8:DE71)","v":18},{"$f":"COUNTIF(DF21:DF76,\"<=3\")","v":0},{"$f":"COUNTIF(DG8:DG76,\"<=3\")","v":4},{"$f":"COUNT(DH8:DH71)","v":8},{"$f":"COUNTIF(DI21:DI76,\"<=3\")","v":1},{"$f":"COUNTIF(DJ8:DJ76,\"<=3\")","v":7},{"$f":"COUNT(DK8:DK71)","v":16},{"$f":"COUNTIF(DL21:DL76,\"<=3\")","v":1},{"$f":"COUNTIF(DM8:DM76,\"<=3\")","v":1},{"$f":"COUNT(DN8:DN71)","v":1},{"$f":"COUNTIF(DO21:DO76,\"<=3\")","v":0},{"$f":"COUNTIF(DP8:DP76,\"<=3\")","v":5},{"$f":"COUNT(DQ8:DQ71)","v":20},{"$f":"COUNTIF(DR21:DR76,\"<=3\")","v":0},{"$f":"COUNTIF(DS8:DS76,\"<=3\")","v":3},{"$f":"COUNT(DT8:DT71)","v":7},{"$f":"COUNTIF(DU21:DU76,\"<=3\")","v":2},{"$f":"COUNTIF(DV8:DV76,\"<=3\")","v":2},{"$f":"COUNT(DW8:DW71)","v":3},{"$f":"COUNTIF(DX21:DX76,\"<=3\")","v":1},{"$f":"COUNTIF(DY8:DY76,\"<=3\")","v":2},{"$f":"COUNT(DZ8:DZ71)","v":3},{"$f":"COUNTIF(EA21:EA76,\"<=3\")","v":0},{"$f":"COUNTIF(EB8:EB76,\"<=3\")","v":3},{"$f":"COUNT(EC8:EC71)","v":5},{"$f":"COUNTIF(ED21:ED76,\"<=3\")","v":0},{"$f":"COUNTIF(EE8:EE76,\"<=3\")","v":0},null,{"$f":"SUM(EG8:EG76)","v":14},{"$f":"SUM(EH8:EH76)","v":163}," "]
["Figures in red - used for current year seed point calculations"]
["Note: Final seed point list cannot use start of year in the calculation unless used alone",null,null,null,null,null,null,null,null,null,null,null,null,null,null,null,null," ",null,null,null,null,null,null,null,null,null,null,null,null,null,null,null,null,null,null,null,null,null,null,null,null,null,null,null,null,null,null,null,null,null,null,null,null,null,null,null,null,null,null,null,null,null,null,null,null,null,null,null,null,null,null,null,null,null,null,null,null,null,null,null,null,null,null,null,null,null,null,null,null,null,null,null,null,null,null,null,null,null,null,null,null,null,null,null,null,null,null,null,null,null,null,null,null,null,null,null,null,null,null,null,null,null,null,null,null,null,null,null,null,null,null,null,null,null,null,"5 point - only 2013 - 5 or zero point races"]
[]
[null,null,null,null,null,null,null,null,null,null,null,null,null,null,null,null,null,null,null,null,null,null,null,null,null,null,null,null,null,null,null,null,null,null,null,null,null,null,null,null,null,null,null,null,null,null,null,null,null,null,null,null,null,null,null,null,null,null,null,null,null,null,null,null,null,null,null,null,null,null,null,null,null,null,null,null,null,null,null,null,null,null,null,null,null,null,null,null,null,null,null,null,null,null,null,null,null,null,null,null,null,null,null,null,null,null,null,null,null,null,null,null,null,null,null,null,null,null,null,null,null,null,null,null,null,null,null,null,null,null,null,null,null,null,null,null,"Start * - result based on start of season, x1.2 or +10"]
[]
[]
[null,null,null,"Number of Registered Racers",{"$f":"COUNTIFS(K8:K77,\">0\")","v":56}]
[null,null,null,"Number of Unregistered Racers",{"$f":"COUNTIF(K8:K77,\"=NR\")","v":6}]
[null,null,null,null,null,"Number of Seeded Racers",{"$f":"COUNTIFS(G21:G76,\">0\")","v":47},null,{"$f":"COUNTIFS(K8:K77,\">0\",K8:K77,\"<999.99\")","v":45}]
[]
[null,null,null,null,"Number of Point Reductions",null,null,null,null,null,null,null,{"$f":"COUNTIF(M8:M77,\"<0\")","v":20}]
[]
[]
[]
["Data collection for club statistics sheet below:"]
[null,null,null,null,"Mini Age 1st",null,null,null,null,null,null,null,{"$f":"SUM(N94:EE94)","v":22},null,{"$f":"COUNTIFS(O$8:O$76,\"=1\",$D$8:$D$76,\"=U10\")+COUNTIFS(O$8:O$76,\"=1\",$D$8:$D$76,\"=U12\")","v":1},null,null,{"$f":"COUNTIFS(R$8:R$76,\"=1\",$D$8:$D$76,\"=U10\")+COUNTIFS(R$8:R$76,\"=1\",$D$8:$D$76,\"=U12\")","v":1},null,null,null,{"$f":"COUNTIFS(V$8:V$76,\"=1\",$D$8:$D$76,\"=U10\")+COUNTIFS(V$8:V$76,\"=1\",$D$8:$D$76,\"=U12\")","v":1},null,null,null,{"$f":"COUNTIFS(Z$8:Z$76,\"=1\",$D$8:$D$76,\"=U10\")+COUNTIFS(Z$8:Z$76,\"=1\",$D$8:$D$76,\"=U12\")","v":0},null,null,{"$f":"COUNTIFS(AC$8:AC$76,\"=1\",$D$8:$D$76,\"=U10\")+COUNTIFS(AC$8:AC$76,\"=1\",$D$8:$D$76,\"=U12\")","v":1},null,null,{"$f":"COUNTIFS(AF$8:AF$76,\"=1\",$D$8:$D$76,\"=U10\")+COUNTIFS(AF$8:AF$76,\"=1\",$D$8:$D$76,\"=U12\")","v":0},null,null,{"$f":"COUNTIFS(AI$8:AI$76,\"=1\",$D$8:$D$76,\"=U10\")+COUNTIFS(AI$8:AI$76,\"=1\",$D$8:$D$76,\"=U12\")","v":0},null,null,{"$f":"COUNTIFS(AL$8:AL$76,\"=1\",$D$8:$D$76,\"=U10\")+COUNTIFS(AL$8:AL$76,\"=1\",$D$8:$D$76,\"=U12\")","v":0},null,null,{"$f":"COUNTIFS(AO$8:AO$76,\"=1\",$D$8:$D$76,\"=U10\")+COUNTIFS(AO$8:AO$76,\"=1\",$D$8:$D$76,\"=U12\")","v":0},null,null,{"$f":"COUNTIFS(AR$8:AR$76,\"=1\",$D$8:$D$76,\"=U10\")+COUNTIFS(AR$8:AR$76,\"=1\",$D$8:$D$76,\"=U12\")","v":1},null,null,{"$f":"COUNTIFS(AU$8:AU$76,\"=1\",$D$8:$D$76,\"=U10\")+COUNTIFS(AU$8:AU$76,\"=1\",$D$8:$D$76,\"=U12\")","v":1},null,null,null,{"$f":"COUNTIFS(AY$8:AY$76,\"=1\",$D$8:$D$76,\"=U10\")+COUNTIFS(AY$8:AY$76,\"=1\",$D$8:$D$76,\"=U12\")","v":0},null,null,{"$f":"COUNTIFS(BB$8:BB$76,\"=1\",$D$8:$D$76,\"=U10\")+COUNTIFS(BB$8:BB$76,\"=1\",$D$8:$D$76,\"=U12\")","v":1},null,null,{"$f":"COUNTIFS(BE$8:BE$76,\"=1\",$D$8:$D$76,\"=U10\")+COUNTIFS(BE$8:BE$76,\"=1\",$D$8:$D$76,\"=U12\")","v":0},null,null,{"$f":"COUNTIFS(BH$8:BH$76,\"=1\",$D$8:$D$76,\"=U10\")+COUNTIFS(BH$8:BH$76,\"=1\",$D$8:$D$76,\"=U12\")","v":1},null,null,{"$f":"COUNTIFS(BK$8:BK$76,\"=1\",$D$8:$D$76,\"=U10\")+COUNTIFS(BK$8:BK$76,\"=1\",$D$8:$D$76,\"=U12\")","v":0},null,null,{"$f":"COUNTIFS(BN$8:BN$76,\"=1\",$D$8:$D$76,\"=U10\")+COUNTIFS(BN$8:BN$76,\"=1\",$D$8:$D$76,\"=U12\")","v":2},null,null,{"$f":"COUNTIFS(BQ$8:BQ$76,\"=1\",$D$8:$D$76,\"=U10\")+COUNTIFS(BQ$8:BQ$76,\"=1\",$D$8:$D$76,\"=U12\")","v":0},null,null,{"$f":"COUNTIFS(BT$8:BT$76,\"=1\",$D$8:$D$76,\"=U10\")+COUNTIFS(BT$8:BT$76,\"=1\",$D$8:$D$76,\"=U12\")","v":0},null,null,{"$f":"COUNTIFS(BW$8:BW$76,\"=1\",$D$8:$D$76,\"=U10\")+COUNTIFS(BW$8:BW$76,\"=1\",$D$8:$D$76,\"=U12\")","v":1},null,null,{"$f":"COUNTIFS(BZ$8:BZ$76,\"=1\",$D$8:$D$76,\"=U10\")+COUNTIFS(BZ$8:BZ$76,\"=1\",$D$8:$D$76,\"=U12\")","v":1},null,null,{"$f":"COUNTIFS(CC$8:CC$76,\"=1\",$D$8:$D$76,\"=U10\")+COUNTIFS(CC$8:CC$76,\"=1\",$D$8:$D$76,\"=U12\")","v":1},null,null,null,{"$f":"COUNTIFS(CG$8:CG$76,\"=1\",$D$8:$D$76,\"=U10\")+COUNTIFS(CG$8:CG$76,\"=1\",$D$8:$D$76,\"=U12\")","v":0},null,null,{"$f":"COUNTIFS(CJ$8:CJ$76,\"=1\",$D$8:$D$76,\"=U10\")+COUNTIFS(CJ$8:CJ$76,\"=1\",$D$8:$D$76,\"=U12\")","v":1},null,null,{"$f":"COUNTIFS(CM$8:CM$76,\"=1\",$D$8:$D$76,\"=U10\")+COUNTIFS(CM$8:CM$76,\"=1\",$D$8:$D$76,\"=U12\")","v":1},null,null,{"$f":"COUNTIFS(CP$8:CP$76,\"=1\",$D$8:$D$76,\"=U10\")+COUNTIFS(CP$8:CP$76,\"=1\",$D$8:$D$76,\"=U12\")","v":1},null,null,{"$f":"COUNTIFS(CS$8:CS$76,\"=1\",$D$8:$D$76,\"=U10\")+COUNTIFS(CS$8:CS$76,\"=1\",$D$8:$D$76,\"=U12\")","v":0},null,null,{"$f":"COUNTIFS(CV$8:CV$76,\"=1\",$D$8:$D$76,\"=U10\")+COUNTIFS(CV$8:CV$76,\"=1\",$D$8:$D$76,\"=U12\")","v":1},null,null,{"$f":"COUNTIFS(CY$8:CY$76,\"=1\",$D$8:$D$76,\"=U10\")+COUNTIFS(CY$8:CY$76,\"=1\",$D$8:$D$76,\"=U12\")","v":0},null,null,{"$f":"COUNTIFS(DB$8:DB$76,\"=1\",$D$8:$D$76,\"=U10\")+COUNTIFS(DB$8:DB$76,\"=1\",$D$8:$D$76,\"=U12\")","v":0},null,{"$f":"COUNTIFS(DD$8:DD$76,\"=1\",$D$8:$D$76,\"=U10\")+COUNTIFS(DD$8:DD$76,\"=1\",$D$8:$D$76,\"=U12\")","v":1},null,null,{"$f":"COUNTIFS(DG$8:DG$76,\"=1\",$D$8:$D$76,\"=U10\")+COUNTIFS(DG$8:DG$76,\"=1\",$D$8:$D$76,\"=U12\")","v":0},null,null,{"$f":"COUNTIFS(DJ$8:DJ$76,\"=1\",$D$8:$D$76,\"=U10\")+COUNTIFS(DJ$8:DJ$76,\"=1\",$D$8:$D$76,\"=U12\")","v":1},null,null,{"$f":"COUNTIFS(DM$8:DM$76,\"=1\",$D$8:$D$76,\"=U10\")+COUNTIFS(DM$8:DM$76,\"=1\",$D$8:$D$76,\"=U12\")","v":0},null,null,{"$f":"COUNTIFS(DP$8:DP$76,\"=1\",$D$8:$D$76,\"=U10\")+COUNTIFS(DP$8:DP$76,\"=1\",$D$8:$D$76,\"=U12\")","v":2},null,null,{"$f":"COUNTIFS(DS$8:DS$76,\"=1\",$D$8:$D$76,\"=U10\")+COUNTIFS(DS$8:DS$76,\"=1\",$D$8:$D$76,\"=U12\")","v":1},null,null,{"$f":"COUNTIFS(DV$8:DV$76,\"=1\",$D$8:$D$76,\"=U10\")+COUNTIFS(DV$8:DV$76,\"=1\",$D$8:$D$76,\"=U12\")","v":0},null,null,{"$f":"COUNTIFS(DY$8:DY$76,\"=1\",$D$8:$D$76,\"=U10\")+COUNTIFS(DY$8:DY$76,\"=1\",$D$8:$D$76,\"=U12\")","v":0},null,null,{"$f":"COUNTIFS(EB$8:EB$76,\"=1\",$D$8:$D$76,\"=U10\")+COUNTIFS(EB$8:EB$76,\"=1\",$D$8:$D$76,\"=U12\")","v":0},null,null,{"$f":"COUNTIFS(EE$8:EE$76,\"=1\",$D$8:$D$76,\"=U10\")+COUNTIFS(EE$8:EE$76,\"=1\",$D$8:$D$76,\"=U12\")","v":0}]
[null,null,null,null,"Mini Age 2nd",null,null,null,null,null,null,null,8,null,{"$f":"COUNTIFS(O$8:O$76,\"=2\",$D$8:$D$76,\"=U10\")+COUNTIFS(O$8:O$76,\"=2\",$D$8:$D$76,\"=U12\")","v":1},null,null,{"$f":"COUNTIFS(R$8:R$76,\"=2\",$D$8:$D$76,\"=U10\")+COUNTIFS(R$8:R$76,\"=2\",$D$8:$D$76,\"=U12\")","v":0},null,null,null,{"$f":"COUNTIFS(V$8:V$76,\"=2\",$D$8:$D$76,\"=U10\")+COUNTIFS(V$8:V$76,\"=2\",$D$8:$D$76,\"=U12\")","v":0},null,null,null,{"$f":"COUNTIFS(Z$8:Z$76,\"=2\",$D$8:$D$76,\"=U10\")+COUNTIFS(Z$8:Z$76,\"=2\",$D$8:$D$76,\"=U12\")","v":0},null,null,{"$f":"COUNTIFS(AC$8:AC$76,\"=2\",$D$8:$D$76,\"=U10\")+COUNTIFS(AC$8:AC$76,\"=2\",$D$8:$D$76,\"=U12\")","v":0},null,null,{"$f":"COUNTIFS(AF$8:AF$76,\"=2\",$D$8:$D$76,\"=U10\")+COUNTIFS(AF$8:AF$76,\"=2\",$D$8:$D$76,\"=U12\")","v":0},null,null,{"$f":"COUNTIFS(AI$8:AI$76,\"=2\",$D$8:$D$76,\"=U10\")+COUNTIFS(AI$8:AI$76,\"=2\",$D$8:$D$76,\"=U12\")","v":0},null,null,{"$f":"COUNTIFS(AL$8:AL$76,\"=2\",$D$8:$D$76,\"=U10\")+COUNTIFS(AL$8:AL$76,\"=2\",$D$8:$D$76,\"=U12\")","v":0},null,null,{"$f":"COUNTIFS(AO$8:AO$76,\"=2\",$D$8:$D$76,\"=U10\")+COUNTIFS(AO$8:AO$76,\"=2\",$D$8:$D$76,\"=U12\")","v":0},null,null,{"$f":"COUNTIFS(AR$8:AR$76,\"=2\",$D$8:$D$76,\"=U10\")+COUNTIFS(AR$8:AR$76,\"=2\",$D$8:$D$76,\"=U12\")","v":0},null,null,{"$f":"COUNTIFS(AU$8:AU$76,\"=2\",$D$8:$D$76,\"=U10\")+COUNTIFS(AU$8:AU$76,\"=2\",$D$8:$D$76,\"=U12\")","v":1},null,null,null,{"$f":"COUNTIFS(AY$8:AY$76,\"=2\",$D$8:$D$76,\"=U10\")+COUNTIFS(AY$8:AY$76,\"=2\",$D$8:$D$76,\"=U12\")","v":2},null,null,{"$f":"COUNTIFS(BB$8:BB$76,\"=2\",$D$8:$D$76,\"=U10\")+COUNTIFS(BB$8:BB$76,\"=2\",$D$8:$D$76,\"=U12\")","v":1},null,null,{"$f":"COUNTIFS(BE$8:BE$76,\"=2\",$D$8:$D$76,\"=U10\")+COUNTIFS(BE$8:BE$76,\"=2\",$D$8:$D$76,\"=U12\")","v":0},null,null,{"$f":"COUNTIFS(BH$8:BH$76,\"=2\",$D$8:$D$76,\"=U10\")+COUNTIFS(BH$8:BH$76,\"=2\",$D$8:$D$76,\"=U12\")","v":0},null,null,{"$f":"COUNTIFS(BK$8:BK$76,\"=2\",$D$8:$D$76,\"=U10\")+COUNTIFS(BK$8:BK$76,\"=2\",$D$8:$D$76,\"=U12\")","v":0},null,null,{"$f":"COUNTIFS(BN$8:BN$76,\"=2\",$D$8:$D$76,\"=U10\")+COUNTIFS(BN$8:BN$76,\"=2\",$D$8:$D$76,\"=U12\")","v":0},null,null,{"$f":"COUNTIFS(BQ$8:BQ$76,\"=2\",$D$8:$D$76,\"=U10\")+COUNTIFS(BQ$8:BQ$76,\"=2\",$D$8:$D$76,\"=U12\")","v":0},null,null,{"$f":"COUNTIFS(BT$8:BT$76,\"=2\",$D$8:$D$76,\"=U10\")+COUNTIFS(BT$8:BT$76,\"=2\",$D$8:$D$76,\"=U12\")","v":0},null,null,{"$f":"COUNTIFS(BW$8:BW$76,\"=2\",$D$8:$D$76,\"=U10\")+COUNTIFS(BW$8:BW$76,\"=2\",$D$8:$D$76,\"=U12\")","v":0},null,null,{"$f":"COUNTIFS(BZ$8:BZ$76,\"=2\",$D$8:$D$76,\"=U10\")+COUNTIFS(BZ$8:BZ$76,\"=2\",$D$8:$D$76,\"=U12\")","v":0},null,null,{"$f":"COUNTIFS(CC$8:CC$76,\"=2\",$D$8:$D$76,\"=U10\")+COUNTIFS(CC$8:CC$76,\"=2\",$D$8:$D$76,\"=U12\")","v":1},null,null,null,{"$f":"COUNTIFS(CG$8:CG$76,\"=2\",$D$8:$D$76,\"=U10\")+COUNTIFS(CG$8:CG$76,\"=2\",$D$8:$D$76,\"=U12\")","v":0},null,null,{"$f":"COUNTIFS(CJ$8:CJ$76,\"=2\",$D$8:$D$76,\"=U10\")+COUNTIFS(CJ$8:CJ$76,\"=2\",$D$8:$D$76,\"=U12\")","v":0},null,null,{"$f":"COUNTIFS(CM$8:CM$76,\"=2\",$D$8:$D$76,\"=U10\")+COUNTIFS(CM$8:CM$76,\"=2\",$D$8:$D$76,\"=U12\")","v":0},null,null,{"$f":"COUNTIFS(CP$8:CP$76,\"=2\",$D$8:$D$76,\"=U10\")+COUNTIFS(CP$8:CP$76,\"=2\",$D$8:$D$76,\"=U12\")","v":0},null,null,{"$f":"COUNTIFS(CS$8:CS$76,\"=2\",$D$8:$D$76,\"=U10\")+COUNTIFS(CS$8:CS$76,\"=2\",$D$8:$D$76,\"=U12\")","v":0},null,null,{"$f":"COUNTIFS(CV$8:CV$76,\"=2\",$D$8:$D$76,\"=U10\")+COUNTIFS(CV$8:CV$76,\"=2\",$D$8:$D$76,\"=U12\")","v":0},null,null,{"$f":"COUNTIFS(CY$8:CY$76,\"=2\",$D$8:$D$76,\"=U10\")+COUNTIFS(CY$8:CY$76,\"=2\",$D$8:$D$76,\"=U12\")","v":0},null,null,{"$f":"COUNTIFS(DB$8:DB$76,\"=2\",$D$8:$D$76,\"=U10\")+COUNTIFS(DB$8:DB$76,\"=2\",$D$8:$D$76,\"=U12\")","v":0},null,{"$f":"COUNTIFS(DD$8:DD$76,\"=2\",$D$8:$D$76,\"=U10\")+COUNTIFS(DD$8:DD$76,\"=2\",$D$8:$D$76,\"=U12\")","v":0},null,null,{"$f":"COUNTIFS(DG$8:DG$76,\"=2\",$D$8:$D$76,\"=U10\")+COUNTIFS(DG$8:DG$76,\"=2\",$D$8:$D$76,\"=U12\")","v":0},null,null,{"$f":"COUNTIFS(DJ$8:DJ$76,\"=2\",$D$8:$D$76,\"=U10\")+COUNTIFS(DJ$8:DJ$76,\"=2\",$D$8:$D$76,\"=U12\")","v":1},null,null,{"$f":"COUNTIFS(DM$8:DM$76,\"=2\",$D$8:$D$76,\"=U10\")+COUNTIFS(DM$8:DM$76,\"=2\",$D$8:$D$76,\"=U12\")","v":0},null,null,{"$f":"COUNTIFS(DP$8:DP$76,\"=2\",$D$8:$D$76,\"=U10\")+COUNTIFS(DP$8:DP$76,\"=2\",$D$8:$D$76,\"=U12\")","v":0},null,null,{"$f":"COUNTIFS(DS$8:DS$76,\"=2\",$D$8:$D$76,\"=U10\")+COUNTIFS(DS$8:DS$76,\"=2\",$D$8:$D$76,\"=U12\")","v":1},null,null,{"$f":"COUNTIFS(DV$8:DV$76,\"=2\",$D$8:$D$76,\"=U10\")+COUNTIFS(DV$8:DV$76,\"=2\",$D$8:$D$76,\"=U12\")","v":0},null,null,{"$f":"COUNTIFS(DY$8:DY$76,\"=2\",$D$8:$D$76,\"=U10\")+COUNTIFS(DY$8:DY$76,\"=2\",$D$8:$D$76,\"=U12\")","v":0},null,null,{"$f":"COUNTIFS(EB$8:EB$76,\"=2\",$D$8:$D$76,\"=U10\")+COUNTIFS(EB$8:EB$76,\"=2\",$D$8:$D$76,\"=U12\")","v":0},null,null,{"$f":"COUNTIFS(EE$8:EE$76,\"=2\",$D$8:$D$76,\"=U10\")+COUNTIFS(EE$8:EE$76,\"=2\",$D$8:$D$76,\"=U12\")","v":0}]
[null,null,null,null,"Mini Age 3rd",null,null,null,null,null,null,null,6,null,{"$f":"COUNTIFS(O$8:O$76,\"=3\",$D$8:$D$76,\"=U10\")+COUNTIFS(O$8:O$76,\"=3\",$D$8:$D$76,\"=U12\")","v":0},null,null,{"$f":"COUNTIFS(R$8:R$76,\"=3\",$D$8:$D$76,\"=U10\")+COUNTIFS(R$8:R$76,\"=3\",$D$8:$D$76,\"=U12\")","v":0},null,null,null,{"$f":"COUNTIFS(V$8:V$76,\"=3\",$D$8:$D$76,\"=U10\")+COUNTIFS(V$8:V$76,\"=3\",$D$8:$D$76,\"=U12\")","v":0},null,null,null,{"$f":"COUNTIFS(Z$8:Z$76,\"=3\",$D$8:$D$76,\"=U10\")+COUNTIFS(Z$8:Z$76,\"=3\",$D$8:$D$76,\"=U12\")","v":0},null,null,{"$f":"COUNTIFS(AC$8:AC$76,\"=3\",$D$8:$D$76,\"=U10\")+COUNTIFS(AC$8:AC$76,\"=3\",$D$8:$D$76,\"=U12\")","v":2},null,null,{"$f":"COUNTIFS(AF$8:AF$76,\"=3\",$D$8:$D$76,\"=U10\")+COUNTIFS(AF$8:AF$76,\"=3\",$D$8:$D$76,\"=U12\")","v":0},null,null,{"$f":"COUNTIFS(AI$8:AI$76,\"=3\",$D$8:$D$76,\"=U10\")+COUNTIFS(AI$8:AI$76,\"=3\",$D$8:$D$76,\"=U12\")","v":0},null,null,{"$f":"COUNTIFS(AL$8:AL$76,\"=3\",$D$8:$D$76,\"=U10\")+COUNTIFS(AL$8:AL$76,\"=3\",$D$8:$D$76,\"=U12\")","v":0},null,null,{"$f":"COUNTIFS(AO$8:AO$76,\"=3\",$D$8:$D$76,\"=U10\")+COUNTIFS(AO$8:AO$76,\"=3\",$D$8:$D$76,\"=U12\")","v":0},null,null,{"$f":"COUNTIFS(AR$8:AR$76,\"=3\",$D$8:$D$76,\"=U10\")+COUNTIFS(AR$8:AR$76,\"=3\",$D$8:$D$76,\"=U12\")","v":0},null,null,{"$f":"COUNTIFS(AU$8:AU$76,\"=3\",$D$8:$D$76,\"=U10\")+COUNTIFS(AU$8:AU$76,\"=3\",$D$8:$D$76,\"=U12\")","v":1},null,null,null,{"$f":"COUNTIFS(AY$8:AY$76,\"=3\",$D$8:$D$76,\"=U10\")+COUNTIFS(AY$8:AY$76,\"=3\",$D$8:$D$76,\"=U12\")","v":0},null,null,{"$f":"COUNTIFS(BB$8:BB$76,\"=3\",$D$8:$D$76,\"=U10\")+COUNTIFS(BB$8:BB$76,\"=3\",$D$8:$D$76,\"=U12\")","v":0},null,null,{"$f":"COUNTIFS(BE$8:BE$76,\"=3\",$D$8:$D$76,\"=U10\")+COUNTIFS(BE$8:BE$76,\"=3\",$D$8:$D$76,\"=U12\")","v":0},null,null,{"$f":"COUNTIFS(BH$8:BH$76,\"=3\",$D$8:$D$76,\"=U10\")+COUNTIFS(BH$8:BH$76,\"=3\",$D$8:$D$76,\"=U12\")","v":0},null,null,{"$f":"COUNTIFS(BK$8:BK$76,\"=3\",$D$8:$D$76,\"=U10\")+COUNTIFS(BK$8:BK$76,\"=3\",$D$8:$D$76,\"=U12\")","v":0},null,null,{"$f":"COUNTIFS(BN$8:BN$76,\"=3\",$D$8:$D$76,\"=U10\")+COUNTIFS(BN$8:BN$76,\"=3\",$D$8:$D$76,\"=U12\")","v":0},null,null,{"$f":"COUNTIFS(BQ$8:BQ$76,\"=3\",$D$8:$D$76,\"=U10\")+COUNTIFS(BQ$8:BQ$76,\"=3\",$D$8:$D$76,\"=U12\")","v":0},null,null,{"$f":"COUNTIFS(BT$8:BT$76,\"=3\",$D$8:$D$76,\"=U10\")+COUNTIFS(BT$8:BT$76,\"=3\",$D$8:$D$76,\"=U12\")","v":0},null,null,{"$f":"COUNTIFS(BW$8:BW$76,\"=3\",$D$8:$D$76,\"=U10\")+COUNTIFS(BW$8:BW$76,\"=3\",$D$8:$D$76,\"=U12\")","v":2},null,null,{"$f":"COUNTIFS(BZ$8:BZ$76,\"=3\",$D$8:$D$76,\"=U10\")+COUNTIFS(BZ$8:BZ$76,\"=3\",$D$8:$D$76,\"=U12\")","v":1},null,null,{"$f":"COUNTIFS(CC$8:CC$76,\"=3\",$D$8:$D$76,\"=U10\")+COUNTIFS(CC$8:CC$76,\"=3\",$D$8:$D$76,\"=U12\")","v":0},null,null,null,{"$f":"COUNTIFS(CG$8:CG$76,\"=3\",$D$8:$D$76,\"=U10\")+COUNTIFS(CG$8:CG$76,\"=3\",$D$8:$D$76,\"=U12\")","v":0},null,null,{"$f":"COUNTIFS(CJ$8:CJ$76,\"=3\",$D$8:$D$76,\"=U10\")+COUNTIFS(CJ$8:CJ$76,\"=3\",$D$8:$D$76,\"=U12\")","v":0},null,null,{"$f":"COUNTIFS(CM$8:CM$76,\"=3\",$D$8:$D$76,\"=U10\")+COUNTIFS(CM$8:CM$76,\"=3\",$D$8:$D$76,\"=U12\")","v":0},null,null,{"$f":"COUNTIFS(CP$8:CP$76,\"=3\",$D$8:$D$76,\"=U10\")+COUNTIFS(CP$8:CP$76,\"=3\",$D$8:$D$76,\"=U12\")","v":0},null,null,{"$f":"COUNTIFS(CS$8:CS$76,\"=3\",$D$8:$D$76,\"=U10\")+COUNTIFS(CS$8:CS$76,\"=3\",$D$8:$D$76,\"=U12\")","v":0},null,null,{"$f":"COUNTIFS(CV$8:CV$76,\"=3\",$D$8:$D$76,\"=U10\")+COUNTIFS(CV$8:CV$76,\"=3\",$D$8:$D$76,\"=U12\")","v":0},null,null,{"$f":"COUNTIFS(CY$8:CY$76,\"=3\",$D$8:$D$76,\"=U10\")+COUNTIFS(CY$8:CY$76,\"=3\",$D$8:$D$76,\"=U12\")","v":0},null,null,{"$f":"COUNTIFS(DB$8:DB$76,\"=3\",$D$8:$D$76,\"=U10\")+COUNTIFS(DB$8:DB$76,\"=3\",$D$8:$D$76,\"=U12\")","v":0},null,{"$f":"COUNTIFS(DD$8:DD$76,\"=3\",$D$8:$D$76,\"=U10\")+COUNTIFS(DD$8:DD$76,\"=3\",$D$8:$D$76,\"=U12\")","v":0},null,null,{"$f":"COUNTIFS(DG$8:DG$76,\"=3\",$D$8:$D$76,\"=U10\")+COUNTIFS(DG$8:DG$76,\"=3\",$D$8:$D$76,\"=U12\")","v":0},null,null,{"$f":"COUNTIFS(DJ$8:DJ$76,\"=3\",$D$8:$D$76,\"=U10\")+COUNTIFS(DJ$8:DJ$76,\"=3\",$D$8:$D$76,\"=U12\")","v":0},null,null,{"$f":"COUNTIFS(DM$8:DM$76,\"=3\",$D$8:$D$76,\"=U10\")+COUNTIFS(DM$8:DM$76,\"=3\",$D$8:$D$76,\"=U12\")","v":0},null,null,{"$f":"COUNTIFS(DP$8:DP$76,\"=3\",$D$8:$D$76,\"=U10\")+COUNTIFS(DP$8:DP$76,\"=3\",$D$8:$D$76,\"=U12\")","v":0},null,null,{"$f":"COUNTIFS(DS$8:DS$76,\"=3\",$D$8:$D$76,\"=U10\")+COUNTIFS(DS$8:DS$76,\"=3\",$D$8:$D$76,\"=U12\")","v":0},null,null,{"$f":"COUNTIFS(DV$8:DV$76,\"=3\",$D$8:$D$76,\"=U10\")+COUNTIFS(DV$8:DV$76,\"=3\",$D$8:$D$76,\"=U12\")","v":0},null,null,{"$f":"COUNTIFS(DY$8:DY$76,\"=3\",$D$8:$D$76,\"=U10\")+COUNTIFS(DY$8:DY$76,\"=3\",$D$8:$D$76,\"=U12\")","v":0},null,null,{"$f":"COUNTIFS(EB$8:EB$76,\"=3\",$D$8:$D$76,\"=U10\")+COUNTIFS(EB$8:EB$76,\"=3\",$D$8:$D$76,\"=U12\")","v":0},null,null,{"$f":"COUNTIFS(EE$8:EE$76,\"=3\",$D$8:$D$76,\"=U10\")+COUNTIFS(EE$8:EE$76,\"=3\",$D$8:$D$76,\"=U12\")","v":0}]
[null,null,null,null,"CH Age 1st",null,null,null,null,null,null,null,29,null,{"$f":"COUNTIFS(O$8:O$76,\"=1\",$D8:$D76,\"=U14\")+COUNTIFS(O$8:O$76,\"=1\",$D8:$D76,\"=U16\")","v":2},null,null,{"$f":"COUNTIFS(R$8:R$76,\"=1\",$D8:$D76,\"=U14\")+COUNTIFS(R$8:R$76,\"=1\",$D8:$D76,\"=U16\")","v":1},null,null,null,{"$f":"COUNTIFS(V$8:V$76,\"=1\",$D8:$D76,\"=U14\")+COUNTIFS(V$8:V$76,\"=1\",$D8:$D76,\"=U16\")","v":1},null,null,null,{"$f":"COUNTIFS(Z$8:Z$76,\"=1\",$D8:$D76,\"=U14\")+COUNTIFS(Z$8:Z$76,\"=1\",$D8:$D76,\"=U16\")","v":1},null,null,{"$f":"COUNTIFS(AC$8:AC$76,\"=1\",$D8:$D76,\"=U14\")+COUNTIFS(AC$8:AC$76,\"=1\",$D8:$D76,\"=U16\")","v":1},null,null,{"$f":"COUNTIFS(AF$8:AF$76,\"=1\",$D8:$D76,\"=U14\")+COUNTIFS(AF$8:AF$76,\"=1\",$D8:$D76,\"=U16\")","v":1},null,null,{"$f":"COUNTIFS(AI$8:AI$76,\"=1\",$D8:$D76,\"=U14\")+COUNTIFS(AI$8:AI$76,\"=1\",$D8:$D76,\"=U16\")","v":2},null,null,{"$f":"COUNTIFS(AL$8:AL$76,\"=1\",$D8:$D76,\"=U14\")+COUNTIFS(AL$8:AL$76,\"=1\",$D8:$D76,\"=U16\")","v":0},null,null,{"$f":"COUNTIFS(AO$8:AO$76,\"=1\",$D8:$D76,\"=U14\")+COUNTIFS(AO$8:AO$76,\"=1\",$D8:$D76,\"=U16\")","v":1},null,null,{"$f":"COUNTIFS(AR$8:AR$76,\"=1\",$D8:$D76,\"=U14\")+COUNTIFS(AR$8:AR$76,\"=1\",$D8:$D76,\"=U16\")","v":1},null,null,{"$f":"COUNTIFS(AU$8:AU$76,\"=1\",$D8:$D76,\"=U14\")+COUNTIFS(AU$8:AU$76,\"=1\",$D8:$D76,\"=U16\")","v":1},null,null,null,{"$f":"COUNTIFS(AY$8:AY$76,\"=1\",$D8:$D76,\"=U14\")+COUNTIFS(AY$8:AY$76,\"=1\",$D8:$D76,\"=U16\")","v":1},null,null,{"$f":"COUNTIFS(BB$8:BB$76,\"=1\",$D8:$D76,\"=U14\")+COUNTIFS(BB$8:BB$76,\"=1\",$D8:$D76,\"=U16\")","v":1},null,null,{"$f":"COUNTIFS(BE$8:BE$76,\"=1\",$D8:$D76,\"=U14\")+COUNTIFS(BE$8:BE$76,\"=1\",$D8:$D76,\"=U16\")","v":0},null,null,{"$f":"COUNTIFS(BH$8:BH$76,\"=1\",$D8:$D76,\"=U14\")+COUNTIFS(BH$8:BH$76,\"=1\",$D8:$D76,\"=U16\")","v":0},null,null,{"$f":"COUNTIFS(BK$8:BK$76,\"=1\",$D8:$D76,\"=U14\")+COUNTIFS(BK$8:BK$76,\"=1\",$D8:$D76,\"=U16\")","v":0},null,null,{"$f":"COUNTIFS(BN$8:BN$76,\"=1\",$D8:$D76,\"=U14\")+COUNTIFS(BN$8:BN$76,\"=1\",$D8:$D76,\"=U16\")","v":2},null,null,{"$f":"COUNTIFS(BQ$8:BQ$76,\"=1\",$D8:$D76,\"=U14\")+COUNTIFS(BQ$8:BQ$76,\"=1\",$D8:$D76,\"=U16\")","v":0},null,null,{"$f":"COUNTIFS(BT$8:BT$76,\"=1\",$D8:$D76,\"=U14\")+COUNTIFS(BT$8:BT$76,\"=1\",$D8:$D76,\"=U16\")","v":0},null,null,{"$f":"COUNTIFS(BW$8:BW$76,\"=1\",$D8:$D76,\"=U14\")+COUNTIFS(BW$8:BW$76,\"=1\",$D8:$D76,\"=U16\")","v":3},null,null,{"$f":"COUNTIFS(BZ$8:BZ$76,\"=1\",$D8:$D76,\"=U14\")+COUNTIFS(BZ$8:BZ$76,\"=1\",$D8:$D76,\"=U16\")","v":3},null,null,{"$f":"COUNTIFS(CC$8:CC$76,\"=1\",$D8:$D76,\"=U14\")+COUNTIFS(CC$8:CC$76,\"=1\",$D8:$D76,\"=U16\")","v":0},null,null,null,{"$f":"COUNTIFS(CG$8:CG$76,\"=1\",$D8:$D76,\"=U14\")+COUNTIFS(CG$8:CG$76,\"=1\",$D8:$D76,\"=U16\")","v":0},null,null,{"$f":"COUNTIFS(CJ$8:CJ$76,\"=1\",$D8:$D76,\"=U14\")+COUNTIFS(CJ$8:CJ$76,\"=1\",$D8:$D76,\"=U16\")","v":1},null,null,{"$f":"COUNTIFS(CM$8:CM$76,\"=1\",$D8:$D76,\"=U14\")+COUNTIFS(CM$8:CM$76,\"=1\",$D8:$D76,\"=U16\")","v":0},null,null,{"$f":"COUNTIFS(CP$8:CP$76,\"=1\",$D8:$D76,\"=U14\")+COUNTIFS(CP$8:CP$76,\"=1\",$D8:$D76,\"=U16\")","v":1},null,null,{"$f":"COUNTIFS(CS$8:CS$76,\"=1\",$D8:$D76,\"=U14\")+COUNTIFS(CS$8:CS$76,\"=1\",$D8:$D76,\"=U16\")","v":0},null,null,{"$f":"COUNTIFS(CV$8:CV$76,\"=1\",$D8:$D76,\"=U14\")+COUNTIFS(CV$8:CV$76,\"=1\",$D8:$D76,\"=U16\")","v":0},null,null,{"$f":"COUNTIFS(CY$8:CY$76,\"=1\",$D8:$D76,\"=U14\")+COUNTIFS(CY$8:CY$76,\"=1\",$D8:$D76,\"=U16\")","v":0},null,null,{"$f":"COUNTIFS(DB$8:DB$76,\"=1\",$D8:$D76,\"=U14\")+COUNTIFS(DB$8:DB$76,\"=1\",$D8:$D76,\"=U16\")","v":0},null,{"$f":"COUNTIFS(DD$8:DD$76,\"=1\",$D8:$D76,\"=U14\")+COUNTIFS(DD$8:DD$76,\"=1\",$D8:$D76,\"=U16\")","v":1},null,null,{"$f":"COUNTIFS(DG$8:DG$76,\"=1\",$D8:$D76,\"=U14\")+COUNTIFS(DG$8:DG$76,\"=1\",$D8:$D76,\"=U16\")","v":1},null,null,{"$f":"COUNTIFS(DJ$8:DJ$76,\"=1\",$D8:$D76,\"=U14\")+COUNTIFS(DJ$8:DJ$76,\"=1\",$D8:$D76,\"=U16\")","v":1},null,null,{"$f":"COUNTIFS(DM$8:DM$76,\"=1\",$D8:$D76,\"=U14\")+COUNTIFS(DM$8:DM$76,\"=1\",$D8:$D76,\"=U16\")","v":0},null,null,{"$f":"COUNTIFS(DP$8:DP$76,\"=1\",$D8:$D76,\"=U14\")+COUNTIFS(DP$8:DP$76,\"=1\",$D8:$D76,\"=U16\")","v":0},null,null,{"$f":"COUNTIFS(DS$8:DS$76,\"=1\",$D8:$D76,\"=U14\")+COUNTIFS(DS$8:DS$76,\"=1\",$D8:$D76,\"=U16\")","v":1},null,null,{"$f":"COUNTIFS(DV$8:DV$76,\"=1\",$D8:$D76,\"=U14\")+COUNTIFS(DV$8:DV$76,\"=1\",$D8:$D76,\"=U16\")","v":0},null,null,{"$f":"COUNTIFS(DY$8:DY$76,\"=1\",$D8:$D76,\"=U14\")+COUNTIFS(DY$8:DY$76,\"=1\",$D8:$D76,\"=U16\")","v":0},null,null,{"$f":"COUNTIFS(EB$8:EB$76,\"=1\",$D8:$D76,\"=U14\")+COUNTIFS(EB$8:EB$76,\"=1\",$D8:$D76,\"=U16\")","v":1},null,null,{"$f":"COUNTIFS(EE$8:EE$76,\"=1\",$D8:$D76,\"=U14\")+COUNTIFS(EE$8:EE$76,\"=1\",$D8:$D76,\"=U16\")","v":0}]
[null,null,null,null,"CH Age 2nd",null,null,null,null,null,null,null,14,null,{"$f":"COUNTIFS(O$8:O$76,\"=2\",$D$8:$D$76,\"=U14\")+COUNTIFS(O$8:O$76,\"=2\",$D$8:$D$76,\"=U16\")","v":1},null,null,{"$f":"COUNTIFS(R$8:R$76,\"=2\",$D$8:$D$76,\"=U14\")+COUNTIFS(R$8:R$76,\"=2\",$D$8:$D$76,\"=U16\")","v":0},null,null,null,{"$f":"COUNTIFS(V$8:V$76,\"=2\",$D$8:$D$76,\"=U14\")+COUNTIFS(V$8:V$76,\"=2\",$D$8:$D$76,\"=U16\")","v":0},null,null,null,{"$f":"COUNTIFS(Z$8:Z$76,\"=2\",$D$8:$D$76,\"=U14\")+COUNTIFS(Z$8:Z$76,\"=2\",$D$8:$D$76,\"=U16\")","v":0},null,null,{"$f":"COUNTIFS(AC$8:AC$76,\"=2\",$D$8:$D$76,\"=U14\")+COUNTIFS(AC$8:AC$76,\"=2\",$D$8:$D$76,\"=U16\")","v":0},null,null,{"$f":"COUNTIFS(AF$8:AF$76,\"=2\",$D$8:$D$76,\"=U14\")+COUNTIFS(AF$8:AF$76,\"=2\",$D$8:$D$76,\"=U16\")","v":2},null,null,{"$f":"COUNTIFS(AI$8:AI$76,\"=2\",$D$8:$D$76,\"=U14\")+COUNTIFS(AI$8:AI$76,\"=2\",$D$8:$D$76,\"=U16\")","v":0},null,null,{"$f":"COUNTIFS(AL$8:AL$76,\"=2\",$D$8:$D$76,\"=U14\")+COUNTIFS(AL$8:AL$76,\"=2\",$D$8:$D$76,\"=U16\")","v":0},null,null,{"$f":"COUNTIFS(AO$8:AO$76,\"=2\",$D$8:$D$76,\"=U14\")+COUNTIFS(AO$8:AO$76,\"=2\",$D$8:$D$76,\"=U16\")","v":0},null,null,{"$f":"COUNTIFS(AR$8:AR$76,\"=2\",$D$8:$D$76,\"=U14\")+COUNTIFS(AR$8:AR$76,\"=2\",$D$8:$D$76,\"=U16\")","v":0},null,null,{"$f":"COUNTIFS(AU$8:AU$76,\"=2\",$D$8:$D$76,\"=U14\")+COUNTIFS(AU$8:AU$76,\"=2\",$D$8:$D$76,\"=U16\")","v":0},null,null,null,{"$f":"COUNTIFS(AY$8:AY$76,\"=2\",$D$8:$D$76,\"=U14\")+COUNTIFS(AY$8:AY$76,\"=2\",$D$8:$D$76,\"=U16\")","v":1},null,null,{"$f":"COUNTIFS(BB$8:BB$76,\"=2\",$D$8:$D$76,\"=U14\")+COUNTIFS(BB$8:BB$76,\"=2\",$D$8:$D$76,\"=U16\")","v":1},null,null,{"$f":"COUNTIFS(BE$8:BE$76,\"=2\",$D$8:$D$76,\"=U14\")+COUNTIFS(BE$8:BE$76,\"=2\",$D$8:$D$76,\"=U16\")","v":0},null,null,{"$f":"COUNTIFS(BH$8:BH$76,\"=2\",$D$8:$D$76,\"=U14\")+COUNTIFS(BH$8:BH$76,\"=2\",$D$8:$D$76,\"=U16\")","v":2},null,null,{"$f":"COUNTIFS(BK$8:BK$76,\"=2\",$D$8:$D$76,\"=U14\")+COUNTIFS(BK$8:BK$76,\"=2\",$D$8:$D$76,\"=U16\")","v":0},null,null,{"$f":"COUNTIFS(BN$8:BN$76,\"=2\",$D$8:$D$76,\"=U14\")+COUNTIFS(BN$8:BN$76,\"=2\",$D$8:$D$76,\"=U16\")","v":1},null,null,{"$f":"COUNTIFS(BQ$8:BQ$76,\"=2\",$D$8:$D$76,\"=U14\")+COUNTIFS(BQ$8:BQ$76,\"=2\",$D$8:$D$76,\"=U16\")","v":0},null,null,{"$f":"COUNTIFS(BT$8:BT$76,\"=2\",$D$8:$D$76,\"=U14\")+COUNTIFS(BT$8:BT$76,\"=2\",$D$8:$D$76,\"=U16\")","v":0},null,null,{"$f":"COUNTIFS(BW$8:BW$76,\"=2\",$D$8:$D$76,\"=U14\")+COUNTIFS(BW$8:BW$76,\"=2\",$D$8:$D$76,\"=U16\")","v":1},null,null,{"$f":"COUNTIFS(BZ$8:BZ$76,\"=2\",$D$8:$D$76,\"=U14\")+COUNTIFS(BZ$8:BZ$76,\"=2\",$D$8:$D$76,\"=U16\")","v":1},null,null,{"$f":"COUNTIFS(CC$8:CC$76,\"=2\",$D$8:$D$76,\"=U14\")+COUNTIFS(CC$8:CC$76,\"=2\",$D$8:$D$76,\"=U16\")","v":0},null,null,null,{"$f":"COUNTIFS(CG$8:CG$76,\"=2\",$D$8:$D$76,\"=U14\")+COUNTIFS(CG$8:CG$76,\"=2\",$D$8:$D$76,\"=U16\")","v":0},null,null,{"$f":"COUNTIFS(CJ$8:CJ$76,\"=2\",$D$8:$D$76,\"=U14\")+COUNTIFS(CJ$8:CJ$76,\"=2\",$D$8:$D$76,\"=U16\")","v":0},null,null,{"$f":"COUNTIFS(CM$8:CM$76,\"=2\",$D$8:$D$76,\"=U14\")+COUNTIFS(CM$8:CM$76,\"=2\",$D$8:$D$76,\"=U16\")","v":1},null,null,{"$f":"COUNTIFS(CP$8:CP$76,\"=2\",$D$8:$D$76,\"=U14\")+COUNTIFS(CP$8:CP$76,\"=2\",$D$8:$D$76,\"=U16\")","v":1},null,null,{"$f":"COUNTIFS(CS$8:CS$76,\"=2\",$D$8:$D$76,\"=U14\")+COUNTIFS(CS$8:CS$76,\"=2\",$D$8:$D$76,\"=U16\")","v":0},null,null,{"$f":"COUNTIFS(CV$8:CV$76,\"=2\",$D$8:$D$76,\"=U14\")+COUNTIFS(CV$8:CV$76,\"=2\",$D$8:$D$76,\"=U16\")","v":0},null,null,{"$f":"COUNTIFS(CY$8:CY$76,\"=2\",$D$8:$D$76,\"=U14\")+COUNTIFS(CY$8:CY$76,\"=2\",$D$8:$D$76,\"=U16\")","v":0},null,null,{"$f":"COUNTIFS(DB$8:DB$76,\"=2\",$D$8:$D$76,\"=U14\")+COUNTIFS(DB$8:DB$76,\"=2\",$D$8:$D$76,\"=U16\")","v":0},null,{"$f":"COUNTIFS(DD$8:DD$76,\"=2\",$D$8:$D$76,\"=U14\")+COUNTIFS(DD$8:DD$76,\"=2\",$D$8:$D$76,\"=U16\")","v":0},null,null,{"$f":"COUNTIFS(DG$8:DG$76,\"=2\",$D$8:$D$76,\"=U14\")+COUNTIFS(DG$8:DG$76,\"=2\",$D$8:$D$76,\"=U16\")","v":0},null,null,{"$f":"COUNTIFS(DJ$8:DJ$76,\"=2\",$D$8:$D$76,\"=U14\")+COUNTIFS(DJ$8:DJ$76,\"=2\",$D$8:$D$76,\"=U16\")","v":0},null,null,{"$f":"COUNTIFS(DM$8:DM$76,\"=2\",$D$8:$D$76,\"=U14\")+COUNTIFS(DM$8:DM$76,\"=2\",$D$8:$D$76,\"=U16\")","v":0},null,null,{"$f":"COUNTIFS(DP$8:DP$76,\"=2\",$D$8:$D$76,\"=U14\")+COUNTIFS(DP$8:DP$76,\"=2\",$D$8:$D$76,\"=U16\")","v":2},null,null,{"$f":"COUNTIFS(DS$8:DS$76,\"=2\",$D$8:$D$76,\"=U14\")+COUNTIFS(DS$8:DS$76,\"=2\",$D$8:$D$76,\"=U16\")","v":0},null,null,{"$f":"COUNTIFS(DV$8:DV$76,\"=2\",$D$8:$D$76,\"=U14\")+COUNTIFS(DV$8:DV$76,\"=2\",$D$8:$D$76,\"=U16\")","v":0},null,null,{"$f":"COUNTIFS(DY$8:DY$76,\"=2\",$D$8:$D$76,\"=U14\")+COUNTIFS(DY$8:DY$76,\"=2\",$D$8:$D$76,\"=U16\")","v":0},null,null,{"$f":"COUNTIFS(EB$8:EB$76,\"=2\",$D$8:$D$76,\"=U14\")+COUNTIFS(EB$8:EB$76,\"=2\",$D$8:$D$76,\"=U16\")","v":0},null,null,{"$f":"COUNTIFS(EE$8:EE$76,\"=2\",$D$8:$D$76,\"=U14\")+COUNTIFS(EE$8:EE$76,\"=2\",$D$8:$D$76,\"=U16\")","v":0}]
[null,null,null,null,"CH Age 3rd",null,null,null,null,null,null,null,7,null,{"$f":"COUNTIFS(O$8:O$76,\"=3\",$D$8:$D$76,\"=U14\")+COUNTIFS(O$8:O$76,\"=3\",$D$8:$D$76,\"=U16\")","v":2},null,null,{"$f":"COUNTIFS(R$8:R$76,\"=3\",$D$8:$D$76,\"=U14\")+COUNTIFS(R$8:R$76,\"=3\",$D$8:$D$76,\"=U16\")","v":0},null,null,null,{"$f":"COUNTIFS(V$8:V$76,\"=3\",$D$8:$D$76,\"=U14\")+COUNTIFS(V$8:V$76,\"=3\",$D$8:$D$76,\"=U16\")","v":0},null,null,null,{"$f":"COUNTIFS(Z$8:Z$76,\"=3\",$D$8:$D$76,\"=U14\")+COUNTIFS(Z$8:Z$76,\"=3\",$D$8:$D$76,\"=U16\")","v":0},null,null,{"$f":"COUNTIFS(AC$8:AC$76,\"=3\",$D$8:$D$76,\"=U14\")+COUNTIFS(AC$8:AC$76,\"=3\",$D$8:$D$76,\"=U16\")","v":0},null,null,{"$f":"COUNTIFS(AF$8:AF$76,\"=3\",$D$8:$D$76,\"=U14\")+COUNTIFS(AF$8:AF$76,\"=3\",$D$8:$D$76,\"=U16\")","v":0},null,null,{"$f":"COUNTIFS(AI$8:AI$76,\"=3\",$D$8:$D$76,\"=U14\")+COUNTIFS(AI$8:AI$76,\"=3\",$D$8:$D$76,\"=U16\")","v":1},null,null,{"$f":"COUNTIFS(AL$8:AL$76,\"=3\",$D$8:$D$76,\"=U14\")+COUNTIFS(AL$8:AL$76,\"=3\",$D$8:$D$76,\"=U16\")","v":0},null,null,{"$f":"COUNTIFS(AO$8:AO$76,\"=3\",$D$8:$D$76,\"=U14\")+COUNTIFS(AO$8:AO$76,\"=3\",$D$8:$D$76,\"=U16\")","v":0},null,null,{"$f":"COUNTIFS(AR$8:AR$76,\"=3\",$D$8:$D$76,\"=U14\")+COUNTIFS(AR$8:AR$76,\"=3\",$D$8:$D$76,\"=U16\")","v":0},null,null,{"$f":"COUNTIFS(AU$8:AU$76,\"=3\",$D$8:$D$76,\"=U14\")+COUNTIFS(AU$8:AU$76,\"=3\",$D$8:$D$76,\"=U16\")","v":0},null,null,null,{"$f":"COUNTIFS(AY$8:AY$76,\"=3\",$D$8:$D$76,\"=U14\")+COUNTIFS(AY$8:AY$76,\"=3\",$D$8:$D$76,\"=U16\")","v":1},null,null,{"$f":"COUNTIFS(BB$8:BB$76,\"=3\",$D$8:$D$76,\"=U14\")+COUNTIFS(BB$8:BB$76,\"=3\",$D$8:$D$76,\"=U16\")","v":1},null,null,{"$f":"COUNTIFS(BE$8:BE$76,\"=3\",$D$8:$D$76,\"=U14\")+COUNTIFS(BE$8:BE$76,\"=3\",$D$8:$D$76,\"=U16\")","v":0},null,null,{"$f":"COUNTIFS(BH$8:BH$76,\"=3\",$D$8:$D$76,\"=U14\")+COUNTIFS(BH$8:BH$76,\"=3\",$D$8:$D$76,\"=U16\")","v":1},null,null,{"$f":"COUNTIFS(BK$8:BK$76,\"=3\",$D$8:$D$76,\"=U14\")+COUNTIFS(BK$8:BK$76,\"=3\",$D$8:$D$76,\"=U16\")","v":0},null,null,{"$f":"COUNTIFS(BN$8:BN$76,\"=3\",$D$8:$D$76,\"=U14\")+COUNTIFS(BN$8:BN$76,\"=3\",$D$8:$D$76,\"=U16\")","v":0},null,null,{"$f":"COUNTIFS(BQ$8:BQ$76,\"=3\",$D$8:$D$76,\"=U14\")+COUNTIFS(BQ$8:BQ$76,\"=3\",$D$8:$D$76,\"=U16\")","v":0},null,null,{"$f":"COUNTIFS(BT$8:BT$76,\"=3\",$D$8:$D$76,\"=U14\")+COUNTIFS(BT$8:BT$76,\"=3\",$D$8:$D$76,\"=U16\")","v":0},null,null,{"$f":"COUNTIFS(BW$8:BW$76,\"=3\",$D$8:$D$76,\"=U14\")+COUNTIFS(BW$8:BW$76,\"=3\",$D$8:$D$76,\"=U16\")","v":0},null,null,{"$f":"COUNTIFS(BZ$8:BZ$76,\"=3\",$D$8:$D$76,\"=U14\")+COUNTIFS(BZ$8:BZ$76,\"=3\",$D$8:$D$76,\"=U16\")","v":0},null,null,{"$f":"COUNTIFS(CC$8:CC$76,\"=3\",$D$8:$D$76,\"=U14\")+COUNTIFS(CC$8:CC$76,\"=3\",$D$8:$D$76,\"=U16\")","v":0},null,null,null,{"$f":"COUNTIFS(CG$8:CG$76,\"=3\",$D$8:$D$76,\"=U14\")+COUNTIFS(CG$8:CG$76,\"=3\",$D$8:$D$76,\"=U16\")","v":0},null,null,{"$f":"COUNTIFS(CJ$8:CJ$76,\"=3\",$D$8:$D$76,\"=U14\")+COUNTIFS(CJ$8:CJ$76,\"=3\",$D$8:$D$76,\"=U16\")","v":0},null,null,{"$f":"COUNTIFS(CM$8:CM$76,\"=3\",$D$8:$D$76,\"=U14\")+COUNTIFS(CM$8:CM$76,\"=3\",$D$8:$D$76,\"=U16\")","v":1},null,null,{"$f":"COUNTIFS(CP$8:CP$76,\"=3\",$D$8:$D$76,\"=U14\")+COUNTIFS(CP$8:CP$76,\"=3\",$D$8:$D$76,\"=U16\")","v":0},null,null,{"$f":"COUNTIFS(CS$8:CS$76,\"=3\",$D$8:$D$76,\"=U14\")+COUNTIFS(CS$8:CS$76,\"=3\",$D$8:$D$76,\"=U16\")","v":0},null,null,{"$f":"COUNTIFS(CV$8:CV$76,\"=3\",$D$8:$D$76,\"=U14\")+COUNTIFS(CV$8:CV$76,\"=3\",$D$8:$D$76,\"=U16\")","v":0},null,null,{"$f":"COUNTIFS(CY$8:CY$76,\"=3\",$D$8:$D$76,\"=U14\")+COUNTIFS(CY$8:CY$76,\"=3\",$D$8:$D$76,\"=U16\")","v":0},null,null,{"$f":"COUNTIFS(DB$8:DB$76,\"=3\",$D$8:$D$76,\"=U14\")+COUNTIFS(DB$8:DB$76,\"=3\",$D$8:$D$76,\"=U16\")","v":0},null,{"$f":"COUNTIFS(DD$8:DD$76,\"=3\",$D$8:$D$76,\"=U14\")+COUNTIFS(DD$8:DD$76,\"=3\",$D$8:$D$76,\"=U16\")","v":0},null,null,{"$f":"COUNTIFS(DG$8:DG$76,\"=3\",$D$8:$D$76,\"=U14\")+COUNTIFS(DG$8:DG$76,\"=3\",$D$8:$D$76,\"=U16\")","v":0},null,null,{"$f":"COUNTIFS(DJ$8:DJ$76,\"=3\",$D$8:$D$76,\"=U14\")+COUNTIFS(DJ$8:DJ$76,\"=3\",$D$8:$D$76,\"=U16\")","v":0},null,null,{"$f":"COUNTIFS(DM$8:DM$76,\"=3\",$D$8:$D$76,\"=U14\")+COUNTIFS(DM$8:DM$76,\"=3\",$D$8:$D$76,\"=U16\")","v":0},null,null,{"$f":"COUNTIFS(DP$8:DP$76,\"=3\",$D$8:$D$76,\"=U14\")+COUNTIFS(DP$8:DP$76,\"=3\",$D$8:$D$76,\"=U16\")","v":0},null,null,{"$f":"COUNTIFS(DS$8:DS$76,\"=3\",$D$8:$D$76,\"=U14\")+COUNTIFS(DS$8:DS$76,\"=3\",$D$8:$D$76,\"=U16\")","v":0},null,null,{"$f":"COUNTIFS(DV$8:DV$76,\"=3\",$D$8:$D$76,\"=U14\")+COUNTIFS(DV$8:DV$76,\"=3\",$D$8:$D$76,\"=U16\")","v":0},null,null,{"$f":"COUNTIFS(DY$8:DY$76,\"=3\",$D$8:$D$76,\"=U14\")+COUNTIFS(DY$8:DY$76,\"=3\",$D$8:$D$76,\"=U16\")","v":0},null,null,{"$f":"COUNTIFS(EB$8:EB$76,\"=3\",$D$8:$D$76,\"=U14\")+COUNTIFS(EB$8:EB$76,\"=3\",$D$8:$D$76,\"=U16\")","v":0},null,null,{"$f":"COUNTIFS(EE$8:EE$76,\"=3\",$D$8:$D$76,\"=U14\")+COUNTIFS(EE$8:EE$76,\"=3\",$D$8:$D$76,\"=U16\")","v":0}]
[null,null,null,null,"JN Age 1st",null,null,null,null,null,null,null,4,null,{"$f":"COUNTIFS(O$8:O$76,\"=1\",$D$8:$D$76,\"=U18\")+COUNTIFS(O$8:O$76,\"=1\",$D$8:$D$76,\"=U21\")","v":0},null,null,{"$f":"COUNTIFS(R$8:R$76,\"=1\",$D$8:$D$76,\"=U18\")+COUNTIFS(R$8:R$76,\"=1\",$D$8:$D$76,\"=U21\")","v":0},null,null,null,{"$f":"COUNTIFS(V$8:V$76,\"=1\",$D$8:$D$76,\"=U18\")+COUNTIFS(V$8:V$76,\"=1\",$D$8:$D$76,\"=U21\")","v":0},null,null,null,{"$f":"COUNTIFS(Z$8:Z$76,\"=1\",$D$8:$D$76,\"=U18\")+COUNTIFS(Z$8:Z$76,\"=1\",$D$8:$D$76,\"=U21\")","v":0},null,null,{"$f":"COUNTIFS(AC$8:AC$76,\"=1\",$D$8:$D$76,\"=U18\")+COUNTIFS(AC$8:AC$76,\"=1\",$D$8:$D$76,\"=U21\")","v":0},null,null,{"$f":"COUNTIFS(AF$8:AF$76,\"=1\",$D$8:$D$76,\"=U18\")+COUNTIFS(AF$8:AF$76,\"=1\",$D$8:$D$76,\"=U21\")","v":0},null,null,{"$f":"COUNTIFS(AI$8:AI$76,\"=1\",$D$8:$D$76,\"=U18\")+COUNTIFS(AI$8:AI$76,\"=1\",$D$8:$D$76,\"=U21\")","v":0},null,null,{"$f":"COUNTIFS(AL$8:AL$76,\"=1\",$D$8:$D$76,\"=U18\")+COUNTIFS(AL$8:AL$76,\"=1\",$D$8:$D$76,\"=U21\")","v":0},null,null,{"$f":"COUNTIFS(AO$8:AO$76,\"=1\",$D$8:$D$76,\"=U18\")+COUNTIFS(AO$8:AO$76,\"=1\",$D$8:$D$76,\"=U21\")","v":0},null,null,{"$f":"COUNTIFS(AR$8:AR$76,\"=1\",$D$8:$D$76,\"=U18\")+COUNTIFS(AR$8:AR$76,\"=1\",$D$8:$D$76,\"=U21\")","v":1},null,null,{"$f":"COUNTIFS(AU$8:AU$76,\"=1\",$D$8:$D$76,\"=U18\")+COUNTIFS(AU$8:AU$76,\"=1\",$D$8:$D$76,\"=U21\")","v":0},null,null,null,{"$f":"COUNTIFS(AY$8:AY$76,\"=1\",$D$8:$D$76,\"=U18\")+COUNTIFS(AY$8:AY$76,\"=1\",$D$8:$D$76,\"=U21\")","v":0},null,null,{"$f":"COUNTIFS(BB$8:BB$76,\"=1\",$D$8:$D$76,\"=U18\")+COUNTIFS(BB$8:BB$76,\"=1\",$D$8:$D$76,\"=U21\")","v":0},null,null,{"$f":"COUNTIFS(BE$8:BE$76,\"=1\",$D$8:$D$76,\"=U18\")+COUNTIFS(BE$8:BE$76,\"=1\",$D$8:$D$76,\"=U21\")","v":0},null,null,{"$f":"COUNTIFS(BH$8:BH$76,\"=1\",$D$8:$D$76,\"=U18\")+COUNTIFS(BH$8:BH$76,\"=1\",$D$8:$D$76,\"=U21\")","v":0},null,null,{"$f":"COUNTIFS(BK$8:BK$76,\"=1\",$D$8:$D$76,\"=U18\")+COUNTIFS(BK$8:BK$76,\"=1\",$D$8:$D$76,\"=U21\")","v":0},null,null,{"$f":"COUNTIFS(BN$8:BN$76,\"=1\",$D$8:$D$76,\"=U18\")+COUNTIFS(BN$8:BN$76,\"=1\",$D$8:$D$76,\"=U21\")","v":0},null,null,{"$f":"COUNTIFS(BQ$8:BQ$76,\"=1\",$D$8:$D$76,\"=U18\")+COUNTIFS(BQ$8:BQ$76,\"=1\",$D$8:$D$76,\"=U21\")","v":0},null,null,{"$f":"COUNTIFS(BT$8:BT$76,\"=1\",$D$8:$D$76,\"=U18\")+COUNTIFS(BT$8:BT$76,\"=1\",$D$8:$D$76,\"=U21\")","v":0},null,null,{"$f":"COUNTIFS(BW$8:BW$76,\"=1\",$D$8:$D$76,\"=U18\")+COUNTIFS(BW$8:BW$76,\"=1\",$D$8:$D$76,\"=U21\")","v":0},null,null,{"$f":"COUNTIFS(BZ$8:BZ$76,\"=1\",$D$8:$D$76,\"=U18\")+COUNTIFS(BZ$8:BZ$76,\"=1\",$D$8:$D$76,\"=U21\")","v":0},null,null,{"$f":"COUNTIFS(CC$8:CC$76,\"=1\",$D$8:$D$76,\"=U18\")+COUNTIFS(CC$8:CC$76,\"=1\",$D$8:$D$76,\"=U21\")","v":0},null,null,null,{"$f":"COUNTIFS(CG$8:CG$76,\"=1\",$D$8:$D$76,\"=U18\")+COUNTIFS(CG$8:CG$76,\"=1\",$D$8:$D$76,\"=U21\")","v":0},null,null,{"$f":"COUNTIFS(CJ$8:CJ$76,\"=1\",$D$8:$D$76,\"=U18\")+COUNTIFS(CJ$8:CJ$76,\"=1\",$D$8:$D$76,\"=U21\")","v":0},null,null,{"$f":"COUNTIFS(CM$8:CM$76,\"=1\",$D$8:$D$76,\"=U18\")+COUNTIFS(CM$8:CM$76,\"=1\",$D$8:$D$76,\"=U21\")","v":0},null,null,{"$f":"COUNTIFS(CP$8:CP$76,\"=1\",$D$8:$D$76,\"=U18\")+COUNTIFS(CP$8:CP$76,\"=1\",$D$8:$D$76,\"=U21\")","v":1},null,null,{"$f":"COUNTIFS(CS$8:CS$76,\"=1\",$D$8:$D$76,\"=U18\")+COUNTIFS(CS$8:CS$76,\"=1\",$D$8:$D$76,\"=U21\")","v":0},null,null,{"$f":"COUNTIFS(CV$8:CV$76,\"=1\",$D$8:$D$76,\"=U18\")+COUNTIFS(CV$8:CV$76,\"=1\",$D$8:$D$76,\"=U21\")","v":0},null,null,{"$f":"COUNTIFS(CY$8:CY$76,\"=1\",$D$8:$D$76,\"=U18\")+COUNTIFS(CY$8:CY$76,\"=1\",$D$8:$D$76,\"=U21\")","v":0},null,null,{"$f":"COUNTIFS(DB$8:DB$76,\"=1\",$D$8:$D$76,\"=U18\")+COUNTIFS(DB$8:DB$76,\"=1\",$D$8:$D$76,\"=U21\")","v":0},null,{"$f":"COUNTIFS(DD$8:DD$76,\"=1\",$D$8:$D$76,\"=U18\")+COUNTIFS(DD$8:DD$76,\"=1\",$D$8:$D$76,\"=U21\")","v":0},null,null,{"$f":"COUNTIFS(DG$8:DG$76,\"=1\",$D$8:$D$76,\"=U18\")+COUNTIFS(DG$8:DG$76,\"=1\",$D$8:$D$76,\"=U21\")","v":0},null,null,{"$f":"COUNTIFS(DJ$8:DJ$76,\"=1\",$D$8:$D$76,\"=U18\")+COUNTIFS(DJ$8:DJ$76,\"=1\",$D$8:$D$76,\"=U21\")","v":1},null,null,{"$f":"COUNTIFS(DM$8:DM$76,\"=1\",$D$8:$D$76,\"=U18\")+COUNTIFS(DM$8:DM$76,\"=1\",$D$8:$D$76,\"=U21\")","v":0},null,null,{"$f":"COUNTIFS(DP$8:DP$76,\"=1\",$D$8:$D$76,\"=U18\")+COUNTIFS(DP$8:DP$76,\"=1\",$D$8:$D$76,\"=U21\")","v":0},null,null,{"$f":"COUNTIFS(DS$8:DS$76,\"=1\",$D$8:$D$76,\"=U18\")+COUNTIFS(DS$8:DS$76,\"=1\",$D$8:$D$76,\"=U21\")","v":0},null,null,{"$f":"COUNTIFS(DV$8:DV$76,\"=1\",$D$8:$D$76,\"=U18\")+COUNTIFS(DV$8:DV$76,\"=1\",$D$8:$D$76,\"=U21\")","v":1},null,null,{"$f":"COUNTIFS(DY$8:DY$76,\"=1\",$D$8:$D$76,\"=U18\")+COUNTIFS(DY$8:DY$76,\"=1\",$D$8:$D$76,\"=U21\")","v":0},null,null,{"$f":"COUNTIFS(EB$8:EB$76,\"=1\",$D$8:$D$76,\"=U18\")+COUNTIFS(EB$8:EB$76,\"=1\",$D$8:$D$76,\"=U21\")","v":0},null,null,{"$f":"COUNTIFS(EE$8:EE$76,\"=1\",$D$8:$D$76,\"=U18\")+COUNTIFS(EE$8:EE$76,\"=1\",$D$8:$D$76,\"=U21\")","v":0}]
[null,null,null,null,"JN Age 2nd",null,null,null,null,null,null,null,12,null,{"$f":"COUNTIFS(O$8:O$76,\"=2\",$D$8:$D$76,\"=U18\")+COUNTIFS(O$8:O$76,\"=2\",$D$8:$D$76,\"=U21\")","v":2},null,null,{"$f":"COUNTIFS(R$8:R$76,\"=2\",$D$8:$D$76,\"=U18\")+COUNTIFS(R$8:R$76,\"=2\",$D$8:$D$76,\"=U21\")","v":0},null,null,null,{"$f":"COUNTIFS(V$8:V$76,\"=2\",$D$8:$D$76,\"=U18\")+COUNTIFS(V$8:V$76,\"=2\",$D$8:$D$76,\"=U21\")","v":0},null,null,null,{"$f":"COUNTIFS(Z$8:Z$76,\"=2\",$D$8:$D$76,\"=U18\")+COUNTIFS(Z$8:Z$76,\"=2\",$D$8:$D$76,\"=U21\")","v":0},null,null,{"$f":"COUNTIFS(AC$8:AC$76,\"=2\",$D$8:$D$76,\"=U18\")+COUNTIFS(AC$8:AC$76,\"=2\",$D$8:$D$76,\"=U21\")","v":0},null,null,{"$f":"COUNTIFS(AF$8:AF$76,\"=2\",$D$8:$D$76,\"=U18\")+COUNTIFS(AF$8:AF$76,\"=2\",$D$8:$D$76,\"=U21\")","v":1},null,null,{"$f":"COUNTIFS(AI$8:AI$76,\"=2\",$D$8:$D$76,\"=U18\")+COUNTIFS(AI$8:AI$76,\"=2\",$D$8:$D$76,\"=U21\")","v":0},null,null,{"$f":"COUNTIFS(AL$8:AL$76,\"=2\",$D$8:$D$76,\"=U18\")+COUNTIFS(AL$8:AL$76,\"=2\",$D$8:$D$76,\"=U21\")","v":0},null,null,{"$f":"COUNTIFS(AO$8:AO$76,\"=2\",$D$8:$D$76,\"=U18\")+COUNTIFS(AO$8:AO$76,\"=2\",$D$8:$D$76,\"=U21\")","v":0},null,null,{"$f":"COUNTIFS(AR$8:AR$76,\"=2\",$D$8:$D$76,\"=U18\")+COUNTIFS(AR$8:AR$76,\"=2\",$D$8:$D$76,\"=U21\")","v":0},null,null,{"$f":"COUNTIFS(AU$8:AU$76,\"=2\",$D$8:$D$76,\"=U18\")+COUNTIFS(AU$8:AU$76,\"=2\",$D$8:$D$76,\"=U21\")","v":0},null,null,null,{"$f":"COUNTIFS(AY$8:AY$76,\"=2\",$D$8:$D$76,\"=U18\")+COUNTIFS(AY$8:AY$76,\"=2\",$D$8:$D$76,\"=U21\")","v":2},null,null,{"$f":"COUNTIFS(BB$8:BB$76,\"=2\",$D$8:$D$76,\"=U18\")+COUNTIFS(BB$8:BB$76,\"=2\",$D$8:$D$76,\"=U21\")","v":2},null,null,{"$f":"COUNTIFS(BE$8:BE$76,\"=2\",$D$8:$D$76,\"=U18\")+COUNTIFS(BE$8:BE$76,\"=2\",$D$8:$D$76,\"=U21\")","v":0},null,null,{"$f":"COUNTIFS(BH$8:BH$76,\"=2\",$D$8:$D$76,\"=U18\")+COUNTIFS(BH$8:BH$76,\"=2\",$D$8:$D$76,\"=U21\")","v":1},null,null,{"$f":"COUNTIFS(BK$8:BK$76,\"=2\",$D$8:$D$76,\"=U18\")+COUNTIFS(BK$8:BK$76,\"=2\",$D$8:$D$76,\"=U21\")","v":0},null,null,{"$f":"COUNTIFS(BN$8:BN$76,\"=2\",$D$8:$D$76,\"=U18\")+COUNTIFS(BN$8:BN$76,\"=2\",$D$8:$D$76,\"=U21\")","v":0},null,null,{"$f":"COUNTIFS(BQ$8:BQ$76,\"=2\",$D$8:$D$76,\"=U18\")+COUNTIFS(BQ$8:BQ$76,\"=2\",$D$8:$D$76,\"=U21\")","v":0},null,null,{"$f":"COUNTIFS(BT$8:BT$76,\"=2\",$D$8:$D$76,\"=U18\")+COUNTIFS(BT$8:BT$76,\"=2\",$D$8:$D$76,\"=U21\")","v":0},null,null,{"$f":"COUNTIFS(BW$8:BW$76,\"=2\",$D$8:$D$76,\"=U18\")+COUNTIFS(BW$8:BW$76,\"=2\",$D$8:$D$76,\"=U21\")","v":0},null,null,{"$f":"COUNTIFS(BZ$8:BZ$76,\"=2\",$D$8:$D$76,\"=U18\")+COUNTIFS(BZ$8:BZ$76,\"=2\",$D$8:$D$76,\"=U21\")","v":0},null,null,{"$f":"COUNTIFS(CC$8:CC$76,\"=2\",$D$8:$D$76,\"=U18\")+COUNTIFS(CC$8:CC$76,\"=2\",$D$8:$D$76,\"=U21\")","v":0},null,null,null,{"$f":"COUNTIFS(CG$8:CG$76,\"=2\",$D$8:$D$76,\"=U18\")+COUNTIFS(CG$8:CG$76,\"=2\",$D$8:$D$76,\"=U21\")","v":0},null,null,{"$f":"COUNTIFS(CJ$8:CJ$76,\"=2\",$D$8:$D$76,\"=U18\")+COUNTIFS(CJ$8:CJ$76,\"=2\",$D$8:$D$76,\"=U21\")","v":1},null,null,{"$f":"COUNTIFS(CM$8:CM$76,\"=2\",$D$8:$D$76,\"=U18\")+COUNTIFS(CM$8:CM$76,\"=2\",$D$8:$D$76,\"=U21\")","v":0},null,null,{"$f":"COUNTIFS(CP$8:CP$76,\"=2\",$D$8:$D$76,\"=U18\")+COUNTIFS(CP$8:CP$76,\"=2\",$D$8:$D$76,\"=U21\")","v":0},null,null,{"$f":"COUNTIFS(CS$8:CS$76,\"=2\",$D$8:$D$76,\"=U18\")+COUNTIFS(CS$8:CS$76,\"=2\",$D$8:$D$76,\"=U21\")","v":0},null,null,{"$f":"COUNTIFS(CV$8:CV$76,\"=2\",$D$8:$D$76,\"=U18\")+COUNTIFS(CV$8:CV$76,\"=2\",$D$8:$D$76,\"=U21\")","v":0},null,null,{"$f":"COUNTIFS(CY$8:CY$76,\"=2\",$D$8:$D$76,\"=U18\")+COUNTIFS(CY$8:CY$76,\"=2\",$D$8:$D$76,\"=U21\")","v":2},null,null,{"$f":"COUNTIFS(DB$8:DB$76,\"=2\",$D$8:$D$76,\"=U18\")+COUNTIFS(DB$8:DB$76,\"=2\",$D$8:$D$76,\"=U21\")","v":0},null,{"$f":"COUNTIFS(DD$8:DD$76,\"=2\",$D$8:$D$76,\"=U18\")+COUNTIFS(DD$8:DD$76,\"=2\",$D$8:$D$76,\"=U21\")","v":0},null,null,{"$f":"COUNTIFS(DG$8:DG$76,\"=2\",$D$8:$D$76,\"=U18\")+COUNTIFS(DG$8:DG$76,\"=2\",$D$8:$D$76,\"=U21\")","v":0},null,null,{"$f":"COUNTIFS(DJ$8:DJ$76,\"=2\",$D$8:$D$76,\"=U18\")+COUNTIFS(DJ$8:DJ$76,\"=2\",$D$8:$D$76,\"=U21\")","v":1},null,null,{"$f":"COUNTIFS(DM$8:DM$76,\"=2\",$D$8:$D$76,\"=U18\")+COUNTIFS(DM$8:DM$76,\"=2\",$D$8:$D$76,\"=U21\")","v":0},null,null,{"$f":"COUNTIFS(DP$8:DP$76,\"=2\",$D$8:$D$76,\"=U18\")+COUNTIFS(DP$8:DP$76,\"=2\",$D$8:$D$76,\"=U21\")","v":0},null,null,{"$f":"COUNTIFS(DS$8:DS$76,\"=2\",$D$8:$D$76,\"=U18\")+COUNTIFS(DS$8:DS$76,\"=2\",$D$8:$D$76,\"=U21\")","v":0},null,null,{"$f":"COUNTIFS(DV$8:DV$76,\"=2\",$D$8:$D$76,\"=U18\")+COUNTIFS(DV$8:DV$76,\"=2\",$D$8:$D$76,\"=U21\")","v":0},null,null,{"$f":"COUNTIFS(DY$8:DY$76,\"=2\",$D$8:$D$76,\"=U18\")+COUNTIFS(DY$8:DY$76,\"=2\",$D$8:$D$76,\"=U21\")","v":0},null,null,{"$f":"COUNTIFS(EB$8:EB$76,\"=2\",$D$8:$D$76,\"=U18\")+COUNTIFS(EB$8:EB$76,\"=2\",$D$8:$D$76,\"=U21\")","v":0},null,null,{"$f":"COUNTIFS(EE$8:EE$76,\"=2\",$D$8:$D$76,\"=U18\")+COUNTIFS(EE$8:EE$76,\"=2\",$D$8:$D$76,\"=U21\")","v":0}]
[null,null,null,null,"JN Age 3rd",null,null,null,null,null,null,null,13,null,{"$f":"COUNTIFS(O$8:O$76,\"=3\",$D$8:$D$76,\"=U18\")+COUNTIFS(O$8:O$76,\"=3\",$D$8:$D$76,\"=U21\")","v":0},null,null,{"$f":"COUNTIFS(R$8:R$76,\"=3\",$D$8:$D$76,\"=U18\")+COUNTIFS(R$8:R$76,\"=3\",$D$8:$D$76,\"=U21\")","v":2},null,null,null,{"$f":"COUNTIFS(V$8:V$76,\"=3\",$D$8:$D$76,\"=U18\")+COUNTIFS(V$8:V$76,\"=3\",$D$8:$D$76,\"=U21\")","v":0},null,null,null,{"$f":"COUNTIFS(Z$8:Z$76,\"=3\",$D$8:$D$76,\"=U18\")+COUNTIFS(Z$8:Z$76,\"=3\",$D$8:$D$76,\"=U21\")","v":0},null,null,{"$f":"COUNTIFS(AC$8:AC$76,\"=3\",$D$8:$D$76,\"=U18\")+COUNTIFS(AC$8:AC$76,\"=3\",$D$8:$D$76,\"=U21\")","v":0},null,null,{"$f":"COUNTIFS(AF$8:AF$76,\"=3\",$D$8:$D$76,\"=U18\")+COUNTIFS(AF$8:AF$76,\"=3\",$D$8:$D$76,\"=U21\")","v":1},null,null,{"$f":"COUNTIFS(AI$8:AI$76,\"=3\",$D$8:$D$76,\"=U18\")+COUNTIFS(AI$8:AI$76,\"=3\",$D$8:$D$76,\"=U21\")","v":1},null,null,{"$f":"COUNTIFS(AL$8:AL$76,\"=3\",$D$8:$D$76,\"=U18\")+COUNTIFS(AL$8:AL$76,\"=3\",$D$8:$D$76,\"=U21\")","v":0},null,null,{"$f":"COUNTIFS(AO$8:AO$76,\"=3\",$D$8:$D$76,\"=U18\")+COUNTIFS(AO$8:AO$76,\"=3\",$D$8:$D$76,\"=U21\")","v":0},null,null,{"$f":"COUNTIFS(AR$8:AR$76,\"=3\",$D$8:$D$76,\"=U18\")+COUNTIFS(AR$8:AR$76,\"=3\",$D$8:$D$76,\"=U21\")","v":0},null,null,{"$f":"COUNTIFS(AU$8:AU$76,\"=3\",$D$8:$D$76,\"=U18\")+COUNTIFS(AU$8:AU$76,\"=3\",$D$8:$D$76,\"=U21\")","v":0},null,null,null,{"$f":"COUNTIFS(AY$8:AY$76,\"=3\",$D$8:$D$76,\"=U18\")+COUNTIFS(AY$8:AY$76,\"=3\",$D$8:$D$76,\"=U21\")","v":1},null,null,{"$f":"COUNTIFS(BB$8:BB$76,\"=3\",$D$8:$D$76,\"=U18\")+COUNTIFS(BB$8:BB$76,\"=3\",$D$8:$D$76,\"=U21\")","v":1},null,null,{"$f":"COUNTIFS(BE$8:BE$76,\"=3\",$D$8:$D$76,\"=U18\")+COUNTIFS(BE$8:BE$76,\"=3\",$D$8:$D$76,\"=U21\")","v":0},null,null,{"$f":"COUNTIFS(BH$8:BH$76,\"=3\",$D$8:$D$76,\"=U18\")+COUNTIFS(BH$8:BH$76,\"=3\",$D$8:$D$76,\"=U21\")","v":0},null,null,{"$f":"COUNTIFS(BK$8:BK$76,\"=3\",$D$8:$D$76,\"=U18\")+COUNTIFS(BK$8:BK$76,\"=3\",$D$8:$D$76,\"=U21\")","v":0},null,null,{"$f":"COUNTIFS(BN$8:BN$76,\"=3\",$D$8:$D$76,\"=U18\")+COUNTIFS(BN$8:BN$76,\"=3\",$D$8:$D$76,\"=U21\")","v":1},null,null,{"$f":"COUNTIFS(BQ$8:BQ$76,\"=3\",$D$8:$D$76,\"=U18\")+COUNTIFS(BQ$8:BQ$76,\"=3\",$D$8:$D$76,\"=U21\")","v":0},null,null,{"$f":"COUNTIFS(BT$8:BT$76,\"=3\",$D$8:$D$76,\"=U18\")+COUNTIFS(BT$8:BT$76,\"=3\",$D$8:$D$76,\"=U21\")","v":0},null,null,{"$f":"COUNTIFS(BW$8:BW$76,\"=3\",$D$8:$D$76,\"=U18\")+COUNTIFS(BW$8:BW$76,\"=3\",$D$8:$D$76,\"=U21\")","v":0},null,null,{"$f":"COUNTIFS(BZ$8:BZ$76,\"=3\",$D$8:$D$76,\"=U18\")+COUNTIFS(BZ$8:BZ$76,\"=3\",$D$8:$D$76,\"=U21\")","v":0},null,null,{"$f":"COUNTIFS(CC$8:CC$76,\"=3\",$D$8:$D$76,\"=U18\")+COUNTIFS(CC$8:CC$76,\"=3\",$D$8:$D$76,\"=U21\")","v":0},null,null,null,{"$f":"COUNTIFS(CG$8:CG$76,\"=3\",$D$8:$D$76,\"=U18\")+COUNTIFS(CG$8:CG$76,\"=3\",$D$8:$D$76,\"=U21\")","v":1},null,null,{"$f":"COUNTIFS(CJ$8:CJ$76,\"=3\",$D$8:$D$76,\"=U18\")+COUNTIFS(CJ$8:CJ$76,\"=3\",$D$8:$D$76,\"=U21\")","v":0},null,null,{"$f":"COUNTIFS(CM$8:CM$76,\"=3\",$D$8:$D$76,\"=U18\")+COUNTIFS(CM$8:CM$76,\"=3\",$D$8:$D$76,\"=U21\")","v":0},null,null,{"$f":"COUNTIFS(CP$8:CP$76,\"=3\",$D$8:$D$76,\"=U18\")+COUNTIFS(CP$8:CP$76,\"=3\",$D$8:$D$76,\"=U21\")","v":1},null,null,{"$f":"COUNTIFS(CS$8:CS$76,\"=3\",$D$8:$D$76,\"=U18\")+COUNTIFS(CS$8:CS$76,\"=3\",$D$8:$D$76,\"=U21\")","v":0},null,null,{"$f":"COUNTIFS(CV$8:CV$76,\"=3\",$D$8:$D$76,\"=U18\")+COUNTIFS(CV$8:CV$76,\"=3\",$D$8:$D$76,\"=U21\")","v":0},null,null,{"$f":"COUNTIFS(CY$8:CY$76,\"=3\",$D$8:$D$76,\"=U18\")+COUNTIFS(CY$8:CY$76,\"=3\",$D$8:$D$76,\"=U21\")","v":0},null,null,{"$f":"COUNTIFS(DB$8:DB$76,\"=3\",$D$8:$D$76,\"=U18\")+COUNTIFS(DB$8:DB$76,\"=3\",$D$8:$D$76,\"=U21\")","v":0},null,{"$f":"COUNTIFS(DD$8:DD$76,\"=3\",$D$8:$D$76,\"=U18\")+COUNTIFS(DD$8:DD$76,\"=3\",$D$8:$D$76,\"=U21\")","v":0},null,null,{"$f":"COUNTIFS(DG$8:DG$76,\"=3\",$D$8:$D$76,\"=U18\")+COUNTIFS(DG$8:DG$76,\"=3\",$D$8:$D$76,\"=U21\")","v":2},null,null,{"$f":"COUNTIFS(DJ$8:DJ$76,\"=3\",$D$8:$D$76,\"=U18\")+COUNTIFS(DJ$8:DJ$76,\"=3\",$D$8:$D$76,\"=U21\")","v":0},null,null,{"$f":"COUNTIFS(DM$8:DM$76,\"=3\",$D$8:$D$76,\"=U18\")+COUNTIFS(DM$8:DM$76,\"=3\",$D$8:$D$76,\"=U21\")","v":0},null,null,{"$f":"COUNTIFS(DP$8:DP$76,\"=3\",$D$8:$D$76,\"=U18\")+COUNTIFS(DP$8:DP$76,\"=3\",$D$8:$D$76,\"=U21\")","v":0},null,null,{"$f":"COUNTIFS(DS$8:DS$76,\"=3\",$D$8:$D$76,\"=U18\")+COUNTIFS(DS$8:DS$76,\"=3\",$D$8:$D$76,\"=U21\")","v":0},null,null,{"$f":"COUNTIFS(DV$8:DV$76,\"=3\",$D$8:$D$76,\"=U18\")+COUNTIFS(DV$8:DV$76,\"=3\",$D$8:$D$76,\"=U21\")","v":0},null,null,{"$f":"COUNTIFS(DY$8:DY$76,\"=3\",$D$8:$D$76,\"=U18\")+COUNTIFS(DY$8:DY$76,\"=3\",$D$8:$D$76,\"=U21\")","v":1},null,null,{"$f":"COUNTIFS(EB$8:EB$76,\"=3\",$D$8:$D$76,\"=U18\")+COUNTIFS(EB$8:EB$76,\"=3\",$D$8:$D$76,\"=U21\")","v":1},null,null,{"$f":"COUNTIFS(EE$8:EE$76,\"=3\",$D$8:$D$76,\"=U18\")+COUNTIFS(EE$8:EE$76,\"=3\",$D$8:$D$76,\"=U21\")","v":0}]
[null,null,null,null,"SEN Age 1st",null,null,null,null,null,null,null,12,null,{"$f":"COUNTIFS(O$8:O$76,\"=1\",$D$8:$D$76,\"=SEN\")","v":1},null,null,{"$f":"COUNTIFS(R$8:R$76,\"=1\",$D$8:$D$76,\"=SEN\")","v":1},null,null,null,{"$f":"COUNTIFS(V$8:V$76,\"=1\",$D$8:$D$76,\"=SEN\")","v":1},null,null,null,{"$f":"COUNTIFS(Z$8:Z$76,\"=1\",$D$8:$D$76,\"=SEN\")","v":0},null,null,{"$f":"COUNTIFS(AC$8:AC$76,\"=1\",$D$8:$D$76,\"=SEN\")","v":1},null,null,{"$f":"COUNTIFS(AF$8:AF$76,\"=1\",$D$8:$D$76,\"=SEN\")","v":1},null,null,{"$f":"COUNTIFS(AI$8:AI$76,\"=1\",$D$8:$D$76,\"=SEN\")","v":0},null,null,{"$f":"COUNTIFS(AL$8:AL$76,\"=1\",$D$8:$D$76,\"=SEN\")","v":0},null,null,{"$f":"COUNTIFS(AO$8:AO$76,\"=1\",$D$8:$D$76,\"=SEN\")","v":1},null,null,{"$f":"COUNTIFS(AR$8:AR$76,\"=1\",$D$8:$D$76,\"=SEN\")","v":0},null,null,{"$f":"COUNTIFS(AU$8:AU$76,\"=1\",$D$8:$D$76,\"=SEN\")","v":0},null,null,null,{"$f":"COUNTIFS(AY$8:AY$76,\"=1\",$D$8:$D$76,\"=SEN\")","v":0},null,null,{"$f":"COUNTIFS(BB$8:BB$76,\"=1\",$D$8:$D$76,\"=SEN\")","v":0},null,null,{"$f":"COUNTIFS(BE$8:BE$76,\"=1\",$D$8:$D$76,\"=SEN\")","v":0},null,null,{"$f":"COUNTIFS(BH$8:BH$76,\"=1\",$D$8:$D$76,\"=SEN\")","v":1},null,null,{"$f":"COUNTIFS(BK$8:BK$76,\"=1\",$D$8:$D$76,\"=SEN\")","v":0},null,null,{"$f":"COUNTIFS(BN$8:BN$76,\"=1\",$D$8:$D$76,\"=SEN\")","v":2},null,null,{"$f":"COUNTIFS(BQ$8:BQ$76,\"=1\",$D$8:$D$76,\"=SEN\")","v":0},null,null,{"$f":"COUNTIFS(BT$8:BT$76,\"=1\",$D$8:$D$76,\"=SEN\")","v":0},null,null,{"$f":"COUNTIFS(BW$8:BW$76,\"=1\",$D$8:$D$76,\"=SEN\")","v":1},null,null,{"$f":"COUNTIFS(BZ$8:BZ$76,\"=1\",$D$8:$D$76,\"=SEN\")","v":0},null,null,{"$f":"COUNTIFS(CC$8:CC$76,\"=1\",$D$8:$D$76,\"=SEN\")","v":0},null,null,null,{"$f":"COUNTIFS(CG$8:CG$76,\"=1\",$D$8:$D$76,\"=SEN\")","v":0},null,null,{"$f":"COUNTIFS(CJ$8:CJ$76,\"=1\",$D$8:$D$76,\"=SEN\")","v":0},null,null,{"$f":"COUNTIFS(CM$8:CM$76,\"=1\",$D$8:$D$76,\"=SEN\")","v":0},null,null,{"$f":"COUNTIFS(CP$8:CP$76,\"=1\",$D$8:$D$76,\"=SEN\")","v":0},null,null,{"$f":"COUNTIFS(CS$8:CS$76,\"=1\",$D$8:$D$76,\"=SEN\")","v":0},null,null,{"$f":"COUNTIFS(CV$8:CV$76,\"=1\",$D$8:$D$76,\"=SEN\")","v":0},null,null,{"$f":"COUNTIFS(CY$8:CY$76,\"=1\",$D$8:$D$76,\"=SEN\")","v":0},null,null,{"$f":"COUNTIFS(DB$8:DB$76,\"=1\",$D$8:$D$76,\"=SEN\")","v":0},null,{"$f":"COUNTIFS(DD$8:DD$76,\"=1\",$D$8:$D$76,\"=SEN\")","v":0},null,null,{"$f":"COUNTIFS(DG$8:DG$76,\"=1\",$D$8:$D$76,\"=SEN\")","v":0},null,null,{"$f":"COUNTIFS(DJ$8:DJ$76,\"=1\",$D$8:$D$76,\"=SEN\")","v":1},null,null,{"$f":"COUNTIFS(DM$8:DM$76,\"=1\",$D$8:$D$76,\"=SEN\")","v":1},null,null,{"$f":"COUNTIFS(DP$8:DP$76,\"=1\",$D$8:$D$76,\"=SEN\")","v":0},null,null,{"$f":"COUNTIFS(DS$8:DS$76,\"=1\",$D$8:$D$76,\"=SEN\")","v":0},null,null,{"$f":"COUNTIFS(DV$8:DV$76,\"=1\",$D$8:$D$76,\"=SEN\")","v":0},null,null,{"$f":"COUNTIFS(DY$8:DY$76,\"=1\",$D$8:$D$76,\"=SEN\")","v":0},null,null,{"$f":"COUNTIFS(EB$8:EB$76,\"=1\",$D$8:$D$76,\"=SEN\")","v":0},null,null,{"$f":"COUNTIFS(EE$8:EE$76,\"=1\",$D$8:$D$76,\"=SEN\")","v":0}]
[null,null,null,null,"SEN Age 2nd",null,null,null,null,null,null,null,14,null,{"$f":"COUNTIFS(O$8:O$76,\"=2\",$D$8:$D$76,\"=SEN\")","v":0},null,null,{"$f":"COUNTIFS(R$8:R$76,\"=2\",$D$8:$D$76,\"=SEN\")","v":1},null,null,null,{"$f":"COUNTIFS(V$8:V$76,\"=2\",$D$8:$D$76,\"=SEN\")","v":1},null,null,null,{"$f":"COUNTIFS(Z$8:Z$76,\"=2\",$D$8:$D$76,\"=SEN\")","v":0},null,null,{"$f":"COUNTIFS(AC$8:AC$76,\"=2\",$D$8:$D$76,\"=SEN\")","v":1},null,null,{"$f":"COUNTIFS(AF$8:AF$76,\"=2\",$D$8:$D$76,\"=SEN\")","v":0},null,null,{"$f":"COUNTIFS(AI$8:AI$76,\"=2\",$D$8:$D$76,\"=SEN\")","v":1},null,null,{"$f":"COUNTIFS(AL$8:AL$76,\"=2\",$D$8:$D$76,\"=SEN\")","v":0},null,null,{"$f":"COUNTIFS(AO$8:AO$76,\"=2\",$D$8:$D$76,\"=SEN\")","v":0},null,null,{"$f":"COUNTIFS(AR$8:AR$76,\"=2\",$D$8:$D$76,\"=SEN\")","v":1},null,null,{"$f":"COUNTIFS(AU$8:AU$76,\"=2\",$D$8:$D$76,\"=SEN\")","v":1},null,null,null,{"$f":"COUNTIFS(AY$8:AY$76,\"=2\",$D$8:$D$76,\"=SEN\")","v":2},null,null,{"$f":"COUNTIFS(BB$8:BB$76,\"=2\",$D$8:$D$76,\"=SEN\")","v":1},null,null,{"$f":"COUNTIFS(BE$8:BE$76,\"=2\",$D$8:$D$76,\"=SEN\")","v":0},null,null,{"$f":"COUNTIFS(BH$8:BH$76,\"=2\",$D$8:$D$76,\"=SEN\")","v":0},null,null,{"$f":"COUNTIFS(BK$8:BK$76,\"=2\",$D$8:$D$76,\"=SEN\")","v":0},null,null,{"$f":"COUNTIFS(BN$8:BN$76,\"=2\",$D$8:$D$76,\"=SEN\")","v":0},null,null,{"$f":"COUNTIFS(BQ$8:BQ$76,\"=2\",$D$8:$D$76,\"=SEN\")","v":0},null,null,{"$f":"COUNTIFS(BT$8:BT$76,\"=2\",$D$8:$D$76,\"=SEN\")","v":0},null,null,{"$f":"COUNTIFS(BW$8:BW$76,\"=2\",$D$8:$D$76,\"=SEN\")","v":0},null,null,{"$f":"COUNTIFS(BZ$8:BZ$76,\"=2\",$D$8:$D$76,\"=SEN\")","v":1},null,null,{"$f":"COUNTIFS(CC$8:CC$76,\"=2\",$D$8:$D$76,\"=SEN\")","v":0},null,null,null,{"$f":"COUNTIFS(CG$8:CG$76,\"=2\",$D$8:$D$76,\"=SEN\")","v":0},null,null,{"$f":"COUNTIFS(CJ$8:CJ$76,\"=2\",$D$8:$D$76,\"=SEN\")","v":0},null,null,{"$f":"COUNTIFS(CM$8:CM$76,\"=2\",$D$8:$D$76,\"=SEN\")","v":0},null,null,{"$f":"COUNTIFS(CP$8:CP$76,\"=2\",$D$8:$D$76,\"=SEN\")","v":0},null,null,{"$f":"COUNTIFS(CS$8:CS$76,\"=2\",$D$8:$D$76,\"=SEN\")","v":0},null,null,{"$f":"COUNTIFS(CV$8:CV$76,\"=2\",$D$8:$D$76,\"=SEN\")","v":0},null,null,{"$f":"COUNTIFS(CY$8:CY$76,\"=2\",$D$8:$D$76,\"=SEN\")","v":1},null,null,{"$f":"COUNTIFS(DB$8:DB$76,\"=2\",$D$8:$D$76,\"=SEN\")","v":1},null,{"$f":"COUNTIFS(DD$8:DD$76,\"=2\",$D$8:$D$76,\"=SEN\")","v":0},null,null,{"$f":"COUNTIFS(DG$8:DG$76,\"=2\",$D$8:$D$76,\"=SEN\")","v":0},null,null,{"$f":"COUNTIFS(DJ$8:DJ$76,\"=2\",$D$8:$D$76,\"=SEN\")","v":0},null,null,{"$f":"COUNTIFS(DM$8:DM$76,\"=2\",$D$8:$D$76,\"=SEN\")","v":0},null,null,{"$f":"COUNTIFS(DP$8:DP$76,\"=2\",$D$8:$D$76,\"=SEN\")","v":0},null,null,{"$f":"COUNTIFS(DS$8:DS$76,\"=2\",$D$8:$D$76,\"=SEN\")","v":0},null,null,{"$f":"COUNTIFS(DV$8:DV$76,\"=2\",$D$8:$D$76,\"=SEN\")","v":1},null,null,{"$f":"COUNTIFS(DY$8:DY$76,\"=2\",$D$8:$D$76,\"=SEN\")","v":1},null,null,{"$f":"COUNTIFS(EB$8:EB$76,\"=2\",$D$8:$D$76,\"=SEN\")","v":0},null,null,{"$f":"COUNTIFS(EE$8:EE$76,\"=2\",$D$8:$D$76,\"=SEN\")","v":0}]
[null,null,null,null,"SEN Age 3rd",null,null,null,null,null,null,null,10,null,{"$f":"COUNTIFS(O$8:O$76,\"=3\",$D$8:$D$76,\"=SEN\")","v":1},null,null,{"$f":"COUNTIFS(R$8:R$76,\"=3\",$D$8:$D$76,\"=SEN\")","v":1},null,null,null,{"$f":"COUNTIFS(V$8:V$76,\"=3\",$D$8:$D$76,\"=SEN\")","v":0},null,null,null,{"$f":"COUNTIFS(Z$8:Z$76,\"=3\",$D$8:$D$76,\"=SEN\")","v":0},null,null,{"$f":"COUNTIFS(AC$8:AC$76,\"=3\",$D$8:$D$76,\"=SEN\")","v":0},null,null,{"$f":"COUNTIFS(AF$8:AF$76,\"=3\",$D$8:$D$76,\"=SEN\")","v":1},null,null,{"$f":"COUNTIFS(AI$8:AI$76,\"=3\",$D$8:$D$76,\"=SEN\")","v":0},null,null,{"$f":"COUNTIFS(AL$8:AL$76,\"=3\",$D$8:$D$76,\"=SEN\")","v":0},null,null,{"$f":"COUNTIFS(AO$8:AO$76,\"=3\",$D$8:$D$76,\"=SEN\")","v":0},null,null,{"$f":"COUNTIFS(AR$8:AR$76,\"=3\",$D$8:$D$76,\"=SEN\")","v":0},null,null,{"$f":"COUNTIFS(AU$8:AU$76,\"=3\",$D$8:$D$76,\"=SEN\")","v":0},null,null,null,{"$f":"COUNTIFS(AY$8:AY$76,\"=3\",$D$8:$D$76,\"=SEN\")","v":1},null,null,{"$f":"COUNTIFS(BB$8:BB$76,\"=3\",$D$8:$D$76,\"=SEN\")","v":0},null,null,{"$f":"COUNTIFS(BE$8:BE$76,\"=3\",$D$8:$D$76,\"=SEN\")","v":0},null,null,{"$f":"COUNTIFS(BH$8:BH$76,\"=3\",$D$8:$D$76,\"=SEN\")","v":1},null,null,{"$f":"COUNTIFS(BK$8:BK$76,\"=3\",$D$8:$D$76,\"=SEN\")","v":0},null,null,{"$f":"COUNTIFS(BN$8:BN$76,\"=3\",$D$8:$D$76,\"=SEN\")","v":0},null,null,{"$f":"COUNTIFS(BQ$8:BQ$76,\"=3\",$D$8:$D$76,\"=SEN\")","v":1},null,null,{"$f":"COUNTIFS(BT$8:BT$76,\"=3\",$D$8:$D$76,\"=SEN\")","v":1},null,null,{"$f":"COUNTIFS(BW$8:BW$76,\"=3\",$D$8:$D$76,\"=SEN\")","v":1},null,null,{"$f":"COUNTIFS(BZ$8:BZ$76,\"=3\",$D$8:$D$76,\"=SEN\")","v":1},null,null,{"$f":"COUNTIFS(CC$8:CC$76,\"=3\",$D$8:$D$76,\"=SEN\")","v":0},null,null,null,{"$f":"COUNTIFS(CG$8:CG$76,\"=3\",$D$8:$D$76,\"=SEN\")","v":0},null,null,{"$f":"COUNTIFS(CJ$8:CJ$76,\"=3\",$D$8:$D$76,\"=SEN\")","v":0},null,null,{"$f":"COUNTIFS(CM$8:CM$76,\"=3\",$D$8:$D$76,\"=SEN\")","v":0},null,null,{"$f":"COUNTIFS(CP$8:CP$76,\"=3\",$D$8:$D$76,\"=SEN\")","v":0},null,null,{"$f":"COUNTIFS(CS$8:CS$76,\"=3\",$D$8:$D$76,\"=SEN\")","v":0},null,null,{"$f":"COUNTIFS(CV$8:CV$76,\"=3\",$D$8:$D$76,\"=SEN\")","v":0},null,null,{"$f":"COUNTIFS(CY$8:CY$76,\"=3\",$D$8:$D$76,\"=SEN\")","v":0},null,null,{"$f":"COUNTIFS(DB$8:DB$76,\"=3\",$D$8:$D$76,\"=SEN\")","v":0},null,{"$f":"COUNTIFS(DD$8:DD$76,\"=3\",$D$8:$D$76,\"=SEN\")","v":0},null,null,{"$f":"COUNTIFS(DG$8:DG$76,\"=3\",$D$8:$D$76,\"=SEN\")","v":0},null,null,{"$f":"COUNTIFS(DJ$8:DJ$76,\"=3\",$D$8:$D$76,\"=SEN\")","v":0},null,null,{"$f":"COUNTIFS(DM$8:DM$76,\"=3\",$D$8:$D$76,\"=SEN\")","v":0},null,null,{"$f":"COUNTIFS(DP$8:DP$76,\"=3\",$D$8:$D$76,\"=SEN\")","v":0},null,null,{"$f":"COUNTIFS(DS$8:DS$76,\"=3\",$D$8:$D$76,\"=SEN\")","v":0},null,null,{"$f":"COUNTIFS(DV$8:DV$76,\"=3\",$D$8:$D$76,\"=SEN\")","v":0},null,null,{"$f":"COUNTIFS(DY$8:DY$76,\"=3\",$D$8:$D$76,\"=SEN\")","v":0},null,null,{"$f":"COUNTIFS(EB$8:EB$76,\"=3\",$D$8:$D$76,\"=SEN\")","v":1},null,null,{"$f":"COUNTIFS(EE$8:EE$76,\"=3\",$D$8:$D$76,\"=SEN\")","v":0}]
[null,null,null,null,"MAS Age 1st",null,null,null,null,null,null,null,9,null,{"$f":"COUNTIFS(O$8:O$76,\"=1\",$D$8:$D$76,\"=MAS\")","v":0},null,null,{"$f":"COUNTIFS(R$8:R$76,\"=1\",$D$8:$D$76,\"=MAS\")","v":0},null,null,null,{"$f":"COUNTIFS(V$8:V$76,\"=1\",$D$8:$D$76,\"=MAS\")","v":0},null,null,null,{"$f":"COUNTIFS(Z$8:Z$76,\"=1\",$D$8:$D$76,\"=MAS\")","v":0},null,null,{"$f":"COUNTIFS(AC$8:AC$76,\"=1\",$D$8:$D$76,\"=MAS\")","v":0},null,null,{"$f":"COUNTIFS(AF$8:AF$76,\"=1\",$D$8:$D$76,\"=MAS\")","v":1},null,null,{"$f":"COUNTIFS(AI$8:AI$76,\"=1\",$D$8:$D$76,\"=MAS\")","v":0},null,null,{"$f":"COUNTIFS(AL$8:AL$76,\"=1\",$D$8:$D$76,\"=MAS\")","v":0},null,null,{"$f":"COUNTIFS(AO$8:AO$76,\"=1\",$D$8:$D$76,\"=MAS\")","v":0},null,null,{"$f":"COUNTIFS(AR$8:AR$76,\"=1\",$D$8:$D$76,\"=MAS\")","v":0},null,null,{"$f":"COUNTIFS(AU$8:AU$76,\"=1\",$D$8:$D$76,\"=MAS\")","v":0},null,null,null,{"$f":"COUNTIFS(AY$8:AY$76,\"=1\",$D$8:$D$76,\"=MAS\")","v":1},null,null,{"$f":"COUNTIFS(BB$8:BB$76,\"=1\",$D$8:$D$76,\"=MAS\")","v":1},null,null,{"$f":"COUNTIFS(BE$8:BE$76,\"=1\",$D$8:$D$76,\"=MAS\")","v":0},null,null,{"$f":"COUNTIFS(BH$8:BH$76,\"=1\",$D$8:$D$76,\"=MAS\")","v":0},null,null,{"$f":"COUNTIFS(BK$8:BK$76,\"=1\",$D$8:$D$76,\"=MAS\")","v":0},null,null,{"$f":"COUNTIFS(BN$8:BN$76,\"=1\",$D$8:$D$76,\"=MAS\")","v":0},null,null,{"$f":"COUNTIFS(BQ$8:BQ$76,\"=1\",$D$8:$D$76,\"=MAS\")","v":0},null,null,{"$f":"COUNTIFS(BT$8:BT$76,\"=1\",$D$8:$D$76,\"=MAS\")","v":0},null,null,{"$f":"COUNTIFS(BW$8:BW$76,\"=1\",$D$8:$D$76,\"=MAS\")","v":1},null,null,{"$f":"COUNTIFS(BZ$8:BZ$76,\"=1\",$D$8:$D$76,\"=MAS\")","v":1},null,null,{"$f":"COUNTIFS(CC$8:CC$76,\"=1\",$D$8:$D$76,\"=MAS\")","v":0},null,null,null,{"$f":"COUNTIFS(CG$8:CG$76,\"=1\",$D$8:$D$76,\"=MAS\")","v":1},null,null,{"$f":"COUNTIFS(CJ$8:CJ$76,\"=1\",$D$8:$D$76,\"=MAS\")","v":0},null,null,{"$f":"COUNTIFS(CM$8:CM$76,\"=1\",$D$8:$D$76,\"=MAS\")","v":0},null,null,{"$f":"COUNTIFS(CP$8:CP$76,\"=1\",$D$8:$D$76,\"=MAS\")","v":1},null,null,{"$f":"COUNTIFS(CS$8:CS$76,\"=1\",$D$8:$D$76,\"=MAS\")","v":0},null,null,{"$f":"COUNTIFS(CV$8:CV$76,\"=1\",$D$8:$D$76,\"=MAS\")","v":0},null,null,{"$f":"COUNTIFS(CY$8:CY$76,\"=1\",$D$8:$D$76,\"=MAS\")","v":0},null,null,{"$f":"COUNTIFS(DB$8:DB$76,\"=1\",$D$8:$D$76,\"=MAS\")","v":0},null,{"$f":"COUNTIFS(DD$8:DD$76,\"=1\",$D$8:$D$76,\"=MAS\")","v":1},null,null,{"$f":"COUNTIFS(DG$8:DG$76,\"=1\",$D$8:$D$76,\"=MAS\")","v":0},null,null,{"$f":"COUNTIFS(DJ$8:DJ$76,\"=1\",$D$8:$D$76,\"=MAS\")","v":1},null,null,{"$f":"COUNTIFS(DM$8:DM$76,\"=1\",$D$8:$D$76,\"=MAS\")","v":0},null,null,{"$f":"COUNTIFS(DP$8:DP$76,\"=1\",$D$8:$D$76,\"=MAS\")","v":0},null,null,{"$f":"COUNTIFS(DS$8:DS$76,\"=1\",$D$8:$D$76,\"=MAS\")","v":0},null,null,{"$f":"COUNTIFS(DV$8:DV$76,\"=1\",$D$8:$D$76,\"=MAS\")","v":0},null,null,{"$f":"COUNTIFS(DY$8:DY$76,\"=1\",$D$8:$D$76,\"=MAS\")","v":0},null,null,{"$f":"COUNTIFS(EB$8:EB$76,\"=1\",$D$8:$D$76,\"=MAS\")","v":0},null,null,{"$f":"COUNTIFS(EE$8:EE$76,\"=1\",$D$8:$D$76,\"=MAS\")","v":0}]
[null,null,null,null,"MAS Age 2nd",null,null,null,null,null,null,null,2,null,{"$f":"COUNTIFS(O$8:O$76,\"=2\",$D$8:$D$76,\"=MAS\")","v":0},null,null,{"$f":"COUNTIFS(R$8:R$76,\"=2\",$D$8:$D$76,\"=MAS\")","v":0},null,null,null,{"$f":"COUNTIFS(V$8:V$76,\"=2\",$D$8:$D$76,\"=MAS\")","v":0},null,null,null,{"$f":"COUNTIFS(Z$8:Z$76,\"=2\",$D$8:$D$76,\"=MAS\")","v":0},null,null,{"$f":"COUNTIFS(AC$8:AC$76,\"=2\",$D$8:$D$76,\"=MAS\")","v":0},null,null,{"$f":"COUNTIFS(AF$8:AF$76,\"=2\",$D$8:$D$76,\"=MAS\")","v":0},null,null,{"$f":"COUNTIFS(AI$8:AI$76,\"=2\",$D$8:$D$76,\"=MAS\")","v":0},null,null,{"$f":"COUNTIFS(AL$8:AL$76,\"=2\",$D$8:$D$76,\"=MAS\")","v":0},null,null,{"$f":"COUNTIFS(AO$8:AO$76,\"=2\",$D$8:$D$76,\"=MAS\")","v":0},null,null,{"$f":"COUNTIFS(AR$8:AR$76,\"=2\",$D$8:$D$76,\"=MAS\")","v":0},null,null,{"$f":"COUNTIFS(AU$8:AU$76,\"=2\",$D$8:$D$76,\"=MAS\")","v":0},null,null,null,{"$f":"COUNTIFS(AY$8:AY$76,\"=2\",$D$8:$D$76,\"=MAS\")","v":0},null,null,{"$f":"COUNTIFS(BB$8:BB$76,\"=2\",$D$8:$D$76,\"=MAS\")","v":0},null,null,{"$f":"COUNTIFS(BE$8:BE$76,\"=2\",$D$8:$D$76,\"=MAS\")","v":0},null,null,{"$f":"COUNTIFS(BH$8:BH$76,\"=2\",$D$8:$D$76,\"=MAS\")","v":0},null,null,{"$f":"COUNTIFS(BK$8:BK$76,\"=2\",$D$8:$D$76,\"=MAS\")","v":0},null,null,{"$f":"COUNTIFS(BN$8:BN$76,\"=2\",$D$8:$D$76,\"=MAS\")","v":0},null,null,{"$f":"COUNTIFS(BQ$8:BQ$76,\"=2\",$D$8:$D$76,\"=MAS\")","v":0},null,null,{"$f":"COUNTIFS(BT$8:BT$76,\"=2\",$D$8:$D$76,\"=MAS\")","v":0},null,null,{"$f":"COUNTIFS(BW$8:BW$76,\"=2\",$D$8:$D$76,\"=MAS\")","v":0},null,null,{"$f":"COUNTIFS(BZ$8:BZ$76,\"=2\",$D$8:$D$76,\"=MAS\")","v":0},null,null,{"$f":"COUNTIFS(CC$8:CC$76,\"=2\",$D$8:$D$76,\"=MAS\")","v":0},null,null,null,{"$f":"COUNTIFS(CG$8:CG$76,\"=2\",$D$8:$D$76,\"=MAS\")","v":0},null,null,{"$f":"COUNTIFS(CJ$8:CJ$76,\"=2\",$D$8:$D$76,\"=MAS\")","v":0},null,null,{"$f":"COUNTIFS(CM$8:CM$76,\"=2\",$D$8:$D$76,\"=MAS\")","v":0},null,null,{"$f":"COUNTIFS(CP$8:CP$76,\"=2\",$D$8:$D$76,\"=MAS\")","v":0},null,null,{"$f":"COUNTIFS(CS$8:CS$76,\"=2\",$D$8:$D$76,\"=MAS\")","v":0},null,null,{"$f":"COUNTIFS(CV$8:CV$76,\"=2\",$D$8:$D$76,\"=MAS\")","v":0},null,null,{"$f":"COUNTIFS(CY$8:CY$76,\"=2\",$D$8:$D$76,\"=MAS\")","v":0},null,null,{"$f":"COUNTIFS(DB$8:DB$76,\"=2\",$D$8:$D$76,\"=MAS\")","v":0},null,{"$f":"COUNTIFS(DD$8:DD$76,\"=2\",$D$8:$D$76,\"=MAS\")","v":0},null,null,{"$f":"COUNTIFS(DG$8:DG$76,\"=2\",$D$8:$D$76,\"=MAS\")","v":1},null,null,{"$f":"COUNTIFS(DJ$8:DJ$76,\"=2\",$D$8:$D$76,\"=MAS\")","v":0},null,null,{"$f":"COUNTIFS(DM$8:DM$76,\"=2\",$D$8:$D$76,\"=MAS\")","v":0},null,null,{"$f":"COUNTIFS(DP$8:DP$76,\"=2\",$D$8:$D$76,\"=MAS\")","v":1},null,null,{"$f":"COUNTIFS(DS$8:DS$76,\"=2\",$D$8:$D$76,\"=MAS\")","v":0},null,null,{"$f":"COUNTIFS(DV$8:DV$76,\"=2\",$D$8:$D$76,\"=MAS\")","v":0},null,null,{"$f":"COUNTIFS(DY$8:DY$76,\"=2\",$D$8:$D$76,\"=MAS\")","v":0},null,null,{"$f":"COUNTIFS(EB$8:EB$76,\"=2\",$D$8:$D$76,\"=MAS\")","v":0},null,null,{"$f":"COUNTIFS(EE$8:EE$76,\"=2\",$D$8:$D$76,\"=MAS\")","v":0}]
[null,null,null,null,"MAS Age 3rd",null,null,null,null,null,null,null,1,null,{"$f":"COUNTIFS(O$8:O$76,\"=3\",$D$8:$D$76,\"=MAS\")","v":0},null,null,{"$f":"COUNTIFS(R$8:R$76,\"=3\",$D$8:$D$76,\"=MAS\")","v":0},null,null,null,{"$f":"COUNTIFS(V$8:V$76,\"=3\",$D$8:$D$76,\"=MAS\")","v":0},null,null,null,{"$f":"COUNTIFS(Z$8:Z$76,\"=3\",$D$8:$D$76,\"=MAS\")","v":0},null,null,{"$f":"COUNTIFS(AC$8:AC$76,\"=3\",$D$8:$D$76,\"=MAS\")","v":0},null,null,{"$f":"COUNTIFS(AF$8:AF$76,\"=3\",$D$8:$D$76,\"=MAS\")","v":0},null,null,{"$f":"COUNTIFS(AI$8:AI$76,\"=3\",$D$8:$D$76,\"=MAS\")","v":0},null,null,{"$f":"COUNTIFS(AL$8:AL$76,\"=3\",$D$8:$D$76,\"=MAS\")","v":0},null,null,{"$f":"COUNTIFS(AO$8:AO$76,\"=3\",$D$8:$D$76,\"=MAS\")","v":0},null,null,{"$f":"COUNTIFS(AR$8:AR$76,\"=3\",$D$8:$D$76,\"=MAS\")","v":0},null,null,{"$f":"COUNTIFS(AU$8:AU$76,\"=3\",$D$8:$D$76,\"=MAS\")","v":0},null,null,null,{"$f":"COUNTIFS(AY$8:AY$76,\"=3\",$D$8:$D$76,\"=MAS\")","v":0},null,null,{"$f":"COUNTIFS(BB$8:BB$76,\"=3\",$D$8:$D$76,\"=MAS\")","v":0},null,null,{"$f":"COUNTIFS(BE$8:BE$76,\"=3\",$D$8:$D$76,\"=MAS\")","v":0},null,null,{"$f":"COUNTIFS(BH$8:BH$76,\"=3\",$D$8:$D$76,\"=MAS\")","v":0},null,null,{"$f":"COUNTIFS(BK$8:BK$76,\"=3\",$D$8:$D$76,\"=MAS\")","v":0},null,null,{"$f":"COUNTIFS(BN$8:BN$76,\"=3\",$D$8:$D$76,\"=MAS\")","v":0},null,null,{"$f":"COUNTIFS(BQ$8:BQ$76,\"=3\",$D$8:$D$76,\"=MAS\")","v":0},null,null,{"$f":"COUNTIFS(BT$8:BT$76,\"=3\",$D$8:$D$76,\"=MAS\")","v":0},null,null,{"$f":"COUNTIFS(BW$8:BW$76,\"=3\",$D$8:$D$76,\"=MAS\")","v":0},null,null,{"$f":"COUNTIFS(BZ$8:BZ$76,\"=3\",$D$8:$D$76,\"=MAS\")","v":0},null,null,{"$f":"COUNTIFS(CC$8:CC$76,\"=3\",$D$8:$D$76,\"=MAS\")","v":0},null,null,null,{"$f":"COUNTIFS(CG$8:CG$76,\"=3\",$D$8:$D$76,\"=MAS\")","v":0},null,null,{"$f":"COUNTIFS(CJ$8:CJ$76,\"=3\",$D$8:$D$76,\"=MAS\")","v":1},null,null,{"$f":"COUNTIFS(CM$8:CM$76,\"=3\",$D$8:$D$76,\"=MAS\")","v":0},null,null,{"$f":"COUNTIFS(CP$8:CP$76,\"=3\",$D$8:$D$76,\"=MAS\")","v":0},null,null,{"$f":"COUNTIFS(CS$8:CS$76,\"=3\",$D$8:$D$76,\"=MAS\")","v":0},null,null,{"$f":"COUNTIFS(CV$8:CV$76,\"=3\",$D$8:$D$76,\"=MAS\")","v":0},null,null,{"$f":"COUNTIFS(CY$8:CY$76,\"=3\",$D$8:$D$76,\"=MAS\")","v":0},null,null,{"$f":"COUNTIFS(DB$8:DB$76,\"=3\",$D$8:$D$76,\"=MAS\")","v":0},null,{"$f":"COUNTIFS(DD$8:DD$76,\"=3\",$D$8:$D$76,\"=MAS\")","v":0},null,null,{"$f":"COUNTIFS(DG$8:DG$76,\"=3\",$D$8:$D$76,\"=MAS\")","v":0},null,null,{"$f":"COUNTIFS(DJ$8:DJ$76,\"=3\",$D$8:$D$76,\"=MAS\")","v":0},null,null,{"$f":"COUNTIFS(DM$8:DM$76,\"=3\",$D$8:$D$76,\"=MAS\")","v":0},null,null,{"$f":"COUNTIFS(DP$8:DP$76,\"=3\",$D$8:$D$76,\"=MAS\")","v":0},null,null,{"$f":"COUNTIFS(DS$8:DS$76,\"=3\",$D$8:$D$76,\"=MAS\")","v":0},null,null,{"$f":"COUNTIFS(DV$8:DV$76,\"=3\",$D$8:$D$76,\"=MAS\")","v":0},null,null,{"$f":"COUNTIFS(DY$8:DY$76,\"=3\",$D$8:$D$76,\"=MAS\")","v":0},null,null,{"$f":"COUNTIFS(EB$8:EB$76,\"=3\",$D$8:$D$76,\"=MAS\")","v":0},null,null,{"$f":"COUNTIFS(EE$8:EE$76,\"=3\",$D$8:$D$76,\"=MAS\")","v":0}]
[null,null,null,null,"Male Age Podiums",null,null,null,null,null,null,null,106,null,{"$f":"COUNTIFS(O$8:O$76,\"<=3\",$B$8:$B$76,\"=M\")","v":6},null,null,{"$f":"COUNTIFS(R$8:R$76,\"<=3\",$B$8:$B$76,\"=M\")","v":5},null,null,null,{"$f":"COUNTIFS(V$8:V$76,\"<=3\",$B$8:$B$76,\"=M\")","v":3},null,null,null,{"$f":"COUNTIFS(Z$8:Z$76,\"<=3\",$B$8:$B$76,\"=M\")","v":1},null,null,{"$f":"COUNTIFS(AC$8:AC$76,\"<=3\",$B$8:$B$76,\"=M\")","v":5},null,null,{"$f":"COUNTIFS(AF$8:AF$76,\"<=3\",$B$8:$B$76,\"=M\")","v":5},null,null,{"$f":"COUNTIFS(AI$8:AI$76,\"<=3\",$B$8:$B$76,\"=M\")","v":3},null,null,{"$f":"COUNTIFS(AL$8:AL$76,\"<=3\",$B$8:$B$76,\"=M\")","v":0},null,null,{"$f":"COUNTIFS(AO$8:AO$76,\"<=3\",$B$8:$B$76,\"=M\")","v":1},null,null,{"$f":"COUNTIFS(AR$8:AR$76,\"<=3\",$B$8:$B$76,\"=M\")","v":2},null,null,{"$f":"COUNTIFS(AU$8:AU$76,\"<=3\",$B$8:$B$76,\"=M\")","v":4},null,null,null,{"$f":"COUNTIFS(AY$8:AY$76,\"<=3\",$B$8:$B$76,\"=M\")","v":7},null,null,{"$f":"COUNTIFS(BB$8:BB$76,\"<=3\",$B$8:$B$76,\"=M\")","v":5},null,null,{"$f":"COUNTIFS(BE$8:BE$76,\"<=3\",$B$8:$B$76,\"=M\")","v":0},null,null,{"$f":"COUNTIFS(BH$8:BH$76,\"<=3\",$B$8:$B$76,\"=M\")","v":2},null,null,{"$f":"COUNTIFS(BK$8:BK$76,\"<=3\",$B$8:$B$76,\"=M\")","v":0},null,null,{"$f":"COUNTIFS(BN$8:BN$76,\"<=3\",$B$8:$B$76,\"=M\")","v":3},null,null,{"$f":"COUNTIFS(BQ$8:BQ$76,\"<=3\",$B$8:$B$76,\"=M\")","v":1},null,null,{"$f":"COUNTIFS(BT$8:BT$76,\"<=3\",$B$8:$B$76,\"=M\")","v":1},null,null,{"$f":"COUNTIFS(BW$8:BW$76,\"<=3\",$B$8:$B$76,\"=M\")","v":7},null,null,{"$f":"COUNTIFS(BZ$8:BZ$76,\"<=3\",$B$8:$B$76,\"=M\")","v":5},null,null,{"$f":"COUNTIFS(CC$8:CC$76,\"<=3\",$B$8:$B$76,\"=M\")","v":1},null,null,null,{"$f":"COUNTIFS(CG$8:CG$76,\"<=3\",$B$8:$B$76,\"=M\")","v":2},null,null,{"$f":"COUNTIFS(CJ$8:CJ$76,\"<=3\",$B$8:$B$76,\"=M\")","v":4},null,null,{"$f":"COUNTIFS(CM$8:CM$76,\"<=3\",$B$8:$B$76,\"=M\")","v":2},null,null,{"$f":"COUNTIFS(CP$8:CP$76,\"<=3\",$B$8:$B$76,\"=M\")","v":5},null,null,{"$f":"COUNTIFS(CS$8:CS$76,\"<=3\",$B$8:$B$76,\"=M\")","v":0},null,null,{"$f":"COUNTIFS(CV$8:CV$76,\"<=3\",$B$8:$B$76,\"=M\")","v":0},null,null,{"$f":"COUNTIFS(CY$8:CY$76,\"<=3\",$B$8:$B$76,\"=M\")","v":3},null,null,{"$f":"COUNTIFS(DB$8:DB$76,\"<=3\",$B$8:$B$76,\"=M\")","v":1},null,{"$f":"COUNTIFS(DD$8:DD$76,\"<=3\",$B$8:$B$76,\"=M\")","v":3},null,null,{"$f":"COUNTIFS(DG$8:DG$76,\"<=3\",$B$8:$B$76,\"=M\")","v":3},null,null,{"$f":"COUNTIFS(DJ$8:DJ$76,\"<=3\",$B$8:$B$76,\"=M\")","v":5},null,null,{"$f":"COUNTIFS(DM$8:DM$76,\"<=3\",$B$8:$B$76,\"=M\")","v":1},null,null,{"$f":"COUNTIFS(DP$8:DP$76,\"<=3\",$B$8:$B$76,\"=M\")","v":3},null,null,{"$f":"COUNTIFS(DS$8:DS$76,\"<=3\",$B$8:$B$76,\"=M\")","v":2},null,null,{"$f":"COUNTIFS(DV$8:DV$76,\"<=3\",$B$8:$B$76,\"=M\")","v":2},null,null,{"$f":"COUNTIFS(DY$8:DY$76,\"<=3\",$B$8:$B$76,\"=M\")","v":1},null,null,{"$f":"COUNTIFS(EB$8:EB$76,\"<=3\",$B$8:$B$76,\"=M\")","v":2},null,null,{"$f":"COUNTIFS(EE$8:EE$76,\"<=3\",$B$8:$B$76,\"=M\")","v":0}]
[null,null,null,null,"Female Age Podiums",null,null,null,null,null,null,null,57,null,{"$f":"COUNTIFS(O$8:O$76,\"<=3\",$B$8:$B$76,\"=F\")","v":5},null,null,{"$f":"COUNTIFS(R$8:R$76,\"<=3\",$B$8:$B$76,\"=F\")","v":2},null,null,null,{"$f":"COUNTIFS(V$8:V$76,\"<=3\",$B$8:$B$76,\"=F\")","v":1},null,null,null,{"$f":"COUNTIFS(Z$8:Z$76,\"<=3\",$B$8:$B$76,\"=F\")","v":0},null,null,{"$f":"COUNTIFS(AC$8:AC$76,\"<=3\",$B$8:$B$76,\"=F\")","v":1},null,null,{"$f":"COUNTIFS(AF$8:AF$76,\"<=3\",$B$8:$B$76,\"=F\")","v":3},null,null,{"$f":"COUNTIFS(AI$8:AI$76,\"<=3\",$B$8:$B$76,\"=F\")","v":2},null,null,{"$f":"COUNTIFS(AL$8:AL$76,\"<=3\",$B$8:$B$76,\"=F\")","v":0},null,null,{"$f":"COUNTIFS(AO$8:AO$76,\"<=3\",$B$8:$B$76,\"=F\")","v":1},null,null,{"$f":"COUNTIFS(AR$8:AR$76,\"<=3\",$B$8:$B$76,\"=F\")","v":2},null,null,{"$f":"COUNTIFS(AU$8:AU$76,\"<=3\",$B$8:$B$76,\"=F\")","v":1},null,null,null,{"$f":"COUNTIFS(AY$8:AY$76,\"<=3\",$B$8:$B$76,\"=F\")","v":5},null,null,{"$f":"COUNTIFS(BB$8:BB$76,\"<=3\",$B$8:$B$76,\"=F\")","v":5},null,null,{"$f":"COUNTIFS(BE$8:BE$76,\"<=3\",$B$8:$B$76,\"=F\")","v":0},null,null,{"$f":"COUNTIFS(BH$8:BH$76,\"<=3\",$B$8:$B$76,\"=F\")","v":5},null,null,{"$f":"COUNTIFS(BK$8:BK$76,\"<=3\",$B$8:$B$76,\"=F\")","v":0},null,null,{"$f":"COUNTIFS(BN$8:BN$76,\"<=3\",$B$8:$B$76,\"=F\")","v":5},null,null,{"$f":"COUNTIFS(BQ$8:BQ$76,\"<=3\",$B$8:$B$76,\"=F\")","v":0},null,null,{"$f":"COUNTIFS(BT$8:BT$76,\"<=3\",$B$8:$B$76,\"=F\")","v":0},null,null,{"$f":"COUNTIFS(BW$8:BW$76,\"<=3\",$B$8:$B$76,\"=F\")","v":3},null,null,{"$f":"COUNTIFS(BZ$8:BZ$76,\"<=3\",$B$8:$B$76,\"=F\")","v":4},null,null,{"$f":"COUNTIFS(CC$8:CC$76,\"<=3\",$B$8:$B$76,\"=F\")","v":1},null,null,null,{"$f":"COUNTIFS(CG$8:CG$76,\"<=3\",$B$8:$B$76,\"=F\")","v":0},null,null,{"$f":"COUNTIFS(CJ$8:CJ$76,\"<=3\",$B$8:$B$76,\"=F\")","v":0},null,null,{"$f":"COUNTIFS(CM$8:CM$76,\"<=3\",$B$8:$B$76,\"=F\")","v":1},null,null,{"$f":"COUNTIFS(CP$8:CP$76,\"<=3\",$B$8:$B$76,\"=F\")","v":1},null,null,{"$f":"COUNTIFS(CS$8:CS$76,\"<=3\",$B$8:$B$76,\"=F\")","v":0},null,null,{"$f":"COUNTIFS(CV$8:CV$76,\"<=3\",$B$8:$B$76,\"=F\")","v":1},null,null,{"$f":"COUNTIFS(CY$8:CY$76,\"<=3\",$B$8:$B$76,\"=F\")","v":0},null,null,{"$f":"COUNTIFS(DB$8:DB$76,\"<=3\",$B$8:$B$76,\"=F\")","v":0},null,{"$f":"COUNTIFS(DD$8:DD$76,\"<=3\",$B$8:$B$76,\"=F\")","v":0},null,null,{"$f":"COUNTIFS(DG$8:DG$76,\"<=3\",$B$8:$B$76,\"=F\")","v":1},null,null,{"$f":"COUNTIFS(DJ$8:DJ$76,\"<=3\",$B$8:$B$76,\"=F\")","v":2},null,null,{"$f":"COUNTIFS(DM$8:DM$76,\"<=3\",$B$8:$B$76,\"=F\")","v":0},null,null,{"$f":"COUNTIFS(DP$8:DP$76,\"<=3\",$B$8:$B$76,\"=F\")","v":2},null,null,{"$f":"COUNTIFS(DS$8:DS$76,\"<=3\",$B$8:$B$76,\"=F\")","v":1},null,null,{"$f":"COUNTIFS(DV$8:DV$76,\"<=3\",$B$8:$B$76,\"=F\")","v":0},null,null,{"$f":"COUNTIFS(DY$8:DY$76,\"<=3\",$B$8:$B$76,\"=F\")","v":1},null,null,{"$f":"COUNTIFS(EB$8:EB$76,\"<=3\",$B$8:$B$76,\"=F\")","v":1},null,null,{"$f":"COUNTIFS(EE$8:EE$76,\"<=3\",$B$8:$B$76,\"=F\")","v":0}]
[null,null,null,null,"CH Overall 1st",null,null,null,null,null,null,null,{"$f":"SUM(N111:EE111)","v":0},{"$f":"COUNTIFS(N$8:N$76,\"=1\",$D$8:$D$76,\"=U14\")+COUNTIFS(N$8:N$76,\"=1\",$D$8:$D$76,\"=U16\")","v":0},null,null,{"$f":"COUNTIFS(Q$8:Q$76,\"=1\",$D$8:$D$76,\"=U14\")+COUNTIFS(Q$8:Q$76,\"=1\",$D$8:$D$76,\"=U16\")","v":0},null,null,null,{"$f":"COUNTIFS(U$8:U$76,\"=1\",$D$8:$D$76,\"=U14\")+COUNTIFS(U$8:U$76,\"=1\",$D$8:$D$76,\"=U16\")","v":0},null,null,null,{"$f":"COUNTIFS(Y$8:Y$76,\"=1\",$D$8:$D$76,\"=U14\")+COUNTIFS(Y$8:Y$76,\"=1\",$D$8:$D$76,\"=U16\")","v":0},null,null,{"$f":"COUNTIFS(AB$8:AB$76,\"=1\",$D$8:$D$76,\"=U14\")+COUNTIFS(AB$8:AB$76,\"=1\",$D$8:$D$76,\"=U16\")","v":0},null,null,{"$f":"COUNTIFS(AE$8:AE$76,\"=1\",$D$8:$D$76,\"=U14\")+COUNTIFS(AE$8:AE$76,\"=1\",$D$8:$D$76,\"=U16\")","v":0},null,null,{"$f":"COUNTIFS(AH$8:AH$76,\"=1\",$D$8:$D$76,\"=U14\")+COUNTIFS(AH$8:AH$76,\"=1\",$D$8:$D$76,\"=U16\")","v":0},null,null,{"$f":"COUNTIFS(AK$8:AK$76,\"=1\",$D$8:$D$76,\"=U14\")+COUNTIFS(AK$8:AK$76,\"=1\",$D$8:$D$76,\"=U16\")","v":0},null,null,{"$f":"COUNTIFS(AN$8:AN$76,\"=1\",$D$8:$D$76,\"=U14\")+COUNTIFS(AN$8:AN$76,\"=1\",$D$8:$D$76,\"=U16\")","v":0},null,null,{"$f":"COUNTIFS(AQ$8:AQ$76,\"=1\",$D$8:$D$76,\"=U14\")+COUNTIFS(AQ$8:AQ$76,\"=1\",$D$8:$D$76,\"=U16\")","v":0},null,null,{"$f":"COUNTIFS(AT$8:AT$76,\"=1\",$D$8:$D$76,\"=U14\")+COUNTIFS(AT$8:AT$76,\"=1\",$D$8:$D$76,\"=U16\")","v":0},null,null,null,{"$f":"COUNTIFS(AX$8:AX$76,\"=1\",$D$8:$D$76,\"=U14\")+COUNTIFS(AX$8:AX$76,\"=1\",$D$8:$D$76,\"=U16\")","v":0},null,null,{"$f":"COUNTIFS(BA$8:BA$76,\"=1\",$D$8:$D$76,\"=U14\")+COUNTIFS(BA$8:BA$76,\"=1\",$D$8:$D$76,\"=U16\")","v":0},null,null,{"$f":"COUNTIFS(BD$8:BD$76,\"=1\",$D$8:$D$76,\"=U14\")+COUNTIFS(BD$8:BD$76,\"=1\",$D$8:$D$76,\"=U16\")","v":0},null,null,{"$f":"COUNTIFS(BG$8:BG$76,\"=1\",$D$8:$D$76,\"=U14\")+COUNTIFS(BG$8:BG$76,\"=1\",$D$8:$D$76,\"=U16\")","v":0},null,null,{"$f":"COUNTIFS(BJ$8:BJ$76,\"=1\",$D$8:$D$76,\"=U14\")+COUNTIFS(BJ$8:BJ$76,\"=1\",$D$8:$D$76,\"=U16\")","v":0},null,null,{"$f":"COUNTIFS(BM$8:BM$76,\"=1\",$D$8:$D$76,\"=U14\")+COUNTIFS(BM$8:BM$76,\"=1\",$D$8:$D$76,\"=U16\")","v":0},null,null,{"$f":"COUNTIFS(BP$8:BP$76,\"=1\",$D$8:$D$76,\"=U14\")+COUNTIFS(BP$8:BP$76,\"=1\",$D$8:$D$76,\"=U16\")","v":0},null,null,{"$f":"COUNTIFS(BS$8:BS$76,\"=1\",$D$8:$D$76,\"=U14\")+COUNTIFS(BS$8:BS$76,\"=1\",$D$8:$D$76,\"=U16\")","v":0},null,null,{"$f":"COUNTIFS(BV$8:BV$76,\"=1\",$D$8:$D$76,\"=U14\")+COUNTIFS(BV$8:BV$76,\"=1\",$D$8:$D$76,\"=U16\")","v":0},null,null,{"$f":"COUNTIFS(BY$8:BY$76,\"=1\",$D$8:$D$76,\"=U14\")+COUNTIFS(BY$8:BY$76,\"=1\",$D$8:$D$76,\"=U16\")","v":0},null,null,{"$f":"COUNTIFS(CB$8:CB$76,\"=1\",$D$8:$D$76,\"=U14\")+COUNTIFS(CB$8:CB$76,\"=1\",$D$8:$D$76,\"=U16\")","v":0},null,null,null,{"$f":"COUNTIFS(CF$8:CF$76,\"=1\",$D$8:$D$76,\"=U14\")+COUNTIFS(CF$8:CF$76,\"=1\",$D$8:$D$76,\"=U16\")","v":0},null,null,{"$f":"COUNTIFS(CI$8:CI$76,\"=1\",$D$8:$D$76,\"=U14\")+COUNTIFS(CI$8:CI$76,\"=1\",$D$8:$D$76,\"=U16\")","v":0},null,null,{"$f":"COUNTIFS(CL$8:CL$76,\"=1\",$D$8:$D$76,\"=U14\")+COUNTIFS(CL$8:CL$76,\"=1\",$D$8:$D$76,\"=U16\")","v":0},null,null,{"$f":"COUNTIFS(CO$8:CO$76,\"=1\",$D$8:$D$76,\"=U14\")+COUNTIFS(CO$8:CO$76,\"=1\",$D$8:$D$76,\"=U16\")","v":0},null,null,{"$f":"COUNTIFS(CR$8:CR$76,\"=1\",$D$8:$D$76,\"=U14\")+COUNTIFS(CR$8:CR$76,\"=1\",$D$8:$D$76,\"=U16\")","v":0},null,null,{"$f":"COUNTIFS(CU$8:CU$76,\"=1\",$D$8:$D$76,\"=U14\")+COUNTIFS(CU$8:CU$76,\"=1\",$D$8:$D$76,\"=U16\")","v":0},null,null,{"$f":"COUNTIFS(CX$8:CX$76,\"=1\",$D$8:$D$76,\"=U14\")+COUNTIFS(CX$8:CX$76,\"=1\",$D$8:$D$76,\"=U16\")","v":0},null,null,{"$f":"COUNTIFS(DA$8:DA$76,\"=1\",$D$8:$D$76,\"=U14\")+COUNTIFS(DA$8:DA$76,\"=1\",$D$8:$D$76,\"=U16\")","v":0},null,{"$f":"COUNTIFS(DC$8:DC$76,\"=1\",$D$8:$D$76,\"=U14\")+COUNTIFS(DC$8:DC$76,\"=1\",$D$8:$D$76,\"=U16\")","v":0},null,null,{"$f":"COUNTIFS(DF$8:DF$76,\"=1\",$D$8:$D$76,\"=U14\")+COUNTIFS(DF$8:DF$76,\"=1\",$D$8:$D$76,\"=U16\")","v":0},null,null,{"$f":"COUNTIFS(DI$8:DI$76,\"=1\",$D$8:$D$76,\"=U14\")+COUNTIFS(DI$8:DI$76,\"=1\",$D$8:$D$76,\"=U16\")","v":0},null,null,{"$f":"COUNTIFS(DL$8:DL$76,\"=1\",$D$8:$D$76,\"=U14\")+COUNTIFS(DL$8:DL$76,\"=1\",$D$8:$D$76,\"=U16\")","v":0},null,null,{"$f":"COUNTIFS(DO$8:DO$76,\"=1\",$D$8:$D$76,\"=U14\")+COUNTIFS(DO$8:DO$76,\"=1\",$D$8:$D$76,\"=U16\")","v":0},null,null,{"$f":"COUNTIFS(DR$8:DR$76,\"=1\",$D$8:$D$76,\"=U14\")+COUNTIFS(DR$8:DR$76,\"=1\",$D$8:$D$76,\"=U16\")","v":0},null,null,{"$f":"COUNTIFS(DU$8:DU$76,\"=1\",$D$8:$D$76,\"=U14\")+COUNTIFS(DU$8:DU$76,\"=1\",$D$8:$D$76,\"=U16\")","v":0},null,null,{"$f":"COUNTIFS(DX$8:DX$76,\"=1\",$D$8:$D$76,\"=U14\")+COUNTIFS(DX$8:DX$76,\"=1\",$D$8:$D$76,\"=U16\")","v":0},null,null,{"$f":"COUNTIFS(EA$8:EA$76,\"=1\",$D$8:$D$76,\"=U14\")+COUNTIFS(EA$8:EA$76,\"=1\",$D$8:$D$76,\"=U16\")","v":0},null,null,{"$f":"COUNTIFS(ED$8:ED$76,\"=1\",$D$8:$D$76,\"=U14\")+COUNTIFS(ED$8:ED$76,\"=1\",$D$8:$D$76,\"=U16\")","v":0}]
[null,null,null,null,"CH Overall 2nd",null,null,null,null,null,null,null,0,{"$f":"COUNTIFS(N$8:N$76,\"=2\",$D$8:$D$76,\"=U14\")+COUNTIFS(N$8:N$76,\"=2\",$D$8:$D$76,\"=U16\")","v":0},null,null,{"$f":"COUNTIFS(Q$8:Q$76,\"=2\",$D$8:$D$76,\"=U14\")+COUNTIFS(Q$8:Q$76,\"=2\",$D$8:$D$76,\"=U16\")","v":0},null,null,null,{"$f":"COUNTIFS(U$8:U$76,\"=2\",$D$8:$D$76,\"=U14\")+COUNTIFS(U$8:U$76,\"=2\",$D$8:$D$76,\"=U16\")","v":0},null,null,null,{"$f":"COUNTIFS(Y$8:Y$76,\"=2\",$D$8:$D$76,\"=U14\")+COUNTIFS(Y$8:Y$76,\"=2\",$D$8:$D$76,\"=U16\")","v":0},null,null,{"$f":"COUNTIFS(AB$8:AB$76,\"=2\",$D$8:$D$76,\"=U14\")+COUNTIFS(AB$8:AB$76,\"=2\",$D$8:$D$76,\"=U16\")","v":0},null,null,{"$f":"COUNTIFS(AE$8:AE$76,\"=2\",$D$8:$D$76,\"=U14\")+COUNTIFS(AE$8:AE$76,\"=2\",$D$8:$D$76,\"=U16\")","v":0},null,null,{"$f":"COUNTIFS(AH$8:AH$76,\"=2\",$D$8:$D$76,\"=U14\")+COUNTIFS(AH$8:AH$76,\"=2\",$D$8:$D$76,\"=U16\")","v":0},null,null,{"$f":"COUNTIFS(AK$8:AK$76,\"=2\",$D$8:$D$76,\"=U14\")+COUNTIFS(AK$8:AK$76,\"=2\",$D$8:$D$76,\"=U16\")","v":0},null,null,{"$f":"COUNTIFS(AN$8:AN$76,\"=2\",$D$8:$D$76,\"=U14\")+COUNTIFS(AN$8:AN$76,\"=2\",$D$8:$D$76,\"=U16\")","v":0},null,null,{"$f":"COUNTIFS(AQ$8:AQ$76,\"=2\",$D$8:$D$76,\"=U14\")+COUNTIFS(AQ$8:AQ$76,\"=2\",$D$8:$D$76,\"=U16\")","v":0},null,null,{"$f":"COUNTIFS(AT$8:AT$76,\"=2\",$D$8:$D$76,\"=U14\")+COUNTIFS(AT$8:AT$76,\"=2\",$D$8:$D$76,\"=U16\")","v":0},null,null,null,{"$f":"COUNTIFS(AX$8:AX$76,\"=2\",$D$8:$D$76,\"=U14\")+COUNTIFS(AX$8:AX$76,\"=2\",$D$8:$D$76,\"=U16\")","v":0},null,null,{"$f":"COUNTIFS(BA$8:BA$76,\"=2\",$D$8:$D$76,\"=U14\")+COUNTIFS(BA$8:BA$76,\"=2\",$D$8:$D$76,\"=U16\")","v":0},null,null,{"$f":"COUNTIFS(BD$8:BD$76,\"=2\",$D$8:$D$76,\"=U14\")+COUNTIFS(BD$8:BD$76,\"=2\",$D$8:$D$76,\"=U16\")","v":0},null,null,{"$f":"COUNTIFS(BG$8:BG$76,\"=2\",$D$8:$D$76,\"=U14\")+COUNTIFS(BG$8:BG$76,\"=2\",$D$8:$D$76,\"=U16\")","v":0},null,null,{"$f":"COUNTIFS(BJ$8:BJ$76,\"=2\",$D$8:$D$76,\"=U14\")+COUNTIFS(BJ$8:BJ$76,\"=2\",$D$8:$D$76,\"=U16\")","v":0},null,null,{"$f":"COUNTIFS(BM$8:BM$76,\"=2\",$D$8:$D$76,\"=U14\")+COUNTIFS(BM$8:BM$76,\"=2\",$D$8:$D$76,\"=U16\")","v":0},null,null,{"$f":"COUNTIFS(BP$8:BP$76,\"=2\",$D$8:$D$76,\"=U14\")+COUNTIFS(BP$8:BP$76,\"=2\",$D$8:$D$76,\"=U16\")","v":0},null,null,{"$f":"COUNTIFS(BS$8:BS$76,\"=2\",$D$8:$D$76,\"=U14\")+COUNTIFS(BS$8:BS$76,\"=2\",$D$8:$D$76,\"=U16\")","v":0},null,null,{"$f":"COUNTIFS(BV$8:BV$76,\"=2\",$D$8:$D$76,\"=U14\")+COUNTIFS(BV$8:BV$76,\"=2\",$D$8:$D$76,\"=U16\")","v":0},null,null,{"$f":"COUNTIFS(BY$8:BY$76,\"=2\",$D$8:$D$76,\"=U14\")+COUNTIFS(BY$8:BY$76,\"=2\",$D$8:$D$76,\"=U16\")","v":0},null,null,{"$f":"COUNTIFS(CB$8:CB$76,\"=2\",$D$8:$D$76,\"=U14\")+COUNTIFS(CB$8:CB$76,\"=2\",$D$8:$D$76,\"=U16\")","v":0},null,null,null,{"$f":"COUNTIFS(CF$8:CF$76,\"=2\",$D$8:$D$76,\"=U14\")+COUNTIFS(CF$8:CF$76,\"=2\",$D$8:$D$76,\"=U16\")","v":0},null,null,{"$f":"COUNTIFS(CI$8:CI$76,\"=2\",$D$8:$D$76,\"=U14\")+COUNTIFS(CI$8:CI$76,\"=2\",$D$8:$D$76,\"=U16\")","v":0},null,null,{"$f":"COUNTIFS(CL$8:CL$76,\"=2\",$D$8:$D$76,\"=U14\")+COUNTIFS(CL$8:CL$76,\"=2\",$D$8:$D$76,\"=U16\")","v":0},null,null,{"$f":"COUNTIFS(CO$8:CO$76,\"=2\",$D$8:$D$76,\"=U14\")+COUNTIFS(CO$8:CO$76,\"=2\",$D$8:$D$76,\"=U16\")","v":0},null,null,{"$f":"COUNTIFS(CR$8:CR$76,\"=2\",$D$8:$D$76,\"=U14\")+COUNTIFS(CR$8:CR$76,\"=2\",$D$8:$D$76,\"=U16\")","v":0},null,null,{"$f":"COUNTIFS(CU$8:CU$76,\"=2\",$D$8:$D$76,\"=U14\")+COUNTIFS(CU$8:CU$76,\"=2\",$D$8:$D$76,\"=U16\")","v":0},null,null,{"$f":"COUNTIFS(CX$8:CX$76,\"=2\",$D$8:$D$76,\"=U14\")+COUNTIFS(CX$8:CX$76,\"=2\",$D$8:$D$76,\"=U16\")","v":0},null,null,{"$f":"COUNTIFS(DA$8:DA$76,\"=2\",$D$8:$D$76,\"=U14\")+COUNTIFS(DA$8:DA$76,\"=2\",$D$8:$D$76,\"=U16\")","v":0},null,{"$f":"COUNTIFS(DC$8:DC$76,\"=2\",$D$8:$D$76,\"=U14\")+COUNTIFS(DC$8:DC$76,\"=2\",$D$8:$D$76,\"=U16\")","v":0},null,null,{"$f":"COUNTIFS(DF$8:DF$76,\"=2\",$D$8:$D$76,\"=U14\")+COUNTIFS(DF$8:DF$76,\"=2\",$D$8:$D$76,\"=U16\")","v":0},null,null,{"$f":"COUNTIFS(DI$8:DI$76,\"=2\",$D$8:$D$76,\"=U14\")+COUNTIFS(DI$8:DI$76,\"=2\",$D$8:$D$76,\"=U16\")","v":0},null,null,{"$f":"COUNTIFS(DL$8:DL$76,\"=2\",$D$8:$D$76,\"=U14\")+COUNTIFS(DL$8:DL$76,\"=2\",$D$8:$D$76,\"=U16\")","v":0},null,null,{"$f":"COUNTIFS(DO$8:DO$76,\"=2\",$D$8:$D$76,\"=U14\")+COUNTIFS(DO$8:DO$76,\"=2\",$D$8:$D$76,\"=U16\")","v":0},null,null,{"$f":"COUNTIFS(DR$8:DR$76,\"=2\",$D$8:$D$76,\"=U14\")+COUNTIFS(DR$8:DR$76,\"=2\",$D$8:$D$76,\"=U16\")","v":0},null,null,{"$f":"COUNTIFS(DU$8:DU$76,\"=2\",$D$8:$D$76,\"=U14\")+COUNTIFS(DU$8:DU$76,\"=2\",$D$8:$D$76,\"=U16\")","v":0},null,null,{"$f":"COUNTIFS(DX$8:DX$76,\"=2\",$D$8:$D$76,\"=U14\")+COUNTIFS(DX$8:DX$76,\"=2\",$D$8:$D$76,\"=U16\")","v":0},null,null,{"$f":"COUNTIFS(EA$8:EA$76,\"=2\",$D$8:$D$76,\"=U14\")+COUNTIFS(EA$8:EA$76,\"=2\",$D$8:$D$76,\"=U16\")","v":0},null,null,{"$f":"COUNTIFS(ED$8:ED$76,\"=2\",$D$8:$D$76,\"=U14\")+COUNTIFS(ED$8:ED$76,\"=2\",$D$8:$D$76,\"=U16\")","v":0}]
[null,null,null,null,"CH Overall 3rd",null,null,null,null,null,null,null,0,{"$f":"COUNTIFS(N$8:N$76,\"=3\",$D$8:$D$76,\"=U14\")+COUNTIFS(N$8:N$76,\"=3\",$D$8:$D$76,\"=U16\")","v":0},null,null,{"$f":"COUNTIFS(Q$8:Q$76,\"=3\",$D$8:$D$76,\"=U14\")+COUNTIFS(Q$8:Q$76,\"=3\",$D$8:$D$76,\"=U16\")","v":0},null,null,null,{"$f":"COUNTIFS(U$8:U$76,\"=3\",$D$8:$D$76,\"=U14\")+COUNTIFS(U$8:U$76,\"=3\",$D$8:$D$76,\"=U16\")","v":0},null,null,null,{"$f":"COUNTIFS(Y$8:Y$76,\"=3\",$D$8:$D$76,\"=U14\")+COUNTIFS(Y$8:Y$76,\"=3\",$D$8:$D$76,\"=U16\")","v":0},null,null,{"$f":"COUNTIFS(AB$8:AB$76,\"=3\",$D$8:$D$76,\"=U14\")+COUNTIFS(AB$8:AB$76,\"=3\",$D$8:$D$76,\"=U16\")","v":0},null,null,{"$f":"COUNTIFS(AE$8:AE$76,\"=3\",$D$8:$D$76,\"=U14\")+COUNTIFS(AE$8:AE$76,\"=3\",$D$8:$D$76,\"=U16\")","v":0},null,null,{"$f":"COUNTIFS(AH$8:AH$76,\"=3\",$D$8:$D$76,\"=U14\")+COUNTIFS(AH$8:AH$76,\"=3\",$D$8:$D$76,\"=U16\")","v":0},null,null,{"$f":"COUNTIFS(AK$8:AK$76,\"=3\",$D$8:$D$76,\"=U14\")+COUNTIFS(AK$8:AK$76,\"=3\",$D$8:$D$76,\"=U16\")","v":0},null,null,{"$f":"COUNTIFS(AN$8:AN$76,\"=3\",$D$8:$D$76,\"=U14\")+COUNTIFS(AN$8:AN$76,\"=3\",$D$8:$D$76,\"=U16\")","v":0},null,null,{"$f":"COUNTIFS(AQ$8:AQ$76,\"=3\",$D$8:$D$76,\"=U14\")+COUNTIFS(AQ$8:AQ$76,\"=3\",$D$8:$D$76,\"=U16\")","v":0},null,null,{"$f":"COUNTIFS(AT$8:AT$76,\"=3\",$D$8:$D$76,\"=U14\")+COUNTIFS(AT$8:AT$76,\"=3\",$D$8:$D$76,\"=U16\")","v":0},null,null,null,{"$f":"COUNTIFS(AX$8:AX$76,\"=3\",$D$8:$D$76,\"=U14\")+COUNTIFS(AX$8:AX$76,\"=3\",$D$8:$D$76,\"=U16\")","v":0},null,null,{"$f":"COUNTIFS(BA$8:BA$76,\"=3\",$D$8:$D$76,\"=U14\")+COUNTIFS(BA$8:BA$76,\"=3\",$D$8:$D$76,\"=U16\")","v":0},null,null,{"$f":"COUNTIFS(BD$8:BD$76,\"=3\",$D$8:$D$76,\"=U14\")+COUNTIFS(BD$8:BD$76,\"=3\",$D$8:$D$76,\"=U16\")","v":0},null,null,{"$f":"COUNTIFS(BG$8:BG$76,\"=3\",$D$8:$D$76,\"=U14\")+COUNTIFS(BG$8:BG$76,\"=3\",$D$8:$D$76,\"=U16\")","v":0},null,null,{"$f":"COUNTIFS(BJ$8:BJ$76,\"=3\",$D$8:$D$76,\"=U14\")+COUNTIFS(BJ$8:BJ$76,\"=3\",$D$8:$D$76,\"=U16\")","v":0},null,null,{"$f":"COUNTIFS(BM$8:BM$76,\"=3\",$D$8:$D$76,\"=U14\")+COUNTIFS(BM$8:BM$76,\"=3\",$D$8:$D$76,\"=U16\")","v":0},null,null,{"$f":"COUNTIFS(BP$8:BP$76,\"=3\",$D$8:$D$76,\"=U14\")+COUNTIFS(BP$8:BP$76,\"=3\",$D$8:$D$76,\"=U16\")","v":0},null,null,{"$f":"COUNTIFS(BS$8:BS$76,\"=3\",$D$8:$D$76,\"=U14\")+COUNTIFS(BS$8:BS$76,\"=3\",$D$8:$D$76,\"=U16\")","v":0},null,null,{"$f":"COUNTIFS(BV$8:BV$76,\"=3\",$D$8:$D$76,\"=U14\")+COUNTIFS(BV$8:BV$76,\"=3\",$D$8:$D$76,\"=U16\")","v":0},null,null,{"$f":"COUNTIFS(BY$8:BY$76,\"=3\",$D$8:$D$76,\"=U14\")+COUNTIFS(BY$8:BY$76,\"=3\",$D$8:$D$76,\"=U16\")","v":0},null,null,{"$f":"COUNTIFS(CB$8:CB$76,\"=3\",$D$8:$D$76,\"=U14\")+COUNTIFS(CB$8:CB$76,\"=3\",$D$8:$D$76,\"=U16\")","v":0},null,null,null,{"$f":"COUNTIFS(CF$8:CF$76,\"=3\",$D$8:$D$76,\"=U14\")+COUNTIFS(CF$8:CF$76,\"=3\",$D$8:$D$76,\"=U16\")","v":0},null,null,{"$f":"COUNTIFS(CI$8:CI$76,\"=3\",$D$8:$D$76,\"=U14\")+COUNTIFS(CI$8:CI$76,\"=3\",$D$8:$D$76,\"=U16\")","v":0},null,null,{"$f":"COUNTIFS(CL$8:CL$76,\"=3\",$D$8:$D$76,\"=U14\")+COUNTIFS(CL$8:CL$76,\"=3\",$D$8:$D$76,\"=U16\")","v":0},null,null,{"$f":"COUNTIFS(CO$8:CO$76,\"=3\",$D$8:$D$76,\"=U14\")+COUNTIFS(CO$8:CO$76,\"=3\",$D$8:$D$76,\"=U16\")","v":0},null,null,{"$f":"COUNTIFS(CR$8:CR$76,\"=3\",$D$8:$D$76,\"=U14\")+COUNTIFS(CR$8:CR$76,\"=3\",$D$8:$D$76,\"=U16\")","v":0},null,null,{"$f":"COUNTIFS(CU$8:CU$76,\"=3\",$D$8:$D$76,\"=U14\")+COUNTIFS(CU$8:CU$76,\"=3\",$D$8:$D$76,\"=U16\")","v":0},null,null,{"$f":"COUNTIFS(CX$8:CX$76,\"=3\",$D$8:$D$76,\"=U14\")+COUNTIFS(CX$8:CX$76,\"=3\",$D$8:$D$76,\"=U16\")","v":0},null,null,{"$f":"COUNTIFS(DA$8:DA$76,\"=3\",$D$8:$D$76,\"=U14\")+COUNTIFS(DA$8:DA$76,\"=3\",$D$8:$D$76,\"=U16\")","v":0},null,{"$f":"COUNTIFS(DC$8:DC$76,\"=3\",$D$8:$D$76,\"=U14\")+COUNTIFS(DC$8:DC$76,\"=3\",$D$8:$D$76,\"=U16\")","v":0},null,null,{"$f":"COUNTIFS(DF$8:DF$76,\"=3\",$D$8:$D$76,\"=U14\")+COUNTIFS(DF$8:DF$76,\"=3\",$D$8:$D$76,\"=U16\")","v":0},null,null,{"$f":"COUNTIFS(DI$8:DI$76,\"=3\",$D$8:$D$76,\"=U14\")+COUNTIFS(DI$8:DI$76,\"=3\",$D$8:$D$76,\"=U16\")","v":0},null,null,{"$f":"COUNTIFS(DL$8:DL$76,\"=3\",$D$8:$D$76,\"=U14\")+COUNTIFS(DL$8:DL$76,\"=3\",$D$8:$D$76,\"=U16\")","v":0},null,null,{"$f":"COUNTIFS(DO$8:DO$76,\"=3\",$D$8:$D$76,\"=U14\")+COUNTIFS(DO$8:DO$76,\"=3\",$D$8:$D$76,\"=U16\")","v":0},null,null,{"$f":"COUNTIFS(DR$8:DR$76,\"=3\",$D$8:$D$76,\"=U14\")+COUNTIFS(DR$8:DR$76,\"=3\",$D$8:$D$76,\"=U16\")","v":0},null,null,{"$f":"COUNTIFS(DU$8:DU$76,\"=3\",$D$8:$D$76,\"=U14\")+COUNTIFS(DU$8:DU$76,\"=3\",$D$8:$D$76,\"=U16\")","v":0},null,null,{"$f":"COUNTIFS(DX$8:DX$76,\"=3\",$D$8:$D$76,\"=U14\")+COUNTIFS(DX$8:DX$76,\"=3\",$D$8:$D$76,\"=U16\")","v":0},null,null,{"$f":"COUNTIFS(EA$8:EA$76,\"=3\",$D$8:$D$76,\"=U14\")+COUNTIFS(EA$8:EA$76,\"=3\",$D$8:$D$76,\"=U16\")","v":0},null,null,{"$f":"COUNTIFS(ED$8:ED$76,\"=3\",$D$8:$D$76,\"=U14\")+COUNTIFS(ED$8:ED$76,\"=3\",$D$8:$D$76,\"=U16\")","v":0}]
[null,null,null,null,"JN Overall 1st",null,null,null,null,null,null,null,0,{"$f":"COUNTIFS(N$8:N$76,\"=1\",$D$8:$D$76,\"=U18\")+COUNTIFS(N$8:N$76,\"=1\",$D$8:$D$76,\"=U21\")","v":0},null,null,{"$f":"COUNTIFS(Q$8:Q$76,\"=1\",$D$8:$D$76,\"=U18\")+COUNTIFS(Q$8:Q$76,\"=1\",$D$8:$D$76,\"=U21\")","v":0},null,null,null,{"$f":"COUNTIFS(U$8:U$76,\"=1\",$D$8:$D$76,\"=U18\")+COUNTIFS(U$8:U$76,\"=1\",$D$8:$D$76,\"=U21\")","v":0},null,null,null,{"$f":"COUNTIFS(Y$8:Y$76,\"=1\",$D$8:$D$76,\"=U18\")+COUNTIFS(Y$8:Y$76,\"=1\",$D$8:$D$76,\"=U21\")","v":0},null,null,{"$f":"COUNTIFS(AB$8:AB$76,\"=1\",$D$8:$D$76,\"=U18\")+COUNTIFS(AB$8:AB$76,\"=1\",$D$8:$D$76,\"=U21\")","v":0},null,null,{"$f":"COUNTIFS(AE$8:AE$76,\"=1\",$D$8:$D$76,\"=U18\")+COUNTIFS(AE$8:AE$76,\"=1\",$D$8:$D$76,\"=U21\")","v":0},null,null,{"$f":"COUNTIFS(AH$8:AH$76,\"=1\",$D$8:$D$76,\"=U18\")+COUNTIFS(AH$8:AH$76,\"=1\",$D$8:$D$76,\"=U21\")","v":0},null,null,{"$f":"COUNTIFS(AK$8:AK$76,\"=1\",$D$8:$D$76,\"=U18\")+COUNTIFS(AK$8:AK$76,\"=1\",$D$8:$D$76,\"=U21\")","v":0},null,null,{"$f":"COUNTIFS(AN$8:AN$76,\"=1\",$D$8:$D$76,\"=U18\")+COUNTIFS(AN$8:AN$76,\"=1\",$D$8:$D$76,\"=U21\")","v":0},null,null,{"$f":"COUNTIFS(AQ$8:AQ$76,\"=1\",$D$8:$D$76,\"=U18\")+COUNTIFS(AQ$8:AQ$76,\"=1\",$D$8:$D$76,\"=U21\")","v":0},null,null,{"$f":"COUNTIFS(AT$8:AT$76,\"=1\",$D$8:$D$76,\"=U18\")+COUNTIFS(AT$8:AT$76,\"=1\",$D$8:$D$76,\"=U21\")","v":0},null,null,null,{"$f":"COUNTIFS(AX$8:AX$76,\"=1\",$D$8:$D$76,\"=U18\")+COUNTIFS(AX$8:AX$76,\"=1\",$D$8:$D$76,\"=U21\")","v":0},null,null,{"$f":"COUNTIFS(BA$8:BA$76,\"=1\",$D$8:$D$76,\"=U18\")+COUNTIFS(BA$8:BA$76,\"=1\",$D$8:$D$76,\"=U21\")","v":0},null,null,{"$f":"COUNTIFS(BD$8:BD$76,\"=1\",$D$8:$D$76,\"=U18\")+COUNTIFS(BD$8:BD$76,\"=1\",$D$8:$D$76,\"=U21\")","v":0},null,null,{"$f":"COUNTIFS(BG$8:BG$76,\"=1\",$D$8:$D$76,\"=U18\")+COUNTIFS(BG$8:BG$76,\"=1\",$D$8:$D$76,\"=U21\")","v":0},null,null,{"$f":"COUNTIFS(BJ$8:BJ$76,\"=1\",$D$8:$D$76,\"=U18\")+COUNTIFS(BJ$8:BJ$76,\"=1\",$D$8:$D$76,\"=U21\")","v":0},null,null,{"$f":"COUNTIFS(BM$8:BM$76,\"=1\",$D$8:$D$76,\"=U18\")+COUNTIFS(BM$8:BM$76,\"=1\",$D$8:$D$76,\"=U21\")","v":0},null,null,{"$f":"COUNTIFS(BP$8:BP$76,\"=1\",$D$8:$D$76,\"=U18\")+COUNTIFS(BP$8:BP$76,\"=1\",$D$8:$D$76,\"=U21\")","v":0},null,null,{"$f":"COUNTIFS(BS$8:BS$76,\"=1\",$D$8:$D$76,\"=U18\")+COUNTIFS(BS$8:BS$76,\"=1\",$D$8:$D$76,\"=U21\")","v":0},null,null,{"$f":"COUNTIFS(BV$8:BV$76,\"=1\",$D$8:$D$76,\"=U18\")+COUNTIFS(BV$8:BV$76,\"=1\",$D$8:$D$76,\"=U21\")","v":0},null,null,{"$f":"COUNTIFS(BY$8:BY$76,\"=1\",$D$8:$D$76,\"=U18\")+COUNTIFS(BY$8:BY$76,\"=1\",$D$8:$D$76,\"=U21\")","v":0},null,null,{"$f":"COUNTIFS(CB$8:CB$76,\"=1\",$D$8:$D$76,\"=U18\")+COUNTIFS(CB$8:CB$76,\"=1\",$D$8:$D$76,\"=U21\")","v":0},null,null,null,{"$f":"COUNTIFS(CF$8:CF$76,\"=1\",$D$8:$D$76,\"=U18\")+COUNTIFS(CF$8:CF$76,\"=1\",$D$8:$D$76,\"=U21\")","v":0},null,null,{"$f":"COUNTIFS(CI$8:CI$76,\"=1\",$D$8:$D$76,\"=U18\")+COUNTIFS(CI$8:CI$76,\"=1\",$D$8:$D$76,\"=U21\")","v":0},null,null,{"$f":"COUNTIFS(CL$8:CL$76,\"=1\",$D$8:$D$76,\"=U18\")+COUNTIFS(CL$8:CL$76,\"=1\",$D$8:$D$76,\"=U21\")","v":0},null,null,{"$f":"COUNTIFS(CO$8:CO$76,\"=1\",$D$8:$D$76,\"=U18\")+COUNTIFS(CO$8:CO$76,\"=1\",$D$8:$D$76,\"=U21\")","v":0},null,null,{"$f":"COUNTIFS(CR$8:CR$76,\"=1\",$D$8:$D$76,\"=U18\")+COUNTIFS(CR$8:CR$76,\"=1\",$D$8:$D$76,\"=U21\")","v":0},null,null,{"$f":"COUNTIFS(CU$8:CU$76,\"=1\",$D$8:$D$76,\"=U18\")+COUNTIFS(CU$8:CU$76,\"=1\",$D$8:$D$76,\"=U21\")","v":0},null,null,{"$f":"COUNTIFS(CX$8:CX$76,\"=1\",$D$8:$D$76,\"=U18\")+COUNTIFS(CX$8:CX$76,\"=1\",$D$8:$D$76,\"=U21\")","v":0},null,null,{"$f":"COUNTIFS(DA$8:DA$76,\"=1\",$D$8:$D$76,\"=U18\")+COUNTIFS(DA$8:DA$76,\"=1\",$D$8:$D$76,\"=U21\")","v":0},null,{"$f":"COUNTIFS(DC$8:DC$76,\"=1\",$D$8:$D$76,\"=U18\")+COUNTIFS(DC$8:DC$76,\"=1\",$D$8:$D$76,\"=U21\")","v":0},null,null,{"$f":"COUNTIFS(DF$8:DF$76,\"=1\",$D$8:$D$76,\"=U18\")+COUNTIFS(DF$8:DF$76,\"=1\",$D$8:$D$76,\"=U21\")","v":0},null,null,{"$f":"COUNTIFS(DI$8:DI$76,\"=1\",$D$8:$D$76,\"=U18\")+COUNTIFS(DI$8:DI$76,\"=1\",$D$8:$D$76,\"=U21\")","v":0},null,null,{"$f":"COUNTIFS(DL$8:DL$76,\"=1\",$D$8:$D$76,\"=U18\")+COUNTIFS(DL$8:DL$76,\"=1\",$D$8:$D$76,\"=U21\")","v":0},null,null,{"$f":"COUNTIFS(DO$8:DO$76,\"=1\",$D$8:$D$76,\"=U18\")+COUNTIFS(DO$8:DO$76,\"=1\",$D$8:$D$76,\"=U21\")","v":0},null,null,{"$f":"COUNTIFS(DR$8:DR$76,\"=1\",$D$8:$D$76,\"=U18\")+COUNTIFS(DR$8:DR$76,\"=1\",$D$8:$D$76,\"=U21\")","v":0},null,null,{"$f":"COUNTIFS(DU$8:DU$76,\"=1\",$D$8:$D$76,\"=U18\")+COUNTIFS(DU$8:DU$76,\"=1\",$D$8:$D$76,\"=U21\")","v":0},null,null,{"$f":"COUNTIFS(DX$8:DX$76,\"=1\",$D$8:$D$76,\"=U18\")+COUNTIFS(DX$8:DX$76,\"=1\",$D$8:$D$76,\"=U21\")","v":0},null,null,{"$f":"COUNTIFS(EA$8:EA$76,\"=1\",$D$8:$D$76,\"=U18\")+COUNTIFS(EA$8:EA$76,\"=1\",$D$8:$D$76,\"=U21\")","v":0},null,null,{"$f":"COUNTIFS(ED$8:ED$76,\"=1\",$D$8:$D$76,\"=U18\")+COUNTIFS(ED$8:ED$76,\"=1\",$D$8:$D$76,\"=U21\")","v":0}]
[null,null,null,null,"JN Overall 2nd",null,null,null,null,null,null,null,1,{"$f":"COUNTIFS(N$8:N$76,\"=2\",$D$8:$D$76,\"=U18\")+COUNTIFS(N$8:N$76,\"=2\",$D$8:$D$76,\"=U21\")","v":0},null,null,{"$f":"COUNTIFS(Q$8:Q$76,\"=2\",$D$8:$D$76,\"=U18\")+COUNTIFS(Q$8:Q$76,\"=2\",$D$8:$D$76,\"=U21\")","v":0},null,null,null,{"$f":"COUNTIFS(U$8:U$76,\"=2\",$D$8:$D$76,\"=U18\")+COUNTIFS(U$8:U$76,\"=2\",$D$8:$D$76,\"=U21\")","v":0},null,null,null,{"$f":"COUNTIFS(Y$8:Y$76,\"=2\",$D$8:$D$76,\"=U18\")+COUNTIFS(Y$8:Y$76,\"=2\",$D$8:$D$76,\"=U21\")","v":0},null,null,{"$f":"COUNTIFS(AB$8:AB$76,\"=2\",$D$8:$D$76,\"=U18\")+COUNTIFS(AB$8:AB$76,\"=2\",$D$8:$D$76,\"=U21\")","v":0},null,null,{"$f":"COUNTIFS(AE$8:AE$76,\"=2\",$D$8:$D$76,\"=U18\")+COUNTIFS(AE$8:AE$76,\"=2\",$D$8:$D$76,\"=U21\")","v":0},null,null,{"$f":"COUNTIFS(AH$8:AH$76,\"=2\",$D$8:$D$76,\"=U18\")+COUNTIFS(AH$8:AH$76,\"=2\",$D$8:$D$76,\"=U21\")","v":0},null,null,{"$f":"COUNTIFS(AK$8:AK$76,\"=2\",$D$8:$D$76,\"=U18\")+COUNTIFS(AK$8:AK$76,\"=2\",$D$8:$D$76,\"=U21\")","v":0},null,null,{"$f":"COUNTIFS(AN$8:AN$76,\"=2\",$D$8:$D$76,\"=U18\")+COUNTIFS(AN$8:AN$76,\"=2\",$D$8:$D$76,\"=U21\")","v":0},null,null,{"$f":"COUNTIFS(AQ$8:AQ$76,\"=2\",$D$8:$D$76,\"=U18\")+COUNTIFS(AQ$8:AQ$76,\"=2\",$D$8:$D$76,\"=U21\")","v":1},null,null,{"$f":"COUNTIFS(AT$8:AT$76,\"=2\",$D$8:$D$76,\"=U18\")+COUNTIFS(AT$8:AT$76,\"=2\",$D$8:$D$76,\"=U21\")","v":0},null,null,null,{"$f":"COUNTIFS(AX$8:AX$76,\"=2\",$D$8:$D$76,\"=U18\")+COUNTIFS(AX$8:AX$76,\"=2\",$D$8:$D$76,\"=U21\")","v":0},null,null,{"$f":"COUNTIFS(BA$8:BA$76,\"=2\",$D$8:$D$76,\"=U18\")+COUNTIFS(BA$8:BA$76,\"=2\",$D$8:$D$76,\"=U21\")","v":0},null,null,{"$f":"COUNTIFS(BD$8:BD$76,\"=2\",$D$8:$D$76,\"=U18\")+COUNTIFS(BD$8:BD$76,\"=2\",$D$8:$D$76,\"=U21\")","v":0},null,null,{"$f":"COUNTIFS(BG$8:BG$76,\"=2\",$D$8:$D$76,\"=U18\")+COUNTIFS(BG$8:BG$76,\"=2\",$D$8:$D$76,\"=U21\")","v":0},null,null,{"$f":"COUNTIFS(BJ$8:BJ$76,\"=2\",$D$8:$D$76,\"=U18\")+COUNTIFS(BJ$8:BJ$76,\"=2\",$D$8:$D$76,\"=U21\")","v":0},null,null,{"$f":"COUNTIFS(BM$8:BM$76,\"=2\",$D$8:$D$76,\"=U18\")+COUNTIFS(BM$8:BM$76,\"=2\",$D$8:$D$76,\"=U21\")","v":0},null,null,{"$f":"COUNTIFS(BP$8:BP$76,\"=2\",$D$8:$D$76,\"=U18\")+COUNTIFS(BP$8:BP$76,\"=2\",$D$8:$D$76,\"=U21\")","v":0},null,null,{"$f":"COUNTIFS(BS$8:BS$76,\"=2\",$D$8:$D$76,\"=U18\")+COUNTIFS(BS$8:BS$76,\"=2\",$D$8:$D$76,\"=U21\")","v":0},null,null,{"$f":"COUNTIFS(BV$8:BV$76,\"=2\",$D$8:$D$76,\"=U18\")+COUNTIFS(BV$8:BV$76,\"=2\",$D$8:$D$76,\"=U21\")","v":0},null,null,{"$f":"COUNTIFS(BY$8:BY$76,\"=2\",$D$8:$D$76,\"=U18\")+COUNTIFS(BY$8:BY$76,\"=2\",$D$8:$D$76,\"=U21\")","v":0},null,null,{"$f":"COUNTIFS(CB$8:CB$76,\"=2\",$D$8:$D$76,\"=U18\")+COUNTIFS(CB$8:CB$76,\"=2\",$D$8:$D$76,\"=U21\")","v":0},null,null,null,{"$f":"COUNTIFS(CF$8:CF$76,\"=2\",$D$8:$D$76,\"=U18\")+COUNTIFS(CF$8:CF$76,\"=2\",$D$8:$D$76,\"=U21\")","v":0},null,null,{"$f":"COUNTIFS(CI$8:CI$76,\"=2\",$D$8:$D$76,\"=U18\")+COUNTIFS(CI$8:CI$76,\"=2\",$D$8:$D$76,\"=U21\")","v":0},null,null,{"$f":"COUNTIFS(CL$8:CL$76,\"=2\",$D$8:$D$76,\"=U18\")+COUNTIFS(CL$8:CL$76,\"=2\",$D$8:$D$76,\"=U21\")","v":0},null,null,{"$f":"COUNTIFS(CO$8:CO$76,\"=2\",$D$8:$D$76,\"=U18\")+COUNTIFS(CO$8:CO$76,\"=2\",$D$8:$D$76,\"=U21\")","v":0},null,null,{"$f":"COUNTIFS(CR$8:CR$76,\"=2\",$D$8:$D$76,\"=U18\")+COUNTIFS(CR$8:CR$76,\"=2\",$D$8:$D$76,\"=U21\")","v":0},null,null,{"$f":"COUNTIFS(CU$8:CU$76,\"=2\",$D$8:$D$76,\"=U18\")+COUNTIFS(CU$8:CU$76,\"=2\",$D$8:$D$76,\"=U21\")","v":0},null,null,{"$f":"COUNTIFS(CX$8:CX$76,\"=2\",$D$8:$D$76,\"=U18\")+COUNTIFS(CX$8:CX$76,\"=2\",$D$8:$D$76,\"=U21\")","v":0},null,null,{"$f":"COUNTIFS(DA$8:DA$76,\"=2\",$D$8:$D$76,\"=U18\")+COUNTIFS(DA$8:DA$76,\"=2\",$D$8:$D$76,\"=U21\")","v":0},null,{"$f":"COUNTIFS(DC$8:DC$76,\"=2\",$D$8:$D$76,\"=U18\")+COUNTIFS(DC$8:DC$76,\"=2\",$D$8:$D$76,\"=U21\")","v":0},null,null,{"$f":"COUNTIFS(DF$8:DF$76,\"=2\",$D$8:$D$76,\"=U18\")+COUNTIFS(DF$8:DF$76,\"=2\",$D$8:$D$76,\"=U21\")","v":0},null,null,{"$f":"COUNTIFS(DI$8:DI$76,\"=2\",$D$8:$D$76,\"=U18\")+COUNTIFS(DI$8:DI$76,\"=2\",$D$8:$D$76,\"=U21\")","v":0},null,null,{"$f":"COUNTIFS(DL$8:DL$76,\"=2\",$D$8:$D$76,\"=U18\")+COUNTIFS(DL$8:DL$76,\"=2\",$D$8:$D$76,\"=U21\")","v":0},null,null,{"$f":"COUNTIFS(DO$8:DO$76,\"=2\",$D$8:$D$76,\"=U18\")+COUNTIFS(DO$8:DO$76,\"=2\",$D$8:$D$76,\"=U21\")","v":0},null,null,{"$f":"COUNTIFS(DR$8:DR$76,\"=2\",$D$8:$D$76,\"=U18\")+COUNTIFS(DR$8:DR$76,\"=2\",$D$8:$D$76,\"=U21\")","v":0},null,null,{"$f":"COUNTIFS(DU$8:DU$76,\"=2\",$D$8:$D$76,\"=U18\")+COUNTIFS(DU$8:DU$76,\"=2\",$D$8:$D$76,\"=U21\")","v":0},null,null,{"$f":"COUNTIFS(DX$8:DX$76,\"=2\",$D$8:$D$76,\"=U18\")+COUNTIFS(DX$8:DX$76,\"=2\",$D$8:$D$76,\"=U21\")","v":0},null,null,{"$f":"COUNTIFS(EA$8:EA$76,\"=2\",$D$8:$D$76,\"=U18\")+COUNTIFS(EA$8:EA$76,\"=2\",$D$8:$D$76,\"=U21\")","v":0},null,null,{"$f":"COUNTIFS(ED$8:ED$76,\"=2\",$D$8:$D$76,\"=U18\")+COUNTIFS(ED$8:ED$76,\"=2\",$D$8:$D$76,\"=U21\")","v":0}]
[null,null,null,null,"JN Overall 3rd",null,null,null,null,null,null,null,1,{"$f":"COUNTIFS(N$8:N$76,\"=3\",$D$8:$D$76,\"=U18\")+COUNTIFS(N$8:N$76,\"=3\",$D$8:$D$76,\"=U21\")","v":0},null,null,{"$f":"COUNTIFS(Q$8:Q$76,\"=3\",$D$8:$D$76,\"=U18\")+COUNTIFS(Q$8:Q$76,\"=3\",$D$8:$D$76,\"=U21\")","v":0},null,null,null,{"$f":"COUNTIFS(U$8:U$76,\"=3\",$D$8:$D$76,\"=U18\")+COUNTIFS(U$8:U$76,\"=3\",$D$8:$D$76,\"=U21\")","v":0},null,null,null,{"$f":"COUNTIFS(Y$8:Y$76,\"=3\",$D$8:$D$76,\"=U18\")+COUNTIFS(Y$8:Y$76,\"=3\",$D$8:$D$76,\"=U21\")","v":0},null,null,{"$f":"COUNTIFS(AB$8:AB$76,\"=3\",$D$8:$D$76,\"=U18\")+COUNTIFS(AB$8:AB$76,\"=3\",$D$8:$D$76,\"=U21\")","v":0},null,null,{"$f":"COUNTIFS(AE$8:AE$76,\"=3\",$D$8:$D$76,\"=U18\")+COUNTIFS(AE$8:AE$76,\"=3\",$D$8:$D$76,\"=U21\")","v":0},null,null,{"$f":"COUNTIFS(AH$8:AH$76,\"=3\",$D$8:$D$76,\"=U18\")+COUNTIFS(AH$8:AH$76,\"=3\",$D$8:$D$76,\"=U21\")","v":0},null,null,{"$f":"COUNTIFS(AK$8:AK$76,\"=3\",$D$8:$D$76,\"=U18\")+COUNTIFS(AK$8:AK$76,\"=3\",$D$8:$D$76,\"=U21\")","v":0},null,null,{"$f":"COUNTIFS(AN$8:AN$76,\"=3\",$D$8:$D$76,\"=U18\")+COUNTIFS(AN$8:AN$76,\"=3\",$D$8:$D$76,\"=U21\")","v":0},null,null,{"$f":"COUNTIFS(AQ$8:AQ$76,\"=3\",$D$8:$D$76,\"=U18\")+COUNTIFS(AQ$8:AQ$76,\"=3\",$D$8:$D$76,\"=U21\")","v":0},null,null,{"$f":"COUNTIFS(AT$8:AT$76,\"=3\",$D$8:$D$76,\"=U18\")+COUNTIFS(AT$8:AT$76,\"=3\",$D$8:$D$76,\"=U21\")","v":0},null,null,null,{"$f":"COUNTIFS(AX$8:AX$76,\"=3\",$D$8:$D$76,\"=U18\")+COUNTIFS(AX$8:AX$76,\"=3\",$D$8:$D$76,\"=U21\")","v":0},null,null,{"$f":"COUNTIFS(BA$8:BA$76,\"=3\",$D$8:$D$76,\"=U18\")+COUNTIFS(BA$8:BA$76,\"=3\",$D$8:$D$76,\"=U21\")","v":0},null,null,{"$f":"COUNTIFS(BD$8:BD$76,\"=3\",$D$8:$D$76,\"=U18\")+COUNTIFS(BD$8:BD$76,\"=3\",$D$8:$D$76,\"=U21\")","v":0},null,null,{"$f":"COUNTIFS(BG$8:BG$76,\"=3\",$D$8:$D$76,\"=U18\")+COUNTIFS(BG$8:BG$76,\"=3\",$D$8:$D$76,\"=U21\")","v":0},null,null,{"$f":"COUNTIFS(BJ$8:BJ$76,\"=3\",$D$8:$D$76,\"=U18\")+COUNTIFS(BJ$8:BJ$76,\"=3\",$D$8:$D$76,\"=U21\")","v":0},null,null,{"$f":"COUNTIFS(BM$8:BM$76,\"=3\",$D$8:$D$76,\"=U18\")+COUNTIFS(BM$8:BM$76,\"=3\",$D$8:$D$76,\"=U21\")","v":0},null,null,{"$f":"COUNTIFS(BP$8:BP$76,\"=3\",$D$8:$D$76,\"=U18\")+COUNTIFS(BP$8:BP$76,\"=3\",$D$8:$D$76,\"=U21\")","v":0},null,null,{"$f":"COUNTIFS(BS$8:BS$76,\"=3\",$D$8:$D$76,\"=U18\")+COUNTIFS(BS$8:BS$76,\"=3\",$D$8:$D$76,\"=U21\")","v":0},null,null,{"$f":"COUNTIFS(BV$8:BV$76,\"=3\",$D$8:$D$76,\"=U18\")+COUNTIFS(BV$8:BV$76,\"=3\",$D$8:$D$76,\"=U21\")","v":0},null,null,{"$f":"COUNTIFS(BY$8:BY$76,\"=3\",$D$8:$D$76,\"=U18\")+COUNTIFS(BY$8:BY$76,\"=3\",$D$8:$D$76,\"=U21\")","v":0},null,null,{"$f":"COUNTIFS(CB$8:CB$76,\"=3\",$D$8:$D$76,\"=U18\")+COUNTIFS(CB$8:CB$76,\"=3\",$D$8:$D$76,\"=U21\")","v":0},null,null,null,{"$f":"COUNTIFS(CF$8:CF$76,\"=3\",$D$8:$D$76,\"=U18\")+COUNTIFS(CF$8:CF$76,\"=3\",$D$8:$D$76,\"=U21\")","v":0},null,null,{"$f":"COUNTIFS(CI$8:CI$76,\"=3\",$D$8:$D$76,\"=U18\")+COUNTIFS(CI$8:CI$76,\"=3\",$D$8:$D$76,\"=U21\")","v":0},null,null,{"$f":"COUNTIFS(CL$8:CL$76,\"=3\",$D$8:$D$76,\"=U18\")+COUNTIFS(CL$8:CL$76,\"=3\",$D$8:$D$76,\"=U21\")","v":0},null,null,{"$f":"COUNTIFS(CO$8:CO$76,\"=3\",$D$8:$D$76,\"=U18\")+COUNTIFS(CO$8:CO$76,\"=3\",$D$8:$D$76,\"=U21\")","v":0},null,null,{"$f":"COUNTIFS(CR$8:CR$76,\"=3\",$D$8:$D$76,\"=U18\")+COUNTIFS(CR$8:CR$76,\"=3\",$D$8:$D$76,\"=U21\")","v":0},null,null,{"$f":"COUNTIFS(CU$8:CU$76,\"=3\",$D$8:$D$76,\"=U18\")+COUNTIFS(CU$8:CU$76,\"=3\",$D$8:$D$76,\"=U21\")","v":0},null,null,{"$f":"COUNTIFS(CX$8:CX$76,\"=3\",$D$8:$D$76,\"=U18\")+COUNTIFS(CX$8:CX$76,\"=3\",$D$8:$D$76,\"=U21\")","v":0},null,null,{"$f":"COUNTIFS(DA$8:DA$76,\"=3\",$D$8:$D$76,\"=U18\")+COUNTIFS(DA$8:DA$76,\"=3\",$D$8:$D$76,\"=U21\")","v":0},null,{"$f":"COUNTIFS(DC$8:DC$76,\"=3\",$D$8:$D$76,\"=U18\")+COUNTIFS(DC$8:DC$76,\"=3\",$D$8:$D$76,\"=U21\")","v":0},null,null,{"$f":"COUNTIFS(DF$8:DF$76,\"=3\",$D$8:$D$76,\"=U18\")+COUNTIFS(DF$8:DF$76,\"=3\",$D$8:$D$76,\"=U21\")","v":0},null,null,{"$f":"COUNTIFS(DI$8:DI$76,\"=3\",$D$8:$D$76,\"=U18\")+COUNTIFS(DI$8:DI$76,\"=3\",$D$8:$D$76,\"=U21\")","v":0},null,null,{"$f":"COUNTIFS(DL$8:DL$76,\"=3\",$D$8:$D$76,\"=U18\")+COUNTIFS(DL$8:DL$76,\"=3\",$D$8:$D$76,\"=U21\")","v":0},null,null,{"$f":"COUNTIFS(DO$8:DO$76,\"=3\",$D$8:$D$76,\"=U18\")+COUNTIFS(DO$8:DO$76,\"=3\",$D$8:$D$76,\"=U21\")","v":0},null,null,{"$f":"COUNTIFS(DR$8:DR$76,\"=3\",$D$8:$D$76,\"=U18\")+COUNTIFS(DR$8:DR$76,\"=3\",$D$8:$D$76,\"=U21\")","v":0},null,null,{"$f":"COUNTIFS(DU$8:DU$76,\"=3\",$D$8:$D$76,\"=U18\")+COUNTIFS(DU$8:DU$76,\"=3\",$D$8:$D$76,\"=U21\")","v":1},null,null,{"$f":"COUNTIFS(DX$8:DX$76,\"=3\",$D$8:$D$76,\"=U18\")+COUNTIFS(DX$8:DX$76,\"=3\",$D$8:$D$76,\"=U21\")","v":0},null,null,{"$f":"COUNTIFS(EA$8:EA$76,\"=3\",$D$8:$D$76,\"=U18\")+COUNTIFS(EA$8:EA$76,\"=3\",$D$8:$D$76,\"=U21\")","v":0},null,null,{"$f":"COUNTIFS(ED$8:ED$76,\"=3\",$D$8:$D$76,\"=U18\")+COUNTIFS(ED$8:ED$76,\"=3\",$D$8:$D$76,\"=U21\")","v":0}]
[null,null,null,null,"SEN Overall 1st",null,null,null,null,null,null,null,4,{"$f":"COUNTIFS(N$8:N$76,\"=1\",$D$8:$D$76,\"=SEN\")","v":1},null,null,{"$f":"COUNTIFS(Q$8:Q$76,\"=1\",$D$8:$D$76,\"=SEN\")","v":0},null,null,null,{"$f":"COUNTIFS(U$8:U$76,\"=1\",$D$8:$D$76,\"=SEN\")","v":0},null,null,null,{"$f":"COUNTIFS(Y$8:Y$76,\"=1\",$D$8:$D$76,\"=SEN\")","v":0},null,null,{"$f":"COUNTIFS(AB$8:AB$76,\"=1\",$D$8:$D$76,\"=SEN\")","v":0},null,null,{"$f":"COUNTIFS(AE$8:AE$76,\"=1\",$D$8:$D$76,\"=SEN\")","v":0},null,null,{"$f":"COUNTIFS(AH$8:AH$76,\"=1\",$D$8:$D$76,\"=SEN\")","v":0},null,null,{"$f":"COUNTIFS(AK$8:AK$76,\"=1\",$D$8:$D$76,\"=SEN\")","v":0},null,null,{"$f":"COUNTIFS(AN$8:AN$76,\"=1\",$D$8:$D$76,\"=SEN\")","v":0},null,null,{"$f":"COUNTIFS(AQ$8:AQ$76,\"=1\",$D$8:$D$76,\"=SEN\")","v":0},null,null,{"$f":"COUNTIFS(AT$8:AT$76,\"=1\",$D$8:$D$76,\"=SEN\")","v":0},null,null,null,{"$f":"COUNTIFS(AX$8:AX$76,\"=1\",$D$8:$D$76,\"=SEN\")","v":0},null,null,{"$f":"COUNTIFS(BA$8:BA$76,\"=1\",$D$8:$D$76,\"=SEN\")","v":0},null,null,{"$f":"COUNTIFS(BD$8:BD$76,\"=1\",$D$8:$D$76,\"=SEN\")","v":0},null,null,{"$f":"COUNTIFS(BG$8:BG$76,\"=1\",$D$8:$D$76,\"=SEN\")","v":0},null,null,{"$f":"COUNTIFS(BJ$8:BJ$76,\"=1\",$D$8:$D$76,\"=SEN\")","v":0},null,null,{"$f":"COUNTIFS(BM$8:BM$76,\"=1\",$D$8:$D$76,\"=SEN\")","v":1},null,null,{"$f":"COUNTIFS(BP$8:BP$76,\"=1\",$D$8:$D$76,\"=SEN\")","v":0},null,null,{"$f":"COUNTIFS(BS$8:BS$76,\"=1\",$D$8:$D$76,\"=SEN\")","v":0},null,null,{"$f":"COUNTIFS(BV$8:BV$76,\"=1\",$D$8:$D$76,\"=SEN\")","v":1},null,null,{"$f":"COUNTIFS(BY$8:BY$76,\"=1\",$D$8:$D$76,\"=SEN\")","v":0},null,null,{"$f":"COUNTIFS(CB$8:CB$76,\"=1\",$D$8:$D$76,\"=SEN\")","v":0},null,null,null,{"$f":"COUNTIFS(CF$8:CF$76,\"=1\",$D$8:$D$76,\"=SEN\")","v":0},null,null,{"$f":"COUNTIFS(CI$8:CI$76,\"=1\",$D$8:$D$76,\"=SEN\")","v":0},null,null,{"$f":"COUNTIFS(CL$8:CL$76,\"=1\",$D$8:$D$76,\"=SEN\")","v":0},null,null,{"$f":"COUNTIFS(CO$8:CO$76,\"=1\",$D$8:$D$76,\"=SEN\")","v":0},null,null,{"$f":"COUNTIFS(CR$8:CR$76,\"=1\",$D$8:$D$76,\"=SEN\")","v":0},null,null,{"$f":"COUNTIFS(CU$8:CU$76,\"=1\",$D$8:$D$76,\"=SEN\")","v":0},null,null,{"$f":"COUNTIFS(CX$8:CX$76,\"=1\",$D$8:$D$76,\"=SEN\")","v":0},null,null,{"$f":"COUNTIFS(DA$8:DA$76,\"=1\",$D$8:$D$76,\"=SEN\")","v":0},null,{"$f":"COUNTIFS(DC$8:DC$76,\"=1\",$D$8:$D$76,\"=SEN\")","v":0},null,null,{"$f":"COUNTIFS(DF$8:DF$76,\"=1\",$D$8:$D$76,\"=SEN\")","v":0},null,null,{"$f":"COUNTIFS(DI$8:DI$76,\"=1\",$D$8:$D$76,\"=SEN\")","v":1},null,null,{"$f":"COUNTIFS(DL$8:DL$76,\"=1\",$D$8:$D$76,\"=SEN\")","v":0},null,null,{"$f":"COUNTIFS(DO$8:DO$76,\"=1\",$D$8:$D$76,\"=SEN\")","v":0},null,null,{"$f":"COUNTIFS(DR$8:DR$76,\"=1\",$D$8:$D$76,\"=SEN\")","v":0},null,null,{"$f":"COUNTIFS(DU$8:DU$76,\"=1\",$D$8:$D$76,\"=SEN\")","v":0},null,null,{"$f":"COUNTIFS(DX$8:DX$76,\"=1\",$D$8:$D$76,\"=SEN\")","v":0},null,null,{"$f":"COUNTIFS(EA$8:EA$76,\"=1\",$D$8:$D$76,\"=SEN\")","v":0},null,null,{"$f":"COUNTIFS(ED$8:ED$76,\"=1\",$D$8:$D$76,\"=SEN\")","v":0}]
[null,null,null,null,"SEN Overall 2nd",null,null,null,null,null,null,null,5,{"$f":"COUNTIFS(N$8:N$76,\"=2\",$D$8:$D$76,\"=SEN\")","v":0},null,null,{"$f":"COUNTIFS(Q$8:Q$76,\"=2\",$D$8:$D$76,\"=SEN\")","v":0},null,null,null,{"$f":"COUNTIFS(U$8:U$76,\"=2\",$D$8:$D$76,\"=SEN\")","v":0},null,null,null,{"$f":"COUNTIFS(Y$8:Y$76,\"=2\",$D$8:$D$76,\"=SEN\")","v":0},null,null,{"$f":"COUNTIFS(AB$8:AB$76,\"=2\",$D$8:$D$76,\"=SEN\")","v":0},null,null,{"$f":"COUNTIFS(AE$8:AE$76,\"=2\",$D$8:$D$76,\"=SEN\")","v":1},null,null,{"$f":"COUNTIFS(AH$8:AH$76,\"=2\",$D$8:$D$76,\"=SEN\")","v":0},null,null,{"$f":"COUNTIFS(AK$8:AK$76,\"=2\",$D$8:$D$76,\"=SEN\")","v":0},null,null,{"$f":"COUNTIFS(AN$8:AN$76,\"=2\",$D$8:$D$76,\"=SEN\")","v":0},null,null,{"$f":"COUNTIFS(AQ$8:AQ$76,\"=2\",$D$8:$D$76,\"=SEN\")","v":0},null,null,{"$f":"COUNTIFS(AT$8:AT$76,\"=2\",$D$8:$D$76,\"=SEN\")","v":0},null,null,null,{"$f":"COUNTIFS(AX$8:AX$76,\"=2\",$D$8:$D$76,\"=SEN\")","v":0},null,null,{"$f":"COUNTIFS(BA$8:BA$76,\"=2\",$D$8:$D$76,\"=SEN\")","v":0},null,null,{"$f":"COUNTIFS(BD$8:BD$76,\"=2\",$D$8:$D$76,\"=SEN\")","v":0},null,null,{"$f":"COUNTIFS(BG$8:BG$76,\"=2\",$D$8:$D$76,\"=SEN\")","v":1},null,null,{"$f":"COUNTIFS(BJ$8:BJ$76,\"=2\",$D$8:$D$76,\"=SEN\")","v":0},null,null,{"$f":"COUNTIFS(BM$8:BM$76,\"=2\",$D$8:$D$76,\"=SEN\")","v":1},null,null,{"$f":"COUNTIFS(BP$8:BP$76,\"=2\",$D$8:$D$76,\"=SEN\")","v":0},null,null,{"$f":"COUNTIFS(BS$8:BS$76,\"=2\",$D$8:$D$76,\"=SEN\")","v":0},null,null,{"$f":"COUNTIFS(BV$8:BV$76,\"=2\",$D$8:$D$76,\"=SEN\")","v":0},null,null,{"$f":"COUNTIFS(BY$8:BY$76,\"=2\",$D$8:$D$76,\"=SEN\")","v":0},null,null,{"$f":"COUNTIFS(CB$8:CB$76,\"=2\",$D$8:$D$76,\"=SEN\")","v":0},null,null,null,{"$f":"COUNTIFS(CF$8:CF$76,\"=2\",$D$8:$D$76,\"=SEN\")","v":0},null,null,{"$f":"COUNTIFS(CI$8:CI$76,\"=2\",$D$8:$D$76,\"=SEN\")","v":0},null,null,{"$f":"COUNTIFS(CL$8:CL$76,\"=2\",$D$8:$D$76,\"=SEN\")","v":0},null,null,{"$f":"COUNTIFS(CO$8:CO$76,\"=2\",$D$8:$D$76,\"=SEN\")","v":0},null,null,{"$f":"COUNTIFS(CR$8:CR$76,\"=2\",$D$8:$D$76,\"=SEN\")","v":0},null,null,{"$f":"COUNTIFS(CU$8:CU$76,\"=2\",$D$8:$D$76,\"=SEN\")","v":0},null,null,{"$f":"COUNTIFS(CX$8:CX$76,\"=2\",$D$8:$D$76,\"=SEN\")","v":0},null,null,{"$f":"COUNTIFS(DA$8:DA$76,\"=2\",$D$8:$D$76,\"=SEN\")","v":0},null,{"$f":"COUNTIFS(DC$8:DC$76,\"=2\",$D$8:$D$76,\"=SEN\")","v":0},null,null,{"$f":"COUNTIFS(DF$8:DF$76,\"=2\",$D$8:$D$76,\"=SEN\")","v":0},null,null,{"$f":"COUNTIFS(DI$8:DI$76,\"=2\",$D$8:$D$76,\"=SEN\")","v":0},null,null,{"$f":"COUNTIFS(DL$8:DL$76,\"=2\",$D$8:$D$76,\"=SEN\")","v":0},null,null,{"$f":"COUNTIFS(DO$8:DO$76,\"=2\",$D$8:$D$76,\"=SEN\")","v":0},null,null,{"$f":"COUNTIFS(DR$8:DR$76,\"=2\",$D$8:$D$76,\"=SEN\")","v":0},null,null,{"$f":"COUNTIFS(DU$8:DU$76,\"=2\",$D$8:$D$76,\"=SEN\")","v":1},null,null,{"$f":"COUNTIFS(DX$8:DX$76,\"=2\",$D$8:$D$76,\"=SEN\")","v":1},null,null,{"$f":"COUNTIFS(EA$8:EA$76,\"=2\",$D$8:$D$76,\"=SEN\")","v":0},null,null,{"$f":"COUNTIFS(ED$8:ED$76,\"=2\",$D$8:$D$76,\"=SEN\")","v":0}]
[null,null,null,null,"SEN Overall 3rd",null,null,null,null,null,null,null,3,{"$f":"COUNTIFS(N$8:N$76,\"=3\",$D$8:$D$76,\"=SEN\")","v":0},null,null,{"$f":"COUNTIFS(Q$8:Q$76,\"=3\",$D$8:$D$76,\"=SEN\")","v":0},null,null,null,{"$f":"COUNTIFS(U$8:U$76,\"=3\",$D$8:$D$76,\"=SEN\")","v":0},null,null,null,{"$f":"COUNTIFS(Y$8:Y$76,\"=3\",$D$8:$D$76,\"=SEN\")","v":0},null,null,{"$f":"COUNTIFS(AB$8:AB$76,\"=3\",$D$8:$D$76,\"=SEN\")","v":0},null,null,{"$f":"COUNTIFS(AE$8:AE$76,\"=3\",$D$8:$D$76,\"=SEN\")","v":0},null,null,{"$f":"COUNTIFS(AH$8:AH$76,\"=3\",$D$8:$D$76,\"=SEN\")","v":0},null,null,{"$f":"COUNTIFS(AK$8:AK$76,\"=3\",$D$8:$D$76,\"=SEN\")","v":0},null,null,{"$f":"COUNTIFS(AN$8:AN$76,\"=3\",$D$8:$D$76,\"=SEN\")","v":0},null,null,{"$f":"COUNTIFS(AQ$8:AQ$76,\"=3\",$D$8:$D$76,\"=SEN\")","v":1},null,null,{"$f":"COUNTIFS(AT$8:AT$76,\"=3\",$D$8:$D$76,\"=SEN\")","v":0},null,null,null,{"$f":"COUNTIFS(AX$8:AX$76,\"=3\",$D$8:$D$76,\"=SEN\")","v":0},null,null,{"$f":"COUNTIFS(BA$8:BA$76,\"=3\",$D$8:$D$76,\"=SEN\")","v":0},null,null,{"$f":"COUNTIFS(BD$8:BD$76,\"=3\",$D$8:$D$76,\"=SEN\")","v":0},null,null,{"$f":"COUNTIFS(BG$8:BG$76,\"=3\",$D$8:$D$76,\"=SEN\")","v":0},null,null,{"$f":"COUNTIFS(BJ$8:BJ$76,\"=3\",$D$8:$D$76,\"=SEN\")","v":0},null,null,{"$f":"COUNTIFS(BM$8:BM$76,\"=3\",$D$8:$D$76,\"=SEN\")","v":0},null,null,{"$f":"COUNTIFS(BP$8:BP$76,\"=3\",$D$8:$D$76,\"=SEN\")","v":0},null,null,{"$f":"COUNTIFS(BS$8:BS$76,\"=3\",$D$8:$D$76,\"=SEN\")","v":0},null,null,{"$f":"COUNTIFS(BV$8:BV$76,\"=3\",$D$8:$D$76,\"=SEN\")","v":0},null,null,{"$f":"COUNTIFS(BY$8:BY$76,\"=3\",$D$8:$D$76,\"=SEN\")","v":0},null,null,{"$f":"COUNTIFS(CB$8:CB$76,\"=3\",$D$8:$D$76,\"=SEN\")","v":0},null,null,null,{"$f":"COUNTIFS(CF$8:CF$76,\"=3\",$D$8:$D$76,\"=SEN\")","v":0},null,null,{"$f":"COUNTIFS(CI$8:CI$76,\"=3\",$D$8:$D$76,\"=SEN\")","v":0},null,null,{"$f":"COUNTIFS(CL$8:CL$76,\"=3\",$D$8:$D$76,\"=SEN\")","v":0},null,null,{"$f":"COUNTIFS(CO$8:CO$76,\"=3\",$D$8:$D$76,\"=SEN\")","v":0},null,null,{"$f":"COUNTIFS(CR$8:CR$76,\"=3\",$D$8:$D$76,\"=SEN\")","v":0},null,null,{"$f":"COUNTIFS(CU$8:CU$76,\"=3\",$D$8:$D$76,\"=SEN\")","v":0},null,null,{"$f":"COUNTIFS(CX$8:CX$76,\"=3\",$D$8:$D$76,\"=SEN\")","v":1},null,null,{"$f":"COUNTIFS(DA$8:DA$76,\"=3\",$D$8:$D$76,\"=SEN\")","v":0},null,{"$f":"COUNTIFS(DC$8:DC$76,\"=3\",$D$8:$D$76,\"=SEN\")","v":0},null,null,{"$f":"COUNTIFS(DF$8:DF$76,\"=3\",$D$8:$D$76,\"=SEN\")","v":0},null,null,{"$f":"COUNTIFS(DI$8:DI$76,\"=3\",$D$8:$D$76,\"=SEN\")","v":0},null,null,{"$f":"COUNTIFS(DL$8:DL$76,\"=3\",$D$8:$D$76,\"=SEN\")","v":1},null,null,{"$f":"COUNTIFS(DO$8:DO$76,\"=3\",$D$8:$D$76,\"=SEN\")","v":0},null,null,{"$f":"COUNTIFS(DR$8:DR$76,\"=3\",$D$8:$D$76,\"=SEN\")","v":0},null,null,{"$f":"COUNTIFS(DU$8:DU$76,\"=3\",$D$8:$D$76,\"=SEN\")","v":0},null,null,{"$f":"COUNTIFS(DX$8:DX$76,\"=3\",$D$8:$D$76,\"=SEN\")","v":0},null,null,{"$f":"COUNTIFS(EA$8:EA$76,\"=3\",$D$8:$D$76,\"=SEN\")","v":0},null,null,{"$f":"COUNTIFS(ED$8:ED$76,\"=3\",$D$8:$D$76,\"=SEN\")","v":0}]
[null,null,null,null,"MAS Overall 1st",null,null,null,null,null,null,null,0,{"$f":"COUNTIFS(N$8:N$76,\"=1\",$D$8:$D$76,\"=MAS\")","v":0},null,null,{"$f":"COUNTIFS(Q$8:Q$76,\"=1\",$D$8:$D$76,\"=MAS\")","v":0},null,null,null,{"$f":"COUNTIFS(U$8:U$76,\"=1\",$D$8:$D$76,\"=MAS\")","v":0},null,null,null,{"$f":"COUNTIFS(Y$8:Y$76,\"=1\",$D$8:$D$76,\"=MAS\")","v":0},null,null,{"$f":"COUNTIFS(AB$8:AB$76,\"=1\",$D$8:$D$76,\"=MAS\")","v":0},null,null,{"$f":"COUNTIFS(AE$8:AE$76,\"=1\",$D$8:$D$76,\"=MAS\")","v":0},null,null,{"$f":"COUNTIFS(AH$8:AH$76,\"=1\",$D$8:$D$76,\"=MAS\")","v":0},null,null,{"$f":"COUNTIFS(AK$8:AK$76,\"=1\",$D$8:$D$76,\"=MAS\")","v":0},null,null,{"$f":"COUNTIFS(AN$8:AN$76,\"=1\",$D$8:$D$76,\"=MAS\")","v":0},null,null,{"$f":"COUNTIFS(AQ$8:AQ$76,\"=1\",$D$8:$D$76,\"=MAS\")","v":0},null,null,{"$f":"COUNTIFS(AT$8:AT$76,\"=1\",$D$8:$D$76,\"=MAS\")","v":0},null,null,null,{"$f":"COUNTIFS(AX$8:AX$76,\"=1\",$D$8:$D$76,\"=MAS\")","v":0},null,null,{"$f":"COUNTIFS(BA$8:BA$76,\"=1\",$D$8:$D$76,\"=MAS\")","v":0},null,null,{"$f":"COUNTIFS(BD$8:BD$76,\"=1\",$D$8:$D$76,\"=MAS\")","v":0},null,null,{"$f":"COUNTIFS(BG$8:BG$76,\"=1\",$D$8:$D$76,\"=MAS\")","v":0},null,null,{"$f":"COUNTIFS(BJ$8:BJ$76,\"=1\",$D$8:$D$76,\"=MAS\")","v":0},null,null,{"$f":"COUNTIFS(BM$8:BM$76,\"=1\",$D$8:$D$76,\"=MAS\")","v":0},null,null,{"$f":"COUNTIFS(BP$8:BP$76,\"=1\",$D$8:$D$76,\"=MAS\")","v":0},null,null,{"$f":"COUNTIFS(BS$8:BS$76,\"=1\",$D$8:$D$76,\"=MAS\")","v":0},null,null,{"$f":"COUNTIFS(BV$8:BV$76,\"=1\",$D$8:$D$76,\"=MAS\")","v":0},null,null,{"$f":"COUNTIFS(BY$8:BY$76,\"=1\",$D$8:$D$76,\"=MAS\")","v":0},null,null,{"$f":"COUNTIFS(CB$8:CB$76,\"=1\",$D$8:$D$76,\"=MAS\")","v":0},null,null,null,{"$f":"COUNTIFS(CF$8:CF$76,\"=1\",$D$8:$D$76,\"=MAS\")","v":0},null,null,{"$f":"COUNTIFS(CI$8:CI$76,\"=1\",$D$8:$D$76,\"=MAS\")","v":0},null,null,{"$f":"COUNTIFS(CL$8:CL$76,\"=1\",$D$8:$D$76,\"=MAS\")","v":0},null,null,{"$f":"COUNTIFS(CO$8:CO$76,\"=1\",$D$8:$D$76,\"=MAS\")","v":0},null,null,{"$f":"COUNTIFS(CR$8:CR$76,\"=1\",$D$8:$D$76,\"=MAS\")","v":0},null,null,{"$f":"COUNTIFS(CU$8:CU$76,\"=1\",$D$8:$D$76,\"=MAS\")","v":0},null,null,{"$f":"COUNTIFS(CX$8:CX$76,\"=1\",$D$8:$D$76,\"=MAS\")","v":0},null,null,{"$f":"COUNTIFS(DA$8:DA$76,\"=1\",$D$8:$D$76,\"=MAS\")","v":0},null,{"$f":"COUNTIFS(DC$8:DC$76,\"=1\",$D$8:$D$76,\"=MAS\")","v":0},null,null,{"$f":"COUNTIFS(DF$8:DF$76,\"=1\",$D$8:$D$76,\"=MAS\")","v":0},null,null,{"$f":"COUNTIFS(DI$8:DI$76,\"=1\",$D$8:$D$76,\"=MAS\")","v":0},null,null,{"$f":"COUNTIFS(DL$8:DL$76,\"=1\",$D$8:$D$76,\"=MAS\")","v":0},null,null,{"$f":"COUNTIFS(DO$8:DO$76,\"=1\",$D$8:$D$76,\"=MAS\")","v":0},null,null,{"$f":"COUNTIFS(DR$8:DR$76,\"=1\",$D$8:$D$76,\"=MAS\")","v":0},null,null,{"$f":"COUNTIFS(DU$8:DU$76,\"=1\",$D$8:$D$76,\"=MAS\")","v":0},null,null,{"$f":"COUNTIFS(DX$8:DX$76,\"=1\",$D$8:$D$76,\"=MAS\")","v":0},null,null,{"$f":"COUNTIFS(EA$8:EA$76,\"=1\",$D$8:$D$76,\"=MAS\")","v":0},null,null,{"$f":"COUNTIFS(ED$8:ED$76,\"=1\",$D$8:$D$76,\"=MAS\")","v":0}]
[null,null,null,null,"MAS Overall 2nd",null,null,null,null,null,null,null,0,{"$f":"COUNTIFS(N$8:N$76,\"=2\",$D$8:$D$76,\"=MAS\")","v":0},null,null,{"$f":"COUNTIFS(Q$8:Q$76,\"=2\",$D$8:$D$76,\"=MAS\")","v":0},null,null,null,{"$f":"COUNTIFS(U$8:U$76,\"=2\",$D$8:$D$76,\"=MAS\")","v":0},null,null,null,{"$f":"COUNTIFS(Y$8:Y$76,\"=2\",$D$8:$D$76,\"=MAS\")","v":0},null,null,{"$f":"COUNTIFS(AB$8:AB$76,\"=2\",$D$8:$D$76,\"=MAS\")","v":0},null,null,{"$f":"COUNTIFS(AE$8:AE$76,\"=2\",$D$8:$D$76,\"=MAS\")","v":0},null,null,{"$f":"COUNTIFS(AH$8:AH$76,\"=2\",$D$8:$D$76,\"=MAS\")","v":0},null,null,{"$f":"COUNTIFS(AK$8:AK$76,\"=2\",$D$8:$D$76,\"=MAS\")","v":0},null,null,{"$f":"COUNTIFS(AN$8:AN$76,\"=2\",$D$8:$D$76,\"=MAS\")","v":0},null,null,{"$f":"COUNTIFS(AQ$8:AQ$76,\"=2\",$D$8:$D$76,\"=MAS\")","v":0},null,null,{"$f":"COUNTIFS(AT$8:AT$76,\"=2\",$D$8:$D$76,\"=MAS\")","v":0},null,null,null,{"$f":"COUNTIFS(AX$8:AX$76,\"=2\",$D$8:$D$76,\"=MAS\")","v":0},null,null,{"$f":"COUNTIFS(BA$8:BA$76,\"=2\",$D$8:$D$76,\"=MAS\")","v":0},null,null,{"$f":"COUNTIFS(BD$8:BD$76,\"=2\",$D$8:$D$76,\"=MAS\")","v":0},null,null,{"$f":"COUNTIFS(BG$8:BG$76,\"=2\",$D$8:$D$76,\"=MAS\")","v":0},null,null,{"$f":"COUNTIFS(BJ$8:BJ$76,\"=2\",$D$8:$D$76,\"=MAS\")","v":0},null,null,{"$f":"COUNTIFS(BM$8:BM$76,\"=2\",$D$8:$D$76,\"=MAS\")","v":0},null,null,{"$f":"COUNTIFS(BP$8:BP$76,\"=2\",$D$8:$D$76,\"=MAS\")","v":0},null,null,{"$f":"COUNTIFS(BS$8:BS$76,\"=2\",$D$8:$D$76,\"=MAS\")","v":0},null,null,{"$f":"COUNTIFS(BV$8:BV$76,\"=2\",$D$8:$D$76,\"=MAS\")","v":0},null,null,{"$f":"COUNTIFS(BY$8:BY$76,\"=2\",$D$8:$D$76,\"=MAS\")","v":0},null,null,{"$f":"COUNTIFS(CB$8:CB$76,\"=2\",$D$8:$D$76,\"=MAS\")","v":0},null,null,null,{"$f":"COUNTIFS(CF$8:CF$76,\"=2\",$D$8:$D$76,\"=MAS\")","v":0},null,null,{"$f":"COUNTIFS(CI$8:CI$76,\"=2\",$D$8:$D$76,\"=MAS\")","v":0},null,null,{"$f":"COUNTIFS(CL$8:CL$76,\"=2\",$D$8:$D$76,\"=MAS\")","v":0},null,null,{"$f":"COUNTIFS(CO$8:CO$76,\"=2\",$D$8:$D$76,\"=MAS\")","v":0},null,null,{"$f":"COUNTIFS(CR$8:CR$76,\"=2\",$D$8:$D$76,\"=MAS\")","v":0},null,null,{"$f":"COUNTIFS(CU$8:CU$76,\"=2\",$D$8:$D$76,\"=MAS\")","v":0},null,null,{"$f":"COUNTIFS(CX$8:CX$76,\"=2\",$D$8:$D$76,\"=MAS\")","v":0},null,null,{"$f":"COUNTIFS(DA$8:DA$76,\"=2\",$D$8:$D$76,\"=MAS\")","v":0},null,{"$f":"COUNTIFS(DC$8:DC$76,\"=2\",$D$8:$D$76,\"=MAS\")","v":0},null,null,{"$f":"COUNTIFS(DF$8:DF$76,\"=2\",$D$8:$D$76,\"=MAS\")","v":0},null,null,{"$f":"COUNTIFS(DI$8:DI$76,\"=2\",$D$8:$D$76,\"=MAS\")","v":0},null,null,{"$f":"COUNTIFS(DL$8:DL$76,\"=2\",$D$8:$D$76,\"=MAS\")","v":0},null,null,{"$f":"COUNTIFS(DO$8:DO$76,\"=2\",$D$8:$D$76,\"=MAS\")","v":0},null,null,{"$f":"COUNTIFS(DR$8:DR$76,\"=2\",$D$8:$D$76,\"=MAS\")","v":0},null,null,{"$f":"COUNTIFS(DU$8:DU$76,\"=2\",$D$8:$D$76,\"=MAS\")","v":0},null,null,{"$f":"COUNTIFS(DX$8:DX$76,\"=2\",$D$8:$D$76,\"=MAS\")","v":0},null,null,{"$f":"COUNTIFS(EA$8:EA$76,\"=2\",$D$8:$D$76,\"=MAS\")","v":0},null,null,{"$f":"COUNTIFS(ED$8:ED$76,\"=2\",$D$8:$D$76,\"=MAS\")","v":0}]
[null,null,null,null,"MAS Overall 3rd",null,null,null,null,null,null,null,0,{"$f":"COUNTIFS(N$8:N$76,\"=3\",$D$8:$D$76,\"=MAS\")","v":0},null,null,{"$f":"COUNTIFS(Q$8:Q$76,\"=3\",$D$8:$D$76,\"=MAS\")","v":0},null,null,null,{"$f":"COUNTIFS(U$8:U$76,\"=3\",$D$8:$D$76,\"=MAS\")","v":0},null,null,null,{"$f":"COUNTIFS(Y$8:Y$76,\"=3\",$D$8:$D$76,\"=MAS\")","v":0},null,null,{"$f":"COUNTIFS(AB$8:AB$76,\"=3\",$D$8:$D$76,\"=MAS\")","v":0},null,null,{"$f":"COUNTIFS(AE$8:AE$76,\"=3\",$D$8:$D$76,\"=MAS\")","v":0},null,null,{"$f":"COUNTIFS(AH$8:AH$76,\"=3\",$D$8:$D$76,\"=MAS\")","v":0},null,null,{"$f":"COUNTIFS(AK$8:AK$76,\"=3\",$D$8:$D$76,\"=MAS\")","v":0},null,null,{"$f":"COUNTIFS(AN$8:AN$76,\"=3\",$D$8:$D$76,\"=MAS\")","v":0},null,null,{"$f":"COUNTIFS(AQ$8:AQ$76,\"=3\",$D$8:$D$76,\"=MAS\")","v":0},null,null,{"$f":"COUNTIFS(AT$8:AT$76,\"=3\",$D$8:$D$76,\"=MAS\")","v":0},null,null,null,{"$f":"COUNTIFS(AX$8:AX$76,\"=3\",$D$8:$D$76,\"=MAS\")","v":0},null,null,{"$f":"COUNTIFS(BA$8:BA$76,\"=3\",$D$8:$D$76,\"=MAS\")","v":0},null,null,{"$f":"COUNTIFS(BD$8:BD$76,\"=3\",$D$8:$D$76,\"=MAS\")","v":0},null,null,{"$f":"COUNTIFS(BG$8:BG$76,\"=3\",$D$8:$D$76,\"=MAS\")","v":0},null,null,{"$f":"COUNTIFS(BJ$8:BJ$76,\"=3\",$D$8:$D$76,\"=MAS\")","v":0},null,null,{"$f":"COUNTIFS(BM$8:BM$76,\"=3\",$D$8:$D$76,\"=MAS\")","v":0},null,null,{"$f":"COUNTIFS(BP$8:BP$76,\"=3\",$D$8:$D$76,\"=MAS\")","v":0},null,null,{"$f":"COUNTIFS(BS$8:BS$76,\"=3\",$D$8:$D$76,\"=MAS\")","v":0},null,null,{"$f":"COUNTIFS(BV$8:BV$76,\"=3\",$D$8:$D$76,\"=MAS\")","v":0},null,null,{"$f":"COUNTIFS(BY$8:BY$76,\"=3\",$D$8:$D$76,\"=MAS\")","v":0},null,null,{"$f":"COUNTIFS(CB$8:CB$76,\"=3\",$D$8:$D$76,\"=MAS\")","v":0},null,null,null,{"$f":"COUNTIFS(CF$8:CF$76,\"=3\",$D$8:$D$76,\"=MAS\")","v":0},null,null,{"$f":"COUNTIFS(CI$8:CI$76,\"=3\",$D$8:$D$76,\"=MAS\")","v":0},null,null,{"$f":"COUNTIFS(CL$8:CL$76,\"=3\",$D$8:$D$76,\"=MAS\")","v":0},null,null,{"$f":"COUNTIFS(CO$8:CO$76,\"=3\",$D$8:$D$76,\"=MAS\")","v":0},null,null,{"$f":"COUNTIFS(CR$8:CR$76,\"=3\",$D$8:$D$76,\"=MAS\")","v":0},null,null,{"$f":"COUNTIFS(CU$8:CU$76,\"=3\",$D$8:$D$76,\"=MAS\")","v":0},null,null,{"$f":"COUNTIFS(CX$8:CX$76,\"=3\",$D$8:$D$76,\"=MAS\")","v":0},null,null,{"$f":"COUNTIFS(DA$8:DA$76,\"=3\",$D$8:$D$76,\"=MAS\")","v":0},null,{"$f":"COUNTIFS(DC$8:DC$76,\"=3\",$D$8:$D$76,\"=MAS\")","v":0},null,null,{"$f":"COUNTIFS(DF$8:DF$76,\"=3\",$D$8:$D$76,\"=MAS\")","v":0},null,null,{"$f":"COUNTIFS(DI$8:DI$76,\"=3\",$D$8:$D$76,\"=MAS\")","v":0},null,null,{"$f":"COUNTIFS(DL$8:DL$76,\"=3\",$D$8:$D$76,\"=MAS\")","v":0},null,null,{"$f":"COUNTIFS(DO$8:DO$76,\"=3\",$D$8:$D$76,\"=MAS\")","v":0},null,null,{"$f":"COUNTIFS(DR$8:DR$76,\"=3\",$D$8:$D$76,\"=MAS\")","v":0},null,null,{"$f":"COUNTIFS(DU$8:DU$76,\"=3\",$D$8:$D$76,\"=MAS\")","v":0},null,null,{"$f":"COUNTIFS(DX$8:DX$76,\"=3\",$D$8:$D$76,\"=MAS\")","v":0},null,null,{"$f":"COUNTIFS(EA$8:EA$76,\"=3\",$D$8:$D$76,\"=MAS\")","v":0},null,null,{"$f":"COUNTIFS(ED$8:ED$76,\"=3\",$D$8:$D$76,\"=MAS\")","v":0}]
[null,null,null,null,"Male Overall Podiums",null,null,null,null,null,null,null,11,{"$f":"COUNTIFS(N$21:N$76,\"<=3\",N$21:N$76,\">=1\",$B$21:$B$76,\"=M\")","v":1},null,null,{"$f":"COUNTIFS(Q$21:Q$76,\"<=3\",Q$21:Q$76,\">=1\",$B$21:$B$76,\"=M\")","v":0},null,null,null,{"$f":"COUNTIFS(U$21:U$76,\"<=3\",U$21:U$76,\">=1\",$B$21:$B$76,\"=M\")","v":0},null,null,null,{"$f":"COUNTIFS(Y$21:Y$76,\"<=3\",Y$21:Y$76,\">=1\",$B$21:$B$76,\"=M\")","v":0},null,null,{"$f":"COUNTIFS(AB$21:AB$76,\"<=3\",AB$21:AB$76,\">=1\",$B$21:$B$76,\"=M\")","v":0},null,null,{"$f":"COUNTIFS(AE$21:AE$76,\"<=3\",AE$21:AE$76,\">=1\",$B$21:$B$76,\"=M\")","v":1},null,null,{"$f":"COUNTIFS(AH$21:AH$76,\"<=3\",AH$21:AH$76,\">=1\",$B$21:$B$76,\"=M\")","v":0},null,null,{"$f":"COUNTIFS(AK$21:AK$76,\"<=3\",AK$21:AK$76,\">=1\",$B$21:$B$76,\"=M\")","v":0},null,null,{"$f":"COUNTIFS(AN$21:AN$76,\"<=3\",AN$21:AN$76,\">=1\",$B$21:$B$76,\"=M\")","v":0},null,null,{"$f":"COUNTIFS(AQ$21:AQ$76,\"<=3\",AQ$21:AQ$76,\">=1\",$B$21:$B$76,\"=M\")","v":1},null,null,{"$f":"COUNTIFS(AT$21:AT$76,\"<=3\",AT$21:AT$76,\">=1\",$B$21:$B$76,\"=M\")","v":0},null,null,null,{"$f":"COUNTIFS(AX$21:AX$76,\"<=3\",AX$21:AX$76,\">=1\",$B$21:$B$76,\"=M\")","v":0},null,null,{"$f":"COUNTIFS(BA$21:BA$76,\"<=3\",BA$21:BA$76,\">=1\",$B$21:$B$76,\"=M\")","v":0},null,null,{"$f":"COUNTIFS(BD$21:BD$76,\"<=3\",BD$21:BD$76,\">=1\",$B$21:$B$76,\"=M\")","v":0},null,null,{"$f":"COUNTIFS(BG$21:BG$76,\"<=3\",BG$21:BG$76,\">=1\",$B$21:$B$76,\"=M\")","v":0},null,null,{"$f":"COUNTIFS(BJ$21:BJ$76,\"<=3\",BJ$21:BJ$76,\">=1\",$B$21:$B$76,\"=M\")","v":0},null,null,{"$f":"COUNTIFS(BM$21:BM$76,\"<=3\",BM$21:BM$76,\">=1\",$B$21:$B$76,\"=M\")","v":1},null,null,{"$f":"COUNTIFS(BP$21:BP$76,\"<=3\",BP$21:BP$76,\">=1\",$B$21:$B$76,\"=M\")","v":0},null,null,{"$f":"COUNTIFS(BS$21:BS$76,\"<=3\",BS$21:BS$76,\">=1\",$B$21:$B$76,\"=M\")","v":0},null,null,{"$f":"COUNTIFS(BV$21:BV$76,\"<=3\",BV$21:BV$76,\">=1\",$B$21:$B$76,\"=M\")","v":1},null,null,{"$f":"COUNTIFS(BY$21:BY$76,\"<=3\",BY$21:BY$76,\">=1\",$B$21:$B$76,\"=M\")","v":0},null,null,{"$f":"COUNTIFS(CB$21:CB$76,\"<=3\",CB$21:CB$76,\">=1\",$B$21:$B$76,\"=M\")","v":0},null,null,null,{"$f":"COUNTIFS(CF$21:CF$76,\"<=3\",CF$21:CF$76,\">=1\",$B$21:$B$76,\"=M\")","v":0},null,null,{"$f":"COUNTIFS(CI$21:CI$76,\"<=3\",CI$21:CI$76,\">=1\",$B$21:$B$76,\"=M\")","v":0},null,null,{"$f":"COUNTIFS(CL$21:CL$76,\"<=3\",CL$21:CL$76,\">=1\",$B$21:$B$76,\"=M\")","v":0},null,null,{"$f":"COUNTIFS(CO$21:CO$76,\"<=3\",CO$21:CO$76,\">=1\",$B$21:$B$76,\"=M\")","v":0},null,null,{"$f":"COUNTIFS(CR$21:CR$76,\"<=3\",CR$21:CR$76,\">=1\",$B$21:$B$76,\"=M\")","v":0},null,null,{"$f":"COUNTIFS(CU$21:CU$76,\"<=3\",CU$21:CU$76,\">=1\",$B$21:$B$76,\"=M\")","v":0},null,null,{"$f":"COUNTIFS(CX$21:CX$76,\"<=3\",CX$21:CX$76,\">=1\",$B$21:$B$76,\"=M\")","v":1},null,null,{"$f":"COUNTIFS(DA$21:DA$76,\"<=3\",DA$21:DA$76,\">=1\",$B$21:$B$76,\"=M\")","v":0},null,{"$f":"COUNTIFS(DC$21:DC$76,\"<=3\",DC$21:DC$76,\">=1\",$B$21:$B$76,\"=M\")","v":0},null,null,{"$f":"COUNTIFS(DF$21:DF$76,\"<=3\",DF$21:DF$76,\">=1\",$B$21:$B$76,\"=M\")","v":0},null,null,{"$f":"COUNTIFS(DI$21:DI$76,\"<=3\",DI$21:DI$76,\">=1\",$B$21:$B$76,\"=M\")","v":1},null,null,{"$f":"COUNTIFS(DL$21:DL$76,\"<=3\",DL$21:DL$76,\">=1\",$B$21:$B$76,\"=M\")","v":1},null,null,{"$f":"COUNTIFS(DO$21:DO$76,\"<=3\",DO$21:DO$76,\">=1\",$B$21:$B$76,\"=M\")","v":0},null,null,{"$f":"COUNTIFS(DR$21:DR$76,\"<=3\",DR$21:DR$76,\">=1\",$B$21:$B$76,\"=M\")","v":0},null,null,{"$f":"COUNTIFS(DU$21:DU$76,\"<=3\",DU$21:DU$76,\">=1\",$B$21:$B$76,\"=M\")","v":2},null,null,{"$f":"COUNTIFS(DX$21:DX$76,\"<=3\",DX$21:DX$76,\">=1\",$B$21:$B$76,\"=M\")","v":1},null,null,{"$f":"COUNTIFS(EA$21:EA$76,\"<=3\",EA$21:EA$76,\">=1\",$B$21:$B$76,\"=M\")","v":0},null,null,{"$f":"COUNTIFS(ED$21:ED$76,\"<=3\",ED$21:ED$76,\">=1\",$B$21:$B$76,\"=M\")","v":0}]
[null,null,null,null,"Female Overall Podiums",null,null,null,null,null,null,null,3,{"$f":"COUNTIFS(N$21:N$76,\"<=3\",N$21:N$76,\">=1\",$B$21:$B$76,\"=F\")","v":0},null,null,{"$f":"COUNTIFS(Q$21:Q$76,\"<=3\",Q$21:Q$76,\">=1\",$B$21:$B$76,\"=F\")","v":0},null,null,null,{"$f":"COUNTIFS(U$21:U$76,\"<=3\",U$21:U$76,\">=1\",$B$21:$B$76,\"=F\")","v":0},null,null,null,{"$f":"COUNTIFS(Y$21:Y$76,\"<=3\",Y$21:Y$76,\">=1\",$B$21:$B$76,\"=F\")","v":0},null,null,{"$f":"COUNTIFS(AB$21:AB$76,\"<=3\",AB$21:AB$76,\">=1\",$B$21:$B$76,\"=F\")","v":0},null,null,{"$f":"COUNTIFS(AE$21:AE$76,\"<=3\",AE$21:AE$76,\">=1\",$B$21:$B$76,\"=F\")","v":0},null,null,{"$f":"COUNTIFS(AH$21:AH$76,\"<=3\",AH$21:AH$76,\">=1\",$B$21:$B$76,\"=F\")","v":0},null,null,{"$f":"COUNTIFS(AK$21:AK$76,\"<=3\",AK$21:AK$76,\">=1\",$B$21:$B$76,\"=F\")","v":0},null,null,{"$f":"COUNTIFS(AN$21:AN$76,\"<=3\",AN$21:AN$76,\">=1\",$B$21:$B$76,\"=F\")","v":0},null,null,{"$f":"COUNTIFS(AQ$21:AQ$76,\"<=3\",AQ$21:AQ$76,\">=1\",$B$21:$B$76,\"=F\")","v":1},null,null,{"$f":"COUNTIFS(AT$21:AT$76,\"<=3\",AT$21:AT$76,\">=1\",$B$21:$B$76,\"=F\")","v":0},null,null,null,{"$f":"COUNTIFS(AX$21:AX$76,\"<=3\",AX$21:AX$76,\">=1\",$B$21:$B$76,\"=F\")","v":0},null,null,{"$f":"COUNTIFS(BA$21:BA$76,\"<=3\",BA$21:BA$76,\">=1\",$B$21:$B$76,\"=F\")","v":0},null,null,{"$f":"COUNTIFS(BD$21:BD$76,\"<=3\",BD$21:BD$76,\">=1\",$B$21:$B$76,\"=F\")","v":0},null,null,{"$f":"COUNTIFS(BG$21:BG$76,\"<=3\",BG$21:BG$76,\">=1\",$B$21:$B$76,\"=F\")","v":1},null,null,{"$f":"COUNTIFS(BJ$21:BJ$76,\"<=3\",BJ$21:BJ$76,\">=1\",$B$21:$B$76,\"=F\")","v":0},null,null,{"$f":"COUNTIFS(BM$21:BM$76,\"<=3\",BM$21:BM$76,\">=1\",$B$21:$B$76,\"=F\")","v":1},null,null,{"$f":"COUNTIFS(BP$21:BP$76,\"<=3\",BP$21:BP$76,\">=1\",$B$21:$B$76,\"=F\")","v":0},null,null,{"$f":"COUNTIFS(BS$21:BS$76,\"<=3\",BS$21:BS$76,\">=1\",$B$21:$B$76,\"=F\")","v":0},null,null,{"$f":"COUNTIFS(BV$21:BV$76,\"<=3\",BV$21:BV$76,\">=1\",$B$21:$B$76,\"=F\")","v":0},null,null,{"$f":"COUNTIFS(BY$21:BY$76,\"<=3\",BY$21:BY$76,\">=1\",$B$21:$B$76,\"=F\")","v":0},null,null,{"$f":"COUNTIFS(CB$21:CB$76,\"<=3\",CB$21:CB$76,\">=1\",$B$21:$B$76,\"=F\")","v":0},null,null,null,{"$f":"COUNTIFS(CF$21:CF$76,\"<=3\",CF$21:CF$76,\">=1\",$B$21:$B$76,\"=F\")","v":0},null,null,{"$f":"COUNTIFS(CI$21:CI$76,\"<=3\",CI$21:CI$76,\">=1\",$B$21:$B$76,\"=F\")","v":0},null,null,{"$f":"COUNTIFS(CL$21:CL$76,\"<=3\",CL$21:CL$76,\">=1\",$B$21:$B$76,\"=F\")","v":0},null,null,{"$f":"COUNTIFS(CO$21:CO$76,\"<=3\",CO$21:CO$76,\">=1\",$B$21:$B$76,\"=F\")","v":0},null,null,{"$f":"COUNTIFS(CR$21:CR$76,\"<=3\",CR$21:CR$76,\">=1\",$B$21:$B$76,\"=F\")","v":0},null,null,{"$f":"COUNTIFS(CU$21:CU$76,\"<=3\",CU$21:CU$76,\">=1\",$B$21:$B$76,\"=F\")","v":0},null,null,{"$f":"COUNTIFS(CX$21:CX$76,\"<=3\",CX$21:CX$76,\">=1\",$B$21:$B$76,\"=F\")","v":0},null,null,{"$f":"COUNTIFS(DA$21:DA$76,\"<=3\",DA$21:DA$76,\">=1\",$B$21:$B$76,\"=F\")","v":0},null,{"$f":"COUNTIFS(DC$21:DC$76,\"<=3\",DC$21:DC$76,\">=1\",$B$21:$B$76,\"=F\")","v":0},null,null,{"$f":"COUNTIFS(DF$21:DF$76,\"<=3\",DF$21:DF$76,\">=1\",$B$21:$B$76,\"=F\")","v":0},null,null,{"$f":"COUNTIFS(DI$21:DI$76,\"<=3\",DI$21:DI$76,\">=1\",$B$21:$B$76,\"=F\")","v":0},null,null,{"$f":"COUNTIFS(DL$21:DL$76,\"<=3\",DL$21:DL$76,\">=1\",$B$21:$B$76,\"=F\")","v":0},null,null,{"$f":"COUNTIFS(DO$21:DO$76,\"<=3\",DO$21:DO$76,\">=1\",$B$21:$B$76,\"=F\")","v":0},null,null,{"$f":"COUNTIFS(DR$21:DR$76,\"<=3\",DR$21:DR$76,\">=1\",$B$21:$B$76,\"=F\")","v":0},null,null,{"$f":"COUNTIFS(DU$21:DU$76,\"<=3\",DU$21:DU$76,\">=1\",$B$21:$B$76,\"=F\")","v":0},null,null,{"$f":"COUNTIFS(DX$21:DX$76,\"<=3\",DX$21:DX$76,\">=1\",$B$21:$B$76,\"=F\")","v":0},null,null,{"$f":"COUNTIFS(EA$21:EA$76,\"<=3\",EA$21:EA$76,\">=1\",$B$21:$B$76,\"=F\")","v":0},null,null,{"$f":"COUNTIFS(ED$21:ED$76,\"<=3\",ED$21:ED$76,\">=1\",$B$21:$B$76,\"=F\")","v":0}]

{"sheet":"Points Rules","index":1,"n_rows":58,"n_cols":4,"rows_kept":58,"cut":false,"hidden":false,"merged":[]}
["Snowsport England - Seed Points"]
[]
["DETERMINATION OF EVENT POINTS",null,"Year of Birth","Age Category"]
[null,null,2005,"U10"]
["Event Points = Race Points + Penalty Points",null,2004,"U10"]
[null,null,2003,"U12"]
["Calculation of Race Points",null,2002,"U12"]
["Competitor's time divided by the winner's time, minus 1, multiplied by F (F = 610 in 2012) ",null,2001,"U14"]
[null,null,2000,"U14"]
["Calculation of Penalty Points",null,1999,"U16"]
["A + B - C, divided by 10",null,1998,"U16"]
[null,null,1997,"U18"]
["A = the sum of the seed points of the 5 best seeded competitors in the first 10 finishers",null,1996,"U18"]
["B = the sum of the seed points of the 5 best seeded competitors at the start of the race",null,1995,"U21"]
["C = the sum of the race points of the 5 best seeded competitors in the first 10 finishers",null,1994,"U21"]
[null,null,1993,"U21"]
["Minimum Penalty Points",null,1992,"SEN"]
["British, English, Welsh, Scottish and Irish Championships = 0 points",null,1991,"SEN"]
["Great British Series = 5 points",null,1990,"SEN"]
["Club National = 10 points",null,1989,"SEN"]
["Indoor Club National Single run=10 points",null,1988,"SEN"]
["Note",null,1987,"SEN"]
["Male and Female races are seeded separately and carry their own penalty points.",null,1986,"SEN"]
[null,null,1985,"SEN"]
["CALCULATION OF SEED POINTS",null,1984,"SEN"]
[null,null,1983,"MAS"]
["Seed points for all but the end-of-season list are the minimum of:",null,1982,"MAS"]
[null,null,1981,"MAS"]
["A.  Last year's end-of-season points (the basic points)",null,1980,"MAS"]
["B.  The average of the 2 best results (event points) this season",null,1979,"MAS"]
["C.  The average of the best result this season and the the basic points",null,1978,"MAS"]
["D.  The best result this season + 20% (minimum loading = 10 points)",null,1977,"MAS"]
[null,null,1976,"MAS"]
["End-of-season seed points are the minimum of:",null,1975,"MAS"]
[null,null,1974,"MAS"]
["A.  Last year's end-of-season seed points + 20% (minimum loading = 10 points)",null,1973,"MAS"]
["B.  The average of the 2 best results this season",null,1972,"MAS"]
["C.  The best result from this season + 20% (minimum loading = 10 points)",null,1971,"MAS"]
[null,null,1970,"MAS"]
["Notes",null,1969,"MAS"]
["For option B to be valid, the 2 results must be from different venues.",null,1968,"MAS"]
["In order to calculate the final end-of-season seed points, the provisional seed points are adjusted by a value ",null,1967,"MAS"]
["which sets the seed points of the best seeded competitor to zero.",null,1966,"MAS"]
["Separate male and female seed points lists are published.",null,1965,"MAS"]
["Seed lists are published on www.britski.org and www.gbski.com",null,1964,"MAS"]
[null,null,1963,"MAS"]
[null,null,1962,"MAS"]
[null,null,1961,"MAS"]
[null,null,1960,"MAS"]
[null,null,1959,"MAS"]
[null,null,1958,"MAS"]
[null,null,1957,"MAS"]
[null,null,1956,"MAS"]
[null,null,1955,"MAS"]
[null,null,1954,"MAS"]
[null,null,1953,"MAS"]
[null,null,1952,"MAS"]
[null,null,1951,"MAS"]

{"sheet":"Individual Statistics","index":2,"n_rows":97,"n_cols":12,"rows_kept":97,"cut":false,"hidden":false,"merged":[]}
[null,"MSC Podiums in BARTS Events"]
[]
[]
[null,null,null,null,null,null,null,null,2011,2013,2013]
[null,"Racer","Year of","Age",2013,2013,"Overall","Age Grp","ESSKIA","England","Wales"]
[null,"Name","Birth","Group","Start","Change","Podiums","Podiums","Squad","Squad","Squad"]
[null,"GIRLS",{"$f":"IF(ISERROR(VLOOKUP($B7,'Races, Positions & Points'!$A:$C,3,FALSE)),\"\",IF((VLOOKUP($B7,'Races, Positions & Points'!$A:$C,3,FALSE))=0,\"\",VLOOKUP($B7,'Races, Positions & Points'!$A:$C,3,FALSE)))","v":""},{"$f":"IF(ISERROR(VLOOKUP($B7,'Races, Positions & Points'!$A:$D,4,FALSE)),\"\",IF((VLOOKUP($B7,'Races, Positions & Points'!$A:$D,4,FALSE))=0,\"\",VLOOKUP($B7,'Races, Positions & Points'!$A:$D,4,FALSE)))","v":""},{"$f":"IF(ISERROR(VLOOKUP($B7,'Races, Positions & Points'!$A:$F,7,FALSE)),\"\",IF((VLOOKUP($B7,'Races, Positions & Points'!$A:$F,7,FALSE))=0,\"\",VLOOKUP($B7,'Races, Positions & Points'!$A:$F,7,FALSE)))","v":""},{"$f":"IF(ISERROR(VLOOKUP($B7,'Races, Positions & Points'!$A:$M,9,FALSE)),\"\",IF((VLOOKUP($B7,'Races, Positions & Points'!$A:$M,9,FALSE))=0,\"\",VLOOKUP($B7,'Races, Positions & Points'!$A:$M,9,FALSE)))","v":""},{"$f":"IF(ISERROR(VLOOKUP($B7,'Races, Positions & Points'!$A:$EF,131,FALSE)),\"\",IF((VLOOKUP($B7,'Races, Positions & Points'!$A:$EF,131,FALSE))=0,\"\",VLOOKUP($B7,'Races, Positions & Points'!$A:$EF,131,FALSE)))","v":""},{"$f":"IF(ISERROR(VLOOKUP($B7,'Races, Positions & Points'!$A:$EF,132,FALSE)),\"\",IF((VLOOKUP($B7,'Races, Positions & Points'!$A:$EF,132,FALSE))=0,\"\",VLOOKUP($B7,'Races, Positions & Points'!$A:$EF,132,FALSE)))","v":""}]
[null,{"$f":"'Races, Positions & Points'!A8","v":"Lauren Treuge"},{"$f":"'Races, Positions & Points'!C8","v":2003},{"$f":"IF(ISERROR(VLOOKUP($B8,'Races, Positions & Points'!$A:$D,4,FALSE)),\"\",IF((VLOOKUP($B8,'Races, Positions & Points'!$A:$D,4,FALSE))=0,\"\",VLOOKUP($B8,'Races, Positions & Points'!$A:$D,4,FALSE)))","v":"U12"},999.99,null,{"$f":"IF(ISERROR(VLOOKUP($B8,'Races, Positions & Points'!$A:$EG,137,FALSE)),\"\",IF((VLOOKUP($B8,'Races, Positions & Points'!$A:$EG,137,FALSE))=0,\"\",VLOOKUP($B8,'Races, Positions & Points'!$A:$EG,137,FALSE)))","v":""},{"$f":"IF(ISERROR(VLOOKUP($B8,'Races, Positions & Points'!$A:$EH,138,FALSE)),\"\",IF((VLOOKUP($B8,'Races, Positions & Points'!$A:$EH,138,FALSE))=0,\"\",VLOOKUP($B8,'Races, Positions & Points'!$A:$EH,138,FALSE)))","v":""}]
[null,{"$f":"'Races, Positions & Points'!A9","v":"Tilley O'Brien"},{"$f":"'Races, Positions & Points'!C9","v":2004},{"$f":"IF(ISERROR(VLOOKUP($B9,'Races, Positions & Points'!$A:$D,4,FALSE)),\"\",IF((VLOOKUP($B9,'Races, Positions & Points'!$A:$D,4,FALSE))=0,\"\",VLOOKUP($B9,'Races, Positions & Points'!$A:$D,4,FALSE)))","v":"U10"},999.99,null,{"$f":"IF(ISERROR(VLOOKUP($B9,'Races, Positions & Points'!$A:$EG,137,FALSE)),\"\",IF((VLOOKUP($B9,'Races, Positions & Points'!$A:$EG,137,FALSE))=0,\"\",VLOOKUP($B9,'Races, Positions & Points'!$A:$EG,137,FALSE)))","v":""},{"$f":"IF(ISERROR(VLOOKUP($B9,'Races, Positions & Points'!$A:$EH,138,FALSE)),\"\",IF((VLOOKUP($B9,'Races, Positions & Points'!$A:$EH,138,FALSE))=0,\"\",VLOOKUP($B9,'Races, Positions & Points'!$A:$EH,138,FALSE)))","v":6}]
[null,{"$f":"'Races, Positions & Points'!A10","v":"Anya Hemming"},{"$f":"'Races, Positions & Points'!C10","v":2005},{"$f":"IF(ISERROR(VLOOKUP($B10,'Races, Positions & Points'!$A:$D,4,FALSE)),\"\",IF((VLOOKUP($B10,'Races, Positions & Points'!$A:$D,4,FALSE))=0,\"\",VLOOKUP($B10,'Races, Positions & Points'!$A:$D,4,FALSE)))","v":"U10"},999.99,null,{"$f":"IF(ISERROR(VLOOKUP($B10,'Races, Positions & Points'!$A:$EG,137,FALSE)),\"\",IF((VLOOKUP($B10,'Races, Positions & Points'!$A:$EG,137,FALSE))=0,\"\",VLOOKUP($B10,'Races, Positions & Points'!$A:$EG,137,FALSE)))","v":""},{"$f":"IF(ISERROR(VLOOKUP($B10,'Races, Positions & Points'!$A:$EH,138,FALSE)),\"\",IF((VLOOKUP($B10,'Races, Positions & Points'!$A:$EH,138,FALSE))=0,\"\",VLOOKUP($B10,'Races, Positions & Points'!$A:$EH,138,FALSE)))","v":11}]
[null,"BOYS",{"$f":"IF(ISERROR(VLOOKUP($B11,'Races, Positions & Points'!$A:$C,3,FALSE)),\"\",IF((VLOOKUP($B11,'Races, Positions & Points'!$A:$C,3,FALSE))=0,\"\",VLOOKUP($B11,'Races, Positions & Points'!$A:$C,3,FALSE)))","v":""},{"$f":"IF(ISERROR(VLOOKUP($B11,'Races, Positions & Points'!$A:$D,4,FALSE)),\"\",IF((VLOOKUP($B11,'Races, Positions & Points'!$A:$D,4,FALSE))=0,\"\",VLOOKUP($B11,'Races, Positions & Points'!$A:$D,4,FALSE)))","v":""},{"$f":"IF(ISERROR(VLOOKUP($B11,'Races, Positions & Points'!$A:$F,7,FALSE)),\"\",IF((VLOOKUP($B11,'Races, Positions & Points'!$A:$F,7,FALSE))=0,\"\",VLOOKUP($B11,'Races, Positions & Points'!$A:$F,7,FALSE)))","v":""},{"$f":"IF(ISERROR(VLOOKUP($B11,'Races, Positions & Points'!$A:$M,9,FALSE)),\"\",IF((VLOOKUP($B11,'Races, Positions & Points'!$A:$M,9,FALSE))=0,\"\",VLOOKUP($B11,'Races, Positions & Points'!$A:$M,9,FALSE)))","v":""},{"$f":"IF(ISERROR(VLOOKUP($B11,'Races, Positions & Points'!$A:$M,9,FALSE)),\"\",IF((VLOOKUP($B11,'Races, Positions & Points'!$A:$M,9,FALSE))=0,\"\",VLOOKUP($B11,'Races, Positions & Points'!$A:$M,9,FALSE)))","v":""},{"$f":"IF(ISERROR(VLOOKUP($B11,'Races, Positions & Points'!$A:$EF,132,FALSE)),\"\",IF((VLOOKUP($B11,'Races, Positions & Points'!$A:$EF,132,FALSE))=0,\"\",VLOOKUP($B11,'Races, Positions & Points'!$A:$EF,132,FALSE)))","v":""}]
[null,{"$f":"'Races, Positions & Points'!A12","v":"James Care"},{"$f":"'Races, Positions & Points'!C12","v":2002},{"$f":"IF(ISERROR(VLOOKUP($B12,'Races, Positions & Points'!$A:$D,4,FALSE)),\"\",IF((VLOOKUP($B12,'Races, Positions & Points'!$A:$D,4,FALSE))=0,\"\",VLOOKUP($B12,'Races, Positions & Points'!$A:$D,4,FALSE)))","v":"U12"},999.99,{"$f":"'Races, Positions & Points'!M12","v":""},{"$f":"IF(ISERROR(VLOOKUP($B12,'Races, Positions & Points'!$A:$EG,137,FALSE)),\"\",IF((VLOOKUP($B12,'Races, Positions & Points'!$A:$EG,137,FALSE))=0,\"\",VLOOKUP($B12,'Races, Positions & Points'!$A:$EG,137,FALSE)))","v":""},{"$f":"IF(ISERROR(VLOOKUP($B12,'Races, Positions & Points'!$A:$EH,138,FALSE)),\"\",IF((VLOOKUP($B12,'Races, Positions & Points'!$A:$EH,138,FALSE))=0,\"\",VLOOKUP($B12,'Races, Positions & Points'!$A:$EH,138,FALSE)))","v":""}]
[null,{"$f":"'Races, Positions & Points'!A13","v":"Macaulay Clover"},{"$f":"'Races, Positions & Points'!C13","v":2002},{"$f":"IF(ISERROR(VLOOKUP($B13,'Races, Positions & Points'!$A:$D,4,FALSE)),\"\",IF((VLOOKUP($B13,'Races, Positions & Points'!$A:$D,4,FALSE))=0,\"\",VLOOKUP($B13,'Races, Positions & Points'!$A:$D,4,FALSE)))","v":"U12"},999.99,{"$f":"'Races, Positions & Points'!M13","v":""},{"$f":"IF(ISERROR(VLOOKUP($B13,'Races, Positions & Points'!$A:$EG,137,FALSE)),\"\",IF((VLOOKUP($B13,'Races, Positions & Points'!$A:$EG,137,FALSE))=0,\"\",VLOOKUP($B13,'Races, Positions & Points'!$A:$EG,137,FALSE)))","v":""},{"$f":"IF(ISERROR(VLOOKUP($B13,'Races, Positions & Points'!$A:$EH,138,FALSE)),\"\",IF((VLOOKUP($B13,'Races, Positions & Points'!$A:$EH,138,FALSE))=0,\"\",VLOOKUP($B13,'Races, Positions & Points'!$A:$EH,138,FALSE)))","v":""}]
[null,{"$f":"'Races, Positions & Points'!A14","v":"Seamus O'Brien"},{"$f":"'Races, Positions & Points'!C14","v":2002},{"$f":"IF(ISERROR(VLOOKUP($B14,'Races, Positions & Points'!$A:$D,4,FALSE)),\"\",IF((VLOOKUP($B14,'Races, Positions & Points'!$A:$D,4,FALSE))=0,\"\",VLOOKUP($B14,'Races, Positions & Points'!$A:$D,4,FALSE)))","v":"U12"},999.99,{"$f":"'Races, Positions & Points'!M14","v":""},{"$f":"IF(ISERROR(VLOOKUP($B14,'Races, Positions & Points'!$A:$EG,137,FALSE)),\"\",IF((VLOOKUP($B14,'Races, Positions & Points'!$A:$EG,137,FALSE))=0,\"\",VLOOKUP($B14,'Races, Positions & Points'!$A:$EG,137,FALSE)))","v":""},{"$f":"IF(ISERROR(VLOOKUP($B14,'Races, Positions & Points'!$A:$EH,138,FALSE)),\"\",IF((VLOOKUP($B14,'Races, Positions & Points'!$A:$EH,138,FALSE))=0,\"\",VLOOKUP($B14,'Races, Positions & Points'!$A:$EH,138,FALSE)))","v":2}]
[null,{"$f":"'Races, Positions & Points'!A15","v":"Matthew Treuge"},{"$f":"'Races, Positions & Points'!C15","v":2002},{"$f":"IF(ISERROR(VLOOKUP($B15,'Races, Positions & Points'!$A:$D,4,FALSE)),\"\",IF((VLOOKUP($B15,'Races, Positions & Points'!$A:$D,4,FALSE))=0,\"\",VLOOKUP($B15,'Races, Positions & Points'!$A:$D,4,FALSE)))","v":"U12"},999.99,{"$f":"'Races, Positions & Points'!M15","v":""},{"$f":"IF(ISERROR(VLOOKUP($B15,'Races, Positions & Points'!$A:$EG,137,FALSE)),\"\",IF((VLOOKUP($B15,'Races, Positions & Points'!$A:$EG,137,FALSE))=0,\"\",VLOOKUP($B15,'Races, Positions & Points'!$A:$EG,137,FALSE)))","v":""},{"$f":"IF(ISERROR(VLOOKUP($B15,'Races, Positions & Points'!$A:$EH,138,FALSE)),\"\",IF((VLOOKUP($B15,'Races, Positions & Points'!$A:$EH,138,FALSE))=0,\"\",VLOOKUP($B15,'Races, Positions & Points'!$A:$EH,138,FALSE)))","v":""}]
[null,{"$f":"'Races, Positions & Points'!A16","v":"James Shakeshaft"},{"$f":"'Races, Positions & Points'!C16","v":2003},{"$f":"IF(ISERROR(VLOOKUP($B16,'Races, Positions & Points'!$A:$D,4,FALSE)),\"\",IF((VLOOKUP($B16,'Races, Positions & Points'!$A:$D,4,FALSE))=0,\"\",VLOOKUP($B16,'Races, Positions & Points'!$A:$D,4,FALSE)))","v":"U12"},999.99,{"$f":"'Races, Positions & Points'!M16","v":""},{"$f":"IF(ISERROR(VLOOKUP($B16,'Races, Positions & Points'!$A:$EG,137,FALSE)),\"\",IF((VLOOKUP($B16,'Races, Positions & Points'!$A:$EG,137,FALSE))=0,\"\",VLOOKUP($B16,'Races, Positions & Points'!$A:$EG,137,FALSE)))","v":""},{"$f":"IF(ISERROR(VLOOKUP($B16,'Races, Positions & Points'!$A:$EH,138,FALSE)),\"\",IF((VLOOKUP($B16,'Races, Positions & Points'!$A:$EH,138,FALSE))=0,\"\",VLOOKUP($B16,'Races, Positions & Points'!$A:$EH,138,FALSE)))","v":""}]
[null,{"$f":"'Races, Positions & Points'!A17","v":"Daniel Hadley"},{"$f":"'Races, Positions & Points'!C17","v":2004},{"$f":"IF(ISERROR(VLOOKUP($B17,'Races, Positions & Points'!$A:$D,4,FALSE)),\"\",IF((VLOOKUP($B17,'Races, Positions & Points'!$A:$D,4,FALSE))=0,\"\",VLOOKUP($B17,'Races, Positions & Points'!$A:$D,4,FALSE)))","v":"U10"},999.99,{"$f":"'Races, Positions & Points'!M17","v":""},{"$f":"IF(ISERROR(VLOOKUP($B17,'Races, Positions & Points'!$A:$EG,137,FALSE)),\"\",IF((VLOOKUP($B17,'Races, Positions & Points'!$A:$EG,137,FALSE))=0,\"\",VLOOKUP($B17,'Races, Positions & Points'!$A:$EG,137,FALSE)))","v":""},{"$f":"IF(ISERROR(VLOOKUP($B17,'Races, Positions & Points'!$A:$EH,138,FALSE)),\"\",IF((VLOOKUP($B17,'Races, Positions & Points'!$A:$EH,138,FALSE))=0,\"\",VLOOKUP($B17,'Races, Positions & Points'!$A:$EH,138,FALSE)))","v":2}]
[null,{"$f":"'Races, Positions & Points'!A18","v":"Jack Teague"},{"$f":"'Races, Positions & Points'!C18","v":2004},{"$f":"IF(ISERROR(VLOOKUP($B18,'Races, Positions & Points'!$A:$D,4,FALSE)),\"\",IF((VLOOKUP($B18,'Races, Positions & Points'!$A:$D,4,FALSE))=0,\"\",VLOOKUP($B18,'Races, Positions & Points'!$A:$D,4,FALSE)))","v":"U10"},999.99,{"$f":"'Races, Positions & Points'!M18","v":""},{"$f":"IF(ISERROR(VLOOKUP($B18,'Races, Positions & Points'!$A:$EG,137,FALSE)),\"\",IF((VLOOKUP($B18,'Races, Positions & Points'!$A:$EG,137,FALSE))=0,\"\",VLOOKUP($B18,'Races, Positions & Points'!$A:$EG,137,FALSE)))","v":""},{"$f":"IF(ISERROR(VLOOKUP($B18,'Races, Positions & Points'!$A:$EH,138,FALSE)),\"\",IF((VLOOKUP($B18,'Races, Positions & Points'!$A:$EH,138,FALSE))=0,\"\",VLOOKUP($B18,'Races, Positions & Points'!$A:$EH,138,FALSE)))","v":2}]
[null,{"$f":"'Races, Positions & Points'!A19","v":"Jack Upton"},{"$f":"'Races, Positions & Points'!C19","v":2004},{"$f":"IF(ISERROR(VLOOKUP($B19,'Races, Positions & Points'!$A:$D,4,FALSE)),\"\",IF((VLOOKUP($B19,'Races, Positions & Points'!$A:$D,4,FALSE))=0,\"\",VLOOKUP($B19,'Races, Positions & Points'!$A:$D,4,FALSE)))","v":"U10"},999.99,{"$f":"'Races, Positions & Points'!M19","v":""},{"$f":"IF(ISERROR(VLOOKUP($B19,'Races, Positions & Points'!$A:$EG,137,FALSE)),\"\",IF((VLOOKUP($B19,'Races, Positions & Points'!$A:$EG,137,FALSE))=0,\"\",VLOOKUP($B19,'Races, Positions & Points'!$A:$EG,137,FALSE)))","v":""},{"$f":"IF(ISERROR(VLOOKUP($B19,'Races, Positions & Points'!$A:$EH,138,FALSE)),\"\",IF((VLOOKUP($B19,'Races, Positions & Points'!$A:$EH,138,FALSE))=0,\"\",VLOOKUP($B19,'Races, Positions & Points'!$A:$EH,138,FALSE)))","v":13}]
[null,"FEMALES",{"$f":"IF(ISERROR(VLOOKUP($B20,'Races, Positions & Points'!$A:$C,3,FALSE)),\"\",IF((VLOOKUP($B20,'Races, Positions & Points'!$A:$C,3,FALSE))=0,\"\",VLOOKUP($B20,'Races, Positions & Points'!$A:$C,3,FALSE)))","v":""},{"$f":"IF(ISERROR(VLOOKUP($B20,'Races, Positions & Points'!$A:$D,4,FALSE)),\"\",IF((VLOOKUP($B20,'Races, Positions & Points'!$A:$D,4,FALSE))=0,\"\",VLOOKUP($B20,'Races, Positions & Points'!$A:$D,4,FALSE)))","v":""},{"$f":"IF(ISERROR(VLOOKUP($B20,'Races, Positions & Points'!$A:$F,7,FALSE)),\"\",IF((VLOOKUP($B20,'Races, Positions & Points'!$A:$F,7,FALSE))=0,\"\",VLOOKUP($B20,'Races, Positions & Points'!$A:$F,7,FALSE)))","v":""},{"$f":"IF(ISERROR(VLOOKUP($B20,'Races, Positions & Points'!$A:$M,9,FALSE)),\"\",IF((VLOOKUP($B20,'Races, Positions & Points'!$A:$M,9,FALSE))=0,\"\",VLOOKUP($B20,'Races, Positions & Points'!$A:$M,9,FALSE)))","v":""},null,{"$f":"IF(ISERROR(VLOOKUP($B20,'Races, Positions & Points'!$A:$EF,132,FALSE)),\"\",IF((VLOOKUP($B20,'Races, Positions & Points'!$A:$EF,132,FALSE))=0,\"\",VLOOKUP($B20,'Races, Positions & Points'!$A:$EF,132,FALSE)))","v":""}]
[null,{"$f":"'Races, Positions & Points'!A21","v":"Lucy Deller"},{"$f":"'Races, Positions & Points'!C21","v":1996},{"$f":"IF(ISERROR(VLOOKUP($B21,'Races, Positions & Points'!$A:$D,4,FALSE)),\"\",IF((VLOOKUP($B21,'Races, Positions & Points'!$A:$D,4,FALSE))=0,\"\",VLOOKUP($B21,'Races, Positions & Points'!$A:$D,4,FALSE)))","v":"U18"},{"$f":"'Races, Positions & Points'!F21","v":15.68},{"$f":"'Races, Positions & Points'!M21","v":""},{"$f":"IF(ISERROR(VLOOKUP($B21,'Races, Positions & Points'!$A:$EG,137,FALSE)),\"\",IF((VLOOKUP($B21,'Races, Positions & Points'!$A:$EG,137,FALSE))=0,\"\",VLOOKUP($B21,'Races, Positions & Points'!$A:$EG,137,FALSE)))","v":1},{"$f":"IF(ISERROR(VLOOKUP($B21,'Races, Positions & Points'!$A:$EH,138,FALSE)),\"\",IF((VLOOKUP($B21,'Races, Positions & Points'!$A:$EH,138,FALSE))=0,\"\",VLOOKUP($B21,'Races, Positions & Points'!$A:$EH,138,FALSE)))","v":9}]
[null,{"$f":"'Races, Positions & Points'!A22","v":"Rowan Vernon"},{"$f":"'Races, Positions & Points'!C22","v":1988},{"$f":"IF(ISERROR(VLOOKUP($B22,'Races, Positions & Points'!$A:$D,4,FALSE)),\"\",IF((VLOOKUP($B22,'Races, Positions & Points'!$A:$D,4,FALSE))=0,\"\",VLOOKUP($B22,'Races, Positions & Points'!$A:$D,4,FALSE)))","v":"SEN"},{"$f":"'Races, Positions & Points'!F22","v":22.84},{"$f":"'Races, Positions & Points'!M22","v":""},{"$f":"IF(ISERROR(VLOOKUP($B22,'Races, Positions & Points'!$A:$EG,137,FALSE)),\"\",IF((VLOOKUP($B22,'Races, Positions & Points'!$A:$EG,137,FALSE))=0,\"\",VLOOKUP($B22,'Races, Positions & Points'!$A:$EG,137,FALSE)))","v":""},{"$f":"IF(ISERROR(VLOOKUP($B22,'Races, Positions & Points'!$A:$EH,138,FALSE)),\"\",IF((VLOOKUP($B22,'Races, Positions & Points'!$A:$EH,138,FALSE))=0,\"\",VLOOKUP($B22,'Races, Positions & Points'!$A:$EH,138,FALSE)))","v":""}]
[null,{"$f":"'Races, Positions & Points'!A23","v":"Rachel Bill"},{"$f":"'Races, Positions & Points'!C23","v":1990},{"$f":"IF(ISERROR(VLOOKUP($B23,'Races, Positions & Points'!$A:$D,4,FALSE)),\"\",IF((VLOOKUP($B23,'Races, Positions & Points'!$A:$D,4,FALSE))=0,\"\",VLOOKUP($B23,'Races, Positions & Points'!$A:$D,4,FALSE)))","v":"SEN"},{"$f":"'Races, Positions & Points'!F23","v":33.85},{"$f":"'Races, Positions & Points'!M23","v":-10.040000000000003},{"$f":"IF(ISERROR(VLOOKUP($B23,'Races, Positions & Points'!$A:$EG,137,FALSE)),\"\",IF((VLOOKUP($B23,'Races, Positions & Points'!$A:$EG,137,FALSE))=0,\"\",VLOOKUP($B23,'Races, Positions & Points'!$A:$EG,137,FALSE)))","v":2},{"$f":"IF(ISERROR(VLOOKUP($B23,'Races, Positions & Points'!$A:$EH,138,FALSE)),\"\",IF((VLOOKUP($B23,'Races, Positions & Points'!$A:$EH,138,FALSE))=0,\"\",VLOOKUP($B23,'Races, Positions & Points'!$A:$EH,138,FALSE)))","v":5},null,null,null," "]
[null,{"$f":"'Races, Positions & Points'!A24","v":"Helena Newboult"},{"$f":"'Races, Positions & Points'!C24","v":1998},{"$f":"IF(ISERROR(VLOOKUP($B24,'Races, Positions & Points'!$A:$D,4,FALSE)),\"\",IF((VLOOKUP($B24,'Races, Positions & Points'!$A:$D,4,FALSE))=0,\"\",VLOOKUP($B24,'Races, Positions & Points'!$A:$D,4,FALSE)))","v":"U16"},{"$f":"'Races, Positions & Points'!F24","v":30.53},{"$f":"'Races, Positions & Points'!M24","v":-3.1400000000000006},{"$f":"IF(ISERROR(VLOOKUP($B24,'Races, Positions & Points'!$A:$EG,137,FALSE)),\"\",IF((VLOOKUP($B24,'Races, Positions & Points'!$A:$EG,137,FALSE))=0,\"\",VLOOKUP($B24,'Races, Positions & Points'!$A:$EG,137,FALSE)))","v":""},{"$f":"IF(ISERROR(VLOOKUP($B24,'Races, Positions & Points'!$A:$EH,138,FALSE)),\"\",IF((VLOOKUP($B24,'Races, Positions & Points'!$A:$EH,138,FALSE))=0,\"\",VLOOKUP($B24,'Races, Positions & Points'!$A:$EH,138,FALSE)))","v":9}]
[null,{"$f":"'Races, Positions & Points'!A25","v":"Amy Middleton"},{"$f":"'Races, Positions & Points'!C25","v":1995},{"$f":"IF(ISERROR(VLOOKUP($B25,'Races, Positions & Points'!$A:$D,4,FALSE)),\"\",IF((VLOOKUP($B25,'Races, Positions & Points'!$A:$D,4,FALSE))=0,\"\",VLOOKUP($B25,'Races, Positions & Points'!$A:$D,4,FALSE)))","v":"U21"},{"$f":"'Races, Positions & Points'!F25","v":69.36},{"$f":"'Races, Positions & Points'!M25","v":-18.21},{"$f":"IF(ISERROR(VLOOKUP($B25,'Races, Positions & Points'!$A:$EG,137,FALSE)),\"\",IF((VLOOKUP($B25,'Races, Positions & Points'!$A:$EG,137,FALSE))=0,\"\",VLOOKUP($B25,'Races, Positions & Points'!$A:$EG,137,FALSE)))","v":""},{"$f":"IF(ISERROR(VLOOKUP($B25,'Races, Positions & Points'!$A:$EH,138,FALSE)),\"\",IF((VLOOKUP($B25,'Races, Positions & Points'!$A:$EH,138,FALSE))=0,\"\",VLOOKUP($B25,'Races, Positions & Points'!$A:$EH,138,FALSE)))","v":6}]
[null,{"$f":"'Races, Positions & Points'!A26","v":"Elisabeth Thomas"},{"$f":"'Races, Positions & Points'!C26","v":1996},{"$f":"IF(ISERROR(VLOOKUP($B26,'Races, Positions & Points'!$A:$D,4,FALSE)),\"\",IF((VLOOKUP($B26,'Races, Positions & Points'!$A:$D,4,FALSE))=0,\"\",VLOOKUP($B26,'Races, Positions & Points'!$A:$D,4,FALSE)))","v":"U18"},{"$f":"'Races, Positions & Points'!F26","v":60.58},{"$f":"'Races, Positions & Points'!M26","v":""},{"$f":"IF(ISERROR(VLOOKUP($B26,'Races, Positions & Points'!$A:$EG,137,FALSE)),\"\",IF((VLOOKUP($B26,'Races, Positions & Points'!$A:$EG,137,FALSE))=0,\"\",VLOOKUP($B26,'Races, Positions & Points'!$A:$EG,137,FALSE)))","v":""},{"$f":"IF(ISERROR(VLOOKUP($B26,'Races, Positions & Points'!$A:$EH,138,FALSE)),\"\",IF((VLOOKUP($B26,'Races, Positions & Points'!$A:$EH,138,FALSE))=0,\"\",VLOOKUP($B26,'Races, Positions & Points'!$A:$EH,138,FALSE)))","v":""}]
[null,{"$f":"'Races, Positions & Points'!A27","v":"Maxine Hancock"},{"$f":"'Races, Positions & Points'!C27","v":1997},{"$f":"IF(ISERROR(VLOOKUP($B27,'Races, Positions & Points'!$A:$D,4,FALSE)),\"\",IF((VLOOKUP($B27,'Races, Positions & Points'!$A:$D,4,FALSE))=0,\"\",VLOOKUP($B27,'Races, Positions & Points'!$A:$D,4,FALSE)))","v":"U18"},{"$f":"'Races, Positions & Points'!F27","v":124.82},{"$f":"'Races, Positions & Points'!M27","v":-50.539999999999992},{"$f":"IF(ISERROR(VLOOKUP($B27,'Races, Positions & Points'!$A:$EG,137,FALSE)),\"\",IF((VLOOKUP($B27,'Races, Positions & Points'!$A:$EG,137,FALSE))=0,\"\",VLOOKUP($B27,'Races, Positions & Points'!$A:$EG,137,FALSE)))","v":""},{"$f":"IF(ISERROR(VLOOKUP($B27,'Races, Positions & Points'!$A:$EH,138,FALSE)),\"\",IF((VLOOKUP($B27,'Races, Positions & Points'!$A:$EH,138,FALSE))=0,\"\",VLOOKUP($B27,'Races, Positions & Points'!$A:$EH,138,FALSE)))","v":""}]
[null,{"$f":"'Races, Positions & Points'!A28","v":"Jessica Mayhew"},{"$f":"'Races, Positions & Points'!C28","v":2000},{"$f":"IF(ISERROR(VLOOKUP($B28,'Races, Positions & Points'!$A:$D,4,FALSE)),\"\",IF((VLOOKUP($B28,'Races, Positions & Points'!$A:$D,4,FALSE))=0,\"\",VLOOKUP($B28,'Races, Positions & Points'!$A:$D,4,FALSE)))","v":"U14"},{"$f":"'Races, Positions & Points'!F28","v":124.09},{"$f":"'Races, Positions & Points'!M28","v":-39.909999999999997},{"$f":"IF(ISERROR(VLOOKUP($B28,'Races, Positions & Points'!$A:$EG,137,FALSE)),\"\",IF((VLOOKUP($B28,'Races, Positions & Points'!$A:$EG,137,FALSE))=0,\"\",VLOOKUP($B28,'Races, Positions & Points'!$A:$EG,137,FALSE)))","v":""},{"$f":"IF(ISERROR(VLOOKUP($B28,'Races, Positions & Points'!$A:$EH,138,FALSE)),\"\",IF((VLOOKUP($B28,'Races, Positions & Points'!$A:$EH,138,FALSE))=0,\"\",VLOOKUP($B28,'Races, Positions & Points'!$A:$EH,138,FALSE)))","v":9}]
[null,{"$f":"'Races, Positions & Points'!A29","v":"Hannah Shakeshaft"},{"$f":"'Races, Positions & Points'!C29","v":1996},{"$f":"IF(ISERROR(VLOOKUP($B29,'Races, Positions & Points'!$A:$D,4,FALSE)),\"\",IF((VLOOKUP($B29,'Races, Positions & Points'!$A:$D,4,FALSE))=0,\"\",VLOOKUP($B29,'Races, Positions & Points'!$A:$D,4,FALSE)))","v":"U18"},{"$f":"'Races, Positions & Points'!F29","v":116.91},{"$f":"'Races, Positions & Points'!M29","v":""},{"$f":"IF(ISERROR(VLOOKUP($B29,'Races, Positions & Points'!$A:$EG,137,FALSE)),\"\",IF((VLOOKUP($B29,'Races, Positions & Points'!$A:$EG,137,FALSE))=0,\"\",VLOOKUP($B29,'Races, Positions & Points'!$A:$EG,137,FALSE)))","v":""},{"$f":"IF(ISERROR(VLOOKUP($B29,'Races, Positions & Points'!$A:$EH,138,FALSE)),\"\",IF((VLOOKUP($B29,'Races, Positions & Points'!$A:$EH,138,FALSE))=0,\"\",VLOOKUP($B29,'Races, Positions & Points'!$A:$EH,138,FALSE)))","v":""}]
[null,{"$f":"'Races, Positions & Points'!A30","v":"Chloe Care"},{"$f":"'Races, Positions & Points'!C30","v":1998},{"$f":"IF(ISERROR(VLOOKUP($B30,'Races, Positions & Points'!$A:$D,4,FALSE)),\"\",IF((VLOOKUP($B30,'Races, Positions & Points'!$A:$D,4,FALSE))=0,\"\",VLOOKUP($B30,'Races, Positions & Points'!$A:$D,4,FALSE)))","v":"U16"},{"$f":"'Races, Positions & Points'!F30","v":224.39},{"$f":"'Races, Positions & Points'!M30","v":-21.379999999999995},{"$f":"IF(ISERROR(VLOOKUP($B30,'Races, Positions & Points'!$A:$EG,137,FALSE)),\"\",IF((VLOOKUP($B30,'Races, Positions & Points'!$A:$EG,137,FALSE))=0,\"\",VLOOKUP($B30,'Races, Positions & Points'!$A:$EG,137,FALSE)))","v":""},{"$f":"IF(ISERROR(VLOOKUP($B30,'Races, Positions & Points'!$A:$EH,138,FALSE)),\"\",IF((VLOOKUP($B30,'Races, Positions & Points'!$A:$EH,138,FALSE))=0,\"\",VLOOKUP($B30,'Races, Positions & Points'!$A:$EH,138,FALSE)))","v":2}]
[null,{"$f":"'Races, Positions & Points'!A31","v":"Geraldine Elgy"},{"$f":"'Races, Positions & Points'!C31","v":1954},{"$f":"IF(ISERROR(VLOOKUP($B31,'Races, Positions & Points'!$A:$D,4,FALSE)),\"\",IF((VLOOKUP($B31,'Races, Positions & Points'!$A:$D,4,FALSE))=0,\"\",VLOOKUP($B31,'Races, Positions & Points'!$A:$D,4,FALSE)))","v":"MAS"},{"$f":"'Races, Positions & Points'!F31","v":275.20999999999998},{"$f":"'Races, Positions & Points'!M31","v":""},{"$f":"IF(ISERROR(VLOOKUP($B31,'Races, Positions & Points'!$A:$EG,137,FALSE)),\"\",IF((VLOOKUP($B31,'Races, Positions & Points'!$A:$EG,137,FALSE))=0,\"\",VLOOKUP($B31,'Races, Positions & Points'!$A:$EG,137,FALSE)))","v":""},{"$f":"IF(ISERROR(VLOOKUP($B31,'Races, Positions & Points'!$A:$EH,138,FALSE)),\"\",IF((VLOOKUP($B31,'Races, Positions & Points'!$A:$EH,138,FALSE))=0,\"\",VLOOKUP($B31,'Races, Positions & Points'!$A:$EH,138,FALSE)))","v":""}]
[null,{"$f":"'Races, Positions & Points'!A32","v":"Laura Newboult"},{"$f":"'Races, Positions & Points'!C32","v":1995},{"$f":"IF(ISERROR(VLOOKUP($B32,'Races, Positions & Points'!$A:$D,4,FALSE)),\"\",IF((VLOOKUP($B32,'Races, Positions & Points'!$A:$D,4,FALSE))=0,\"\",VLOOKUP($B32,'Races, Positions & Points'!$A:$D,4,FALSE)))","v":"U21"},{"$f":"'Races, Positions & Points'!F32","v":357.45},{"$f":"'Races, Positions & Points'!M32","v":""},{"$f":"IF(ISERROR(VLOOKUP($B32,'Races, Positions & Points'!$A:$EG,137,FALSE)),\"\",IF((VLOOKUP($B32,'Races, Positions & Points'!$A:$EG,137,FALSE))=0,\"\",VLOOKUP($B32,'Races, Positions & Points'!$A:$EG,137,FALSE)))","v":""},{"$f":"IF(ISERROR(VLOOKUP($B32,'Races, Positions & Points'!$A:$EH,138,FALSE)),\"\",IF((VLOOKUP($B32,'Races, Positions & Points'!$A:$EH,138,FALSE))=0,\"\",VLOOKUP($B32,'Races, Positions & Points'!$A:$EH,138,FALSE)))","v":""}]
[null,{"$f":"'Races, Positions & Points'!A33","v":"Robyn Doherty"},{"$f":"'Races, Positions & Points'!C33","v":1996},{"$f":"IF(ISERROR(VLOOKUP($B33,'Races, Positions & Points'!$A:$D,4,FALSE)),\"\",IF((VLOOKUP($B33,'Races, Positions & Points'!$A:$D,4,FALSE))=0,\"\",VLOOKUP($B33,'Races, Positions & Points'!$A:$D,4,FALSE)))","v":"U18"},{"$f":"'Races, Positions & Points'!F33","v":530.29},{"$f":"'Races, Positions & Points'!M33","v":""},{"$f":"IF(ISERROR(VLOOKUP($B33,'Races, Positions & Points'!$A:$EG,137,FALSE)),\"\",IF((VLOOKUP($B33,'Races, Positions & Points'!$A:$EG,137,FALSE))=0,\"\",VLOOKUP($B33,'Races, Positions & Points'!$A:$EG,137,FALSE)))","v":""},{"$f":"IF(ISERROR(VLOOKUP($B33,'Races, Positions & Points'!$A:$EH,138,FALSE)),\"\",IF((VLOOKUP($B33,'Races, Positions & Points'!$A:$EH,138,FALSE))=0,\"\",VLOOKUP($B33,'Races, Positions & Points'!$A:$EH,138,FALSE)))","v":""}]
[null,{"$f":"'Races, Positions & Points'!A34","v":"Jane Lee"},{"$f":"'Races, Positions & Points'!C34","v":1954},{"$f":"IF(ISERROR(VLOOKUP($B34,'Races, Positions & Points'!$A:$D,4,FALSE)),\"\",IF((VLOOKUP($B34,'Races, Positions & Points'!$A:$D,4,FALSE))=0,\"\",VLOOKUP($B34,'Races, Positions & Points'!$A:$D,4,FALSE)))","v":"MAS"},{"$f":"'Races, Positions & Points'!F34","v":533.71},{"$f":"'Races, Positions & Points'!M34","v":""},{"$f":"IF(ISERROR(VLOOKUP($B34,'Races, Positions & Points'!$A:$EG,137,FALSE)),\"\",IF((VLOOKUP($B34,'Races, Positions & Points'!$A:$EG,137,FALSE))=0,\"\",VLOOKUP($B34,'Races, Positions & Points'!$A:$EG,137,FALSE)))","v":""},{"$f":"IF(ISERROR(VLOOKUP($B34,'Races, Positions & Points'!$A:$EH,138,FALSE)),\"\",IF((VLOOKUP($B34,'Races, Positions & Points'!$A:$EH,138,FALSE))=0,\"\",VLOOKUP($B34,'Races, Positions & Points'!$A:$EH,138,FALSE)))","v":""}]
[null,{"$f":"'Races, Positions & Points'!A35","v":"Emily Dawes"},{"$f":"'Races, Positions & Points'!C35","v":1991},{"$f":"IF(ISERROR(VLOOKUP($B35,'Races, Positions & Points'!$A:$D,4,FALSE)),\"\",IF((VLOOKUP($B35,'Races, Positions & Points'!$A:$D,4,FALSE))=0,\"\",VLOOKUP($B35,'Races, Positions & Points'!$A:$D,4,FALSE)))","v":"SEN"},{"$f":"'Races, Positions & Points'!F35","v":"NR"},{"$f":"'Races, Positions & Points'!M35","v":""},{"$f":"IF(ISERROR(VLOOKUP($B35,'Races, Positions & Points'!$A:$EG,137,FALSE)),\"\",IF((VLOOKUP($B35,'Races, Positions & Points'!$A:$EG,137,FALSE))=0,\"\",VLOOKUP($B35,'Races, Positions & Points'!$A:$EG,137,FALSE)))","v":""},{"$f":"IF(ISERROR(VLOOKUP($B35,'Races, Positions & Points'!$A:$EH,138,FALSE)),\"\",IF((VLOOKUP($B35,'Races, Positions & Points'!$A:$EH,138,FALSE))=0,\"\",VLOOKUP($B35,'Races, Positions & Points'!$A:$EH,138,FALSE)))","v":""}]
[null,{"$f":"'Races, Positions & Points'!A36","v":"Sophia Phelps"},{"$f":"'Races, Positions & Points'!C36","v":1994},{"$f":"IF(ISERROR(VLOOKUP($B36,'Races, Positions & Points'!$A:$D,4,FALSE)),\"\",IF((VLOOKUP($B36,'Races, Positions & Points'!$A:$D,4,FALSE))=0,\"\",VLOOKUP($B36,'Races, Positions & Points'!$A:$D,4,FALSE)))","v":"U21"},{"$f":"'Races, Positions & Points'!F36","v":"NR"},{"$f":"'Races, Positions & Points'!M36","v":""},{"$f":"IF(ISERROR(VLOOKUP($B36,'Races, Positions & Points'!$A:$EG,137,FALSE)),\"\",IF((VLOOKUP($B36,'Races, Positions & Points'!$A:$EG,137,FALSE))=0,\"\",VLOOKUP($B36,'Races, Positions & Points'!$A:$EG,137,FALSE)))","v":""},{"$f":"IF(ISERROR(VLOOKUP($B36,'Races, Positions & Points'!$A:$EH,138,FALSE)),\"\",IF((VLOOKUP($B36,'Races, Positions & Points'!$A:$EH,138,FALSE))=0,\"\",VLOOKUP($B36,'Races, Positions & Points'!$A:$EH,138,FALSE)))","v":""}]
[null,{"$f":"'Races, Positions & Points'!A37","v":"Olivia Waller"},{"$f":"'Races, Positions & Points'!C37","v":1994},{"$f":"IF(ISERROR(VLOOKUP($B37,'Races, Positions & Points'!$A:$D,4,FALSE)),\"\",IF((VLOOKUP($B37,'Races, Positions & Points'!$A:$D,4,FALSE))=0,\"\",VLOOKUP($B37,'Races, Positions & Points'!$A:$D,4,FALSE)))","v":"U21"},{"$f":"'Races, Positions & Points'!F37","v":"NR"},{"$f":"'Races, Positions & Points'!M37","v":""},{"$f":"IF(ISERROR(VLOOKUP($B37,'Races, Positions & Points'!$A:$EG,137,FALSE)),\"\",IF((VLOOKUP($B37,'Races, Positions & Points'!$A:$EG,137,FALSE))=0,\"\",VLOOKUP($B37,'Races, Positions & Points'!$A:$EG,137,FALSE)))","v":""},{"$f":"IF(ISERROR(VLOOKUP($B37,'Races, Positions & Points'!$A:$EH,138,FALSE)),\"\",IF((VLOOKUP($B37,'Races, Positions & Points'!$A:$EH,138,FALSE))=0,\"\",VLOOKUP($B37,'Races, Positions & Points'!$A:$EH,138,FALSE)))","v":""}]
[null,{"$f":"'Races, Positions & Points'!A38","v":"Agathe Vallat"},{"$f":"'Races, Positions & Points'!C38","v":1999},{"$f":"IF(ISERROR(VLOOKUP($B38,'Races, Positions & Points'!$A:$D,4,FALSE)),\"\",IF((VLOOKUP($B38,'Races, Positions & Points'!$A:$D,4,FALSE))=0,\"\",VLOOKUP($B38,'Races, Positions & Points'!$A:$D,4,FALSE)))","v":"U16"},{"$f":"'Races, Positions & Points'!F38","v":999.99},{"$f":"'Races, Positions & Points'!M38","v":""},{"$f":"IF(ISERROR(VLOOKUP($B38,'Races, Positions & Points'!$A:$EG,137,FALSE)),\"\",IF((VLOOKUP($B38,'Races, Positions & Points'!$A:$EG,137,FALSE))=0,\"\",VLOOKUP($B38,'Races, Positions & Points'!$A:$EG,137,FALSE)))","v":""},{"$f":"IF(ISERROR(VLOOKUP($B38,'Races, Positions & Points'!$A:$EH,138,FALSE)),\"\",IF((VLOOKUP($B38,'Races, Positions & Points'!$A:$EH,138,FALSE))=0,\"\",VLOOKUP($B38,'Races, Positions & Points'!$A:$EH,138,FALSE)))","v":""}]
[null,{"$f":"'Races, Positions & Points'!A39","v":"Carys Phillips"},{"$f":"'Races, Positions & Points'!C39","v":1999},{"$f":"IF(ISERROR(VLOOKUP($B39,'Races, Positions & Points'!$A:$D,4,FALSE)),\"\",IF((VLOOKUP($B39,'Races, Positions & Points'!$A:$D,4,FALSE))=0,\"\",VLOOKUP($B39,'Races, Positions & Points'!$A:$D,4,FALSE)))","v":"U16"},{"$f":"'Races, Positions & Points'!F39","v":"NR"},{"$f":"'Races, Positions & Points'!M39","v":""},{"$f":"IF(ISERROR(VLOOKUP($B39,'Races, Positions & Points'!$A:$EG,137,FALSE)),\"\",IF((VLOOKUP($B39,'Races, Positions & Points'!$A:$EG,137,FALSE))=0,\"\",VLOOKUP($B39,'Races, Positions & Points'!$A:$EG,137,FALSE)))","v":""},{"$f":"IF(ISERROR(VLOOKUP($B39,'Races, Positions & Points'!$A:$EH,138,FALSE)),\"\",IF((VLOOKUP($B39,'Races, Positions & Points'!$A:$EH,138,FALSE))=0,\"\",VLOOKUP($B39,'Races, Positions & Points'!$A:$EH,138,FALSE)))","v":""}]
[null,"MALES",{"$f":"IF(ISERROR(VLOOKUP($B40,'Races, Positions & Points'!$A:$C,3,FALSE)),\"\",IF((VLOOKUP($B40,'Races, Positions & Points'!$A:$C,3,FALSE))=0,\"\",VLOOKUP($B40,'Races, Positions & Points'!$A:$C,3,FALSE)))","v":""},{"$f":"IF(ISERROR(VLOOKUP($B40,'Races, Positions & Points'!$A:$D,4,FALSE)),\"\",IF((VLOOKUP($B40,'Races, Positions & Points'!$A:$D,4,FALSE))=0,\"\",VLOOKUP($B40,'Races, Positions & Points'!$A:$D,4,FALSE)))","v":""},{"$f":"IF(ISERROR(VLOOKUP($B40,'Races, Positions & Points'!$A:$F,7,FALSE)),\"\",IF((VLOOKUP($B40,'Races, Positions & Points'!$A:$F,7,FALSE))=0,\"\",VLOOKUP($B40,'Races, Positions & Points'!$A:$F,7,FALSE)))","v":""},{"$f":"IF(ISERROR(VLOOKUP($B40,'Races, Positions & Points'!$A:$M,9,FALSE)),\"\",IF((VLOOKUP($B40,'Races, Positions & Points'!$A:$M,9,FALSE))=0,\"\",VLOOKUP($B40,'Races, Positions & Points'!$A:$M,9,FALSE)))","v":""},null,{"$f":"IF(ISERROR(VLOOKUP($B40,'Races, Positions & Points'!$A:$EF,132,FALSE)),\"\",IF((VLOOKUP($B40,'Races, Positions & Points'!$A:$EF,132,FALSE))=0,\"\",VLOOKUP($B40,'Races, Positions & Points'!$A:$EF,132,FALSE)))","v":""}]
[null,{"$f":"'Races, Positions & Points'!A41","v":"Harry Hornsby"},{"$f":"'Races, Positions & Points'!C41","v":1991},{"$f":"IF(ISERROR(VLOOKUP($B41,'Races, Positions & Points'!$A:$D,4,FALSE)),\"\",IF((VLOOKUP($B41,'Races, Positions & Points'!$A:$D,4,FALSE))=0,\"\",VLOOKUP($B41,'Races, Positions & Points'!$A:$D,4,FALSE)))","v":"SEN"},{"$f":"'Races, Positions & Points'!F41","v":4.17},{"$f":"'Races, Positions & Points'!M41","v":""},{"$f":"IF(ISERROR(VLOOKUP($B41,'Races, Positions & Points'!$A:$EG,137,FALSE)),\"\",IF((VLOOKUP($B41,'Races, Positions & Points'!$A:$EG,137,FALSE))=0,\"\",VLOOKUP($B41,'Races, Positions & Points'!$A:$EG,137,FALSE)))","v":3},{"$f":"IF(ISERROR(VLOOKUP($B41,'Races, Positions & Points'!$A:$EH,138,FALSE)),\"\",IF((VLOOKUP($B41,'Races, Positions & Points'!$A:$EH,138,FALSE))=0,\"\",VLOOKUP($B41,'Races, Positions & Points'!$A:$EH,138,FALSE)))","v":5},null,null,null," "]
[null,{"$f":"'Races, Positions & Points'!A42","v":"Andrew Du Plessis"},{"$f":"'Races, Positions & Points'!C42","v":1985},{"$f":"IF(ISERROR(VLOOKUP($B42,'Races, Positions & Points'!$A:$D,4,FALSE)),\"\",IF((VLOOKUP($B42,'Races, Positions & Points'!$A:$D,4,FALSE))=0,\"\",VLOOKUP($B42,'Races, Positions & Points'!$A:$D,4,FALSE)))","v":"SEN"},{"$f":"'Races, Positions & Points'!F42","v":25.51},{"$f":"'Races, Positions & Points'!M42","v":-0.89000000000000057},{"$f":"IF(ISERROR(VLOOKUP($B42,'Races, Positions & Points'!$A:$EG,137,FALSE)),\"\",IF((VLOOKUP($B42,'Races, Positions & Points'!$A:$EG,137,FALSE))=0,\"\",VLOOKUP($B42,'Races, Positions & Points'!$A:$EG,137,FALSE)))","v":""},{"$f":"IF(ISERROR(VLOOKUP($B42,'Races, Positions & Points'!$A:$EH,138,FALSE)),\"\",IF((VLOOKUP($B42,'Races, Positions & Points'!$A:$EH,138,FALSE))=0,\"\",VLOOKUP($B42,'Races, Positions & Points'!$A:$EH,138,FALSE)))","v":3}]
[null,{"$f":"'Races, Positions & Points'!A43","v":"Adam Beardmore"},{"$f":"'Races, Positions & Points'!C43","v":1986},{"$f":"IF(ISERROR(VLOOKUP($B43,'Races, Positions & Points'!$A:$D,4,FALSE)),\"\",IF((VLOOKUP($B43,'Races, Positions & Points'!$A:$D,4,FALSE))=0,\"\",VLOOKUP($B43,'Races, Positions & Points'!$A:$D,4,FALSE)))","v":"SEN"},{"$f":"'Races, Positions & Points'!F43","v":29.85},{"$f":"'Races, Positions & Points'!M43","v":""},{"$f":"IF(ISERROR(VLOOKUP($B43,'Races, Positions & Points'!$A:$EG,137,FALSE)),\"\",IF((VLOOKUP($B43,'Races, Positions & Points'!$A:$EG,137,FALSE))=0,\"\",VLOOKUP($B43,'Races, Positions & Points'!$A:$EG,137,FALSE)))","v":""},{"$f":"IF(ISERROR(VLOOKUP($B43,'Races, Positions & Points'!$A:$EH,138,FALSE)),\"\",IF((VLOOKUP($B43,'Races, Positions & Points'!$A:$EH,138,FALSE))=0,\"\",VLOOKUP($B43,'Races, Positions & Points'!$A:$EH,138,FALSE)))","v":""},null,null,null," "]
[null,{"$f":"'Races, Positions & Points'!A44","v":"Jonny Powell"},{"$f":"'Races, Positions & Points'!C44","v":1986},{"$f":"IF(ISERROR(VLOOKUP($B44,'Races, Positions & Points'!$A:$D,4,FALSE)),\"\",IF((VLOOKUP($B44,'Races, Positions & Points'!$A:$D,4,FALSE))=0,\"\",VLOOKUP($B44,'Races, Positions & Points'!$A:$D,4,FALSE)))","v":"SEN"},{"$f":"'Races, Positions & Points'!F44","v":30.83},{"$f":"'Races, Positions & Points'!M44","v":-7.52},{"$f":"IF(ISERROR(VLOOKUP($B44,'Races, Positions & Points'!$A:$EG,137,FALSE)),\"\",IF((VLOOKUP($B44,'Races, Positions & Points'!$A:$EG,137,FALSE))=0,\"\",VLOOKUP($B44,'Races, Positions & Points'!$A:$EG,137,FALSE)))","v":7},{"$f":"IF(ISERROR(VLOOKUP($B44,'Races, Positions & Points'!$A:$EH,138,FALSE)),\"\",IF((VLOOKUP($B44,'Races, Positions & Points'!$A:$EH,138,FALSE))=0,\"\",VLOOKUP($B44,'Races, Positions & Points'!$A:$EH,138,FALSE)))","v":17}]
[null,{"$f":"'Races, Positions & Points'!A45","v":"Nick Miller"},{"$f":"'Races, Positions & Points'!C45","v":1993},{"$f":"IF(ISERROR(VLOOKUP($B45,'Races, Positions & Points'!$A:$D,4,FALSE)),\"\",IF((VLOOKUP($B45,'Races, Positions & Points'!$A:$D,4,FALSE))=0,\"\",VLOOKUP($B45,'Races, Positions & Points'!$A:$D,4,FALSE)))","v":"U21"},{"$f":"'Races, Positions & Points'!F45","v":56.48},{"$f":"'Races, Positions & Points'!M45","v":""},{"$f":"IF(ISERROR(VLOOKUP($B45,'Races, Positions & Points'!$A:$EG,137,FALSE)),\"\",IF((VLOOKUP($B45,'Races, Positions & Points'!$A:$EG,137,FALSE))=0,\"\",VLOOKUP($B45,'Races, Positions & Points'!$A:$EG,137,FALSE)))","v":""},{"$f":"IF(ISERROR(VLOOKUP($B45,'Races, Positions & Points'!$A:$EH,138,FALSE)),\"\",IF((VLOOKUP($B45,'Races, Positions & Points'!$A:$EH,138,FALSE))=0,\"\",VLOOKUP($B45,'Races, Positions & Points'!$A:$EH,138,FALSE)))","v":""},null,null,null," "]
[null,{"$f":"'Races, Positions & Points'!A46","v":"Mark Hawkins"},{"$f":"'Races, Positions & Points'!C46","v":1979},{"$f":"IF(ISERROR(VLOOKUP($B46,'Races, Positions & Points'!$A:$D,4,FALSE)),\"\",IF((VLOOKUP($B46,'Races, Positions & Points'!$A:$D,4,FALSE))=0,\"\",VLOOKUP($B46,'Races, Positions & Points'!$A:$D,4,FALSE)))","v":"MAS"},{"$f":"'Races, Positions & Points'!F46","v":57.13},{"$f":"'Races, Positions & Points'!M46","v":""},{"$f":"IF(ISERROR(VLOOKUP($B46,'Races, Positions & Points'!$A:$EG,137,FALSE)),\"\",IF((VLOOKUP($B46,'Races, Positions & Points'!$A:$EG,137,FALSE))=0,\"\",VLOOKUP($B46,'Races, Positions & Points'!$A:$EG,137,FALSE)))","v":""},{"$f":"IF(ISERROR(VLOOKUP($B46,'Races, Positions & Points'!$A:$EH,138,FALSE)),\"\",IF((VLOOKUP($B46,'Races, Positions & Points'!$A:$EH,138,FALSE))=0,\"\",VLOOKUP($B46,'Races, Positions & Points'!$A:$EH,138,FALSE)))","v":12}]
[null,{"$f":"'Races, Positions & Points'!A47","v":"Jack Rigby"},{"$f":"'Races, Positions & Points'!C47","v":1995},{"$f":"IF(ISERROR(VLOOKUP($B47,'Races, Positions & Points'!$A:$D,4,FALSE)),\"\",IF((VLOOKUP($B47,'Races, Positions & Points'!$A:$D,4,FALSE))=0,\"\",VLOOKUP($B47,'Races, Positions & Points'!$A:$D,4,FALSE)))","v":"U21"},{"$f":"'Races, Positions & Points'!F47","v":62.46},{"$f":"'Races, Positions & Points'!M47","v":-8.730000000000004},{"$f":"IF(ISERROR(VLOOKUP($B47,'Races, Positions & Points'!$A:$EG,137,FALSE)),\"\",IF((VLOOKUP($B47,'Races, Positions & Points'!$A:$EG,137,FALSE))=0,\"\",VLOOKUP($B47,'Races, Positions & Points'!$A:$EG,137,FALSE)))","v":""},{"$f":"IF(ISERROR(VLOOKUP($B47,'Races, Positions & Points'!$A:$EH,138,FALSE)),\"\",IF((VLOOKUP($B47,'Races, Positions & Points'!$A:$EH,138,FALSE))=0,\"\",VLOOKUP($B47,'Races, Positions & Points'!$A:$EH,138,FALSE)))","v":1}]
[null,{"$f":"'Races, Positions & Points'!A48","v":"Adam. Lee"},{"$f":"'Races, Positions & Points'!C48","v":1994},{"$f":"IF(ISERROR(VLOOKUP($B48,'Races, Positions & Points'!$A:$D,4,FALSE)),\"\",IF((VLOOKUP($B48,'Races, Positions & Points'!$A:$D,4,FALSE))=0,\"\",VLOOKUP($B48,'Races, Positions & Points'!$A:$D,4,FALSE)))","v":"U21"},{"$f":"'Races, Positions & Points'!F48","v":59.81},{"$f":"'Races, Positions & Points'!M48","v":-16.29},{"$f":"IF(ISERROR(VLOOKUP($B48,'Races, Positions & Points'!$A:$EG,137,FALSE)),\"\",IF((VLOOKUP($B48,'Races, Positions & Points'!$A:$EG,137,FALSE))=0,\"\",VLOOKUP($B48,'Races, Positions & Points'!$A:$EG,137,FALSE)))","v":1},{"$f":"IF(ISERROR(VLOOKUP($B48,'Races, Positions & Points'!$A:$EH,138,FALSE)),\"\",IF((VLOOKUP($B48,'Races, Positions & Points'!$A:$EH,138,FALSE))=0,\"\",VLOOKUP($B48,'Races, Positions & Points'!$A:$EH,138,FALSE)))","v":10}]
[null,{"$f":"'Races, Positions & Points'!A49","v":"Alasdair Thorley"},{"$f":"'Races, Positions & Points'!C49","v":1994},{"$f":"IF(ISERROR(VLOOKUP($B49,'Races, Positions & Points'!$A:$D,4,FALSE)),\"\",IF((VLOOKUP($B49,'Races, Positions & Points'!$A:$D,4,FALSE))=0,\"\",VLOOKUP($B49,'Races, Positions & Points'!$A:$D,4,FALSE)))","v":"U21"},{"$f":"'Races, Positions & Points'!F49","v":61.87},{"$f":"'Races, Positions & Points'!M49","v":""},{"$f":"IF(ISERROR(VLOOKUP($B49,'Races, Positions & Points'!$A:$EG,137,FALSE)),\"\",IF((VLOOKUP($B49,'Races, Positions & Points'!$A:$EG,137,FALSE))=0,\"\",VLOOKUP($B49,'Races, Positions & Points'!$A:$EG,137,FALSE)))","v":""},{"$f":"IF(ISERROR(VLOOKUP($B49,'Races, Positions & Points'!$A:$EH,138,FALSE)),\"\",IF((VLOOKUP($B49,'Races, Positions & Points'!$A:$EH,138,FALSE))=0,\"\",VLOOKUP($B49,'Races, Positions & Points'!$A:$EH,138,FALSE)))","v":""}]
[null,{"$f":"'Races, Positions & Points'!A50","v":"Phil Emmerson"},{"$f":"'Races, Positions & Points'!C50","v":1990},{"$f":"IF(ISERROR(VLOOKUP($B50,'Races, Positions & Points'!$A:$D,4,FALSE)),\"\",IF((VLOOKUP($B50,'Races, Positions & Points'!$A:$D,4,FALSE))=0,\"\",VLOOKUP($B50,'Races, Positions & Points'!$A:$D,4,FALSE)))","v":"SEN"},{"$f":"'Races, Positions & Points'!F50","v":104.55},{"$f":"'Races, Positions & Points'!M50","v":-42.23},{"$f":"IF(ISERROR(VLOOKUP($B50,'Races, Positions & Points'!$A:$EG,137,FALSE)),\"\",IF((VLOOKUP($B50,'Races, Positions & Points'!$A:$EG,137,FALSE))=0,\"\",VLOOKUP($B50,'Races, Positions & Points'!$A:$EG,137,FALSE)))","v":""},{"$f":"IF(ISERROR(VLOOKUP($B50,'Races, Positions & Points'!$A:$EH,138,FALSE)),\"\",IF((VLOOKUP($B50,'Races, Positions & Points'!$A:$EH,138,FALSE))=0,\"\",VLOOKUP($B50,'Races, Positions & Points'!$A:$EH,138,FALSE)))","v":3}]
[null,{"$f":"'Races, Positions & Points'!A51","v":"Nick Phelps"},{"$f":"'Races, Positions & Points'!C51","v":1997},{"$f":"IF(ISERROR(VLOOKUP($B51,'Races, Positions & Points'!$A:$D,4,FALSE)),\"\",IF((VLOOKUP($B51,'Races, Positions & Points'!$A:$D,4,FALSE))=0,\"\",VLOOKUP($B51,'Races, Positions & Points'!$A:$D,4,FALSE)))","v":"U18"},{"$f":"'Races, Positions & Points'!F51","v":62.44},{"$f":"'Races, Positions & Points'!M51","v":""},{"$f":"IF(ISERROR(VLOOKUP($B51,'Races, Positions & Points'!$A:$EG,137,FALSE)),\"\",IF((VLOOKUP($B51,'Races, Positions & Points'!$A:$EG,137,FALSE))=0,\"\",VLOOKUP($B51,'Races, Positions & Points'!$A:$EG,137,FALSE)))","v":""},{"$f":"IF(ISERROR(VLOOKUP($B51,'Races, Positions & Points'!$A:$EH,138,FALSE)),\"\",IF((VLOOKUP($B51,'Races, Positions & Points'!$A:$EH,138,FALSE))=0,\"\",VLOOKUP($B51,'Races, Positions & Points'!$A:$EH,138,FALSE)))","v":2}]
[null,{"$f":"'Races, Positions & Points'!A52","v":"James Smith"},{"$f":"'Races, Positions & Points'!C52","v":1992},{"$f":"IF(ISERROR(VLOOKUP($B52,'Races, Positions & Points'!$A:$D,4,FALSE)),\"\",IF((VLOOKUP($B52,'Races, Positions & Points'!$A:$D,4,FALSE))=0,\"\",VLOOKUP($B52,'Races, Positions & Points'!$A:$D,4,FALSE)))","v":"SEN"},{"$f":"'Races, Positions & Points'!F52","v":999.99},{"$f":"'Races, Positions & Points'!M52","v":""},{"$f":"IF(ISERROR(VLOOKUP($B52,'Races, Positions & Points'!$A:$EG,137,FALSE)),\"\",IF((VLOOKUP($B52,'Races, Positions & Points'!$A:$EG,137,FALSE))=0,\"\",VLOOKUP($B52,'Races, Positions & Points'!$A:$EG,137,FALSE)))","v":""},{"$f":"IF(ISERROR(VLOOKUP($B52,'Races, Positions & Points'!$A:$EH,138,FALSE)),\"\",IF((VLOOKUP($B52,'Races, Positions & Points'!$A:$EH,138,FALSE))=0,\"\",VLOOKUP($B52,'Races, Positions & Points'!$A:$EH,138,FALSE)))","v":3}]
[null,{"$f":"'Races, Positions & Points'!A53","v":"Oliver Weeks"},{"$f":"'Races, Positions & Points'!C53","v":2001},{"$f":"IF(ISERROR(VLOOKUP($B53,'Races, Positions & Points'!$A:$D,4,FALSE)),\"\",IF((VLOOKUP($B53,'Races, Positions & Points'!$A:$D,4,FALSE))=0,\"\",VLOOKUP($B53,'Races, Positions & Points'!$A:$D,4,FALSE)))","v":"U14"},{"$f":"'Races, Positions & Points'!F53","v":119.29},{"$f":"'Races, Positions & Points'!M53","v":-43.710000000000008},{"$f":"IF(ISERROR(VLOOKUP($B53,'Races, Positions & Points'!$A:$EG,137,FALSE)),\"\",IF((VLOOKUP($B53,'Races, Positions & Points'!$A:$EG,137,FALSE))=0,\"\",VLOOKUP($B53,'Races, Positions & Points'!$A:$EG,137,FALSE)))","v":""},{"$f":"IF(ISERROR(VLOOKUP($B53,'Races, Positions & Points'!$A:$EH,138,FALSE)),\"\",IF((VLOOKUP($B53,'Races, Positions & Points'!$A:$EH,138,FALSE))=0,\"\",VLOOKUP($B53,'Races, Positions & Points'!$A:$EH,138,FALSE)))","v":21}]
[null,{"$f":"'Races, Positions & Points'!A54","v":"Roger Crombleholme"},{"$f":"'Races, Positions & Points'!C54","v":1957},{"$f":"IF(ISERROR(VLOOKUP($B54,'Races, Positions & Points'!$A:$D,4,FALSE)),\"\",IF((VLOOKUP($B54,'Races, Positions & Points'!$A:$D,4,FALSE))=0,\"\",VLOOKUP($B54,'Races, Positions & Points'!$A:$D,4,FALSE)))","v":"MAS"},{"$f":"'Races, Positions & Points'!F54","v":104.12},{"$f":"'Races, Positions & Points'!M54","v":""},{"$f":"IF(ISERROR(VLOOKUP($B54,'Races, Positions & Points'!$A:$EG,137,FALSE)),\"\",IF((VLOOKUP($B54,'Races, Positions & Points'!$A:$EG,137,FALSE))=0,\"\",VLOOKUP($B54,'Races, Positions & Points'!$A:$EG,137,FALSE)))","v":""},{"$f":"IF(ISERROR(VLOOKUP($B54,'Races, Positions & Points'!$A:$EH,138,FALSE)),\"\",IF((VLOOKUP($B54,'Races, Positions & Points'!$A:$EH,138,FALSE))=0,\"\",VLOOKUP($B54,'Races, Positions & Points'!$A:$EH,138,FALSE)))","v":""}]
[null,{"$f":"'Races, Positions & Points'!A55","v":"Joey Frost"},{"$f":"'Races, Positions & Points'!C55","v":1995},{"$f":"IF(ISERROR(VLOOKUP($B55,'Races, Positions & Points'!$A:$D,4,FALSE)),\"\",IF((VLOOKUP($B55,'Races, Positions & Points'!$A:$D,4,FALSE))=0,\"\",VLOOKUP($B55,'Races, Positions & Points'!$A:$D,4,FALSE)))","v":"U21"},{"$f":"'Races, Positions & Points'!F55","v":110.32},{"$f":"'Races, Positions & Points'!M55","v":""},{"$f":"IF(ISERROR(VLOOKUP($B55,'Races, Positions & Points'!$A:$EG,137,FALSE)),\"\",IF((VLOOKUP($B55,'Races, Positions & Points'!$A:$EG,137,FALSE))=0,\"\",VLOOKUP($B55,'Races, Positions & Points'!$A:$EG,137,FALSE)))","v":""},{"$f":"IF(ISERROR(VLOOKUP($B55,'Races, Positions & Points'!$A:$EH,138,FALSE)),\"\",IF((VLOOKUP($B55,'Races, Positions & Points'!$A:$EH,138,FALSE))=0,\"\",VLOOKUP($B55,'Races, Positions & Points'!$A:$EH,138,FALSE)))","v":""}]
[null,{"$f":"'Races, Positions & Points'!A56","v":"Jordan Rigby"},{"$f":"'Races, Positions & Points'!C56","v":2000},{"$f":"IF(ISERROR(VLOOKUP($B56,'Races, Positions & Points'!$A:$D,4,FALSE)),\"\",IF((VLOOKUP($B56,'Races, Positions & Points'!$A:$D,4,FALSE))=0,\"\",VLOOKUP($B56,'Races, Positions & Points'!$A:$D,4,FALSE)))","v":"U14"},{"$f":"'Races, Positions & Points'!F56","v":144.43},{"$f":"'Races, Positions & Points'!M56","v":-28.02000000000001},{"$f":"IF(ISERROR(VLOOKUP($B56,'Races, Positions & Points'!$A:$EG,137,FALSE)),\"\",IF((VLOOKUP($B56,'Races, Positions & Points'!$A:$EG,137,FALSE))=0,\"\",VLOOKUP($B56,'Races, Positions & Points'!$A:$EG,137,FALSE)))","v":""},{"$f":"IF(ISERROR(VLOOKUP($B56,'Races, Positions & Points'!$A:$EH,138,FALSE)),\"\",IF((VLOOKUP($B56,'Races, Positions & Points'!$A:$EH,138,FALSE))=0,\"\",VLOOKUP($B56,'Races, Positions & Points'!$A:$EH,138,FALSE)))","v":6}]
[null,{"$f":"'Races, Positions & Points'!A57","v":"James Elgy"},{"$f":"'Races, Positions & Points'!C57","v":1993},{"$f":"IF(ISERROR(VLOOKUP($B57,'Races, Positions & Points'!$A:$D,4,FALSE)),\"\",IF((VLOOKUP($B57,'Races, Positions & Points'!$A:$D,4,FALSE))=0,\"\",VLOOKUP($B57,'Races, Positions & Points'!$A:$D,4,FALSE)))","v":"U21"},{"$f":"'Races, Positions & Points'!F57","v":142.46},{"$f":"'Races, Positions & Points'!M57","v":""},{"$f":"IF(ISERROR(VLOOKUP($B57,'Races, Positions & Points'!$A:$EG,137,FALSE)),\"\",IF((VLOOKUP($B57,'Races, Positions & Points'!$A:$EG,137,FALSE))=0,\"\",VLOOKUP($B57,'Races, Positions & Points'!$A:$EG,137,FALSE)))","v":""},{"$f":"IF(ISERROR(VLOOKUP($B57,'Races, Positions & Points'!$A:$EH,138,FALSE)),\"\",IF((VLOOKUP($B57,'Races, Positions & Points'!$A:$EH,138,FALSE))=0,\"\",VLOOKUP($B57,'Races, Positions & Points'!$A:$EH,138,FALSE)))","v":""}]
[null,{"$f":"'Races, Positions & Points'!A58","v":"Sam Lee"},{"$f":"'Races, Positions & Points'!C58","v":1996},{"$f":"IF(ISERROR(VLOOKUP($B58,'Races, Positions & Points'!$A:$D,4,FALSE)),\"\",IF((VLOOKUP($B58,'Races, Positions & Points'!$A:$D,4,FALSE))=0,\"\",VLOOKUP($B58,'Races, Positions & Points'!$A:$D,4,FALSE)))","v":"U18"},{"$f":"'Races, Positions & Points'!F58","v":154.66},{"$f":"'Races, Positions & Points'!M58","v":-21.25},{"$f":"IF(ISERROR(VLOOKUP($B58,'Races, Positions & Points'!$A:$EG,137,FALSE)),\"\",IF((VLOOKUP($B58,'Races, Positions & Points'!$A:$EG,137,FALSE))=0,\"\",VLOOKUP($B58,'Races, Positions & Points'!$A:$EG,137,FALSE)))","v":""},{"$f":"IF(ISERROR(VLOOKUP($B58,'Races, Positions & Points'!$A:$EH,138,FALSE)),\"\",IF((VLOOKUP($B58,'Races, Positions & Points'!$A:$EH,138,FALSE))=0,\"\",VLOOKUP($B58,'Races, Positions & Points'!$A:$EH,138,FALSE)))","v":""}]
[null,{"$f":"'Races, Positions & Points'!A59","v":"Sam Dewison"},{"$f":"'Races, Positions & Points'!C59","v":1998},{"$f":"IF(ISERROR(VLOOKUP($B59,'Races, Positions & Points'!$A:$D,4,FALSE)),\"\",IF((VLOOKUP($B59,'Races, Positions & Points'!$A:$D,4,FALSE))=0,\"\",VLOOKUP($B59,'Races, Positions & Points'!$A:$D,4,FALSE)))","v":"U16"},{"$f":"'Races, Positions & Points'!F59","v":238.66},{"$f":"'Races, Positions & Points'!M59","v":-114.21},{"$f":"IF(ISERROR(VLOOKUP($B59,'Races, Positions & Points'!$A:$EG,137,FALSE)),\"\",IF((VLOOKUP($B59,'Races, Positions & Points'!$A:$EG,137,FALSE))=0,\"\",VLOOKUP($B59,'Races, Positions & Points'!$A:$EG,137,FALSE)))","v":""},{"$f":"IF(ISERROR(VLOOKUP($B59,'Races, Positions & Points'!$A:$EH,138,FALSE)),\"\",IF((VLOOKUP($B59,'Races, Positions & Points'!$A:$EH,138,FALSE))=0,\"\",VLOOKUP($B59,'Races, Positions & Points'!$A:$EH,138,FALSE)))","v":""}]
[null,{"$f":"'Races, Positions & Points'!A60","v":"Thomas Lawrence"},{"$f":"'Races, Positions & Points'!C60","v":1999},{"$f":"IF(ISERROR(VLOOKUP($B60,'Races, Positions & Points'!$A:$D,4,FALSE)),\"\",IF((VLOOKUP($B60,'Races, Positions & Points'!$A:$D,4,FALSE))=0,\"\",VLOOKUP($B60,'Races, Positions & Points'!$A:$D,4,FALSE)))","v":"U16"},{"$f":"'Races, Positions & Points'!F60","v":191.81},{"$f":"'Races, Positions & Points'!M60","v":-42.610000000000014},{"$f":"IF(ISERROR(VLOOKUP($B60,'Races, Positions & Points'!$A:$EG,137,FALSE)),\"\",IF((VLOOKUP($B60,'Races, Positions & Points'!$A:$EG,137,FALSE))=0,\"\",VLOOKUP($B60,'Races, Positions & Points'!$A:$EG,137,FALSE)))","v":""},{"$f":"IF(ISERROR(VLOOKUP($B60,'Races, Positions & Points'!$A:$EH,138,FALSE)),\"\",IF((VLOOKUP($B60,'Races, Positions & Points'!$A:$EH,138,FALSE))=0,\"\",VLOOKUP($B60,'Races, Positions & Points'!$A:$EH,138,FALSE)))","v":""}]
[null,{"$f":"'Races, Positions & Points'!A61","v":"Ethan Hemming"},{"$f":"'Races, Positions & Points'!C61","v":2001},{"$f":"IF(ISERROR(VLOOKUP($B61,'Races, Positions & Points'!$A:$D,4,FALSE)),\"\",IF((VLOOKUP($B61,'Races, Positions & Points'!$A:$D,4,FALSE))=0,\"\",VLOOKUP($B61,'Races, Positions & Points'!$A:$D,4,FALSE)))","v":"U14"},{"$f":"'Races, Positions & Points'!F61","v":211.91},{"$f":"'Races, Positions & Points'!M61","v":-57.109999999999985},{"$f":"IF(ISERROR(VLOOKUP($B61,'Races, Positions & Points'!$A:$EG,137,FALSE)),\"\",IF((VLOOKUP($B61,'Races, Positions & Points'!$A:$EG,137,FALSE))=0,\"\",VLOOKUP($B61,'Races, Positions & Points'!$A:$EG,137,FALSE)))","v":""},{"$f":"IF(ISERROR(VLOOKUP($B61,'Races, Positions & Points'!$A:$EH,138,FALSE)),\"\",IF((VLOOKUP($B61,'Races, Positions & Points'!$A:$EH,138,FALSE))=0,\"\",VLOOKUP($B61,'Races, Positions & Points'!$A:$EH,138,FALSE)))","v":2}]
[null,{"$f":"'Races, Positions & Points'!A62","v":"Duncan Thorley"},{"$f":"'Races, Positions & Points'!C62","v":1997},{"$f":"IF(ISERROR(VLOOKUP($B62,'Races, Positions & Points'!$A:$D,4,FALSE)),\"\",IF((VLOOKUP($B62,'Races, Positions & Points'!$A:$D,4,FALSE))=0,\"\",VLOOKUP($B62,'Races, Positions & Points'!$A:$D,4,FALSE)))","v":"U18"},{"$f":"'Races, Positions & Points'!F62","v":197.45},{"$f":"'Races, Positions & Points'!M62","v":-58.91},{"$f":"IF(ISERROR(VLOOKUP($B62,'Races, Positions & Points'!$A:$EG,137,FALSE)),\"\",IF((VLOOKUP($B62,'Races, Positions & Points'!$A:$EG,137,FALSE))=0,\"\",VLOOKUP($B62,'Races, Positions & Points'!$A:$EG,137,FALSE)))","v":""},{"$f":"IF(ISERROR(VLOOKUP($B62,'Races, Positions & Points'!$A:$EH,138,FALSE)),\"\",IF((VLOOKUP($B62,'Races, Positions & Points'!$A:$EH,138,FALSE))=0,\"\",VLOOKUP($B62,'Races, Positions & Points'!$A:$EH,138,FALSE)))","v":1}]
[null,{"$f":"'Races, Positions & Points'!A63","v":"Toby Tarrant"},{"$f":"'Races, Positions & Points'!C63","v":1997},{"$f":"IF(ISERROR(VLOOKUP($B63,'Races, Positions & Points'!$A:$D,4,FALSE)),\"\",IF((VLOOKUP($B63,'Races, Positions & Points'!$A:$D,4,FALSE))=0,\"\",VLOOKUP($B63,'Races, Positions & Points'!$A:$D,4,FALSE)))","v":"U18"},{"$f":"'Races, Positions & Points'!F63","v":999.99},{"$f":"'Races, Positions & Points'!M63","v":""},{"$f":"IF(ISERROR(VLOOKUP($B63,'Races, Positions & Points'!$A:$EG,137,FALSE)),\"\",IF((VLOOKUP($B63,'Races, Positions & Points'!$A:$EG,137,FALSE))=0,\"\",VLOOKUP($B63,'Races, Positions & Points'!$A:$EG,137,FALSE)))","v":""},{"$f":"IF(ISERROR(VLOOKUP($B63,'Races, Positions & Points'!$A:$EH,138,FALSE)),\"\",IF((VLOOKUP($B63,'Races, Positions & Points'!$A:$EH,138,FALSE))=0,\"\",VLOOKUP($B63,'Races, Positions & Points'!$A:$EH,138,FALSE)))","v":""}]
[null,{"$f":"'Races, Positions & Points'!A64","v":"Thomas Upton"},{"$f":"'Races, Positions & Points'!C64","v":2001},{"$f":"IF(ISERROR(VLOOKUP($B64,'Races, Positions & Points'!$A:$D,4,FALSE)),\"\",IF((VLOOKUP($B64,'Races, Positions & Points'!$A:$D,4,FALSE))=0,\"\",VLOOKUP($B64,'Races, Positions & Points'!$A:$D,4,FALSE)))","v":"U14"},{"$f":"'Races, Positions & Points'!F64","v":341.66},{"$f":"'Races, Positions & Points'!M64","v":-147.20000000000002},{"$f":"IF(ISERROR(VLOOKUP($B64,'Races, Positions & Points'!$A:$EG,137,FALSE)),\"\",IF((VLOOKUP($B64,'Races, Positions & Points'!$A:$EG,137,FALSE))=0,\"\",VLOOKUP($B64,'Races, Positions & Points'!$A:$EG,137,FALSE)))","v":""},{"$f":"IF(ISERROR(VLOOKUP($B64,'Races, Positions & Points'!$A:$EH,138,FALSE)),\"\",IF((VLOOKUP($B64,'Races, Positions & Points'!$A:$EH,138,FALSE))=0,\"\",VLOOKUP($B64,'Races, Positions & Points'!$A:$EH,138,FALSE)))","v":""}]
[null,{"$f":"'Races, Positions & Points'!A65","v":"Edward Guy"},{"$f":"'Races, Positions & Points'!C65","v":2001},{"$f":"IF(ISERROR(VLOOKUP($B65,'Races, Positions & Points'!$A:$D,4,FALSE)),\"\",IF((VLOOKUP($B65,'Races, Positions & Points'!$A:$D,4,FALSE))=0,\"\",VLOOKUP($B65,'Races, Positions & Points'!$A:$D,4,FALSE)))","v":"U14"},{"$f":"'Races, Positions & Points'!F65","v":210.93},{"$f":"'Races, Positions & Points'!M65","v":""},{"$f":"IF(ISERROR(VLOOKUP($B65,'Races, Positions & Points'!$A:$EG,137,FALSE)),\"\",IF((VLOOKUP($B65,'Races, Positions & Points'!$A:$EG,137,FALSE))=0,\"\",VLOOKUP($B65,'Races, Positions & Points'!$A:$EG,137,FALSE)))","v":""},{"$f":"IF(ISERROR(VLOOKUP($B65,'Races, Positions & Points'!$A:$EH,138,FALSE)),\"\",IF((VLOOKUP($B65,'Races, Positions & Points'!$A:$EH,138,FALSE))=0,\"\",VLOOKUP($B65,'Races, Positions & Points'!$A:$EH,138,FALSE)))","v":1}]
[null,{"$f":"'Races, Positions & Points'!A66","v":"Samuel Doherty"},{"$f":"'Races, Positions & Points'!C66","v":1999},{"$f":"IF(ISERROR(VLOOKUP($B66,'Races, Positions & Points'!$A:$D,4,FALSE)),\"\",IF((VLOOKUP($B66,'Races, Positions & Points'!$A:$D,4,FALSE))=0,\"\",VLOOKUP($B66,'Races, Positions & Points'!$A:$D,4,FALSE)))","v":"U16"},{"$f":"'Races, Positions & Points'!F66","v":218.06},{"$f":"'Races, Positions & Points'!M66","v":""},{"$f":"IF(ISERROR(VLOOKUP($B66,'Races, Positions & Points'!$A:$EG,137,FALSE)),\"\",IF((VLOOKUP($B66,'Races, Positions & Points'!$A:$EG,137,FALSE))=0,\"\",VLOOKUP($B66,'Races, Positions & Points'!$A:$EG,137,FALSE)))","v":""},{"$f":"IF(ISERROR(VLOOKUP($B66,'Races, Positions & Points'!$A:$EH,138,FALSE)),\"\",IF((VLOOKUP($B66,'Races, Positions & Points'!$A:$EH,138,FALSE))=0,\"\",VLOOKUP($B66,'Races, Positions & Points'!$A:$EH,138,FALSE)))","v":""}]
[null,{"$f":"'Races, Positions & Points'!A67","v":"Karl Hancock"},{"$f":"'Races, Positions & Points'!C67","v":1995},{"$f":"IF(ISERROR(VLOOKUP($B67,'Races, Positions & Points'!$A:$D,4,FALSE)),\"\",IF((VLOOKUP($B67,'Races, Positions & Points'!$A:$D,4,FALSE))=0,\"\",VLOOKUP($B67,'Races, Positions & Points'!$A:$D,4,FALSE)))","v":"U21"},{"$f":"'Races, Positions & Points'!F67","v":245.23},{"$f":"'Races, Positions & Points'!M67","v":-12.629999999999995},{"$f":"IF(ISERROR(VLOOKUP($B67,'Races, Positions & Points'!$A:$EG,137,FALSE)),\"\",IF((VLOOKUP($B67,'Races, Positions & Points'!$A:$EG,137,FALSE))=0,\"\",VLOOKUP($B67,'Races, Positions & Points'!$A:$EG,137,FALSE)))","v":""},{"$f":"IF(ISERROR(VLOOKUP($B67,'Races, Positions & Points'!$A:$EH,138,FALSE)),\"\",IF((VLOOKUP($B67,'Races, Positions & Points'!$A:$EH,138,FALSE))=0,\"\",VLOOKUP($B67,'Races, Positions & Points'!$A:$EH,138,FALSE)))","v":""}]
[null,{"$f":"'Races, Positions & Points'!A68","v":"John Elgy"},{"$f":"'Races, Positions & Points'!C68","v":1951},{"$f":"IF(ISERROR(VLOOKUP($B68,'Races, Positions & Points'!$A:$D,4,FALSE)),\"\",IF((VLOOKUP($B68,'Races, Positions & Points'!$A:$D,4,FALSE))=0,\"\",VLOOKUP($B68,'Races, Positions & Points'!$A:$D,4,FALSE)))","v":"MAS"},{"$f":"'Races, Positions & Points'!F68","v":280.95999999999998},{"$f":"'Races, Positions & Points'!M68","v":""},{"$f":"IF(ISERROR(VLOOKUP($B68,'Races, Positions & Points'!$A:$EG,137,FALSE)),\"\",IF((VLOOKUP($B68,'Races, Positions & Points'!$A:$EG,137,FALSE))=0,\"\",VLOOKUP($B68,'Races, Positions & Points'!$A:$EG,137,FALSE)))","v":""},{"$f":"IF(ISERROR(VLOOKUP($B68,'Races, Positions & Points'!$A:$EH,138,FALSE)),\"\",IF((VLOOKUP($B68,'Races, Positions & Points'!$A:$EH,138,FALSE))=0,\"\",VLOOKUP($B68,'Races, Positions & Points'!$A:$EH,138,FALSE)))","v":""}]
[null,{"$f":"'Races, Positions & Points'!A69","v":"Phil Deller"},{"$f":"'Races, Positions & Points'!C69","v":1959},{"$f":"IF(ISERROR(VLOOKUP($B69,'Races, Positions & Points'!$A:$D,4,FALSE)),\"\",IF((VLOOKUP($B69,'Races, Positions & Points'!$A:$D,4,FALSE))=0,\"\",VLOOKUP($B69,'Races, Positions & Points'!$A:$D,4,FALSE)))","v":"MAS"},{"$f":"'Races, Positions & Points'!F69","v":654.11},{"$f":"'Races, Positions & Points'!M69","v":""},{"$f":"IF(ISERROR(VLOOKUP($B69,'Races, Positions & Points'!$A:$EG,137,FALSE)),\"\",IF((VLOOKUP($B69,'Races, Positions & Points'!$A:$EG,137,FALSE))=0,\"\",VLOOKUP($B69,'Races, Positions & Points'!$A:$EG,137,FALSE)))","v":""},{"$f":"IF(ISERROR(VLOOKUP($B69,'Races, Positions & Points'!$A:$EH,138,FALSE)),\"\",IF((VLOOKUP($B69,'Races, Positions & Points'!$A:$EH,138,FALSE))=0,\"\",VLOOKUP($B69,'Races, Positions & Points'!$A:$EH,138,FALSE)))","v":""}]
[null,{"$f":"'Races, Positions & Points'!A70","v":"David Hancock"},{"$f":"'Races, Positions & Points'!C70","v":1964},{"$f":"IF(ISERROR(VLOOKUP($B70,'Races, Positions & Points'!$A:$D,4,FALSE)),\"\",IF((VLOOKUP($B70,'Races, Positions & Points'!$A:$D,4,FALSE))=0,\"\",VLOOKUP($B70,'Races, Positions & Points'!$A:$D,4,FALSE)))","v":"MAS"},{"$f":"'Races, Positions & Points'!F70","v":999.99},{"$f":"'Races, Positions & Points'!M70","v":""},{"$f":"IF(ISERROR(VLOOKUP($B70,'Races, Positions & Points'!$A:$EG,137,FALSE)),\"\",IF((VLOOKUP($B70,'Races, Positions & Points'!$A:$EG,137,FALSE))=0,\"\",VLOOKUP($B70,'Races, Positions & Points'!$A:$EG,137,FALSE)))","v":""},{"$f":"IF(ISERROR(VLOOKUP($B70,'Races, Positions & Points'!$A:$EH,138,FALSE)),\"\",IF((VLOOKUP($B70,'Races, Positions & Points'!$A:$EH,138,FALSE))=0,\"\",VLOOKUP($B70,'Races, Positions & Points'!$A:$EH,138,FALSE)))","v":""}]
[null,{"$f":"'Races, Positions & Points'!A71","v":"Matthew Kirkland"},{"$f":"'Races, Positions & Points'!C71","v":1992},{"$f":"IF(ISERROR(VLOOKUP($B71,'Races, Positions & Points'!$A:$D,4,FALSE)),\"\",IF((VLOOKUP($B71,'Races, Positions & Points'!$A:$D,4,FALSE))=0,\"\",VLOOKUP($B71,'Races, Positions & Points'!$A:$D,4,FALSE)))","v":"SEN"},{"$f":"'Races, Positions & Points'!F71","v":999.99},{"$f":"'Races, Positions & Points'!M71","v":""},{"$f":"IF(ISERROR(VLOOKUP($B71,'Races, Positions & Points'!$A:$EG,137,FALSE)),\"\",IF((VLOOKUP($B71,'Races, Positions & Points'!$A:$EG,137,FALSE))=0,\"\",VLOOKUP($B71,'Races, Positions & Points'!$A:$EG,137,FALSE)))","v":""},{"$f":"IF(ISERROR(VLOOKUP($B71,'Races, Positions & Points'!$A:$EH,138,FALSE)),\"\",IF((VLOOKUP($B71,'Races, Positions & Points'!$A:$EH,138,FALSE))=0,\"\",VLOOKUP($B71,'Races, Positions & Points'!$A:$EH,138,FALSE)))","v":""}]
[null,{"$f":"'Races, Positions & Points'!A72","v":"Ben Hall"},{"$f":"'Races, Positions & Points'!C72","v":1994},{"$f":"IF(ISERROR(VLOOKUP($B72,'Races, Positions & Points'!$A:$D,4,FALSE)),\"\",IF((VLOOKUP($B72,'Races, Positions & Points'!$A:$D,4,FALSE))=0,\"\",VLOOKUP($B72,'Races, Positions & Points'!$A:$D,4,FALSE)))","v":"U21"},{"$f":"'Races, Positions & Points'!F72","v":"NR"},{"$f":"'Races, Positions & Points'!M72","v":""},{"$f":"IF(ISERROR(VLOOKUP($B72,'Races, Positions & Points'!$A:$EG,137,FALSE)),\"\",IF((VLOOKUP($B72,'Races, Positions & Points'!$A:$EG,137,FALSE))=0,\"\",VLOOKUP($B72,'Races, Positions & Points'!$A:$EG,137,FALSE)))","v":""},{"$f":"IF(ISERROR(VLOOKUP($B72,'Races, Positions & Points'!$A:$EH,138,FALSE)),\"\",IF((VLOOKUP($B72,'Races, Positions & Points'!$A:$EH,138,FALSE))=0,\"\",VLOOKUP($B72,'Races, Positions & Points'!$A:$EH,138,FALSE)))","v":""}]
[null,{"$f":"'Races, Positions & Points'!A73","v":"Matthew Waller"},{"$f":"'Races, Positions & Points'!C73","v":1999},{"$f":"IF(ISERROR(VLOOKUP($B73,'Races, Positions & Points'!$A:$D,4,FALSE)),\"\",IF((VLOOKUP($B73,'Races, Positions & Points'!$A:$D,4,FALSE))=0,\"\",VLOOKUP($B73,'Races, Positions & Points'!$A:$D,4,FALSE)))","v":"U16"},{"$f":"'Races, Positions & Points'!F73","v":"NR"},{"$f":"'Races, Positions & Points'!M73","v":""},{"$f":"IF(ISERROR(VLOOKUP($B73,'Races, Positions & Points'!$A:$EG,137,FALSE)),\"\",IF((VLOOKUP($B73,'Races, Positions & Points'!$A:$EG,137,FALSE))=0,\"\",VLOOKUP($B73,'Races, Positions & Points'!$A:$EG,137,FALSE)))","v":""},{"$f":"IF(ISERROR(VLOOKUP($B73,'Races, Positions & Points'!$A:$EH,138,FALSE)),\"\",IF((VLOOKUP($B73,'Races, Positions & Points'!$A:$EH,138,FALSE))=0,\"\",VLOOKUP($B73,'Races, Positions & Points'!$A:$EH,138,FALSE)))","v":""}]
[null,{"$f":"'Races, Positions & Points'!A74","v":"JJ Frost"},{"$f":"'Races, Positions & Points'!C74","v":1993},{"$f":"IF(ISERROR(VLOOKUP($B74,'Races, Positions & Points'!$A:$D,4,FALSE)),\"\",IF((VLOOKUP($B74,'Races, Positions & Points'!$A:$D,4,FALSE))=0,\"\",VLOOKUP($B74,'Races, Positions & Points'!$A:$D,4,FALSE)))","v":"U21"},{"$f":"'Races, Positions & Points'!F74","v":"NR"},{"$f":"'Races, Positions & Points'!M74","v":""},{"$f":"IF(ISERROR(VLOOKUP($B74,'Races, Positions & Points'!$A:$EG,137,FALSE)),\"\",IF((VLOOKUP($B74,'Races, Positions & Points'!$A:$EG,137,FALSE))=0,\"\",VLOOKUP($B74,'Races, Positions & Points'!$A:$EG,137,FALSE)))","v":""},{"$f":"IF(ISERROR(VLOOKUP($B74,'Races, Positions & Points'!$A:$EH,138,FALSE)),\"\",IF((VLOOKUP($B74,'Races, Positions & Points'!$A:$EH,138,FALSE))=0,\"\",VLOOKUP($B74,'Races, Positions & Points'!$A:$EH,138,FALSE)))","v":""}]
[null,{"$f":"'Races, Positions & Points'!A75","v":"Jake Heard"},{"$f":"'Races, Positions & Points'!C75","v":1998},{"$f":"IF(ISERROR(VLOOKUP($B75,'Races, Positions & Points'!$A:$D,4,FALSE)),\"\",IF((VLOOKUP($B75,'Races, Positions & Points'!$A:$D,4,FALSE))=0,\"\",VLOOKUP($B75,'Races, Positions & Points'!$A:$D,4,FALSE)))","v":"U16"},{"$f":"'Races, Positions & Points'!F75","v":"NR"},{"$f":"'Races, Positions & Points'!M75","v":""},{"$f":"IF(ISERROR(VLOOKUP($B75,'Races, Positions & Points'!$A:$EG,137,FALSE)),\"\",IF((VLOOKUP($B75,'Races, Positions & Points'!$A:$EG,137,FALSE))=0,\"\",VLOOKUP($B75,'Races, Positions & Points'!$A:$EG,137,FALSE)))","v":""},{"$f":"IF(ISERROR(VLOOKUP($B75,'Races, Positions & Points'!$A:$EH,138,FALSE)),\"\",IF((VLOOKUP($B75,'Races, Positions & Points'!$A:$EH,138,FALSE))=0,\"\",VLOOKUP($B75,'Races, Positions & Points'!$A:$EH,138,FALSE)))","v":""}]
[null,{"$f":"'Races, Positions & Points'!A76","v":"Joe Bird"},{"$f":"'Races, Positions & Points'!C76","v":1994},{"$f":"IF(ISERROR(VLOOKUP($B76,'Races, Positions & Points'!$A:$D,4,FALSE)),\"\",IF((VLOOKUP($B76,'Races, Positions & Points'!$A:$D,4,FALSE))=0,\"\",VLOOKUP($B76,'Races, Positions & Points'!$A:$D,4,FALSE)))","v":"U21"},{"$f":"'Races, Positions & Points'!F76","v":999.99},{"$f":"'Races, Positions & Points'!M76","v":""},{"$f":"IF(ISERROR(VLOOKUP($B76,'Races, Positions & Points'!$A:$EG,137,FALSE)),\"\",IF((VLOOKUP($B76,'Races, Positions & Points'!$A:$EG,137,FALSE))=0,\"\",VLOOKUP($B76,'Races, Positions & Points'!$A:$EG,137,FALSE)))","v":""},{"$f":"IF(ISERROR(VLOOKUP($B76,'Races, Positions & Points'!$A:$EH,138,FALSE)),\"\",IF((VLOOKUP($B76,'Races, Positions & Points'!$A:$EH,138,FALSE))=0,\"\",VLOOKUP($B76,'Races, Positions & Points'!$A:$EH,138,FALSE)))","v":""}]
[null,{"$f":"'Races, Positions & Points'!A77","v":"Edmund Walker"},{"$f":"'Races, Positions & Points'!C77","v":1992},{"$f":"IF(ISERROR(VLOOKUP($B77,'Races, Positions & Points'!$A:$D,4,FALSE)),\"\",IF((VLOOKUP($B77,'Races, Positions & Points'!$A:$D,4,FALSE))=0,\"\",VLOOKUP($B77,'Races, Positions & Points'!$A:$D,4,FALSE)))","v":"SEN"},{"$f":"'Races, Positions & Points'!F77","v":"NR"},{"$f":"'Races, Positions & Points'!M77","v":""},{"$f":"IF(ISERROR(VLOOKUP($B77,'Races, Positions & Points'!$A:$EG,137,FALSE)),\"\",IF((VLOOKUP($B77,'Races, Positions & Points'!$A:$EG,137,FALSE))=0,\"\",VLOOKUP($B77,'Races, Positions & Points'!$A:$EG,137,FALSE)))","v":""},{"$f":"IF(ISERROR(VLOOKUP($B77,'Races, Positions & Points'!$A:$EH,138,FALSE)),\"\",IF((VLOOKUP($B77,'Races, Positions & Points'!$A:$EH,138,FALSE))=0,\"\",VLOOKUP($B77,'Races, Positions & Points'!$A:$EH,138,FALSE)))","v":""}]
[null,"EOF",{"$f":"IF(ISERROR(VLOOKUP($B79,'Races, Positions & Points'!$A:$C,3,FALSE)),\"\",IF((VLOOKUP($B79,'Races, Positions & Points'!$A:$C,3,FALSE))=0,\"\",VLOOKUP($B79,'Races, Positions & Points'!$A:$C,3,FALSE)))","v":""},{"$f":"IF(ISERROR(VLOOKUP($B79,'Races, Positions & Points'!$A:$D,4,FALSE)),\"\",IF((VLOOKUP($B79,'Races, Positions & Points'!$A:$D,4,FALSE))=0,\"\",VLOOKUP($B79,'Races, Positions & Points'!$A:$D,4,FALSE)))","v":""},{"$f":"IF(ISERROR(VLOOKUP($B79,'Races, Positions & Points'!$A:$F,7,FALSE)),\"\",IF((VLOOKUP($B79,'Races, Positions & Points'!$A:$F,7,FALSE))=0,\"\",VLOOKUP($B79,'Races, Positions & Points'!$A:$F,7,FALSE)))","v":""},{"$f":"IF(ISERROR(VLOOKUP($B78,'Races, Positions & Points'!$A:$M,9,FALSE)),\"\",IF((VLOOKUP($B78,'Races, Positions & Points'!$A:$M,9,FALSE))=0,\"\",VLOOKUP($B78,'Races, Positions & Points'!$A:$M,9,FALSE)))","v":""},{"$f":"SUM(G8:G77)","v":14},{"$f":"SUM(H8:H77)","v":163}]
[null,null,{"$f":"IF(ISERROR(VLOOKUP($B80,'Races, Positions & Points'!$A:$C,3,FALSE)),\"\",IF((VLOOKUP($B80,'Races, Positions & Points'!$A:$C,3,FALSE))=0,\"\",VLOOKUP($B80,'Races, Positions & Points'!$A:$C,3,FALSE)))","v":""},{"$f":"IF(ISERROR(VLOOKUP($B80,'Races, Positions & Points'!$A:$D,4,FALSE)),\"\",IF((VLOOKUP($B80,'Races, Positions & Points'!$A:$D,4,FALSE))=0,\"\",VLOOKUP($B80,'Races, Positions & Points'!$A:$D,4,FALSE)))","v":""},{"$f":"IF(ISERROR(VLOOKUP($B80,'Races, Positions & Points'!$A:$F,7,FALSE)),\"\",IF((VLOOKUP($B80,'Races, Positions & Points'!$A:$F,7,FALSE))=0,\"\",VLOOKUP($B80,'Races, Positions & Points'!$A:$F,7,FALSE)))","v":""},{"$f":"IF(ISERROR(VLOOKUP($B79,'Races, Positions & Points'!$A:$M,9,FALSE)),\"\",IF((VLOOKUP($B79,'Races, Positions & Points'!$A:$M,9,FALSE))=0,\"\",VLOOKUP($B79,'Races, Positions & Points'!$A:$M,9,FALSE)))","v":""},null," "]
[null,null,{"$f":"IF(ISERROR(VLOOKUP($B81,'Races, Positions & Points'!$A:$C,3,FALSE)),\"\",IF((VLOOKUP($B81,'Races, Positions & Points'!$A:$C,3,FALSE))=0,\"\",VLOOKUP($B81,'Races, Positions & Points'!$A:$C,3,FALSE)))","v":""},{"$f":"IF(ISERROR(VLOOKUP($B81,'Races, Positions & Points'!$A:$D,4,FALSE)),\"\",IF((VLOOKUP($B81,'Races, Positions & Points'!$A:$D,4,FALSE))=0,\"\",VLOOKUP($B81,'Races, Positions & Points'!$A:$D,4,FALSE)))","v":""},{"$f":"IF(ISERROR(VLOOKUP($B81,'Races, Positions & Points'!$A:$F,7,FALSE)),\"\",IF((VLOOKUP($B81,'Races, Positions & Points'!$A:$F,7,FALSE))=0,\"\",VLOOKUP($B81,'Races, Positions & Points'!$A:$F,7,FALSE)))","v":""},{"$f":"IF(ISERROR(VLOOKUP($B80,'Races, Positions & Points'!$A:$M,9,FALSE)),\"\",IF((VLOOKUP($B80,'Races, Positions & Points'!$A:$M,9,FALSE))=0,\"\",VLOOKUP($B80,'Races, Positions & Points'!$A:$M,9,FALSE)))","v":""},null," "]
[null,null,{"$f":"IF(ISERROR(VLOOKUP($B82,'Races, Positions & Points'!$A:$C,3,FALSE)),\"\",IF((VLOOKUP($B82,'Races, Positions & Points'!$A:$C,3,FALSE))=0,\"\",VLOOKUP($B82,'Races, Positions & Points'!$A:$C,3,FALSE)))","v":""},{"$f":"IF(ISERROR(VLOOKUP($B82,'Races, Positions & Points'!$A:$D,4,FALSE)),\"\",IF((VLOOKUP($B82,'Races, Positions & Points'!$A:$D,4,FALSE))=0,\"\",VLOOKUP($B82,'Races, Positions & Points'!$A:$D,4,FALSE)))","v":""},{"$f":"IF(ISERROR(VLOOKUP($B82,'Races, Positions & Points'!$A:$F,7,FALSE)),\"\",IF((VLOOKUP($B82,'Races, Positions & Points'!$A:$F,7,FALSE))=0,\"\",VLOOKUP($B82,'Races, Positions & Points'!$A:$F,7,FALSE)))","v":""},{"$f":"IF(ISERROR(VLOOKUP($B81,'Races, Positions & Points'!$A:$M,9,FALSE)),\"\",IF((VLOOKUP($B81,'Races, Positions & Points'!$A:$M,9,FALSE))=0,\"\",VLOOKUP($B81,'Races, Positions & Points'!$A:$M,9,FALSE)))","v":""},null," "]
[null,null,{"$f":"IF(ISERROR(VLOOKUP($B83,'Races, Positions & Points'!$A:$C,3,FALSE)),\"\",IF((VLOOKUP($B83,'Races, Positions & Points'!$A:$C,3,FALSE))=0,\"\",VLOOKUP($B83,'Races, Positions & Points'!$A:$C,3,FALSE)))","v":""},{"$f":"IF(ISERROR(VLOOKUP($B83,'Races, Positions & Points'!$A:$D,4,FALSE)),\"\",IF((VLOOKUP($B83,'Races, Positions & Points'!$A:$D,4,FALSE))=0,\"\",VLOOKUP($B83,'Races, Positions & Points'!$A:$D,4,FALSE)))","v":""},{"$f":"IF(ISERROR(VLOOKUP($B83,'Races, Positions & Points'!$A:$F,7,FALSE)),\"\",IF((VLOOKUP($B83,'Races, Positions & Points'!$A:$F,7,FALSE))=0,\"\",VLOOKUP($B83,'Races, Positions & Points'!$A:$F,7,FALSE)))","v":""},{"$f":"IF(ISERROR(VLOOKUP($B82,'Races, Positions & Points'!$A:$M,9,FALSE)),\"\",IF((VLOOKUP($B82,'Races, Positions & Points'!$A:$M,9,FALSE))=0,\"\",VLOOKUP($B82,'Races, Positions & Points'!$A:$M,9,FALSE)))","v":""},null," "]
[null,null,{"$f":"IF(ISERROR(VLOOKUP($B84,'Races, Positions & Points'!$A:$C,3,FALSE)),\"\",IF((VLOOKUP($B84,'Races, Positions & Points'!$A:$C,3,FALSE))=0,\"\",VLOOKUP($B84,'Races, Positions & Points'!$A:$C,3,FALSE)))","v":""},{"$f":"IF(ISERROR(VLOOKUP($B84,'Races, Positions & Points'!$A:$D,4,FALSE)),\"\",IF((VLOOKUP($B84,'Races, Positions & Points'!$A:$D,4,FALSE))=0,\"\",VLOOKUP($B84,'Races, Positions & Points'!$A:$D,4,FALSE)))","v":""},{"$f":"IF(ISERROR(VLOOKUP($B84,'Races, Positions & Points'!$A:$F,7,FALSE)),\"\",IF((VLOOKUP($B84,'Races, Positions & Points'!$A:$F,7,FALSE))=0,\"\",VLOOKUP($B84,'Races, Positions & Points'!$A:$F,7,FALSE)))","v":""},{"$f":"IF(ISERROR(VLOOKUP($B83,'Races, Positions & Points'!$A:$M,9,FALSE)),\"\",IF((VLOOKUP($B83,'Races, Positions & Points'!$A:$M,9,FALSE))=0,\"\",VLOOKUP($B83,'Races, Positions & Points'!$A:$M,9,FALSE)))","v":""},null," "]
[null,null,{"$f":"IF(ISERROR(VLOOKUP($B85,'Races, Positions & Points'!$A:$C,3,FALSE)),\"\",IF((VLOOKUP($B85,'Races, Positions & Points'!$A:$C,3,FALSE))=0,\"\",VLOOKUP($B85,'Races, Positions & Points'!$A:$C,3,FALSE)))","v":""},{"$f":"IF(ISERROR(VLOOKUP($B85,'Races, Positions & Points'!$A:$D,4,FALSE)),\"\",IF((VLOOKUP($B85,'Races, Positions & Points'!$A:$D,4,FALSE))=0,\"\",VLOOKUP($B85,'Races, Positions & Points'!$A:$D,4,FALSE)))","v":""},{"$f":"IF(ISERROR(VLOOKUP($B85,'Races, Positions & Points'!$A:$F,7,FALSE)),\"\",IF((VLOOKUP($B85,'Races, Positions & Points'!$A:$F,7,FALSE))=0,\"\",VLOOKUP($B85,'Races, Positions & Points'!$A:$F,7,FALSE)))","v":""},{"$f":"IF(ISERROR(VLOOKUP($B84,'Races, Positions & Points'!$A:$M,9,FALSE)),\"\",IF((VLOOKUP($B84,'Races, Positions & Points'!$A:$M,9,FALSE))=0,\"\",VLOOKUP($B84,'Races, Positions & Points'!$A:$M,9,FALSE)))","v":""},null," "]
[null,null,{"$f":"IF(ISERROR(VLOOKUP($B86,'Races, Positions & Points'!$A:$C,3,FALSE)),\"\",IF((VLOOKUP($B86,'Races, Positions & Points'!$A:$C,3,FALSE))=0,\"\",VLOOKUP($B86,'Races, Positions & Points'!$A:$C,3,FALSE)))","v":""},{"$f":"IF(ISERROR(VLOOKUP($B86,'Races, Positions & Points'!$A:$D,4,FALSE)),\"\",IF((VLOOKUP($B86,'Races, Positions & Points'!$A:$D,4,FALSE))=0,\"\",VLOOKUP($B86,'Races, Positions & Points'!$A:$D,4,FALSE)))","v":""},{"$f":"IF(ISERROR(VLOOKUP($B86,'Races, Positions & Points'!$A:$F,7,FALSE)),\"\",IF((VLOOKUP($B86,'Races, Positions & Points'!$A:$F,7,FALSE))=0,\"\",VLOOKUP($B86,'Races, Positions & Points'!$A:$F,7,FALSE)))","v":""},{"$f":"IF(ISERROR(VLOOKUP($B85,'Races, Positions & Points'!$A:$M,9,FALSE)),\"\",IF((VLOOKUP($B85,'Races, Positions & Points'!$A:$M,9,FALSE))=0,\"\",VLOOKUP($B85,'Races, Positions & Points'!$A:$M,9,FALSE)))","v":""}]
[null,null,{"$f":"IF(ISERROR(VLOOKUP($B87,'Races, Positions & Points'!$A:$C,3,FALSE)),\"\",IF((VLOOKUP($B87,'Races, Positions & Points'!$A:$C,3,FALSE))=0,\"\",VLOOKUP($B87,'Races, Positions & Points'!$A:$C,3,FALSE)))","v":""},{"$f":"IF(ISERROR(VLOOKUP($B87,'Races, Positions & Points'!$A:$D,4,FALSE)),\"\",IF((VLOOKUP($B87,'Races, Positions & Points'!$A:$D,4,FALSE))=0,\"\",VLOOKUP($B87,'Races, Positions & Points'!$A:$D,4,FALSE)))","v":""},{"$f":"IF(ISERROR(VLOOKUP($B87,'Races, Positions & Points'!$A:$F,7,FALSE)),\"\",IF((VLOOKUP($B87,'Races, Positions & Points'!$A:$F,7,FALSE))=0,\"\",VLOOKUP($B87,'Races, Positions & Points'!$A:$F,7,FALSE)))","v":""},{"$f":"IF(ISERROR(VLOOKUP($B86,'Races, Positions & Points'!$A:$M,9,FALSE)),\"\",IF((VLOOKUP($B86,'Races, Positions & Points'!$A:$M,9,FALSE))=0,\"\",VLOOKUP($B86,'Races, Positions & Points'!$A:$M,9,FALSE)))","v":""}]
[null,null,{"$f":"IF(ISERROR(VLOOKUP($B88,'Races, Positions & Points'!$A:$C,3,FALSE)),\"\",IF((VLOOKUP($B88,'Races, Positions & Points'!$A:$C,3,FALSE))=0,\"\",VLOOKUP($B88,'Races, Positions & Points'!$A:$C,3,FALSE)))","v":""},{"$f":"IF(ISERROR(VLOOKUP($B88,'Races, Positions & Points'!$A:$D,4,FALSE)),\"\",IF((VLOOKUP($B88,'Races, Positions & Points'!$A:$D,4,FALSE))=0,\"\",VLOOKUP($B88,'Races, Positions & Points'!$A:$D,4,FALSE)))","v":""},{"$f":"IF(ISERROR(VLOOKUP($B88,'Races, Positions & Points'!$A:$F,7,FALSE)),\"\",IF((VLOOKUP($B88,'Races, Positions & Points'!$A:$F,7,FALSE))=0,\"\",VLOOKUP($B88,'Races, Positions & Points'!$A:$F,7,FALSE)))","v":""},{"$f":"IF(ISERROR(VLOOKUP($B87,'Races, Positions & Points'!$A:$M,9,FALSE)),\"\",IF((VLOOKUP($B87,'Races, Positions & Points'!$A:$M,9,FALSE))=0,\"\",VLOOKUP($B87,'Races, Positions & Points'!$A:$M,9,FALSE)))","v":""}]
[null,null,{"$f":"IF(ISERROR(VLOOKUP($B89,'Races, Positions & Points'!$A:$C,3,FALSE)),\"\",IF((VLOOKUP($B89,'Races, Positions & Points'!$A:$C,3,FALSE))=0,\"\",VLOOKUP($B89,'Races, Positions & Points'!$A:$C,3,FALSE)))","v":""},{"$f":"IF(ISERROR(VLOOKUP($B89,'Races, Positions & Points'!$A:$D,4,FALSE)),\"\",IF((VLOOKUP($B89,'Races, Positions & Points'!$A:$D,4,FALSE))=0,\"\",VLOOKUP($B89,'Races, Positions & Points'!$A:$D,4,FALSE)))","v":""},{"$f":"IF(ISERROR(VLOOKUP($B89,'Races, Positions & Points'!$A:$F,7,FALSE)),\"\",IF((VLOOKUP($B89,'Races, Positions & Points'!$A:$F,7,FALSE))=0,\"\",VLOOKUP($B89,'Races, Positions & Points'!$A:$F,7,FALSE)))","v":""},{"$f":"IF(ISERROR(VLOOKUP($B88,'Races, Positions & Points'!$A:$M,9,FALSE)),\"\",IF((VLOOKUP($B88,'Races, Positions & Points'!$A:$M,9,FALSE))=0,\"\",VLOOKUP($B88,'Races, Positions & Points'!$A:$M,9,FALSE)))","v":""}]
[null,null,{"$f":"IF(ISERROR(VLOOKUP($B90,'Races, Positions & Points'!$A:$C,3,FALSE)),\"\",IF((VLOOKUP($B90,'Races, Positions & Points'!$A:$C,3,FALSE))=0,\"\",VLOOKUP($B90,'Races, Positions & Points'!$A:$C,3,FALSE)))","v":""},{"$f":"IF(ISERROR(VLOOKUP($B90,'Races, Positions & Points'!$A:$D,4,FALSE)),\"\",IF((VLOOKUP($B90,'Races, Positions & Points'!$A:$D,4,FALSE))=0,\"\",VLOOKUP($B90,'Races, Positions & Points'!$A:$D,4,FALSE)))","v":""},{"$f":"IF(ISERROR(VLOOKUP($B90,'Races, Positions & Points'!$A:$F,7,FALSE)),\"\",IF((VLOOKUP($B90,'Races, Positions & Points'!$A:$F,7,FALSE))=0,\"\",VLOOKUP($B90,'Races, Positions & Points'!$A:$F,7,FALSE)))","v":""},{"$f":"IF(ISERROR(VLOOKUP($B89,'Races, Positions & Points'!$A:$M,9,FALSE)),\"\",IF((VLOOKUP($B89,'Races, Positions & Points'!$A:$M,9,FALSE))=0,\"\",VLOOKUP($B89,'Races, Positions & Points'!$A:$M,9,FALSE)))","v":""}]
[null,null,{"$f":"IF(ISERROR(VLOOKUP($B91,'Races, Positions & Points'!$A:$C,3,FALSE)),\"\",IF((VLOOKUP($B91,'Races, Positions & Points'!$A:$C,3,FALSE))=0,\"\",VLOOKUP($B91,'Races, Positions & Points'!$A:$C,3,FALSE)))","v":""},{"$f":"IF(ISERROR(VLOOKUP($B91,'Races, Positions & Points'!$A:$D,4,FALSE)),\"\",IF((VLOOKUP($B91,'Races, Positions & Points'!$A:$D,4,FALSE))=0,\"\",VLOOKUP($B91,'Races, Positions & Points'!$A:$D,4,FALSE)))","v":""},{"$f":"IF(ISERROR(VLOOKUP($B91,'Races, Positions & Points'!$A:$F,7,FALSE)),\"\",IF((VLOOKUP($B91,'Races, Positions & Points'!$A:$F,7,FALSE))=0,\"\",VLOOKUP($B91,'Races, Positions & Points'!$A:$F,7,FALSE)))","v":""},{"$f":"IF(ISERROR(VLOOKUP($B90,'Races, Positions & Points'!$A:$M,9,FALSE)),\"\",IF((VLOOKUP($B90,'Races, Positions & Points'!$A:$M,9,FALSE))=0,\"\",VLOOKUP($B90,'Races, Positions & Points'!$A:$M,9,FALSE)))","v":""}]
[null,null,{"$f":"IF(ISERROR(VLOOKUP($B92,'Races, Positions & Points'!$A:$C,3,FALSE)),\"\",IF((VLOOKUP($B92,'Races, Positions & Points'!$A:$C,3,FALSE))=0,\"\",VLOOKUP($B92,'Races, Positions & Points'!$A:$C,3,FALSE)))","v":""},{"$f":"IF(ISERROR(VLOOKUP($B92,'Races, Positions & Points'!$A:$D,4,FALSE)),\"\",IF((VLOOKUP($B92,'Races, Positions & Points'!$A:$D,4,FALSE))=0,\"\",VLOOKUP($B92,'Races, Positions & Points'!$A:$D,4,FALSE)))","v":""},{"$f":"IF(ISERROR(VLOOKUP($B92,'Races, Positions & Points'!$A:$F,7,FALSE)),\"\",IF((VLOOKUP($B92,'Races, Positions & Points'!$A:$F,7,FALSE))=0,\"\",VLOOKUP($B92,'Races, Positions & Points'!$A:$F,7,FALSE)))","v":""},{"$f":"IF(ISERROR(VLOOKUP($B91,'Races, Positions & Points'!$A:$M,9,FALSE)),\"\",IF((VLOOKUP($B91,'Races, Positions & Points'!$A:$M,9,FALSE))=0,\"\",VLOOKUP($B91,'Races, Positions & Points'!$A:$M,9,FALSE)))","v":""}]
[null,null,{"$f":"IF(ISERROR(VLOOKUP($B93,'Races, Positions & Points'!$A:$C,3,FALSE)),\"\",IF((VLOOKUP($B93,'Races, Positions & Points'!$A:$C,3,FALSE))=0,\"\",VLOOKUP($B93,'Races, Positions & Points'!$A:$C,3,FALSE)))","v":""},{"$f":"IF(ISERROR(VLOOKUP($B93,'Races, Positions & Points'!$A:$D,4,FALSE)),\"\",IF((VLOOKUP($B93,'Races, Positions & Points'!$A:$D,4,FALSE))=0,\"\",VLOOKUP($B93,'Races, Positions & Points'!$A:$D,4,FALSE)))","v":""},{"$f":"IF(ISERROR(VLOOKUP($B93,'Races, Positions & Points'!$A:$F,7,FALSE)),\"\",IF((VLOOKUP($B93,'Races, Positions & Points'!$A:$F,7,FALSE))=0,\"\",VLOOKUP($B93,'Races, Positions & Points'!$A:$F,7,FALSE)))","v":""},{"$f":"IF(ISERROR(VLOOKUP($B92,'Races, Positions & Points'!$A:$M,9,FALSE)),\"\",IF((VLOOKUP($B92,'Races, Positions & Points'!$A:$M,9,FALSE))=0,\"\",VLOOKUP($B92,'Races, Positions & Points'!$A:$M,9,FALSE)))","v":""}]
[null,null,{"$f":"IF(ISERROR(VLOOKUP($B94,'Races, Positions & Points'!$A:$C,3,FALSE)),\"\",IF((VLOOKUP($B94,'Races, Positions & Points'!$A:$C,3,FALSE))=0,\"\",VLOOKUP($B94,'Races, Positions & Points'!$A:$C,3,FALSE)))","v":""},{"$f":"IF(ISERROR(VLOOKUP($B94,'Races, Positions & Points'!$A:$D,4,FALSE)),\"\",IF((VLOOKUP($B94,'Races, Positions & Points'!$A:$D,4,FALSE))=0,\"\",VLOOKUP($B94,'Races, Positions & Points'!$A:$D,4,FALSE)))","v":""},{"$f":"IF(ISERROR(VLOOKUP($B94,'Races, Positions & Points'!$A:$F,7,FALSE)),\"\",IF((VLOOKUP($B94,'Races, Positions & Points'!$A:$F,7,FALSE))=0,\"\",VLOOKUP($B94,'Races, Positions & Points'!$A:$F,7,FALSE)))","v":""},{"$f":"IF(ISERROR(VLOOKUP($B93,'Races, Positions & Points'!$A:$M,9,FALSE)),\"\",IF((VLOOKUP($B93,'Races, Positions & Points'!$A:$M,9,FALSE))=0,\"\",VLOOKUP($B93,'Races, Positions & Points'!$A:$M,9,FALSE)))","v":""}]
[null,null,{"$f":"IF(ISERROR(VLOOKUP($B95,'Races, Positions & Points'!$A:$C,3,FALSE)),\"\",IF((VLOOKUP($B95,'Races, Positions & Points'!$A:$C,3,FALSE))=0,\"\",VLOOKUP($B95,'Races, Positions & Points'!$A:$C,3,FALSE)))","v":""},{"$f":"IF(ISERROR(VLOOKUP($B95,'Races, Positions & Points'!$A:$D,4,FALSE)),\"\",IF((VLOOKUP($B95,'Races, Positions & Points'!$A:$D,4,FALSE))=0,\"\",VLOOKUP($B95,'Races, Positions & Points'!$A:$D,4,FALSE)))","v":""},{"$f":"IF(ISERROR(VLOOKUP($B95,'Races, Positions & Points'!$A:$F,7,FALSE)),\"\",IF((VLOOKUP($B95,'Races, Positions & Points'!$A:$F,7,FALSE))=0,\"\",VLOOKUP($B95,'Races, Positions & Points'!$A:$F,7,FALSE)))","v":""},{"$f":"IF(ISERROR(VLOOKUP($B94,'Races, Positions & Points'!$A:$M,9,FALSE)),\"\",IF((VLOOKUP($B94,'Races, Positions & Points'!$A:$M,9,FALSE))=0,\"\",VLOOKUP($B94,'Races, Positions & Points'!$A:$M,9,FALSE)))","v":""}]
[null,null,{"$f":"IF(ISERROR(VLOOKUP($B96,'Races, Positions & Points'!$A:$C,3,FALSE)),\"\",IF((VLOOKUP($B96,'Races, Positions & Points'!$A:$C,3,FALSE))=0,\"\",VLOOKUP($B96,'Races, Positions & Points'!$A:$C,3,FALSE)))","v":""},{"$f":"IF(ISERROR(VLOOKUP($B96,'Races, Positions & Points'!$A:$D,4,FALSE)),\"\",IF((VLOOKUP($B96,'Races, Positions & Points'!$A:$D,4,FALSE))=0,\"\",VLOOKUP($B96,'Races, Positions & Points'!$A:$D,4,FALSE)))","v":""},{"$f":"IF(ISERROR(VLOOKUP($B96,'Races, Positions & Points'!$A:$F,7,FALSE)),\"\",IF((VLOOKUP($B96,'Races, Positions & Points'!$A:$F,7,FALSE))=0,\"\",VLOOKUP($B96,'Races, Positions & Points'!$A:$F,7,FALSE)))","v":""},{"$f":"IF(ISERROR(VLOOKUP($B95,'Races, Positions & Points'!$A:$M,9,FALSE)),\"\",IF((VLOOKUP($B95,'Races, Positions & Points'!$A:$M,9,FALSE))=0,\"\",VLOOKUP($B95,'Races, Positions & Points'!$A:$M,9,FALSE)))","v":""}]
[null,null,{"$f":"IF(ISERROR(VLOOKUP($B97,'Races, Positions & Points'!$A:$C,3,FALSE)),\"\",IF((VLOOKUP($B97,'Races, Positions & Points'!$A:$C,3,FALSE))=0,\"\",VLOOKUP($B97,'Races, Positions & Points'!$A:$C,3,FALSE)))","v":""},{"$f":"IF(ISERROR(VLOOKUP($B97,'Races, Positions & Points'!$A:$D,4,FALSE)),\"\",IF((VLOOKUP($B97,'Races, Positions & Points'!$A:$D,4,FALSE))=0,\"\",VLOOKUP($B97,'Races, Positions & Points'!$A:$D,4,FALSE)))","v":""},{"$f":"IF(ISERROR(VLOOKUP($B97,'Races, Positions & Points'!$A:$F,7,FALSE)),\"\",IF((VLOOKUP($B97,'Races, Positions & Points'!$A:$F,7,FALSE))=0,\"\",VLOOKUP($B97,'Races, Positions & Points'!$A:$F,7,FALSE)))","v":""},{"$f":"IF(ISERROR(VLOOKUP($B96,'Races, Positions & Points'!$A:$M,9,FALSE)),\"\",IF((VLOOKUP($B96,'Races, Positions & Points'!$A:$M,9,FALSE))=0,\"\",VLOOKUP($B96,'Races, Positions & Points'!$A:$M,9,FALSE)))","v":""}]
[null,null,null,null,null,{"$f":"IF(ISERROR(VLOOKUP($B97,'Races, Positions & Points'!$A:$M,9,FALSE)),\"\",IF((VLOOKUP($B97,'Races, Positions & Points'!$A:$M,9,FALSE))=0,\"\",VLOOKUP($B97,'Races, Positions & Points'!$A:$M,9,FALSE)))","v":""}]

{"sheet":"Club Statistics","index":3,"n_rows":76,"n_cols":26,"rows_kept":76,"cut":false,"hidden":false,"merged":[]}
[null,null,"MSC Total Podiums in BARTS Events"]
[]
[null,null,"Total Podiums",null,null,"Total Podiums - By Age Category",null,null,null,null,null,null,null,"Total Podiums - By Gender",null,null,null,null,"2013 Total Place Podiums"]
[null,null,"Year","Total",null,"Year","Mini","CH","JN","SEN","MAS","Total",null,"Year","Female","Male","Total",null,"By Age Category and Position"]
[null,null,2001,1,null,2001,0,0,1,0,0,{"$f":"SUM(G5:K5)","v":1},null,2001,1,0,{"$f":"SUM(O5:P5)","v":1},null,"Year","1st","2nd","3rd","Total"]
[null,null,2002,0,null,2002,0,0,0,0,0,0,null,2002,0,0,0,null,"Mini",{"$f":"W25+W44","v":22},8,6,{"$f":"SUM(T6:V6)","v":36}]
[null,null,2003,0,null,2003,0,0,0,0,0,0,null,2003,0,0,0,null,"CH",29,14,7,{"$f":"SUM(T7:V7)","v":50}]
[null,null,2004,1,null,2004,0,0,0,1,0,1,null,2004,1,0,1,null,"JN",4,13,14,{"$f":"SUM(T8:V8)","v":31}]
[null,null,2005,1,null,2005,0,1,0,0,0,1,null,2005,0,1,1,null,"SEN",16,19,13,{"$f":"SUM(T9:V9)","v":48}]
[null,null,2006,1,null,2006,1,0,0,0,0,1,null,2006,1,0,1,null,"MAS",9,2,1,{"$f":"SUM(T10:V10)","v":12}]
[null,null,2007,29,null,2007,2,0,8,1,18,29,null,2007,17,12,29,null,"Total",{"$f":"SUM(T6:T10)","v":80},{"$f":"SUM(U6:U10)","v":56},{"$f":"SUM(V6:V10)","v":41},{"$f":"SUM(W6:W10)","v":177}]
[null,null,2008,77,null,2008,19,7,13,7,31,77,null,2008,43,34,77]
[null,null,2009,99,null,2009,22,14,25,9,29,{"$f":"SUM(G13:K13)","v":99},null,2009,26,73,99]
[null,null,2010,102,null,2010,12,20,35,19,16,{"$f":"SUM(G14:K14)","v":102},null,2010,42,60,102]
[null,null,2011,109,null,2011,23,17,18,39,12,109,null,2011,{"$f":"R34+R53","v":34},{"$f":"S34+S53","v":75},{"$f":"SUM(O15:P15)","v":109}]
[null,null,2013,169,null,2013,7,58,34,57,13,169,null,2012,50,119,169]
[null,null,2013,{"$f":"L17","v":177},null,2013,{"$f":"J36+J55","v":36},{"$f":"K36+K55","v":50},{"$f":"L36+L55","v":31},{"$f":"M36+M55","v":48},{"$f":"N36+N55","v":12},{"$f":"SUM(G17:K17)","v":177},null,2013,{"$f":"R36+R55","v":60},{"$f":"S36+S55","v":117},{"$f":"SUM(O17:P17)","v":177}]
[null,null,"Total",{"$f":"SUM(D5:D17)","v":766},null,"Total",{"$f":"SUM(G5:G17)","v":122},167,165,181,131,766,null,"Total",{"$f":"SUM(O5:O17)","v":275},{"$f":"SUM(P5:P17)","v":491},{"$f":"SUM(Q5:Q17)","v":766}]
[]
[null,null,"MSC Overall Podiums in BARTS Events"]
[]
[null,null,"Overall Place Podiums - By Position",null,null,null,null," ","Overall Place Podiums - By Age Category",null,null,null,null,null,null,null,"Overall Place Podiums - By Gender",null,null,null,null,"2013 Overall Place Podiums"]
[null,null,"Year","1st","2nd","3rd","Total",null,"Year","Mini","CH","JN","SEN","MAS","Total",null,"Year","Female","Male","Total",null,"By Age Category and Position"]
[null,null,2001,0,0,0,{"$f":"SUM(D24:F24)","v":0},null,2001,0,0,0,0,0,{"$f":"SUM(J24:N24)","v":0},null,2001,0,0,0,null,"Year","1st","2nd","3rd","Total"]
[null,null,2002,0,0,0,0,null,2002,0,0,{"$f":"SUM(J25:K25)","v":0},{"$f":"SUM(L25)","v":0},0,{"$f":"SUM(N25)","v":0},null,2002,0,0,{"$f":"SUM(R25:S25)","v":0},null,"Mini",0,0,0,{"$f":"SUM(W25:Y25)","v":0}]
[null,null,2003,0,0,0,0,null,2003,0,0,{"$f":"SUM(J26:K26)","v":0},{"$f":"SUM(L26)","v":0},0,{"$f":"SUM(O24:O25)","v":0},null,2003,0,0,{"$f":"SUM(R26:S26)","v":0},null,"CH",{"$f":"'Races, Positions & Points'!M111","v":0},{"$f":"'Races, Positions & Points'!M112","v":0},{"$f":"'Races, Positions & Points'!M113","v":0},{"$f":"SUM(W26:Y26)","v":0}]
[null,null,2004,0,0,0,0,null,2004,0,0,0,0,0,{"$f":"SUM(J27:N27)","v":0},null,2004,0,0,0,null,"JN",{"$f":"'Races, Positions & Points'!M114","v":0},{"$f":"'Races, Positions & Points'!M115","v":1},{"$f":"'Races, Positions & Points'!M116","v":1},{"$f":"SUM(W27:Y27)","v":2}]
[null,null,2005,0,0,0,0,null,2005,0,0,0,{"$f":"SUM(J28:L28)","v":0},0,{"$f":"SUM(N28)","v":0},null,2005,0,0,0,null,"SEN",{"$f":"'Races, Positions & Points'!M117","v":4},{"$f":"'Races, Positions & Points'!M118","v":5},{"$f":"'Races, Positions & Points'!M119","v":3},{"$f":"SUM(W28:Y28)","v":12}]
[null,null,2006,0,0,0,0,null,2006,0,0,0,0,0,{"$f":"SUM(J29:N29)","v":0},null,2006,0,0,0,null,"MAS",{"$f":"'Races, Positions & Points'!M120","v":0},{"$f":"'Races, Positions & Points'!M121","v":0},{"$f":"'Races, Positions & Points'!M122","v":0},{"$f":"SUM(W29:Y29)","v":0}]
[null,null,2007,0,0,0,0,null,2007,0,0,0,0,0,{"$f":"SUM(J30:N30)","v":0},null,2007,0,0,0,null,"Total",{"$f":"SUM(W25:W29)","v":4},{"$f":"SUM(X25:X29)","v":6},{"$f":"SUM(Y25:Y29)","v":4},{"$f":"SUM(Z25:Z29)","v":14}]
[null,null,2008,0,1,1,{"$f":"SUM(D31:F31)","v":2},null,2008,0,0,2,0,0,{"$f":"SUM(J31:N31)","v":2},null,2008,0,2,{"$f":"SUM(R31:S31)","v":2}]
[null,null,2009,1,1,2,{"$f":"SUM(D32:F32)","v":4},null,2009,0,0,3,0,1,{"$f":"SUM(J32:N32)","v":4},null,2009,0,4,4]
[null,null,2010,4,8,3,{"$f":"SUM(D33:F33)","v":15},null,2010,0,0,14,1,0,{"$f":"SUM(J33:N33)","v":15},null,2010,3,12,15]
[null,null,2011,2,6,4,12,null,2011,0,0,2,10,0,12,null,2011,2,10,12]
[null,null,2012,2,10,8,20,null,2012,0,3,3,14,0,20,null,2012,7,13,20]
[null,null,2013,{"$f":"'Races, Positions & Points'!M111+'Races, Positions & Points'!M114+'Races, Positions & Points'!M117+'Races, Positions & Points'!M120","v":4},{"$f":"'Races, Positions & Points'!M112+'Races, Positions & Points'!M115+'Races, Positions & Points'!M118+'Races, Positions & Points'!M121","v":6},{"$f":"'Races, Positions & Points'!M113+'Races, Positions & Points'!M116+'Races, Positions & Points'!M119+'Races, Positions & Points'!M122","v":4},{"$f":"SUM(D36:F36)","v":14},null,2013,0,{"$f":"Z26","v":0},{"$f":"Z27","v":2},{"$f":"Z28","v":12},{"$f":"Z29","v":0},{"$f":"SUM(J36:N36)","v":14},null,2013,{"$f":"'Races, Positions & Points'!M124","v":3},{"$f":"'Races, Positions & Points'!M123","v":11},14]
[null,null,"Total",{"$f":"SUM(D24:D36)","v":13},{"$f":"SUM(E24:E36)","v":32},{"$f":"SUM(F24:F36)","v":22},{"$f":"SUM(G24:G36)","v":67},null,"Total",{"$f":"SUM(J24:J36)","v":0},3,26,37,1,67,null,"Total",{"$f":"SUM(R24:R36)","v":15},{"$f":"SUM(S24:S36)","v":52},{"$f":"SUM(T24:T36)","v":67}]
[]
[null,null,"MSC Age Group Podiums in BARTS Events"]
[]
[null,null,"Age Group Podiums",null,null,null,null,null,"Age Group Podiums - By Age Category",null,null,null,null,null,null,null,"Age Group Podiums - By Gender",null,null,null,null,"2013 Age Category Place Podiums"]
[null,null,"Year","1st","2nd","3rd","Total",null,"Year","Mini","CH","JN","SEN","MAS","Total",null,"Year","Female","Male","Total",null,"By Age Category and Position"]
[null,null,2001,0,0,1,{"$f":"SUM(D43:F43)","v":1},null,2001,0,0,1,0,0,{"$f":"SUM(J43:N43)","v":1},null,2001,1,0,{"$f":"SUM(R43:S43)","v":1},null,"Year","1st","2nd","3rd","Total"]
[null,null,2002,0,0,0,{"$f":"SUM(D44:F44)","v":0},null,2002,0,0,0,0,0,0,null,2002,0,0,0,null,"Mini",{"$f":"'Races, Positions & Points'!M94","v":22},{"$f":"'Races, Positions & Points'!M95","v":8},{"$f":"'Races, Positions & Points'!M96","v":6},{"$f":"SUM(W44:Y44)","v":36}]
[null,null,2003,0,0,0,{"$f":"SUM(D45:F45)","v":0},null,2003,0,0,0,0,0,0,null,2003,0,0,0,null,"CH",{"$f":"'Races, Positions & Points'!M97","v":29},{"$f":"'Races, Positions & Points'!M98","v":14},{"$f":"'Races, Positions & Points'!M99","v":7},{"$f":"SUM(W45:Y45)","v":50}]
[null,null,2004,0,0,1,{"$f":"SUM(D46:F46)","v":1},null,2004,0,0,0,1,0,1,null,2004,1,0,1,null,"JN",{"$f":"'Races, Positions & Points'!M100","v":4},{"$f":"'Races, Positions & Points'!M101","v":12},{"$f":"'Races, Positions & Points'!M102","v":13},{"$f":"SUM(W46:Y46)","v":29}]
[null,null,2005,0,1,0,{"$f":"SUM(D47:F47)","v":1},null,2005,0,1,0,0,0,1,null,2005,0,1,1,null,"SEN",{"$f":"'Races, Positions & Points'!M103","v":12},{"$f":"'Races, Positions & Points'!M104","v":14},{"$f":"'Races, Positions & Points'!M105","v":10},{"$f":"SUM(W47:Y47)","v":36}]
[null,null,2006,0,0,1,{"$f":"SUM(F48)","v":1},null,2006,1,0,0,0,0,1,null,2006,1,0,1,null,"MAS",{"$f":"'Races, Positions & Points'!M106","v":9},{"$f":"'Races, Positions & Points'!M107","v":2},{"$f":"'Races, Positions & Points'!M108","v":1},{"$f":"SUM(W48:Y48)","v":12}]
[null,null,2007,6,8,15,{"$f":"SUM(D49:F49)","v":29},null,2007,2,0,8,1,18,29,null,2007,17,12,29,null,"Total",{"$f":"SUM(W44:W48)","v":76},{"$f":"SUM(X44:X48)","v":50},{"$f":"SUM(Y44:Y48)","v":37},{"$f":"SUM(Z44:Z48)","v":163}]
[null,null,2008,15,26,34,75,null,2008,19,7,11,7,31,75,null,2008,43,32,75]
[null,null,2009,20,34,41,95,null,2009,22,14,22,9,28,95,null,2009,26,69,95]
[null,null,2010,23,36,28,87,null,2010,12,20,21,18,16,87,null,2010,39,48,87]
[null,null,2011,34,36,27,97,null,2011,23,17,16,29,12,97,null,2011,32,65,97]
[null,null,2012,47,53,49,149,null,2012,7,55,31,43,13,149,null,2012,43,106,149]
[null,null,2013,{"$f":"W49","v":76},{"$f":"X49","v":50},{"$f":"Y49","v":37},163,null,2013,{"$f":"Z44","v":36},{"$f":"Z45","v":50},{"$f":"Z46","v":29},{"$f":"Z47","v":36},{"$f":"Z48","v":12},163,null,2013,{"$f":"'Races, Positions & Points'!M110","v":57},{"$f":"'Races, Positions & Points'!M109","v":106},{"$f":"SUM(R55:S55)","v":163}]
[null,null,"Total",{"$f":"SUM(D43:D55)","v":221},{"$f":"SUM(E43:E55)","v":244},{"$f":"SUM(F43:F55)","v":234},{"$f":"SUM(G43:G55)","v":699},null,"Total",{"$f":"SUM(J43:J55)","v":122},164,139,144,130,699,null,"Total",{"$f":"SUM(R43:R55)","v":260},{"$f":"SUM(S43:S55)","v":439},{"$f":"SUM(T43:T55)","v":699}]
[]
[null,null,"MSC BARTS Points Statistics",null,null,null,null,null,null,null,null,null,null,"MSC Attendance Statistics"]
[]
[null,null,"BARTS Points - registered racers taking part in seeded races in the year",null,null,null,null,null,null,null,null,null,null,null,"BARTS Points - registered racers taking part in seeded races in the year"]
[null,null,"Year","Sub-10","Sub-25","Sub-50","Sub-100","Sub-150","Sub-200","Sub-250","250+","Minis","Total",null,"Year","1-2","3-5","6-10","11-15","16-20","21-25","26-29","30+","Skiers","Starts"]
[null,null,2001,0,0,0,0,1,0,0,0,0,{"$f":"SUM(D62:L62)","v":1},null," "]
[null,null,2002,0,0,0,0,1,0,0,0,0,1,null," "]
[null,null,2003,0,0,0,1,0,0,0,3,1,5,null," "]
[null,null,2004,0,0,0,1,0,0,2,2,1,6,null,2004,4,4,null,null,null,null,null,null,8,17]
[null,null,2005,0,0,0,1,0,3,2,4,1,11,null,2005,2,3,5," "," "," "," "," ",10,53]
[null,null,2006,0,0,0,2,2,3,2,2,5,16,null,2006,2,7,6,1,null,null,null,null,16,90]
[null,null,2007,0,0,0,5,3,5,3,8,5,29,null,2007,3,9,12,2,3,null,null,null,29,217]
[null,null,2008,0,0,1,5,7,8,2,10,5,38,null,2008,1,7,14,9,5,1,1,null,38,385]
[null,null,2009,0,2,3,3,10,6,1,7,6,38,null,2009,4,5,10,12,5,1,1,null,38,399]
[null,null,2010,1,3,3,7,6,4,3,4,3,{"$f":"SUM(D71:L71)","v":34},null,2010,18,3,13,11,5,null,null,null,50,366]
[null,null,2011,3,5,6,6,7,2,5,9,9,52,null,2011,6,9,14,11,2,1,null,1,44,394]
[null,null,2012,1,1,5,6,9,4,6,5,4,41,null,2012,9,13,6,4,5,1,1,3,42,395]
[null,null,2013,{"$f":"COUNTIFS(Attendance!$G$21:$G$76,\"<10\",Attendance!$R$21:$R$76,\">0\")","v":1},{"$f":"COUNTIFS(Attendance!$G$21:$G$76,\"<25\",Attendance!$G$21:$G$76,\">=10\",Attendance!$R$21:$R$76,\">0\")","v":2},{"$f":"COUNTIFS(Attendance!$G$21:$G$76,\"<50\",Attendance!$G$21:$G$76,\">=25\",Attendance!$R$21:$R$76,\">0\")","v":4},{"$f":"COUNTIFS(Attendance!$G$21:$G$76,\"<100\",Attendance!$G$21:$G$76,\">=50\",Attendance!$R$21:$R$76,\">0\")","v":11},{"$f":"COUNTIFS(Attendance!$G$21:$G$76,\"<150\",Attendance!$G$21:$G$76,\">=100\",Attendance!$R$21:$R$76,\">0\")","v":5},{"$f":"COUNTIFS(Attendance!$G$21:$G$76,\"<200\",Attendance!$G$21:$G$76,\">=150\",Attendance!$R$21:$R$76,\">0\")","v":3},{"$f":"COUNTIFS(Attendance!$G$21:$G$76,\"<250\",Attendance!$G$21:$G$76,\">=200\",Attendance!$R$21:$R$76,\">0\")","v":4},{"$f":"COUNTIFS(Attendance!$G$21:$G$76,\">=250\",Attendance!$R$21:$R$76,\">0\",Attendance!$E$21:$E$76,\">0\")","v":2},{"$f":"COUNTIFS(Attendance!$G$8:$G$19,\">0\",Attendance!$R$8:$R$19,\">0\")","v":10},{"$f":"SUM(D74:L74)","v":42},null,2013,{"$f":"COUNTIFS(Attendance!$E$8:$E$76,\">0\",Attendance!$G$8:$G$76,\">0\",Attendance!$R$8:$R$76,\">0\",Attendance!$R$8:$R$76,\"<3\")","v":11},{"$f":"COUNTIFS(Attendance!$E$8:$E$76,\">0\",Attendance!$G$8:$G$76,\">0\",Attendance!$R$8:$R$76,\">2\",Attendance!$R$8:$R$76,\"<6\")","v":4},{"$f":"COUNTIFS(Attendance!$E$8:$E$76,\">0\",Attendance!$G$8:$G$76,\">0\",Attendance!$R$8:$R$76,\">5\",Attendance!$R$8:$R$76,\"<11\")","v":10},{"$f":"COUNTIFS(Attendance!$E$8:$E$76,\">0\",Attendance!$G$8:$G$76,\">0\",Attendance!$R$8:$R$76,\">10\",Attendance!$R$8:$R$76,\"<16\")","v":11},{"$f":"COUNTIFS(Attendance!$E$8:$E$76,\">0\",Attendance!$G$8:$G$76,\">0\",Attendance!$R$8:$R$76,\">15\",Attendance!$R$8:$R$76,\"<21\")","v":2},{"$f":"COUNTIFS(Attendance!$E$8:$E$76,\">0\",Attendance!$G$8:$G$76,\">0\",Attendance!$R$8:$R$76,\">20\",Attendance!$R$8:$R$76,\"<26\")","v":2},{"$f":"COUNTIFS(Attendance!$E$8:$E$76,\">0\",Attendance!$G$8:$G$76,\">0\",Attendance!$R$8:$R$76,\">25\",Attendance!$R$8:$R$76,\"<30\")","v":1},{"$f":"COUNTIFS(Attendance!$E$8:$E$76,\">0\",Attendance!$G$8:$G$76,\">0\",Attendance!$R$8:$R$76,\">30\")","v":1},{"$f":"SUM(P74:W74)","v":42},{"$f":"Attendance!R82","v":394}]
[null,null,"Total",{"$f":"SUM(D62:D74)","v":6},{"$f":"SUM(E62:E74)","v":13},{"$f":"SUM(F62:F74)","v":22},{"$f":"SUM(G62:G74)","v":48},51,38,30,56,50,{"$f":"SUM(E75:L75)","v":308},null,"Total",{"$f":"SUM(P62:P74)","v":60},{"$f":"SUM(Q62:Q74)","v":64},{"$f":"SUM(R62:R74)","v":90},{"$f":"SUM(S62:S74)","v":61},27,6,4,5,317,{"$f":"SUM(Y65:Y74)","v":2710}]
[null,null,null,null,null,null,null,null,null,null,null," "]

{"sheet":"Attendance","index":4,"n_rows":85,"n_cols":36,"rows_kept":85,"cut":false,"hidden":false,"merged":[[3,1,4,1]]}
[]
[]
[]
[]
["Britski","M/F",null,"AGE","REG","POINTS","CURRENT",null,2013,null,null,null,null,null,null,null,null,null,null,2012]
["Seeding",null,"YEAR","GROUP","NUM",2013,2013.2,null,"CN/10pt In","CN/10 pt Out","GBR In","GBR Out","Ch In","Ch Out",null,"Total In","Total out","Total",null,"CN In","CN OUT","GBR In","GBR Out","Ch In","Ch Out",null,"Total In","Total out","Total"]
["GIRLS"]
[{"$f":"'Races, Positions & Points'!A8","v":"Lauren Treuge"},{"$f":"'Races, Positions & Points'!B8","v":"F"},{"$f":"'Races, Positions & Points'!C8","v":2003},{"$f":"'Races, Positions & Points'!D8","v":"U12"},{"$f":"'Races, Positions & Points'!E8","v":20669},{"$f":"'Races, Positions & Points'!F8","v":999.99},{"$f":"'Races, Positions & Points'!I8","v":999.99},null,{"$f":"'Points Calculation'!AS8","v":0},{"$f":"'Points Calculation'!AT8","v":1},{"$f":"'Points Calculation'!AU8","v":0},{"$f":"'Points Calculation'!AV8","v":0},{"$f":"'Points Calculation'!AW8","v":0},{"$f":"'Points Calculation'!AX8","v":1},null,{"$f":"I8+K8+M8","v":0},{"$f":"J8+L8+N8","v":2},{"$f":"P8+Q8","v":2}]
[{"$f":"'Races, Positions & Points'!A9","v":"Tilley O'Brien"},{"$f":"'Races, Positions & Points'!B9","v":"F"},{"$f":"'Races, Positions & Points'!C9","v":2004},{"$f":"'Races, Positions & Points'!D9","v":"U10"},{"$f":"'Races, Positions & Points'!E9","v":20809},{"$f":"'Races, Positions & Points'!F9","v":999.99},{"$f":"'Races, Positions & Points'!I9","v":999.99},null,{"$f":"'Points Calculation'!AS9","v":4},{"$f":"'Points Calculation'!AT9","v":0},{"$f":"'Points Calculation'!AU9","v":1},{"$f":"'Points Calculation'!AV9","v":0},{"$f":"'Points Calculation'!AW9","v":1},{"$f":"'Points Calculation'!AX9","v":0},null,{"$f":"I9+K9+M9","v":6},{"$f":"J9+L9+N9","v":0},{"$f":"P9+Q9","v":6},null,null,3,null,null,null,null,null,{"$f":"T9+V9+X9","v":0},{"$f":"U9+W9+Y9","v":3},{"$f":"AA9+AB9","v":3}]
[{"$f":"'Races, Positions & Points'!A10","v":"Anya Hemming"},{"$f":"'Races, Positions & Points'!B10","v":"F"},{"$f":"'Races, Positions & Points'!C10","v":2005},{"$f":"'Races, Positions & Points'!D10","v":"U10"},{"$f":"'Races, Positions & Points'!E10","v":21569},{"$f":"'Races, Positions & Points'!F10","v":999.99},{"$f":"'Races, Positions & Points'!I10","v":999.99},null,{"$f":"'Points Calculation'!AS10","v":0},{"$f":"'Points Calculation'!AT10","v":8},{"$f":"'Points Calculation'!AU10","v":0},{"$f":"'Points Calculation'!AV10","v":0},{"$f":"'Points Calculation'!AW10","v":1},{"$f":"'Points Calculation'!AX10","v":3},null,1,11,12,null,3,null,null,null,null,null,null,{"$f":"T10+V10+X10","v":3},null,{"$f":"AA10+AB10","v":3}]
["BOYS"]
[{"$f":"'Races, Positions & Points'!A12","v":"James Care"},{"$f":"'Races, Positions & Points'!B12","v":"M"},{"$f":"'Races, Positions & Points'!C12","v":2002},{"$f":"'Races, Positions & Points'!D12","v":"U12"},{"$f":"'Races, Positions & Points'!E12","v":20590},{"$f":"'Races, Positions & Points'!F12","v":999.99},{"$f":"'Races, Positions & Points'!I12","v":999.99},null,{"$f":"'Points Calculation'!AS12","v":0},{"$f":"'Points Calculation'!AT12","v":2},{"$f":"'Points Calculation'!AU12","v":0},{"$f":"'Points Calculation'!AV12","v":0},{"$f":"'Points Calculation'!AW12","v":0},{"$f":"'Points Calculation'!AX12","v":0},null,0,2,2]
[{"$f":"'Races, Positions & Points'!A13","v":"Macaulay Clover"},{"$f":"'Races, Positions & Points'!B13","v":"M"},{"$f":"'Races, Positions & Points'!C13","v":2002},{"$f":"'Races, Positions & Points'!D13","v":"U12"},{"$f":"'Races, Positions & Points'!E13","v":"Day"},{"$f":"'Races, Positions & Points'!F13","v":"NR"},{"$f":"'Races, Positions & Points'!I13","v":"NR"},null,{"$f":"'Points Calculation'!AS13","v":0},{"$f":"'Points Calculation'!AT13","v":1},{"$f":"'Points Calculation'!AU13","v":0},{"$f":"'Points Calculation'!AV13","v":0},{"$f":"'Points Calculation'!AW13","v":0},{"$f":"'Points Calculation'!AX13","v":0},null,0,1,1,null,null,1,null,null,null,null,null,null,{"$f":"U13+W13+Y13","v":1},{"$f":"AA13+AB13","v":1}]
[{"$f":"'Races, Positions & Points'!A14","v":"Seamus O'Brien"},{"$f":"'Races, Positions & Points'!B14","v":"M"},{"$f":"'Races, Positions & Points'!C14","v":2002},{"$f":"'Races, Positions & Points'!D14","v":"U12"},{"$f":"'Races, Positions & Points'!E14","v":19737},{"$f":"'Races, Positions & Points'!F14","v":999.99},{"$f":"'Races, Positions & Points'!I14","v":999.99},null,{"$f":"'Points Calculation'!AS14","v":3},{"$f":"'Points Calculation'!AT14","v":0},{"$f":"'Points Calculation'!AU14","v":3},{"$f":"'Points Calculation'!AV14","v":0},{"$f":"'Points Calculation'!AW14","v":1},{"$f":"'Points Calculation'!AX14","v":0},null,7,0,7]
[{"$f":"'Races, Positions & Points'!A15","v":"Matthew Treuge"},{"$f":"'Races, Positions & Points'!B15","v":"M"},{"$f":"'Races, Positions & Points'!C15","v":2002},{"$f":"'Races, Positions & Points'!D15","v":"U12"},{"$f":"'Races, Positions & Points'!E15","v":20670},{"$f":"'Races, Positions & Points'!F15","v":999.99},{"$f":"'Races, Positions & Points'!I15","v":999.99},null,{"$f":"'Points Calculation'!AS15","v":0},{"$f":"'Points Calculation'!AT15","v":1},{"$f":"'Points Calculation'!AU15","v":0},{"$f":"'Points Calculation'!AV15","v":0},{"$f":"'Points Calculation'!AW15","v":0},{"$f":"'Points Calculation'!AX15","v":1},null,0,2,2,null,3,null,null,null,null,null,null,{"$f":"T15+V15+X15","v":3},null,{"$f":"AA15+AB15","v":3}]
[{"$f":"'Races, Positions & Points'!A16","v":"James Shakeshaft"},{"$f":"'Races, Positions & Points'!B16","v":"M"},{"$f":"'Races, Positions & Points'!C16","v":2003},{"$f":"'Races, Positions & Points'!D16","v":"U12"},{"$f":"'Races, Positions & Points'!E16","v":20340},{"$f":"'Races, Positions & Points'!F16","v":999.99},{"$f":"'Races, Positions & Points'!I16","v":999.99},null,{"$f":"'Points Calculation'!AS16","v":0},{"$f":"'Points Calculation'!AT16","v":1},{"$f":"'Points Calculation'!AU16","v":0},{"$f":"'Points Calculation'!AV16","v":0},{"$f":"'Points Calculation'!AW16","v":0},{"$f":"'Points Calculation'!AX16","v":0},null,0,1,1,null,null,3,null,null,null,null,null,null,3,{"$f":"AA16+AB16","v":3}]
[{"$f":"'Races, Positions & Points'!A17","v":"Daniel Hadley"},{"$f":"'Races, Positions & Points'!B17","v":"M"},{"$f":"'Races, Positions & Points'!C17","v":2004},{"$f":"'Races, Positions & Points'!D17","v":"U10"},{"$f":"'Races, Positions & Points'!E17","v":20719},{"$f":"'Races, Positions & Points'!F17","v":999.99},{"$f":"'Races, Positions & Points'!I17","v":999.99},null,{"$f":"'Points Calculation'!AS17","v":1},{"$f":"'Points Calculation'!AT17","v":1},{"$f":"'Points Calculation'!AU17","v":1},{"$f":"'Points Calculation'!AV17","v":0},{"$f":"'Points Calculation'!AW17","v":1},{"$f":"'Points Calculation'!AX17","v":0},null,3,1,4]
[{"$f":"'Races, Positions & Points'!A18","v":"Jack Teague"},{"$f":"'Races, Positions & Points'!B18","v":"M"},{"$f":"'Races, Positions & Points'!C18","v":2004},{"$f":"'Races, Positions & Points'!D18","v":"U10"},{"$f":"'Races, Positions & Points'!E18","v":20630},{"$f":"'Races, Positions & Points'!F18","v":999.99},{"$f":"'Races, Positions & Points'!I18","v":999.99},null,{"$f":"'Points Calculation'!AS18","v":0},{"$f":"'Points Calculation'!AT18","v":2},{"$f":"'Points Calculation'!AU18","v":0},{"$f":"'Points Calculation'!AV18","v":0},{"$f":"'Points Calculation'!AW18","v":0},{"$f":"'Points Calculation'!AX18","v":0},null,0,2,2,null,2,4,null,1,null,1,null,{"$f":"T18+V18+X18","v":2},6,{"$f":"AA18+AB18","v":8}]
[{"$f":"'Races, Positions & Points'!A19","v":"Jack Upton"},{"$f":"'Races, Positions & Points'!B19","v":"M"},{"$f":"'Races, Positions & Points'!C19","v":2004},{"$f":"'Races, Positions & Points'!D19","v":"U10"},{"$f":"'Races, Positions & Points'!E19","v":21052},{"$f":"'Races, Positions & Points'!F19","v":999.99},{"$f":"'Races, Positions & Points'!I19","v":999.99},null,{"$f":"'Points Calculation'!AS19","v":1},{"$f":"'Points Calculation'!AT19","v":6},{"$f":"'Points Calculation'!AU19","v":0},{"$f":"'Points Calculation'!AV19","v":3},{"$f":"'Points Calculation'!AW19","v":1},{"$f":"'Points Calculation'!AX19","v":3},null,{"$f":"I19+K19+M19","v":2},{"$f":"J19+L19+N19","v":12},{"$f":"P19+Q19","v":14}]
["FEMALES"]
[{"$f":"'Races, Positions & Points'!A21","v":"Lucy Deller"},{"$f":"'Races, Positions & Points'!B21","v":"F"},{"$f":"'Races, Positions & Points'!C21","v":1996},{"$f":"'Races, Positions & Points'!D21","v":"U18"},{"$f":"'Races, Positions & Points'!E21","v":17888},{"$f":"'Races, Positions & Points'!F21","v":15.68},{"$f":"'Races, Positions & Points'!I21","v":15.68},null,{"$f":"'Points Calculation'!AS21","v":2},{"$f":"'Points Calculation'!AT21","v":8},{"$f":"'Points Calculation'!AU21","v":6},{"$f":"'Points Calculation'!AV21","v":6},{"$f":"'Points Calculation'!AW21","v":4},{"$f":"'Points Calculation'!AX21","v":5},null,12,19,31,null,4,10,3,5,2,5,null,{"$f":"T21+V21+X21","v":9},20,{"$f":"AA21+AB21","v":29}]
[{"$f":"'Races, Positions & Points'!A22","v":"Rowan Vernon"},{"$f":"'Races, Positions & Points'!B22","v":"F"},{"$f":"'Races, Positions & Points'!C22","v":1988},{"$f":"'Races, Positions & Points'!D22","v":"SEN"},{"$f":"'Races, Positions & Points'!E22","v":13381},{"$f":"'Races, Positions & Points'!F22","v":22.84},{"$f":"'Races, Positions & Points'!I22","v":22.84},null,{"$f":"'Points Calculation'!AS22","v":0},{"$f":"'Points Calculation'!AT22","v":0},{"$f":"'Points Calculation'!AU22","v":0},{"$f":"'Points Calculation'!AV22","v":0},{"$f":"'Points Calculation'!AW22","v":0},{"$f":"'Points Calculation'!AX22","v":0},null,0,0,0]
[{"$f":"'Races, Positions & Points'!A23","v":"Rachel Bill"},{"$f":"'Races, Positions & Points'!B23","v":"F"},{"$f":"'Races, Positions & Points'!C23","v":1990},{"$f":"'Races, Positions & Points'!D23","v":"SEN"},{"$f":"'Races, Positions & Points'!E23","v":20168},{"$f":"'Races, Positions & Points'!F23","v":33.85},{"$f":"'Races, Positions & Points'!I23","v":23.81},null,{"$f":"'Points Calculation'!AS23","v":0},{"$f":"'Points Calculation'!AT23","v":7},{"$f":"'Points Calculation'!AU23","v":1},{"$f":"'Points Calculation'!AV23","v":2},{"$f":"'Points Calculation'!AW23","v":0},{"$f":"'Points Calculation'!AX23","v":2},null,1,11,12,null,2,7,2,6,1,2,null,{"$f":"T23+V23+X23","v":5},15,{"$f":"AA23+AB23","v":20}]
[{"$f":"'Races, Positions & Points'!A24","v":"Helena Newboult"},{"$f":"'Races, Positions & Points'!B24","v":"F"},{"$f":"'Races, Positions & Points'!C24","v":1998},{"$f":"'Races, Positions & Points'!D24","v":"U16"},{"$f":"'Races, Positions & Points'!E24","v":20696},{"$f":"'Races, Positions & Points'!F24","v":30.53},{"$f":"'Races, Positions & Points'!I24","v":27.39},null,{"$f":"'Points Calculation'!AS24","v":2},{"$f":"'Points Calculation'!AT24","v":7},{"$f":"'Points Calculation'!AU24","v":0},{"$f":"'Points Calculation'!AV24","v":2},{"$f":"'Points Calculation'!AW24","v":0},{"$f":"'Points Calculation'!AX24","v":2},null,2,11,13,null,3,7,4,2,null,2,null,{"$f":"T24+V24+X24","v":7},11,{"$f":"AA24+AB24","v":18}]
[{"$f":"'Races, Positions & Points'!A25","v":"Amy Middleton"},{"$f":"'Races, Positions & Points'!B25","v":"F"},{"$f":"'Races, Positions & Points'!C25","v":1995},{"$f":"'Races, Positions & Points'!D25","v":"U21"},{"$f":"'Races, Positions & Points'!E25","v":20307},{"$f":"'Races, Positions & Points'!F25","v":69.36},{"$f":"'Races, Positions & Points'!I25","v":51.15},null,{"$f":"'Points Calculation'!AS25","v":1},{"$f":"'Points Calculation'!AT25","v":5},{"$f":"'Points Calculation'!AU25","v":0},{"$f":"'Points Calculation'!AV25","v":7},{"$f":"'Points Calculation'!AW25","v":0},{"$f":"'Points Calculation'!AX25","v":3},null,1,15,16]
[{"$f":"'Races, Positions & Points'!A26","v":"Elisabeth Thomas"},{"$f":"'Races, Positions & Points'!B26","v":"F"},{"$f":"'Races, Positions & Points'!C26","v":1996},{"$f":"'Races, Positions & Points'!D26","v":"U18"},{"$f":"'Races, Positions & Points'!E26","v":18033},{"$f":"'Races, Positions & Points'!F26","v":60.58},{"$f":"'Races, Positions & Points'!I26","v":60.58},null,{"$f":"'Points Calculation'!AS26","v":0},{"$f":"'Points Calculation'!AT26","v":0},{"$f":"'Points Calculation'!AU26","v":0},{"$f":"'Points Calculation'!AV26","v":0},{"$f":"'Points Calculation'!AW26","v":0},{"$f":"'Points Calculation'!AX26","v":2},null,0,2,2,null,null,9,2,5,null,5,null,{"$f":"T26+V26+X26","v":2},19,{"$f":"AA26+AB26","v":21}]
[{"$f":"'Races, Positions & Points'!A27","v":"Maxine Hancock"},{"$f":"'Races, Positions & Points'!B27","v":"F"},{"$f":"'Races, Positions & Points'!C27","v":1997},{"$f":"'Races, Positions & Points'!D27","v":"U18"},{"$f":"'Races, Positions & Points'!E27","v":18617},{"$f":"'Races, Positions & Points'!F27","v":124.82},{"$f":"'Races, Positions & Points'!I27","v":74.28},null,{"$f":"'Points Calculation'!AS27","v":4},{"$f":"'Points Calculation'!AT27","v":0},{"$f":"'Points Calculation'!AU27","v":6},{"$f":"'Points Calculation'!AV27","v":0},{"$f":"'Points Calculation'!AW27","v":4},{"$f":"'Points Calculation'!AX27","v":0},null,14,0,14,null,null,1,null,null,null,null,null,null,1,1]
[{"$f":"'Races, Positions & Points'!A28","v":"Jessica Mayhew"},{"$f":"'Races, Positions & Points'!B28","v":"F"},{"$f":"'Races, Positions & Points'!C28","v":2000},{"$f":"'Races, Positions & Points'!D28","v":"U14"},{"$f":"'Races, Positions & Points'!E28","v":21014},{"$f":"'Races, Positions & Points'!F28","v":124.09},{"$f":"'Races, Positions & Points'!I28","v":87.53},null,{"$f":"'Points Calculation'!AS28","v":1},{"$f":"'Points Calculation'!AT28","v":5},{"$f":"'Points Calculation'!AU28","v":0},{"$f":"'Points Calculation'!AV28","v":4},{"$f":"'Points Calculation'!AW28","v":0},{"$f":"'Points Calculation'!AX28","v":0},null,1,9,10,null,1,1,null,null,null,null,null,{"$f":"T28+V28+X28","v":1},1,2]
[{"$f":"'Races, Positions & Points'!A29","v":"Hannah Shakeshaft"},{"$f":"'Races, Positions & Points'!B29","v":"F"},{"$f":"'Races, Positions & Points'!C29","v":1996},{"$f":"'Races, Positions & Points'!D29","v":"U18"},{"$f":"'Races, Positions & Points'!E29","v":19833},{"$f":"'Races, Positions & Points'!F29","v":116.91},{"$f":"'Races, Positions & Points'!I29","v":116.91},null,{"$f":"'Points Calculation'!AS29","v":0},{"$f":"'Points Calculation'!AT29","v":0},{"$f":"'Points Calculation'!AU29","v":0},{"$f":"'Points Calculation'!AV29","v":0},{"$f":"'Points Calculation'!AW29","v":0},{"$f":"'Points Calculation'!AX29","v":0},null,0,0,0,null,2,3,null,null,null,null,null,{"$f":"T29+V29+X29","v":2},3,5]
[{"$f":"'Races, Positions & Points'!A30","v":"Chloe Care"},{"$f":"'Races, Positions & Points'!B30","v":"F"},{"$f":"'Races, Positions & Points'!C30","v":1998},{"$f":"'Races, Positions & Points'!D30","v":"U16"},{"$f":"'Races, Positions & Points'!E30","v":19983},{"$f":"'Races, Positions & Points'!F30","v":224.39},{"$f":"'Races, Positions & Points'!I30","v":207.02},null,{"$f":"'Points Calculation'!AS30","v":0},{"$f":"'Points Calculation'!AT30","v":3},{"$f":"'Points Calculation'!AU30","v":0},{"$f":"'Points Calculation'!AV30","v":1},{"$f":"'Points Calculation'!AW30","v":0},{"$f":"'Points Calculation'!AX30","v":0},null,0,4,4,null,1,2,null,null,null,null,null,{"$f":"T30+V30+X30","v":1},2,3]
[{"$f":"'Races, Positions & Points'!A31","v":"Geraldine Elgy"},{"$f":"'Races, Positions & Points'!B31","v":"F"},{"$f":"'Races, Positions & Points'!C31","v":1954},{"$f":"'Races, Positions & Points'!D31","v":"MAS"},{"$f":"'Races, Positions & Points'!E31","v":19165},{"$f":"'Races, Positions & Points'!F31","v":275.20999999999998},{"$f":"'Races, Positions & Points'!I31","v":275.20999999999998},null,{"$f":"'Points Calculation'!AS31","v":0},{"$f":"'Points Calculation'!AT31","v":0},{"$f":"'Points Calculation'!AU31","v":0},{"$f":"'Points Calculation'!AV31","v":0},{"$f":"'Points Calculation'!AW31","v":0},{"$f":"'Points Calculation'!AX31","v":0},null,0,0,0,null,null,3,null,null,null,null,null,null,3,3]
[{"$f":"'Races, Positions & Points'!A32","v":"Laura Newboult"},{"$f":"'Races, Positions & Points'!B32","v":"F"},{"$f":"'Races, Positions & Points'!C32","v":1995},{"$f":"'Races, Positions & Points'!D32","v":"U21"},{"$f":"'Races, Positions & Points'!E32","v":20781},{"$f":"'Races, Positions & Points'!F32","v":357.45},{"$f":"'Races, Positions & Points'!I32","v":357.45},null,{"$f":"'Points Calculation'!AS32","v":0},{"$f":"'Points Calculation'!AT32","v":0},{"$f":"'Points Calculation'!AU32","v":0},{"$f":"'Points Calculation'!AV32","v":0},{"$f":"'Points Calculation'!AW32","v":0},{"$f":"'Points Calculation'!AX32","v":0},null,0,0,0,null,1,1,null,null,null,null,null,{"$f":"T32+V32+X32","v":1},1,2]
[{"$f":"'Races, Positions & Points'!A33","v":"Robyn Doherty"},{"$f":"'Races, Positions & Points'!B33","v":"F"},{"$f":"'Races, Positions & Points'!C33","v":1996},{"$f":"'Races, Positions & Points'!D33","v":"U18"},{"$f":"'Races, Positions & Points'!E33","v":19573},{"$f":"'Races, Positions & Points'!F33","v":530.29},{"$f":"'Races, Positions & Points'!I33","v":530.29},null,{"$f":"'Points Calculation'!AS33","v":0},{"$f":"'Points Calculation'!AT33","v":0},{"$f":"'Points Calculation'!AU33","v":0},{"$f":"'Points Calculation'!AV33","v":0},{"$f":"'Points Calculation'!AW33","v":0},{"$f":"'Points Calculation'!AX33","v":0},null,0,0,0]
[{"$f":"'Races, Positions & Points'!A34","v":"Jane Lee"},{"$f":"'Races, Positions & Points'!B34","v":"F"},{"$f":"'Races, Positions & Points'!C34","v":1954},{"$f":"'Races, Positions & Points'!D34","v":"MAS"},{"$f":"'Races, Positions & Points'!E34","v":41577},{"$f":"'Races, Positions & Points'!F34","v":533.71},{"$f":"'Races, Positions & Points'!I34","v":533.71},null,{"$f":"'Points Calculation'!AS34","v":0},{"$f":"'Points Calculation'!AT34","v":0},{"$f":"'Points Calculation'!AU34","v":0},{"$f":"'Points Calculation'!AV34","v":0},{"$f":"'Points Calculation'!AW34","v":0},{"$f":"'Points Calculation'!AX34","v":0},null,0,0,0]
[{"$f":"'Races, Positions & Points'!A35","v":"Emily Dawes"},{"$f":"'Races, Positions & Points'!B35","v":"F"},{"$f":"'Races, Positions & Points'!C35","v":1991},{"$f":"'Races, Positions & Points'!D35","v":"SEN"},{"$f":"'Races, Positions & Points'!E35","v":14263},{"$f":"'Races, Positions & Points'!F35","v":"NR"},{"$f":"'Races, Positions & Points'!I35","v":"NR"},null,{"$f":"'Points Calculation'!AS35","v":0},{"$f":"'Points Calculation'!AT35","v":0},{"$f":"'Points Calculation'!AU35","v":0},{"$f":"'Points Calculation'!AV35","v":0},{"$f":"'Points Calculation'!AW35","v":0},{"$f":"'Points Calculation'!AX35","v":0},null,0,0,0]
[{"$f":"'Races, Positions & Points'!A36","v":"Sophia Phelps"},{"$f":"'Races, Positions & Points'!B36","v":"F"},{"$f":"'Races, Positions & Points'!C36","v":1994},{"$f":"'Races, Positions & Points'!D36","v":"U21"},{"$f":"'Races, Positions & Points'!E36","v":17839},{"$f":"'Races, Positions & Points'!F36","v":"NR"},{"$f":"'Races, Positions & Points'!I36","v":"NR"},null,{"$f":"'Points Calculation'!AS36","v":0},{"$f":"'Points Calculation'!AT36","v":0},{"$f":"'Points Calculation'!AU36","v":0},{"$f":"'Points Calculation'!AV36","v":0},{"$f":"'Points Calculation'!AW36","v":0},{"$f":"'Points Calculation'!AX36","v":0},null,0,0,0]
[{"$f":"'Races, Positions & Points'!A37","v":"Olivia Waller"},{"$f":"'Races, Positions & Points'!B37","v":"F"},{"$f":"'Races, Positions & Points'!C37","v":1994},{"$f":"'Races, Positions & Points'!D37","v":"U21"},{"$f":"'Races, Positions & Points'!E37","v":17516},{"$f":"'Races, Positions & Points'!F37","v":"NR"},{"$f":"'Races, Positions & Points'!I37","v":"NR"},null,{"$f":"'Points Calculation'!AS37","v":0},{"$f":"'Points Calculation'!AT37","v":0},{"$f":"'Points Calculation'!AU37","v":0},{"$f":"'Points Calculation'!AV37","v":0},{"$f":"'Points Calculation'!AW37","v":0},{"$f":"'Points Calculation'!AX37","v":0},null,0,0,0]
[{"$f":"'Races, Positions & Points'!A38","v":"Agathe Vallat"},{"$f":"'Races, Positions & Points'!B38","v":"F"},{"$f":"'Races, Positions & Points'!C38","v":1999},{"$f":"'Races, Positions & Points'!D38","v":"U16"},{"$f":"'Races, Positions & Points'!E38","v":21606},{"$f":"'Races, Positions & Points'!F38","v":999.99},{"$f":"'Races, Positions & Points'!I38","v":999.99},null,{"$f":"'Points Calculation'!AS38","v":0},{"$f":"'Points Calculation'!AT38","v":1},{"$f":"'Points Calculation'!AU38","v":0},{"$f":"'Points Calculation'!AV38","v":0},{"$f":"'Points Calculation'!AW38","v":0},{"$f":"'Points Calculation'!AX38","v":0},null,{"$f":"I38+K38+M38","v":0},{"$f":"J38+L38+N38","v":1},{"$f":"P38+Q38","v":1}]
[{"$f":"'Races, Positions & Points'!A39","v":"Carys Phillips"},{"$f":"'Races, Positions & Points'!B39","v":"F"},{"$f":"'Races, Positions & Points'!C39","v":1999},{"$f":"'Races, Positions & Points'!D39","v":"U16"},{"$f":"'Races, Positions & Points'!E39","v":"Day"},{"$f":"'Races, Positions & Points'!F39","v":"NR"},{"$f":"'Races, Positions & Points'!I39","v":"NR"},null,{"$f":"'Points Calculation'!AS39","v":0},{"$f":"'Points Calculation'!AT39","v":1},{"$f":"'Points Calculation'!AU39","v":0},{"$f":"'Points Calculation'!AV39","v":0},{"$f":"'Points Calculation'!AW39","v":0},{"$f":"'Points Calculation'!AX39","v":0},null,{"$f":"I39+K39+M39","v":0},{"$f":"J39+L39+N39","v":1},{"$f":"P39+Q39","v":1}]
["MALES"]
[{"$f":"'Races, Positions & Points'!A41","v":"Harry Hornsby"},{"$f":"'Races, Positions & Points'!B41","v":"M"},{"$f":"'Races, Positions & Points'!C41","v":1991},{"$f":"'Races, Positions & Points'!D41","v":"SEN"},{"$f":"'Races, Positions & Points'!E41","v":17356},{"$f":"'Races, Positions & Points'!F41","v":4.17},{"$f":"'Races, Positions & Points'!I41","v":4.17},null,{"$f":"'Points Calculation'!AS41","v":0},{"$f":"'Points Calculation'!AT41","v":5},{"$f":"'Points Calculation'!AU41","v":0},{"$f":"'Points Calculation'!AV41","v":4},{"$f":"'Points Calculation'!AW41","v":0},{"$f":"'Points Calculation'!AX41","v":2},null,0,11,11,null,null,6,null,4,null,2,null,null,12,{"$f":"AA41+AB41","v":12}]
[{"$f":"'Races, Positions & Points'!A42","v":"Andrew Du Plessis"},{"$f":"'Races, Positions & Points'!B42","v":"M"},{"$f":"'Races, Positions & Points'!C42","v":1985},{"$f":"'Races, Positions & Points'!D42","v":"SEN"},{"$f":"'Races, Positions & Points'!E42","v":12318},{"$f":"'Races, Positions & Points'!F42","v":25.51},{"$f":"'Races, Positions & Points'!I42","v":25.51},null,{"$f":"'Points Calculation'!AS42","v":1},{"$f":"'Points Calculation'!AT42","v":2},{"$f":"'Points Calculation'!AU42","v":0},{"$f":"'Points Calculation'!AV42","v":2},{"$f":"'Points Calculation'!AW42","v":1},{"$f":"'Points Calculation'!AX42","v":2},null,2,6,8,null,3,4,4,2,null,2,null,{"$f":"T42+V42+X42","v":7},8,{"$f":"AA42+AB42","v":15}]
[{"$f":"'Races, Positions & Points'!A43","v":"Adam Beardmore"},{"$f":"'Races, Positions & Points'!B43","v":"M"},{"$f":"'Races, Positions & Points'!C43","v":1986},{"$f":"'Races, Positions & Points'!D43","v":"SEN"},{"$f":"'Races, Positions & Points'!E43","v":19704},{"$f":"'Races, Positions & Points'!F43","v":29.85},{"$f":"'Races, Positions & Points'!I43","v":29.85},null,{"$f":"'Points Calculation'!AS43","v":0},{"$f":"'Points Calculation'!AT43","v":1},{"$f":"'Points Calculation'!AU43","v":0},{"$f":"'Points Calculation'!AV43","v":0},{"$f":"'Points Calculation'!AW43","v":0},{"$f":"'Points Calculation'!AX43","v":1},null,0,2,2,null,null,2,null,null,2,1,null,{"$f":"T43+V43+X43","v":2},3,{"$f":"AA43+AB43","v":5}]
[{"$f":"'Races, Positions & Points'!A44","v":"Jonny Powell"},{"$f":"'Races, Positions & Points'!B44","v":"M"},{"$f":"'Races, Positions & Points'!C44","v":1986},{"$f":"'Races, Positions & Points'!D44","v":"SEN"},{"$f":"'Races, Positions & Points'!E44","v":17479},{"$f":"'Races, Positions & Points'!F44","v":30.83},{"$f":"'Races, Positions & Points'!I44","v":30.83},null,{"$f":"'Points Calculation'!AS44","v":3},{"$f":"'Points Calculation'!AT44","v":7},{"$f":"'Points Calculation'!AU44","v":1},{"$f":"'Points Calculation'!AV44","v":3},{"$f":"'Points Calculation'!AW44","v":3},{"$f":"'Points Calculation'!AX44","v":6},null,7,16,23,null,3,11,4,6,null,6,null,{"$f":"T44+V44+X44","v":7},23,{"$f":"AA44+AB44","v":30}]
[{"$f":"'Races, Positions & Points'!A45","v":"Nick Miller"},{"$f":"'Races, Positions & Points'!B45","v":"M"},{"$f":"'Races, Positions & Points'!C45","v":1993},{"$f":"'Races, Positions & Points'!D45","v":"U21"},{"$f":"'Races, Positions & Points'!E45","v":18607},{"$f":"'Races, Positions & Points'!F45","v":56.48},{"$f":"'Races, Positions & Points'!I45","v":56.48},null,{"$f":"'Points Calculation'!AS45","v":0},{"$f":"'Points Calculation'!AT45","v":0},{"$f":"'Points Calculation'!AU45","v":0},{"$f":"'Points Calculation'!AV45","v":0},{"$f":"'Points Calculation'!AW45","v":0},{"$f":"'Points Calculation'!AX45","v":0},null,0,0,0]
[{"$f":"'Races, Positions & Points'!A46","v":"Mark Hawkins"},{"$f":"'Races, Positions & Points'!B46","v":"M"},{"$f":"'Races, Positions & Points'!C46","v":1979},{"$f":"'Races, Positions & Points'!D46","v":"MAS"},{"$f":"'Races, Positions & Points'!E46","v":19163},{"$f":"'Races, Positions & Points'!F46","v":57.13},{"$f":"'Races, Positions & Points'!I46","v":57.13},null,{"$f":"'Points Calculation'!AS46","v":0},{"$f":"'Points Calculation'!AT46","v":4},{"$f":"'Points Calculation'!AU46","v":0},{"$f":"'Points Calculation'!AV46","v":7},{"$f":"'Points Calculation'!AW46","v":0},{"$f":"'Points Calculation'!AX46","v":3},null,0,14,14,null,null,2,null,4,null,null,null,null,6,{"$f":"AA46+AB46","v":6}]
[{"$f":"'Races, Positions & Points'!A47","v":"Jack Rigby"},{"$f":"'Races, Positions & Points'!B47","v":"M"},{"$f":"'Races, Positions & Points'!C47","v":1995},{"$f":"'Races, Positions & Points'!D47","v":"U21"},{"$f":"'Races, Positions & Points'!E47","v":41722},{"$f":"'Races, Positions & Points'!F47","v":62.46},{"$f":"'Races, Positions & Points'!I47","v":53.73},null,{"$f":"'Points Calculation'!AS47","v":1},{"$f":"'Points Calculation'!AT47","v":0},{"$f":"'Points Calculation'!AU47","v":4},{"$f":"'Points Calculation'!AV47","v":0},{"$f":"'Points Calculation'!AW47","v":3},{"$f":"'Points Calculation'!AX47","v":0},null,8,0,8,null,3,1,null,1,1,null,null,{"$f":"T47+V47+X47","v":4},2,6]
[{"$f":"'Races, Positions & Points'!A48","v":"Adam. Lee"},{"$f":"'Races, Positions & Points'!B48","v":"M"},{"$f":"'Races, Positions & Points'!C48","v":1994},{"$f":"'Races, Positions & Points'!D48","v":"U21"},{"$f":"'Races, Positions & Points'!E48","v":41578},{"$f":"'Races, Positions & Points'!F48","v":59.81},{"$f":"'Races, Positions & Points'!I48","v":59.81},null,{"$f":"'Points Calculation'!AS48","v":2},{"$f":"'Points Calculation'!AT48","v":5},{"$f":"'Points Calculation'!AU48","v":0},{"$f":"'Points Calculation'!AV48","v":7},{"$f":"'Points Calculation'!AW48","v":1},{"$f":"'Points Calculation'!AX48","v":6},null,3,18,21,null,4,6,4,6,2,5,null,{"$f":"T48+V48+X48","v":10},17,27]
[{"$f":"'Races, Positions & Points'!A49","v":"Alasdair Thorley"},{"$f":"'Races, Positions & Points'!B49","v":"M"},{"$f":"'Races, Positions & Points'!C49","v":1994},{"$f":"'Races, Positions & Points'!D49","v":"U21"},{"$f":"'Races, Positions & Points'!E49","v":18586},{"$f":"'Races, Positions & Points'!F49","v":61.87},{"$f":"'Races, Positions & Points'!I49","v":61.87},null,{"$f":"'Points Calculation'!AS49","v":0},{"$f":"'Points Calculation'!AT49","v":0},{"$f":"'Points Calculation'!AU49","v":0},{"$f":"'Points Calculation'!AV49","v":0},{"$f":"'Points Calculation'!AW49","v":0},{"$f":"'Points Calculation'!AX49","v":0},null,0,0,0,null,null,3,null,null,null,1,null,null,4,4]
[{"$f":"'Races, Positions & Points'!A50","v":"Phil Emmerson"},{"$f":"'Races, Positions & Points'!B50","v":"M"},{"$f":"'Races, Positions & Points'!C50","v":1990},{"$f":"'Races, Positions & Points'!D50","v":"SEN"},{"$f":"'Races, Positions & Points'!E50","v":21084},{"$f":"'Races, Positions & Points'!F50","v":104.55},{"$f":"'Races, Positions & Points'!I50","v":62.32},null,{"$f":"'Points Calculation'!AS50","v":2},{"$f":"'Points Calculation'!AT50","v":7},{"$f":"'Points Calculation'!AU50","v":0},{"$f":"'Points Calculation'!AV50","v":6},{"$f":"'Points Calculation'!AW50","v":0},{"$f":"'Points Calculation'!AX50","v":2},null,2,15,17,null,null,8,null,6,null,4,null,null,18,18]
[{"$f":"'Races, Positions & Points'!A51","v":"Nick Phelps"},{"$f":"'Races, Positions & Points'!B51","v":"M"},{"$f":"'Races, Positions & Points'!C51","v":1997},{"$f":"'Races, Positions & Points'!D51","v":"U18"},{"$f":"'Races, Positions & Points'!E51","v":17840},{"$f":"'Races, Positions & Points'!F51","v":62.44},{"$f":"'Races, Positions & Points'!I51","v":62.44},null,{"$f":"'Points Calculation'!AS51","v":0},{"$f":"'Points Calculation'!AT51","v":2},{"$f":"'Points Calculation'!AU51","v":0},{"$f":"'Points Calculation'!AV51","v":4},{"$f":"'Points Calculation'!AW51","v":0},{"$f":"'Points Calculation'!AX51","v":2},null,0,8,8,null,2,2,3,4,null,2,null,{"$f":"T51+V51+X51","v":5},8,13]
[{"$f":"'Races, Positions & Points'!A52","v":"James Smith"},{"$f":"'Races, Positions & Points'!B52","v":"M"},{"$f":"'Races, Positions & Points'!C52","v":1992},{"$f":"'Races, Positions & Points'!D52","v":"SEN"},{"$f":"'Races, Positions & Points'!E52","v":21595},{"$f":"'Races, Positions & Points'!F52","v":999.99},{"$f":"'Races, Positions & Points'!I52","v":87.48},null,{"$f":"'Points Calculation'!AS52","v":2},{"$f":"'Points Calculation'!AT52","v":3},{"$f":"'Points Calculation'!AU52","v":0},{"$f":"'Points Calculation'!AV52","v":2},{"$f":"'Points Calculation'!AW52","v":0},{"$f":"'Points Calculation'!AX52","v":0},null,2,5,7,null,null,3,null,null,null,1,null,null,4,4]
[{"$f":"'Races, Positions & Points'!A53","v":"Oliver Weeks"},{"$f":"'Races, Positions & Points'!B53","v":"M"},{"$f":"'Races, Positions & Points'!C53","v":2001},{"$f":"'Races, Positions & Points'!D53","v":"U14"},{"$f":"'Races, Positions & Points'!E53","v":19051},{"$f":"'Races, Positions & Points'!F53","v":119.29},{"$f":"'Races, Positions & Points'!I53","v":90.4},null,{"$f":"'Points Calculation'!AS53","v":4},{"$f":"'Points Calculation'!AT53","v":7},{"$f":"'Points Calculation'!AU53","v":4},{"$f":"'Points Calculation'!AV53","v":7},{"$f":"'Points Calculation'!AW53","v":3},{"$f":"'Points Calculation'!AX53","v":3},null,11,17,28,null,4,11,6,6,2,3,null,{"$f":"T53+V53+X53","v":12},20,{"$f":"AA53+AB53","v":32}]
[{"$f":"'Races, Positions & Points'!A54","v":"Roger Crombleholme"},{"$f":"'Races, Positions & Points'!B54","v":"M"},{"$f":"'Races, Positions & Points'!C54","v":1957},{"$f":"'Races, Positions & Points'!D54","v":"MAS"},{"$f":"'Races, Positions & Points'!E54","v":5666},{"$f":"'Races, Positions & Points'!F54","v":104.12},{"$f":"'Races, Positions & Points'!I54","v":104.12},null,{"$f":"'Points Calculation'!AS54","v":0},{"$f":"'Points Calculation'!AT54","v":2},{"$f":"'Points Calculation'!AU54","v":0},{"$f":"'Points Calculation'!AV54","v":0},{"$f":"'Points Calculation'!AW54","v":0},{"$f":"'Points Calculation'!AX54","v":0},null,0,2,2]
[{"$f":"'Races, Positions & Points'!A55","v":"Joey Frost"},{"$f":"'Races, Positions & Points'!B55","v":"M"},{"$f":"'Races, Positions & Points'!C55","v":1995},{"$f":"'Races, Positions & Points'!D55","v":"U21"},{"$f":"'Races, Positions & Points'!E55","v":20677},{"$f":"'Races, Positions & Points'!F55","v":110.32},{"$f":"'Races, Positions & Points'!I55","v":110.32},null,{"$f":"'Points Calculation'!AS55","v":0},{"$f":"'Points Calculation'!AT55","v":0},{"$f":"'Points Calculation'!AU55","v":0},{"$f":"'Points Calculation'!AV55","v":0},{"$f":"'Points Calculation'!AW55","v":0},{"$f":"'Points Calculation'!AX55","v":0},null,0,0,0,null,2,3,null,null,1,null,null,{"$f":"T55+V55+X55","v":3},3,{"$f":"AA55+AB55","v":6}]
[{"$f":"'Races, Positions & Points'!A56","v":"Jordan Rigby"},{"$f":"'Races, Positions & Points'!B56","v":"M"},{"$f":"'Races, Positions & Points'!C56","v":2000},{"$f":"'Races, Positions & Points'!D56","v":"U14"},{"$f":"'Races, Positions & Points'!E56","v":19910},{"$f":"'Races, Positions & Points'!F56","v":144.43},{"$f":"'Races, Positions & Points'!I56","v":135.66},null,{"$f":"'Points Calculation'!AS56","v":1},{"$f":"'Points Calculation'!AT56","v":6},{"$f":"'Points Calculation'!AU56","v":0},{"$f":"'Points Calculation'!AV56","v":3},{"$f":"'Points Calculation'!AW56","v":0},{"$f":"'Points Calculation'!AX56","v":0},null,1,9,10,null,3,7,1,1,1,null,null,{"$f":"T56+V56+X56","v":5},8,13]
[{"$f":"'Races, Positions & Points'!A57","v":"James Elgy"},{"$f":"'Races, Positions & Points'!B57","v":"M"},{"$f":"'Races, Positions & Points'!C57","v":1993},{"$f":"'Races, Positions & Points'!D57","v":"U21"},{"$f":"'Races, Positions & Points'!E57","v":19166},{"$f":"'Races, Positions & Points'!F57","v":142.46},{"$f":"'Races, Positions & Points'!I57","v":142.46},null,{"$f":"'Points Calculation'!AS57","v":0},{"$f":"'Points Calculation'!AT57","v":0},{"$f":"'Points Calculation'!AU57","v":0},{"$f":"'Points Calculation'!AV57","v":0},{"$f":"'Points Calculation'!AW57","v":0},{"$f":"'Points Calculation'!AX57","v":0},null,0,0,0,null,null,1,null,null,null,null,null,null,1,1]
[{"$f":"'Races, Positions & Points'!A58","v":"Sam Lee"},{"$f":"'Races, Positions & Points'!B58","v":"M"},{"$f":"'Races, Positions & Points'!C58","v":1996},{"$f":"'Races, Positions & Points'!D58","v":"U18"},{"$f":"'Races, Positions & Points'!E58","v":41662},{"$f":"'Races, Positions & Points'!F58","v":154.66},{"$f":"'Races, Positions & Points'!I58","v":143.62},null,{"$f":"'Points Calculation'!AS58","v":0},{"$f":"'Points Calculation'!AT58","v":5},{"$f":"'Points Calculation'!AU58","v":0},{"$f":"'Points Calculation'!AV58","v":7},{"$f":"'Points Calculation'!AW58","v":0},{"$f":"'Points Calculation'!AX58","v":3},null,0,15,15,null,null,6,null,6,null,5,null,null,17,17]
[{"$f":"'Races, Positions & Points'!A59","v":"Sam Dewison"},{"$f":"'Races, Positions & Points'!B59","v":"M"},{"$f":"'Races, Positions & Points'!C59","v":1998},{"$f":"'Races, Positions & Points'!D59","v":"U16"},{"$f":"'Races, Positions & Points'!E59","v":20846},{"$f":"'Races, Positions & Points'!F59","v":238.66},{"$f":"'Races, Positions & Points'!I59","v":124.45},null,{"$f":"'Points Calculation'!AS59","v":0},{"$f":"'Points Calculation'!AT59","v":5},{"$f":"'Points Calculation'!AU59","v":0},{"$f":"'Points Calculation'!AV59","v":0},{"$f":"'Points Calculation'!AW59","v":0},{"$f":"'Points Calculation'!AX59","v":1},null,0,6,6,null,2,2,2,3,2,3,null,{"$f":"T59+V59+X59","v":6},8,14]
[{"$f":"'Races, Positions & Points'!A60","v":"Thomas Lawrence"},{"$f":"'Races, Positions & Points'!B60","v":"M"},{"$f":"'Races, Positions & Points'!C60","v":1999},{"$f":"'Races, Positions & Points'!D60","v":"U16"},{"$f":"'Races, Positions & Points'!E60","v":19941},{"$f":"'Races, Positions & Points'!F60","v":191.81},{"$f":"'Races, Positions & Points'!I60","v":149.19999999999999},null,{"$f":"'Points Calculation'!AS60","v":2},{"$f":"'Points Calculation'!AT60","v":5},{"$f":"'Points Calculation'!AU60","v":0},{"$f":"'Points Calculation'!AV60","v":5},{"$f":"'Points Calculation'!AW60","v":0},{"$f":"'Points Calculation'!AX60","v":3},null,2,13,15,null,null,5,null,1,null,1,null,null,7,7]
[{"$f":"'Races, Positions & Points'!A61","v":"Ethan Hemming"},{"$f":"'Races, Positions & Points'!B61","v":"M"},{"$f":"'Races, Positions & Points'!C61","v":2001},{"$f":"'Races, Positions & Points'!D61","v":"U14"},{"$f":"'Races, Positions & Points'!E61","v":19829},{"$f":"'Races, Positions & Points'!F61","v":211.91},{"$f":"'Races, Positions & Points'!I61","v":157.65},null,{"$f":"'Points Calculation'!AS61","v":0},{"$f":"'Points Calculation'!AT61","v":8},{"$f":"'Points Calculation'!AU61","v":0},{"$f":"'Points Calculation'!AV61","v":1},{"$f":"'Points Calculation'!AW61","v":1},{"$f":"'Points Calculation'!AX61","v":3},null,1,12,13,null,null,3,null,null,null,1,null,null,4,4]
[{"$f":"'Races, Positions & Points'!A62","v":"Duncan Thorley"},{"$f":"'Races, Positions & Points'!B62","v":"M"},{"$f":"'Races, Positions & Points'!C62","v":1997},{"$f":"'Races, Positions & Points'!D62","v":"U18"},{"$f":"'Races, Positions & Points'!E62","v":18998},{"$f":"'Races, Positions & Points'!F62","v":197.45},{"$f":"'Races, Positions & Points'!I62","v":159.29},null,{"$f":"'Points Calculation'!AS62","v":0},{"$f":"'Points Calculation'!AT62","v":2},{"$f":"'Points Calculation'!AU62","v":0},{"$f":"'Points Calculation'!AV62","v":0},{"$f":"'Points Calculation'!AW62","v":0},{"$f":"'Points Calculation'!AX62","v":1},null,0,3,3,null,null,4,null,1,null,null,null,null,5,5]
[{"$f":"'Races, Positions & Points'!A63","v":"Toby Tarrant"},{"$f":"'Races, Positions & Points'!B63","v":"M"},{"$f":"'Races, Positions & Points'!C63","v":1997},{"$f":"'Races, Positions & Points'!D63","v":"U18"},{"$f":"'Races, Positions & Points'!E63","v":21550},{"$f":"'Races, Positions & Points'!F63","v":999.99},{"$f":"'Races, Positions & Points'!I63","v":190.79},null,{"$f":"'Points Calculation'!AS63","v":0},{"$f":"'Points Calculation'!AT63","v":5},{"$f":"'Points Calculation'!AU63","v":0},{"$f":"'Points Calculation'!AV63","v":0},{"$f":"'Points Calculation'!AW63","v":0},{"$f":"'Points Calculation'!AX63","v":0},null,0,5,5]
[{"$f":"'Races, Positions & Points'!A64","v":"Thomas Upton"},{"$f":"'Races, Positions & Points'!B64","v":"M"},{"$f":"'Races, Positions & Points'!C64","v":2001},{"$f":"'Races, Positions & Points'!D64","v":"U14"},{"$f":"'Races, Positions & Points'!E64","v":21051},{"$f":"'Races, Positions & Points'!F64","v":341.66},{"$f":"'Races, Positions & Points'!I64","v":203.96},null,{"$f":"'Points Calculation'!AS64","v":1},{"$f":"'Points Calculation'!AT64","v":6},{"$f":"'Points Calculation'!AU64","v":0},{"$f":"'Points Calculation'!AV64","v":3},{"$f":"'Points Calculation'!AW64","v":1},{"$f":"'Points Calculation'!AX64","v":3},null,2,12,14,null,null,3,null,null,null,null,null,null,3,{"$f":"AA64+AB64","v":3}]
[{"$f":"'Races, Positions & Points'!A65","v":"Edward Guy"},{"$f":"'Races, Positions & Points'!B65","v":"M"},{"$f":"'Races, Positions & Points'!C65","v":2001},{"$f":"'Races, Positions & Points'!D65","v":"U14"},{"$f":"'Races, Positions & Points'!E65","v":19379},{"$f":"'Races, Positions & Points'!F65","v":210.93},{"$f":"'Races, Positions & Points'!I65","v":210.93},null,{"$f":"'Points Calculation'!AS65","v":1},{"$f":"'Points Calculation'!AT65","v":2},{"$f":"'Points Calculation'!AU65","v":0},{"$f":"'Points Calculation'!AV65","v":3},{"$f":"'Points Calculation'!AW65","v":0},{"$f":"'Points Calculation'!AX65","v":0},null,1,5,6,null,null,1,null,null,null,null,null,null,1,{"$f":"AA65+AB65","v":1}]
[{"$f":"'Races, Positions & Points'!A66","v":"Samuel Doherty"},{"$f":"'Races, Positions & Points'!B66","v":"M"},{"$f":"'Races, Positions & Points'!C66","v":1999},{"$f":"'Races, Positions & Points'!D66","v":"U16"},{"$f":"'Races, Positions & Points'!E66","v":19572},{"$f":"'Races, Positions & Points'!F66","v":218.06},{"$f":"'Races, Positions & Points'!I66","v":218.06},null,{"$f":"'Points Calculation'!AS66","v":0},{"$f":"'Points Calculation'!AT66","v":0},{"$f":"'Points Calculation'!AU66","v":0},{"$f":"'Points Calculation'!AV66","v":0},{"$f":"'Points Calculation'!AW66","v":0},{"$f":"'Points Calculation'!AX66","v":0},null,0,0,0,null,null,3,null,null,null,null,null,null,3,{"$f":"AA66+AB66","v":3}]
[{"$f":"'Races, Positions & Points'!A67","v":"Karl Hancock"},{"$f":"'Races, Positions & Points'!B67","v":"M"},{"$f":"'Races, Positions & Points'!C67","v":1995},{"$f":"'Races, Positions & Points'!D67","v":"U21"},{"$f":"'Races, Positions & Points'!E67","v":18616},{"$f":"'Races, Positions & Points'!F67","v":245.23},{"$f":"'Races, Positions & Points'!I67","v":232.6},null,{"$f":"'Points Calculation'!AS67","v":0},{"$f":"'Points Calculation'!AT67","v":0},{"$f":"'Points Calculation'!AU67","v":1},{"$f":"'Points Calculation'!AV67","v":0},{"$f":"'Points Calculation'!AW67","v":0},{"$f":"'Points Calculation'!AX67","v":0},null,{"$f":"I67+K67+M67","v":1},{"$f":"J67+L67+N67","v":0},{"$f":"P67+Q67","v":1}]
[{"$f":"'Races, Positions & Points'!A68","v":"John Elgy"},{"$f":"'Races, Positions & Points'!B68","v":"M"},{"$f":"'Races, Positions & Points'!C68","v":1951},{"$f":"'Races, Positions & Points'!D68","v":"MAS"},{"$f":"'Races, Positions & Points'!E68","v":19164},{"$f":"'Races, Positions & Points'!F68","v":280.95999999999998},{"$f":"'Races, Positions & Points'!I68","v":280.95999999999998},null,{"$f":"'Points Calculation'!AS68","v":0},{"$f":"'Points Calculation'!AT68","v":0},{"$f":"'Points Calculation'!AU68","v":0},{"$f":"'Points Calculation'!AV68","v":0},{"$f":"'Points Calculation'!AW68","v":0},{"$f":"'Points Calculation'!AX68","v":0},null,0,0,0]
[{"$f":"'Races, Positions & Points'!A69","v":"Phil Deller"},{"$f":"'Races, Positions & Points'!B69","v":"M"},{"$f":"'Races, Positions & Points'!C69","v":1959},{"$f":"'Races, Positions & Points'!D69","v":"MAS"},{"$f":"'Races, Positions & Points'!E69","v":17039},{"$f":"'Races, Positions & Points'!F69","v":654.11},{"$f":"'Races, Positions & Points'!I69","v":654.11},null,{"$f":"'Points Calculation'!AS69","v":0},{"$f":"'Points Calculation'!AT69","v":0},{"$f":"'Points Calculation'!AU69","v":0},{"$f":"'Points Calculation'!AV69","v":0},{"$f":"'Points Calculation'!AW69","v":0},{"$f":"'Points Calculation'!AX69","v":0},null,{"$f":"I69+K69+M69","v":0},{"$f":"J69+L69+N69","v":0},{"$f":"P69+Q69","v":0}]
[{"$f":"'Races, Positions & Points'!A70","v":"David Hancock"},{"$f":"'Races, Positions & Points'!B70","v":"M"},{"$f":"'Races, Positions & Points'!C70","v":1964},{"$f":"'Races, Positions & Points'!D70","v":"MAS"},{"$f":"'Races, Positions & Points'!E70","v":17037},{"$f":"'Races, Positions & Points'!F70","v":999.99},{"$f":"'Races, Positions & Points'!I70","v":999.99},null,{"$f":"'Points Calculation'!AS70","v":0},{"$f":"'Points Calculation'!AT70","v":0},{"$f":"'Points Calculation'!AU70","v":0},{"$f":"'Points Calculation'!AV70","v":0},{"$f":"'Points Calculation'!AW70","v":0},{"$f":"'Points Calculation'!AX70","v":0},null,0,0,0,null,null,1,null,null,null,null,null,null,1,{"$f":"AA70+AB70","v":1}]
[{"$f":"'Races, Positions & Points'!A71","v":"Matthew Kirkland"},{"$f":"'Races, Positions & Points'!B71","v":"M"},{"$f":"'Races, Positions & Points'!C71","v":1992},{"$f":"'Races, Positions & Points'!D71","v":"SEN"},{"$f":"'Races, Positions & Points'!E71","v":21633},{"$f":"'Races, Positions & Points'!F71","v":999.99},{"$f":"'Races, Positions & Points'!I71","v":999.99},null,{"$f":"'Points Calculation'!AS71","v":0},{"$f":"'Points Calculation'!AT71","v":2},{"$f":"'Points Calculation'!AU71","v":0},{"$f":"'Points Calculation'!AV71","v":0},{"$f":"'Points Calculation'!AW71","v":0},{"$f":"'Points Calculation'!AX71","v":0},null,{"$f":"I71+K71+M71","v":0},{"$f":"J71+L71+N71","v":2},{"$f":"P71+Q71","v":2}]
[{"$f":"'Races, Positions & Points'!A72","v":"Ben Hall"},{"$f":"'Races, Positions & Points'!B72","v":"M"},{"$f":"'Races, Positions & Points'!C72","v":1994},{"$f":"'Races, Positions & Points'!D72","v":"U21"},{"$f":"'Races, Positions & Points'!E72","v":21130},{"$f":"'Races, Positions & Points'!F72","v":"NR"},{"$f":"'Races, Positions & Points'!I72","v":"NR"},null,{"$f":"'Points Calculation'!AS72","v":0},{"$f":"'Points Calculation'!AT72","v":0},{"$f":"'Points Calculation'!AU72","v":0},{"$f":"'Points Calculation'!AV72","v":0},{"$f":"'Points Calculation'!AW72","v":0},{"$f":"'Points Calculation'!AX72","v":0},null,0,0,0,null,null,2,null,null,null,null,null,null,2,{"$f":"AA72+AB72","v":2}]
[{"$f":"'Races, Positions & Points'!A73","v":"Matthew Waller"},{"$f":"'Races, Positions & Points'!B73","v":"M"},{"$f":"'Races, Positions & Points'!C73","v":1999},{"$f":"'Races, Positions & Points'!D73","v":"U16"},{"$f":"'Races, Positions & Points'!E73","v":17958},{"$f":"'Races, Positions & Points'!F73","v":"NR"},{"$f":"'Races, Positions & Points'!I73","v":"NR"},null,{"$f":"'Points Calculation'!AS73","v":0},{"$f":"'Points Calculation'!AT73","v":0},{"$f":"'Points Calculation'!AU73","v":0},{"$f":"'Points Calculation'!AV73","v":0},{"$f":"'Points Calculation'!AW73","v":0},{"$f":"'Points Calculation'!AX73","v":0},null,0,0,0]
[{"$f":"'Races, Positions & Points'!A74","v":"JJ Frost"},{"$f":"'Races, Positions & Points'!B74","v":"M"},{"$f":"'Races, Positions & Points'!C74","v":1993},{"$f":"'Races, Positions & Points'!D74","v":"U21"},{"$f":"'Races, Positions & Points'!E74","v":20676},{"$f":"'Races, Positions & Points'!F74","v":"NR"},{"$f":"'Races, Positions & Points'!I74","v":"NR"},null,{"$f":"'Points Calculation'!AS74","v":0},{"$f":"'Points Calculation'!AT74","v":0},{"$f":"'Points Calculation'!AU74","v":0},{"$f":"'Points Calculation'!AV74","v":0},{"$f":"'Points Calculation'!AW74","v":0},{"$f":"'Points Calculation'!AX74","v":0},null,0,0,0]
[{"$f":"'Races, Positions & Points'!A75","v":"Jake Heard"},{"$f":"'Races, Positions & Points'!B75","v":"M"},{"$f":"'Races, Positions & Points'!C75","v":1998},{"$f":"'Races, Positions & Points'!D75","v":"U16"},{"$f":"'Races, Positions & Points'!E75","v":21075},{"$f":"'Races, Positions & Points'!F75","v":"NR"},{"$f":"'Races, Positions & Points'!I75","v":"NR"},null,{"$f":"'Points Calculation'!AS75","v":0},{"$f":"'Points Calculation'!AT75","v":2},{"$f":"'Points Calculation'!AU75","v":0},{"$f":"'Points Calculation'!AV75","v":0},{"$f":"'Points Calculation'!AW75","v":0},{"$f":"'Points Calculation'!AX75","v":0},null,0,2,2]
[{"$f":"'Races, Positions & Points'!A76","v":"Joe Bird"},{"$f":"'Races, Positions & Points'!B76","v":"M"},{"$f":"'Races, Positions & Points'!C76","v":1994},{"$f":"'Races, Positions & Points'!D76","v":"U21"},{"$f":"'Races, Positions & Points'!E76","v":21714},{"$f":"'Races, Positions & Points'!F76","v":999.99},{"$f":"'Races, Positions & Points'!I76","v":999.99},null,{"$f":"'Points Calculation'!AS76","v":0},{"$f":"'Points Calculation'!AT76","v":0},{"$f":"'Points Calculation'!AU76","v":0},{"$f":"'Points Calculation'!AV76","v":0},{"$f":"'Points Calculation'!AW76","v":0},{"$f":"'Points Calculation'!AX76","v":0},null,0,0,0,null,null,1,null,null,null,null,null,null,1,{"$f":"AA76+AB76","v":1}]
[{"$f":"'Races, Positions & Points'!A77","v":"Edmund Walker"},{"$f":"'Races, Positions & Points'!B77","v":"M"},{"$f":"'Races, Positions & Points'!C77","v":1992},{"$f":"'Races, Positions & Points'!D77","v":"SEN"},{"$f":"'Races, Positions & Points'!E77","v":"Day"},{"$f":"'Races, Positions & Points'!F77","v":"NR"},{"$f":"'Races, Positions & Points'!I77","v":"NR"},null,{"$f":"'Points Calculation'!AS77","v":0},{"$f":"'Points Calculation'!AT77","v":2},{"$f":"'Points Calculation'!AU77","v":0},{"$f":"'Points Calculation'!AV77","v":0},{"$f":"'Points Calculation'!AW77","v":0},{"$f":"'Points Calculation'!AX77","v":0},null,{"$f":"I77+K77+M77","v":0},{"$f":"J77+L77+N77","v":2},{"$f":"P77+Q77","v":2},null,null,null,null,null,null,null,null,null,{"$f":"U77+W77+Y77","v":0},{"$f":"AA77+AB77","v":0}]
[]
[]
["TOTALS  (racers starting at least one race):"]
["registered SKIERS",null,null,null,null,null,null,null,{"$f":"COUNTIFS(I8:I77,\">0\",$G8:$G77,\">0\")","v":20},36,10,22,14,24,null,{"$f":"COUNTIFS(P8:P77,\">0\",$G8:$G77,\">0\")","v":24},{"$f":"COUNTIFS(Q8:Q77,\">0\",$G8:$G77,\">0\")","v":37},{"$f":"COUNTIFS(R8:R77,\">0\",$G8:$G77,\">0\")","v":42},null,null,{"$f":"COUNTIFS(U8:U77,\">0\",$G8:$G77,\">0\")","v":38},11,19,9,19,null,21,38,40,null,null,null,null,{"$f":"COUNTIFS(AH8:AH77,\">0\",$G8:$G77,\">0\")","v":0},{"$f":"COUNTIFS(AI8:AI77,\">0\",$G8:$G77,\">0\")","v":0},{"$f":"COUNTIFS(AJ8:AJ77,\">0\",$G8:$G77,\">0\")","v":0}]
["registered STARTS",null,null,null,null,null,null,null,{"$f":"SUMIFS(I8:I77,I8:I77,\">0\",$G8:$G77,\">0\")","v":39},149,28,89,26,63,null,{"$f":"SUMIFS(P8:P77,P8:P77,\">0\",$G8:$G77,\">0\")","v":93},{"$f":"SUMIFS(Q8:Q77,Q8:Q77,\">0\",$G8:$G77,\">0\")","v":301},{"$f":"SUMIFS(R8:R77,R8:R77,\">0\",$G8:$G77,\">0\")","v":394},null,null,{"$f":"SUMIFS(U8:U77,U8:U77,\">0\",$G8:$G77,\">0\")","v":153},35,70,14,52,null,97,275,372,null,null,null,null,{"$f":"SUMIFS(AH8:AH77,AH8:AH77,\">0\",$G8:$G77,\">0\")","v":0},{"$f":"SUMIFS(AI8:AI77,AI8:AI77,\">0\",$G8:$G77,\">0\")","v":0},{"$f":"SUMIFS(AJ8:AJ77,AJ8:AJ77,\">0\",$G8:$G77,\">0\")","v":0}]
[]
["non-registered SKIERS",null,null,null,null,null,null,null,{"$f":"COUNTIFS(I8:I77,\">0\",$G8:$G77,\"=NR\")","v":0},4,0,0,0,0,null,{"$f":"COUNTIFS(P8:P77,\">0\",$G8:$G77,\"=NR\")","v":0},{"$f":"COUNTIFS(Q8:Q77,\">0\",$G8:$G77,\"=NR\")","v":4},{"$f":"COUNTIFS(R8:R77,\">0\",$G8:$G77,\"=NR\")","v":4},null,null,{"$f":"COUNTIFS(U8:U77,\">0\",$G8:$G77,\"=NR\")","v":2},0,0,0,0,null,0,2,2,null,null,null,null,{"$f":"COUNTIFS(AH8:AH77,\">0\",$G8:$G77,\"=NR\")","v":0},{"$f":"COUNTIFS(AI8:AI77,\">0\",$G8:$G77,\"=NR\")","v":0},{"$f":"COUNTIFS(AJ8:AJ77,\">0\",$G8:$G77,\"=NR\")","v":0}]
["non-registered STARTS",null,null,null,null,null,null,null,{"$f":"SUMIFS(I8:I77,I8:I77,\">0\",$G8:$G77,\"=NR\")","v":0},6,0,0,0,0,null,{"$f":"SUMIFS(P8:P77,P8:P77,\">0\",$G8:$G77,\"=NR\")","v":0},{"$f":"SUMIFS(Q8:Q77,Q8:Q77,\">0\",$G8:$G77,\"=NR\")","v":6},{"$f":"SUMIFS(R8:R77,R8:R77,\">0\",$G8:$G77,\"=NR\")","v":6},null,null,{"$f":"SUMIFS(U8:U77,U8:U77,\">0\",$G8:$G77,\"=NR\")","v":3},0,0,0,0,null,0,3,3,null,null,null,null,{"$f":"SUMIFS(AH8:AH77,AH8:AH77,\">0\",$G8:$G77,\"=NR\")","v":0},{"$f":"SUMIFS(AI8:AI77,AI8:AI77,\">0\",$G8:$G77,\"=NR\")","v":0},{"$f":"SUMIFS(AJ8:AJ77,AJ8:AJ77,\">0\",$G8:$G77,\"=NR\")","v":0}]

{"sheet":"Points Calculation","index":5,"n_rows":77,"n_cols":91,"rows_kept":77,"cut":false,"hidden":false,"merged":[]}
["Race",{"$f":"'Races, Positions & Points'!N2","v":"SSW Champery"},{"$f":"'Races, Positions & Points'!Q2","v":"Telford CN"},{"$f":"'Races, Positions & Points'!Q2","v":"Telford CN"},{"$f":"'Races, Positions & Points'!U2","v":"Manchester CN"},{"$f":"'Races, Positions & Points'!U2","v":"Manchester CN"},{"$f":"'Races, Positions & Points'!Y2","v":"GBR Indoor #1"},{"$f":"'Races, Positions & Points'!AB2","v":"Anglo Welsh"},{"$f":"'Races, Positions & Points'!AE2","v":"GBR Outdoor #1"},{"$f":"'Races, Positions & Points'!AH2","v":"GBR Outdoor #2"},{"$f":"'Races, Positions & Points'!AK2","v":"GBR Indoor #2"},{"$f":"'Races, Positions & Points'!AN2","v":"GBR Indoor #3"},{"$f":"'Races, Positions & Points'!AQ2","v":"Welwyn CN"},{"$f":"'Races, Positions & Points'!AT2","v":"Milton Keynes CN"},{"$f":"'Races, Positions & Points'!AT2","v":"Milton Keynes CN"},{"$f":"'Races, Positions & Points'!AX2","v":"Pendle CN"},{"$f":"'Races, Positions & Points'!BA2","v":"Stoke CN"},{"$f":"'Races, Positions & Points'!BD2","v":"Twin Peaks 1"},{"$f":"'Races, Positions & Points'!BG2","v":"Norfolk CN"},{"$f":"'Races, Positions & Points'!BJ2","v":"Twin Peaks 2"},{"$f":"'Races, Positions & Points'!BM2","v":"Suffolk CN"},{"$f":"'Races, Positions & Points'!BP2","v":"GBR Indoor #4"},{"$f":"'Races, Positions & Points'!BS2","v":"Scottish Indoor"},{"$f":"'Races, Positions & Points'!BV2","v":"Midland CN"},{"$f":"'Races, Positions & Points'!BY2","v":"Gloucester CN"},{"$f":"'Races, Positions & Points'!CB2","v":"Hemel CN"},{"$f":"'Races, Positions & Points'!CB2","v":"Hemel CN"},{"$f":"'Races, Positions & Points'!CF2","v":"GBR Outdoor #3"},{"$f":"'Races, Positions & Points'!CI2","v":"GBR Outdoor #4"},{"$f":"'Races, Positions & Points'!CL2","v":"GBR Outdoor #5"},{"$f":"'Races, Positions & Points'!CO2","v":"GBR Outdoor #6"},{"$f":"'Races, Positions & Points'!CR2","v":"GBR Indoor #5"},{"$f":"'Races, Positions & Points'!CU2","v":"GBR Indoor #6"},{"$f":"'Races, Positions & Points'!CX2","v":"Scottish Champs"},{"$f":"'Races, Positions & Points'!DC2","v":"All England"},{"$f":"'Races, Positions & Points'!DF2","v":"Welsh National"},{"$f":"'Races, Positions & Points'!DI2","v":"Welsh Open"},{"$f":"'Races, Positions & Points'!DL2","v":"Craig McFie Classic"},{"$f":"'Races, Positions & Points'!DO2","v":"British Outdoor"},{"$f":"'Races, Positions & Points'!DR2","v":"British Indoor"},{"$f":"'Races, Positions & Points'!DU2","v":"Irish Champs"},{"$f":"'Races, Positions & Points'!DX2","v":"Irish Champs"},{"$f":"'Races, Positions & Points'!EA2","v":"BARSC Indoor"},null,"CN/10pt In","CN/10 pt Out","GBR In","GBR Out","Ch In","Ch Out",null,"Registration Number","Start of Year Points","Best Race Points","Second Best Race Points","Points Calc Based on Best Two Races","Points Based on Best Result and start of year","Points Calc Based on Best Race Plus 20% Loading","Points","End of Season Maximum","Projected End of Season Points",null,"min glos","min CF","min MK","min Pendle","min welwyn","min Norfolk","min Ipswich","min FirPark","min Hillend","min Braehead","min Hemel","min Pontypool","min Dublin",null,null,"Best Race Points (0/5pt races)","Second Best Race Points  (0/5pt races)","Points Calc Based on Best Two Races  (0/5pt races)","Points Calc Based on Best Race Plus 20% Loading  (0/5pt races)",null,"min glos  (0/5pt races)","min CF  (0/5pt races)","min MK  (0/5pt races)","min Pendle  (0/5pt races)","min Norfolk  (0/5pt races)","min Hillend  (0/5pt races)","min Braehead  (0/5pt races)","min Pontypool  (0/5pt races)","min Dublin  (0/5pt races)"]
["Venue",{"$f":"'Races, Positions & Points'!N3","v":"Gloucester"},{"$f":"'Races, Positions & Points'!Q3","v":"Chill Factore"},{"$f":"'Races, Positions & Points'!Q3","v":"Chill Factore"},{"$f":"'Races, Positions & Points'!U3","v":"Chill Factore"},{"$f":"'Races, Positions & Points'!U3","v":"Chill Factore"},{"$f":"'Races, Positions & Points'!Y3","v":"Milton Keynes"},{"$f":"'Races, Positions & Points'!AB3","v":"Milton Keynes"},{"$f":"'Races, Positions & Points'!AE3","v":"Pendle"},{"$f":"'Races, Positions & Points'!AH3","v":"Pendle"},{"$f":"'Races, Positions & Points'!AK3","v":"Chill Factore"},{"$f":"'Races, Positions & Points'!AN3","v":"Chill Factore"},{"$f":"'Races, Positions & Points'!AQ3","v":"Welwyn CN"},{"$f":"'Races, Positions & Points'!AT3","v":"Milton Keynes"},{"$f":"'Races, Positions & Points'!AT3","v":"Milton Keynes"},{"$f":"'Races, Positions & Points'!AX3","v":"Pendle"},{"$f":"'Races, Positions & Points'!BA3","v":"Pendle"},{"$f":"'Races, Positions & Points'!BD3","v":"Firpark"},{"$f":"'Races, Positions & Points'!BG3","v":"Norwich"},{"$f":"'Races, Positions & Points'!BJ3","v":"HillEnd"},{"$f":"'Races, Positions & Points'!BM3","v":"Ipswich"},{"$f":"'Races, Positions & Points'!BP3","v":"Braehead"},{"$f":"'Races, Positions & Points'!BS3","v":"Breahead"},{"$f":"'Races, Positions & Points'!BV3","v":"Gloucester"},{"$f":"'Races, Positions & Points'!BY3","v":"Gloucester"},{"$f":"'Races, Positions & Points'!CB3","v":"Snow Centre"},{"$f":"'Races, Positions & Points'!CB3","v":"Snow Centre"},{"$f":"'Races, Positions & Points'!CF3","v":"Pontypool"},{"$f":"'Races, Positions & Points'!CI3","v":"Pontypool"},{"$f":"'Races, Positions & Points'!CL3","v":"Gloucester"},{"$f":"'Races, Positions & Points'!CO3","v":"Gloucester"},{"$f":"'Races, Positions & Points'!CR3","v":"Chill Factore"},{"$f":"'Races, Positions & Points'!CU3","v":"Chill Factore"},{"$f":"'Races, Positions & Points'!CX3","v":"HillEnd"},{"$f":"'Races, Positions & Points'!DC3","v":"Gloucester"},{"$f":"'Races, Positions & Points'!DF3","v":"Pontypool"},{"$f":"'Races, Positions & Points'!DI3","v":"Pontypool"},{"$f":"'Races, Positions & Points'!DL3","v":"HillEnd"},{"$f":"'Races, Positions & Points'!DO3","v":"Norwich"},{"$f":"'Races, Positions & Points'!DR3","v":"Chill Factore"},{"$f":"'Races, Positions & Points'!DU3","v":"Kilternan"},{"$f":"'Races, Positions & Points'!DX3","v":"Kilternan"},{"$f":"'Races, Positions & Points'!EA3","v":"Chill Factore"}]
["Min Penalty",{"$f":"'Races, Positions & Points'!N4","v":10},{"$f":"'Races, Positions & Points'!Q4","v":10},{"$f":"'Races, Positions & Points'!Q4","v":10},{"$f":"'Races, Positions & Points'!U4","v":10},{"$f":"'Races, Positions & Points'!U4","v":10},{"$f":"'Races, Positions & Points'!Y4","v":5},{"$f":"'Races, Positions & Points'!AB4","v":0},{"$f":"'Races, Positions & Points'!AE4","v":5},{"$f":"'Races, Positions & Points'!AH4","v":5},{"$f":"'Races, Positions & Points'!AK4","v":5},{"$f":"'Races, Positions & Points'!AN4","v":5},{"$f":"'Races, Positions & Points'!AQ4","v":10},{"$f":"'Races, Positions & Points'!AT4","v":10},{"$f":"'Races, Positions & Points'!AT4","v":10},{"$f":"'Races, Positions & Points'!AX4","v":10},{"$f":"'Races, Positions & Points'!BA4","v":10},{"$f":"'Races, Positions & Points'!BD4","v":10},{"$f":"'Races, Positions & Points'!BG4","v":10},{"$f":"'Races, Positions & Points'!BJ4","v":10},{"$f":"'Races, Positions & Points'!BM4","v":10},{"$f":"'Races, Positions & Points'!BP4","v":5},{"$f":"'Races, Positions & Points'!BS4","v":0},{"$f":"'Races, Positions & Points'!BV4","v":10},{"$f":"'Races, Positions & Points'!BY4","v":10},{"$f":"'Races, Positions & Points'!CB4","v":10},{"$f":"'Races, Positions & Points'!CB4","v":10},{"$f":"'Races, Positions & Points'!CF4","v":5},{"$f":"'Races, Positions & Points'!CI4","v":5},{"$f":"'Races, Positions & Points'!CL4","v":5},{"$f":"'Races, Positions & Points'!CO4","v":5},{"$f":"'Races, Positions & Points'!CR4","v":5},{"$f":"'Races, Positions & Points'!CU4","v":5},{"$f":"'Races, Positions & Points'!CX4","v":0},{"$f":"'Races, Positions & Points'!DC4","v":0},{"$f":"'Races, Positions & Points'!DF4","v":5},{"$f":"'Races, Positions & Points'!DI4","v":0},{"$f":"'Races, Positions & Points'!DL4","v":10},{"$f":"'Races, Positions & Points'!DO4","v":0},{"$f":"'Races, Positions & Points'!DR4","v":0},{"$f":"'Races, Positions & Points'!DU4","v":0},{"$f":"'Races, Positions & Points'!DX4","v":0},{"$f":"'Races, Positions & Points'!EA4","v":0}]
["Type",{"$f":"'Races, Positions & Points'!P4","v":"Out"},{"$f":"'Races, Positions & Points'!S4","v":"In"},{"$f":"'Races, Positions & Points'!S4","v":"In"},{"$f":"'Races, Positions & Points'!W4","v":"In"},{"$f":"'Races, Positions & Points'!W4","v":"In"},{"$f":"'Races, Positions & Points'!AA4","v":"In"},{"$f":"'Races, Positions & Points'!AD4","v":"In"},{"$f":"'Races, Positions & Points'!AG4","v":"Out"},{"$f":"'Races, Positions & Points'!AJ4","v":"Out"},{"$f":"'Races, Positions & Points'!AM4","v":"In"},{"$f":"'Races, Positions & Points'!AP4","v":"In"},{"$f":"'Races, Positions & Points'!AS4","v":"Out"},{"$f":"'Races, Positions & Points'!AV4","v":"In"},{"$f":"'Races, Positions & Points'!AV4","v":"In"},{"$f":"'Races, Positions & Points'!AZ4","v":"Out"},{"$f":"'Races, Positions & Points'!BC4","v":"Out"},{"$f":"'Races, Positions & Points'!BF4","v":"Out"},{"$f":"'Races, Positions & Points'!BI4","v":"Out"},{"$f":"'Races, Positions & Points'!BL4","v":"Out"},{"$f":"'Races, Positions & Points'!BO4","v":"Out"},{"$f":"'Races, Positions & Points'!BR4","v":"In"},{"$f":"'Races, Positions & Points'!BU4","v":"In"},{"$f":"'Races, Positions & Points'!BX4","v":"Out"},{"$f":"'Races, Positions & Points'!CA4","v":"Out"},{"$f":"'Races, Positions & Points'!CD4","v":"In"},{"$f":"'Races, Positions & Points'!CD4","v":"In"},{"$f":"'Races, Positions & Points'!CH4","v":"Out"},{"$f":"'Races, Positions & Points'!CK4","v":"Out"},{"$f":"'Races, Positions & Points'!CN4","v":"Out"},{"$f":"'Races, Positions & Points'!CQ4","v":"Out"},{"$f":"'Races, Positions & Points'!CT4","v":"In"},{"$f":"'Races, Positions & Points'!CW4","v":"In"},{"$f":"'Races, Positions & Points'!CZ4","v":"Out"},{"$f":"'Races, Positions & Points'!DE4","v":"Out"},{"$f":"'Races, Positions & Points'!DH4","v":"Out"},{"$f":"'Races, Positions & Points'!DK4","v":"Out"},{"$f":"'Races, Positions & Points'!DN4","v":"Out"},{"$f":"'Races, Positions & Points'!DQ4","v":"Out"},{"$f":"'Races, Positions & Points'!DT4","v":"In"},{"$f":"'Races, Positions & Points'!DW4","v":"Out"},{"$f":"'Races, Positions & Points'!DZ4","v":"Out"},{"$f":"'Races, Positions & Points'!EC4","v":"In"}]
["Separate Event?","Y","Y","N","Y","N","Y","Y","Y","Y","Y","Y","Y","Y","N","Y","Y","Y","Y","Y","Y","Y","Y","Y","Y","Y","N","Y","Y","Y","Y","Y","Y","Y","Y","Y","Y","Y","Y","Y","Y","Y","Y"]
[]
[]
[{"$f":"'Races, Positions & Points'!A8","v":"Lauren Treuge"},{"$f":"IF('Races, Positions & Points'!P8=\"\",\"\",'Races, Positions & Points'!P8)","v":999.99},{"$f":"IF('Races, Positions & Points'!S8=\"\",\"\",'Races, Positions & Points'!S8)","v":""},{"$f":"IF('Races, Positions & Points'!T8=\"\",\"\",'Races, Positions & Points'!T8)","v":""},{"$f":"IF('Races, Positions & Points'!W8=\"\",\"\",'Races, Positions & Points'!W8)","v":""},{"$f":"IF('Races, Positions & Points'!X8=\"\",\"\",'Races, Positions & Points'!X8)","v":""},{"$f":"IF('Races, Positions & Points'!AA8=\"\",\"\",'Races, Positions & Points'!AA8)","v":""},{"$f":"IF('Races, Positions & Points'!AD8=\"\",\"\",'Races, Positions & Points'!AD8)","v":""},{"$f":"IF('Races, Positions & Points'!AG8=\"\",\"\",'Races, Positions & Points'!AG8)","v":""},{"$f":"IF('Races, Positions & Points'!AJ8=\"\",\"\",'Races, Positions & Points'!AJ8)","v":""},{"$f":"IF('Races, Positions & Points'!AM8=\"\",\"\",'Races, Positions & Points'!AM8)","v":""},{"$f":"IF('Races, Positions & Points'!AP8=\"\",\"\",'Races, Positions & Points'!AP8)","v":""},{"$f":"IF('Races, Positions & Points'!AS8=\"\",\"\",'Races, Positions & Points'!AS8)","v":""},{"$f":"IF('Races, Positions & Points'!AV8=\"\",\"\",'Races, Positions & Points'!AV8)","v":""},{"$f":"IF('Races, Positions & Points'!AW8=\"\",\"\",'Races, Positions & Points'!AW8)","v":""},{"$f":"IF('Races, Positions & Points'!AZ8=\"\",\"\",'Races, Positions & Points'!AZ8)","v":""},{"$f":"IF('Races, Positions & Points'!BC8=\"\",\"\",'Races, Positions & Points'!BC8)","v":""},{"$f":"IF('Races, Positions & Points'!BF8=\"\",\"\",'Races, Positions & Points'!BF8)","v":""},{"$f":"IF('Races, Positions & Points'!BI8=\"\",\"\",'Races, Positions & Points'!BI8)","v":""},{"$f":"IF('Races, Positions & Points'!BL8=\"\",\"\",'Races, Positions & Points'!BL8)","v":""},{"$f":"IF('Races, Positions & Points'!BO8=\"\",\"\",'Races, Positions & Points'!BO8)","v":""},{"$f":"IF('Races, Positions & Points'!BR8=\"\",\"\",'Races, Positions & Points'!BR8)","v":""},{"$f":"IF('Races, Positions & Points'!BU8=\"\",\"\",'Races, Positions & Points'!BU8)","v":""},{"$f":"IF('Races, Positions & Points'!BX8=\"\",\"\",'Races, Positions & Points'!BX8)","v":""},{"$f":"IF('Races, Positions & Points'!CA8=\"\",\"\",'Races, Positions & Points'!CA8)","v":""},{"$f":"IF('Races, Positions & Points'!CD8=\"\",\"\",'Races, Positions & Points'!CD8)","v":""},{"$f":"IF('Races, Positions & Points'!CE8=\"\",\"\",'Races, Positions & Points'!CE8)","v":""},{"$f":"IF('Races, Positions & Points'!CH8=\"\",\"\",'Races, Positions & Points'!CH8)","v":""},{"$f":"IF('Races, Positions & Points'!CK8=\"\",\"\",'Races, Positions & Points'!CK8)","v":""},{"$f":"IF('Races, Positions & Points'!CN8=\"\",\"\",'Races, Positions & Points'!CN8)","v":""},{"$f":"IF('Races, Positions & Points'!CQ8=\"\",\"\",'Races, Positions & Points'!CQ8)","v":""},{"$f":"IF('Races, Positions & Points'!CT8=\"\",\"\",'Races, Positions & Points'!CT8)","v":""},{"$f":"IF('Races, Positions & Points'!CW8=\"\",\"\",'Races, Positions & Points'!CW8)","v":""},{"$f":"IF('Races, Positions & Points'!CZ8=\"\",\"\",'Races, Positions & Points'!CZ8)","v":""},{"$f":"IF('Races, Positions & Points'!DE8=\"\",\"\",'Races, Positions & Points'!DE8)","v":""},{"$f":"IF('Races, Positions & Points'!DH8=\"\",\"\",'Races, Positions & Points'!DH8)","v":""},{"$f":"IF('Races, Positions & Points'!DK8=\"\",\"\",'Races, Positions & Points'!DK8)","v":999.99},{"$f":"IF('Races, Positions & Points'!DN8=\"\",\"\",'Races, Positions & Points'!DN8)","v":""},{"$f":"IF('Races, Positions & Points'!DQ8=\"\",\"\",'Races, Positions & Points'!DQ8)","v":""},{"$f":"IF('Races, Positions & Points'!DT8=\"\",\"\",'Races, Positions & Points'!DT8)","v":""},{"$f":"IF('Races, Positions & Points'!DW8=\"\",\"\",'Races, Positions & Points'!DW8)","v":""},{"$f":"IF('Races, Positions & Points'!DZ8=\"\",\"\",'Races, Positions & Points'!DZ8)","v":""},{"$f":"IF('Races, Positions & Points'!EC8=\"\",\"\",'Races, Positions & Points'!EC8)","v":""},null,{"$f":"COUNTIFS(B$4:AQ$4,\"=In\",B$3:AQ$3,\"=10\",B$5:AQ$5,\"=Y\",B8:AQ8,\">0\")","v":0},{"$f":"COUNTIFS(B$4:AQ$4,\"=Out\",B$3:AQ$3,\"=10\",B$5:AQ$5,\"=Y\",B8:AQ8,\">0\")","v":1},{"$f":"COUNTIFS(B$4:AQ$4,\"=In\",B$3:AQ$3,\"=5\",B$5:AQ$5,\"=Y\",B8:AQ8,\">0\")","v":0},{"$f":"COUNTIFS(B$4:AQ$4,\"=Out\",B$3:AQ$3,\"=5\",B$5:AQ$5,\"=Y\",B8:AQ8,\">0\")","v":0},{"$f":"COUNTIFS(B$4:AQ$4,\"=In\",B$3:AQ$3,\"=0\",B$5:AQ$5,\"=Y\",B8:AQ8,\">0\")","v":0},{"$f":"COUNTIFS(B$4:AQ$4,\"=Out\",B$3:AQ$3,\"=0\",B$5:AQ$5,\"=Y\",B8:AQ8,\">0\")","v":1},null,{"$f":"VLOOKUP(A8,'Races, Positions & Points'!$A$8:$E$76,5,FALSE)","v":20669}]
[{"$f":"'Races, Positions & Points'!A9","v":"Tilley O'Brien"},{"$f":"IF('Races, Positions & Points'!P9=\"\",\"\",'Races, Positions & Points'!P9)","v":""},{"$f":"IF('Races, Positions & Points'!S9=\"\",\"\",'Races, Positions & Points'!S9)","v":999.99},{"$f":"IF('Races, Positions & Points'!T9=\"\",\"\",'Races, Positions & Points'!T9)","v":999.99},{"$f":"IF('Races, Positions & Points'!W9=\"\",\"\",'Races, Positions & Points'!W9)","v":999.99},{"$f":"IF('Races, Positions & Points'!X9=\"\",\"\",'Races, Positions & Points'!X9)","v":999.99},{"$f":"IF('Races, Positions & Points'!AA9=\"\",\"\",'Races, Positions & Points'!AA9)","v":""},{"$f":"IF('Races, Positions & Points'!AD9=\"\",\"\",'Races, Positions & Points'!AD9)","v":""},{"$f":"IF('Races, Positions & Points'!AG9=\"\",\"\",'Races, Positions & Points'!AG9)","v":""},{"$f":"IF('Races, Positions & Points'!AJ9=\"\",\"\",'Races, Positions & Points'!AJ9)","v":""},{"$f":"IF('Races, Positions & Points'!AM9=\"\",\"\",'Races, Positions & Points'!AM9)","v":""},{"$f":"IF('Races, Positions & Points'!AP9=\"\",\"\",'Races, Positions & Points'!AP9)","v":""},{"$f":"IF('Races, Positions & Points'!AS9=\"\",\"\",'Races, Positions & Points'!AS9)","v":""},{"$f":"IF('Races, Positions & Points'!AV9=\"\",\"\",'Races, Positions & Points'!AV9)","v":999.99},{"$f":"IF('Races, Positions & Points'!AW9=\"\",\"\",'Races, Positions & Points'!AW9)","v":999.99},{"$f":"IF('Races, Positions & Points'!AZ9=\"\",\"\",'Races, Positions & Points'!AZ9)","v":""},{"$f":"IF('Races, Positions & Points'!BC9=\"\",\"\",'Races, Positions & Points'!BC9)","v":""},{"$f":"IF('Races, Positions & Points'!BF9=\"\",\"\",'Races, Positions & Points'!BF9)","v":""},{"$f":"IF('Races, Positions & Points'!BI9=\"\",\"\",'Races, Positions & Points'!BI9)","v":""},{"$f":"IF('Races, Positions & Points'!BL9=\"\",\"\",'Races, Positions & Points'!BL9)","v":""},{"$f":"IF('Races, Positions & Points'!BO9=\"\",\"\",'Races, Positions & Points'!BO9)","v":""},{"$f":"IF('Races, Positions & Points'!BR9=\"\",\"\",'Races, Positions & Points'!BR9)","v":""},{"$f":"IF('Races, Positions & Points'!BU9=\"\",\"\",'Races, Positions & Points'!BU9)","v":""},{"$f":"IF('Races, Positions & Points'!BX9=\"\",\"\",'Races, Positions & Points'!BX9)","v":""},{"$f":"IF('Races, Positions & Points'!CA9=\"\",\"\",'Races, Positions & Points'!CA9)","v":""},{"$f":"IF('Races, Positions & Points'!CD9=\"\",\"\",'Races, Positions & Points'!CD9)","v":999.99},{"$f":"IF('Races, Positions & Points'!CE9=\"\",\"\",'Races, Positions & Points'!CE9)","v":999.99},{"$f":"IF('Races, Positions & Points'!CH9=\"\",\"\",'Races, Positions & Points'!CH9)","v":""},{"$f":"IF('Races, Positions & Points'!CK9=\"\",\"\",'Races, Positions & Points'!CK9)","v":""},{"$f":"IF('Races, Positions & Points'!CN9=\"\",\"\",'Races, Positions & Points'!CN9)","v":""},{"$f":"IF('Races, Positions & Points'!CQ9=\"\",\"\",'Races, Positions & Points'!CQ9)","v":""},{"$f":"IF('Races, Positions & Points'!CT9=\"\",\"\",'Races, Positions & Points'!CT9)","v":""},{"$f":"IF('Races, Positions & Points'!CW9=\"\",\"\",'Races, Positions & Points'!CW9)","v":999.99},{"$f":"IF('Races, Positions & Points'!CZ9=\"\",\"\",'Races, Positions & Points'!CZ9)","v":""},{"$f":"IF('Races, Positions & Points'!DE9=\"\",\"\",'Races, Positions & Points'!DE9)","v":""},{"$f":"IF('Races, Positions & Points'!DH9=\"\",\"\",'Races, Positions & Points'!DH9)","v":""},{"$f":"IF('Races, Positions & Points'!DK9=\"\",\"\",'Races, Positions & Points'!DK9)","v":""},{"$f":"IF('Races, Positions & Points'!DN9=\"\",\"\",'Races, Positions & Points'!DN9)","v":""},{"$f":"IF('Races, Positions & Points'!DQ9=\"\",\"\",'Races, Positions & Points'!DQ9)","v":""},{"$f":"IF('Races, Positions & Points'!DT9=\"\",\"\",'Races, Positions & Points'!DT9)","v":999.99},{"$f":"IF('Races, Positions & Points'!DW9=\"\",\"\",'Races, Positions & Points'!DW9)","v":""},{"$f":"IF('Races, Positions & Points'!DZ9=\"\",\"\",'Races, Positions & Points'!DZ9)","v":""},{"$f":"IF('Races, Positions & Points'!EC9=\"\",\"\",'Races, Positions & Points'!EC9)","v":""},null,{"$f":"COUNTIFS(B$4:AQ$4,\"=In\",B$3:AQ$3,\"=10\",B$5:AQ$5,\"=Y\",B9:AQ9,\">0\")","v":4},{"$f":"COUNTIFS(B$4:AQ$4,\"=Out\",B$3:AQ$3,\"=10\",B$5:AQ$5,\"=Y\",B9:AQ9,\">0\")","v":0},{"$f":"COUNTIFS(B$4:AQ$4,\"=In\",B$3:AQ$3,\"=5\",B$5:AQ$5,\"=Y\",B9:AQ9,\">0\")","v":1},{"$f":"COUNTIFS(B$4:AQ$4,\"=Out\",B$3:AQ$3,\"=5\",B$5:AQ$5,\"=Y\",B9:AQ9,\">0\")","v":0},{"$f":"COUNTIFS(B$4:AQ$4,\"=In\",B$3:AQ$3,\"=0\",B$5:AQ$5,\"=Y\",B9:AQ9,\">0\")","v":1},{"$f":"COUNTIFS(B$4:AQ$4,\"=Out\",B$3:AQ$3,\"=0\",B$5:AQ$5,\"=Y\",B9:AQ9,\">0\")","v":0},null,{"$f":"VLOOKUP(A9,'Races, Positions & Points'!$A$8:$E$76,5,FALSE)","v":20809}]
[{"$f":"'Races, Positions & Points'!A10","v":"Anya Hemming"},{"$f":"IF('Races, Positions & Points'!P10=\"\",\"\",'Races, Positions & Points'!P10)","v":999.99},{"$f":"IF('Races, Positions & Points'!S10=\"\",\"\",'Races, Positions & Points'!S10)","v":""},{"$f":"IF('Races, Positions & Points'!T10=\"\",\"\",'Races, Positions & Points'!T10)","v":""},{"$f":"IF('Races, Positions & Points'!W10=\"\",\"\",'Races, Positions & Points'!W10)","v":""},{"$f":"IF('Races, Positions & Points'!X10=\"\",\"\",'Races, Positions & Points'!X10)","v":""},{"$f":"IF('Races, Positions & Points'!AA10=\"\",\"\",'Races, Positions & Points'!AA10)","v":""},{"$f":"IF('Races, Positions & Points'!AD10=\"\",\"\",'Races, Positions & Points'!AD10)","v":999.99},{"$f":"IF('Races, Positions & Points'!AG10=\"\",\"\",'Races, Positions & Points'!AG10)","v":""},{"$f":"IF('Races, Positions & Points'!AJ10=\"\",\"\",'Races, Positions & Points'!AJ10)","v":""},{"$f":"IF('Races, Positions & Points'!AM10=\"\",\"\",'Races, Positions & Points'!AM10)","v":""},{"$f":"IF('Races, Positions & Points'!AP10=\"\",\"\",'Races, Positions & Points'!AP10)","v":""},{"$f":"IF('Races, Positions & Points'!AS10=\"\",\"\",'Races, Positions & Points'!AS10)","v":999.99},{"$f":"IF('Races, Positions & Points'!AV10=\"\",\"\",'Races, Positions & Points'!AV10)","v":""},{"$f":"IF('Races, Positions & Points'!AW10=\"\",\"\",'Races, Positions & Points'!AW10)","v":""},{"$f":"IF('Races, Positions & Points'!AZ10=\"\",\"\",'Races, Positions & Points'!AZ10)","v":999.99},{"$f":"IF('Races, Positions & Points'!BC10=\"\",\"\",'Races, Positions & Points'!BC10)","v":999.99},{"$f":"IF('Races, Positions & Points'!BF10=\"\",\"\",'Races, Positions & Points'!BF10)","v":""},{"$f":"IF('Races, Positions & Points'!BI10=\"\",\"\",'Races, Positions & Points'!BI10)","v":999.99},{"$f":"IF('Races, Positions & Points'!BL10=\"\",\"\",'Races, Positions & Points'!BL10)","v":""},{"$f":"IF('Races, Positions & Points'!BO10=\"\",\"\",'Races, Positions & Points'!BO10)","v":999.99},{"$f":"IF('Races, Positions & Points'!BR10=\"\",\"\",'Races, Positions & Points'!BR10)","v":""},{"$f":"IF('Races, Positions & Points'!BU10=\"\",\"\",'Races, Positions & Points'!BU10)","v":""},{"$f":"IF('Races, Positions & Points'!BX10=\"\",\"\",'Races, Positions & Points'!BX10)","v":999.99},{"$f":"IF('Races, Positions & Points'!CA10=\"\",\"\",'Races, Positions & Points'!CA10)","v":999.99},{"$f":"IF('Races, Positions & Points'!CD10=\"\",\"\",'Races, Positions & Points'!CD10)","v":""},{"$f":"IF('Races, Positions & Points'!CE10=\"\",\"\",'Races, Positions & Points'!CE10)","v":""},{"$f":"IF('Races, Positions & Points'!CH10=\"\",\"\",'Races, Positions & Points'!CH10)","v":""},{"$f":"IF('Races, Positions & Points'!CK10=\"\",\"\",'Races, Positions & Points'!CK10)","v":""},{"$f":"IF('Races, Positions & Points'!CN10=\"\",\"\",'Races, Positions & Points'!CN10)","v":""},{"$f":"IF('Races, Positions & Points'!CQ10=\"\",\"\",'Races, Positions & Points'!CQ10)","v":""},{"$f":"IF('Races, Positions & Points'!CT10=\"\",\"\",'Races, Positions & Points'!CT10)","v":""},{"$f":"IF('Races, Positions & Points'!CW10=\"\",\"\",'Races, Positions & Points'!CW10)","v":""},{"$f":"IF('Races, Positions & Points'!CZ10=\"\",\"\",'Races, Positions & Points'!CZ10)","v":""},{"$f":"IF('Races, Positions & Points'!DE10=\"\",\"\",'Races, Positions & Points'!DE10)","v":999.99},{"$f":"IF('Races, Positions & Points'!DH10=\"\",\"\",'Races, Positions & Points'!DH10)","v":""},{"$f":"IF('Races, Positions & Points'!DK10=\"\",\"\",'Races, Positions & Points'!DK10)","v":999.99},{"$f":"IF('Races, Positions & Points'!DN10=\"\",\"\",'Races, Positions & Points'!DN10)","v":""},{"$f":"IF('Races, Positions & Points'!DQ10=\"\",\"\",'Races, Positions & Points'!DQ10)","v":999.99},{"$f":"IF('Races, Positions & Points'!DT10=\"\",\"\",'Races, Positions & Points'!DT10)","v":""},{"$f":"IF('Races, Positions & Points'!DW10=\"\",\"\",'Races, Positions & Points'!DW10)","v":""},{"$f":"IF('Races, Positions & Points'!DZ10=\"\",\"\",'Races, Positions & Points'!DZ10)","v":""},{"$f":"IF('Races, Positions & Points'!EC10=\"\",\"\",'Races, Positions & Points'!EC10)","v":""},null,{"$f":"COUNTIFS(B$4:AQ$4,\"=In\",B$3:AQ$3,\"=10\",B$5:AQ$5,\"=Y\",B10:AQ10,\">0\")","v":0},{"$f":"COUNTIFS(B$4:AQ$4,\"=Out\",B$3:AQ$3,\"=10\",B$5:AQ$5,\"=Y\",B10:AQ10,\">0\")","v":8},{"$f":"COUNTIFS(B$4:AQ$4,\"=In\",B$3:AQ$3,\"=5\",B$5:AQ$5,\"=Y\",B10:AQ10,\">0\")","v":0},{"$f":"COUNTIFS(B$4:AQ$4,\"=Out\",B$3:AQ$3,\"=5\",B$5:AQ$5,\"=Y\",B10:AQ10,\">0\")","v":0},{"$f":"COUNTIFS(B$4:AQ$4,\"=In\",B$3:AQ$3,\"=0\",B$5:AQ$5,\"=Y\",B10:AQ10,\">0\")","v":1},{"$f":"COUNTIFS(B$4:AQ$4,\"=Out\",B$3:AQ$3,\"=0\",B$5:AQ$5,\"=Y\",B10:AQ10,\">0\")","v":3},null,{"$f":"VLOOKUP(A10,'Races, Positions & Points'!$A$8:$E$76,5,FALSE)","v":21569}]
[]
[{"$f":"'Races, Positions & Points'!A12","v":"James Care"},{"$f":"IF('Races, Positions & Points'!P12=\"\",\"\",'Races, Positions & Points'!P12)","v":999.99},{"$f":"IF('Races, Positions & Points'!S12=\"\",\"\",'Races, Positions & Points'!S12)","v":""},{"$f":"IF('Races, Positions & Points'!T12=\"\",\"\",'Races, Positions & Points'!T12)","v":""},{"$f":"IF('Races, Positions & Points'!W12=\"\",\"\",'Races, Positions & Points'!W12)","v":""},{"$f":"IF('Races, Positions & Points'!X12=\"\",\"\",'Races, Positions & Points'!X12)","v":""},{"$f":"IF('Races, Positions & Points'!AA12=\"\",\"\",'Races, Positions & Points'!AA12)","v":""},{"$f":"IF('Races, Positions & Points'!AD12=\"\",\"\",'Races, Positions & Points'!AD12)","v":""},{"$f":"IF('Races, Positions & Points'!AG12=\"\",\"\",'Races, Positions & Points'!AG12)","v":""},{"$f":"IF('Races, Positions & Points'!AJ12=\"\",\"\",'Races, Positions & Points'!AJ12)","v":""},{"$f":"IF('Races, Positions & Points'!AM12=\"\",\"\",'Races, Positions & Points'!AM12)","v":""},{"$f":"IF('Races, Positions & Points'!AP12=\"\",\"\",'Races, Positions & Points'!AP12)","v":""},{"$f":"IF('Races, Positions & Points'!AS12=\"\",\"\",'Races, Positions & Points'!AS12)","v":""},{"$f":"IF('Races, Positions & Points'!AV12=\"\",\"\",'Races, Positions & Points'!AV12)","v":""},{"$f":"IF('Races, Positions & Points'!AW12=\"\",\"\",'Races, Positions & Points'!AW12)","v":""},{"$f":"IF('Races, Positions & Points'!AZ12=\"\",\"\",'Races, Positions & Points'!AZ12)","v":""},{"$f":"IF('Races, Positions & Points'!BC12=\"\",\"\",'Races, Positions & Points'!BC12)","v":""},{"$f":"IF('Races, Positions & Points'!BF12=\"\",\"\",'Races, Positions & Points'!BF12)","v":""},{"$f":"IF('Races, Positions & Points'!BI12=\"\",\"\",'Races, Positions & Points'!BI12)","v":""},{"$f":"IF('Races, Positions & Points'!BL12=\"\",\"\",'Races, Positions & Points'!BL12)","v":""},{"$f":"IF('Races, Positions & Points'!BO12=\"\",\"\",'Races, Positions & Points'!BO12)","v":""},{"$f":"IF('Races, Positions & Points'!BR12=\"\",\"\",'Races, Positions & Points'!BR12)","v":""},{"$f":"IF('Races, Positions & Points'!BU12=\"\",\"\",'Races, Positions & Points'!BU12)","v":""},{"$f":"IF('Races, Positions & Points'!BX12=\"\",\"\",'Races, Positions & Points'!BX12)","v":""},{"$f":"IF('Races, Positions & Points'!CA12=\"\",\"\",'Races, Positions & Points'!CA12)","v":999.99},{"$f":"IF('Races, Positions & Points'!CD12=\"\",\"\",'Races, Positions & Points'!CD12)","v":""},{"$f":"IF('Races, Positions & Points'!CE12=\"\",\"\",'Races, Positions & Points'!CE12)","v":""},{"$f":"IF('Races, Positions & Points'!CH12=\"\",\"\",'Races, Positions & Points'!CH12)","v":""},{"$f":"IF('Races, Positions & Points'!CK12=\"\",\"\",'Races, Positions & Points'!CK12)","v":""},{"$f":"IF('Races, Positions & Points'!CN12=\"\",\"\",'Races, Positions & Points'!CN12)","v":""},{"$f":"IF('Races, Positions & Points'!CQ12=\"\",\"\",'Races, Positions & Points'!CQ12)","v":""},{"$f":"IF('Races, Positions & Points'!CT12=\"\",\"\",'Races, Positions & Points'!CT12)","v":""},{"$f":"IF('Races, Positions & Points'!CW12=\"\",\"\",'Races, Positions & Points'!CW12)","v":""},{"$f":"IF('Races, Positions & Points'!CZ12=\"\",\"\",'Races, Positions & Points'!CZ12)","v":""},{"$f":"IF('Races, Positions & Points'!DE12=\"\",\"\",'Races, Positions & Points'!DE12)","v":""},{"$f":"IF('Races, Positions & Points'!DH12=\"\",\"\",'Races, Positions & Points'!DH12)","v":""},{"$f":"IF('Races, Positions & Points'!DK12=\"\",\"\",'Races, Positions & Points'!DK12)","v":""},{"$f":"IF('Races, Positions & Points'!DN12=\"\",\"\",'Races, Positions & Points'!DN12)","v":""},{"$f":"IF('Races, Positions & Points'!DQ12=\"\",\"\",'Races, Positions & Points'!DQ12)","v":""},{"$f":"IF('Races, Positions & Points'!DT12=\"\",\"\",'Races, Positions & Points'!DT12)","v":""},{"$f":"IF('Races, Positions & Points'!DW12=\"\",\"\",'Races, Positions & Points'!DW12)","v":""},{"$f":"IF('Races, Positions & Points'!DZ12=\"\",\"\",'Races, Positions & Points'!DZ12)","v":""},{"$f":"IF('Races, Positions & Points'!EC12=\"\",\"\",'Races, Positions & Points'!EC12)","v":""},null,{"$f":"COUNTIFS(B$4:AQ$4,\"=In\",B$3:AQ$3,\"=10\",B$5:AQ$5,\"=Y\",B12:AQ12,\">0\")","v":0},{"$f":"COUNTIFS(B$4:AQ$4,\"=Out\",B$3:AQ$3,\"=10\",B$5:AQ$5,\"=Y\",B12:AQ12,\">0\")","v":2},{"$f":"COUNTIFS(B$4:AQ$4,\"=In\",B$3:AQ$3,\"=5\",B$5:AQ$5,\"=Y\",B12:AQ12,\">0\")","v":0},{"$f":"COUNTIFS(B$4:AQ$4,\"=Out\",B$3:AQ$3,\"=5\",B$5:AQ$5,\"=Y\",B12:AQ12,\">0\")","v":0},{"$f":"COUNTIFS(B$4:AQ$4,\"=In\",B$3:AQ$3,\"=0\",B$5:AQ$5,\"=Y\",B12:AQ12,\">0\")","v":0},{"$f":"COUNTIFS(B$4:AQ$4,\"=Out\",B$3:AQ$3,\"=0\",B$5:AQ$5,\"=Y\",B12:AQ12,\">0\")","v":0},null,{"$f":"VLOOKUP(A12,'Races, Positions & Points'!$A$8:$E$76,5,FALSE)","v":20590}]
[{"$f":"'Races, Positions & Points'!A13","v":"Macaulay Clover"},{"$f":"IF('Races, Positions & Points'!P13=\"\",\"\",'Races, Positions & Points'!P13)","v":999.99},{"$f":"IF('Races, Positions & Points'!S13=\"\",\"\",'Races, Positions & Points'!S13)","v":""},{"$f":"IF('Races, Positions & Points'!T13=\"\",\"\",'Races, Positions & Points'!T13)","v":""},{"$f":"IF('Races, Positions & Points'!W13=\"\",\"\",'Races, Positions & Points'!W13)","v":""},{"$f":"IF('Races, Positions & Points'!X13=\"\",\"\",'Races, Positions & Points'!X13)","v":""},{"$f":"IF('Races, Positions & Points'!AA13=\"\",\"\",'Races, Positions & Points'!AA13)","v":""},{"$f":"IF('Races, Positions & Points'!AD13=\"\",\"\",'Races, Positions & Points'!AD13)","v":""},{"$f":"IF('Races, Positions & Points'!AG13=\"\",\"\",'Races, Positions & Points'!AG13)","v":""},{"$f":"IF('Races, Positions & Points'!AJ13=\"\",\"\",'Races, Positions & Points'!AJ13)","v":""},{"$f":"IF('Races, Positions & Points'!AM13=\"\",\"\",'Races, Positions & Points'!AM13)","v":""},{"$f":"IF('Races, Positions & Points'!AP13=\"\",\"\",'Races, Positions & Points'!AP13)","v":""},{"$f":"IF('Races, Positions & Points'!AS13=\"\",\"\",'Races, Positions & Points'!AS13)","v":""},{"$f":"IF('Races, Positions & Points'!AV13=\"\",\"\",'Races, Positions & Points'!AV13)","v":""},{"$f":"IF('Races, Positions & Points'!AW13=\"\",\"\",'Races, Positions & Points'!AW13)","v":""},{"$f":"IF('Races, Positions & Points'!AZ13=\"\",\"\",'Races, Positions & Points'!AZ13)","v":""},{"$f":"IF('Races, Positions & Points'!BC13=\"\",\"\",'Races, Positions & Points'!BC13)","v":""},{"$f":"IF('Races, Positions & Points'!BF13=\"\",\"\",'Races, Positions & Points'!BF13)","v":""},{"$f":"IF('Races, Positions & Points'!BI13=\"\",\"\",'Races, Positions & Points'!BI13)","v":""},{"$f":"IF('Races, Positions & Points'!BL13=\"\",\"\",'Races, Positions & Points'!BL13)","v":""},{"$f":"IF('Races, Positions & Points'!BO13=\"\",\"\",'Races, Positions & Points'!BO13)","v":""},{"$f":"IF('Races, Positions & Points'!BR13=\"\",\"\",'Races, Positions & Points'!BR13)","v":""},{"$f":"IF('Races, Positions & Points'!BU13=\"\",\"\",'Races, Positions & Points'!BU13)","v":""},{"$f":"IF('Races, Positions & Points'!BX13=\"\",\"\",'Races, Positions & Points'!BX13)","v":""},{"$f":"IF('Races, Positions & Points'!CA13=\"\",\"\",'Races, Positions & Points'!CA13)","v":""},{"$f":"IF('Races, Positions & Points'!CD13=\"\",\"\",'Races, Positions & Points'!CD13)","v":""},{"$f":"IF('Races, Positions & Points'!CE13=\"\",\"\",'Races, Positions & Points'!CE13)","v":""},{"$f":"IF('Races, Positions & Points'!CH13=\"\",\"\",'Races, Positions & Points'!CH13)","v":""},{"$f":"IF('Races, Positions & Points'!CK13=\"\",\"\",'Races, Positions & Points'!CK13)","v":""},{"$f":"IF('Races, Positions & Points'!CN13=\"\",\"\",'Races, Positions & Points'!CN13)","v":""},{"$f":"IF('Races, Positions & Points'!CQ13=\"\",\"\",'Races, Positions & Points'!CQ13)","v":""},{"$f":"IF('Races, Positions & Points'!CT13=\"\",\"\",'Races, Positions & Points'!CT13)","v":""},{"$f":"IF('Races, Positions & Points'!CW13=\"\",\"\",'Races, Positions & Points'!CW13)","v":""},{"$f":"IF('Races, Positions & Points'!CZ13=\"\",\"\",'Races, Positions & Points'!CZ13)","v":""},{"$f":"IF('Races, Positions & Points'!DE13=\"\",\"\",'Races, Positions & Points'!DE13)","v":""},{"$f":"IF('Races, Positions & Points'!DH13=\"\",\"\",'Races, Positions & Points'!DH13)","v":""},{"$f":"IF('Races, Positions & Points'!DK13=\"\",\"\",'Races, Positions & Points'!DK13)","v":""},{"$f":"IF('Races, Positions & Points'!DN13=\"\",\"\",'Races, Positions & Points'!DN13)","v":""},{"$f":"IF('Races, Positions & Points'!DQ13=\"\",\"\",'Races, Positions & Points'!DQ13)","v":""},{"$f":"IF('Races, Positions & Points'!DT13=\"\",\"\",'Races, Positions & Points'!DT13)","v":""},{"$f":"IF('Races, Positions & Points'!DW13=\"\",\"\",'Races, Positions & Points'!DW13)","v":""},{"$f":"IF('Races, Positions & Points'!DZ13=\"\",\"\",'Races, Positions & Points'!DZ13)","v":""},{"$f":"IF('Races, Positions & Points'!EC13=\"\",\"\",'Races, Positions & Points'!EC13)","v":""},null,0,1,0,0,0,0,null,{"$f":"VLOOKUP(A13,'Races, Positions & Points'!$A$8:$E$76,5,FALSE)","v":"Day"}]
[{"$f":"'Races, Positions & Points'!A14","v":"Seamus O'Brien"},{"$f":"IF('Races, Positions & Points'!P14=\"\",\"\",'Races, Positions & Points'!P14)","v":""},{"$f":"IF('Races, Positions & Points'!S14=\"\",\"\",'Races, Positions & Points'!S14)","v":999.99},{"$f":"IF('Races, Positions & Points'!T14=\"\",\"\",'Races, Positions & Points'!T14)","v":999.99},{"$f":"IF('Races, Positions & Points'!W14=\"\",\"\",'Races, Positions & Points'!W14)","v":999.99},{"$f":"IF('Races, Positions & Points'!X14=\"\",\"\",'Races, Positions & Points'!X14)","v":999.99},{"$f":"IF('Races, Positions & Points'!AA14=\"\",\"\",'Races, Positions & Points'!AA14)","v":""},{"$f":"IF('Races, Positions & Points'!AD14=\"\",\"\",'Races, Positions & Points'!AD14)","v":""},{"$f":"IF('Races, Positions & Points'!AG14=\"\",\"\",'Races, Positions & Points'!AG14)","v":""},{"$f":"IF('Races, Positions & Points'!AJ14=\"\",\"\",'Races, Positions & Points'!AJ14)","v":""},{"$f":"IF('Races, Positions & Points'!AM14=\"\",\"\",'Races, Positions & Points'!AM14)","v":999.99},{"$f":"IF('Races, Positions & Points'!AP14=\"\",\"\",'Races, Positions & Points'!AP14)","v":999.99},{"$f":"IF('Races, Positions & Points'!AS14=\"\",\"\",'Races, Positions & Points'!AS14)","v":""},{"$f":"IF('Races, Positions & Points'!AV14=\"\",\"\",'Races, Positions & Points'!AV14)","v":""},{"$f":"IF('Races, Positions & Points'!AW14=\"\",\"\",'Races, Positions & Points'!AW14)","v":""},{"$f":"IF('Races, Positions & Points'!AZ14=\"\",\"\",'Races, Positions & Points'!AZ14)","v":""},{"$f":"IF('Races, Positions & Points'!BC14=\"\",\"\",'Races, Positions & Points'!BC14)","v":""},{"$f":"IF('Races, Positions & Points'!BF14=\"\",\"\",'Races, Positions & Points'!BF14)","v":""},{"$f":"IF('Races, Positions & Points'!BI14=\"\",\"\",'Races, Positions & Points'!BI14)","v":""},{"$f":"IF('Races, Positions & Points'!BL14=\"\",\"\",'Races, Positions & Points'!BL14)","v":""},{"$f":"IF('Races, Positions & Points'!BO14=\"\",\"\",'Races, Positions & Points'!BO14)","v":""},{"$f":"IF('Races, Positions & Points'!BR14=\"\",\"\",'Races, Positions & Points'!BR14)","v":""},{"$f":"IF('Races, Positions & Points'!BU14=\"\",\"\",'Races, Positions & Points'!BU14)","v":""},{"$f":"IF('Races, Positions & Points'!BX14=\"\",\"\",'Races, Positions & Points'!BX14)","v":""},{"$f":"IF('Races, Positions & Points'!CA14=\"\",\"\",'Races, Positions & Points'!CA14)","v":""},{"$f":"IF('Races, Positions & Points'!CD14=\"\",\"\",'Races, Positions & Points'!CD14)","v":999.99},{"$f":"IF('Races, Positions & Points'!CE14=\"\",\"\",'Races, Positions & Points'!CE14)","v":999.99},{"$f":"IF('Races, Positions & Points'!CH14=\"\",\"\",'Races, Positions & Points'!CH14)","v":""},{"$f":"IF('Races, Positions & Points'!CK14=\"\",\"\",'Races, Positions & Points'!CK14)","v":""},{"$f":"IF('Races, Positions & Points'!CN14=\"\",\"\",'Races, Positions & Points'!CN14)","v":""},{"$f":"IF('Races, Positions & Points'!CQ14=\"\",\"\",'Races, Positions & Points'!CQ14)","v":""},{"$f":"IF('Races, Positions & Points'!CT14=\"\",\"\",'Races, Positions & Points'!CT14)","v":""},{"$f":"IF('Races, Positions & Points'!CW14=\"\",\"\",'Races, Positions & Points'!CW14)","v":999.99},{"$f":"IF('Races, Positions & Points'!CZ14=\"\",\"\",'Races, Positions & Points'!CZ14)","v":""},{"$f":"IF('Races, Positions & Points'!DE14=\"\",\"\",'Races, Positions & Points'!DE14)","v":""},{"$f":"IF('Races, Positions & Points'!DH14=\"\",\"\",'Races, Positions & Points'!DH14)","v":""},{"$f":"IF('Races, Positions & Points'!DK14=\"\",\"\",'Races, Positions & Points'!DK14)","v":""},{"$f":"IF('Races, Positions & Points'!DN14=\"\",\"\",'Races, Positions & Points'!DN14)","v":""},{"$f":"IF('Races, Positions & Points'!DQ14=\"\",\"\",'Races, Positions & Points'!DQ14)","v":""},{"$f":"IF('Races, Positions & Points'!DT14=\"\",\"\",'Races, Positions & Points'!DT14)","v":999.99},{"$f":"IF('Races, Positions & Points'!DW14=\"\",\"\",'Races, Positions & Points'!DW14)","v":""},{"$f":"IF('Races, Positions & Points'!DZ14=\"\",\"\",'Races, Positions & Points'!DZ14)","v":""},{"$f":"IF('Races, Positions & Points'!EC14=\"\",\"\",'Races, Positions & Points'!EC14)","v":""},null,3,0,3,0,1,0,null,{"$f":"VLOOKUP(A14,'Races, Positions & Points'!$A$8:$E$76,5,FALSE)","v":19737}]
[{"$f":"'Races, Positions & Points'!A15","v":"Matthew Treuge"},{"$f":"IF('Races, Positions & Points'!P15=\"\",\"\",'Races, Positions & Points'!P15)","v":999.99},{"$f":"IF('Races, Positions & Points'!S15=\"\",\"\",'Races, Positions & Points'!S15)","v":""},{"$f":"IF('Races, Positions & Points'!T15=\"\",\"\",'Races, Positions & Points'!T15)","v":""},{"$f":"IF('Races, Positions & Points'!W15=\"\",\"\",'Races, Positions & Points'!W15)","v":""},{"$f":"IF('Races, Positions & Points'!X15=\"\",\"\",'Races, Positions & Points'!X15)","v":""},{"$f":"IF('Races, Positions & Points'!AA15=\"\",\"\",'Races, Positions & Points'!AA15)","v":""},{"$f":"IF('Races, Positions & Points'!AD15=\"\",\"\",'Races, Positions & Points'!AD15)","v":""},{"$f":"IF('Races, Positions & Points'!AG15=\"\",\"\",'Races, Positions & Points'!AG15)","v":""},{"$f":"IF('Races, Positions & Points'!AJ15=\"\",\"\",'Races, Positions & Points'!AJ15)","v":""},{"$f":"IF('Races, Positions & Points'!AM15=\"\",\"\",'Races, Positions & Points'!AM15)","v":""},{"$f":"IF('Races, Positions & Points'!AP15=\"\",\"\",'Races, Positions & Points'!AP15)","v":""},{"$f":"IF('Races, Positions & Points'!AS15=\"\",\"\",'Races, Positions & Points'!AS15)","v":""},{"$f":"IF('Races, Positions & Points'!AV15=\"\",\"\",'Races, Positions & Points'!AV15)","v":""},{"$f":"IF('Races, Positions & Points'!AW15=\"\",\"\",'Races, Positions & Points'!AW15)","v":""},{"$f":"IF('Races, Positions & Points'!AZ15=\"\",\"\",'Races, Positions & Points'!AZ15)","v":""},{"$f":"IF('Races, Positions & Points'!BC15=\"\",\"\",'Races, Positions & Points'!BC15)","v":""},{"$f":"IF('Races, Positions & Points'!BF15=\"\",\"\",'Races, Positions & Points'!BF15)","v":""},{"$f":"IF('Races, Positions & Points'!BI15=\"\",\"\",'Races, Positions & Points'!BI15)","v":""},{"$f":"IF('Races, Positions & Points'!BL15=\"\",\"\",'Races, Positions & Points'!BL15)","v":""},{"$f":"IF('Races, Positions & Points'!BO15=\"\",\"\",'Races, Positions & Points'!BO15)","v":""},{"$f":"IF('Races, Positions & Points'!BR15=\"\",\"\",'Races, Positions & Points'!BR15)","v":""},{"$f":"IF('Races, Positions & Points'!BU15=\"\",\"\",'Races, Positions & Points'!BU15)","v":""},{"$f":"IF('Races, Positions & Points'!BX15=\"\",\"\",'Races, Positions & Points'!BX15)","v":""},{"$f":"IF('Races, Positions & Points'!CA15=\"\",\"\",'Races, Positions & Points'!CA15)","v":""},{"$f":"IF('Races, Positions & Points'!CD15=\"\",\"\",'Races, Positions & Points'!CD15)","v":""},{"$f":"IF('Races, Positions & Points'!CE15=\"\",\"\",'Races, Positions & Points'!CE15)","v":""},{"$f":"IF('Races, Positions & Points'!CH15=\"\",\"\",'Races, Positions & Points'!CH15)","v":""},{"$f":"IF('Races, Positions & Points'!CK15=\"\",\"\",'Races, Positions & Points'!CK15)","v":""},{"$f":"IF('Races, Positions & Points'!CN15=\"\",\"\",'Races, Positions & Points'!CN15)","v":""},{"$f":"IF('Races, Positions & Points'!CQ15=\"\",\"\",'Races, Positions & Points'!CQ15)","v":""},{"$f":"IF('Races, Positions & Points'!CT15=\"\",\"\",'Races, Positions & Points'!CT15)","v":""},{"$f":"IF('Races, Positions & Points'!CW15=\"\",\"\",'Races, Positions & Points'!CW15)","v":""},{"$f":"IF('Races, Positions & Points'!CZ15=\"\",\"\",'Races, Positions & Points'!CZ15)","v":""},{"$f":"IF('Races, Positions & Points'!DE15=\"\",\"\",'Races, Positions & Points'!DE15)","v":""},{"$f":"IF('Races, Positions & Points'!DH15=\"\",\"\",'Races, Positions & Points'!DH15)","v":""},{"$f":"IF('Races, Positions & Points'!DK15=\"\",\"\",'Races, Positions & Points'!DK15)","v":999.99},{"$f":"IF('Races, Positions & Points'!DN15=\"\",\"\",'Races, Positions & Points'!DN15)","v":""},{"$f":"IF('Races, Positions & Points'!DQ15=\"\",\"\",'Races, Positions & Points'!DQ15)","v":""},{"$f":"IF('Races, Positions & Points'!DT15=\"\",\"\",'Races, Positions & Points'!DT15)","v":""},{"$f":"IF('Races, Positions & Points'!DW15=\"\",\"\",'Races, Positions & Points'!DW15)","v":""},{"$f":"IF('Races, Positions & Points'!DZ15=\"\",\"\",'Races, Positions & Points'!DZ15)","v":""},{"$f":"IF('Races, Positions & Points'!EC15=\"\",\"\",'Races, Positions & Points'!EC15)","v":""},null,0,1,0,0,0,1,null,{"$f":"VLOOKUP(A15,'Races, Positions & Points'!$A$8:$E$76,5,FALSE)","v":20670}]
[{"$f":"'Races, Positions & Points'!A16","v":"James Shakeshaft"},{"$f":"IF('Races, Positions & Points'!P16=\"\",\"\",'Races, Positions & Points'!P16)","v":""},{"$f":"IF('Races, Positions & Points'!S16=\"\",\"\",'Races, Positions & Points'!S16)","v":""},{"$f":"IF('Races, Positions & Points'!T16=\"\",\"\",'Races, Positions & Points'!T16)","v":""},{"$f":"IF('Races, Positions & Points'!W16=\"\",\"\",'Races, Positions & Points'!W16)","v":""},{"$f":"IF('Races, Positions & Points'!X16=\"\",\"\",'Races, Positions & Points'!X16)","v":""},{"$f":"IF('Races, Positions & Points'!AA16=\"\",\"\",'Races, Positions & Points'!AA16)","v":""},{"$f":"IF('Races, Positions & Points'!AD16=\"\",\"\",'Races, Positions & Points'!AD16)","v":""},{"$f":"IF('Races, Positions & Points'!AG16=\"\",\"\",'Races, Positions & Points'!AG16)","v":""},{"$f":"IF('Races, Positions & Points'!AJ16=\"\",\"\",'Races, Positions & Points'!AJ16)","v":""},{"$f":"IF('Races, Positions & Points'!AM16=\"\",\"\",'Races, Positions & Points'!AM16)","v":""},{"$f":"IF('Races, Positions & Points'!AP16=\"\",\"\",'Races, Positions & Points'!AP16)","v":""},{"$f":"IF('Races, Positions & Points'!AS16=\"\",\"\",'Races, Positions & Points'!AS16)","v":""},{"$f":"IF('Races, Positions & Points'!AV16=\"\",\"\",'Races, Positions & Points'!AV16)","v":""},{"$f":"IF('Races, Positions & Points'!AW16=\"\",\"\",'Races, Positions & Points'!AW16)","v":""},{"$f":"IF('Races, Positions & Points'!AZ16=\"\",\"\",'Races, Positions & Points'!AZ16)","v":""},{"$f":"IF('Races, Positions & Points'!BC16=\"\",\"\",'Races, Positions & Points'!BC16)","v":""},{"$f":"IF('Races, Positions & Points'!BF16=\"\",\"\",'Races, Positions & Points'!BF16)","v":""},{"$f":"IF('Races, Positions & Points'!BI16=\"\",\"\",'Races, Positions & Points'!BI16)","v":""},{"$f":"IF('Races, Positions & Points'!BL16=\"\",\"\",'Races, Positions & Points'!BL16)","v":""},{"$f":"IF('Races, Positions & Points'!BO16=\"\",\"\",'Races, Positions & Points'!BO16)","v":""},{"$f":"IF('Races, Positions & Points'!BR16=\"\",\"\",'Races, Positions & Points'!BR16)","v":""},{"$f":"IF('Races, Positions & Points'!BU16=\"\",\"\",'Races, Positions & Points'!BU16)","v":""},{"$f":"IF('Races, Positions & Points'!BX16=\"\",\"\",'Races, Positions & Points'!BX16)","v":999.99},{"$f":"IF('Races, Positions & Points'!CA16=\"\",\"\",'Races, Positions & Points'!CA16)","v":""},{"$f":"IF('Races, Positions & Points'!CD16=\"\",\"\",'Races, Positions & Points'!CD16)","v":""},{"$f":"IF('Races, Positions & Points'!CE16=\"\",\"\",'Races, Positions & Points'!CE16)","v":""},{"$f":"IF('Races, Positions & Points'!CH16=\"\",\"\",'Races, Positions & Points'!CH16)","v":""},{"$f":"IF('Races, Positions & Points'!CK16=\"\",\"\",'Races, Positions & Points'!CK16)","v":""},{"$f":"IF('Races, Positions & Points'!CN16=\"\",\"\",'Races, Positions & Points'!CN16)","v":""},{"$f":"IF('Races, Positions & Points'!CQ16=\"\",\"\",'Races, Positions & Points'!CQ16)","v":""},{"$f":"IF('Races, Positions & Points'!CT16=\"\",\"\",'Races, Positions & Points'!CT16)","v":""},{"$f":"IF('Races, Positions & Points'!CW16=\"\",\"\",'Races, Positions & Points'!CW16)","v":""},{"$f":"IF('Races, Positions & Points'!CZ16=\"\",\"\",'Races, Positions & Points'!CZ16)","v":""},{"$f":"IF('Races, Positions & Points'!DE16=\"\",\"\",'Races, Positions & Points'!DE16)","v":""},{"$f":"IF('Races, Positions & Points'!DH16=\"\",\"\",'Races, Positions & Points'!DH16)","v":""},{"$f":"IF('Races, Positions & Points'!DK16=\"\",\"\",'Races, Positions & Points'!DK16)","v":""},{"$f":"IF('Races, Positions & Points'!DN16=\"\",\"\",'Races, Positions & Points'!DN16)","v":""},{"$f":"IF('Races, Positions & Points'!DQ16=\"\",\"\",'Races, Positions & Points'!DQ16)","v":""},{"$f":"IF('Races, Positions & Points'!DT16=\"\",\"\",'Races, Positions & Points'!DT16)","v":""},{"$f":"IF('Races, Positions & Points'!DW16=\"\",\"\",'Races, Positions & Points'!DW16)","v":""},{"$f":"IF('Races, Positions & Points'!DZ16=\"\",\"\",'Races, Positions & Points'!DZ16)","v":""},{"$f":"IF('Races, Positions & Points'!EC16=\"\",\"\",'Races, Positions & Points'!EC16)","v":""},null,0,1,0,0,0,0,null,{"$f":"VLOOKUP(A16,'Races, Positions & Points'!$A$8:$E$76,5,FALSE)","v":20340}]
[{"$f":"'Races, Positions & Points'!A17","v":"Daniel Hadley"},{"$f":"IF('Races, Positions & Points'!P17=\"\",\"\",'Races, Positions & Points'!P17)","v":""},{"$f":"IF('Races, Positions & Points'!S17=\"\",\"\",'Races, Positions & Points'!S17)","v":""},{"$f":"IF('Races, Positions & Points'!T17=\"\",\"\",'Races, Positions & Points'!T17)","v":""},{"$f":"IF('Races, Positions & Points'!W17=\"\",\"\",'Races, Positions & Points'!W17)","v":""},{"$f":"IF('Races, Positions & Points'!X17=\"\",\"\",'Races, Positions & Points'!X17)","v":""},{"$f":"IF('Races, Positions & Points'!AA17=\"\",\"\",'Races, Positions & Points'!AA17)","v":999.99},{"$f":"IF('Races, Positions & Points'!AD17=\"\",\"\",'Races, Positions & Points'!AD17)","v":999.99},{"$f":"IF('Races, Positions & Points'!AG17=\"\",\"\",'Races, Positions & Points'!AG17)","v":""},{"$f":"IF('Races, Positions & Points'!AJ17=\"\",\"\",'Races, Positions & Points'!AJ17)","v":""},{"$f":"IF('Races, Positions & Points'!AM17=\"\",\"\",'Races, Positions & Points'!AM17)","v":""},{"$f":"IF('Races, Positions & Points'!AP17=\"\",\"\",'Races, Positions & Points'!AP17)","v":""},{"$f":"IF('Races, Positions & Points'!AS17=\"\",\"\",'Races, Positions & Points'!AS17)","v":""},{"$f":"IF('Races, Positions & Points'!AV17=\"\",\"\",'Races, Positions & Points'!AV17)","v":999.99},{"$f":"IF('Races, Positions & Points'!AW17=\"\",\"\",'Races, Positions & Points'!AW17)","v":999.99},{"$f":"IF('Races, Positions & Points'!AZ17=\"\",\"\",'Races, Positions & Points'!AZ17)","v":""},{"$f":"IF('Races, Positions & Points'!BC17=\"\",\"\",'Races, Positions & Points'!BC17)","v":""},{"$f":"IF('Races, Positions & Points'!BF17=\"\",\"\",'Races, Positions & Points'!BF17)","v":""},{"$f":"IF('Races, Positions & Points'!BI17=\"\",\"\",'Races, Positions & Points'!BI17)","v":""},{"$f":"IF('Races, Positions & Points'!BL17=\"\",\"\",'Races, Positions & Points'!BL17)","v":""},{"$f":"IF('Races, Positions & Points'!BO17=\"\",\"\",'Races, Positions & Points'!BO17)","v":""},{"$f":"IF('Races, Positions & Points'!BR17=\"\",\"\",'Races, Positions & Points'!BR17)","v":""},{"$f":"IF('Races, Positions & Points'!BU17=\"\",\"\",'Races, Positions & Points'!BU17)","v":""},{"$f":"IF('Races, Positions & Points'!BX17=\"\",\"\",'Races, Positions & Points'!BX17)","v":999.99},{"$f":"IF('Races, Positions & Points'!CA17=\"\",\"\",'Races, Positions & Points'!CA17)","v":""},{"$f":"IF('Races, Positions & Points'!CD17=\"\",\"\",'Races, Positions & Points'!CD17)","v":""},{"$f":"IF('Races, Positions & Points'!CE17=\"\",\"\",'Races, Positions & Points'!CE17)","v":""},{"$f":"IF('Races, Positions & Points'!CH17=\"\",\"\",'Races, Positions & Points'!CH17)","v":""},{"$f":"IF('Races, Positions & Points'!CK17=\"\",\"\",'Races, Positions & Points'!CK17)","v":""},{"$f":"IF('Races, Positions & Points'!CN17=\"\",\"\",'Races, Positions & Points'!CN17)","v":""},{"$f":"IF('Races, Positions & Points'!CQ17=\"\",\"\",'Races, Positions & Points'!CQ17)","v":""},{"$f":"IF('Races, Positions & Points'!CT17=\"\",\"\",'Races, Positions & Points'!CT17)","v":""},{"$f":"IF('Races, Positions & Points'!CW17=\"\",\"\",'Races, Positions & Points'!CW17)","v":""},{"$f":"IF('Races, Positions & Points'!CZ17=\"\",\"\",'Races, Positions & Points'!CZ17)","v":""},{"$f":"IF('Races, Positions & Points'!DE17=\"\",\"\",'Races, Positions & Points'!DE17)","v":""},{"$f":"IF('Races, Positions & Points'!DH17=\"\",\"\",'Races, Positions & Points'!DH17)","v":""},{"$f":"IF('Races, Positions & Points'!DK17=\"\",\"\",'Races, Positions & Points'!DK17)","v":""},{"$f":"IF('Races, Positions & Points'!DN17=\"\",\"\",'Races, Positions & Points'!DN17)","v":""},{"$f":"IF('Races, Positions & Points'!DQ17=\"\",\"\",'Races, Positions & Points'!DQ17)","v":""},{"$f":"IF('Races, Positions & Points'!DT17=\"\",\"\",'Races, Positions & Points'!DT17)","v":""},{"$f":"IF('Races, Positions & Points'!DW17=\"\",\"\",'Races, Positions & Points'!DW17)","v":""},{"$f":"IF('Races, Positions & Points'!DZ17=\"\",\"\",'Races, Positions & Points'!DZ17)","v":""},{"$f":"IF('Races, Positions & Points'!EC17=\"\",\"\",'Races, Positions & Points'!EC17)","v":""},null,1,1,1,0,1,0,null,{"$f":"VLOOKUP(A17,'Races, Positions & Points'!$A$8:$E$76,5,FALSE)","v":20719}]
[{"$f":"'Races, Positions & Points'!A18","v":"Jack Teague"},{"$f":"IF('Races, Positions & Points'!P18=\"\",\"\",'Races, Positions & Points'!P18)","v":999.99},{"$f":"IF('Races, Positions & Points'!S18=\"\",\"\",'Races, Positions & Points'!S18)","v":""},{"$f":"IF('Races, Positions & Points'!T18=\"\",\"\",'Races, Positions & Points'!T18)","v":""},{"$f":"IF('Races, Positions & Points'!W18=\"\",\"\",'Races, Positions & Points'!W18)","v":""},{"$f":"IF('Races, Positions & Points'!X18=\"\",\"\",'Races, Positions & Points'!X18)","v":""},{"$f":"IF('Races, Positions & Points'!AA18=\"\",\"\",'Races, Positions & Points'!AA18)","v":""},{"$f":"IF('Races, Positions & Points'!AD18=\"\",\"\",'Races, Positions & Points'!AD18)","v":""},{"$f":"IF('Races, Positions & Points'!AG18=\"\",\"\",'Races, Positions & Points'!AG18)","v":""},{"$f":"IF('Races, Positions & Points'!AJ18=\"\",\"\",'Races, Positions & Points'!AJ18)","v":""},{"$f":"IF('Races, Positions & Points'!AM18=\"\",\"\",'Races, Positions & Points'!AM18)","v":""},{"$f":"IF('Races, Positions & Points'!AP18=\"\",\"\",'Races, Positions & Points'!AP18)","v":""},{"$f":"IF('Races, Positions & Points'!AS18=\"\",\"\",'Races, Positions & Points'!AS18)","v":""},{"$f":"IF('Races, Positions & Points'!AV18=\"\",\"\",'Races, Positions & Points'!AV18)","v":""},{"$f":"IF('Races, Positions & Points'!AW18=\"\",\"\",'Races, Positions & Points'!AW18)","v":""},{"$f":"IF('Races, Positions & Points'!AZ18=\"\",\"\",'Races, Positions & Points'!AZ18)","v":""},{"$f":"IF('Races, Positions & Points'!BC18=\"\",\"\",'Races, Positions & Points'!BC18)","v":""},{"$f":"IF('Races, Positions & Points'!BF18=\"\",\"\",'Races, Positions & Points'!BF18)","v":""},{"$f":"IF('Races, Positions & Points'!BI18=\"\",\"\",'Races, Positions & Points'!BI18)","v":""},{"$f":"IF('Races, Positions & Points'!BL18=\"\",\"\",'Races, Positions & Points'!BL18)","v":""},{"$f":"IF('Races, Positions & Points'!BO18=\"\",\"\",'Races, Positions & Points'!BO18)","v":""},{"$f":"IF('Races, Positions & Points'!BR18=\"\",\"\",'Races, Positions & Points'!BR18)","v":""},{"$f":"IF('Races, Positions & Points'!BU18=\"\",\"\",'Races, Positions & Points'!BU18)","v":""},{"$f":"IF('Races, Positions & Points'!BX18=\"\",\"\",'Races, Positions & Points'!BX18)","v":999.99},{"$f":"IF('Races, Positions & Points'!CA18=\"\",\"\",'Races, Positions & Points'!CA18)","v":""},{"$f":"IF('Races, Positions & Points'!CD18=\"\",\"\",'Races, Positions & Points'!CD18)","v":""},{"$f":"IF('Races, Positions & Points'!CE18=\"\",\"\",'Races, Positions & Points'!CE18)","v":""},{"$f":"IF('Races, Positions & Points'!CH18=\"\",\"\",'Races, Positions & Points'!CH18)","v":""},{"$f":"IF('Races, Positions & Points'!CK18=\"\",\"\",'Races, Positions & Points'!CK18)","v":""},{"$f":"IF('Races, Positions & Points'!CN18=\"\",\"\",'Races, Positions & Points'!CN18)","v":""},{"$f":"IF('Races, Positions & Points'!CQ18=\"\",\"\",'Races, Positions & Points'!CQ18)","v":""},{"$f":"IF('Races, Positions & Points'!CT18=\"\",\"\",'Races, Positions & Points'!CT18)","v":""},{"$f":"IF('Races, Positions & Points'!CW18=\"\",\"\",'Races, Positions & Points'!CW18)","v":""},{"$f":"IF('Races, Positions & Points'!CZ18=\"\",\"\",'Races, Positions & Points'!CZ18)","v":""},{"$f":"IF('Races, Positions & Points'!DE18=\"\",\"\",'Races, Positions & Points'!DE18)","v":""},{"$f":"IF('Races, Positions & Points'!DH18=\"\",\"\",'Races, Positions & Points'!DH18)","v":""},{"$f":"IF('Races, Positions & Points'!DK18=\"\",\"\",'Races, Positions & Points'!DK18)","v":""},{"$f":"IF('Races, Positions & Points'!DN18=\"\",\"\",'Races, Positions & Points'!DN18)","v":""},{"$f":"IF('Races, Positions & Points'!DQ18=\"\",\"\",'Races, Positions & Points'!DQ18)","v":""},{"$f":"IF('Races, Positions & Points'!DT18=\"\",\"\",'Races, Positions & Points'!DT18)","v":""},{"$f":"IF('Races, Positions & Points'!DW18=\"\",\"\",'Races, Positions & Points'!DW18)","v":""},{"$f":"IF('Races, Positions & Points'!DZ18=\"\",\"\",'Races, Positions & Points'!DZ18)","v":""},{"$f":"IF('Races, Positions & Points'!EC18=\"\",\"\",'Races, Positions & Points'!EC18)","v":""},null,0,2,0,0,0,0,null,{"$f":"VLOOKUP(A18,'Races, Positions & Points'!$A$8:$E$76,5,FALSE)","v":20630}]
[{"$f":"'Races, Positions & Points'!A19","v":"Jack Upton"},{"$f":"IF('Races, Positions & Points'!P19=\"\",\"\",'Races, Positions & Points'!P19)","v":""},{"$f":"IF('Races, Positions & Points'!S19=\"\",\"\",'Races, Positions & Points'!S19)","v":""},{"$f":"IF('Races, Positions & Points'!T19=\"\",\"\",'Races, Positions & Points'!T19)","v":""},{"$f":"IF('Races, Positions & Points'!W19=\"\",\"\",'Races, Positions & Points'!W19)","v":""},{"$f":"IF('Races, Positions & Points'!X19=\"\",\"\",'Races, Positions & Points'!X19)","v":""},{"$f":"IF('Races, Positions & Points'!AA19=\"\",\"\",'Races, Positions & Points'!AA19)","v":""},{"$f":"IF('Races, Positions & Points'!AD19=\"\",\"\",'Races, Positions & Points'!AD19)","v":999.99},{"$f":"IF('Races, Positions & Points'!AG19=\"\",\"\",'Races, Positions & Points'!AG19)","v":""},{"$f":"IF('Races, Positions & Points'!AJ19=\"\",\"\",'Races, Positions & Points'!AJ19)","v":""},{"$f":"IF('Races, Positions & Points'!AM19=\"\",\"\",'Races, Positions & Points'!AM19)","v":""},{"$f":"IF('Races, Positions & Points'!AP19=\"\",\"\",'Races, Positions & Points'!AP19)","v":""},{"$f":"IF('Races, Positions & Points'!AS19=\"\",\"\",'Races, Positions & Points'!AS19)","v":""},{"$f":"IF('Races, Positions & Points'!AV19=\"\",\"\",'Races, Positions & Points'!AV19)","v":999.99},{"$f":"IF('Races, Positions & Points'!AW19=\"\",\"\",'Races, Positions & Points'!AW19)","v":999.99},{"$f":"IF('Races, Positions & Points'!AZ19=\"\",\"\",'Races, Positions & Points'!AZ19)","v":999.99},{"$f":"IF('Races, Positions & Points'!BC19=\"\",\"\",'Races, Positions & Points'!BC19)","v":999.99},{"$f":"IF('Races, Positions & Points'!BF19=\"\",\"\",'Races, Positions & Points'!BF19)","v":""},{"$f":"IF('Races, Positions & Points'!BI19=\"\",\"\",'Races, Positions & Points'!BI19)","v":999.99},{"$f":"IF('Races, Positions & Points'!BL19=\"\",\"\",'Races, Positions & Points'!BL19)","v":""},{"$f":"IF('Races, Positions & Points'!BO19=\"\",\"\",'Races, Positions & Points'!BO19)","v":999.99},{"$f":"IF('Races, Positions & Points'!BR19=\"\",\"\",'Races, Positions & Points'!BR19)","v":""},{"$f":"IF('Races, Positions & Points'!BU19=\"\",\"\",'Races, Positions & Points'!BU19)","v":""},{"$f":"IF('Races, Positions & Points'!BX19=\"\",\"\",'Races, Positions & Points'!BX19)","v":999.99},{"$f":"IF('Races, Positions & Points'!CA19=\"\",\"\",'Races, Positions & Points'!CA19)","v":999.99},{"$f":"IF('Races, Positions & Points'!CD19=\"\",\"\",'Races, Positions & Points'!CD19)","v":""},{"$f":"IF('Races, Positions & Points'!CE19=\"\",\"\",'Races, Positions & Points'!CE19)","v":""},{"$f":"IF('Races, Positions & Points'!CH19=\"\",\"\",'Races, Positions & Points'!CH19)","v":""},{"$f":"IF('Races, Positions & Points'!CK19=\"\",\"\",'Races, Positions & Points'!CK19)","v":999.99},{"$f":"IF('Races, Positions & Points'!CN19=\"\",\"\",'Races, Positions & Points'!CN19)","v":999.99},{"$f":"IF('Races, Positions & Points'!CQ19=\"\",\"\",'Races, Positions & Points'!CQ19)","v":999.99},{"$f":"IF('Races, Positions & Points'!CT19=\"\",\"\",'Races, Positions & Points'!CT19)","v":""},{"$f":"IF('Races, Positions & Points'!CW19=\"\",\"\",'Races, Positions & Points'!CW19)","v":""},{"$f":"IF('Races, Positions & Points'!CZ19=\"\",\"\",'Races, Positions & Points'!CZ19)","v":""},{"$f":"IF('Races, Positions & Points'!DE19=\"\",\"\",'Races, Positions & Points'!DE19)","v":999.99},{"$f":"IF('Races, Positions & Points'!DH19=\"\",\"\",'Races, Positions & Points'!DH19)","v":""},{"$f":"IF('Races, Positions & Points'!DK19=\"\",\"\",'Races, Positions & Points'!DK19)","v":999.99},{"$f":"IF('Races, Positions & Points'!DN19=\"\",\"\",'Races, Positions & Points'!DN19)","v":""},{"$f":"IF('Races, Positions & Points'!DQ19=\"\",\"\",'Races, Positions & Points'!DQ19)","v":999.99},{"$f":"IF('Races, Positions & Points'!DT19=\"\",\"\",'Races, Positions & Points'!DT19)","v":""},{"$f":"IF('Races, Positions & Points'!DW19=\"\",\"\",'Races, Positions & Points'!DW19)","v":""},{"$f":"IF('Races, Positions & Points'!DZ19=\"\",\"\",'Races, Positions & Points'!DZ19)","v":""},{"$f":"IF('Races, Positions & Points'!EC19=\"\",\"\",'Races, Positions & Points'!EC19)","v":""},null,1,6,0,3,1,3,null,{"$f":"VLOOKUP(A19,'Races, Positions & Points'!$A$8:$E$76,5,FALSE)","v":21052}]
[]
[{"$f":"'Races, Positions & Points'!A21","v":"Lucy Deller"},{"$f":"IF('Races, Positions & Points'!P21=\"\",\"\",'Races, Positions & Points'!P21)","v":116.79},{"$f":"IF('Races, Positions & Points'!S21=\"\",\"\",'Races, Positions & Points'!S21)","v":108.54},{"$f":"IF('Races, Positions & Points'!T21=\"\",\"\",'Races, Positions & Points'!T21)","v":117.18},{"$f":"IF('Races, Positions & Points'!W21=\"\",\"\",'Races, Positions & Points'!W21)","v":100.34},{"$f":"IF('Races, Positions & Points'!X21=\"\",\"\",'Races, Positions & Points'!X21)","v":122.89},{"$f":"IF('Races, Positions & Points'!AA21=\"\",\"\",'Races, Positions & Points'!AA21)","v":121.95},{"$f":"IF('Races, Positions & Points'!AD21=\"\",\"\",'Races, Positions & Points'!AD21)","v":80.11},{"$f":"IF('Races, Positions & Points'!AG21=\"\",\"\",'Races, Positions & Points'!AG21)","v":31.3},{"$f":"IF('Races, Positions & Points'!AJ21=\"\",\"\",'Races, Positions & Points'!AJ21)","v":45.53},{"$f":"IF('Races, Positions & Points'!AM21=\"\",\"\",'Races, Positions & Points'!AM21)","v":98.64},{"$f":"IF('Races, Positions & Points'!AP21=\"\",\"\",'Races, Positions & Points'!AP21)","v":78.77},{"$f":"IF('Races, Positions & Points'!AS21=\"\",\"\",'Races, Positions & Points'!AS21)","v":43.87},{"$f":"IF('Races, Positions & Points'!AV21=\"\",\"\",'Races, Positions & Points'!AV21)","v":""},{"$f":"IF('Races, Positions & Points'!AW21=\"\",\"\",'Races, Positions & Points'!AW21)","v":""},{"$f":"IF('Races, Positions & Points'!AZ21=\"\",\"\",'Races, Positions & Points'!AZ21)","v":25.01},{"$f":"IF('Races, Positions & Points'!BC21=\"\",\"\",'Races, Positions & Points'!BC21)","v":26.15},{"$f":"IF('Races, Positions & Points'!BF21=\"\",\"\",'Races, Positions & Points'!BF21)","v":""},{"$f":"IF('Races, Positions & Points'!BI21=\"\",\"\",'Races, Positions & Points'!BI21)","v":26.36},{"$f":"IF('Races, Positions & Points'!BL21=\"\",\"\",'Races, Positions & Points'!BL21)","v":""},{"$f":"IF('Races, Positions & Points'!BO21=\"\",\"\",'Races, Positions & Points'!BO21)","v":35.950000000000003},{"$f":"IF('Races, Positions & Points'!BR21=\"\",\"\",'Races, Positions & Points'!BR21)","v":77.2},{"$f":"IF('Races, Positions & Points'!BU21=\"\",\"\",'Races, Positions & Points'!BU21)","v":74.8},{"$f":"IF('Races, Positions & Points'!BX21=\"\",\"\",'Races, Positions & Points'!BX21)","v":97.23},{"$f":"IF('Races, Positions & Points'!CA21=\"\",\"\",'Races, Positions & Points'!CA21)","v":56.72},{"$f":"IF('Races, Positions & Points'!CD21=\"\",\"\",'Races, Positions & Points'!CD21)","v":""},{"$f":"IF('Races, Positions & Points'!CE21=\"\",\"\",'Races, Positions & Points'!CE21)","v":""},{"$f":"IF('Races, Positions & Points'!CH21=\"\",\"\",'Races, Positions & Points'!CH21)","v":999.99},{"$f":"IF('Races, Positions & Points'!CK21=\"\",\"\",'Races, Positions & Points'!CK21)","v":""},{"$f":"IF('Races, Positions & Points'!CN21=\"\",\"\",'Races, Positions & Points'!CN21)","v":37.54},{"$f":"IF('Races, Positions & Points'!CQ21=\"\",\"\",'Races, Positions & Points'!CQ21)","v":36.18},{"$f":"IF('Races, Positions & Points'!CT21=\"\",\"\",'Races, Positions & Points'!CT21)","v":68.48},{"$f":"IF('Races, Positions & Points'!CW21=\"\",\"\",'Races, Positions & Points'!CW21)","v":68.3},{"$f":"IF('Races, Positions & Points'!CZ21=\"\",\"\",'Races, Positions & Points'!CZ21)","v":""},{"$f":"IF('Races, Positions & Points'!DE21=\"\",\"\",'Races, Positions & Points'!DE21)","v":999.99},{"$f":"IF('Races, Positions & Points'!DH21=\"\",\"\",'Races, Positions & Points'!DH21)","v":69.540000000000006},{"$f":"IF('Races, Positions & Points'!DK21=\"\",\"\",'Races, Positions & Points'!DK21)","v":999.99},{"$f":"IF('Races, Positions & Points'!DN21=\"\",\"\",'Races, Positions & Points'!DN21)","v":""},{"$f":"IF('Races, Positions & Points'!DQ21=\"\",\"\",'Races, Positions & Points'!DQ21)","v":53.39},{"$f":"IF('Races, Positions & Points'!DT21=\"\",\"\",'Races, Positions & Points'!DT21)","v":78.8},{"$f":"IF('Races, Positions & Points'!DW21=\"\",\"\",'Races, Positions & Points'!DW21)","v":999.99},{"$f":"IF('Races, Positions & Points'!DZ21=\"\",\"\",'Races, Positions & Points'!DZ21)","v":81.599999999999994},{"$f":"IF('Races, Positions & Points'!EC21=\"\",\"\",'Races, Positions & Points'!EC21)","v":57.22},null,{"$f":"COUNTIFS(B$4:AQ$4,\"=In\",B$3:AQ$3,\"=10\",B$5:AQ$5,\"=Y\",B21:AQ21,\">0\")","v":2},{"$f":"COUNTIFS(B$4:AQ$4,\"=Out\",B$3:AQ$3,\"=10\",B$5:AQ$5,\"=Y\",B21:AQ21,\">0\")","v":8},{"$f":"COUNTIFS(B$4:AQ$4,\"=In\",B$3:AQ$3,\"=5\",B$5:AQ$5,\"=Y\",B21:AQ21,\">0\")","v":6},{"$f":"COUNTIFS(B$4:AQ$4,\"=Out\",B$3:AQ$3,\"=5\",B$5:AQ$5,\"=Y\",B21:AQ21,\">0\")","v":6},{"$f":"COUNTIFS(B$4:AQ$4,\"=In\",B$3:AQ$3,\"=0\",B$5:AQ$5,\"=Y\",B21:AQ21,\">0\")","v":4},{"$f":"COUNTIFS(B$4:AQ$4,\"=Out\",B$3:AQ$3,\"=0\",B$5:AQ$5,\"=Y\",B21:AQ21,\">0\")","v":5},null,{"$f":"VLOOKUP(A21,'Races, Positions & Points'!$A$8:$E$76,5,FALSE)","v":17888},{"$f":"VLOOKUP(AZ21,'Start of Year Points'!$A$2:$I$1998,9,FALSE)","v":15.68},{"$f":"IF(MIN(BK21:BW21)<999.99,IF(MIN(BK21:BW21)>0,MIN(BK21:BW21),\"\"),\"\")","v":25.01},{"$f":"IF(ISERROR(SMALL(BK21:BW21,2)),\"\",SMALL(BK21:BW21,2))","v":26.36},{"$f":"IF(ISERROR(SMALL(BK21:BW21,2)),\"\",ROUND(AVERAGE(BB21,BC21),2))","v":25.69},{"$f":"IF(BA21<999.99,IF(AVERAGE(BA21,BB21)>0,ROUND(AVERAGE(BA21,BB21),2),\"\"),\"\")","v":20.350000000000001},{"$f":"IF(ISERROR(BB21*1.2),\"\",IF(BB21<50,BB21+10,ROUND(BB21*1.2,2)))","v":35.010000000000005},{"$f":"MIN(BA21,BD21,BE21,BF21)","v":15.68},{"$f":"IF(BA21*0.2<10,BA21+10,IF(BA21*1.2>999.99,999.99,ROUND(BA21*1.2,2)))","v":25.68},{"$f":"MIN(BD21,BF21,BH21)","v":25.68},null,{"$f":"IF(MIN(B21,X21,Y21,AD21,AE21,AI21)>0,MIN(B21,X21,Y21,AD21,AE21,AI21),\"\")","v":36.18},{"$f":"IF(MIN(C21,D21,E21,F21,K21,L21,AF21,AG21,AN21,AQ21)>0,MIN(C21,D21,E21,F21,K21,L21,AF21,AG21,AN21,AQ21),\"\")","v":57.22},{"$f":"IF(MIN(G21,H21,N21)>0,MIN(G21,H21,N21),\"\")","v":80.11},{"$f":"IF(MIN(I21,J21,P21,Q21)>0,MIN(I21,J21,P21,Q21),\"\")","v":25.01},{"$f":"IF(M21>0,M21,\"\")","v":43.87},{"$f":"IF(MIN(S21,AM21)>0,MIN(S21,AM21),\"\")","v":26.36},{"$f":"IF(U21>0,U21,\"\")","v":35.950000000000003},{"$f":"IF(R21>0,R21,\"\")","v":""},{"$f":"IF(MIN(T21,AH21,AL21)>0,MIN(T21,AH21,AL21),\"\")","v":""},{"$f":"IF(MIN(V21,W21)>0,MIN(V21,W21),\"\")","v":74.8},{"$f":"IF(MIN(Z21,AA21)>0,MIN(Z21,AA21),\"\")","v":""},{"$f":"IF(MIN(AB21,AC21,AJ21,AK21)>0,MIN(AB21,AC21,AJ21,AK21),\"\")","v":69.540000000000006},{"$f":"IF(MIN(AO21,AP21)>0,MIN(AO21,AP21),\"\")","v":81.599999999999994},null,null,{"$f":"IF(MIN(CE21:CM21)>0,MIN(CE21:CM21),\"\")","v":31.3},{"$f":"IF(ISERROR(SMALL(CE21:CM21,2)),\"\",SMALL(CE21:CM21,2))","v":36.18},{"$f":"IF(ISERROR(SMALL(CE21:CM21,2)),\"\",AVERAGE(BZ21,CA21))","v":33.74},{"$f":"IF(ISERROR(BZ21*1.2),\"\",IF(BZ21<50,BZ21+10,BZ21*1.2))","v":41.3},null,{"$f":"IF(MIN(AD21,AE21,AI21)>0,MIN(B21,AD21,AE21,AI21),\"\")","v":36.18},{"$f":"IF(MIN(K21,L21,AF21,AG21,AN21,AQ21)>0,MIN(K21,L21,AF21,AG21,AN21,AQ21),\"\")","v":57.22},{"$f":"IF(MIN(G21,H21)>0,MIN(G21,H21),\"\")","v":80.11},{"$f":"IF(MIN(I21,J21)>0,MIN(I21,J21),\"\")","v":31.3},{"$f":"IF(AM21>0,AM21,\"\")","v":53.39},{"$f":"IF(AH21>0,AH21,\"\")","v":""},{"$f":"IF(MIN(V21,W21)>0,MIN(V21,W21),\"\")","v":74.8},{"$f":"IF(MIN(AB21,AC21,AJ21,AK21)>0,MIN(AB21,AC21,AJ21,AK21),\"\")","v":69.540000000000006},{"$f":"IF(MIN(AO21,AP21)>0,MIN(AO21,AP21),\"\")","v":81.599999999999994}]
[{"$f":"'Races, Positions & Points'!A22","v":"Rowan Vernon"},{"$f":"IF('Races, Positions & Points'!P22=\"\",\"\",'Races, Positions & Points'!P22)","v":""},{"$f":"IF('Races, Positions & Points'!S22=\"\",\"\",'Races, Positions & Points'!S22)","v":""},{"$f":"IF('Races, Positions & Points'!T22=\"\",\"\",'Races, Positions & Points'!T22)","v":""},{"$f":"IF('Races, Positions & Points'!W22=\"\",\"\",'Races, Positions & Points'!W22)","v":""},{"$f":"IF('Races, Positions & Points'!X22=\"\",\"\",'Races, Positions & Points'!X22)","v":""},{"$f":"IF('Races, Positions & Points'!AA22=\"\",\"\",'Races, Positions & Points'!AA22)","v":""},{"$f":"IF('Races, Positions & Points'!AD22=\"\",\"\",'Races, Positions & Points'!AD22)","v":""},{"$f":"IF('Races, Positions & Points'!AG22=\"\",\"\",'Races, Positions & Points'!AG22)","v":""},{"$f":"IF('Races, Positions & Points'!AJ22=\"\",\"\",'Races, Positions & Points'!AJ22)","v":""},{"$f":"IF('Races, Positions & Points'!AM22=\"\",\"\",'Races, Positions & Points'!AM22)","v":""},{"$f":"IF('Races, Positions & Points'!AP22=\"\",\"\",'Races, Positions & Points'!AP22)","v":""},{"$f":"IF('Races, Positions & Points'!AS22=\"\",\"\",'Races, Positions & Points'!AS22)","v":""},{"$f":"IF('Races, Positions & Points'!AV22=\"\",\"\",'Races, Positions & Points'!AV22)","v":""},{"$f":"IF('Races, Positions & Points'!AW22=\"\",\"\",'Races, Positions & Points'!AW22)","v":""},{"$f":"IF('Races, Positions & Points'!AZ22=\"\",\"\",'Races, Positions & Points'!AZ22)","v":""},{"$f":"IF('Races, Positions & Points'!BC22=\"\",\"\",'Races, Positions & Points'!BC22)","v":""},{"$f":"IF('Races, Positions & Points'!BF22=\"\",\"\",'Races, Positions & Points'!BF22)","v":""},{"$f":"IF('Races, Positions & Points'!BI22=\"\",\"\",'Races, Positions & Points'!BI22)","v":""},{"$f":"IF('Races, Positions & Points'!BL22=\"\",\"\",'Races, Positions & Points'!BL22)","v":""},{"$f":"IF('Races, Positions & Points'!BO22=\"\",\"\",'Races, Positions & Points'!BO22)","v":""},{"$f":"IF('Races, Positions & Points'!BR22=\"\",\"\",'Races, Positions & Points'!BR22)","v":""},{"$f":"IF('Races, Positions & Points'!BU22=\"\",\"\",'Races, Positions & Points'!BU22)","v":""},{"$f":"IF('Races, Positions & Points'!BX22=\"\",\"\",'Races, Positions & Points'!BX22)","v":""},{"$f":"IF('Races, Positions & Points'!CA22=\"\",\"\",'Races, Positions & Points'!CA22)","v":""},{"$f":"IF('Races, Positions & Points'!CD22=\"\",\"\",'Races, Positions & Points'!CD22)","v":""},{"$f":"IF('Races, Positions & Points'!CE22=\"\",\"\",'Races, Positions & Points'!CE22)","v":""},{"$f":"IF('Races, Positions & Points'!CH22=\"\",\"\",'Races, Positions & Points'!CH22)","v":""},{"$f":"IF('Races, Positions & Points'!CK22=\"\",\"\",'Races, Positions & Points'!CK22)","v":""},{"$f":"IF('Races, Positions & Points'!CN22=\"\",\"\",'Races, Positions & Points'!CN22)","v":""},{"$f":"IF('Races, Positions & Points'!CQ22=\"\",\"\",'Races, Positions & Points'!CQ22)","v":""},{"$f":"IF('Races, Positions & Points'!CT22=\"\",\"\",'Races, Positions & Points'!CT22)","v":""},{"$f":"IF('Races, Positions & Points'!CW22=\"\",\"\",'Races, Positions & Points'!CW22)","v":""},{"$f":"IF('Races, Positions & Points'!CZ22=\"\",\"\",'Races, Positions & Points'!CZ22)","v":""},{"$f":"IF('Races, Positions & Points'!DE22=\"\",\"\",'Races, Positions & Points'!DE22)","v":""},{"$f":"IF('Races, Positions & Points'!DH22=\"\",\"\",'Races, Positions & Points'!DH22)","v":""},{"$f":"IF('Races, Positions & Points'!DK22=\"\",\"\",'Races, Positions & Points'!DK22)","v":""},{"$f":"IF('Races, Positions & Points'!DN22=\"\",\"\",'Races, Positions & Points'!DN22)","v":""},{"$f":"IF('Races, Positions & Points'!DQ22=\"\",\"\",'Races, Positions & Points'!DQ22)","v":""},{"$f":"IF('Races, Positions & Points'!DT22=\"\",\"\",'Races, Positions & Points'!DT22)","v":""},{"$f":"IF('Races, Positions & Points'!DW22=\"\",\"\",'Races, Positions & Points'!DW22)","v":""},{"$f":"IF('Races, Positions & Points'!DZ22=\"\",\"\",'Races, Positions & Points'!DZ22)","v":""},{"$f":"IF('Races, Positions & Points'!EC22=\"\",\"\",'Races, Positions & Points'!EC22)","v":""},null,0,0,0,0,0,0,null,{"$f":"VLOOKUP(A22,'Races, Positions & Points'!$A$8:$E$76,5,FALSE)","v":13381},{"$f":"VLOOKUP(AZ22,'Start of Year Points'!$A$2:$I$1998,9,FALSE)","v":22.84},"","",{"$f":"IF(ISERROR(SMALL(BK22:BW22,2)),\"\",ROUND(AVERAGE(BB22,BC22),2))","v":""},{"$f":"IF(BA22<999.99,IF(AVERAGE(BA22,BB22)>0,ROUND(AVERAGE(BA22,BB22),2),\"\"),\"\")","v":22.84},{"$f":"IF(ISERROR(BB22*1.2),\"\",IF(BB22<50,BB22+10,ROUND(BB22*1.2,2)))","v":""},{"$f":"MIN(BA22,BD22,BE22,BF22)","v":22.84},{"$f":"IF(BA22*0.2<10,BA22+10,IF(BA22*1.2>999.99,999.99,ROUND(BA22*1.2,2)))","v":32.840000000000003},{"$f":"MIN(BD22,BF22,BH22)","v":32.840000000000003},null,{"$f":"IF(MIN(B22,X22,Y22,AD22,AE22,AI22)>0,MIN(B22,X22,Y22,AD22,AE22,AI22),\"\")","v":""},{"$f":"IF(MIN(C22,D22,E22,F22,K22,L22,AF22,AG22,AN22,AQ22)>0,MIN(C22,D22,E22,F22,K22,L22,AF22,AG22,AN22,AQ22),\"\")","v":""},{"$f":"IF(MIN(G22,H22,N22)>0,MIN(G22,H22,N22),\"\")","v":""},{"$f":"IF(MIN(I22,J22,P22,Q22)>0,MIN(I22,J22,P22,Q22),\"\")","v":""},{"$f":"IF(M22>0,M22,\"\")","v":""},{"$f":"IF(MIN(S22,AM22)>0,MIN(S22,AM22),\"\")","v":""},{"$f":"IF(U22>0,U22,\"\")","v":""},{"$f":"IF(R22>0,R22,\"\")","v":""},{"$f":"IF(MIN(T22,AH22,AL22)>0,MIN(T22,AH22,AL22),\"\")","v":""},{"$f":"IF(MIN(V22,W22)>0,MIN(V22,W22),\"\")","v":""},{"$f":"IF(MIN(Z22,AA22)>0,MIN(Z22,AA22),\"\")","v":""},{"$f":"IF(MIN(AB22,AC22,AJ22,AK22)>0,MIN(AB22,AC22,AJ22,AK22),\"\")","v":""},{"$f":"IF(MIN(AO22,AP22)>0,MIN(AO22,AP22),\"\")","v":""},null,null,{"$f":"IF(MIN(CE22:CM22)>0,MIN(CE22:CM22),\"\")","v":""},{"$f":"IF(ISERROR(SMALL(CE22:CM22,2)),\"\",SMALL(CE22:CM22,2))","v":""},{"$f":"IF(ISERROR(SMALL(CE22:CM22,2)),\"\",AVERAGE(BZ22,CA22))","v":""},{"$f":"IF(ISERROR(BZ22*1.2),\"\",IF(BZ22<50,BZ22+10,BZ22*1.2))","v":""},null,"","",{"$f":"IF(MIN(G22,H22)>0,MIN(G22,H22),\"\")","v":""},{"$f":"IF(MIN(I22,J22)>0,MIN(I22,J22),\"\")","v":""},{"$f":"IF(AM22>0,AM22,\"\")","v":""},{"$f":"IF(AH22>0,AH22,\"\")","v":""},{"$f":"IF(MIN(V22,W22)>0,MIN(V22,W22),\"\")","v":""},"",{"$f":"IF(MIN(AO22,AP22)>0,MIN(AO22,AP22),\"\")","v":""}]
[{"$f":"'Races, Positions & Points'!A23","v":"Rachel Bill"},{"$f":"IF('Races, Positions & Points'!P23=\"\",\"\",'Races, Positions & Points'!P23)","v":999.99},{"$f":"IF('Races, Positions & Points'!S23=\"\",\"\",'Races, Positions & Points'!S23)","v":""},{"$f":"IF('Races, Positions & Points'!T23=\"\",\"\",'Races, Positions & Points'!T23)","v":""},{"$f":"IF('Races, Positions & Points'!W23=\"\",\"\",'Races, Positions & Points'!W23)","v":""},{"$f":"IF('Races, Positions & Points'!X23=\"\",\"\",'Races, Positions & Points'!X23)","v":""},{"$f":"IF('Races, Positions & Points'!AA23=\"\",\"\",'Races, Positions & Points'!AA23)","v":""},{"$f":"IF('Races, Positions & Points'!AD23=\"\",\"\",'Races, Positions & Points'!AD23)","v":""},{"$f":"IF('Races, Positions & Points'!AG23=\"\",\"\",'Races, Positions & Points'!AG23)","v":""},{"$f":"IF('Races, Positions & Points'!AJ23=\"\",\"\",'Races, Positions & Points'!AJ23)","v":""},{"$f":"IF('Races, Positions & Points'!AM23=\"\",\"\",'Races, Positions & Points'!AM23)","v":""},{"$f":"IF('Races, Positions & Points'!AP23=\"\",\"\",'Races, Positions & Points'!AP23)","v":79.430000000000007},{"$f":"IF('Races, Positions & Points'!AS23=\"\",\"\",'Races, Positions & Points'!AS23)","v":""},{"$f":"IF('Races, Positions & Points'!AV23=\"\",\"\",'Races, Positions & Points'!AV23)","v":""},{"$f":"IF('Races, Positions & Points'!AW23=\"\",\"\",'Races, Positions & Points'!AW23)","v":""},{"$f":"IF('Races, Positions & Points'!AZ23=\"\",\"\",'Races, Positions & Points'!AZ23)","v":25.68},{"$f":"IF('Races, Positions & Points'!BC23=\"\",\"\",'Races, Positions & Points'!BC23)","v":25.28},{"$f":"IF('Races, Positions & Points'!BF23=\"\",\"\",'Races, Positions & Points'!BF23)","v":""},{"$f":"IF('Races, Positions & Points'!BI23=\"\",\"\",'Races, Positions & Points'!BI23)","v":22.33},{"$f":"IF('Races, Positions & Points'!BL23=\"\",\"\",'Races, Positions & Points'!BL23)","v":""},{"$f":"IF('Races, Positions & Points'!BO23=\"\",\"\",'Races, Positions & Points'!BO23)","v":25.41},{"$f":"IF('Races, Positions & Points'!BR23=\"\",\"\",'Races, Positions & Points'!BR23)","v":""},{"$f":"IF('Races, Positions & Points'!BU23=\"\",\"\",'Races, Positions & Points'!BU23)","v":""},{"$f":"IF('Races, Positions & Points'!BX23=\"\",\"\",'Races, Positions & Points'!BX23)","v":999.99},{"$f":"IF('Races, Positions & Points'!CA23=\"\",\"\",'Races, Positions & Points'!CA23)","v":999.99},{"$f":"IF('Races, Positions & Points'!CD23=\"\",\"\",'Races, Positions & Points'!CD23)","v":""},{"$f":"IF('Races, Positions & Points'!CE23=\"\",\"\",'Races, Positions & Points'!CE23)","v":""},{"$f":"IF('Races, Positions & Points'!CH23=\"\",\"\",'Races, Positions & Points'!CH23)","v":""},{"$f":"IF('Races, Positions & Points'!CK23=\"\",\"\",'Races, Positions & Points'!CK23)","v":999.99},{"$f":"IF('Races, Positions & Points'!CN23=\"\",\"\",'Races, Positions & Points'!CN23)","v":999.99},{"$f":"IF('Races, Positions & Points'!CQ23=\"\",\"\",'Races, Positions & Points'!CQ23)","v":""},{"$f":"IF('Races, Positions & Points'!CT23=\"\",\"\",'Races, Positions & Points'!CT23)","v":""},{"$f":"IF('Races, Positions & Points'!CW23=\"\",\"\",'Races, Positions & Points'!CW23)","v":""},{"$f":"IF('Races, Positions & Points'!CZ23=\"\",\"\",'Races, Positions & Points'!CZ23)","v":""},{"$f":"IF('Races, Positions & Points'!DE23=\"\",\"\",'Races, Positions & Points'!DE23)","v":999.99},{"$f":"IF('Races, Positions & Points'!DH23=\"\",\"\",'Races, Positions & Points'!DH23)","v":""},{"$f":"IF('Races, Positions & Points'!DK23=\"\",\"\",'Races, Positions & Points'!DK23)","v":""},{"$f":"IF('Races, Positions & Points'!DN23=\"\",\"\",'Races, Positions & Points'!DN23)","v":""},{"$f":"IF('Races, Positions & Points'!DQ23=\"\",\"\",'Races, Positions & Points'!DQ23)","v":999.99},{"$f":"IF('Races, Positions & Points'!DT23=\"\",\"\",'Races, Positions & Points'!DT23)","v":""},{"$f":"IF('Races, Positions & Points'!DW23=\"\",\"\",'Races, Positions & Points'!DW23)","v":""},{"$f":"IF('Races, Positions & Points'!DZ23=\"\",\"\",'Races, Positions & Points'!DZ23)","v":""},{"$f":"IF('Races, Positions & Points'!EC23=\"\",\"\",'Races, Positions & Points'!EC23)","v":""},null,0,7,1,2,0,2,null,{"$f":"VLOOKUP(A23,'Races, Positions & Points'!$A$8:$E$76,5,FALSE)","v":20168},{"$f":"VLOOKUP(AZ23,'Start of Year Points'!$A$2:$I$1998,9,FALSE)","v":33.85},22.33,25.28,23.81,28.09,32.33,23.81,43.85,23.81,null,999.99,79.430000000000007,"",25.28,"",22.33,25.41,"","","","",999.99,"",null,null,79.430000000000007,999.99,539.71,95.316000000000003,null,999.99,79.430000000000007,"","",999.99,"","",999.99,""]
[{"$f":"'Races, Positions & Points'!A24","v":"Helena Newboult"},{"$f":"IF('Races, Positions & Points'!P24=\"\",\"\",'Races, Positions & Points'!P24)","v":77.48},{"$f":"IF('Races, Positions & Points'!S24=\"\",\"\",'Races, Positions & Points'!S24)","v":94.58},{"$f":"IF('Races, Positions & Points'!T24=\"\",\"\",'Races, Positions & Points'!T24)","v":111.63},{"$f":"IF('Races, Positions & Points'!W24=\"\",\"\",'Races, Positions & Points'!W24)","v":95.03},{"$f":"IF('Races, Positions & Points'!X24=\"\",\"\",'Races, Positions & Points'!X24)","v":103.49},{"$f":"IF('Races, Positions & Points'!AA24=\"\",\"\",'Races, Positions & Points'!AA24)","v":""},{"$f":"IF('Races, Positions & Points'!AD24=\"\",\"\",'Races, Positions & Points'!AD24)","v":""},{"$f":"IF('Races, Positions & Points'!AG24=\"\",\"\",'Races, Positions & Points'!AG24)","v":83.32},{"$f":"IF('Races, Positions & Points'!AJ24=\"\",\"\",'Races, Positions & Points'!AJ24)","v":999.99},{"$f":"IF('Races, Positions & Points'!AM24=\"\",\"\",'Races, Positions & Points'!AM24)","v":""},{"$f":"IF('Races, Positions & Points'!AP24=\"\",\"\",'Races, Positions & Points'!AP24)","v":""},{"$f":"IF('Races, Positions & Points'!AS24=\"\",\"\",'Races, Positions & Points'!AS24)","v":""},{"$f":"IF('Races, Positions & Points'!AV24=\"\",\"\",'Races, Positions & Points'!AV24)","v":""},{"$f":"IF('Races, Positions & Points'!AW24=\"\",\"\",'Races, Positions & Points'!AW24)","v":""},{"$f":"IF('Races, Positions & Points'!AZ24=\"\",\"\",'Races, Positions & Points'!AZ24)","v":36.28},{"$f":"IF('Races, Positions & Points'!BC24=\"\",\"\",'Races, Positions & Points'!BC24)","v":38.76},{"$f":"IF('Races, Positions & Points'!BF24=\"\",\"\",'Races, Positions & Points'!BF24)","v":""},{"$f":"IF('Races, Positions & Points'!BI24=\"\",\"\",'Races, Positions & Points'!BI24)","v":27.26},{"$f":"IF('Races, Positions & Points'!BL24=\"\",\"\",'Races, Positions & Points'!BL24)","v":""},{"$f":"IF('Races, Positions & Points'!BO24=\"\",\"\",'Races, Positions & Points'!BO24)","v":27.52},{"$f":"IF('Races, Positions & Points'!BR24=\"\",\"\",'Races, Positions & Points'!BR24)","v":""},{"$f":"IF('Races, Positions & Points'!BU24=\"\",\"\",'Races, Positions & Points'!BU24)","v":""},{"$f":"IF('Races, Positions & Points'!BX24=\"\",\"\",'Races, Positions & Points'!BX24)","v":113.48},{"$f":"IF('Races, Positions & Points'!CA24=\"\",\"\",'Races, Positions & Points'!CA24)","v":66.59},{"$f":"IF('Races, Positions & Points'!CD24=\"\",\"\",'Races, Positions & Points'!CD24)","v":""},{"$f":"IF('Races, Positions & Points'!CE24=\"\",\"\",'Races, Positions & Points'!CE24)","v":""},{"$f":"IF('Races, Positions & Points'!CH24=\"\",\"\",'Races, Positions & Points'!CH24)","v":""},{"$f":"IF('Races, Positions & Points'!CK24=\"\",\"\",'Races, Positions & Points'!CK24)","v":""},{"$f":"IF('Races, Positions & Points'!CN24=\"\",\"\",'Races, Positions & Points'!CN24)","v":""},{"$f":"IF('Races, Positions & Points'!CQ24=\"\",\"\",'Races, Positions & Points'!CQ24)","v":""},{"$f":"IF('Races, Positions & Points'!CT24=\"\",\"\",'Races, Positions & Points'!CT24)","v":""},{"$f":"IF('Races, Positions & Points'!CW24=\"\",\"\",'Races, Positions & Points'!CW24)","v":""},{"$f":"IF('Races, Positions & Points'!CZ24=\"\",\"\",'Races, Positions & Points'!CZ24)","v":""},{"$f":"IF('Races, Positions & Points'!DE24=\"\",\"\",'Races, Positions & Points'!DE24)","v":999.99},{"$f":"IF('Races, Positions & Points'!DH24=\"\",\"\",'Races, Positions & Points'!DH24)","v":""},{"$f":"IF('Races, Positions & Points'!DK24=\"\",\"\",'Races, Positions & Points'!DK24)","v":""},{"$f":"IF('Races, Positions & Points'!DN24=\"\",\"\",'Races, Positions & Points'!DN24)","v":""},{"$f":"IF('Races, Positions & Points'!DQ24=\"\",\"\",'Races, Positions & Points'!DQ24)","v":61.96},{"$f":"IF('Races, Positions & Points'!DT24=\"\",\"\",'Races, Positions & Points'!DT24)","v":""},{"$f":"IF('Races, Positions & Points'!DW24=\"\",\"\",'Races, Positions & Points'!DW24)","v":""},{"$f":"IF('Races, Positions & Points'!DZ24=\"\",\"\",'Races, Positions & Points'!DZ24)","v":""},{"$f":"IF('Races, Positions & Points'!EC24=\"\",\"\",'Races, Positions & Points'!EC24)","v":""},null,2,7,0,2,0,2,null,{"$f":"VLOOKUP(A24,'Races, Positions & Points'!$A$8:$E$76,5,FALSE)","v":20696},{"$f":"VLOOKUP(AZ24,'Start of Year Points'!$A$2:$I$1998,9,FALSE)","v":30.53},27.26,27.52,27.39,28.9,37.260000000000005,27.39,40.53,27.39,null,66.59,94.58,"",36.28,"",27.26,27.52,"","","","","","",null,null,61.96,77.48,69.72,74.352000000000004,null,77.48,"","",83.32,61.96,"","","",""]
[{"$f":"'Races, Positions & Points'!A25","v":"Amy Middleton"},{"$f":"IF('Races, Positions & Points'!P25=\"\",\"\",'Races, Positions & Points'!P25)","v":78.33},{"$f":"IF('Races, Positions & Points'!S25=\"\",\"\",'Races, Positions & Points'!S25)","v":103.04},{"$f":"IF('Races, Positions & Points'!T25=\"\",\"\",'Races, Positions & Points'!T25)","v":133.4},{"$f":"IF('Races, Positions & Points'!W25=\"\",\"\",'Races, Positions & Points'!W25)","v":""},{"$f":"IF('Races, Positions & Points'!X25=\"\",\"\",'Races, Positions & Points'!X25)","v":""},{"$f":"IF('Races, Positions & Points'!AA25=\"\",\"\",'Races, Positions & Points'!AA25)","v":""},{"$f":"IF('Races, Positions & Points'!AD25=\"\",\"\",'Races, Positions & Points'!AD25)","v":""},{"$f":"IF('Races, Positions & Points'!AG25=\"\",\"\",'Races, Positions & Points'!AG25)","v":999.99},{"$f":"IF('Races, Positions & Points'!AJ25=\"\",\"\",'Races, Positions & Points'!AJ25)","v":101.75},{"$f":"IF('Races, Positions & Points'!AM25=\"\",\"\",'Races, Positions & Points'!AM25)","v":""},{"$f":"IF('Races, Positions & Points'!AP25=\"\",\"\",'Races, Positions & Points'!AP25)","v":""},{"$f":"IF('Races, Positions & Points'!AS25=\"\",\"\",'Races, Positions & Points'!AS25)","v":""},{"$f":"IF('Races, Positions & Points'!AV25=\"\",\"\",'Races, Positions & Points'!AV25)","v":""},{"$f":"IF('Races, Positions & Points'!AW25=\"\",\"\",'Races, Positions & Points'!AW25)","v":""},{"$f":"IF('Races, Positions & Points'!AZ25=\"\",\"\",'Races, Positions & Points'!AZ25)","v":54.55},{"$f":"IF('Races, Positions & Points'!BC25=\"\",\"\",'Races, Positions & Points'!BC25)","v":41.15},{"$f":"IF('Races, Positions & Points'!BF25=\"\",\"\",'Races, Positions & Points'!BF25)","v":""},{"$f":"IF('Races, Positions & Points'!BI25=\"\",\"\",'Races, Positions & Points'!BI25)","v":""},{"$f":"IF('Races, Positions & Points'!BL25=\"\",\"\",'Races, Positions & Points'!BL25)","v":""},{"$f":"IF('Races, Positions & Points'!BO25=\"\",\"\",'Races, Positions & Points'!BO25)","v":""},{"$f":"IF('Races, Positions & Points'!BR25=\"\",\"\",'Races, Positions & Points'!BR25)","v":""},{"$f":"IF('Races, Positions & Points'!BU25=\"\",\"\",'Races, Positions & Points'!BU25)","v":""},{"$f":"IF('Races, Positions & Points'!BX25=\"\",\"\",'Races, Positions & Points'!BX25)","v":999.99},{"$f":"IF('Races, Positions & Points'!CA25=\"\",\"\",'Races, Positions & Points'!CA25)","v":64.47},{"$f":"IF('Races, Positions & Points'!CD25=\"\",\"\",'Races, Positions & Points'!CD25)","v":""},{"$f":"IF('Races, Positions & Points'!CE25=\"\",\"\",'Races, Positions & Points'!CE25)","v":""},{"$f":"IF('Races, Positions & Points'!CH25=\"\",\"\",'Races, Positions & Points'!CH25)","v":999.99},{"$f":"IF('Races, Positions & Points'!CK25=\"\",\"\",'Races, Positions & Points'!CK25)","v":999.99},{"$f":"IF('Races, Positions & Points'!CN25=\"\",\"\",'Races, Positions & Points'!CN25)","v":72.75},{"$f":"IF('Races, Positions & Points'!CQ25=\"\",\"\",'Races, Positions & Points'!CQ25)","v":68.98},{"$f":"IF('Races, Positions & Points'!CT25=\"\",\"\",'Races, Positions & Points'!CT25)","v":""},{"$f":"IF('Races, Positions & Points'!CW25=\"\",\"\",'Races, Positions & Points'!CW25)","v":""},{"$f":"IF('Races, Positions & Points'!CZ25=\"\",\"\",'Races, Positions & Points'!CZ25)","v":""},{"$f":"IF('Races, Positions & Points'!DE25=\"\",\"\",'Races, Positions & Points'!DE25)","v":999.99},{"$f":"IF('Races, Positions & Points'!DH25=\"\",\"\",'Races, Positions & Points'!DH25)","v":87.35},{"$f":"IF('Races, Positions & Points'!DK25=\"\",\"\",'Races, Positions & Points'!DK25)","v":117.19},{"$f":"IF('Races, Positions & Points'!DN25=\"\",\"\",'Races, Positions & Points'!DN25)","v":""},{"$f":"IF('Races, Positions & Points'!DQ25=\"\",\"\",'Races, Positions & Points'!DQ25)","v":97.33},{"$f":"IF('Races, Positions & Points'!DT25=\"\",\"\",'Races, Positions & Points'!DT25)","v":""},{"$f":"IF('Races, Positions & Points'!DW25=\"\",\"\",'Races, Positions & Points'!DW25)","v":""},{"$f":"IF('Races, Positions & Points'!DZ25=\"\",\"\",'Races, Positions & Points'!DZ25)","v":""},{"$f":"IF('Races, Positions & Points'!EC25=\"\",\"\",'Races, Positions & Points'!EC25)","v":""},null,1,5,0,7,0,3,null,{"$f":"VLOOKUP(A25,'Races, Positions & Points'!$A$8:$E$76,5,FALSE)","v":20307},{"$f":"VLOOKUP(AZ25,'Start of Year Points'!$A$2:$I$1998,9,FALSE)","v":69.36},41.15,64.47,52.81,55.26,51.15,51.15,83.23,51.15,null,64.47,103.04,"",41.15,"",97.33,"","","","","",87.35,"",null,null,68.98,87.35,78.164999999999992,82.775999999999996,null,68.98,"","",101.75,97.33,"","",87.35,""]
[{"$f":"'Races, Positions & Points'!A26","v":"Elisabeth Thomas"},{"$f":"IF('Races, Positions & Points'!P26=\"\",\"\",'Races, Positions & Points'!P26)","v":""},{"$f":"IF('Races, Positions & Points'!S26=\"\",\"\",'Races, Positions & Points'!S26)","v":""},{"$f":"IF('Races, Positions & Points'!T26=\"\",\"\",'Races, Positions & Points'!T26)","v":""},{"$f":"IF('Races, Positions & Points'!W26=\"\",\"\",'Races, Positions & Points'!W26)","v":""},{"$f":"IF('Races, Positions & Points'!X26=\"\",\"\",'Races, Positions & Points'!X26)","v":""},{"$f":"IF('Races, Positions & Points'!AA26=\"\",\"\",'Races, Positions & Points'!AA26)","v":""},{"$f":"IF('Races, Positions & Points'!AD26=\"\",\"\",'Races, Positions & Points'!AD26)","v":""},{"$f":"IF('Races, Positions & Points'!AG26=\"\",\"\",'Races, Positions & Points'!AG26)","v":""},{"$f":"IF('Races, Positions & Points'!AJ26=\"\",\"\",'Races, Positions & Points'!AJ26)","v":""},{"$f":"IF('Races, Positions & Points'!AM26=\"\",\"\",'Races, Positions & Points'!AM26)","v":""},{"$f":"IF('Races, Positions & Points'!AP26=\"\",\"\",'Races, Positions & Points'!AP26)","v":""},{"$f":"IF('Races, Positions & Points'!AS26=\"\",\"\",'Races, Positions & Points'!AS26)","v":""},{"$f":"IF('Races, Positions & Points'!AV26=\"\",\"\",'Races, Positions & Points'!AV26)","v":""},{"$f":"IF('Races, Positions & Points'!AW26=\"\",\"\",'Races, Positions & Points'!AW26)","v":""},{"$f":"IF('Races, Positions & Points'!AZ26=\"\",\"\",'Races, Positions & Points'!AZ26)","v":""},{"$f":"IF('Races, Positions & Points'!BC26=\"\",\"\",'Races, Positions & Points'!BC26)","v":""},{"$f":"IF('Races, Positions & Points'!BF26=\"\",\"\",'Races, Positions & Points'!BF26)","v":""},{"$f":"IF('Races, Positions & Points'!BI26=\"\",\"\",'Races, Positions & Points'!BI26)","v":""},{"$f":"IF('Races, Positions & Points'!BL26=\"\",\"\",'Races, Positions & Points'!BL26)","v":""},{"$f":"IF('Races, Positions & Points'!BO26=\"\",\"\",'Races, Positions & Points'!BO26)","v":""},{"$f":"IF('Races, Positions & Points'!BR26=\"\",\"\",'Races, Positions & Points'!BR26)","v":""},{"$f":"IF('Races, Positions & Points'!BU26=\"\",\"\",'Races, Positions & Points'!BU26)","v":""},{"$f":"IF('Races, Positions & Points'!BX26=\"\",\"\",'Races, Positions & Points'!BX26)","v":""},{"$f":"IF('Races, Positions & Points'!CA26=\"\",\"\",'Races, Positions & Points'!CA26)","v":""},{"$f":"IF('Races, Positions & Points'!CD26=\"\",\"\",'Races, Positions & Points'!CD26)","v":""},{"$f":"IF('Races, Positions & Points'!CE26=\"\",\"\",'Races, Positions & Points'!CE26)","v":""},{"$f":"IF('Races, Positions & Points'!CH26=\"\",\"\",'Races, Positions & Points'!CH26)","v":""},{"$f":"IF('Races, Positions & Points'!CK26=\"\",\"\",'Races, Positions & Points'!CK26)","v":""},{"$f":"IF('Races, Positions & Points'!CN26=\"\",\"\",'Races, Positions & Points'!CN26)","v":""},{"$f":"IF('Races, Positions & Points'!CQ26=\"\",\"\",'Races, Positions & Points'!CQ26)","v":""},{"$f":"IF('Races, Positions & Points'!CT26=\"\",\"\",'Races, Positions & Points'!CT26)","v":""},{"$f":"IF('Races, Positions & Points'!CW26=\"\",\"\",'Races, Positions & Points'!CW26)","v":""},{"$f":"IF('Races, Positions & Points'!CZ26=\"\",\"\",'Races, Positions & Points'!CZ26)","v":""},{"$f":"IF('Races, Positions & Points'!DE26=\"\",\"\",'Races, Positions & Points'!DE26)","v":""},{"$f":"IF('Races, Positions & Points'!DH26=\"\",\"\",'Races, Positions & Points'!DH26)","v":""},{"$f":"IF('Races, Positions & Points'!DK26=\"\",\"\",'Races, Positions & Points'!DK26)","v":999.99},{"$f":"IF('Races, Positions & Points'!DN26=\"\",\"\",'Races, Positions & Points'!DN26)","v":""},{"$f":"IF('Races, Positions & Points'!DQ26=\"\",\"\",'Races, Positions & Points'!DQ26)","v":74.260000000000005},{"$f":"IF('Races, Positions & Points'!DT26=\"\",\"\",'Races, Positions & Points'!DT26)","v":""},{"$f":"IF('Races, Positions & Points'!DW26=\"\",\"\",'Races, Positions & Points'!DW26)","v":""},{"$f":"IF('Races, Positions & Points'!DZ26=\"\",\"\",'Races, Positions & Points'!DZ26)","v":""},{"$f":"IF('Races, Positions & Points'!EC26=\"\",\"\",'Races, Positions & Points'!EC26)","v":""},null,0,0,0,0,0,2,null,{"$f":"VLOOKUP(A26,'Races, Positions & Points'!$A$8:$E$76,5,FALSE)","v":18033},{"$f":"VLOOKUP(AZ26,'Start of Year Points'!$A$2:$I$1998,9,FALSE)","v":60.58},74.260000000000005,999.99,537.13,67.42,89.11,60.58,72.7,72.7,null,"","","","","",74.260000000000005,"","","","","",999.99,"",null,null,74.260000000000005,999.99,537.125,89.112000000000009,null,"","","","",74.260000000000005,"","",999.99,""]
[{"$f":"'Races, Positions & Points'!A27","v":"Maxine Hancock"},{"$f":"IF('Races, Positions & Points'!P27=\"\",\"\",'Races, Positions & Points'!P27)","v":""},{"$f":"IF('Races, Positions & Points'!S27=\"\",\"\",'Races, Positions & Points'!S27)","v":79.78},{"$f":"IF('Races, Positions & Points'!T27=\"\",\"\",'Races, Positions & Points'!T27)","v":78.75},{"$f":"IF('Races, Positions & Points'!W27=\"\",\"\",'Races, Positions & Points'!W27)","v":106.54},{"$f":"IF('Races, Positions & Points'!X27=\"\",\"\",'Races, Positions & Points'!X27)","v":111.42},{"$f":"IF('Races, Positions & Points'!AA27=\"\",\"\",'Races, Positions & Points'!AA27)","v":87.55},{"$f":"IF('Races, Positions & Points'!AD27=\"\",\"\",'Races, Positions & Points'!AD27)","v":78.760000000000005},{"$f":"IF('Races, Positions & Points'!AG27=\"\",\"\",'Races, Positions & Points'!AG27)","v":""},{"$f":"IF('Races, Positions & Points'!AJ27=\"\",\"\",'Races, Positions & Points'!AJ27)","v":""},{"$f":"IF('Races, Positions & Points'!AM27=\"\",\"\",'Races, Positions & Points'!AM27)","v":120.91},{"$f":"IF('Races, Positions & Points'!AP27=\"\",\"\",'Races, Positions & Points'!AP27)","v":94.66},{"$f":"IF('Races, Positions & Points'!AS27=\"\",\"\",'Races, Positions & Points'!AS27)","v":""},{"$f":"IF('Races, Positions & Points'!AV27=\"\",\"\",'Races, Positions & Points'!AV27)","v":69.8},{"$f":"IF('Races, Positions & Points'!AW27=\"\",\"\",'Races, Positions & Points'!AW27)","v":""},{"$f":"IF('Races, Positions & Points'!AZ27=\"\",\"\",'Races, Positions & Points'!AZ27)","v":""},{"$f":"IF('Races, Positions & Points'!BC27=\"\",\"\",'Races, Positions & Points'!BC27)","v":""},{"$f":"IF('Races, Positions & Points'!BF27=\"\",\"\",'Races, Positions & Points'!BF27)","v":""},{"$f":"IF('Races, Positions & Points'!BI27=\"\",\"\",'Races, Positions & Points'!BI27)","v":""},{"$f":"IF('Races, Positions & Points'!BL27=\"\",\"\",'Races, Positions & Points'!BL27)","v":""},{"$f":"IF('Races, Positions & Points'!BO27=\"\",\"\",'Races, Positions & Points'!BO27)","v":""},{"$f":"IF('Races, Positions & Points'!BR27=\"\",\"\",'Races, Positions & Points'!BR27)","v":90.93},{"$f":"IF('Races, Positions & Points'!BU27=\"\",\"\",'Races, Positions & Points'!BU27)","v":94.75},{"$f":"IF('Races, Positions & Points'!BX27=\"\",\"\",'Races, Positions & Points'!BX27)","v":""},{"$f":"IF('Races, Positions & Points'!CA27=\"\",\"\",'Races, Positions & Points'!CA27)","v":""},{"$f":"IF('Races, Positions & Points'!CD27=\"\",\"\",'Races, Positions & Points'!CD27)","v":269.07},{"$f":"IF('Races, Positions & Points'!CE27=\"\",\"\",'Races, Positions & Points'!CE27)","v":117.57},{"$f":"IF('Races, Positions & Points'!CH27=\"\",\"\",'Races, Positions & Points'!CH27)","v":""},{"$f":"IF('Races, Positions & Points'!CK27=\"\",\"\",'Races, Positions & Points'!CK27)","v":""},{"$f":"IF('Races, Positions & Points'!CN27=\"\",\"\",'Races, Positions & Points'!CN27)","v":""},{"$f":"IF('Races, Positions & Points'!CQ27=\"\",\"\",'Races, Positions & Points'!CQ27)","v":""},{"$f":"IF('Races, Positions & Points'!CT27=\"\",\"\",'Races, Positions & Points'!CT27)","v":103.39},{"$f":"IF('Races, Positions & Points'!CW27=\"\",\"\",'Races, Positions & Points'!CW27)","v":119.45},{"$f":"IF('Races, Positions & Points'!CZ27=\"\",\"\",'Races, Positions & Points'!CZ27)","v":""},{"$f":"IF('Races, Positions & Points'!DE27=\"\",\"\",'Races, Positions & Points'!DE27)","v":""},{"$f":"IF('Races, Positions & Points'!DH27=\"\",\"\",'Races, Positions & Points'!DH27)","v":""},{"$f":"IF('Races, Positions & Points'!DK27=\"\",\"\",'Races, Positions & Points'!DK27)","v":""},{"$f":"IF('Races, Positions & Points'!DN27=\"\",\"\",'Races, Positions & Points'!DN27)","v":""},{"$f":"IF('Races, Positions & Points'!DQ27=\"\",\"\",'Races, Positions & Points'!DQ27)","v":""},{"$f":"IF('Races, Positions & Points'!DT27=\"\",\"\",'Races, Positions & Points'!DT27)","v":131.18},{"$f":"IF('Races, Positions & Points'!DW27=\"\",\"\",'Races, Positions & Points'!DW27)","v":""},{"$f":"IF('Races, Positions & Points'!DZ27=\"\",\"\",'Races, Positions & Points'!DZ27)","v":""},{"$f":"IF('Races, Positions & Points'!EC27=\"\",\"\",'Races, Positions & Points'!EC27)","v":122.26},null,4,0,6,0,4,0,null,{"$f":"VLOOKUP(A27,'Races, Positions & Points'!$A$8:$E$76,5,FALSE)","v":18617},{"$f":"VLOOKUP(AZ27,'Start of Year Points'!$A$2:$I$1998,9,FALSE)","v":124.82},69.8,78.75,74.28,97.31,83.76,74.28,149.78,74.28,null,"",78.75,69.8,"","","","","","",90.93,117.57,"","",null,null,78.760000000000005,90.93,84.844999999999999,94.512,null,"",94.66,78.760000000000005,"","","",90.93,"",""]
[{"$f":"'Races, Positions & Points'!A28","v":"Jessica Mayhew"},{"$f":"IF('Races, Positions & Points'!P28=\"\",\"\",'Races, Positions & Points'!P28)","v":125.9},{"$f":"IF('Races, Positions & Points'!S28=\"\",\"\",'Races, Positions & Points'!S28)","v":""},{"$f":"IF('Races, Positions & Points'!T28=\"\",\"\",'Races, Positions & Points'!T28)","v":""},{"$f":"IF('Races, Positions & Points'!W28=\"\",\"\",'Races, Positions & Points'!W28)","v":129.57},{"$f":"IF('Races, Positions & Points'!X28=\"\",\"\",'Races, Positions & Points'!X28)","v":185.5},{"$f":"IF('Races, Positions & Points'!AA28=\"\",\"\",'Races, Positions & Points'!AA28)","v":""},{"$f":"IF('Races, Positions & Points'!AD28=\"\",\"\",'Races, Positions & Points'!AD28)","v":""},{"$f":"IF('Races, Positions & Points'!AG28=\"\",\"\",'Races, Positions & Points'!AG28)","v":102.13},{"$f":"IF('Races, Positions & Points'!AJ28=\"\",\"\",'Races, Positions & Points'!AJ28)","v":103.99},{"$f":"IF('Races, Positions & Points'!AM28=\"\",\"\",'Races, Positions & Points'!AM28)","v":""},{"$f":"IF('Races, Positions & Points'!AP28=\"\",\"\",'Races, Positions & Points'!AP28)","v":""},{"$f":"IF('Races, Positions & Points'!AS28=\"\",\"\",'Races, Positions & Points'!AS28)","v":""},{"$f":"IF('Races, Positions & Points'!AV28=\"\",\"\",'Races, Positions & Points'!AV28)","v":""},{"$f":"IF('Races, Positions & Points'!AW28=\"\",\"\",'Races, Positions & Points'!AW28)","v":""},{"$f":"IF('Races, Positions & Points'!AZ28=\"\",\"\",'Races, Positions & Points'!AZ28)","v":""},{"$f":"IF('Races, Positions & Points'!BC28=\"\",\"\",'Races, Positions & Points'!BC28)","v":""},{"$f":"IF('Races, Positions & Points'!BF28=\"\",\"\",'Races, Positions & Points'!BF28)","v":""},{"$f":"IF('Races, Positions & Points'!BI28=\"\",\"\",'Races, Positions & Points'!BI28)","v":91.81},{"$f":"IF('Races, Positions & Points'!BL28=\"\",\"\",'Races, Positions & Points'!BL28)","v":""},{"$f":"IF('Races, Positions & Points'!BO28=\"\",\"\",'Races, Positions & Points'!BO28)","v":83.25},{"$f":"IF('Races, Positions & Points'!BR28=\"\",\"\",'Races, Positions & Points'!BR28)","v":""},{"$f":"IF('Races, Positions & Points'!BU28=\"\",\"\",'Races, Positions & Points'!BU28)","v":""},{"$f":"IF('Races, Positions & Points'!BX28=\"\",\"\",'Races, Positions & Points'!BX28)","v":118},{"$f":"IF('Races, Positions & Points'!CA28=\"\",\"\",'Races, Positions & Points'!CA28)","v":85.1},{"$f":"IF('Races, Positions & Points'!CD28=\"\",\"\",'Races, Positions & Points'!CD28)","v":""},{"$f":"IF('Races, Positions & Points'!CE28=\"\",\"\",'Races, Positions & Points'!CE28)","v":""},{"$f":"IF('Races, Positions & Points'!CH28=\"\",\"\",'Races, Positions & Points'!CH28)","v":""},{"$f":"IF('Races, Positions & Points'!CK28=\"\",\"\",'Races, Positions & Points'!CK28)","v":""},{"$f":"IF('Races, Positions & Points'!CN28=\"\",\"\",'Races, Positions & Points'!CN28)","v":99.31},{"$f":"IF('Races, Positions & Points'!CQ28=\"\",\"\",'Races, Positions & Points'!CQ28)","v":88.75},{"$f":"IF('Races, Positions & Points'!CT28=\"\",\"\",'Races, Positions & Points'!CT28)","v":""},{"$f":"IF('Races, Positions & Points'!CW28=\"\",\"\",'Races, Positions & Points'!CW28)","v":""},{"$f":"IF('Races, Positions & Points'!CZ28=\"\",\"\",'Races, Positions & Points'!CZ28)","v":""},{"$f":"IF('Races, Positions & Points'!DE28=\"\",\"\",'Races, Positions & Points'!DE28)","v":""},{"$f":"IF('Races, Positions & Points'!DH28=\"\",\"\",'Races, Positions & Points'!DH28)","v":""},{"$f":"IF('Races, Positions & Points'!DK28=\"\",\"\",'Races, Positions & Points'!DK28)","v":""},{"$f":"IF('Races, Positions & Points'!DN28=\"\",\"\",'Races, Positions & Points'!DN28)","v":""},{"$f":"IF('Races, Positions & Points'!DQ28=\"\",\"\",'Races, Positions & Points'!DQ28)","v":""},{"$f":"IF('Races, Positions & Points'!DT28=\"\",\"\",'Races, Positions & Points'!DT28)","v":""},{"$f":"IF('Races, Positions & Points'!DW28=\"\",\"\",'Races, Positions & Points'!DW28)","v":""},{"$f":"IF('Races, Positions & Points'!DZ28=\"\",\"\",'Races, Positions & Points'!DZ28)","v":""},{"$f":"IF('Races, Positions & Points'!EC28=\"\",\"\",'Races, Positions & Points'!EC28)","v":""},null,1,5,0,4,0,0,null,{"$f":"VLOOKUP(A28,'Races, Positions & Points'!$A$8:$E$76,5,FALSE)","v":21014},{"$f":"VLOOKUP(AZ28,'Start of Year Points'!$A$2:$I$1998,9,FALSE)","v":124.09},83.25,85.1,84.18,103.67,99.9,84.18,148.91,84.18,null,85.1,129.57,"",102.13,"",91.81,83.25,"","","","","","",null,null,88.75,102.13,95.44,106.5,null,88.75,"","",102.13,"","","","",""]
[{"$f":"'Races, Positions & Points'!A29","v":"Hannah Shakeshaft"},{"$f":"IF('Races, Positions & Points'!P29=\"\",\"\",'Races, Positions & Points'!P29)","v":""},{"$f":"IF('Races, Positions & Points'!S29=\"\",\"\",'Races, Positions & Points'!S29)","v":""},{"$f":"IF('Races, Positions & Points'!T29=\"\",\"\",'Races, Positions & Points'!T29)","v":""},{"$f":"IF('Races, Positions & Points'!W29=\"\",\"\",'Races, Positions & Points'!W29)","v":""},{"$f":"IF('Races, Positions & Points'!X29=\"\",\"\",'Races, Positions & Points'!X29)","v":""},{"$f":"IF('Races, Positions & Points'!AA29=\"\",\"\",'Races, Positions & Points'!AA29)","v":""},{"$f":"IF('Races, Positions & Points'!AD29=\"\",\"\",'Races, Positions & Points'!AD29)","v":""},{"$f":"IF('Races, Positions & Points'!AG29=\"\",\"\",'Races, Positions & Points'!AG29)","v":""},{"$f":"IF('Races, Positions & Points'!AJ29=\"\",\"\",'Races, Positions & Points'!AJ29)","v":""},{"$f":"IF('Races, Positions & Points'!AM29=\"\",\"\",'Races, Positions & Points'!AM29)","v":""},{"$f":"IF('Races, Positions & Points'!AP29=\"\",\"\",'Races, Positions & Points'!AP29)","v":""},{"$f":"IF('Races, Positions & Points'!AS29=\"\",\"\",'Races, Positions & Points'!AS29)","v":""},{"$f":"IF('Races, Positions & Points'!AV29=\"\",\"\",'Races, Positions & Points'!AV29)","v":""},{"$f":"IF('Races, Positions & Points'!AW29=\"\",\"\",'Races, Positions & Points'!AW29)","v":""},{"$f":"IF('Races, Positions & Points'!AZ29=\"\",\"\",'Races, Positions & Points'!AZ29)","v":""},{"$f":"IF('Races, Positions & Points'!BC29=\"\",\"\",'Races, Positions & Points'!BC29)","v":""},{"$f":"IF('Races, Positions & Points'!BF29=\"\",\"\",'Races, Positions & Points'!BF29)","v":""},{"$f":"IF('Races, Positions & Points'!BI29=\"\",\"\",'Races, Positions & Points'!BI29)","v":""},{"$f":"IF('Races, Positions & Points'!BL29=\"\",\"\",'Races, Positions & Points'!BL29)","v":""},{"$f":"IF('Races, Positions & Points'!BO29=\"\",\"\",'Races, Positions & Points'!BO29)","v":""},{"$f":"IF('Races, Positions & Points'!BR29=\"\",\"\",'Races, Positions & Points'!BR29)","v":""},{"$f":"IF('Races, Positions & Points'!BU29=\"\",\"\",'Races, Positions & Points'!BU29)","v":""},{"$f":"IF('Races, Positions & Points'!BX29=\"\",\"\",'Races, Positions & Points'!BX29)","v":""},{"$f":"IF('Races, Positions & Points'!CA29=\"\",\"\",'Races, Positions & Points'!CA29)","v":""},{"$f":"IF('Races, Positions & Points'!CD29=\"\",\"\",'Races, Positions & Points'!CD29)","v":""},{"$f":"IF('Races, Positions & Points'!CE29=\"\",\"\",'Races, Positions & Points'!CE29)","v":""},{"$f":"IF('Races, Positions & Points'!CH29=\"\",\"\",'Races, Positions & Points'!CH29)","v":""},{"$f":"IF('Races, Positions & Points'!CK29=\"\",\"\",'Races, Positions & Points'!CK29)","v":""},{"$f":"IF('Races, Positions & Points'!CN29=\"\",\"\",'Races, Positions & Points'!CN29)","v":""},{"$f":"IF('Races, Positions & Points'!CQ29=\"\",\"\",'Races, Positions & Points'!CQ29)","v":""},{"$f":"IF('Races, Positions & Points'!CT29=\"\",\"\",'Races, Positions & Points'!CT29)","v":""},{"$f":"IF('Races, Positions & Points'!CW29=\"\",\"\",'Races, Positions & Points'!CW29)","v":""},{"$f":"IF('Races, Positions & Points'!CZ29=\"\",\"\",'Races, Positions & Points'!CZ29)","v":""},{"$f":"IF('Races, Positions & Points'!DE29=\"\",\"\",'Races, Positions & Points'!DE29)","v":""},{"$f":"IF('Races, Positions & Points'!DH29=\"\",\"\",'Races, Positions & Points'!DH29)","v":""},{"$f":"IF('Races, Positions & Points'!DK29=\"\",\"\",'Races, Positions & Points'!DK29)","v":""},{"$f":"IF('Races, Positions & Points'!DN29=\"\",\"\",'Races, Positions & Points'!DN29)","v":""},{"$f":"IF('Races, Positions & Points'!DQ29=\"\",\"\",'Races, Positions & Points'!DQ29)","v":""},{"$f":"IF('Races, Positions & Points'!DT29=\"\",\"\",'Races, Positions & Points'!DT29)","v":""},{"$f":"IF('Races, Positions & Points'!DW29=\"\",\"\",'Races, Positions & Points'!DW29)","v":""},{"$f":"IF('Races, Positions & Points'!DZ29=\"\",\"\",'Races, Positions & Points'!DZ29)","v":""},{"$f":"IF('Races, Positions & Points'!EC29=\"\",\"\",'Races, Positions & Points'!EC29)","v":""},null,0,0,0,0,0,0,null,{"$f":"VLOOKUP(A29,'Races, Positions & Points'!$A$8:$E$76,5,FALSE)","v":19833},{"$f":"VLOOKUP(AZ29,'Start of Year Points'!$A$2:$I$1998,9,FALSE)","v":116.91},"","","",116.91,"",116.91,140.29,140.29,null,"","","","","","","","","","","","","",null,null,"","","","",null,"","","","","","","","",""]
[{"$f":"'Races, Positions & Points'!A30","v":"Chloe Care"},{"$f":"IF('Races, Positions & Points'!P30=\"\",\"\",'Races, Positions & Points'!P30)","v":290.22000000000003},{"$f":"IF('Races, Positions & Points'!S30=\"\",\"\",'Races, Positions & Points'!S30)","v":""},{"$f":"IF('Races, Positions & Points'!T30=\"\",\"\",'Races, Positions & Points'!T30)","v":""},{"$f":"IF('Races, Positions & Points'!W30=\"\",\"\",'Races, Positions & Points'!W30)","v":""},{"$f":"IF('Races, Positions & Points'!X30=\"\",\"\",'Races, Positions & Points'!X30)","v":""},{"$f":"IF('Races, Positions & Points'!AA30=\"\",\"\",'Races, Positions & Points'!AA30)","v":""},{"$f":"IF('Races, Positions & Points'!AD30=\"\",\"\",'Races, Positions & Points'!AD30)","v":""},{"$f":"IF('Races, Positions & Points'!AG30=\"\",\"\",'Races, Positions & Points'!AG30)","v":""},{"$f":"IF('Races, Positions & Points'!AJ30=\"\",\"\",'Races, Positions & Points'!AJ30)","v":""},{"$f":"IF('Races, Positions & Points'!AM30=\"\",\"\",'Races, Positions & Points'!AM30)","v":""},{"$f":"IF('Races, Positions & Points'!AP30=\"\",\"\",'Races, Positions & Points'!AP30)","v":""},{"$f":"IF('Races, Positions & Points'!AS30=\"\",\"\",'Races, Positions & Points'!AS30)","v":189.64},{"$f":"IF('Races, Positions & Points'!AV30=\"\",\"\",'Races, Positions & Points'!AV30)","v":""},{"$f":"IF('Races, Positions & Points'!AW30=\"\",\"\",'Races, Positions & Points'!AW30)","v":""},{"$f":"IF('Races, Positions & Points'!AZ30=\"\",\"\",'Races, Positions & Points'!AZ30)","v":""},{"$f":"IF('Races, Positions & Points'!BC30=\"\",\"\",'Races, Positions & Points'!BC30)","v":""},{"$f":"IF('Races, Positions & Points'!BF30=\"\",\"\",'Races, Positions & Points'!BF30)","v":""},{"$f":"IF('Races, Positions & Points'!BI30=\"\",\"\",'Races, Positions & Points'!BI30)","v":""},{"$f":"IF('Races, Positions & Points'!BL30=\"\",\"\",'Races, Positions & Points'!BL30)","v":""},{"$f":"IF('Races, Positions & Points'!BO30=\"\",\"\",'Races, Positions & Points'!BO30)","v":""},{"$f":"IF('Races, Positions & Points'!BR30=\"\",\"\",'Races, Positions & Points'!BR30)","v":""},{"$f":"IF('Races, Positions & Points'!BU30=\"\",\"\",'Races, Positions & Points'!BU30)","v":""},{"$f":"IF('Races, Positions & Points'!BX30=\"\",\"\",'Races, Positions & Points'!BX30)","v":""},{"$f":"IF('Races, Positions & Points'!CA30=\"\",\"\",'Races, Positions & Points'!CA30)","v":244.28},{"$f":"IF('Races, Positions & Points'!CD30=\"\",\"\",'Races, Positions & Points'!CD30)","v":""},{"$f":"IF('Races, Positions & Points'!CE30=\"\",\"\",'Races, Positions & Points'!CE30)","v":""},{"$f":"IF('Races, Positions & Points'!CH30=\"\",\"\",'Races, Positions & Points'!CH30)","v":""},{"$f":"IF('Races, Positions & Points'!CK30=\"\",\"\",'Races, Positions & Points'!CK30)","v":""},{"$f":"IF('Races, Positions & Points'!CN30=\"\",\"\",'Races, Positions & Points'!CN30)","v":""},{"$f":"IF('Races, Positions & Points'!CQ30=\"\",\"\",'Races, Positions & Points'!CQ30)","v":216.38},{"$f":"IF('Races, Positions & Points'!CT30=\"\",\"\",'Races, Positions & Points'!CT30)","v":""},{"$f":"IF('Races, Positions & Points'!CW30=\"\",\"\",'Races, Positions & Points'!CW30)","v":""},{"$f":"IF('Races, Positions & Points'!CZ30=\"\",\"\",'Races, Positions & Points'!CZ30)","v":""},{"$f":"IF('Races, Positions & Points'!DE30=\"\",\"\",'Races, Positions & Points'!DE30)","v":""},{"$f":"IF('Races, Positions & Points'!DH30=\"\",\"\",'Races, Positions & Points'!DH30)","v":""},{"$f":"IF('Races, Positions & Points'!DK30=\"\",\"\",'Races, Positions & Points'!DK30)","v":""},{"$f":"IF('Races, Positions & Points'!DN30=\"\",\"\",'Races, Positions & Points'!DN30)","v":""},{"$f":"IF('Races, Positions & Points'!DQ30=\"\",\"\",'Races, Positions & Points'!DQ30)","v":""},{"$f":"IF('Races, Positions & Points'!DT30=\"\",\"\",'Races, Positions & Points'!DT30)","v":""},{"$f":"IF('Races, Positions & Points'!DW30=\"\",\"\",'Races, Positions & Points'!DW30)","v":""},{"$f":"IF('Races, Positions & Points'!DZ30=\"\",\"\",'Races, Positions & Points'!DZ30)","v":""},{"$f":"IF('Races, Positions & Points'!EC30=\"\",\"\",'Races, Positions & Points'!EC30)","v":""},null,0,3,0,1,0,0,null,{"$f":"VLOOKUP(A30,'Races, Positions & Points'!$A$8:$E$76,5,FALSE)","v":19983},{"$f":"VLOOKUP(AZ30,'Start of Year Points'!$A$2:$I$1998,9,FALSE)","v":224.39},189.64,216.38,203.01,207.02,227.57,203.01,269.27,203.01,null,216.38,"","","",189.64,"","","","","","","","",null,null,216.38,"","",259.65600000000001,null,216.38,"","","","","","","",""]
[{"$f":"'Races, Positions & Points'!A31","v":"Geraldine Elgy"},{"$f":"IF('Races, Positions & Points'!P31=\"\",\"\",'Races, Positions & Points'!P31)","v":""},{"$f":"IF('Races, Positions & Points'!S31=\"\",\"\",'Races, Positions & Points'!S31)","v":""},{"$f":"IF('Races, Positions & Points'!T31=\"\",\"\",'Races, Positions & Points'!T31)","v":""},{"$f":"IF('Races, Positions & Points'!W31=\"\",\"\",'Races, Positions & Points'!W31)","v":""},{"$f":"IF('Races, Positions & Points'!X31=\"\",\"\",'Races, Positions & Points'!X31)","v":""},{"$f":"IF('Races, Positions & Points'!AA31=\"\",\"\",'Races, Positions & Points'!AA31)","v":""},{"$f":"IF('Races, Positions & Points'!AD31=\"\",\"\",'Races, Positions & Points'!AD31)","v":""},{"$f":"IF('Races, Positions & Points'!AG31=\"\",\"\",'Races, Positions & Points'!AG31)","v":""},{"$f":"IF('Races, Positions & Points'!AJ31=\"\",\"\",'Races, Positions & Points'!AJ31)","v":""},{"$f":"IF('Races, Positions & Points'!AM31=\"\",\"\",'Races, Positions & Points'!AM31)","v":""},{"$f":"IF('Races, Positions & Points'!AP31=\"\",\"\",'Races, Positions & Points'!AP31)","v":""},{"$f":"IF('Races, Positions & Points'!AS31=\"\",\"\",'Races, Positions & Points'!AS31)","v":""},{"$f":"IF('Races, Positions & Points'!AV31=\"\",\"\",'Races, Positions & Points'!AV31)","v":""},{"$f":"IF('Races, Positions & Points'!AW31=\"\",\"\",'Races, Positions & Points'!AW31)","v":""},{"$f":"IF('Races, Positions & Points'!AZ31=\"\",\"\",'Races, Positions & Points'!AZ31)","v":""},{"$f":"IF('Races, Positions & Points'!BC31=\"\",\"\",'Races, Positions & Points'!BC31)","v":""},{"$f":"IF('Races, Positions & Points'!BF31=\"\",\"\",'Races, Positions & Points'!BF31)","v":""},{"$f":"IF('Races, Positions & Points'!BI31=\"\",\"\",'Races, Positions & Points'!BI31)","v":""},{"$f":"IF('Races, Positions & Points'!BL31=\"\",\"\",'Races, Positions & Points'!BL31)","v":""},{"$f":"IF('Races, Positions & Points'!BO31=\"\",\"\",'Races, Positions & Points'!BO31)","v":""},{"$f":"IF('Races, Positions & Points'!BR31=\"\",\"\",'Races, Positions & Points'!BR31)","v":""},{"$f":"IF('Races, Positions & Points'!BU31=\"\",\"\",'Races, Positions & Points'!BU31)","v":""},{"$f":"IF('Races, Positions & Points'!BX31=\"\",\"\",'Races, Positions & Points'!BX31)","v":""},{"$f":"IF('Races, Positions & Points'!CA31=\"\",\"\",'Races, Positions & Points'!CA31)","v":""},{"$f":"IF('Races, Positions & Points'!CD31=\"\",\"\",'Races, Positions & Points'!CD31)","v":""},{"$f":"IF('Races, Positions & Points'!CE31=\"\",\"\",'Races, Positions & Points'!CE31)","v":""},{"$f":"IF('Races, Positions & Points'!CH31=\"\",\"\",'Races, Positions & Points'!CH31)","v":""},{"$f":"IF('Races, Positions & Points'!CK31=\"\",\"\",'Races, Positions & Points'!CK31)","v":""},{"$f":"IF('Races, Positions & Points'!CN31=\"\",\"\",'Races, Positions & Points'!CN31)","v":""},{"$f":"IF('Races, Positions & Points'!CQ31=\"\",\"\",'Races, Positions & Points'!CQ31)","v":""},{"$f":"IF('Races, Positions & Points'!CT31=\"\",\"\",'Races, Positions & Points'!CT31)","v":""},{"$f":"IF('Races, Positions & Points'!CW31=\"\",\"\",'Races, Positions & Points'!CW31)","v":""},{"$f":"IF('Races, Positions & Points'!CZ31=\"\",\"\",'Races, Positions & Points'!CZ31)","v":""},{"$f":"IF('Races, Positions & Points'!DE31=\"\",\"\",'Races, Positions & Points'!DE31)","v":""},{"$f":"IF('Races, Positions & Points'!DH31=\"\",\"\",'Races, Positions & Points'!DH31)","v":""},{"$f":"IF('Races, Positions & Points'!DK31=\"\",\"\",'Races, Positions & Points'!DK31)","v":""},{"$f":"IF('Races, Positions & Points'!DN31=\"\",\"\",'Races, Positions & Points'!DN31)","v":""},{"$f":"IF('Races, Positions & Points'!DQ31=\"\",\"\",'Races, Positions & Points'!DQ31)","v":""},{"$f":"IF('Races, Positions & Points'!DT31=\"\",\"\",'Races, Positions & Points'!DT31)","v":""},{"$f":"IF('Races, Positions & Points'!DW31=\"\",\"\",'Races, Positions & Points'!DW31)","v":""},{"$f":"IF('Races, Positions & Points'!DZ31=\"\",\"\",'Races, Positions & Points'!DZ31)","v":""},{"$f":"IF('Races, Positions & Points'!EC31=\"\",\"\",'Races, Positions & Points'!EC31)","v":""},null,0,0,0,0,0,0,null,{"$f":"VLOOKUP(A31,'Races, Positions & Points'!$A$8:$E$76,5,FALSE)","v":19165},{"$f":"VLOOKUP(AZ31,'Start of Year Points'!$A$2:$I$1998,9,FALSE)","v":275.20999999999998},"","","",275.20999999999998,"",275.20999999999998,330.25,330.25,null,"","","","","","","","","","","","","",null,null,"","","","",null,"","","","","","","","",""]
[{"$f":"'Races, Positions & Points'!A32","v":"Laura Newboult"},{"$f":"IF('Races, Positions & Points'!P32=\"\",\"\",'Races, Positions & Points'!P32)","v":""},{"$f":"IF('Races, Positions & Points'!S32=\"\",\"\",'Races, Positions & Points'!S32)","v":""},{"$f":"IF('Races, Positions & Points'!T32=\"\",\"\",'Races, Positions & Points'!T32)","v":""},{"$f":"IF('Races, Positions & Points'!W32=\"\",\"\",'Races, Positions & Points'!W32)","v":""},{"$f":"IF('Races, Positions & Points'!X32=\"\",\"\",'Races, Positions & Points'!X32)","v":""},{"$f":"IF('Races, Positions & Points'!AA32=\"\",\"\",'Races, Positions & Points'!AA32)","v":""},{"$f":"IF('Races, Positions & Points'!AD32=\"\",\"\",'Races, Positions & Points'!AD32)","v":""},{"$f":"IF('Races, Positions & Points'!AG32=\"\",\"\",'Races, Positions & Points'!AG32)","v":""},{"$f":"IF('Races, Positions & Points'!AJ32=\"\",\"\",'Races, Positions & Points'!AJ32)","v":""},{"$f":"IF('Races, Positions & Points'!AM32=\"\",\"\",'Races, Positions & Points'!AM32)","v":""},{"$f":"IF('Races, Positions & Points'!AP32=\"\",\"\",'Races, Positions & Points'!AP32)","v":""},{"$f":"IF('Races, Positions & Points'!AS32=\"\",\"\",'Races, Positions & Points'!AS32)","v":""},{"$f":"IF('Races, Positions & Points'!AV32=\"\",\"\",'Races, Positions & Points'!AV32)","v":""},{"$f":"IF('Races, Positions & Points'!AW32=\"\",\"\",'Races, Positions & Points'!AW32)","v":""},{"$f":"IF('Races, Positions & Points'!AZ32=\"\",\"\",'Races, Positions & Points'!AZ32)","v":""},{"$f":"IF('Races, Positions & Points'!BC32=\"\",\"\",'Races, Positions & Points'!BC32)","v":""},{"$f":"IF('Races, Positions & Points'!BF32=\"\",\"\",'Races, Positions & Points'!BF32)","v":""},{"$f":"IF('Races, Positions & Points'!BI32=\"\",\"\",'Races, Positions & Points'!BI32)","v":""},{"$f":"IF('Races, Positions & Points'!BL32=\"\",\"\",'Races, Positions & Points'!BL32)","v":""},{"$f":"IF('Races, Positions & Points'!BO32=\"\",\"\",'Races, Positions & Points'!BO32)","v":""},{"$f":"IF('Races, Positions & Points'!BR32=\"\",\"\",'Races, Positions & Points'!BR32)","v":""},{"$f":"IF('Races, Positions & Points'!BU32=\"\",\"\",'Races, Positions & Points'!BU32)","v":""},{"$f":"IF('Races, Positions & Points'!BX32=\"\",\"\",'Races, Positions & Points'!BX32)","v":""},{"$f":"IF('Races, Positions & Points'!CA32=\"\",\"\",'Races, Positions & Points'!CA32)","v":""},{"$f":"IF('Races, Positions & Points'!CD32=\"\",\"\",'Races, Positions & Points'!CD32)","v":""},{"$f":"IF('Races, Positions & Points'!CE32=\"\",\"\",'Races, Positions & Points'!CE32)","v":""},{"$f":"IF('Races, Positions & Points'!CH32=\"\",\"\",'Races, Positions & Points'!CH32)","v":""},{"$f":"IF('Races, Positions & Points'!CK32=\"\",\"\",'Races, Positions & Points'!CK32)","v":""},{"$f":"IF('Races, Positions & Points'!CN32=\"\",\"\",'Races, Positions & Points'!CN32)","v":""},{"$f":"IF('Races, Positions & Points'!CQ32=\"\",\"\",'Races, Positions & Points'!CQ32)","v":""},{"$f":"IF('Races, Positions & Points'!CT32=\"\",\"\",'Races, Positions & Points'!CT32)","v":""},{"$f":"IF('Races, Positions & Points'!CW32=\"\",\"\",'Races, Positions & Points'!CW32)","v":""},{"$f":"IF('Races, Positions & Points'!CZ32=\"\",\"\",'Races, Positions & Points'!CZ32)","v":""},{"$f":"IF('Races, Positions & Points'!DE32=\"\",\"\",'Races, Positions & Points'!DE32)","v":""},{"$f":"IF('Races, Positions & Points'!DH32=\"\",\"\",'Races, Positions & Points'!DH32)","v":""},{"$f":"IF('Races, Positions & Points'!DK32=\"\",\"\",'Races, Positions & Points'!DK32)","v":""},{"$f":"IF('Races, Positions & Points'!DN32=\"\",\"\",'Races, Positions & Points'!DN32)","v":""},{"$f":"IF('Races, Positions & Points'!DQ32=\"\",\"\",'Races, Positions & Points'!DQ32)","v":""},{"$f":"IF('Races, Positions & Points'!DT32=\"\",\"\",'Races, Positions & Points'!DT32)","v":""},{"$f":"IF('Races, Positions & Points'!DW32=\"\",\"\",'Races, Positions & Points'!DW32)","v":""},{"$f":"IF('Races, Positions & Points'!DZ32=\"\",\"\",'Races, Positions & Points'!DZ32)","v":""},{"$f":"IF('Races, Positions & Points'!EC32=\"\",\"\",'Races, Positions & Points'!EC32)","v":""},null,0,0,0,0,0,0,null,{"$f":"VLOOKUP(A32,'Races, Positions & Points'!$A$8:$E$76,5,FALSE)","v":20781},{"$f":"VLOOKUP(AZ32,'Start of Year Points'!$A$2:$I$1998,9,FALSE)","v":357.45},"","","",357.45,"",357.45,428.94,428.94,null,"","","","","","","","","","","","","",null,null,"","","","",null,"","","","","","","","",""]
[{"$f":"'Races, Positions & Points'!A33","v":"Robyn Doherty"},{"$f":"IF('Races, Positions & Points'!P33=\"\",\"\",'Races, Positions & Points'!P33)","v":""},{"$f":"IF('Races, Positions & Points'!S33=\"\",\"\",'Races, Positions & Points'!S33)","v":""},{"$f":"IF('Races, Positions & Points'!T33=\"\",\"\",'Races, Positions & Points'!T33)","v":""},{"$f":"IF('Races, Positions & Points'!W33=\"\",\"\",'Races, Positions & Points'!W33)","v":""},{"$f":"IF('Races, Positions & Points'!X33=\"\",\"\",'Races, Positions & Points'!X33)","v":""},{"$f":"IF('Races, Positions & Points'!AA33=\"\",\"\",'Races, Positions & Points'!AA33)","v":""},{"$f":"IF('Races, Positions & Points'!AD33=\"\",\"\",'Races, Positions & Points'!AD33)","v":""},{"$f":"IF('Races, Positions & Points'!AG33=\"\",\"\",'Races, Positions & Points'!AG33)","v":""},{"$f":"IF('Races, Positions & Points'!AJ33=\"\",\"\",'Races, Positions & Points'!AJ33)","v":""},{"$f":"IF('Races, Positions & Points'!AM33=\"\",\"\",'Races, Positions & Points'!AM33)","v":""},{"$f":"IF('Races, Positions & Points'!AP33=\"\",\"\",'Races, Positions & Points'!AP33)","v":""},{"$f":"IF('Races, Positions & Points'!AS33=\"\",\"\",'Races, Positions & Points'!AS33)","v":""},{"$f":"IF('Races, Positions & Points'!AV33=\"\",\"\",'Races, Positions & Points'!AV33)","v":""},{"$f":"IF('Races, Positions & Points'!AW33=\"\",\"\",'Races, Positions & Points'!AW33)","v":""},{"$f":"IF('Races, Positions & Points'!AZ33=\"\",\"\",'Races, Positions & Points'!AZ33)","v":""},{"$f":"IF('Races, Positions & Points'!BC33=\"\",\"\",'Races, Positions & Points'!BC33)","v":""},{"$f":"IF('Races, Positions & Points'!BF33=\"\",\"\",'Races, Positions & Points'!BF33)","v":""},{"$f":"IF('Races, Positions & Points'!BI33=\"\",\"\",'Races, Positions & Points'!BI33)","v":""},{"$f":"IF('Races, Positions & Points'!BL33=\"\",\"\",'Races, Positions & Points'!BL33)","v":""},{"$f":"IF('Races, Positions & Points'!BO33=\"\",\"\",'Races, Positions & Points'!BO33)","v":""},{"$f":"IF('Races, Positions & Points'!BR33=\"\",\"\",'Races, Positions & Points'!BR33)","v":""},{"$f":"IF('Races, Positions & Points'!BU33=\"\",\"\",'Races, Positions & Points'!BU33)","v":""},{"$f":"IF('Races, Positions & Points'!BX33=\"\",\"\",'Races, Positions & Points'!BX33)","v":""},{"$f":"IF('Races, Positions & Points'!CA33=\"\",\"\",'Races, Positions & Points'!CA33)","v":""},{"$f":"IF('Races, Positions & Points'!CD33=\"\",\"\",'Races, Positions & Points'!CD33)","v":""},{"$f":"IF('Races, Positions & Points'!CE33=\"\",\"\",'Races, Positions & Points'!CE33)","v":""},{"$f":"IF('Races, Positions & Points'!CH33=\"\",\"\",'Races, Positions & Points'!CH33)","v":""},{"$f":"IF('Races, Positions & Points'!CK33=\"\",\"\",'Races, Positions & Points'!CK33)","v":""},{"$f":"IF('Races, Positions & Points'!CN33=\"\",\"\",'Races, Positions & Points'!CN33)","v":""},{"$f":"IF('Races, Positions & Points'!CQ33=\"\",\"\",'Races, Positions & Points'!CQ33)","v":""},{"$f":"IF('Races, Positions & Points'!CT33=\"\",\"\",'Races, Positions & Points'!CT33)","v":""},{"$f":"IF('Races, Positions & Points'!CW33=\"\",\"\",'Races, Positions & Points'!CW33)","v":""},{"$f":"IF('Races, Positions & Points'!CZ33=\"\",\"\",'Races, Positions & Points'!CZ33)","v":""},{"$f":"IF('Races, Positions & Points'!DE33=\"\",\"\",'Races, Positions & Points'!DE33)","v":""},{"$f":"IF('Races, Positions & Points'!DH33=\"\",\"\",'Races, Positions & Points'!DH33)","v":""},{"$f":"IF('Races, Positions & Points'!DK33=\"\",\"\",'Races, Positions & Points'!DK33)","v":""},{"$f":"IF('Races, Positions & Points'!DN33=\"\",\"\",'Races, Positions & Points'!DN33)","v":""},{"$f":"IF('Races, Positions & Points'!DQ33=\"\",\"\",'Races, Positions & Points'!DQ33)","v":""},{"$f":"IF('Races, Positions & Points'!DT33=\"\",\"\",'Races, Positions & Points'!DT33)","v":""},{"$f":"IF('Races, Positions & Points'!DW33=\"\",\"\",'Races, Positions & Points'!DW33)","v":""},{"$f":"IF('Races, Positions & Points'!DZ33=\"\",\"\",'Races, Positions & Points'!DZ33)","v":""},{"$f":"IF('Races, Positions & Points'!EC33=\"\",\"\",'Races, Positions & Points'!EC33)","v":""},null,0,0,0,0,0,0,null,{"$f":"VLOOKUP(A33,'Races, Positions & Points'!$A$8:$E$76,5,FALSE)","v":19573},{"$f":"VLOOKUP(AZ33,'Start of Year Points'!$A$2:$I$1998,9,FALSE)","v":530.29},"","","",530.29,"",530.29,636.35,636.35,null,"","","","","","","","","","","","","",null,null,"","","","",null,"","","","","","","","",""]
[{"$f":"'Races, Positions & Points'!A34","v":"Jane Lee"},{"$f":"IF('Races, Positions & Points'!P34=\"\",\"\",'Races, Positions & Points'!P34)","v":""},{"$f":"IF('Races, Positions & Points'!S34=\"\",\"\",'Races, Positions & Points'!S34)","v":""},{"$f":"IF('Races, Positions & Points'!T34=\"\",\"\",'Races, Positions & Points'!T34)","v":""},{"$f":"IF('Races, Positions & Points'!W34=\"\",\"\",'Races, Positions & Points'!W34)","v":""},{"$f":"IF('Races, Positions & Points'!X34=\"\",\"\",'Races, Positions & Points'!X34)","v":""},{"$f":"IF('Races, Positions & Points'!AA34=\"\",\"\",'Races, Positions & Points'!AA34)","v":""},{"$f":"IF('Races, Positions & Points'!AD34=\"\",\"\",'Races, Positions & Points'!AD34)","v":""},{"$f":"IF('Races, Positions & Points'!AG34=\"\",\"\",'Races, Positions & Points'!AG34)","v":""},{"$f":"IF('Races, Positions & Points'!AJ34=\"\",\"\",'Races, Positions & Points'!AJ34)","v":""},{"$f":"IF('Races, Positions & Points'!AM34=\"\",\"\",'Races, Positions & Points'!AM34)","v":""},{"$f":"IF('Races, Positions & Points'!AP34=\"\",\"\",'Races, Positions & Points'!AP34)","v":""},{"$f":"IF('Races, Positions & Points'!AS34=\"\",\"\",'Races, Positions & Points'!AS34)","v":""},{"$f":"IF('Races, Positions & Points'!AV34=\"\",\"\",'Races, Positions & Points'!AV34)","v":""},{"$f":"IF('Races, Positions & Points'!AW34=\"\",\"\",'Races, Positions & Points'!AW34)","v":""},{"$f":"IF('Races, Positions & Points'!AZ34=\"\",\"\",'Races, Positions & Points'!AZ34)","v":""},{"$f":"IF('Races, Positions & Points'!BC34=\"\",\"\",'Races, Positions & Points'!BC34)","v":""},{"$f":"IF('Races, Positions & Points'!BF34=\"\",\"\",'Races, Positions & Points'!BF34)","v":""},{"$f":"IF('Races, Positions & Points'!BI34=\"\",\"\",'Races, Positions & Points'!BI34)","v":""},{"$f":"IF('Races, Positions & Points'!BL34=\"\",\"\",'Races, Positions & Points'!BL34)","v":""},{"$f":"IF('Races, Positions & Points'!BO34=\"\",\"\",'Races, Positions & Points'!BO34)","v":""},{"$f":"IF('Races, Positions & Points'!BR34=\"\",\"\",'Races, Positions & Points'!BR34)","v":""},{"$f":"IF('Races, Positions & Points'!BU34=\"\",\"\",'Races, Positions & Points'!BU34)","v":""},{"$f":"IF('Races, Positions & Points'!BX34=\"\",\"\",'Races, Positions & Points'!BX34)","v":""},{"$f":"IF('Races, Positions & Points'!CA34=\"\",\"\",'Races, Positions & Points'!CA34)","v":""},{"$f":"IF('Races, Positions & Points'!CD34=\"\",\"\",'Races, Positions & Points'!CD34)","v":""},{"$f":"IF('Races, Positions & Points'!CE34=\"\",\"\",'Races, Positions & Points'!CE34)","v":""},{"$f":"IF('Races, Positions & Points'!CH34=\"\",\"\",'Races, Positions & Points'!CH34)","v":""},{"$f":"IF('Races, Positions & Points'!CK34=\"\",\"\",'Races, Positions & Points'!CK34)","v":""},{"$f":"IF('Races, Positions & Points'!CN34=\"\",\"\",'Races, Positions & Points'!CN34)","v":""},{"$f":"IF('Races, Positions & Points'!CQ34=\"\",\"\",'Races, Positions & Points'!CQ34)","v":""},{"$f":"IF('Races, Positions & Points'!CT34=\"\",\"\",'Races, Positions & Points'!CT34)","v":""},{"$f":"IF('Races, Positions & Points'!CW34=\"\",\"\",'Races, Positions & Points'!CW34)","v":""},{"$f":"IF('Races, Positions & Points'!CZ34=\"\",\"\",'Races, Positions & Points'!CZ34)","v":""},{"$f":"IF('Races, Positions & Points'!DE34=\"\",\"\",'Races, Positions & Points'!DE34)","v":""},{"$f":"IF('Races, Positions & Points'!DH34=\"\",\"\",'Races, Positions & Points'!DH34)","v":""},{"$f":"IF('Races, Positions & Points'!DK34=\"\",\"\",'Races, Positions & Points'!DK34)","v":""},{"$f":"IF('Races, Positions & Points'!DN34=\"\",\"\",'Races, Positions & Points'!DN34)","v":""},{"$f":"IF('Races, Positions & Points'!DQ34=\"\",\"\",'Races, Positions & Points'!DQ34)","v":""},{"$f":"IF('Races, Positions & Points'!DT34=\"\",\"\",'Races, Positions & Points'!DT34)","v":""},{"$f":"IF('Races, Positions & Points'!DW34=\"\",\"\",'Races, Positions & Points'!DW34)","v":""},{"$f":"IF('Races, Positions & Points'!DZ34=\"\",\"\",'Races, Positions & Points'!DZ34)","v":""},{"$f":"IF('Races, Positions & Points'!EC34=\"\",\"\",'Races, Positions & Points'!EC34)","v":""},null,0,0,0,0,0,0,null,{"$f":"VLOOKUP(A34,'Races, Positions & Points'!$A$8:$E$76,5,FALSE)","v":41577},{"$f":"VLOOKUP(AZ34,'Start of Year Points'!$A$2:$I$1998,9,FALSE)","v":533.71},"","","",533.71,"",533.71,640.45000000000005,640.45000000000005,null,"","","","","","","","","","","","","",null,null,"","","","",null,"","","","","","","","",""]
[{"$f":"'Races, Positions & Points'!A35","v":"Emily Dawes"},{"$f":"IF('Races, Positions & Points'!P35=\"\",\"\",'Races, Positions & Points'!P35)","v":""},{"$f":"IF('Races, Positions & Points'!S35=\"\",\"\",'Races, Positions & Points'!S35)","v":""},{"$f":"IF('Races, Positions & Points'!T35=\"\",\"\",'Races, Positions & Points'!T35)","v":""},{"$f":"IF('Races, Positions & Points'!W35=\"\",\"\",'Races, Positions & Points'!W35)","v":""},{"$f":"IF('Races, Positions & Points'!X35=\"\",\"\",'Races, Positions & Points'!X35)","v":""},{"$f":"IF('Races, Positions & Points'!AA35=\"\",\"\",'Races, Positions & Points'!AA35)","v":""},{"$f":"IF('Races, Positions & Points'!AD35=\"\",\"\",'Races, Positions & Points'!AD35)","v":""},{"$f":"IF('Races, Positions & Points'!AG35=\"\",\"\",'Races, Positions & Points'!AG35)","v":""},{"$f":"IF('Races, Positions & Points'!AJ35=\"\",\"\",'Races, Positions & Points'!AJ35)","v":""},{"$f":"IF('Races, Positions & Points'!AM35=\"\",\"\",'Races, Positions & Points'!AM35)","v":""},{"$f":"IF('Races, Positions & Points'!AP35=\"\",\"\",'Races, Positions & Points'!AP35)","v":""},{"$f":"IF('Races, Positions & Points'!AS35=\"\",\"\",'Races, Positions & Points'!AS35)","v":""},{"$f":"IF('Races, Positions & Points'!AV35=\"\",\"\",'Races, Positions & Points'!AV35)","v":""},{"$f":"IF('Races, Positions & Points'!AW35=\"\",\"\",'Races, Positions & Points'!AW35)","v":""},{"$f":"IF('Races, Positions & Points'!AZ35=\"\",\"\",'Races, Positions & Points'!AZ35)","v":""},{"$f":"IF('Races, Positions & Points'!BC35=\"\",\"\",'Races, Positions & Points'!BC35)","v":""},{"$f":"IF('Races, Positions & Points'!BF35=\"\",\"\",'Races, Positions & Points'!BF35)","v":""},{"$f":"IF('Races, Positions & Points'!BI35=\"\",\"\",'Races, Positions & Points'!BI35)","v":""},{"$f":"IF('Races, Positions & Points'!BL35=\"\",\"\",'Races, Positions & Points'!BL35)","v":""},{"$f":"IF('Races, Positions & Points'!BO35=\"\",\"\",'Races, Positions & Points'!BO35)","v":""},{"$f":"IF('Races, Positions & Points'!BR35=\"\",\"\",'Races, Positions & Points'!BR35)","v":""},{"$f":"IF('Races, Positions & Points'!BU35=\"\",\"\",'Races, Positions & Points'!BU35)","v":""},{"$f":"IF('Races, Positions & Points'!BX35=\"\",\"\",'Races, Positions & Points'!BX35)","v":""},{"$f":"IF('Races, Positions & Points'!CA35=\"\",\"\",'Races, Positions & Points'!CA35)","v":""},{"$f":"IF('Races, Positions & Points'!CD35=\"\",\"\",'Races, Positions & Points'!CD35)","v":""},{"$f":"IF('Races, Positions & Points'!CE35=\"\",\"\",'Races, Positions & Points'!CE35)","v":""},{"$f":"IF('Races, Positions & Points'!CH35=\"\",\"\",'Races, Positions & Points'!CH35)","v":""},{"$f":"IF('Races, Positions & Points'!CK35=\"\",\"\",'Races, Positions & Points'!CK35)","v":""},{"$f":"IF('Races, Positions & Points'!CN35=\"\",\"\",'Races, Positions & Points'!CN35)","v":""},{"$f":"IF('Races, Positions & Points'!CQ35=\"\",\"\",'Races, Positions & Points'!CQ35)","v":""},{"$f":"IF('Races, Positions & Points'!CT35=\"\",\"\",'Races, Positions & Points'!CT35)","v":""},{"$f":"IF('Races, Positions & Points'!CW35=\"\",\"\",'Races, Positions & Points'!CW35)","v":""},{"$f":"IF('Races, Positions & Points'!CZ35=\"\",\"\",'Races, Positions & Points'!CZ35)","v":""},{"$f":"IF('Races, Positions & Points'!DE35=\"\",\"\",'Races, Positions & Points'!DE35)","v":""},{"$f":"IF('Races, Positions & Points'!DH35=\"\",\"\",'Races, Positions & Points'!DH35)","v":""},{"$f":"IF('Races, Positions & Points'!DK35=\"\",\"\",'Races, Positions & Points'!DK35)","v":""},{"$f":"IF('Races, Positions & Points'!DN35=\"\",\"\",'Races, Positions & Points'!DN35)","v":""},{"$f":"IF('Races, Positions & Points'!DQ35=\"\",\"\",'Races, Positions & Points'!DQ35)","v":""},{"$f":"IF('Races, Positions & Points'!DT35=\"\",\"\",'Races, Positions & Points'!DT35)","v":""},{"$f":"IF('Races, Positions & Points'!DW35=\"\",\"\",'Races, Positions & Points'!DW35)","v":""},{"$f":"IF('Races, Positions & Points'!DZ35=\"\",\"\",'Races, Positions & Points'!DZ35)","v":""},{"$f":"IF('Races, Positions & Points'!EC35=\"\",\"\",'Races, Positions & Points'!EC35)","v":""},null,0,0,0,0,0,0,null,{"$f":"VLOOKUP(A35,'Races, Positions & Points'!$A$8:$E$76,5,FALSE)","v":14263},null,"",null,null,null,null,null,null,null,null,null,null,null,null,null,null,null,null,null,null,""]
[{"$f":"'Races, Positions & Points'!A36","v":"Sophia Phelps"},{"$f":"IF('Races, Positions & Points'!P36=\"\",\"\",'Races, Positions & Points'!P36)","v":""},{"$f":"IF('Races, Positions & Points'!S36=\"\",\"\",'Races, Positions & Points'!S36)","v":""},{"$f":"IF('Races, Positions & Points'!T36=\"\",\"\",'Races, Positions & Points'!T36)","v":""},{"$f":"IF('Races, Positions & Points'!W36=\"\",\"\",'Races, Positions & Points'!W36)","v":""},{"$f":"IF('Races, Positions & Points'!X36=\"\",\"\",'Races, Positions & Points'!X36)","v":""},{"$f":"IF('Races, Positions & Points'!AA36=\"\",\"\",'Races, Positions & Points'!AA36)","v":""},{"$f":"IF('Races, Positions & Points'!AD36=\"\",\"\",'Races, Positions & Points'!AD36)","v":""},{"$f":"IF('Races, Positions & Points'!AG36=\"\",\"\",'Races, Positions & Points'!AG36)","v":""},{"$f":"IF('Races, Positions & Points'!AJ36=\"\",\"\",'Races, Positions & Points'!AJ36)","v":""},{"$f":"IF('Races, Positions & Points'!AM36=\"\",\"\",'Races, Positions & Points'!AM36)","v":""},{"$f":"IF('Races, Positions & Points'!AP36=\"\",\"\",'Races, Positions & Points'!AP36)","v":""},{"$f":"IF('Races, Positions & Points'!AS36=\"\",\"\",'Races, Positions & Points'!AS36)","v":""},{"$f":"IF('Races, Positions & Points'!AV36=\"\",\"\",'Races, Positions & Points'!AV36)","v":""},{"$f":"IF('Races, Positions & Points'!AW36=\"\",\"\",'Races, Positions & Points'!AW36)","v":""},{"$f":"IF('Races, Positions & Points'!AZ36=\"\",\"\",'Races, Positions & Points'!AZ36)","v":""},{"$f":"IF('Races, Positions & Points'!BC36=\"\",\"\",'Races, Positions & Points'!BC36)","v":""},{"$f":"IF('Races, Positions & Points'!BF36=\"\",\"\",'Races, Positions & Points'!BF36)","v":""},{"$f":"IF('Races, Positions & Points'!BI36=\"\",\"\",'Races, Positions & Points'!BI36)","v":""},{"$f":"IF('Races, Positions & Points'!BL36=\"\",\"\",'Races, Positions & Points'!BL36)","v":""},{"$f":"IF('Races, Positions & Points'!BO36=\"\",\"\",'Races, Positions & Points'!BO36)","v":""},{"$f":"IF('Races, Positions & Points'!BR36=\"\",\"\",'Races, Positions & Points'!BR36)","v":""},{"$f":"IF('Races, Positions & Points'!BU36=\"\",\"\",'Races, Positions & Points'!BU36)","v":""},{"$f":"IF('Races, Positions & Points'!BX36=\"\",\"\",'Races, Positions & Points'!BX36)","v":""},{"$f":"IF('Races, Positions & Points'!CA36=\"\",\"\",'Races, Positions & Points'!CA36)","v":""},{"$f":"IF('Races, Positions & Points'!CD36=\"\",\"\",'Races, Positions & Points'!CD36)","v":""},{"$f":"IF('Races, Positions & Points'!CE36=\"\",\"\",'Races, Positions & Points'!CE36)","v":""},{"$f":"IF('Races, Positions & Points'!CH36=\"\",\"\",'Races, Positions & Points'!CH36)","v":""},{"$f":"IF('Races, Positions & Points'!CK36=\"\",\"\",'Races, Positions & Points'!CK36)","v":""},{"$f":"IF('Races, Positions & Points'!CN36=\"\",\"\",'Races, Positions & Points'!CN36)","v":""},{"$f":"IF('Races, Positions & Points'!CQ36=\"\",\"\",'Races, Positions & Points'!CQ36)","v":""},{"$f":"IF('Races, Positions & Points'!CT36=\"\",\"\",'Races, Positions & Points'!CT36)","v":""},{"$f":"IF('Races, Positions & Points'!CW36=\"\",\"\",'Races, Positions & Points'!CW36)","v":""},{"$f":"IF('Races, Positions & Points'!CZ36=\"\",\"\",'Races, Positions & Points'!CZ36)","v":""},{"$f":"IF('Races, Positions & Points'!DE36=\"\",\"\",'Races, Positions & Points'!DE36)","v":""},{"$f":"IF('Races, Positions & Points'!DH36=\"\",\"\",'Races, Positions & Points'!DH36)","v":""},{"$f":"IF('Races, Positions & Points'!DK36=\"\",\"\",'Races, Positions & Points'!DK36)","v":""},{"$f":"IF('Races, Positions & Points'!DN36=\"\",\"\",'Races, Positions & Points'!DN36)","v":""},{"$f":"IF('Races, Positions & Points'!DQ36=\"\",\"\",'Races, Positions & Points'!DQ36)","v":""},{"$f":"IF('Races, Positions & Points'!DT36=\"\",\"\",'Races, Positions & Points'!DT36)","v":""},{"$f":"IF('Races, Positions & Points'!DW36=\"\",\"\",'Races, Positions & Points'!DW36)","v":""},{"$f":"IF('Races, Positions & Points'!DZ36=\"\",\"\",'Races, Positions & Points'!DZ36)","v":""},{"$f":"IF('Races, Positions & Points'!EC36=\"\",\"\",'Races, Positions & Points'!EC36)","v":""},null,0,0,0,0,0,0,null,{"$f":"VLOOKUP(A36,'Races, Positions & Points'!$A$8:$E$76,5,FALSE)","v":17839},null,"",null,null,null,null,null,null,null,null,null,null,null,null,null,null,null,null,null,null,""]
[{"$f":"'Races, Positions & Points'!A37","v":"Olivia Waller"},{"$f":"IF('Races, Positions & Points'!P37=\"\",\"\",'Races, Positions & Points'!P37)","v":""},{"$f":"IF('Races, Positions & Points'!S37=\"\",\"\",'Races, Positions & Points'!S37)","v":""},{"$f":"IF('Races, Positions & Points'!T37=\"\",\"\",'Races, Positions & Points'!T37)","v":""},{"$f":"IF('Races, Positions & Points'!W37=\"\",\"\",'Races, Positions & Points'!W37)","v":""},{"$f":"IF('Races, Positions & Points'!X37=\"\",\"\",'Races, Positions & Points'!X37)","v":""},{"$f":"IF('Races, Positions & Points'!AA37=\"\",\"\",'Races, Positions & Points'!AA37)","v":""},{"$f":"IF('Races, Positions & Points'!AD37=\"\",\"\",'Races, Positions & Points'!AD37)","v":""},{"$f":"IF('Races, Positions & Points'!AG37=\"\",\"\",'Races, Positions & Points'!AG37)","v":""},{"$f":"IF('Races, Positions & Points'!AJ37=\"\",\"\",'Races, Positions & Points'!AJ37)","v":""},{"$f":"IF('Races, Positions & Points'!AM37=\"\",\"\",'Races, Positions & Points'!AM37)","v":""},{"$f":"IF('Races, Positions & Points'!AP37=\"\",\"\",'Races, Positions & Points'!AP37)","v":""},{"$f":"IF('Races, Positions & Points'!AS37=\"\",\"\",'Races, Positions & Points'!AS37)","v":""},{"$f":"IF('Races, Positions & Points'!AV37=\"\",\"\",'Races, Positions & Points'!AV37)","v":""},{"$f":"IF('Races, Positions & Points'!AW37=\"\",\"\",'Races, Positions & Points'!AW37)","v":""},{"$f":"IF('Races, Positions & Points'!AZ37=\"\",\"\",'Races, Positions & Points'!AZ37)","v":""},{"$f":"IF('Races, Positions & Points'!BC37=\"\",\"\",'Races, Positions & Points'!BC37)","v":""},{"$f":"IF('Races, Positions & Points'!BF37=\"\",\"\",'Races, Positions & Points'!BF37)","v":""},{"$f":"IF('Races, Positions & Points'!BI37=\"\",\"\",'Races, Positions & Points'!BI37)","v":""},{"$f":"IF('Races, Positions & Points'!BL37=\"\",\"\",'Races, Positions & Points'!BL37)","v":""},{"$f":"IF('Races, Positions & Points'!BO37=\"\",\"\",'Races, Positions & Points'!BO37)","v":""},{"$f":"IF('Races, Positions & Points'!BR37=\"\",\"\",'Races, Positions & Points'!BR37)","v":""},{"$f":"IF('Races, Positions & Points'!BU37=\"\",\"\",'Races, Positions & Points'!BU37)","v":""},{"$f":"IF('Races, Positions & Points'!BX37=\"\",\"\",'Races, Positions & Points'!BX37)","v":""},{"$f":"IF('Races, Positions & Points'!CA37=\"\",\"\",'Races, Positions & Points'!CA37)","v":""},{"$f":"IF('Races, Positions & Points'!CD37=\"\",\"\",'Races, Positions & Points'!CD37)","v":""},{"$f":"IF('Races, Positions & Points'!CE37=\"\",\"\",'Races, Positions & Points'!CE37)","v":""},{"$f":"IF('Races, Positions & Points'!CH37=\"\",\"\",'Races, Positions & Points'!CH37)","v":""},{"$f":"IF('Races, Positions & Points'!CK37=\"\",\"\",'Races, Positions & Points'!CK37)","v":""},{"$f":"IF('Races, Positions & Points'!CN37=\"\",\"\",'Races, Positions & Points'!CN37)","v":""},{"$f":"IF('Races, Positions & Points'!CQ37=\"\",\"\",'Races, Positions & Points'!CQ37)","v":""},{"$f":"IF('Races, Positions & Points'!CT37=\"\",\"\",'Races, Positions & Points'!CT37)","v":""},{"$f":"IF('Races, Positions & Points'!CW37=\"\",\"\",'Races, Positions & Points'!CW37)","v":""},{"$f":"IF('Races, Positions & Points'!CZ37=\"\",\"\",'Races, Positions & Points'!CZ37)","v":""},{"$f":"IF('Races, Positions & Points'!DE37=\"\",\"\",'Races, Positions & Points'!DE37)","v":""},{"$f":"IF('Races, Positions & Points'!DH37=\"\",\"\",'Races, Positions & Points'!DH37)","v":""},{"$f":"IF('Races, Positions & Points'!DK37=\"\",\"\",'Races, Positions & Points'!DK37)","v":""},{"$f":"IF('Races, Positions & Points'!DN37=\"\",\"\",'Races, Positions & Points'!DN37)","v":""},{"$f":"IF('Races, Positions & Points'!DQ37=\"\",\"\",'Races, Positions & Points'!DQ37)","v":""},{"$f":"IF('Races, Positions & Points'!DT37=\"\",\"\",'Races, Positions & Points'!DT37)","v":""},{"$f":"IF('Races, Positions & Points'!DW37=\"\",\"\",'Races, Positions & Points'!DW37)","v":""},{"$f":"IF('Races, Positions & Points'!DZ37=\"\",\"\",'Races, Positions & Points'!DZ37)","v":""},{"$f":"IF('Races, Positions & Points'!EC37=\"\",\"\",'Races, Positions & Points'!EC37)","v":""},null,0,0,0,0,0,0,null,{"$f":"VLOOKUP(A37,'Races, Positions & Points'!$A$8:$E$76,5,FALSE)","v":17516},null,"",null,null,null,null,null,null,null,null,null,null,null,null,null,null,null,null,null,null,""]
[{"$f":"'Races, Positions & Points'!A38","v":"Agathe Vallat"},{"$f":"IF('Races, Positions & Points'!P38=\"\",\"\",'Races, Positions & Points'!P38)","v":""},{"$f":"IF('Races, Positions & Points'!S38=\"\",\"\",'Races, Positions & Points'!S38)","v":""},{"$f":"IF('Races, Positions & Points'!T38=\"\",\"\",'Races, Positions & Points'!T38)","v":""},{"$f":"IF('Races, Positions & Points'!W38=\"\",\"\",'Races, Positions & Points'!W38)","v":""},{"$f":"IF('Races, Positions & Points'!X38=\"\",\"\",'Races, Positions & Points'!X38)","v":""},{"$f":"IF('Races, Positions & Points'!AA38=\"\",\"\",'Races, Positions & Points'!AA38)","v":""},{"$f":"IF('Races, Positions & Points'!AD38=\"\",\"\",'Races, Positions & Points'!AD38)","v":""},{"$f":"IF('Races, Positions & Points'!AG38=\"\",\"\",'Races, Positions & Points'!AG38)","v":""},{"$f":"IF('Races, Positions & Points'!AJ38=\"\",\"\",'Races, Positions & Points'!AJ38)","v":""},{"$f":"IF('Races, Positions & Points'!AM38=\"\",\"\",'Races, Positions & Points'!AM38)","v":""},{"$f":"IF('Races, Positions & Points'!AP38=\"\",\"\",'Races, Positions & Points'!AP38)","v":""},{"$f":"IF('Races, Positions & Points'!AS38=\"\",\"\",'Races, Positions & Points'!AS38)","v":""},{"$f":"IF('Races, Positions & Points'!AV38=\"\",\"\",'Races, Positions & Points'!AV38)","v":""},{"$f":"IF('Races, Positions & Points'!AW38=\"\",\"\",'Races, Positions & Points'!AW38)","v":""},{"$f":"IF('Races, Positions & Points'!AZ38=\"\",\"\",'Races, Positions & Points'!AZ38)","v":""},{"$f":"IF('Races, Positions & Points'!BC38=\"\",\"\",'Races, Positions & Points'!BC38)","v":""},{"$f":"IF('Races, Positions & Points'!BF38=\"\",\"\",'Races, Positions & Points'!BF38)","v":""},{"$f":"IF('Races, Positions & Points'!BI38=\"\",\"\",'Races, Positions & Points'!BI38)","v":""},{"$f":"IF('Races, Positions & Points'!BL38=\"\",\"\",'Races, Positions & Points'!BL38)","v":""},{"$f":"IF('Races, Positions & Points'!BO38=\"\",\"\",'Races, Positions & Points'!BO38)","v":""},{"$f":"IF('Races, Positions & Points'!BR38=\"\",\"\",'Races, Positions & Points'!BR38)","v":""},{"$f":"IF('Races, Positions & Points'!BU38=\"\",\"\",'Races, Positions & Points'!BU38)","v":""},{"$f":"IF('Races, Positions & Points'!BX38=\"\",\"\",'Races, Positions & Points'!BX38)","v":388.18},{"$f":"IF('Races, Positions & Points'!CA38=\"\",\"\",'Races, Positions & Points'!CA38)","v":""},{"$f":"IF('Races, Positions & Points'!CD38=\"\",\"\",'Races, Positions & Points'!CD38)","v":""},{"$f":"IF('Races, Positions & Points'!CE38=\"\",\"\",'Races, Positions & Points'!CE38)","v":""},{"$f":"IF('Races, Positions & Points'!CH38=\"\",\"\",'Races, Positions & Points'!CH38)","v":""},{"$f":"IF('Races, Positions & Points'!CK38=\"\",\"\",'Races, Positions & Points'!CK38)","v":""},{"$f":"IF('Races, Positions & Points'!CN38=\"\",\"\",'Races, Positions & Points'!CN38)","v":""},{"$f":"IF('Races, Positions & Points'!CQ38=\"\",\"\",'Races, Positions & Points'!CQ38)","v":""},{"$f":"IF('Races, Positions & Points'!CT38=\"\",\"\",'Races, Positions & Points'!CT38)","v":""},{"$f":"IF('Races, Positions & Points'!CW38=\"\",\"\",'Races, Positions & Points'!CW38)","v":""},{"$f":"IF('Races, Positions & Points'!CZ38=\"\",\"\",'Races, Positions & Points'!CZ38)","v":""},{"$f":"IF('Races, Positions & Points'!DE38=\"\",\"\",'Races, Positions & Points'!DE38)","v":""},{"$f":"IF('Races, Positions & Points'!DH38=\"\",\"\",'Races, Positions & Points'!DH38)","v":""},{"$f":"IF('Races, Positions & Points'!DK38=\"\",\"\",'Races, Positions & Points'!DK38)","v":""},{"$f":"IF('Races, Positions & Points'!DN38=\"\",\"\",'Races, Positions & Points'!DN38)","v":""},{"$f":"IF('Races, Positions & Points'!DQ38=\"\",\"\",'Races, Positions & Points'!DQ38)","v":""},{"$f":"IF('Races, Positions & Points'!DT38=\"\",\"\",'Races, Positions & Points'!DT38)","v":""},{"$f":"IF('Races, Positions & Points'!DW38=\"\",\"\",'Races, Positions & Points'!DW38)","v":""},{"$f":"IF('Races, Positions & Points'!DZ38=\"\",\"\",'Races, Positions & Points'!DZ38)","v":""},{"$f":"IF('Races, Positions & Points'!EC38=\"\",\"\",'Races, Positions & Points'!EC38)","v":""},null,{"$f":"COUNTIFS(B$4:AQ$4,\"=In\",B$3:AQ$3,\"=10\",B$5:AQ$5,\"=Y\",B38:AQ38,\">0\")","v":0},{"$f":"COUNTIFS(B$4:AQ$4,\"=Out\",B$3:AQ$3,\"=10\",B$5:AQ$5,\"=Y\",B38:AQ38,\">0\")","v":1},{"$f":"COUNTIFS(B$4:AQ$4,\"=In\",B$3:AQ$3,\"=5\",B$5:AQ$5,\"=Y\",B38:AQ38,\">0\")","v":0},{"$f":"COUNTIFS(B$4:AQ$4,\"=Out\",B$3:AQ$3,\"=5\",B$5:AQ$5,\"=Y\",B38:AQ38,\">0\")","v":0},{"$f":"COUNTIFS(B$4:AQ$4,\"=In\",B$3:AQ$3,\"=0\",B$5:AQ$5,\"=Y\",B38:AQ38,\">0\")","v":0},{"$f":"COUNTIFS(B$4:AQ$4,\"=Out\",B$3:AQ$3,\"=0\",B$5:AQ$5,\"=Y\",B38:AQ38,\">0\")","v":0},null,{"$f":"VLOOKUP(A38,'Races, Positions & Points'!$A$8:$E$76,5,FALSE)","v":21606},{"$f":"VLOOKUP(AZ38,'Start of Year Points'!$A$2:$I$1998,9,FALSE)","v":999.99},388.18,{"$f":"IF(ISERROR(SMALL(BK38:BW38,2)),\"\",SMALL(BK38:BW38,2))","v":""},"","",465.82,{"$f":"MIN(BA38,BD38,BE38,BF38)","v":465.82},999.99,{"$f":"MIN(BD38,BF38,BH38)","v":465.82},null,{"$f":"IF(MIN(B38,X38,Y38,AD38,AE38,AI38)>0,MIN(B38,X38,Y38,AD38,AE38,AI38),\"\")","v":388.18},{"$f":"IF(MIN(C38,D38,E38,F38,K38,L38,AF38,AG38,AN38,AQ38)>0,MIN(C38,D38,E38,F38,K38,L38,AF38,AG38,AN38,AQ38),\"\")","v":""},{"$f":"IF(MIN(G38,H38,N38)>0,MIN(G38,H38,N38),\"\")","v":""},{"$f":"IF(MIN(I38,J38,P38,Q38)>0,MIN(I38,J38,P38,Q38),\"\")","v":""},{"$f":"IF(M38>0,M38,\"\")","v":""},{"$f":"IF(MIN(S38,AM38)>0,MIN(S38,AM38),\"\")","v":""},{"$f":"IF(U38>0,U38,\"\")","v":""},{"$f":"IF(R38>0,R38,\"\")","v":""},{"$f":"IF(MIN(T38,AH38,AL38)>0,MIN(T38,AH38,AL38),\"\")","v":""},{"$f":"IF(MIN(V38,W38)>0,MIN(V38,W38),\"\")","v":""},"",{"$f":"IF(MIN(AB38,AC38,AJ38,AK38)>0,MIN(AB38,AC38,AJ38,AK38),\"\")","v":""},{"$f":"IF(MIN(AO38,AP38)>0,MIN(AO38,AP38),\"\")","v":""},null,null,{"$f":"IF(MIN(CE38:CM38)>0,MIN(CE38:CM38),\"\")","v":""},{"$f":"IF(ISERROR(SMALL(CE38:CM38,2)),\"\",SMALL(CE38:CM38,2))","v":""},{"$f":"IF(ISERROR(SMALL(CE38:CM38,2)),\"\",AVERAGE(BZ38,CA38))","v":""},{"$f":"IF(ISERROR(BZ38*1.2),\"\",IF(BZ38<50,BZ38+10,BZ38*1.2))","v":""},null,{"$f":"IF(MIN(AD38,AE38,AI38)>0,MIN(B38,AD38,AE38,AI38),\"\")","v":""},{"$f":"IF(MIN(K38,L38,AF38,AG38,AN38,AQ38)>0,MIN(K38,L38,AF38,AG38,AN38,AQ38),\"\")","v":""},{"$f":"IF(MIN(G38,H38)>0,MIN(G38,H38),\"\")","v":""},{"$f":"IF(MIN(I38,J38)>0,MIN(I38,J38),\"\")","v":""},{"$f":"IF(AM38>0,AM38,\"\")","v":""},{"$f":"IF(AH38>0,AH38,\"\")","v":""},{"$f":"IF(MIN(V38,W38)>0,MIN(V38,W38),\"\")","v":""}]
[{"$f":"'Races, Positions & Points'!A39","v":"Carys Phillips"},{"$f":"IF('Races, Positions & Points'!P39=\"\",\"\",'Races, Positions & Points'!P39)","v":""},{"$f":"IF('Races, Positions & Points'!S39=\"\",\"\",'Races, Positions & Points'!S39)","v":""},{"$f":"IF('Races, Positions & Points'!T39=\"\",\"\",'Races, Positions & Points'!T39)","v":""},{"$f":"IF('Races, Positions & Points'!W39=\"\",\"\",'Races, Positions & Points'!W39)","v":""},{"$f":"IF('Races, Positions & Points'!X39=\"\",\"\",'Races, Positions & Points'!X39)","v":""},{"$f":"IF('Races, Positions & Points'!AA39=\"\",\"\",'Races, Positions & Points'!AA39)","v":""},{"$f":"IF('Races, Positions & Points'!AD39=\"\",\"\",'Races, Positions & Points'!AD39)","v":""},{"$f":"IF('Races, Positions & Points'!AG39=\"\",\"\",'Races, Positions & Points'!AG39)","v":""},{"$f":"IF('Races, Positions & Points'!AJ39=\"\",\"\",'Races, Positions & Points'!AJ39)","v":""},{"$f":"IF('Races, Positions & Points'!AM39=\"\",\"\",'Races, Positions & Points'!AM39)","v":""},{"$f":"IF('Races, Positions & Points'!AP39=\"\",\"\",'Races, Positions & Points'!AP39)","v":""},{"$f":"IF('Races, Positions & Points'!AS39=\"\",\"\",'Races, Positions & Points'!AS39)","v":""},{"$f":"IF('Races, Positions & Points'!AV39=\"\",\"\",'Races, Positions & Points'!AV39)","v":""},{"$f":"IF('Races, Positions & Points'!AW39=\"\",\"\",'Races, Positions & Points'!AW39)","v":""},{"$f":"IF('Races, Positions & Points'!AZ39=\"\",\"\",'Races, Positions & Points'!AZ39)","v":""},{"$f":"IF('Races, Positions & Points'!BC39=\"\",\"\",'Races, Positions & Points'!BC39)","v":""},{"$f":"IF('Races, Positions & Points'!BF39=\"\",\"\",'Races, Positions & Points'!BF39)","v":""},{"$f":"IF('Races, Positions & Points'!BI39=\"\",\"\",'Races, Positions & Points'!BI39)","v":""},{"$f":"IF('Races, Positions & Points'!BL39=\"\",\"\",'Races, Positions & Points'!BL39)","v":""},{"$f":"IF('Races, Positions & Points'!BO39=\"\",\"\",'Races, Positions & Points'!BO39)","v":""},{"$f":"IF('Races, Positions & Points'!BR39=\"\",\"\",'Races, Positions & Points'!BR39)","v":""},{"$f":"IF('Races, Positions & Points'!BU39=\"\",\"\",'Races, Positions & Points'!BU39)","v":""},{"$f":"IF('Races, Positions & Points'!BX39=\"\",\"\",'Races, Positions & Points'!BX39)","v":333.45},{"$f":"IF('Races, Positions & Points'!CA39=\"\",\"\",'Races, Positions & Points'!CA39)","v":""},{"$f":"IF('Races, Positions & Points'!CD39=\"\",\"\",'Races, Positions & Points'!CD39)","v":""},{"$f":"IF('Races, Positions & Points'!CE39=\"\",\"\",'Races, Positions & Points'!CE39)","v":""},{"$f":"IF('Races, Positions & Points'!CH39=\"\",\"\",'Races, Positions & Points'!CH39)","v":""},{"$f":"IF('Races, Positions & Points'!CK39=\"\",\"\",'Races, Positions & Points'!CK39)","v":""},{"$f":"IF('Races, Positions & Points'!CN39=\"\",\"\",'Races, Positions & Points'!CN39)","v":""},{"$f":"IF('Races, Positions & Points'!CQ39=\"\",\"\",'Races, Positions & Points'!CQ39)","v":""},{"$f":"IF('Races, Positions & Points'!CT39=\"\",\"\",'Races, Positions & Points'!CT39)","v":""},{"$f":"IF('Races, Positions & Points'!CW39=\"\",\"\",'Races, Positions & Points'!CW39)","v":""},{"$f":"IF('Races, Positions & Points'!CZ39=\"\",\"\",'Races, Positions & Points'!CZ39)","v":""},{"$f":"IF('Races, Positions & Points'!DE39=\"\",\"\",'Races, Positions & Points'!DE39)","v":""},{"$f":"IF('Races, Positions & Points'!DH39=\"\",\"\",'Races, Positions & Points'!DH39)","v":""},{"$f":"IF('Races, Positions & Points'!DK39=\"\",\"\",'Races, Positions & Points'!DK39)","v":""},{"$f":"IF('Races, Positions & Points'!DN39=\"\",\"\",'Races, Positions & Points'!DN39)","v":""},{"$f":"IF('Races, Positions & Points'!DQ39=\"\",\"\",'Races, Positions & Points'!DQ39)","v":""},{"$f":"IF('Races, Positions & Points'!DT39=\"\",\"\",'Races, Positions & Points'!DT39)","v":""},{"$f":"IF('Races, Positions & Points'!DW39=\"\",\"\",'Races, Positions & Points'!DW39)","v":""},{"$f":"IF('Races, Positions & Points'!DZ39=\"\",\"\",'Races, Positions & Points'!DZ39)","v":""},{"$f":"IF('Races, Positions & Points'!EC39=\"\",\"\",'Races, Positions & Points'!EC39)","v":""},null,{"$f":"COUNTIFS(B$4:AQ$4,\"=In\",B$3:AQ$3,\"=10\",B$5:AQ$5,\"=Y\",B39:AQ39,\">0\")","v":0},{"$f":"COUNTIFS(B$4:AQ$4,\"=Out\",B$3:AQ$3,\"=10\",B$5:AQ$5,\"=Y\",B39:AQ39,\">0\")","v":1},{"$f":"COUNTIFS(B$4:AQ$4,\"=In\",B$3:AQ$3,\"=5\",B$5:AQ$5,\"=Y\",B39:AQ39,\">0\")","v":0},{"$f":"COUNTIFS(B$4:AQ$4,\"=Out\",B$3:AQ$3,\"=5\",B$5:AQ$5,\"=Y\",B39:AQ39,\">0\")","v":0},{"$f":"COUNTIFS(B$4:AQ$4,\"=In\",B$3:AQ$3,\"=0\",B$5:AQ$5,\"=Y\",B39:AQ39,\">0\")","v":0},{"$f":"COUNTIFS(B$4:AQ$4,\"=Out\",B$3:AQ$3,\"=0\",B$5:AQ$5,\"=Y\",B39:AQ39,\">0\")","v":0},null,{"$f":"VLOOKUP(A39,'Races, Positions & Points'!$A$8:$E$76,5,FALSE)","v":"Day"},{"$f":"VLOOKUP(AZ39,'Start of Year Points'!$A$2:$I$1998,9,FALSE)","v":999.99},333.45,{"$f":"IF(ISERROR(SMALL(BK39:BW39,2)),\"\",SMALL(BK39:BW39,2))","v":""},"","",400.14,{"$f":"MIN(BA39,BD39,BE39,BF39)","v":400.14},999.99,{"$f":"MIN(BD39,BF39,BH39)","v":400.14},null,{"$f":"IF(MIN(B39,X39,Y39,AD39,AE39,AI39)>0,MIN(B39,X39,Y39,AD39,AE39,AI39),\"\")","v":333.45},{"$f":"IF(MIN(C39,D39,E39,F39,K39,L39,AF39,AG39,AN39,AQ39)>0,MIN(C39,D39,E39,F39,K39,L39,AF39,AG39,AN39,AQ39),\"\")","v":""},{"$f":"IF(MIN(G39,H39,N39)>0,MIN(G39,H39,N39),\"\")","v":""},{"$f":"IF(MIN(I39,J39,P39,Q39)>0,MIN(I39,J39,P39,Q39),\"\")","v":""},{"$f":"IF(M39>0,M39,\"\")","v":""},{"$f":"IF(MIN(S39,AM39)>0,MIN(S39,AM39),\"\")","v":""},{"$f":"IF(U39>0,U39,\"\")","v":""},{"$f":"IF(R39>0,R39,\"\")","v":""},{"$f":"IF(MIN(T39,AH39,AL39)>0,MIN(T39,AH39,AL39),\"\")","v":""},{"$f":"IF(MIN(V39,W39)>0,MIN(V39,W39),\"\")","v":""},"",{"$f":"IF(MIN(AB39,AC39,AJ39,AK39)>0,MIN(AB39,AC39,AJ39,AK39),\"\")","v":""},{"$f":"IF(MIN(AO39,AP39)>0,MIN(AO39,AP39),\"\")","v":""},null,null,{"$f":"IF(MIN(CE39:CM39)>0,MIN(CE39:CM39),\"\")","v":""},{"$f":"IF(ISERROR(SMALL(CE39:CM39,2)),\"\",SMALL(CE39:CM39,2))","v":""},{"$f":"IF(ISERROR(SMALL(CE39:CM39,2)),\"\",AVERAGE(BZ39,CA39))","v":""},{"$f":"IF(ISERROR(BZ39*1.2),\"\",IF(BZ39<50,BZ39+10,BZ39*1.2))","v":""},null,{"$f":"IF(MIN(AD39,AE39,AI39)>0,MIN(B39,AD39,AE39,AI39),\"\")","v":""},{"$f":"IF(MIN(K39,L39,AF39,AG39,AN39,AQ39)>0,MIN(K39,L39,AF39,AG39,AN39,AQ39),\"\")","v":""},{"$f":"IF(MIN(G39,H39)>0,MIN(G39,H39),\"\")","v":""},{"$f":"IF(MIN(I39,J39)>0,MIN(I39,J39),\"\")","v":""},{"$f":"IF(AM39>0,AM39,\"\")","v":""},{"$f":"IF(AH39>0,AH39,\"\")","v":""},{"$f":"IF(MIN(V39,W39)>0,MIN(V39,W39),\"\")","v":""}]
[]
[{"$f":"'Races, Positions & Points'!A41","v":"Harry Hornsby"},{"$f":"IF('Races, Positions & Points'!P41=\"\",\"\",'Races, Positions & Points'!P41)","v":10},{"$f":"IF('Races, Positions & Points'!S41=\"\",\"\",'Races, Positions & Points'!S41)","v":""},{"$f":"IF('Races, Positions & Points'!T41=\"\",\"\",'Races, Positions & Points'!T41)","v":""},{"$f":"IF('Races, Positions & Points'!W41=\"\",\"\",'Races, Positions & Points'!W41)","v":""},{"$f":"IF('Races, Positions & Points'!X41=\"\",\"\",'Races, Positions & Points'!X41)","v":""},{"$f":"IF('Races, Positions & Points'!AA41=\"\",\"\",'Races, Positions & Points'!AA41)","v":""},{"$f":"IF('Races, Positions & Points'!AD41=\"\",\"\",'Races, Positions & Points'!AD41)","v":""},{"$f":"IF('Races, Positions & Points'!AG41=\"\",\"\",'Races, Positions & Points'!AG41)","v":""},{"$f":"IF('Races, Positions & Points'!AJ41=\"\",\"\",'Races, Positions & Points'!AJ41)","v":""},{"$f":"IF('Races, Positions & Points'!AM41=\"\",\"\",'Races, Positions & Points'!AM41)","v":""},{"$f":"IF('Races, Positions & Points'!AP41=\"\",\"\",'Races, Positions & Points'!AP41)","v":""},{"$f":"IF('Races, Positions & Points'!AS41=\"\",\"\",'Races, Positions & Points'!AS41)","v":""},{"$f":"IF('Races, Positions & Points'!AV41=\"\",\"\",'Races, Positions & Points'!AV41)","v":""},{"$f":"IF('Races, Positions & Points'!AW41=\"\",\"\",'Races, Positions & Points'!AW41)","v":""},{"$f":"IF('Races, Positions & Points'!AZ41=\"\",\"\",'Races, Positions & Points'!AZ41)","v":""},{"$f":"IF('Races, Positions & Points'!BC41=\"\",\"\",'Races, Positions & Points'!BC41)","v":""},{"$f":"IF('Races, Positions & Points'!BF41=\"\",\"\",'Races, Positions & Points'!BF41)","v":""},{"$f":"IF('Races, Positions & Points'!BI41=\"\",\"\",'Races, Positions & Points'!BI41)","v":19.489999999999998},{"$f":"IF('Races, Positions & Points'!BL41=\"\",\"\",'Races, Positions & Points'!BL41)","v":""},{"$f":"IF('Races, Positions & Points'!BO41=\"\",\"\",'Races, Positions & Points'!BO41)","v":10},{"$f":"IF('Races, Positions & Points'!BR41=\"\",\"\",'Races, Positions & Points'!BR41)","v":""},{"$f":"IF('Races, Positions & Points'!BU41=\"\",\"\",'Races, Positions & Points'!BU41)","v":""},{"$f":"IF('Races, Positions & Points'!BX41=\"\",\"\",'Races, Positions & Points'!BX41)","v":10},{"$f":"IF('Races, Positions & Points'!CA41=\"\",\"\",'Races, Positions & Points'!CA41)","v":33.770000000000003},{"$f":"IF('Races, Positions & Points'!CD41=\"\",\"\",'Races, Positions & Points'!CD41)","v":""},{"$f":"IF('Races, Positions & Points'!CE41=\"\",\"\",'Races, Positions & Points'!CE41)","v":""},{"$f":"IF('Races, Positions & Points'!CH41=\"\",\"\",'Races, Positions & Points'!CH41)","v":1046.98},{"$f":"IF('Races, Positions & Points'!CK41=\"\",\"\",'Races, Positions & Points'!CK41)","v":999.99},{"$f":"IF('Races, Positions & Points'!CN41=\"\",\"\",'Races, Positions & Points'!CN41)","v":29.61},{"$f":"IF('Races, Positions & Points'!CQ41=\"\",\"\",'Races, Positions & Points'!CQ41)","v":999.99},{"$f":"IF('Races, Positions & Points'!CT41=\"\",\"\",'Races, Positions & Points'!CT41)","v":""},{"$f":"IF('Races, Positions & Points'!CW41=\"\",\"\",'Races, Positions & Points'!CW41)","v":""},{"$f":"IF('Races, Positions & Points'!CZ41=\"\",\"\",'Races, Positions & Points'!CZ41)","v":""},{"$f":"IF('Races, Positions & Points'!DE41=\"\",\"\",'Races, Positions & Points'!DE41)","v":14.76},{"$f":"IF('Races, Positions & Points'!DH41=\"\",\"\",'Races, Positions & Points'!DH41)","v":""},{"$f":"IF('Races, Positions & Points'!DK41=\"\",\"\",'Races, Positions & Points'!DK41)","v":""},{"$f":"IF('Races, Positions & Points'!DN41=\"\",\"\",'Races, Positions & Points'!DN41)","v":""},{"$f":"IF('Races, Positions & Points'!DQ41=\"\",\"\",'Races, Positions & Points'!DQ41)","v":999.99},{"$f":"IF('Races, Positions & Points'!DT41=\"\",\"\",'Races, Positions & Points'!DT41)","v":""},{"$f":"IF('Races, Positions & Points'!DW41=\"\",\"\",'Races, Positions & Points'!DW41)","v":""},{"$f":"IF('Races, Positions & Points'!DZ41=\"\",\"\",'Races, Positions & Points'!DZ41)","v":""},{"$f":"IF('Races, Positions & Points'!EC41=\"\",\"\",'Races, Positions & Points'!EC41)","v":""},null,{"$f":"COUNTIFS(B$4:AQ$4,\"=In\",B$3:AQ$3,\"=10\",B$5:AQ$5,\"=Y\",B41:AQ41,\">0\")","v":0},{"$f":"COUNTIFS(B$4:AQ$4,\"=Out\",B$3:AQ$3,\"=10\",B$5:AQ$5,\"=Y\",B41:AQ41,\">0\")","v":5},{"$f":"COUNTIFS(B$4:AQ$4,\"=In\",B$3:AQ$3,\"=5\",B$5:AQ$5,\"=Y\",B41:AQ41,\">0\")","v":0},{"$f":"COUNTIFS(B$4:AQ$4,\"=Out\",B$3:AQ$3,\"=5\",B$5:AQ$5,\"=Y\",B41:AQ41,\">0\")","v":4},{"$f":"COUNTIFS(B$4:AQ$4,\"=In\",B$3:AQ$3,\"=0\",B$5:AQ$5,\"=Y\",B41:AQ41,\">0\")","v":0},{"$f":"COUNTIFS(B$4:AQ$4,\"=Out\",B$3:AQ$3,\"=0\",B$5:AQ$5,\"=Y\",B41:AQ41,\">0\")","v":2},null,{"$f":"VLOOKUP(A41,'Races, Positions & Points'!$A$8:$E$76,5,FALSE)","v":17356},{"$f":"VLOOKUP(AZ41,'Start of Year Points'!$A$2:$I$1998,9,FALSE)","v":4.17},{"$f":"IF(MIN(BK41:BW41)<999.99,IF(MIN(BK41:BW41)>0,MIN(BK41:BW41),\"\"),\"\")","v":10},{"$f":"IF(ISERROR(SMALL(BK41:BW41,2)),\"\",SMALL(BK41:BW41,2))","v":10},10,7.09,20,{"$f":"MIN(BA41,BD41,BE41,BF41)","v":4.17},14.17,{"$f":"MIN(BD41,BF41,BH41)","v":10},null,{"$f":"IF(MIN(B41,X41,Y41,AD41,AE41,AI41)>0,MIN(B41,X41,Y41,AD41,AE41,AI41),\"\")","v":10},{"$f":"IF(MIN(C41,D41,E41,F41,K41,L41,AF41,AG41,AN41,AQ41)>0,MIN(C41,D41,E41,F41,K41,L41,AF41,AG41,AN41,AQ41),\"\")","v":""},{"$f":"IF(MIN(G41,H41,N41)>0,MIN(G41,H41,N41),\"\")","v":""},{"$f":"IF(MIN(I41,J41,P41,Q41)>0,MIN(I41,J41,P41,Q41),\"\")","v":""},{"$f":"IF(M41>0,M41,\"\")","v":""},{"$f":"IF(MIN(S41,AM41)>0,MIN(S41,AM41),\"\")","v":19.489999999999998},{"$f":"IF(U41>0,U41,\"\")","v":10},{"$f":"IF(R41>0,R41,\"\")","v":""},{"$f":"IF(MIN(T41,AH41,AL41)>0,MIN(T41,AH41,AL41),\"\")","v":""},{"$f":"IF(MIN(V41,W41)>0,MIN(V41,W41),\"\")","v":""},"",{"$f":"IF(MIN(AB41,AC41,AJ41,AK41)>0,MIN(AB41,AC41,AJ41,AK41),\"\")","v":999.99},{"$f":"IF(MIN(AO41,AP41)>0,MIN(AO41,AP41),\"\")","v":""},null,null,10,999.99,504.995,20,null,{"$f":"IF(MIN(AD41,AE41,AI41)>0,MIN(B41,AD41,AE41,AI41),\"\")","v":10},{"$f":"IF(MIN(K41,L41,AF41,AG41,AN41,AQ41)>0,MIN(K41,L41,AF41,AG41,AN41,AQ41),\"\")","v":""},{"$f":"IF(MIN(G41,H41)>0,MIN(G41,H41),\"\")","v":""},{"$f":"IF(MIN(I41,J41)>0,MIN(I41,J41),\"\")","v":""},{"$f":"IF(AM41>0,AM41,\"\")","v":999.99},{"$f":"IF(AH41>0,AH41,\"\")","v":""},{"$f":"IF(MIN(V41,W41)>0,MIN(V41,W41),\"\")","v":""},{"$f":"IF(MIN(AB41,AC41,AJ41,AK41)>0,MIN(AB41,AC41,AJ41,AK41),\"\")","v":999.99},{"$f":"IF(MIN(AO41,AP41)>0,MIN(AO41,AP41),\"\")","v":""}]
[{"$f":"'Races, Positions & Points'!A42","v":"Andrew Du Plessis"},{"$f":"IF('Races, Positions & Points'!P42=\"\",\"\",'Races, Positions & Points'!P42)","v":""},{"$f":"IF('Races, Positions & Points'!S42=\"\",\"\",'Races, Positions & Points'!S42)","v":""},{"$f":"IF('Races, Positions & Points'!T42=\"\",\"\",'Races, Positions & Points'!T42)","v":""},{"$f":"IF('Races, Positions & Points'!W42=\"\",\"\",'Races, Positions & Points'!W42)","v":31.44},{"$f":"IF('Races, Positions & Points'!X42=\"\",\"\",'Races, Positions & Points'!X42)","v":41.739999999999995},{"$f":"IF('Races, Positions & Points'!AA42=\"\",\"\",'Races, Positions & Points'!AA42)","v":""},{"$f":"IF('Races, Positions & Points'!AD42=\"\",\"\",'Races, Positions & Points'!AD42)","v":38.869999999999997},{"$f":"IF('Races, Positions & Points'!AG42=\"\",\"\",'Races, Positions & Points'!AG42)","v":""},{"$f":"IF('Races, Positions & Points'!AJ42=\"\",\"\",'Races, Positions & Points'!AJ42)","v":""},{"$f":"IF('Races, Positions & Points'!AM42=\"\",\"\",'Races, Positions & Points'!AM42)","v":""},{"$f":"IF('Races, Positions & Points'!AP42=\"\",\"\",'Races, Positions & Points'!AP42)","v":""},{"$f":"IF('Races, Positions & Points'!AS42=\"\",\"\",'Races, Positions & Points'!AS42)","v":""},{"$f":"IF('Races, Positions & Points'!AV42=\"\",\"\",'Races, Positions & Points'!AV42)","v":""},{"$f":"IF('Races, Positions & Points'!AW42=\"\",\"\",'Races, Positions & Points'!AW42)","v":""},{"$f":"IF('Races, Positions & Points'!AZ42=\"\",\"\",'Races, Positions & Points'!AZ42)","v":""},{"$f":"IF('Races, Positions & Points'!BC42=\"\",\"\",'Races, Positions & Points'!BC42)","v":""},{"$f":"IF('Races, Positions & Points'!BF42=\"\",\"\",'Races, Positions & Points'!BF42)","v":""},{"$f":"IF('Races, Positions & Points'!BI42=\"\",\"\",'Races, Positions & Points'!BI42)","v":""},{"$f":"IF('Races, Positions & Points'!BL42=\"\",\"\",'Races, Positions & Points'!BL42)","v":""},{"$f":"IF('Races, Positions & Points'!BO42=\"\",\"\",'Races, Positions & Points'!BO42)","v":33.85},{"$f":"IF('Races, Positions & Points'!BR42=\"\",\"\",'Races, Positions & Points'!BR42)","v":""},{"$f":"IF('Races, Positions & Points'!BU42=\"\",\"\",'Races, Positions & Points'!BU42)","v":""},{"$f":"IF('Races, Positions & Points'!BX42=\"\",\"\",'Races, Positions & Points'!BX42)","v":23.72},{"$f":"IF('Races, Positions & Points'!CA42=\"\",\"\",'Races, Positions & Points'!CA42)","v":""},{"$f":"IF('Races, Positions & Points'!CD42=\"\",\"\",'Races, Positions & Points'!CD42)","v":""},{"$f":"IF('Races, Positions & Points'!CE42=\"\",\"\",'Races, Positions & Points'!CE42)","v":""},{"$f":"IF('Races, Positions & Points'!CH42=\"\",\"\",'Races, Positions & Points'!CH42)","v":49.36},{"$f":"IF('Races, Positions & Points'!CK42=\"\",\"\",'Races, Positions & Points'!CK42)","v":""},{"$f":"IF('Races, Positions & Points'!CN42=\"\",\"\",'Races, Positions & Points'!CN42)","v":42.47},{"$f":"IF('Races, Positions & Points'!CQ42=\"\",\"\",'Races, Positions & Points'!CQ42)","v":""},{"$f":"IF('Races, Positions & Points'!CT42=\"\",\"\",'Races, Positions & Points'!CT42)","v":""},{"$f":"IF('Races, Positions & Points'!CW42=\"\",\"\",'Races, Positions & Points'!CW42)","v":""},{"$f":"IF('Races, Positions & Points'!CZ42=\"\",\"\",'Races, Positions & Points'!CZ42)","v":""},{"$f":"IF('Races, Positions & Points'!DE42=\"\",\"\",'Races, Positions & Points'!DE42)","v":999.99},{"$f":"IF('Races, Positions & Points'!DH42=\"\",\"\",'Races, Positions & Points'!DH42)","v":""},{"$f":"IF('Races, Positions & Points'!DK42=\"\",\"\",'Races, Positions & Points'!DK42)","v":""},{"$f":"IF('Races, Positions & Points'!DN42=\"\",\"\",'Races, Positions & Points'!DN42)","v":""},{"$f":"IF('Races, Positions & Points'!DQ42=\"\",\"\",'Races, Positions & Points'!DQ42)","v":43.41},{"$f":"IF('Races, Positions & Points'!DT42=\"\",\"\",'Races, Positions & Points'!DT42)","v":""},{"$f":"IF('Races, Positions & Points'!DW42=\"\",\"\",'Races, Positions & Points'!DW42)","v":""},{"$f":"IF('Races, Positions & Points'!DZ42=\"\",\"\",'Races, Positions & Points'!DZ42)","v":""},{"$f":"IF('Races, Positions & Points'!EC42=\"\",\"\",'Races, Positions & Points'!EC42)","v":""},null,1,2,0,2,1,2,null,{"$f":"VLOOKUP(A42,'Races, Positions & Points'!$A$8:$E$76,5,FALSE)","v":12318},{"$f":"VLOOKUP(AZ42,'Start of Year Points'!$A$2:$I$1998,9,FALSE)","v":25.51},{"$f":"IF(MIN(BK42:BW42)<999.99,IF(MIN(BK42:BW42)>0,MIN(BK42:BW42),\"\"),\"\")","v":23.72},31.44,27.58,24.62,33.72,24.62,35.510000000000005,27.58,null,23.72,31.44,38.869999999999997,"","",43.41,33.85,"","","","",49.36,"",null,null,38.869999999999997,42.47,40.67,48.87,null,42.47,"",38.869999999999997,"",43.41,"","",49.36,""]
[{"$f":"'Races, Positions & Points'!A43","v":"Adam Beardmore"},{"$f":"IF('Races, Positions & Points'!P43=\"\",\"\",'Races, Positions & Points'!P43)","v":""},{"$f":"IF('Races, Positions & Points'!S43=\"\",\"\",'Races, Positions & Points'!S43)","v":""},{"$f":"IF('Races, Positions & Points'!T43=\"\",\"\",'Races, Positions & Points'!T43)","v":""},{"$f":"IF('Races, Positions & Points'!W43=\"\",\"\",'Races, Positions & Points'!W43)","v":""},{"$f":"IF('Races, Positions & Points'!X43=\"\",\"\",'Races, Positions & Points'!X43)","v":""},{"$f":"IF('Races, Positions & Points'!AA43=\"\",\"\",'Races, Positions & Points'!AA43)","v":""},{"$f":"IF('Races, Positions & Points'!AD43=\"\",\"\",'Races, Positions & Points'!AD43)","v":""},{"$f":"IF('Races, Positions & Points'!AG43=\"\",\"\",'Races, Positions & Points'!AG43)","v":""},{"$f":"IF('Races, Positions & Points'!AJ43=\"\",\"\",'Races, Positions & Points'!AJ43)","v":""},{"$f":"IF('Races, Positions & Points'!AM43=\"\",\"\",'Races, Positions & Points'!AM43)","v":""},{"$f":"IF('Races, Positions & Points'!AP43=\"\",\"\",'Races, Positions & Points'!AP43)","v":""},{"$f":"IF('Races, Positions & Points'!AS43=\"\",\"\",'Races, Positions & Points'!AS43)","v":""},{"$f":"IF('Races, Positions & Points'!AV43=\"\",\"\",'Races, Positions & Points'!AV43)","v":""},{"$f":"IF('Races, Positions & Points'!AW43=\"\",\"\",'Races, Positions & Points'!AW43)","v":""},{"$f":"IF('Races, Positions & Points'!AZ43=\"\",\"\",'Races, Positions & Points'!AZ43)","v":""},{"$f":"IF('Races, Positions & Points'!BC43=\"\",\"\",'Races, Positions & Points'!BC43)","v":""},{"$f":"IF('Races, Positions & Points'!BF43=\"\",\"\",'Races, Positions & Points'!BF43)","v":""},{"$f":"IF('Races, Positions & Points'!BI43=\"\",\"\",'Races, Positions & Points'!BI43)","v":""},{"$f":"IF('Races, Positions & Points'!BL43=\"\",\"\",'Races, Positions & Points'!BL43)","v":""},{"$f":"IF('Races, Positions & Points'!BO43=\"\",\"\",'Races, Positions & Points'!BO43)","v":""},{"$f":"IF('Races, Positions & Points'!BR43=\"\",\"\",'Races, Positions & Points'!BR43)","v":""},{"$f":"IF('Races, Positions & Points'!BU43=\"\",\"\",'Races, Positions & Points'!BU43)","v":""},{"$f":"IF('Races, Positions & Points'!BX43=\"\",\"\",'Races, Positions & Points'!BX43)","v":999.99},{"$f":"IF('Races, Positions & Points'!CA43=\"\",\"\",'Races, Positions & Points'!CA43)","v":""},{"$f":"IF('Races, Positions & Points'!CD43=\"\",\"\",'Races, Positions & Points'!CD43)","v":""},{"$f":"IF('Races, Positions & Points'!CE43=\"\",\"\",'Races, Positions & Points'!CE43)","v":""},{"$f":"IF('Races, Positions & Points'!CH43=\"\",\"\",'Races, Positions & Points'!CH43)","v":""},{"$f":"IF('Races, Positions & Points'!CK43=\"\",\"\",'Races, Positions & Points'!CK43)","v":""},{"$f":"IF('Races, Positions & Points'!CN43=\"\",\"\",'Races, Positions & Points'!CN43)","v":""},{"$f":"IF('Races, Positions & Points'!CQ43=\"\",\"\",'Races, Positions & Points'!CQ43)","v":""},{"$f":"IF('Races, Positions & Points'!CT43=\"\",\"\",'Races, Positions & Points'!CT43)","v":""},{"$f":"IF('Races, Positions & Points'!CW43=\"\",\"\",'Races, Positions & Points'!CW43)","v":""},{"$f":"IF('Races, Positions & Points'!CZ43=\"\",\"\",'Races, Positions & Points'!CZ43)","v":""},{"$f":"IF('Races, Positions & Points'!DE43=\"\",\"\",'Races, Positions & Points'!DE43)","v":""},{"$f":"IF('Races, Positions & Points'!DH43=\"\",\"\",'Races, Positions & Points'!DH43)","v":""},{"$f":"IF('Races, Positions & Points'!DK43=\"\",\"\",'Races, Positions & Points'!DK43)","v":""},{"$f":"IF('Races, Positions & Points'!DN43=\"\",\"\",'Races, Positions & Points'!DN43)","v":""},{"$f":"IF('Races, Positions & Points'!DQ43=\"\",\"\",'Races, Positions & Points'!DQ43)","v":64.56},{"$f":"IF('Races, Positions & Points'!DT43=\"\",\"\",'Races, Positions & Points'!DT43)","v":""},{"$f":"IF('Races, Positions & Points'!DW43=\"\",\"\",'Races, Positions & Points'!DW43)","v":""},{"$f":"IF('Races, Positions & Points'!DZ43=\"\",\"\",'Races, Positions & Points'!DZ43)","v":""},{"$f":"IF('Races, Positions & Points'!EC43=\"\",\"\",'Races, Positions & Points'!EC43)","v":""},null,0,1,0,0,0,1,null,{"$f":"VLOOKUP(A43,'Races, Positions & Points'!$A$8:$E$76,5,FALSE)","v":19704},{"$f":"VLOOKUP(AZ43,'Start of Year Points'!$A$2:$I$1998,9,FALSE)","v":29.85},{"$f":"IF(MIN(BK43:BW43)<999.99,IF(MIN(BK43:BW43)>0,MIN(BK43:BW43),\"\"),\"\")","v":64.56},999.99,532.28,47.21,77.47,29.85,39.85,39.85,null,999.99,"","","","",64.56,"","","","","","","",null,null,64.56,"","",77.471999999999994,null,"","","","",64.56,"","","",""]
[{"$f":"'Races, Positions & Points'!A44","v":"Jonny Powell"},{"$f":"IF('Races, Positions & Points'!P44=\"\",\"\",'Races, Positions & Points'!P44)","v":51.55},{"$f":"IF('Races, Positions & Points'!S44=\"\",\"\",'Races, Positions & Points'!S44)","v":60.04},{"$f":"IF('Races, Positions & Points'!T44=\"\",\"\",'Races, Positions & Points'!T44)","v":72.02},{"$f":"IF('Races, Positions & Points'!W44=\"\",\"\",'Races, Positions & Points'!W44)","v":65.039999999999992},{"$f":"IF('Races, Positions & Points'!X44=\"\",\"\",'Races, Positions & Points'!X44)","v":46.64},{"$f":"IF('Races, Positions & Points'!AA44=\"\",\"\",'Races, Positions & Points'!AA44)","v":""},{"$f":"IF('Races, Positions & Points'!AD44=\"\",\"\",'Races, Positions & Points'!AD44)","v":70.91},{"$f":"IF('Races, Positions & Points'!AG44=\"\",\"\",'Races, Positions & Points'!AG44)","v":57.24},{"$f":"IF('Races, Positions & Points'!AJ44=\"\",\"\",'Races, Positions & Points'!AJ44)","v":999.99},{"$f":"IF('Races, Positions & Points'!AM44=\"\",\"\",'Races, Positions & Points'!AM44)","v":""},{"$f":"IF('Races, Positions & Points'!AP44=\"\",\"\",'Races, Positions & Points'!AP44)","v":""},{"$f":"IF('Races, Positions & Points'!AS44=\"\",\"\",'Races, Positions & Points'!AS44)","v":36.36},{"$f":"IF('Races, Positions & Points'!AV44=\"\",\"\",'Races, Positions & Points'!AV44)","v":62.71},{"$f":"IF('Races, Positions & Points'!AW44=\"\",\"\",'Races, Positions & Points'!AW44)","v":""},{"$f":"IF('Races, Positions & Points'!AZ44=\"\",\"\",'Races, Positions & Points'!AZ44)","v":""},{"$f":"IF('Races, Positions & Points'!BC44=\"\",\"\",'Races, Positions & Points'!BC44)","v":""},{"$f":"IF('Races, Positions & Points'!BF44=\"\",\"\",'Races, Positions & Points'!BF44)","v":""},{"$f":"IF('Races, Positions & Points'!BI44=\"\",\"\",'Races, Positions & Points'!BI44)","v":45.46},{"$f":"IF('Races, Positions & Points'!BL44=\"\",\"\",'Races, Positions & Points'!BL44)","v":""},{"$f":"IF('Races, Positions & Points'!BO44=\"\",\"\",'Races, Positions & Points'!BO44)","v":42.71},{"$f":"IF('Races, Positions & Points'!BR44=\"\",\"\",'Races, Positions & Points'!BR44)","v":51.64},{"$f":"IF('Races, Positions & Points'!BU44=\"\",\"\",'Races, Positions & Points'!BU44)","v":47.75},{"$f":"IF('Races, Positions & Points'!BX44=\"\",\"\",'Races, Positions & Points'!BX44)","v":37.81},{"$f":"IF('Races, Positions & Points'!CA44=\"\",\"\",'Races, Positions & Points'!CA44)","v":47.61},{"$f":"IF('Races, Positions & Points'!CD44=\"\",\"\",'Races, Positions & Points'!CD44)","v":""},{"$f":"IF('Races, Positions & Points'!CE44=\"\",\"\",'Races, Positions & Points'!CE44)","v":""},{"$f":"IF('Races, Positions & Points'!CH44=\"\",\"\",'Races, Positions & Points'!CH44)","v":""},{"$f":"IF('Races, Positions & Points'!CK44=\"\",\"\",'Races, Positions & Points'!CK44)","v":""},{"$f":"IF('Races, Positions & Points'!CN44=\"\",\"\",'Races, Positions & Points'!CN44)","v":""},{"$f":"IF('Races, Positions & Points'!CQ44=\"\",\"\",'Races, Positions & Points'!CQ44)","v":""},{"$f":"IF('Races, Positions & Points'!CT44=\"\",\"\",'Races, Positions & Points'!CT44)","v":""},{"$f":"IF('Races, Positions & Points'!CW44=\"\",\"\",'Races, Positions & Points'!CW44)","v":""},{"$f":"IF('Races, Positions & Points'!CZ44=\"\",\"\",'Races, Positions & Points'!CZ44)","v":27.08},{"$f":"IF('Races, Positions & Points'!DE44=\"\",\"\",'Races, Positions & Points'!DE44)","v":32.909999999999997},{"$f":"IF('Races, Positions & Points'!DH44=\"\",\"\",'Races, Positions & Points'!DH44)","v":45.99},{"$f":"IF('Races, Positions & Points'!DK44=\"\",\"\",'Races, Positions & Points'!DK44)","v":20.71},{"$f":"IF('Races, Positions & Points'!DN44=\"\",\"\",'Races, Positions & Points'!DN44)","v":26.12},{"$f":"IF('Races, Positions & Points'!DQ44=\"\",\"\",'Races, Positions & Points'!DQ44)","v":30.96},{"$f":"IF('Races, Positions & Points'!DT44=\"\",\"\",'Races, Positions & Points'!DT44)","v":""},{"$f":"IF('Races, Positions & Points'!DW44=\"\",\"\",'Races, Positions & Points'!DW44)","v":25.91},{"$f":"IF('Races, Positions & Points'!DZ44=\"\",\"\",'Races, Positions & Points'!DZ44)","v":25.95},{"$f":"IF('Races, Positions & Points'!EC44=\"\",\"\",'Races, Positions & Points'!EC44)","v":48.46},null,3,7,1,3,3,6,null,{"$f":"VLOOKUP(A44,'Races, Positions & Points'!$A$8:$E$76,5,FALSE)","v":17479},{"$f":"VLOOKUP(AZ44,'Start of Year Points'!$A$2:$I$1998,9,FALSE)","v":30.83},{"$f":"IF(MIN(BK44:BW44)<999.99,IF(MIN(BK44:BW44)>0,MIN(BK44:BW44),\"\"),\"\")","v":20.71},25.91,23.31,25.77,30.71,23.31,40.83,23.31,null,32.909999999999997,46.64,62.71,57.24,36.36,30.96,42.71,"",26.12,47.75,"",20.71,25.91,null,null,20.71,25.91,23.310000000000002,30.71,null,32.909999999999997,48.46,70.91,57.24,30.96,27.08,47.75,20.71,25.91]
[{"$f":"'Races, Positions & Points'!A45","v":"Nick Miller"},{"$f":"IF('Races, Positions & Points'!P45=\"\",\"\",'Races, Positions & Points'!P45)","v":""},{"$f":"IF('Races, Positions & Points'!S45=\"\",\"\",'Races, Positions & Points'!S45)","v":""},{"$f":"IF('Races, Positions & Points'!T45=\"\",\"\",'Races, Positions & Points'!T45)","v":""},{"$f":"IF('Races, Positions & Points'!W45=\"\",\"\",'Races, Positions & Points'!W45)","v":""},{"$f":"IF('Races, Positions & Points'!X45=\"\",\"\",'Races, Positions & Points'!X45)","v":""},{"$f":"IF('Races, Positions & Points'!AA45=\"\",\"\",'Races, Positions & Points'!AA45)","v":""},{"$f":"IF('Races, Positions & Points'!AD45=\"\",\"\",'Races, Positions & Points'!AD45)","v":""},{"$f":"IF('Races, Positions & Points'!AG45=\"\",\"\",'Races, Positions & Points'!AG45)","v":""},{"$f":"IF('Races, Positions & Points'!AJ45=\"\",\"\",'Races, Positions & Points'!AJ45)","v":""},{"$f":"IF('Races, Positions & Points'!AM45=\"\",\"\",'Races, Positions & Points'!AM45)","v":""},{"$f":"IF('Races, Positions & Points'!AP45=\"\",\"\",'Races, Positions & Points'!AP45)","v":""},{"$f":"IF('Races, Positions & Points'!AS45=\"\",\"\",'Races, Positions & Points'!AS45)","v":""},{"$f":"IF('Races, Positions & Points'!AV45=\"\",\"\",'Races, Positions & Points'!AV45)","v":""},{"$f":"IF('Races, Positions & Points'!AW45=\"\",\"\",'Races, Positions & Points'!AW45)","v":""},{"$f":"IF('Races, Positions & Points'!AZ45=\"\",\"\",'Races, Positions & Points'!AZ45)","v":""},{"$f":"IF('Races, Positions & Points'!BC45=\"\",\"\",'Races, Positions & Points'!BC45)","v":""},{"$f":"IF('Races, Positions & Points'!BF45=\"\",\"\",'Races, Positions & Points'!BF45)","v":""},{"$f":"IF('Races, Positions & Points'!BI45=\"\",\"\",'Races, Positions & Points'!BI45)","v":""},{"$f":"IF('Races, Positions & Points'!BL45=\"\",\"\",'Races, Positions & Points'!BL45)","v":""},{"$f":"IF('Races, Positions & Points'!BO45=\"\",\"\",'Races, Positions & Points'!BO45)","v":""},{"$f":"IF('Races, Positions & Points'!BR45=\"\",\"\",'Races, Positions & Points'!BR45)","v":""},{"$f":"IF('Races, Positions & Points'!BU45=\"\",\"\",'Races, Positions & Points'!BU45)","v":""},{"$f":"IF('Races, Positions & Points'!BX45=\"\",\"\",'Races, Positions & Points'!BX45)","v":""},{"$f":"IF('Races, Positions & Points'!CA45=\"\",\"\",'Races, Positions & Points'!CA45)","v":""},{"$f":"IF('Races, Positions & Points'!CD45=\"\",\"\",'Races, Positions & Points'!CD45)","v":""},{"$f":"IF('Races, Positions & Points'!CE45=\"\",\"\",'Races, Positions & Points'!CE45)","v":""},{"$f":"IF('Races, Positions & Points'!CH45=\"\",\"\",'Races, Positions & Points'!CH45)","v":""},{"$f":"IF('Races, Positions & Points'!CK45=\"\",\"\",'Races, Positions & Points'!CK45)","v":""},{"$f":"IF('Races, Positions & Points'!CN45=\"\",\"\",'Races, Positions & Points'!CN45)","v":""},{"$f":"IF('Races, Positions & Points'!CQ45=\"\",\"\",'Races, Positions & Points'!CQ45)","v":""},{"$f":"IF('Races, Positions & Points'!CT45=\"\",\"\",'Races, Positions & Points'!CT45)","v":""},{"$f":"IF('Races, Positions & Points'!CW45=\"\",\"\",'Races, Positions & Points'!CW45)","v":""},{"$f":"IF('Races, Positions & Points'!CZ45=\"\",\"\",'Races, Positions & Points'!CZ45)","v":""},{"$f":"IF('Races, Positions & Points'!DE45=\"\",\"\",'Races, Positions & Points'!DE45)","v":""},{"$f":"IF('Races, Positions & Points'!DH45=\"\",\"\",'Races, Positions & Points'!DH45)","v":""},{"$f":"IF('Races, Positions & Points'!DK45=\"\",\"\",'Races, Positions & Points'!DK45)","v":""},{"$f":"IF('Races, Positions & Points'!DN45=\"\",\"\",'Races, Positions & Points'!DN45)","v":""},{"$f":"IF('Races, Positions & Points'!DQ45=\"\",\"\",'Races, Positions & Points'!DQ45)","v":""},{"$f":"IF('Races, Positions & Points'!DT45=\"\",\"\",'Races, Positions & Points'!DT45)","v":""},{"$f":"IF('Races, Positions & Points'!DW45=\"\",\"\",'Races, Positions & Points'!DW45)","v":""},{"$f":"IF('Races, Positions & Points'!DZ45=\"\",\"\",'Races, Positions & Points'!DZ45)","v":""},{"$f":"IF('Races, Positions & Points'!EC45=\"\",\"\",'Races, Positions & Points'!EC45)","v":""},null,0,0,0,0,0,0,null,{"$f":"VLOOKUP(A45,'Races, Positions & Points'!$A$8:$E$76,5,FALSE)","v":18607},{"$f":"VLOOKUP(AZ45,'Start of Year Points'!$A$2:$I$1998,9,FALSE)","v":56.48},"","","",56.48,"",56.48,67.78,67.78,null,"","","","","","","","","","","","","",null,null,"","","","",null,"","","","","","","","",""]
[{"$f":"'Races, Positions & Points'!A46","v":"Mark Hawkins"},{"$f":"IF('Races, Positions & Points'!P46=\"\",\"\",'Races, Positions & Points'!P46)","v":""},{"$f":"IF('Races, Positions & Points'!S46=\"\",\"\",'Races, Positions & Points'!S46)","v":""},{"$f":"IF('Races, Positions & Points'!T46=\"\",\"\",'Races, Positions & Points'!T46)","v":""},{"$f":"IF('Races, Positions & Points'!W46=\"\",\"\",'Races, Positions & Points'!W46)","v":""},{"$f":"IF('Races, Positions & Points'!X46=\"\",\"\",'Races, Positions & Points'!X46)","v":""},{"$f":"IF('Races, Positions & Points'!AA46=\"\",\"\",'Races, Positions & Points'!AA46)","v":""},{"$f":"IF('Races, Positions & Points'!AD46=\"\",\"\",'Races, Positions & Points'!AD46)","v":""},{"$f":"IF('Races, Positions & Points'!AG46=\"\",\"\",'Races, Positions & Points'!AG46)","v":102.79},{"$f":"IF('Races, Positions & Points'!AJ46=\"\",\"\",'Races, Positions & Points'!AJ46)","v":153.54},{"$f":"IF('Races, Positions & Points'!AM46=\"\",\"\",'Races, Positions & Points'!AM46)","v":""},{"$f":"IF('Races, Positions & Points'!AP46=\"\",\"\",'Races, Positions & Points'!AP46)","v":""},{"$f":"IF('Races, Positions & Points'!AS46=\"\",\"\",'Races, Positions & Points'!AS46)","v":""},{"$f":"IF('Races, Positions & Points'!AV46=\"\",\"\",'Races, Positions & Points'!AV46)","v":""},{"$f":"IF('Races, Positions & Points'!AW46=\"\",\"\",'Races, Positions & Points'!AW46)","v":""},{"$f":"IF('Races, Positions & Points'!AZ46=\"\",\"\",'Races, Positions & Points'!AZ46)","v":79.27},{"$f":"IF('Races, Positions & Points'!BC46=\"\",\"\",'Races, Positions & Points'!BC46)","v":65.55},{"$f":"IF('Races, Positions & Points'!BF46=\"\",\"\",'Races, Positions & Points'!BF46)","v":""},{"$f":"IF('Races, Positions & Points'!BI46=\"\",\"\",'Races, Positions & Points'!BI46)","v":""},{"$f":"IF('Races, Positions & Points'!BL46=\"\",\"\",'Races, Positions & Points'!BL46)","v":""},{"$f":"IF('Races, Positions & Points'!BO46=\"\",\"\",'Races, Positions & Points'!BO46)","v":""},{"$f":"IF('Races, Positions & Points'!BR46=\"\",\"\",'Races, Positions & Points'!BR46)","v":""},{"$f":"IF('Races, Positions & Points'!BU46=\"\",\"\",'Races, Positions & Points'!BU46)","v":""},{"$f":"IF('Races, Positions & Points'!BX46=\"\",\"\",'Races, Positions & Points'!BX46)","v":78.03},{"$f":"IF('Races, Positions & Points'!CA46=\"\",\"\",'Races, Positions & Points'!CA46)","v":100.6},{"$f":"IF('Races, Positions & Points'!CD46=\"\",\"\",'Races, Positions & Points'!CD46)","v":""},{"$f":"IF('Races, Positions & Points'!CE46=\"\",\"\",'Races, Positions & Points'!CE46)","v":""},{"$f":"IF('Races, Positions & Points'!CH46=\"\",\"\",'Races, Positions & Points'!CH46)","v":66.53},{"$f":"IF('Races, Positions & Points'!CK46=\"\",\"\",'Races, Positions & Points'!CK46)","v":166.33},{"$f":"IF('Races, Positions & Points'!CN46=\"\",\"\",'Races, Positions & Points'!CN46)","v":142.94},{"$f":"IF('Races, Positions & Points'!CQ46=\"\",\"\",'Races, Positions & Points'!CQ46)","v":82.95},{"$f":"IF('Races, Positions & Points'!CT46=\"\",\"\",'Races, Positions & Points'!CT46)","v":""},{"$f":"IF('Races, Positions & Points'!CW46=\"\",\"\",'Races, Positions & Points'!CW46)","v":""},{"$f":"IF('Races, Positions & Points'!CZ46=\"\",\"\",'Races, Positions & Points'!CZ46)","v":""},{"$f":"IF('Races, Positions & Points'!DE46=\"\",\"\",'Races, Positions & Points'!DE46)","v":96.77},{"$f":"IF('Races, Positions & Points'!DH46=\"\",\"\",'Races, Positions & Points'!DH46)","v":72.36},{"$f":"IF('Races, Positions & Points'!DK46=\"\",\"\",'Races, Positions & Points'!DK46)","v":71.08},{"$f":"IF('Races, Positions & Points'!DN46=\"\",\"\",'Races, Positions & Points'!DN46)","v":""},{"$f":"IF('Races, Positions & Points'!DQ46=\"\",\"\",'Races, Positions & Points'!DQ46)","v":85},{"$f":"IF('Races, Positions & Points'!DT46=\"\",\"\",'Races, Positions & Points'!DT46)","v":""},{"$f":"IF('Races, Positions & Points'!DW46=\"\",\"\",'Races, Positions & Points'!DW46)","v":""},{"$f":"IF('Races, Positions & Points'!DZ46=\"\",\"\",'Races, Positions & Points'!DZ46)","v":""},{"$f":"IF('Races, Positions & Points'!EC46=\"\",\"\",'Races, Positions & Points'!EC46)","v":""},null,0,4,0,7,0,3,null,{"$f":"VLOOKUP(A46,'Races, Positions & Points'!$A$8:$E$76,5,FALSE)","v":19163},{"$f":"VLOOKUP(AZ46,'Start of Year Points'!$A$2:$I$1998,9,FALSE)","v":57.13},65.55,66.53,66.040000000000006,61.34,78.66,57.13,68.56,66.040000000000006,null,78.03,"","",65.55,"",85,"","","","","",66.53,"",null,null,66.53,82.95,74.740000000000009,79.835999999999999,null,82.95,"","",102.79,85,"","",66.53,""]
[{"$f":"'Races, Positions & Points'!A47","v":"Jack Rigby"},{"$f":"IF('Races, Positions & Points'!P47=\"\",\"\",'Races, Positions & Points'!P47)","v":""},{"$f":"IF('Races, Positions & Points'!S47=\"\",\"\",'Races, Positions & Points'!S47)","v":64.61},{"$f":"IF('Races, Positions & Points'!T47=\"\",\"\",'Races, Positions & Points'!T47)","v":54.52},{"$f":"IF('Races, Positions & Points'!W47=\"\",\"\",'Races, Positions & Points'!W47)","v":""},{"$f":"IF('Races, Positions & Points'!X47=\"\",\"\",'Races, Positions & Points'!X47)","v":""},{"$f":"IF('Races, Positions & Points'!AA47=\"\",\"\",'Races, Positions & Points'!AA47)","v":167.44},{"$f":"IF('Races, Positions & Points'!AD47=\"\",\"\",'Races, Positions & Points'!AD47)","v":69.25},{"$f":"IF('Races, Positions & Points'!AG47=\"\",\"\",'Races, Positions & Points'!AG47)","v":""},{"$f":"IF('Races, Positions & Points'!AJ47=\"\",\"\",'Races, Positions & Points'!AJ47)","v":""},{"$f":"IF('Races, Positions & Points'!AM47=\"\",\"\",'Races, Positions & Points'!AM47)","v":44.99},{"$f":"IF('Races, Positions & Points'!AP47=\"\",\"\",'Races, Positions & Points'!AP47)","v":999.99},{"$f":"IF('Races, Positions & Points'!AS47=\"\",\"\",'Races, Positions & Points'!AS47)","v":""},{"$f":"IF('Races, Positions & Points'!AV47=\"\",\"\",'Races, Positions & Points'!AV47)","v":""},{"$f":"IF('Races, Positions & Points'!AW47=\"\",\"\",'Races, Positions & Points'!AW47)","v":""},{"$f":"IF('Races, Positions & Points'!AZ47=\"\",\"\",'Races, Positions & Points'!AZ47)","v":""},{"$f":"IF('Races, Positions & Points'!BC47=\"\",\"\",'Races, Positions & Points'!BC47)","v":""},{"$f":"IF('Races, Positions & Points'!BF47=\"\",\"\",'Races, Positions & Points'!BF47)","v":""},{"$f":"IF('Races, Positions & Points'!BI47=\"\",\"\",'Races, Positions & Points'!BI47)","v":""},{"$f":"IF('Races, Positions & Points'!BL47=\"\",\"\",'Races, Positions & Points'!BL47)","v":""},{"$f":"IF('Races, Positions & Points'!BO47=\"\",\"\",'Races, Positions & Points'!BO47)","v":""},{"$f":"IF('Races, Positions & Points'!BR47=\"\",\"\",'Races, Positions & Points'!BR47)","v":""},{"$f":"IF('Races, Positions & Points'!BU47=\"\",\"\",'Races, Positions & Points'!BU47)","v":""},{"$f":"IF('Races, Positions & Points'!BX47=\"\",\"\",'Races, Positions & Points'!BX47)","v":""},{"$f":"IF('Races, Positions & Points'!CA47=\"\",\"\",'Races, Positions & Points'!CA47)","v":""},{"$f":"IF('Races, Positions & Points'!CD47=\"\",\"\",'Races, Positions & Points'!CD47)","v":""},{"$f":"IF('Races, Positions & Points'!CE47=\"\",\"\",'Races, Positions & Points'!CE47)","v":""},{"$f":"IF('Races, Positions & Points'!CH47=\"\",\"\",'Races, Positions & Points'!CH47)","v":""},{"$f":"IF('Races, Positions & Points'!CK47=\"\",\"\",'Races, Positions & Points'!CK47)","v":""},{"$f":"IF('Races, Positions & Points'!CN47=\"\",\"\",'Races, Positions & Points'!CN47)","v":""},{"$f":"IF('Races, Positions & Points'!CQ47=\"\",\"\",'Races, Positions & Points'!CQ47)","v":""},{"$f":"IF('Races, Positions & Points'!CT47=\"\",\"\",'Races, Positions & Points'!CT47)","v":""},{"$f":"IF('Races, Positions & Points'!CW47=\"\",\"\",'Races, Positions & Points'!CW47)","v":999.99},{"$f":"IF('Races, Positions & Points'!CZ47=\"\",\"\",'Races, Positions & Points'!CZ47)","v":""},{"$f":"IF('Races, Positions & Points'!DE47=\"\",\"\",'Races, Positions & Points'!DE47)","v":""},{"$f":"IF('Races, Positions & Points'!DH47=\"\",\"\",'Races, Positions & Points'!DH47)","v":""},{"$f":"IF('Races, Positions & Points'!DK47=\"\",\"\",'Races, Positions & Points'!DK47)","v":""},{"$f":"IF('Races, Positions & Points'!DN47=\"\",\"\",'Races, Positions & Points'!DN47)","v":""},{"$f":"IF('Races, Positions & Points'!DQ47=\"\",\"\",'Races, Positions & Points'!DQ47)","v":""},{"$f":"IF('Races, Positions & Points'!DT47=\"\",\"\",'Races, Positions & Points'!DT47)","v":999.99},{"$f":"IF('Races, Positions & Points'!DW47=\"\",\"\",'Races, Positions & Points'!DW47)","v":""},{"$f":"IF('Races, Positions & Points'!DZ47=\"\",\"\",'Races, Positions & Points'!DZ47)","v":""},{"$f":"IF('Races, Positions & Points'!EC47=\"\",\"\",'Races, Positions & Points'!EC47)","v":65.75},null,1,0,4,0,3,0,null,{"$f":"VLOOKUP(A47,'Races, Positions & Points'!$A$8:$E$76,5,FALSE)","v":41722},{"$f":"VLOOKUP(AZ47,'Start of Year Points'!$A$2:$I$1998,9,FALSE)","v":62.46},44.99,69.25,57.12,53.73,54.99,53.73,74.95,54.99,null,"",44.99,69.25,"","","","","","","","","","",null,null,44.99,69.25,57.120000000000005,54.99,null,"",44.99,69.25,"","","","","",""]
[{"$f":"'Races, Positions & Points'!A48","v":"Adam. Lee"},{"$f":"IF('Races, Positions & Points'!P48=\"\",\"\",'Races, Positions & Points'!P48)","v":69.41},{"$f":"IF('Races, Positions & Points'!S48=\"\",\"\",'Races, Positions & Points'!S48)","v":91.11},{"$f":"IF('Races, Positions & Points'!T48=\"\",\"\",'Races, Positions & Points'!T48)","v":88.1},{"$f":"IF('Races, Positions & Points'!W48=\"\",\"\",'Races, Positions & Points'!W48)","v":101.75999999999999},{"$f":"IF('Races, Positions & Points'!X48=\"\",\"\",'Races, Positions & Points'!X48)","v":93.4},{"$f":"IF('Races, Positions & Points'!AA48=\"\",\"\",'Races, Positions & Points'!AA48)","v":""},{"$f":"IF('Races, Positions & Points'!AD48=\"\",\"\",'Races, Positions & Points'!AD48)","v":""},{"$f":"IF('Races, Positions & Points'!AG48=\"\",\"\",'Races, Positions & Points'!AG48)","v":70.19},{"$f":"IF('Races, Positions & Points'!AJ48=\"\",\"\",'Races, Positions & Points'!AJ48)","v":999.99},{"$f":"IF('Races, Positions & Points'!AM48=\"\",\"\",'Races, Positions & Points'!AM48)","v":""},{"$f":"IF('Races, Positions & Points'!AP48=\"\",\"\",'Races, Positions & Points'!AP48)","v":""},{"$f":"IF('Races, Positions & Points'!AS48=\"\",\"\",'Races, Positions & Points'!AS48)","v":""},{"$f":"IF('Races, Positions & Points'!AV48=\"\",\"\",'Races, Positions & Points'!AV48)","v":""},{"$f":"IF('Races, Positions & Points'!AW48=\"\",\"\",'Races, Positions & Points'!AW48)","v":""},{"$f":"IF('Races, Positions & Points'!AZ48=\"\",\"\",'Races, Positions & Points'!AZ48)","v":61.86},{"$f":"IF('Races, Positions & Points'!BC48=\"\",\"\",'Races, Positions & Points'!BC48)","v":62.87},{"$f":"IF('Races, Positions & Points'!BF48=\"\",\"\",'Races, Positions & Points'!BF48)","v":""},{"$f":"IF('Races, Positions & Points'!BI48=\"\",\"\",'Races, Positions & Points'!BI48)","v":""},{"$f":"IF('Races, Positions & Points'!BL48=\"\",\"\",'Races, Positions & Points'!BL48)","v":""},{"$f":"IF('Races, Positions & Points'!BO48=\"\",\"\",'Races, Positions & Points'!BO48)","v":""},{"$f":"IF('Races, Positions & Points'!BR48=\"\",\"\",'Races, Positions & Points'!BR48)","v":""},{"$f":"IF('Races, Positions & Points'!BU48=\"\",\"\",'Races, Positions & Points'!BU48)","v":""},{"$f":"IF('Races, Positions & Points'!BX48=\"\",\"\",'Races, Positions & Points'!BX48)","v":74.09},{"$f":"IF('Races, Positions & Points'!CA48=\"\",\"\",'Races, Positions & Points'!CA48)","v":88.13},{"$f":"IF('Races, Positions & Points'!CD48=\"\",\"\",'Races, Positions & Points'!CD48)","v":""},{"$f":"IF('Races, Positions & Points'!CE48=\"\",\"\",'Races, Positions & Points'!CE48)","v":""},{"$f":"IF('Races, Positions & Points'!CH48=\"\",\"\",'Races, Positions & Points'!CH48)","v":106.96},{"$f":"IF('Races, Positions & Points'!CK48=\"\",\"\",'Races, Positions & Points'!CK48)","v":999.99},{"$f":"IF('Races, Positions & Points'!CN48=\"\",\"\",'Races, Positions & Points'!CN48)","v":75.459999999999994},{"$f":"IF('Races, Positions & Points'!CQ48=\"\",\"\",'Races, Positions & Points'!CQ48)","v":59.17},{"$f":"IF('Races, Positions & Points'!CT48=\"\",\"\",'Races, Positions & Points'!CT48)","v":""},{"$f":"IF('Races, Positions & Points'!CW48=\"\",\"\",'Races, Positions & Points'!CW48)","v":""},{"$f":"IF('Races, Positions & Points'!CZ48=\"\",\"\",'Races, Positions & Points'!CZ48)","v":73.56},{"$f":"IF('Races, Positions & Points'!DE48=\"\",\"\",'Races, Positions & Points'!DE48)","v":999.99},{"$f":"IF('Races, Positions & Points'!DH48=\"\",\"\",'Races, Positions & Points'!DH48)","v":73.89},{"$f":"IF('Races, Positions & Points'!DK48=\"\",\"\",'Races, Positions & Points'!DK48)","v":48.28},{"$f":"IF('Races, Positions & Points'!DN48=\"\",\"\",'Races, Positions & Points'!DN48)","v":""},{"$f":"IF('Races, Positions & Points'!DQ48=\"\",\"\",'Races, Positions & Points'!DQ48)","v":65.03},{"$f":"IF('Races, Positions & Points'!DT48=\"\",\"\",'Races, Positions & Points'!DT48)","v":66.86},{"$f":"IF('Races, Positions & Points'!DW48=\"\",\"\",'Races, Positions & Points'!DW48)","v":38.76},{"$f":"IF('Races, Positions & Points'!DZ48=\"\",\"\",'Races, Positions & Points'!DZ48)","v":999.99},{"$f":"IF('Races, Positions & Points'!EC48=\"\",\"\",'Races, Positions & Points'!EC48)","v":""},null,2,5,0,7,1,6,null,{"$f":"VLOOKUP(A48,'Races, Positions & Points'!$A$8:$E$76,5,FALSE)","v":41578},{"$f":"VLOOKUP(AZ48,'Start of Year Points'!$A$2:$I$1998,9,FALSE)","v":59.81},38.76,48.28,43.52,49.29,48.76,43.52,71.77,43.52,null,59.17,66.86,"",61.86,"",65.03,"","",73.56,"","",48.28,38.76,null,null,38.76,48.28,43.519999999999996,48.76,null,59.17,66.86,"",70.19,65.03,73.56,"",48.28,38.76]
[{"$f":"'Races, Positions & Points'!A49","v":"Alasdair Thorley"},{"$f":"IF('Races, Positions & Points'!P49=\"\",\"\",'Races, Positions & Points'!P49)","v":""},{"$f":"IF('Races, Positions & Points'!S49=\"\",\"\",'Races, Positions & Points'!S49)","v":""},{"$f":"IF('Races, Positions & Points'!T49=\"\",\"\",'Races, Positions & Points'!T49)","v":""},{"$f":"IF('Races, Positions & Points'!W49=\"\",\"\",'Races, Positions & Points'!W49)","v":""},{"$f":"IF('Races, Positions & Points'!X49=\"\",\"\",'Races, Positions & Points'!X49)","v":""},{"$f":"IF('Races, Positions & Points'!AA49=\"\",\"\",'Races, Positions & Points'!AA49)","v":""},{"$f":"IF('Races, Positions & Points'!AD49=\"\",\"\",'Races, Positions & Points'!AD49)","v":""},{"$f":"IF('Races, Positions & Points'!AG49=\"\",\"\",'Races, Positions & Points'!AG49)","v":""},{"$f":"IF('Races, Positions & Points'!AJ49=\"\",\"\",'Races, Positions & Points'!AJ49)","v":""},{"$f":"IF('Races, Positions & Points'!AM49=\"\",\"\",'Races, Positions & Points'!AM49)","v":""},{"$f":"IF('Races, Positions & Points'!AP49=\"\",\"\",'Races, Positions & Points'!AP49)","v":""},{"$f":"IF('Races, Positions & Points'!AS49=\"\",\"\",'Races, Positions & Points'!AS49)","v":""},{"$f":"IF('Races, Positions & Points'!AV49=\"\",\"\",'Races, Positions & Points'!AV49)","v":""},{"$f":"IF('Races, Positions & Points'!AW49=\"\",\"\",'Races, Positions & Points'!AW49)","v":""},{"$f":"IF('Races, Positions & Points'!AZ49=\"\",\"\",'Races, Positions & Points'!AZ49)","v":""},{"$f":"IF('Races, Positions & Points'!BC49=\"\",\"\",'Races, Positions & Points'!BC49)","v":""},{"$f":"IF('Races, Positions & Points'!BF49=\"\",\"\",'Races, Positions & Points'!BF49)","v":""},{"$f":"IF('Races, Positions & Points'!BI49=\"\",\"\",'Races, Positions & Points'!BI49)","v":""},{"$f":"IF('Races, Positions & Points'!BL49=\"\",\"\",'Races, Positions & Points'!BL49)","v":""},{"$f":"IF('Races, Positions & Points'!BO49=\"\",\"\",'Races, Positions & Points'!BO49)","v":""},{"$f":"IF('Races, Positions & Points'!BR49=\"\",\"\",'Races, Positions & Points'!BR49)","v":""},{"$f":"IF('Races, Positions & Points'!BU49=\"\",\"\",'Races, Positions & Points'!BU49)","v":""},{"$f":"IF('Races, Positions & Points'!BX49=\"\",\"\",'Races, Positions & Points'!BX49)","v":""},{"$f":"IF('Races, Positions & Points'!CA49=\"\",\"\",'Races, Positions & Points'!CA49)","v":""},{"$f":"IF('Races, Positions & Points'!CD49=\"\",\"\",'Races, Positions & Points'!CD49)","v":""},{"$f":"IF('Races, Positions & Points'!CE49=\"\",\"\",'Races, Positions & Points'!CE49)","v":""},{"$f":"IF('Races, Positions & Points'!CH49=\"\",\"\",'Races, Positions & Points'!CH49)","v":""},{"$f":"IF('Races, Positions & Points'!CK49=\"\",\"\",'Races, Positions & Points'!CK49)","v":""},{"$f":"IF('Races, Positions & Points'!CN49=\"\",\"\",'Races, Positions & Points'!CN49)","v":""},{"$f":"IF('Races, Positions & Points'!CQ49=\"\",\"\",'Races, Positions & Points'!CQ49)","v":""},{"$f":"IF('Races, Positions & Points'!CT49=\"\",\"\",'Races, Positions & Points'!CT49)","v":""},{"$f":"IF('Races, Positions & Points'!CW49=\"\",\"\",'Races, Positions & Points'!CW49)","v":""},{"$f":"IF('Races, Positions & Points'!CZ49=\"\",\"\",'Races, Positions & Points'!CZ49)","v":""},{"$f":"IF('Races, Positions & Points'!DE49=\"\",\"\",'Races, Positions & Points'!DE49)","v":""},{"$f":"IF('Races, Positions & Points'!DH49=\"\",\"\",'Races, Positions & Points'!DH49)","v":""},{"$f":"IF('Races, Positions & Points'!DK49=\"\",\"\",'Races, Positions & Points'!DK49)","v":""},{"$f":"IF('Races, Positions & Points'!DN49=\"\",\"\",'Races, Positions & Points'!DN49)","v":""},{"$f":"IF('Races, Positions & Points'!DQ49=\"\",\"\",'Races, Positions & Points'!DQ49)","v":""},{"$f":"IF('Races, Positions & Points'!DT49=\"\",\"\",'Races, Positions & Points'!DT49)","v":""},{"$f":"IF('Races, Positions & Points'!DW49=\"\",\"\",'Races, Positions & Points'!DW49)","v":""},{"$f":"IF('Races, Positions & Points'!DZ49=\"\",\"\",'Races, Positions & Points'!DZ49)","v":""},{"$f":"IF('Races, Positions & Points'!EC49=\"\",\"\",'Races, Positions & Points'!EC49)","v":""},null,0,0,0,0,0,0,null,{"$f":"VLOOKUP(A49,'Races, Positions & Points'!$A$8:$E$76,5,FALSE)","v":18586},{"$f":"VLOOKUP(AZ49,'Start of Year Points'!$A$2:$I$1998,9,FALSE)","v":61.87},"","","",61.87,"",61.87,74.239999999999995,74.239999999999995,null,"","","","","","","","","","","","","",null,null,"","","","",null,"","","","","","","","",""]
[{"$f":"'Races, Positions & Points'!A50","v":"Phil Emmerson"},{"$f":"IF('Races, Positions & Points'!P50=\"\",\"\",'Races, Positions & Points'!P50)","v":999.99},{"$f":"IF('Races, Positions & Points'!S50=\"\",\"\",'Races, Positions & Points'!S50)","v":119.44},{"$f":"IF('Races, Positions & Points'!T50=\"\",\"\",'Races, Positions & Points'!T50)","v":123.57},{"$f":"IF('Races, Positions & Points'!W50=\"\",\"\",'Races, Positions & Points'!W50)","v":115.97999999999999},{"$f":"IF('Races, Positions & Points'!X50=\"\",\"\",'Races, Positions & Points'!X50)","v":90.29},{"$f":"IF('Races, Positions & Points'!AA50=\"\",\"\",'Races, Positions & Points'!AA50)","v":""},{"$f":"IF('Races, Positions & Points'!AD50=\"\",\"\",'Races, Positions & Points'!AD50)","v":""},{"$f":"IF('Races, Positions & Points'!AG50=\"\",\"\",'Races, Positions & Points'!AG50)","v":999.99},{"$f":"IF('Races, Positions & Points'!AJ50=\"\",\"\",'Races, Positions & Points'!AJ50)","v":127.92},{"$f":"IF('Races, Positions & Points'!AM50=\"\",\"\",'Races, Positions & Points'!AM50)","v":""},{"$f":"IF('Races, Positions & Points'!AP50=\"\",\"\",'Races, Positions & Points'!AP50)","v":""},{"$f":"IF('Races, Positions & Points'!AS50=\"\",\"\",'Races, Positions & Points'!AS50)","v":999.99},{"$f":"IF('Races, Positions & Points'!AV50=\"\",\"\",'Races, Positions & Points'!AV50)","v":""},{"$f":"IF('Races, Positions & Points'!AW50=\"\",\"\",'Races, Positions & Points'!AW50)","v":""},{"$f":"IF('Races, Positions & Points'!AZ50=\"\",\"\",'Races, Positions & Points'!AZ50)","v":98.44},{"$f":"IF('Races, Positions & Points'!BC50=\"\",\"\",'Races, Positions & Points'!BC50)","v":""},{"$f":"IF('Races, Positions & Points'!BF50=\"\",\"\",'Races, Positions & Points'!BF50)","v":""},{"$f":"IF('Races, Positions & Points'!BI50=\"\",\"\",'Races, Positions & Points'!BI50)","v":999.99},{"$f":"IF('Races, Positions & Points'!BL50=\"\",\"\",'Races, Positions & Points'!BL50)","v":""},{"$f":"IF('Races, Positions & Points'!BO50=\"\",\"\",'Races, Positions & Points'!BO50)","v":51.93},{"$f":"IF('Races, Positions & Points'!BR50=\"\",\"\",'Races, Positions & Points'!BR50)","v":""},{"$f":"IF('Races, Positions & Points'!BU50=\"\",\"\",'Races, Positions & Points'!BU50)","v":""},{"$f":"IF('Races, Positions & Points'!BX50=\"\",\"\",'Races, Positions & Points'!BX50)","v":999.99},{"$f":"IF('Races, Positions & Points'!CA50=\"\",\"\",'Races, Positions & Points'!CA50)","v":76.83},{"$f":"IF('Races, Positions & Points'!CD50=\"\",\"\",'Races, Positions & Points'!CD50)","v":""},{"$f":"IF('Races, Positions & Points'!CE50=\"\",\"\",'Races, Positions & Points'!CE50)","v":""},{"$f":"IF('Races, Positions & Points'!CH50=\"\",\"\",'Races, Positions & Points'!CH50)","v":999.99},{"$f":"IF('Races, Positions & Points'!CK50=\"\",\"\",'Races, Positions & Points'!CK50)","v":999.99},{"$f":"IF('Races, Positions & Points'!CN50=\"\",\"\",'Races, Positions & Points'!CN50)","v":999.99},{"$f":"IF('Races, Positions & Points'!CQ50=\"\",\"\",'Races, Positions & Points'!CQ50)","v":999.99},{"$f":"IF('Races, Positions & Points'!CT50=\"\",\"\",'Races, Positions & Points'!CT50)","v":""},{"$f":"IF('Races, Positions & Points'!CW50=\"\",\"\",'Races, Positions & Points'!CW50)","v":""},{"$f":"IF('Races, Positions & Points'!CZ50=\"\",\"\",'Races, Positions & Points'!CZ50)","v":""},{"$f":"IF('Races, Positions & Points'!DE50=\"\",\"\",'Races, Positions & Points'!DE50)","v":999.99},{"$f":"IF('Races, Positions & Points'!DH50=\"\",\"\",'Races, Positions & Points'!DH50)","v":""},{"$f":"IF('Races, Positions & Points'!DK50=\"\",\"\",'Races, Positions & Points'!DK50)","v":""},{"$f":"IF('Races, Positions & Points'!DN50=\"\",\"\",'Races, Positions & Points'!DN50)","v":""},{"$f":"IF('Races, Positions & Points'!DQ50=\"\",\"\",'Races, Positions & Points'!DQ50)","v":85.23},{"$f":"IF('Races, Positions & Points'!DT50=\"\",\"\",'Races, Positions & Points'!DT50)","v":""},{"$f":"IF('Races, Positions & Points'!DW50=\"\",\"\",'Races, Positions & Points'!DW50)","v":""},{"$f":"IF('Races, Positions & Points'!DZ50=\"\",\"\",'Races, Positions & Points'!DZ50)","v":""},{"$f":"IF('Races, Positions & Points'!EC50=\"\",\"\",'Races, Positions & Points'!EC50)","v":""},null,2,7,0,6,0,2,null,{"$f":"VLOOKUP(A50,'Races, Positions & Points'!$A$8:$E$76,5,FALSE)","v":21084},{"$f":"VLOOKUP(AZ50,'Start of Year Points'!$A$2:$I$1998,9,FALSE)","v":104.55},51.93,76.83,64.38,78.239999999999995,62.32,62.32,125.46,62.32,null,76.83,90.29,"",98.44,999.99,85.23,51.93,"","","","",999.99,"",null,null,85.23,127.92,106.575,102.276,null,999.99,"","",127.92,85.23,"","",999.99,""]
[{"$f":"'Races, Positions & Points'!A51","v":"Nick Phelps"},{"$f":"IF('Races, Positions & Points'!P51=\"\",\"\",'Races, Positions & Points'!P51)","v":""},{"$f":"IF('Races, Positions & Points'!S51=\"\",\"\",'Races, Positions & Points'!S51)","v":""},{"$f":"IF('Races, Positions & Points'!T51=\"\",\"\",'Races, Positions & Points'!T51)","v":""},{"$f":"IF('Races, Positions & Points'!W51=\"\",\"\",'Races, Positions & Points'!W51)","v":""},{"$f":"IF('Races, Positions & Points'!X51=\"\",\"\",'Races, Positions & Points'!X51)","v":""},{"$f":"IF('Races, Positions & Points'!AA51=\"\",\"\",'Races, Positions & Points'!AA51)","v":""},{"$f":"IF('Races, Positions & Points'!AD51=\"\",\"\",'Races, Positions & Points'!AD51)","v":""},{"$f":"IF('Races, Positions & Points'!AG51=\"\",\"\",'Races, Positions & Points'!AG51)","v":""},{"$f":"IF('Races, Positions & Points'!AJ51=\"\",\"\",'Races, Positions & Points'!AJ51)","v":""},{"$f":"IF('Races, Positions & Points'!AM51=\"\",\"\",'Races, Positions & Points'!AM51)","v":""},{"$f":"IF('Races, Positions & Points'!AP51=\"\",\"\",'Races, Positions & Points'!AP51)","v":""},{"$f":"IF('Races, Positions & Points'!AS51=\"\",\"\",'Races, Positions & Points'!AS51)","v":""},{"$f":"IF('Races, Positions & Points'!AV51=\"\",\"\",'Races, Positions & Points'!AV51)","v":""},{"$f":"IF('Races, Positions & Points'!AW51=\"\",\"\",'Races, Positions & Points'!AW51)","v":""},{"$f":"IF('Races, Positions & Points'!AZ51=\"\",\"\",'Races, Positions & Points'!AZ51)","v":""},{"$f":"IF('Races, Positions & Points'!BC51=\"\",\"\",'Races, Positions & Points'!BC51)","v":""},{"$f":"IF('Races, Positions & Points'!BF51=\"\",\"\",'Races, Positions & Points'!BF51)","v":""},{"$f":"IF('Races, Positions & Points'!BI51=\"\",\"\",'Races, Positions & Points'!BI51)","v":""},{"$f":"IF('Races, Positions & Points'!BL51=\"\",\"\",'Races, Positions & Points'!BL51)","v":""},{"$f":"IF('Races, Positions & Points'!BO51=\"\",\"\",'Races, Positions & Points'!BO51)","v":""},{"$f":"IF('Races, Positions & Points'!BR51=\"\",\"\",'Races, Positions & Points'!BR51)","v":""},{"$f":"IF('Races, Positions & Points'!BU51=\"\",\"\",'Races, Positions & Points'!BU51)","v":""},{"$f":"IF('Races, Positions & Points'!BX51=\"\",\"\",'Races, Positions & Points'!BX51)","v":82.54},{"$f":"IF('Races, Positions & Points'!CA51=\"\",\"\",'Races, Positions & Points'!CA51)","v":102.36},{"$f":"IF('Races, Positions & Points'!CD51=\"\",\"\",'Races, Positions & Points'!CD51)","v":""},{"$f":"IF('Races, Positions & Points'!CE51=\"\",\"\",'Races, Positions & Points'!CE51)","v":""},{"$f":"IF('Races, Positions & Points'!CH51=\"\",\"\",'Races, Positions & Points'!CH51)","v":999.99},{"$f":"IF('Races, Positions & Points'!CK51=\"\",\"\",'Races, Positions & Points'!CK51)","v":87.12},{"$f":"IF('Races, Positions & Points'!CN51=\"\",\"\",'Races, Positions & Points'!CN51)","v":121.69},{"$f":"IF('Races, Positions & Points'!CQ51=\"\",\"\",'Races, Positions & Points'!CQ51)","v":89.56},{"$f":"IF('Races, Positions & Points'!CT51=\"\",\"\",'Races, Positions & Points'!CT51)","v":""},{"$f":"IF('Races, Positions & Points'!CW51=\"\",\"\",'Races, Positions & Points'!CW51)","v":""},{"$f":"IF('Races, Positions & Points'!CZ51=\"\",\"\",'Races, Positions & Points'!CZ51)","v":""},{"$f":"IF('Races, Positions & Points'!DE51=\"\",\"\",'Races, Positions & Points'!DE51)","v":81.239999999999995},{"$f":"IF('Races, Positions & Points'!DH51=\"\",\"\",'Races, Positions & Points'!DH51)","v":""},{"$f":"IF('Races, Positions & Points'!DK51=\"\",\"\",'Races, Positions & Points'!DK51)","v":999.99},{"$f":"IF('Races, Positions & Points'!DN51=\"\",\"\",'Races, Positions & Points'!DN51)","v":""},{"$f":"IF('Races, Positions & Points'!DQ51=\"\",\"\",'Races, Positions & Points'!DQ51)","v":""},{"$f":"IF('Races, Positions & Points'!DT51=\"\",\"\",'Races, Positions & Points'!DT51)","v":""},{"$f":"IF('Races, Positions & Points'!DW51=\"\",\"\",'Races, Positions & Points'!DW51)","v":""},{"$f":"IF('Races, Positions & Points'!DZ51=\"\",\"\",'Races, Positions & Points'!DZ51)","v":""},{"$f":"IF('Races, Positions & Points'!EC51=\"\",\"\",'Races, Positions & Points'!EC51)","v":""},null,0,2,0,4,0,2,null,{"$f":"VLOOKUP(A51,'Races, Positions & Points'!$A$8:$E$76,5,FALSE)","v":17840},{"$f":"VLOOKUP(AZ51,'Start of Year Points'!$A$2:$I$1998,9,FALSE)","v":62.44},81.239999999999995,87.12,84.18,71.84,97.49,62.44,74.930000000000007,74.930000000000007,null,81.239999999999995,"","","","","","","","","","",87.12,"",null,null,81.239999999999995,87.12,84.18,97.487999999999985,null,81.239999999999995,"","","","","","",87.12,""]
[{"$f":"'Races, Positions & Points'!A52","v":"James Smith"},{"$f":"IF('Races, Positions & Points'!P52=\"\",\"\",'Races, Positions & Points'!P52)","v":999.99},{"$f":"IF('Races, Positions & Points'!S52=\"\",\"\",'Races, Positions & Points'!S52)","v":106.64},{"$f":"IF('Races, Positions & Points'!T52=\"\",\"\",'Races, Positions & Points'!T52)","v":87.61999999999999},{"$f":"IF('Races, Positions & Points'!W52=\"\",\"\",'Races, Positions & Points'!W52)","v":99},{"$f":"IF('Races, Positions & Points'!X52=\"\",\"\",'Races, Positions & Points'!X52)","v":89.39},{"$f":"IF('Races, Positions & Points'!AA52=\"\",\"\",'Races, Positions & Points'!AA52)","v":""},{"$f":"IF('Races, Positions & Points'!AD52=\"\",\"\",'Races, Positions & Points'!AD52)","v":""},{"$f":"IF('Races, Positions & Points'!AG52=\"\",\"\",'Races, Positions & Points'!AG52)","v":219.8},{"$f":"IF('Races, Positions & Points'!AJ52=\"\",\"\",'Races, Positions & Points'!AJ52)","v":369.27},{"$f":"IF('Races, Positions & Points'!AM52=\"\",\"\",'Races, Positions & Points'!AM52)","v":""},{"$f":"IF('Races, Positions & Points'!AP52=\"\",\"\",'Races, Positions & Points'!AP52)","v":""},{"$f":"IF('Races, Positions & Points'!AS52=\"\",\"\",'Races, Positions & Points'!AS52)","v":999.99},{"$f":"IF('Races, Positions & Points'!AV52=\"\",\"\",'Races, Positions & Points'!AV52)","v":""},{"$f":"IF('Races, Positions & Points'!AW52=\"\",\"\",'Races, Positions & Points'!AW52)","v":""},{"$f":"IF('Races, Positions & Points'!AZ52=\"\",\"\",'Races, Positions & Points'!AZ52)","v":87.34},{"$f":"IF('Races, Positions & Points'!BC52=\"\",\"\",'Races, Positions & Points'!BC52)","v":""},{"$f":"IF('Races, Positions & Points'!BF52=\"\",\"\",'Races, Positions & Points'!BF52)","v":""},{"$f":"IF('Races, Positions & Points'!BI52=\"\",\"\",'Races, Positions & Points'!BI52)","v":""},{"$f":"IF('Races, Positions & Points'!BL52=\"\",\"\",'Races, Positions & Points'!BL52)","v":""},{"$f":"IF('Races, Positions & Points'!BO52=\"\",\"\",'Races, Positions & Points'!BO52)","v":""},{"$f":"IF('Races, Positions & Points'!BR52=\"\",\"\",'Races, Positions & Points'!BR52)","v":""},{"$f":"IF('Races, Positions & Points'!BU52=\"\",\"\",'Races, Positions & Points'!BU52)","v":""},{"$f":"IF('Races, Positions & Points'!BX52=\"\",\"\",'Races, Positions & Points'!BX52)","v":""},{"$f":"IF('Races, Positions & Points'!CA52=\"\",\"\",'Races, Positions & Points'!CA52)","v":""},{"$f":"IF('Races, Positions & Points'!CD52=\"\",\"\",'Races, Positions & Points'!CD52)","v":""},{"$f":"IF('Races, Positions & Points'!CE52=\"\",\"\",'Races, Positions & Points'!CE52)","v":""},{"$f":"IF('Races, Positions & Points'!CH52=\"\",\"\",'Races, Positions & Points'!CH52)","v":""},{"$f":"IF('Races, Positions & Points'!CK52=\"\",\"\",'Races, Positions & Points'!CK52)","v":""},{"$f":"IF('Races, Positions & Points'!CN52=\"\",\"\",'Races, Positions & Points'!CN52)","v":""},{"$f":"IF('Races, Positions & Points'!CQ52=\"\",\"\",'Races, Positions & Points'!CQ52)","v":""},{"$f":"IF('Races, Positions & Points'!CT52=\"\",\"\",'Races, Positions & Points'!CT52)","v":""},{"$f":"IF('Races, Positions & Points'!CW52=\"\",\"\",'Races, Positions & Points'!CW52)","v":""},{"$f":"IF('Races, Positions & Points'!CZ52=\"\",\"\",'Races, Positions & Points'!CZ52)","v":""},{"$f":"IF('Races, Positions & Points'!DE52=\"\",\"\",'Races, Positions & Points'!DE52)","v":""},{"$f":"IF('Races, Positions & Points'!DH52=\"\",\"\",'Races, Positions & Points'!DH52)","v":""},{"$f":"IF('Races, Positions & Points'!DK52=\"\",\"\",'Races, Positions & Points'!DK52)","v":""},{"$f":"IF('Races, Positions & Points'!DN52=\"\",\"\",'Races, Positions & Points'!DN52)","v":""},{"$f":"IF('Races, Positions & Points'!DQ52=\"\",\"\",'Races, Positions & Points'!DQ52)","v":""},{"$f":"IF('Races, Positions & Points'!DT52=\"\",\"\",'Races, Positions & Points'!DT52)","v":""},{"$f":"IF('Races, Positions & Points'!DW52=\"\",\"\",'Races, Positions & Points'!DW52)","v":""},{"$f":"IF('Races, Positions & Points'!DZ52=\"\",\"\",'Races, Positions & Points'!DZ52)","v":""},{"$f":"IF('Races, Positions & Points'!EC52=\"\",\"\",'Races, Positions & Points'!EC52)","v":""},null,2,3,0,2,0,0,null,{"$f":"VLOOKUP(A52,'Races, Positions & Points'!$A$8:$E$76,5,FALSE)","v":21595},{"$f":"VLOOKUP(AZ52,'Start of Year Points'!$A$2:$I$1998,9,FALSE)","v":999.99},87.34,87.61999999999999,87.48,"",104.81,87.48,999.99,87.48,null,999.99,87.61999999999999,"",87.34,999.99,"","","","","","","","",null,null,219.8,"","",263.76,null,"","","",219.8,"","","","",""]
[{"$f":"'Races, Positions & Points'!A53","v":"Oliver Weeks"},{"$f":"IF('Races, Positions & Points'!P53=\"\",\"\",'Races, Positions & Points'!P53)","v":999.99},{"$f":"IF('Races, Positions & Points'!S53=\"\",\"\",'Races, Positions & Points'!S53)","v":120.35000000000001},{"$f":"IF('Races, Positions & Points'!T53=\"\",\"\",'Races, Positions & Points'!T53)","v":98.97},{"$f":"IF('Races, Positions & Points'!W53=\"\",\"\",'Races, Positions & Points'!W53)","v":99},{"$f":"IF('Races, Positions & Points'!X53=\"\",\"\",'Races, Positions & Points'!X53)","v":88.95},{"$f":"IF('Races, Positions & Points'!AA53=\"\",\"\",'Races, Positions & Points'!AA53)","v":105.39},{"$f":"IF('Races, Positions & Points'!AD53=\"\",\"\",'Races, Positions & Points'!AD53)","v":94.4},{"$f":"IF('Races, Positions & Points'!AG53=\"\",\"\",'Races, Positions & Points'!AG53)","v":344.79},{"$f":"IF('Races, Positions & Points'!AJ53=\"\",\"\",'Races, Positions & Points'!AJ53)","v":151.07},{"$f":"IF('Races, Positions & Points'!AM53=\"\",\"\",'Races, Positions & Points'!AM53)","v":""},{"$f":"IF('Races, Positions & Points'!AP53=\"\",\"\",'Races, Positions & Points'!AP53)","v":88.91},{"$f":"IF('Races, Positions & Points'!AS53=\"\",\"\",'Races, Positions & Points'!AS53)","v":118.09},{"$f":"IF('Races, Positions & Points'!AV53=\"\",\"\",'Races, Positions & Points'!AV53)","v":91.88},{"$f":"IF('Races, Positions & Points'!AW53=\"\",\"\",'Races, Positions & Points'!AW53)","v":""},{"$f":"IF('Races, Positions & Points'!AZ53=\"\",\"\",'Races, Positions & Points'!AZ53)","v":142.83000000000001},{"$f":"IF('Races, Positions & Points'!BC53=\"\",\"\",'Races, Positions & Points'!BC53)","v":105.27},{"$f":"IF('Races, Positions & Points'!BF53=\"\",\"\",'Races, Positions & Points'!BF53)","v":""},{"$f":"IF('Races, Positions & Points'!BI53=\"\",\"\",'Races, Positions & Points'!BI53)","v":137.1},{"$f":"IF('Races, Positions & Points'!BL53=\"\",\"\",'Races, Positions & Points'!BL53)","v":""},{"$f":"IF('Races, Positions & Points'!BO53=\"\",\"\",'Races, Positions & Points'!BO53)","v":95.95},{"$f":"IF('Races, Positions & Points'!BR53=\"\",\"\",'Races, Positions & Points'!BR53)","v":""},{"$f":"IF('Races, Positions & Points'!BU53=\"\",\"\",'Races, Positions & Points'!BU53)","v":""},{"$f":"IF('Races, Positions & Points'!BX53=\"\",\"\",'Races, Positions & Points'!BX53)","v":101.9},{"$f":"IF('Races, Positions & Points'!CA53=\"\",\"\",'Races, Positions & Points'!CA53)","v":""},{"$f":"IF('Races, Positions & Points'!CD53=\"\",\"\",'Races, Positions & Points'!CD53)","v":86.19},{"$f":"IF('Races, Positions & Points'!CE53=\"\",\"\",'Races, Positions & Points'!CE53)","v":537.46},{"$f":"IF('Races, Positions & Points'!CH53=\"\",\"\",'Races, Positions & Points'!CH53)","v":999.99},{"$f":"IF('Races, Positions & Points'!CK53=\"\",\"\",'Races, Positions & Points'!CK53)","v":146.47999999999999},{"$f":"IF('Races, Positions & Points'!CN53=\"\",\"\",'Races, Positions & Points'!CN53)","v":681.67},{"$f":"IF('Races, Positions & Points'!CQ53=\"\",\"\",'Races, Positions & Points'!CQ53)","v":115.13},{"$f":"IF('Races, Positions & Points'!CT53=\"\",\"\",'Races, Positions & Points'!CT53)","v":418.28},{"$f":"IF('Races, Positions & Points'!CW53=\"\",\"\",'Races, Positions & Points'!CW53)","v":210.68},{"$f":"IF('Races, Positions & Points'!CZ53=\"\",\"\",'Races, Positions & Points'!CZ53)","v":""},{"$f":"IF('Races, Positions & Points'!DE53=\"\",\"\",'Races, Positions & Points'!DE53)","v":81.239999999999995},{"$f":"IF('Races, Positions & Points'!DH53=\"\",\"\",'Races, Positions & Points'!DH53)","v":107.74},{"$f":"IF('Races, Positions & Points'!DK53=\"\",\"\",'Races, Positions & Points'!DK53)","v":92.95},{"$f":"IF('Races, Positions & Points'!DN53=\"\",\"\",'Races, Positions & Points'!DN53)","v":""},{"$f":"IF('Races, Positions & Points'!DQ53=\"\",\"\",'Races, Positions & Points'!DQ53)","v":102.15},{"$f":"IF('Races, Positions & Points'!DT53=\"\",\"\",'Races, Positions & Points'!DT53)","v":77.94},{"$f":"IF('Races, Positions & Points'!DW53=\"\",\"\",'Races, Positions & Points'!DW53)","v":""},{"$f":"IF('Races, Positions & Points'!DZ53=\"\",\"\",'Races, Positions & Points'!DZ53)","v":""},{"$f":"IF('Races, Positions & Points'!EC53=\"\",\"\",'Races, Positions & Points'!EC53)","v":69.91},null,4,7,4,7,3,3,null,{"$f":"VLOOKUP(A53,'Races, Positions & Points'!$A$8:$E$76,5,FALSE)","v":19051},{"$f":"VLOOKUP(AZ53,'Start of Year Points'!$A$2:$I$1998,9,FALSE)","v":119.29},69.91,81.239999999999995,75.58,94.6,83.89,75.58,143.15,75.58,null,81.239999999999995,69.91,91.88,105.27,118.09,102.15,95.95,"","","",86.19,92.95,"",null,null,69.91,81.239999999999995,75.574999999999989,83.891999999999996,null,81.239999999999995,69.91,94.4,151.07,102.15,"","",92.95,""]
[{"$f":"'Races, Positions & Points'!A54","v":"Roger Crombleholme"},{"$f":"IF('Races, Positions & Points'!P54=\"\",\"\",'Races, Positions & Points'!P54)","v":""},{"$f":"IF('Races, Positions & Points'!S54=\"\",\"\",'Races, Positions & Points'!S54)","v":""},{"$f":"IF('Races, Positions & Points'!T54=\"\",\"\",'Races, Positions & Points'!T54)","v":""},{"$f":"IF('Races, Positions & Points'!W54=\"\",\"\",'Races, Positions & Points'!W54)","v":""},{"$f":"IF('Races, Positions & Points'!X54=\"\",\"\",'Races, Positions & Points'!X54)","v":""},{"$f":"IF('Races, Positions & Points'!AA54=\"\",\"\",'Races, Positions & Points'!AA54)","v":""},{"$f":"IF('Races, Positions & Points'!AD54=\"\",\"\",'Races, Positions & Points'!AD54)","v":""},{"$f":"IF('Races, Positions & Points'!AG54=\"\",\"\",'Races, Positions & Points'!AG54)","v":""},{"$f":"IF('Races, Positions & Points'!AJ54=\"\",\"\",'Races, Positions & Points'!AJ54)","v":""},{"$f":"IF('Races, Positions & Points'!AM54=\"\",\"\",'Races, Positions & Points'!AM54)","v":""},{"$f":"IF('Races, Positions & Points'!AP54=\"\",\"\",'Races, Positions & Points'!AP54)","v":""},{"$f":"IF('Races, Positions & Points'!AS54=\"\",\"\",'Races, Positions & Points'!AS54)","v":""},{"$f":"IF('Races, Positions & Points'!AV54=\"\",\"\",'Races, Positions & Points'!AV54)","v":""},{"$f":"IF('Races, Positions & Points'!AW54=\"\",\"\",'Races, Positions & Points'!AW54)","v":""},{"$f":"IF('Races, Positions & Points'!AZ54=\"\",\"\",'Races, Positions & Points'!AZ54)","v":""},{"$f":"IF('Races, Positions & Points'!BC54=\"\",\"\",'Races, Positions & Points'!BC54)","v":""},{"$f":"IF('Races, Positions & Points'!BF54=\"\",\"\",'Races, Positions & Points'!BF54)","v":""},{"$f":"IF('Races, Positions & Points'!BI54=\"\",\"\",'Races, Positions & Points'!BI54)","v":""},{"$f":"IF('Races, Positions & Points'!BL54=\"\",\"\",'Races, Positions & Points'!BL54)","v":""},{"$f":"IF('Races, Positions & Points'!BO54=\"\",\"\",'Races, Positions & Points'!BO54)","v":""},{"$f":"IF('Races, Positions & Points'!BR54=\"\",\"\",'Races, Positions & Points'!BR54)","v":""},{"$f":"IF('Races, Positions & Points'!BU54=\"\",\"\",'Races, Positions & Points'!BU54)","v":""},{"$f":"IF('Races, Positions & Points'!BX54=\"\",\"\",'Races, Positions & Points'!BX54)","v":141.93},{"$f":"IF('Races, Positions & Points'!CA54=\"\",\"\",'Races, Positions & Points'!CA54)","v":999.99},{"$f":"IF('Races, Positions & Points'!CD54=\"\",\"\",'Races, Positions & Points'!CD54)","v":""},{"$f":"IF('Races, Positions & Points'!CE54=\"\",\"\",'Races, Positions & Points'!CE54)","v":""},{"$f":"IF('Races, Positions & Points'!CH54=\"\",\"\",'Races, Positions & Points'!CH54)","v":""},{"$f":"IF('Races, Positions & Points'!CK54=\"\",\"\",'Races, Positions & Points'!CK54)","v":""},{"$f":"IF('Races, Positions & Points'!CN54=\"\",\"\",'Races, Positions & Points'!CN54)","v":""},{"$f":"IF('Races, Positions & Points'!CQ54=\"\",\"\",'Races, Positions & Points'!CQ54)","v":""},{"$f":"IF('Races, Positions & Points'!CT54=\"\",\"\",'Races, Positions & Points'!CT54)","v":""},{"$f":"IF('Races, Positions & Points'!CW54=\"\",\"\",'Races, Positions & Points'!CW54)","v":""},{"$f":"IF('Races, Positions & Points'!CZ54=\"\",\"\",'Races, Positions & Points'!CZ54)","v":""},{"$f":"IF('Races, Positions & Points'!DE54=\"\",\"\",'Races, Positions & Points'!DE54)","v":""},{"$f":"IF('Races, Positions & Points'!DH54=\"\",\"\",'Races, Positions & Points'!DH54)","v":""},{"$f":"IF('Races, Positions & Points'!DK54=\"\",\"\",'Races, Positions & Points'!DK54)","v":""},{"$f":"IF('Races, Positions & Points'!DN54=\"\",\"\",'Races, Positions & Points'!DN54)","v":""},{"$f":"IF('Races, Positions & Points'!DQ54=\"\",\"\",'Races, Positions & Points'!DQ54)","v":""},{"$f":"IF('Races, Positions & Points'!DT54=\"\",\"\",'Races, Positions & Points'!DT54)","v":""},{"$f":"IF('Races, Positions & Points'!DW54=\"\",\"\",'Races, Positions & Points'!DW54)","v":""},{"$f":"IF('Races, Positions & Points'!DZ54=\"\",\"\",'Races, Positions & Points'!DZ54)","v":""},{"$f":"IF('Races, Positions & Points'!EC54=\"\",\"\",'Races, Positions & Points'!EC54)","v":""},null,0,2,0,0,0,0,null,{"$f":"VLOOKUP(A54,'Races, Positions & Points'!$A$8:$E$76,5,FALSE)","v":5666},{"$f":"VLOOKUP(AZ54,'Start of Year Points'!$A$2:$I$1998,9,FALSE)","v":104.12},141.93,"","",123.03,170.32,104.12,124.94,124.94,null,141.93,"","","","","","","","","","","","",null,null,"","","","",null,"","","","","","","","",""]
[{"$f":"'Races, Positions & Points'!A55","v":"Joey Frost"},{"$f":"IF('Races, Positions & Points'!P55=\"\",\"\",'Races, Positions & Points'!P55)","v":""},{"$f":"IF('Races, Positions & Points'!S55=\"\",\"\",'Races, Positions & Points'!S55)","v":""},{"$f":"IF('Races, Positions & Points'!T55=\"\",\"\",'Races, Positions & Points'!T55)","v":""},{"$f":"IF('Races, Positions & Points'!W55=\"\",\"\",'Races, Positions & Points'!W55)","v":""},{"$f":"IF('Races, Positions & Points'!X55=\"\",\"\",'Races, Positions & Points'!X55)","v":""},{"$f":"IF('Races, Positions & Points'!AA55=\"\",\"\",'Races, Positions & Points'!AA55)","v":""},{"$f":"IF('Races, Positions & Points'!AD55=\"\",\"\",'Races, Positions & Points'!AD55)","v":""},{"$f":"IF('Races, Positions & Points'!AG55=\"\",\"\",'Races, Positions & Points'!AG55)","v":""},{"$f":"IF('Races, Positions & Points'!AJ55=\"\",\"\",'Races, Positions & Points'!AJ55)","v":""},{"$f":"IF('Races, Positions & Points'!AM55=\"\",\"\",'Races, Positions & Points'!AM55)","v":""},{"$f":"IF('Races, Positions & Points'!AP55=\"\",\"\",'Races, Positions & Points'!AP55)","v":""},{"$f":"IF('Races, Positions & Points'!AS55=\"\",\"\",'Races, Positions & Points'!AS55)","v":""},{"$f":"IF('Races, Positions & Points'!AV55=\"\",\"\",'Races, Positions & Points'!AV55)","v":""},{"$f":"IF('Races, Positions & Points'!AW55=\"\",\"\",'Races, Positions & Points'!AW55)","v":""},{"$f":"IF('Races, Positions & Points'!AZ55=\"\",\"\",'Races, Positions & Points'!AZ55)","v":""},{"$f":"IF('Races, Positions & Points'!BC55=\"\",\"\",'Races, Positions & Points'!BC55)","v":""},{"$f":"IF('Races, Positions & Points'!BF55=\"\",\"\",'Races, Positions & Points'!BF55)","v":""},{"$f":"IF('Races, Positions & Points'!BI55=\"\",\"\",'Races, Positions & Points'!BI55)","v":""},{"$f":"IF('Races, Positions & Points'!BL55=\"\",\"\",'Races, Positions & Points'!BL55)","v":""},{"$f":"IF('Races, Positions & Points'!BO55=\"\",\"\",'Races, Positions & Points'!BO55)","v":""},{"$f":"IF('Races, Positions & Points'!BR55=\"\",\"\",'Races, Positions & Points'!BR55)","v":""},{"$f":"IF('Races, Positions & Points'!BU55=\"\",\"\",'Races, Positions & Points'!BU55)","v":""},{"$f":"IF('Races, Positions & Points'!BX55=\"\",\"\",'Races, Positions & Points'!BX55)","v":""},{"$f":"IF('Races, Positions & Points'!CA55=\"\",\"\",'Races, Positions & Points'!CA55)","v":""},{"$f":"IF('Races, Positions & Points'!CD55=\"\",\"\",'Races, Positions & Points'!CD55)","v":""},{"$f":"IF('Races, Positions & Points'!CE55=\"\",\"\",'Races, Positions & Points'!CE55)","v":""},{"$f":"IF('Races, Positions & Points'!CH55=\"\",\"\",'Races, Positions & Points'!CH55)","v":""},{"$f":"IF('Races, Positions & Points'!CK55=\"\",\"\",'Races, Positions & Points'!CK55)","v":""},{"$f":"IF('Races, Positions & Points'!CN55=\"\",\"\",'Races, Positions & Points'!CN55)","v":""},{"$f":"IF('Races, Positions & Points'!CQ55=\"\",\"\",'Races, Positions & Points'!CQ55)","v":""},{"$f":"IF('Races, Positions & Points'!CT55=\"\",\"\",'Races, Positions & Points'!CT55)","v":""},{"$f":"IF('Races, Positions & Points'!CW55=\"\",\"\",'Races, Positions & Points'!CW55)","v":""},{"$f":"IF('Races, Positions & Points'!CZ55=\"\",\"\",'Races, Positions & Points'!CZ55)","v":""},{"$f":"IF('Races, Positions & Points'!DE55=\"\",\"\",'Races, Positions & Points'!DE55)","v":""},{"$f":"IF('Races, Positions & Points'!DH55=\"\",\"\",'Races, Positions & Points'!DH55)","v":""},{"$f":"IF('Races, Positions & Points'!DK55=\"\",\"\",'Races, Positions & Points'!DK55)","v":""},{"$f":"IF('Races, Positions & Points'!DN55=\"\",\"\",'Races, Positions & Points'!DN55)","v":""},{"$f":"IF('Races, Positions & Points'!DQ55=\"\",\"\",'Races, Positions & Points'!DQ55)","v":""},{"$f":"IF('Races, Positions & Points'!DT55=\"\",\"\",'Races, Positions & Points'!DT55)","v":""},{"$f":"IF('Races, Positions & Points'!DW55=\"\",\"\",'Races, Positions & Points'!DW55)","v":""},{"$f":"IF('Races, Positions & Points'!DZ55=\"\",\"\",'Races, Positions & Points'!DZ55)","v":""},{"$f":"IF('Races, Positions & Points'!EC55=\"\",\"\",'Races, Positions & Points'!EC55)","v":""},null,0,0,0,0,0,0,null,{"$f":"VLOOKUP(A55,'Races, Positions & Points'!$A$8:$E$76,5,FALSE)","v":20677},{"$f":"VLOOKUP(AZ55,'Start of Year Points'!$A$2:$I$1998,9,FALSE)","v":110.32},"","","",110.32,"",110.32,132.38,132.38,null,"","","","","","","","","","","","","",null,null,"","","","",null,"","","","","","","","",""]
[{"$f":"'Races, Positions & Points'!A56","v":"Jordan Rigby"},{"$f":"IF('Races, Positions & Points'!P56=\"\",\"\",'Races, Positions & Points'!P56)","v":134.47},{"$f":"IF('Races, Positions & Points'!S56=\"\",\"\",'Races, Positions & Points'!S56)","v":207.62},{"$f":"IF('Races, Positions & Points'!T56=\"\",\"\",'Races, Positions & Points'!T56)","v":207.75},{"$f":"IF('Races, Positions & Points'!W56=\"\",\"\",'Races, Positions & Points'!W56)","v":""},{"$f":"IF('Races, Positions & Points'!X56=\"\",\"\",'Races, Positions & Points'!X56)","v":""},{"$f":"IF('Races, Positions & Points'!AA56=\"\",\"\",'Races, Positions & Points'!AA56)","v":""},{"$f":"IF('Races, Positions & Points'!AD56=\"\",\"\",'Races, Positions & Points'!AD56)","v":""},{"$f":"IF('Races, Positions & Points'!AG56=\"\",\"\",'Races, Positions & Points'!AG56)","v":190.65},{"$f":"IF('Races, Positions & Points'!AJ56=\"\",\"\",'Races, Positions & Points'!AJ56)","v":474.44},{"$f":"IF('Races, Positions & Points'!AM56=\"\",\"\",'Races, Positions & Points'!AM56)","v":""},{"$f":"IF('Races, Positions & Points'!AP56=\"\",\"\",'Races, Positions & Points'!AP56)","v":""},{"$f":"IF('Races, Positions & Points'!AS56=\"\",\"\",'Races, Positions & Points'!AS56)","v":136.84},{"$f":"IF('Races, Positions & Points'!AV56=\"\",\"\",'Races, Positions & Points'!AV56)","v":""},{"$f":"IF('Races, Positions & Points'!AW56=\"\",\"\",'Races, Positions & Points'!AW56)","v":""},{"$f":"IF('Races, Positions & Points'!AZ56=\"\",\"\",'Races, Positions & Points'!AZ56)","v":158.72},{"$f":"IF('Races, Positions & Points'!BC56=\"\",\"\",'Races, Positions & Points'!BC56)","v":143.53},{"$f":"IF('Races, Positions & Points'!BF56=\"\",\"\",'Races, Positions & Points'!BF56)","v":""},{"$f":"IF('Races, Positions & Points'!BI56=\"\",\"\",'Races, Positions & Points'!BI56)","v":""},{"$f":"IF('Races, Positions & Points'!BL56=\"\",\"\",'Races, Positions & Points'!BL56)","v":""},{"$f":"IF('Races, Positions & Points'!BO56=\"\",\"\",'Races, Positions & Points'!BO56)","v":""},{"$f":"IF('Races, Positions & Points'!BR56=\"\",\"\",'Races, Positions & Points'!BR56)","v":""},{"$f":"IF('Races, Positions & Points'!BU56=\"\",\"\",'Races, Positions & Points'!BU56)","v":""},{"$f":"IF('Races, Positions & Points'!BX56=\"\",\"\",'Races, Positions & Points'!BX56)","v":97.01},{"$f":"IF('Races, Positions & Points'!CA56=\"\",\"\",'Races, Positions & Points'!CA56)","v":125.74},{"$f":"IF('Races, Positions & Points'!CD56=\"\",\"\",'Races, Positions & Points'!CD56)","v":""},{"$f":"IF('Races, Positions & Points'!CE56=\"\",\"\",'Races, Positions & Points'!CE56)","v":""},{"$f":"IF('Races, Positions & Points'!CH56=\"\",\"\",'Races, Positions & Points'!CH56)","v":""},{"$f":"IF('Races, Positions & Points'!CK56=\"\",\"\",'Races, Positions & Points'!CK56)","v":""},{"$f":"IF('Races, Positions & Points'!CN56=\"\",\"\",'Races, Positions & Points'!CN56)","v":""},{"$f":"IF('Races, Positions & Points'!CQ56=\"\",\"\",'Races, Positions & Points'!CQ56)","v":999.99},{"$f":"IF('Races, Positions & Points'!CT56=\"\",\"\",'Races, Positions & Points'!CT56)","v":""},{"$f":"IF('Races, Positions & Points'!CW56=\"\",\"\",'Races, Positions & Points'!CW56)","v":""},{"$f":"IF('Races, Positions & Points'!CZ56=\"\",\"\",'Races, Positions & Points'!CZ56)","v":""},{"$f":"IF('Races, Positions & Points'!DE56=\"\",\"\",'Races, Positions & Points'!DE56)","v":""},{"$f":"IF('Races, Positions & Points'!DH56=\"\",\"\",'Races, Positions & Points'!DH56)","v":""},{"$f":"IF('Races, Positions & Points'!DK56=\"\",\"\",'Races, Positions & Points'!DK56)","v":""},{"$f":"IF('Races, Positions & Points'!DN56=\"\",\"\",'Races, Positions & Points'!DN56)","v":""},{"$f":"IF('Races, Positions & Points'!DQ56=\"\",\"\",'Races, Positions & Points'!DQ56)","v":""},{"$f":"IF('Races, Positions & Points'!DT56=\"\",\"\",'Races, Positions & Points'!DT56)","v":""},{"$f":"IF('Races, Positions & Points'!DW56=\"\",\"\",'Races, Positions & Points'!DW56)","v":""},{"$f":"IF('Races, Positions & Points'!DZ56=\"\",\"\",'Races, Positions & Points'!DZ56)","v":""},{"$f":"IF('Races, Positions & Points'!EC56=\"\",\"\",'Races, Positions & Points'!EC56)","v":""},null,1,6,0,3,0,0,null,{"$f":"VLOOKUP(A56,'Races, Positions & Points'!$A$8:$E$76,5,FALSE)","v":19910},{"$f":"VLOOKUP(AZ56,'Start of Year Points'!$A$2:$I$1998,9,FALSE)","v":144.43},97.01,136.84,116.93,120.72,116.41,116.41,173.32,116.41,null,97.01,207.62,"",143.53,136.84,"","","","","","","","",null,null,134.47,190.65,162.56,161.364,null,134.47,"","",190.65,"","","","",""]
[{"$f":"'Races, Positions & Points'!A57","v":"James Elgy"},{"$f":"IF('Races, Positions & Points'!P57=\"\",\"\",'Races, Positions & Points'!P57)","v":""},{"$f":"IF('Races, Positions & Points'!S57=\"\",\"\",'Races, Positions & Points'!S57)","v":""},{"$f":"IF('Races, Positions & Points'!T57=\"\",\"\",'Races, Positions & Points'!T57)","v":""},{"$f":"IF('Races, Positions & Points'!W57=\"\",\"\",'Races, Positions & Points'!W57)","v":""},{"$f":"IF('Races, Positions & Points'!X57=\"\",\"\",'Races, Positions & Points'!X57)","v":""},{"$f":"IF('Races, Positions & Points'!AA57=\"\",\"\",'Races, Positions & Points'!AA57)","v":""},{"$f":"IF('Races, Positions & Points'!AD57=\"\",\"\",'Races, Positions & Points'!AD57)","v":""},{"$f":"IF('Races, Positions & Points'!AG57=\"\",\"\",'Races, Positions & Points'!AG57)","v":""},{"$f":"IF('Races, Positions & Points'!AJ57=\"\",\"\",'Races, Positions & Points'!AJ57)","v":""},{"$f":"IF('Races, Positions & Points'!AM57=\"\",\"\",'Races, Positions & Points'!AM57)","v":""},{"$f":"IF('Races, Positions & Points'!AP57=\"\",\"\",'Races, Positions & Points'!AP57)","v":""},{"$f":"IF('Races, Positions & Points'!AS57=\"\",\"\",'Races, Positions & Points'!AS57)","v":""},{"$f":"IF('Races, Positions & Points'!AV57=\"\",\"\",'Races, Positions & Points'!AV57)","v":""},{"$f":"IF('Races, Positions & Points'!AW57=\"\",\"\",'Races, Positions & Points'!AW57)","v":""},{"$f":"IF('Races, Positions & Points'!AZ57=\"\",\"\",'Races, Positions & Points'!AZ57)","v":""},{"$f":"IF('Races, Positions & Points'!BC57=\"\",\"\",'Races, Positions & Points'!BC57)","v":""},{"$f":"IF('Races, Positions & Points'!BF57=\"\",\"\",'Races, Positions & Points'!BF57)","v":""},{"$f":"IF('Races, Positions & Points'!BI57=\"\",\"\",'Races, Positions & Points'!BI57)","v":""},{"$f":"IF('Races, Positions & Points'!BL57=\"\",\"\",'Races, Positions & Points'!BL57)","v":""},{"$f":"IF('Races, Positions & Points'!BO57=\"\",\"\",'Races, Positions & Points'!BO57)","v":""},{"$f":"IF('Races, Positions & Points'!BR57=\"\",\"\",'Races, Positions & Points'!BR57)","v":""},{"$f":"IF('Races, Positions & Points'!BU57=\"\",\"\",'Races, Positions & Points'!BU57)","v":""},{"$f":"IF('Races, Positions & Points'!BX57=\"\",\"\",'Races, Positions & Points'!BX57)","v":""},{"$f":"IF('Races, Positions & Points'!CA57=\"\",\"\",'Races, Positions & Points'!CA57)","v":""},{"$f":"IF('Races, Positions & Points'!CD57=\"\",\"\",'Races, Positions & Points'!CD57)","v":""},{"$f":"IF('Races, Positions & Points'!CE57=\"\",\"\",'Races, Positions & Points'!CE57)","v":""},{"$f":"IF('Races, Positions & Points'!CH57=\"\",\"\",'Races, Positions & Points'!CH57)","v":""},{"$f":"IF('Races, Positions & Points'!CK57=\"\",\"\",'Races, Positions & Points'!CK57)","v":""},{"$f":"IF('Races, Positions & Points'!CN57=\"\",\"\",'Races, Positions & Points'!CN57)","v":""},{"$f":"IF('Races, Positions & Points'!CQ57=\"\",\"\",'Races, Positions & Points'!CQ57)","v":""},{"$f":"IF('Races, Positions & Points'!CT57=\"\",\"\",'Races, Positions & Points'!CT57)","v":""},{"$f":"IF('Races, Positions & Points'!CW57=\"\",\"\",'Races, Positions & Points'!CW57)","v":""},{"$f":"IF('Races, Positions & Points'!CZ57=\"\",\"\",'Races, Positions & Points'!CZ57)","v":""},{"$f":"IF('Races, Positions & Points'!DE57=\"\",\"\",'Races, Positions & Points'!DE57)","v":""},{"$f":"IF('Races, Positions & Points'!DH57=\"\",\"\",'Races, Positions & Points'!DH57)","v":""},{"$f":"IF('Races, Positions & Points'!DK57=\"\",\"\",'Races, Positions & Points'!DK57)","v":""},{"$f":"IF('Races, Positions & Points'!DN57=\"\",\"\",'Races, Positions & Points'!DN57)","v":""},{"$f":"IF('Races, Positions & Points'!DQ57=\"\",\"\",'Races, Positions & Points'!DQ57)","v":""},{"$f":"IF('Races, Positions & Points'!DT57=\"\",\"\",'Races, Positions & Points'!DT57)","v":""},{"$f":"IF('Races, Positions & Points'!DW57=\"\",\"\",'Races, Positions & Points'!DW57)","v":""},{"$f":"IF('Races, Positions & Points'!DZ57=\"\",\"\",'Races, Positions & Points'!DZ57)","v":""},{"$f":"IF('Races, Positions & Points'!EC57=\"\",\"\",'Races, Positions & Points'!EC57)","v":""},null,0,0,0,0,0,0,null,{"$f":"VLOOKUP(A57,'Races, Positions & Points'!$A$8:$E$76,5,FALSE)","v":19166},{"$f":"VLOOKUP(AZ57,'Start of Year Points'!$A$2:$I$1998,9,FALSE)","v":142.46},"","","",142.46,"",142.46,170.95,170.95,null,"","","","","","","","","","","","","",null,null,"","","","",null,"","","","","","","","",""]
[{"$f":"'Races, Positions & Points'!A58","v":"Sam Lee"},{"$f":"IF('Races, Positions & Points'!P58=\"\",\"\",'Races, Positions & Points'!P58)","v":999.99},{"$f":"IF('Races, Positions & Points'!S58=\"\",\"\",'Races, Positions & Points'!S58)","v":""},{"$f":"IF('Races, Positions & Points'!T58=\"\",\"\",'Races, Positions & Points'!T58)","v":""},{"$f":"IF('Races, Positions & Points'!W58=\"\",\"\",'Races, Positions & Points'!W58)","v":""},{"$f":"IF('Races, Positions & Points'!X58=\"\",\"\",'Races, Positions & Points'!X58)","v":""},{"$f":"IF('Races, Positions & Points'!AA58=\"\",\"\",'Races, Positions & Points'!AA58)","v":""},{"$f":"IF('Races, Positions & Points'!AD58=\"\",\"\",'Races, Positions & Points'!AD58)","v":""},{"$f":"IF('Races, Positions & Points'!AG58=\"\",\"\",'Races, Positions & Points'!AG58)","v":999.99},{"$f":"IF('Races, Positions & Points'!AJ58=\"\",\"\",'Races, Positions & Points'!AJ58)","v":189.94},{"$f":"IF('Races, Positions & Points'!AM58=\"\",\"\",'Races, Positions & Points'!AM58)","v":""},{"$f":"IF('Races, Positions & Points'!AP58=\"\",\"\",'Races, Positions & Points'!AP58)","v":""},{"$f":"IF('Races, Positions & Points'!AS58=\"\",\"\",'Races, Positions & Points'!AS58)","v":""},{"$f":"IF('Races, Positions & Points'!AV58=\"\",\"\",'Races, Positions & Points'!AV58)","v":""},{"$f":"IF('Races, Positions & Points'!AW58=\"\",\"\",'Races, Positions & Points'!AW58)","v":""},{"$f":"IF('Races, Positions & Points'!AZ58=\"\",\"\",'Races, Positions & Points'!AZ58)","v":161.24},{"$f":"IF('Races, Positions & Points'!BC58=\"\",\"\",'Races, Positions & Points'!BC58)","v":132.57},{"$f":"IF('Races, Positions & Points'!BF58=\"\",\"\",'Races, Positions & Points'!BF58)","v":""},{"$f":"IF('Races, Positions & Points'!BI58=\"\",\"\",'Races, Positions & Points'!BI58)","v":""},{"$f":"IF('Races, Positions & Points'!BL58=\"\",\"\",'Races, Positions & Points'!BL58)","v":""},{"$f":"IF('Races, Positions & Points'!BO58=\"\",\"\",'Races, Positions & Points'!BO58)","v":""},{"$f":"IF('Races, Positions & Points'!BR58=\"\",\"\",'Races, Positions & Points'!BR58)","v":""},{"$f":"IF('Races, Positions & Points'!BU58=\"\",\"\",'Races, Positions & Points'!BU58)","v":""},{"$f":"IF('Races, Positions & Points'!BX58=\"\",\"\",'Races, Positions & Points'!BX58)","v":144.75},{"$f":"IF('Races, Positions & Points'!CA58=\"\",\"\",'Races, Positions & Points'!CA58)","v":175.81},{"$f":"IF('Races, Positions & Points'!CD58=\"\",\"\",'Races, Positions & Points'!CD58)","v":""},{"$f":"IF('Races, Positions & Points'!CE58=\"\",\"\",'Races, Positions & Points'!CE58)","v":""},{"$f":"IF('Races, Positions & Points'!CH58=\"\",\"\",'Races, Positions & Points'!CH58)","v":198.01},{"$f":"IF('Races, Positions & Points'!CK58=\"\",\"\",'Races, Positions & Points'!CK58)","v":376.93},{"$f":"IF('Races, Positions & Points'!CN58=\"\",\"\",'Races, Positions & Points'!CN58)","v":999.99},{"$f":"IF('Races, Positions & Points'!CQ58=\"\",\"\",'Races, Positions & Points'!CQ58)","v":166.79},{"$f":"IF('Races, Positions & Points'!CT58=\"\",\"\",'Races, Positions & Points'!CT58)","v":""},{"$f":"IF('Races, Positions & Points'!CW58=\"\",\"\",'Races, Positions & Points'!CW58)","v":""},{"$f":"IF('Races, Positions & Points'!CZ58=\"\",\"\",'Races, Positions & Points'!CZ58)","v":""},{"$f":"IF('Races, Positions & Points'!DE58=\"\",\"\",'Races, Positions & Points'!DE58)","v":163.61000000000001},{"$f":"IF('Races, Positions & Points'!DH58=\"\",\"\",'Races, Positions & Points'!DH58)","v":175.95},{"$f":"IF('Races, Positions & Points'!DK58=\"\",\"\",'Races, Positions & Points'!DK58)","v":134.24},{"$f":"IF('Races, Positions & Points'!DN58=\"\",\"\",'Races, Positions & Points'!DN58)","v":""},{"$f":"IF('Races, Positions & Points'!DQ58=\"\",\"\",'Races, Positions & Points'!DQ58)","v":185.55},{"$f":"IF('Races, Positions & Points'!DT58=\"\",\"\",'Races, Positions & Points'!DT58)","v":""},{"$f":"IF('Races, Positions & Points'!DW58=\"\",\"\",'Races, Positions & Points'!DW58)","v":""},{"$f":"IF('Races, Positions & Points'!DZ58=\"\",\"\",'Races, Positions & Points'!DZ58)","v":""},{"$f":"IF('Races, Positions & Points'!EC58=\"\",\"\",'Races, Positions & Points'!EC58)","v":""},null,0,5,0,7,0,3,null,{"$f":"VLOOKUP(A58,'Races, Positions & Points'!$A$8:$E$76,5,FALSE)","v":41662},{"$f":"VLOOKUP(AZ58,'Start of Year Points'!$A$2:$I$1998,9,FALSE)","v":154.66},132.57,134.24,133.41,143.62,159.08000000000001,133.41,185.59,133.41,null,144.75,"","",132.57,"",185.55,"","","","","",134.24,"",null,null,134.24,163.61000000000001,148.92500000000001,161.08799999999999,null,163.61000000000001,"","",189.94,185.55,"","",134.24,""]
[{"$f":"'Races, Positions & Points'!A59","v":"Sam Dewison"},{"$f":"IF('Races, Positions & Points'!P59=\"\",\"\",'Races, Positions & Points'!P59)","v":""},{"$f":"IF('Races, Positions & Points'!S59=\"\",\"\",'Races, Positions & Points'!S59)","v":""},{"$f":"IF('Races, Positions & Points'!T59=\"\",\"\",'Races, Positions & Points'!T59)","v":""},{"$f":"IF('Races, Positions & Points'!W59=\"\",\"\",'Races, Positions & Points'!W59)","v":""},{"$f":"IF('Races, Positions & Points'!X59=\"\",\"\",'Races, Positions & Points'!X59)","v":""},{"$f":"IF('Races, Positions & Points'!AA59=\"\",\"\",'Races, Positions & Points'!AA59)","v":""},{"$f":"IF('Races, Positions & Points'!AD59=\"\",\"\",'Races, Positions & Points'!AD59)","v":""},{"$f":"IF('Races, Positions & Points'!AG59=\"\",\"\",'Races, Positions & Points'!AG59)","v":""},{"$f":"IF('Races, Positions & Points'!AJ59=\"\",\"\",'Races, Positions & Points'!AJ59)","v":""},{"$f":"IF('Races, Positions & Points'!AM59=\"\",\"\",'Races, Positions & Points'!AM59)","v":""},{"$f":"IF('Races, Positions & Points'!AP59=\"\",\"\",'Races, Positions & Points'!AP59)","v":""},{"$f":"IF('Races, Positions & Points'!AS59=\"\",\"\",'Races, Positions & Points'!AS59)","v":176.37},{"$f":"IF('Races, Positions & Points'!AV59=\"\",\"\",'Races, Positions & Points'!AV59)","v":""},{"$f":"IF('Races, Positions & Points'!AW59=\"\",\"\",'Races, Positions & Points'!AW59)","v":""},{"$f":"IF('Races, Positions & Points'!AZ59=\"\",\"\",'Races, Positions & Points'!AZ59)","v":""},{"$f":"IF('Races, Positions & Points'!BC59=\"\",\"\",'Races, Positions & Points'!BC59)","v":""},{"$f":"IF('Races, Positions & Points'!BF59=\"\",\"\",'Races, Positions & Points'!BF59)","v":""},{"$f":"IF('Races, Positions & Points'!BI59=\"\",\"\",'Races, Positions & Points'!BI59)","v":129.36000000000001},{"$f":"IF('Races, Positions & Points'!BL59=\"\",\"\",'Races, Positions & Points'!BL59)","v":""},{"$f":"IF('Races, Positions & Points'!BO59=\"\",\"\",'Races, Positions & Points'!BO59)","v":119.54},{"$f":"IF('Races, Positions & Points'!BR59=\"\",\"\",'Races, Positions & Points'!BR59)","v":""},{"$f":"IF('Races, Positions & Points'!BU59=\"\",\"\",'Races, Positions & Points'!BU59)","v":""},{"$f":"IF('Races, Positions & Points'!BX59=\"\",\"\",'Races, Positions & Points'!BX59)","v":999.99},{"$f":"IF('Races, Positions & Points'!CA59=\"\",\"\",'Races, Positions & Points'!CA59)","v":167.05},{"$f":"IF('Races, Positions & Points'!CD59=\"\",\"\",'Races, Positions & Points'!CD59)","v":""},{"$f":"IF('Races, Positions & Points'!CE59=\"\",\"\",'Races, Positions & Points'!CE59)","v":""},{"$f":"IF('Races, Positions & Points'!CH59=\"\",\"\",'Races, Positions & Points'!CH59)","v":""},{"$f":"IF('Races, Positions & Points'!CK59=\"\",\"\",'Races, Positions & Points'!CK59)","v":""},{"$f":"IF('Races, Positions & Points'!CN59=\"\",\"\",'Races, Positions & Points'!CN59)","v":""},{"$f":"IF('Races, Positions & Points'!CQ59=\"\",\"\",'Races, Positions & Points'!CQ59)","v":""},{"$f":"IF('Races, Positions & Points'!CT59=\"\",\"\",'Races, Positions & Points'!CT59)","v":""},{"$f":"IF('Races, Positions & Points'!CW59=\"\",\"\",'Races, Positions & Points'!CW59)","v":""},{"$f":"IF('Races, Positions & Points'!CZ59=\"\",\"\",'Races, Positions & Points'!CZ59)","v":""},{"$f":"IF('Races, Positions & Points'!DE59=\"\",\"\",'Races, Positions & Points'!DE59)","v":""},{"$f":"IF('Races, Positions & Points'!DH59=\"\",\"\",'Races, Positions & Points'!DH59)","v":""},{"$f":"IF('Races, Positions & Points'!DK59=\"\",\"\",'Races, Positions & Points'!DK59)","v":""},{"$f":"IF('Races, Positions & Points'!DN59=\"\",\"\",'Races, Positions & Points'!DN59)","v":""},{"$f":"IF('Races, Positions & Points'!DQ59=\"\",\"\",'Races, Positions & Points'!DQ59)","v":999.99},{"$f":"IF('Races, Positions & Points'!DT59=\"\",\"\",'Races, Positions & Points'!DT59)","v":""},{"$f":"IF('Races, Positions & Points'!DW59=\"\",\"\",'Races, Positions & Points'!DW59)","v":""},{"$f":"IF('Races, Positions & Points'!DZ59=\"\",\"\",'Races, Positions & Points'!DZ59)","v":""},{"$f":"IF('Races, Positions & Points'!EC59=\"\",\"\",'Races, Positions & Points'!EC59)","v":""},null,0,5,0,0,0,1,null,{"$f":"VLOOKUP(A59,'Races, Positions & Points'!$A$8:$E$76,5,FALSE)","v":20846},{"$f":"VLOOKUP(AZ59,'Start of Year Points'!$A$2:$I$1998,9,FALSE)","v":238.66},119.54,129.36000000000001,124.45,179.1,143.44999999999999,124.45,286.39,124.45,null,167.05,"","","",176.37,129.36000000000001,119.54,"","","","","","",null,null,999.99,"","",1199.9880000000001,null,"","","","",999.99,"","","",""]
[{"$f":"'Races, Positions & Points'!A60","v":"Thomas Lawrence"},{"$f":"IF('Races, Positions & Points'!P60=\"\",\"\",'Races, Positions & Points'!P60)","v":""},{"$f":"IF('Races, Positions & Points'!S60=\"\",\"\",'Races, Positions & Points'!S60)","v":254.22000000000003},{"$f":"IF('Races, Positions & Points'!T60=\"\",\"\",'Races, Positions & Points'!T60)","v":266.86},{"$f":"IF('Races, Positions & Points'!W60=\"\",\"\",'Races, Positions & Points'!W60)","v":629.97},{"$f":"IF('Races, Positions & Points'!X60=\"\",\"\",'Races, Positions & Points'!X60)","v":206.98},{"$f":"IF('Races, Positions & Points'!AA60=\"\",\"\",'Races, Positions & Points'!AA60)","v":""},{"$f":"IF('Races, Positions & Points'!AD60=\"\",\"\",'Races, Positions & Points'!AD60)","v":""},{"$f":"IF('Races, Positions & Points'!AG60=\"\",\"\",'Races, Positions & Points'!AG60)","v":274.2},{"$f":"IF('Races, Positions & Points'!AJ60=\"\",\"\",'Races, Positions & Points'!AJ60)","v":188.6},{"$f":"IF('Races, Positions & Points'!AM60=\"\",\"\",'Races, Positions & Points'!AM60)","v":""},{"$f":"IF('Races, Positions & Points'!AP60=\"\",\"\",'Races, Positions & Points'!AP60)","v":""},{"$f":"IF('Races, Positions & Points'!AS60=\"\",\"\",'Races, Positions & Points'!AS60)","v":""},{"$f":"IF('Races, Positions & Points'!AV60=\"\",\"\",'Races, Positions & Points'!AV60)","v":""},{"$f":"IF('Races, Positions & Points'!AW60=\"\",\"\",'Races, Positions & Points'!AW60)","v":""},{"$f":"IF('Races, Positions & Points'!AZ60=\"\",\"\",'Races, Positions & Points'!AZ60)","v":""},{"$f":"IF('Races, Positions & Points'!BC60=\"\",\"\",'Races, Positions & Points'!BC60)","v":176.44},{"$f":"IF('Races, Positions & Points'!BF60=\"\",\"\",'Races, Positions & Points'!BF60)","v":""},{"$f":"IF('Races, Positions & Points'!BI60=\"\",\"\",'Races, Positions & Points'!BI60)","v":156.07},{"$f":"IF('Races, Positions & Points'!BL60=\"\",\"\",'Races, Positions & Points'!BL60)","v":""},{"$f":"IF('Races, Positions & Points'!BO60=\"\",\"\",'Races, Positions & Points'!BO60)","v":142.33000000000001},{"$f":"IF('Races, Positions & Points'!BR60=\"\",\"\",'Races, Positions & Points'!BR60)","v":""},{"$f":"IF('Races, Positions & Points'!BU60=\"\",\"\",'Races, Positions & Points'!BU60)","v":""},{"$f":"IF('Races, Positions & Points'!BX60=\"\",\"\",'Races, Positions & Points'!BX60)","v":168.24},{"$f":"IF('Races, Positions & Points'!CA60=\"\",\"\",'Races, Positions & Points'!CA60)","v":159.25},{"$f":"IF('Races, Positions & Points'!CD60=\"\",\"\",'Races, Positions & Points'!CD60)","v":""},{"$f":"IF('Races, Positions & Points'!CE60=\"\",\"\",'Races, Positions & Points'!CE60)","v":""},{"$f":"IF('Races, Positions & Points'!CH60=\"\",\"\",'Races, Positions & Points'!CH60)","v":191.75},{"$f":"IF('Races, Positions & Points'!CK60=\"\",\"\",'Races, Positions & Points'!CK60)","v":999.99},{"$f":"IF('Races, Positions & Points'!CN60=\"\",\"\",'Races, Positions & Points'!CN60)","v":""},{"$f":"IF('Races, Positions & Points'!CQ60=\"\",\"\",'Races, Positions & Points'!CQ60)","v":""},{"$f":"IF('Races, Positions & Points'!CT60=\"\",\"\",'Races, Positions & Points'!CT60)","v":""},{"$f":"IF('Races, Positions & Points'!CW60=\"\",\"\",'Races, Positions & Points'!CW60)","v":""},{"$f":"IF('Races, Positions & Points'!CZ60=\"\",\"\",'Races, Positions & Points'!CZ60)","v":""},{"$f":"IF('Races, Positions & Points'!DE60=\"\",\"\",'Races, Positions & Points'!DE60)","v":999.99},{"$f":"IF('Races, Positions & Points'!DH60=\"\",\"\",'Races, Positions & Points'!DH60)","v":165.91},{"$f":"IF('Races, Positions & Points'!DK60=\"\",\"\",'Races, Positions & Points'!DK60)","v":999.99},{"$f":"IF('Races, Positions & Points'!DN60=\"\",\"\",'Races, Positions & Points'!DN60)","v":""},{"$f":"IF('Races, Positions & Points'!DQ60=\"\",\"\",'Races, Positions & Points'!DQ60)","v":156.42000000000002},{"$f":"IF('Races, Positions & Points'!DT60=\"\",\"\",'Races, Positions & Points'!DT60)","v":""},{"$f":"IF('Races, Positions & Points'!DW60=\"\",\"\",'Races, Positions & Points'!DW60)","v":""},{"$f":"IF('Races, Positions & Points'!DZ60=\"\",\"\",'Races, Positions & Points'!DZ60)","v":""},{"$f":"IF('Races, Positions & Points'!EC60=\"\",\"\",'Races, Positions & Points'!EC60)","v":""},null,2,5,0,5,0,3,null,{"$f":"VLOOKUP(A60,'Races, Positions & Points'!$A$8:$E$76,5,FALSE)","v":19941},{"$f":"VLOOKUP(AZ60,'Start of Year Points'!$A$2:$I$1998,9,FALSE)","v":191.81},142.33000000000001,156.07,149.19999999999999,167.07,170.8,149.19999999999999,230.17,149.19999999999999,null,159.25,206.98,"",176.44,"",156.07,142.33000000000001,"","","","",165.91,"",null,null,156.42000000000002,165.91,161.16500000000002,187.70400000000001,null,999.99,"","",188.6,156.42000000000002,"","",165.91,""]
[{"$f":"'Races, Positions & Points'!A61","v":"Ethan Hemming"},{"$f":"IF('Races, Positions & Points'!P61=\"\",\"\",'Races, Positions & Points'!P61)","v":180.95},{"$f":"IF('Races, Positions & Points'!S61=\"\",\"\",'Races, Positions & Points'!S61)","v":""},{"$f":"IF('Races, Positions & Points'!T61=\"\",\"\",'Races, Positions & Points'!T61)","v":""},{"$f":"IF('Races, Positions & Points'!W61=\"\",\"\",'Races, Positions & Points'!W61)","v":""},{"$f":"IF('Races, Positions & Points'!X61=\"\",\"\",'Races, Positions & Points'!X61)","v":""},{"$f":"IF('Races, Positions & Points'!AA61=\"\",\"\",'Races, Positions & Points'!AA61)","v":""},{"$f":"IF('Races, Positions & Points'!AD61=\"\",\"\",'Races, Positions & Points'!AD61)","v":302.72000000000003},{"$f":"IF('Races, Positions & Points'!AG61=\"\",\"\",'Races, Positions & Points'!AG61)","v":""},{"$f":"IF('Races, Positions & Points'!AJ61=\"\",\"\",'Races, Positions & Points'!AJ61)","v":""},{"$f":"IF('Races, Positions & Points'!AM61=\"\",\"\",'Races, Positions & Points'!AM61)","v":""},{"$f":"IF('Races, Positions & Points'!AP61=\"\",\"\",'Races, Positions & Points'!AP61)","v":""},{"$f":"IF('Races, Positions & Points'!AS61=\"\",\"\",'Races, Positions & Points'!AS61)","v":201.82},{"$f":"IF('Races, Positions & Points'!AV61=\"\",\"\",'Races, Positions & Points'!AV61)","v":""},{"$f":"IF('Races, Positions & Points'!AW61=\"\",\"\",'Races, Positions & Points'!AW61)","v":""},{"$f":"IF('Races, Positions & Points'!AZ61=\"\",\"\",'Races, Positions & Points'!AZ61)","v":169.82},{"$f":"IF('Races, Positions & Points'!BC61=\"\",\"\",'Races, Positions & Points'!BC61)","v":170.34},{"$f":"IF('Races, Positions & Points'!BF61=\"\",\"\",'Races, Positions & Points'!BF61)","v":""},{"$f":"IF('Races, Positions & Points'!BI61=\"\",\"\",'Races, Positions & Points'!BI61)","v":174.55},{"$f":"IF('Races, Positions & Points'!BL61=\"\",\"\",'Races, Positions & Points'!BL61)","v":""},{"$f":"IF('Races, Positions & Points'!BO61=\"\",\"\",'Races, Positions & Points'!BO61)","v":145.47999999999999},{"$f":"IF('Races, Positions & Points'!BR61=\"\",\"\",'Races, Positions & Points'!BR61)","v":""},{"$f":"IF('Races, Positions & Points'!BU61=\"\",\"\",'Races, Positions & Points'!BU61)","v":""},{"$f":"IF('Races, Positions & Points'!BX61=\"\",\"\",'Races, Positions & Points'!BX61)","v":164.11},{"$f":"IF('Races, Positions & Points'!CA61=\"\",\"\",'Races, Positions & Points'!CA61)","v":176.4},{"$f":"IF('Races, Positions & Points'!CD61=\"\",\"\",'Races, Positions & Points'!CD61)","v":""},{"$f":"IF('Races, Positions & Points'!CE61=\"\",\"\",'Races, Positions & Points'!CE61)","v":""},{"$f":"IF('Races, Positions & Points'!CH61=\"\",\"\",'Races, Positions & Points'!CH61)","v":""},{"$f":"IF('Races, Positions & Points'!CK61=\"\",\"\",'Races, Positions & Points'!CK61)","v":""},{"$f":"IF('Races, Positions & Points'!CN61=\"\",\"\",'Races, Positions & Points'!CN61)","v":190.48},{"$f":"IF('Races, Positions & Points'!CQ61=\"\",\"\",'Races, Positions & Points'!CQ61)","v":""},{"$f":"IF('Races, Positions & Points'!CT61=\"\",\"\",'Races, Positions & Points'!CT61)","v":""},{"$f":"IF('Races, Positions & Points'!CW61=\"\",\"\",'Races, Positions & Points'!CW61)","v":""},{"$f":"IF('Races, Positions & Points'!CZ61=\"\",\"\",'Races, Positions & Points'!CZ61)","v":""},{"$f":"IF('Races, Positions & Points'!DE61=\"\",\"\",'Races, Positions & Points'!DE61)","v":196.76},{"$f":"IF('Races, Positions & Points'!DH61=\"\",\"\",'Races, Positions & Points'!DH61)","v":""},{"$f":"IF('Races, Positions & Points'!DK61=\"\",\"\",'Races, Positions & Points'!DK61)","v":170.9},{"$f":"IF('Races, Positions & Points'!DN61=\"\",\"\",'Races, Positions & Points'!DN61)","v":""},{"$f":"IF('Races, Positions & Points'!DQ61=\"\",\"\",'Races, Positions & Points'!DQ61)","v":182.5},{"$f":"IF('Races, Positions & Points'!DT61=\"\",\"\",'Races, Positions & Points'!DT61)","v":""},{"$f":"IF('Races, Positions & Points'!DW61=\"\",\"\",'Races, Positions & Points'!DW61)","v":""},{"$f":"IF('Races, Positions & Points'!DZ61=\"\",\"\",'Races, Positions & Points'!DZ61)","v":""},{"$f":"IF('Races, Positions & Points'!EC61=\"\",\"\",'Races, Positions & Points'!EC61)","v":""},null,0,8,0,1,1,3,null,{"$f":"VLOOKUP(A61,'Races, Positions & Points'!$A$8:$E$76,5,FALSE)","v":19829},{"$f":"VLOOKUP(AZ61,'Start of Year Points'!$A$2:$I$1998,9,FALSE)","v":211.91},145.47999999999999,164.11,154.80000000000001,178.7,174.58,154.80000000000001,254.29,154.80000000000001,null,164.11,"",302.72000000000003,169.82,201.82,174.55,145.47999999999999,"","","","",170.9,"",null,null,170.9,180.95,175.92500000000001,205.08,null,180.95,"",302.72000000000003,"",182.5,"","",170.9,""]
[{"$f":"'Races, Positions & Points'!A62","v":"Duncan Thorley"},{"$f":"IF('Races, Positions & Points'!P62=\"\",\"\",'Races, Positions & Points'!P62)","v":""},{"$f":"IF('Races, Positions & Points'!S62=\"\",\"\",'Races, Positions & Points'!S62)","v":""},{"$f":"IF('Races, Positions & Points'!T62=\"\",\"\",'Races, Positions & Points'!T62)","v":""},{"$f":"IF('Races, Positions & Points'!W62=\"\",\"\",'Races, Positions & Points'!W62)","v":""},{"$f":"IF('Races, Positions & Points'!X62=\"\",\"\",'Races, Positions & Points'!X62)","v":""},{"$f":"IF('Races, Positions & Points'!AA62=\"\",\"\",'Races, Positions & Points'!AA62)","v":""},{"$f":"IF('Races, Positions & Points'!AD62=\"\",\"\",'Races, Positions & Points'!AD62)","v":""},{"$f":"IF('Races, Positions & Points'!AG62=\"\",\"\",'Races, Positions & Points'!AG62)","v":""},{"$f":"IF('Races, Positions & Points'!AJ62=\"\",\"\",'Races, Positions & Points'!AJ62)","v":""},{"$f":"IF('Races, Positions & Points'!AM62=\"\",\"\",'Races, Positions & Points'!AM62)","v":""},{"$f":"IF('Races, Positions & Points'!AP62=\"\",\"\",'Races, Positions & Points'!AP62)","v":""},{"$f":"IF('Races, Positions & Points'!AS62=\"\",\"\",'Races, Positions & Points'!AS62)","v":""},{"$f":"IF('Races, Positions & Points'!AV62=\"\",\"\",'Races, Positions & Points'!AV62)","v":""},{"$f":"IF('Races, Positions & Points'!AW62=\"\",\"\",'Races, Positions & Points'!AW62)","v":""},{"$f":"IF('Races, Positions & Points'!AZ62=\"\",\"\",'Races, Positions & Points'!AZ62)","v":132.74},{"$f":"IF('Races, Positions & Points'!BC62=\"\",\"\",'Races, Positions & Points'!BC62)","v":""},{"$f":"IF('Races, Positions & Points'!BF62=\"\",\"\",'Races, Positions & Points'!BF62)","v":""},{"$f":"IF('Races, Positions & Points'!BI62=\"\",\"\",'Races, Positions & Points'!BI62)","v":""},{"$f":"IF('Races, Positions & Points'!BL62=\"\",\"\",'Races, Positions & Points'!BL62)","v":""},{"$f":"IF('Races, Positions & Points'!BO62=\"\",\"\",'Races, Positions & Points'!BO62)","v":""},{"$f":"IF('Races, Positions & Points'!BR62=\"\",\"\",'Races, Positions & Points'!BR62)","v":""},{"$f":"IF('Races, Positions & Points'!BU62=\"\",\"\",'Races, Positions & Points'!BU62)","v":""},{"$f":"IF('Races, Positions & Points'!BX62=\"\",\"\",'Races, Positions & Points'!BX62)","v":999.99},{"$f":"IF('Races, Positions & Points'!CA62=\"\",\"\",'Races, Positions & Points'!CA62)","v":""},{"$f":"IF('Races, Positions & Points'!CD62=\"\",\"\",'Races, Positions & Points'!CD62)","v":""},{"$f":"IF('Races, Positions & Points'!CE62=\"\",\"\",'Races, Positions & Points'!CE62)","v":""},{"$f":"IF('Races, Positions & Points'!CH62=\"\",\"\",'Races, Positions & Points'!CH62)","v":""},{"$f":"IF('Races, Positions & Points'!CK62=\"\",\"\",'Races, Positions & Points'!CK62)","v":""},{"$f":"IF('Races, Positions & Points'!CN62=\"\",\"\",'Races, Positions & Points'!CN62)","v":""},{"$f":"IF('Races, Positions & Points'!CQ62=\"\",\"\",'Races, Positions & Points'!CQ62)","v":""},{"$f":"IF('Races, Positions & Points'!CT62=\"\",\"\",'Races, Positions & Points'!CT62)","v":""},{"$f":"IF('Races, Positions & Points'!CW62=\"\",\"\",'Races, Positions & Points'!CW62)","v":""},{"$f":"IF('Races, Positions & Points'!CZ62=\"\",\"\",'Races, Positions & Points'!CZ62)","v":144.33000000000001},{"$f":"IF('Races, Positions & Points'!DE62=\"\",\"\",'Races, Positions & Points'!DE62)","v":""},{"$f":"IF('Races, Positions & Points'!DH62=\"\",\"\",'Races, Positions & Points'!DH62)","v":""},{"$f":"IF('Races, Positions & Points'!DK62=\"\",\"\",'Races, Positions & Points'!DK62)","v":""},{"$f":"IF('Races, Positions & Points'!DN62=\"\",\"\",'Races, Positions & Points'!DN62)","v":""},{"$f":"IF('Races, Positions & Points'!DQ62=\"\",\"\",'Races, Positions & Points'!DQ62)","v":""},{"$f":"IF('Races, Positions & Points'!DT62=\"\",\"\",'Races, Positions & Points'!DT62)","v":""},{"$f":"IF('Races, Positions & Points'!DW62=\"\",\"\",'Races, Positions & Points'!DW62)","v":""},{"$f":"IF('Races, Positions & Points'!DZ62=\"\",\"\",'Races, Positions & Points'!DZ62)","v":""},{"$f":"IF('Races, Positions & Points'!EC62=\"\",\"\",'Races, Positions & Points'!EC62)","v":""},null,0,2,0,0,0,1,null,{"$f":"VLOOKUP(A62,'Races, Positions & Points'!$A$8:$E$76,5,FALSE)","v":18998},{"$f":"VLOOKUP(AZ62,'Start of Year Points'!$A$2:$I$1998,9,FALSE)","v":197.45},132.74,144.33000000000001,138.54,165.1,159.29,138.54,236.94,138.54,null,999.99,"","",132.74,"","","","",144.33000000000001,"","","","",null,null,144.33000000000001,"","",173.196,null,"","","","","",144.33000000000001,"","",""]
[{"$f":"'Races, Positions & Points'!A63","v":"Toby Tarrant"},{"$f":"IF('Races, Positions & Points'!P63=\"\",\"\",'Races, Positions & Points'!P63)","v":""},{"$f":"IF('Races, Positions & Points'!S63=\"\",\"\",'Races, Positions & Points'!S63)","v":""},{"$f":"IF('Races, Positions & Points'!T63=\"\",\"\",'Races, Positions & Points'!T63)","v":""},{"$f":"IF('Races, Positions & Points'!W63=\"\",\"\",'Races, Positions & Points'!W63)","v":""},{"$f":"IF('Races, Positions & Points'!X63=\"\",\"\",'Races, Positions & Points'!X63)","v":""},{"$f":"IF('Races, Positions & Points'!AA63=\"\",\"\",'Races, Positions & Points'!AA63)","v":""},{"$f":"IF('Races, Positions & Points'!AD63=\"\",\"\",'Races, Positions & Points'!AD63)","v":""},{"$f":"IF('Races, Positions & Points'!AG63=\"\",\"\",'Races, Positions & Points'!AG63)","v":""},{"$f":"IF('Races, Positions & Points'!AJ63=\"\",\"\",'Races, Positions & Points'!AJ63)","v":""},{"$f":"IF('Races, Positions & Points'!AM63=\"\",\"\",'Races, Positions & Points'!AM63)","v":""},{"$f":"IF('Races, Positions & Points'!AP63=\"\",\"\",'Races, Positions & Points'!AP63)","v":""},{"$f":"IF('Races, Positions & Points'!AS63=\"\",\"\",'Races, Positions & Points'!AS63)","v":205.17},{"$f":"IF('Races, Positions & Points'!AV63=\"\",\"\",'Races, Positions & Points'!AV63)","v":""},{"$f":"IF('Races, Positions & Points'!AW63=\"\",\"\",'Races, Positions & Points'!AW63)","v":""},{"$f":"IF('Races, Positions & Points'!AZ63=\"\",\"\",'Races, Positions & Points'!AZ63)","v":""},{"$f":"IF('Races, Positions & Points'!BC63=\"\",\"\",'Races, Positions & Points'!BC63)","v":""},{"$f":"IF('Races, Positions & Points'!BF63=\"\",\"\",'Races, Positions & Points'!BF63)","v":""},{"$f":"IF('Races, Positions & Points'!BI63=\"\",\"\",'Races, Positions & Points'!BI63)","v":556.09},{"$f":"IF('Races, Positions & Points'!BL63=\"\",\"\",'Races, Positions & Points'!BL63)","v":""},{"$f":"IF('Races, Positions & Points'!BO63=\"\",\"\",'Races, Positions & Points'!BO63)","v":176.4},{"$f":"IF('Races, Positions & Points'!BR63=\"\",\"\",'Races, Positions & Points'!BR63)","v":""},{"$f":"IF('Races, Positions & Points'!BU63=\"\",\"\",'Races, Positions & Points'!BU63)","v":""},{"$f":"IF('Races, Positions & Points'!BX63=\"\",\"\",'Races, Positions & Points'!BX63)","v":999.99},{"$f":"IF('Races, Positions & Points'!CA63=\"\",\"\",'Races, Positions & Points'!CA63)","v":999.99},{"$f":"IF('Races, Positions & Points'!CD63=\"\",\"\",'Races, Positions & Points'!CD63)","v":""},{"$f":"IF('Races, Positions & Points'!CE63=\"\",\"\",'Races, Positions & Points'!CE63)","v":""},{"$f":"IF('Races, Positions & Points'!CH63=\"\",\"\",'Races, Positions & Points'!CH63)","v":""},{"$f":"IF('Races, Positions & Points'!CK63=\"\",\"\",'Races, Positions & Points'!CK63)","v":""},{"$f":"IF('Races, Positions & Points'!CN63=\"\",\"\",'Races, Positions & Points'!CN63)","v":""},{"$f":"IF('Races, Positions & Points'!CQ63=\"\",\"\",'Races, Positions & Points'!CQ63)","v":""},{"$f":"IF('Races, Positions & Points'!CT63=\"\",\"\",'Races, Positions & Points'!CT63)","v":""},{"$f":"IF('Races, Positions & Points'!CW63=\"\",\"\",'Races, Positions & Points'!CW63)","v":""},{"$f":"IF('Races, Positions & Points'!CZ63=\"\",\"\",'Races, Positions & Points'!CZ63)","v":""},{"$f":"IF('Races, Positions & Points'!DE63=\"\",\"\",'Races, Positions & Points'!DE63)","v":""},{"$f":"IF('Races, Positions & Points'!DH63=\"\",\"\",'Races, Positions & Points'!DH63)","v":""},{"$f":"IF('Races, Positions & Points'!DK63=\"\",\"\",'Races, Positions & Points'!DK63)","v":""},{"$f":"IF('Races, Positions & Points'!DN63=\"\",\"\",'Races, Positions & Points'!DN63)","v":""},{"$f":"IF('Races, Positions & Points'!DQ63=\"\",\"\",'Races, Positions & Points'!DQ63)","v":""},{"$f":"IF('Races, Positions & Points'!DT63=\"\",\"\",'Races, Positions & Points'!DT63)","v":""},{"$f":"IF('Races, Positions & Points'!DW63=\"\",\"\",'Races, Positions & Points'!DW63)","v":""},{"$f":"IF('Races, Positions & Points'!DZ63=\"\",\"\",'Races, Positions & Points'!DZ63)","v":""},{"$f":"IF('Races, Positions & Points'!EC63=\"\",\"\",'Races, Positions & Points'!EC63)","v":""},null,0,5,0,0,0,0,null,{"$f":"VLOOKUP(A63,'Races, Positions & Points'!$A$8:$E$76,5,FALSE)","v":21550},{"$f":"VLOOKUP(AZ63,'Start of Year Points'!$A$2:$I$1998,9,FALSE)","v":999.99},176.4,205.17,190.79,"",211.68,190.79,999.99,190.79,null,999.99,"","","",205.17,556.09,176.4,"","","","","","",null,null,"","","","",null,"","","","","","","","",""]
[{"$f":"'Races, Positions & Points'!A64","v":"Thomas Upton"},{"$f":"IF('Races, Positions & Points'!P64=\"\",\"\",'Races, Positions & Points'!P64)","v":""},{"$f":"IF('Races, Positions & Points'!S64=\"\",\"\",'Races, Positions & Points'!S64)","v":""},{"$f":"IF('Races, Positions & Points'!T64=\"\",\"\",'Races, Positions & Points'!T64)","v":""},{"$f":"IF('Races, Positions & Points'!W64=\"\",\"\",'Races, Positions & Points'!W64)","v":""},{"$f":"IF('Races, Positions & Points'!X64=\"\",\"\",'Races, Positions & Points'!X64)","v":""},{"$f":"IF('Races, Positions & Points'!AA64=\"\",\"\",'Races, Positions & Points'!AA64)","v":""},{"$f":"IF('Races, Positions & Points'!AD64=\"\",\"\",'Races, Positions & Points'!AD64)","v":253.61},{"$f":"IF('Races, Positions & Points'!AG64=\"\",\"\",'Races, Positions & Points'!AG64)","v":""},{"$f":"IF('Races, Positions & Points'!AJ64=\"\",\"\",'Races, Positions & Points'!AJ64)","v":""},{"$f":"IF('Races, Positions & Points'!AM64=\"\",\"\",'Races, Positions & Points'!AM64)","v":""},{"$f":"IF('Races, Positions & Points'!AP64=\"\",\"\",'Races, Positions & Points'!AP64)","v":""},{"$f":"IF('Races, Positions & Points'!AS64=\"\",\"\",'Races, Positions & Points'!AS64)","v":""},{"$f":"IF('Races, Positions & Points'!AV64=\"\",\"\",'Races, Positions & Points'!AV64)","v":260.56},{"$f":"IF('Races, Positions & Points'!AW64=\"\",\"\",'Races, Positions & Points'!AW64)","v":""},{"$f":"IF('Races, Positions & Points'!AZ64=\"\",\"\",'Races, Positions & Points'!AZ64)","v":240.7},{"$f":"IF('Races, Positions & Points'!BC64=\"\",\"\",'Races, Positions & Points'!BC64)","v":226.64},{"$f":"IF('Races, Positions & Points'!BF64=\"\",\"\",'Races, Positions & Points'!BF64)","v":""},{"$f":"IF('Races, Positions & Points'!BI64=\"\",\"\",'Races, Positions & Points'!BI64)","v":215},{"$f":"IF('Races, Positions & Points'!BL64=\"\",\"\",'Races, Positions & Points'!BL64)","v":""},{"$f":"IF('Races, Positions & Points'!BO64=\"\",\"\",'Races, Positions & Points'!BO64)","v":192.91},{"$f":"IF('Races, Positions & Points'!BR64=\"\",\"\",'Races, Positions & Points'!BR64)","v":""},{"$f":"IF('Races, Positions & Points'!BU64=\"\",\"\",'Races, Positions & Points'!BU64)","v":""},{"$f":"IF('Races, Positions & Points'!BX64=\"\",\"\",'Races, Positions & Points'!BX64)","v":211.47},{"$f":"IF('Races, Positions & Points'!CA64=\"\",\"\",'Races, Positions & Points'!CA64)","v":236.02},{"$f":"IF('Races, Positions & Points'!CD64=\"\",\"\",'Races, Positions & Points'!CD64)","v":""},{"$f":"IF('Races, Positions & Points'!CE64=\"\",\"\",'Races, Positions & Points'!CE64)","v":""},{"$f":"IF('Races, Positions & Points'!CH64=\"\",\"\",'Races, Positions & Points'!CH64)","v":""},{"$f":"IF('Races, Positions & Points'!CK64=\"\",\"\",'Races, Positions & Points'!CK64)","v":341},{"$f":"IF('Races, Positions & Points'!CN64=\"\",\"\",'Races, Positions & Points'!CN64)","v":226.46},{"$f":"IF('Races, Positions & Points'!CQ64=\"\",\"\",'Races, Positions & Points'!CQ64)","v":196.65},{"$f":"IF('Races, Positions & Points'!CT64=\"\",\"\",'Races, Positions & Points'!CT64)","v":""},{"$f":"IF('Races, Positions & Points'!CW64=\"\",\"\",'Races, Positions & Points'!CW64)","v":""},{"$f":"IF('Races, Positions & Points'!CZ64=\"\",\"\",'Races, Positions & Points'!CZ64)","v":""},{"$f":"IF('Races, Positions & Points'!DE64=\"\",\"\",'Races, Positions & Points'!DE64)","v":999.99},{"$f":"IF('Races, Positions & Points'!DH64=\"\",\"\",'Races, Positions & Points'!DH64)","v":""},{"$f":"IF('Races, Positions & Points'!DK64=\"\",\"\",'Races, Positions & Points'!DK64)","v":196},{"$f":"IF('Races, Positions & Points'!DN64=\"\",\"\",'Races, Positions & Points'!DN64)","v":""},{"$f":"IF('Races, Positions & Points'!DQ64=\"\",\"\",'Races, Positions & Points'!DQ64)","v":337.78999999999996},{"$f":"IF('Races, Positions & Points'!DT64=\"\",\"\",'Races, Positions & Points'!DT64)","v":""},{"$f":"IF('Races, Positions & Points'!DW64=\"\",\"\",'Races, Positions & Points'!DW64)","v":""},{"$f":"IF('Races, Positions & Points'!DZ64=\"\",\"\",'Races, Positions & Points'!DZ64)","v":""},{"$f":"IF('Races, Positions & Points'!EC64=\"\",\"\",'Races, Positions & Points'!EC64)","v":""},null,1,6,0,3,1,3,null,{"$f":"VLOOKUP(A64,'Races, Positions & Points'!$A$8:$E$76,5,FALSE)","v":21051},{"$f":"VLOOKUP(AZ64,'Start of Year Points'!$A$2:$I$1998,9,FALSE)","v":341.66},192.91,196,194.46,267.29000000000002,231.49,194.46,409.99,194.46,null,196.65,"",253.61,226.64,"",215,192.91,"","","","",196,"",null,null,196,196.65,196.32499999999999,235.2,null,196.65,"",253.61,"",337.78999999999996,"","",196,""]
[{"$f":"'Races, Positions & Points'!A65","v":"Edward Guy"},{"$f":"IF('Races, Positions & Points'!P65=\"\",\"\",'Races, Positions & Points'!P65)","v":""},{"$f":"IF('Races, Positions & Points'!S65=\"\",\"\",'Races, Positions & Points'!S65)","v":261.53000000000003},{"$f":"IF('Races, Positions & Points'!T65=\"\",\"\",'Races, Positions & Points'!T65)","v":254.09},{"$f":"IF('Races, Positions & Points'!W65=\"\",\"\",'Races, Positions & Points'!W65)","v":""},{"$f":"IF('Races, Positions & Points'!X65=\"\",\"\",'Races, Positions & Points'!X65)","v":""},{"$f":"IF('Races, Positions & Points'!AA65=\"\",\"\",'Races, Positions & Points'!AA65)","v":""},{"$f":"IF('Races, Positions & Points'!AD65=\"\",\"\",'Races, Positions & Points'!AD65)","v":""},{"$f":"IF('Races, Positions & Points'!AG65=\"\",\"\",'Races, Positions & Points'!AG65)","v":311.55},{"$f":"IF('Races, Positions & Points'!AJ65=\"\",\"\",'Races, Positions & Points'!AJ65)","v":232.87},{"$f":"IF('Races, Positions & Points'!AM65=\"\",\"\",'Races, Positions & Points'!AM65)","v":""},{"$f":"IF('Races, Positions & Points'!AP65=\"\",\"\",'Races, Positions & Points'!AP65)","v":""},{"$f":"IF('Races, Positions & Points'!AS65=\"\",\"\",'Races, Positions & Points'!AS65)","v":""},{"$f":"IF('Races, Positions & Points'!AV65=\"\",\"\",'Races, Positions & Points'!AV65)","v":""},{"$f":"IF('Races, Positions & Points'!AW65=\"\",\"\",'Races, Positions & Points'!AW65)","v":""},{"$f":"IF('Races, Positions & Points'!AZ65=\"\",\"\",'Races, Positions & Points'!AZ65)","v":258.61},{"$f":"IF('Races, Positions & Points'!BC65=\"\",\"\",'Races, Positions & Points'!BC65)","v":237.85},{"$f":"IF('Races, Positions & Points'!BF65=\"\",\"\",'Races, Positions & Points'!BF65)","v":""},{"$f":"IF('Races, Positions & Points'!BI65=\"\",\"\",'Races, Positions & Points'!BI65)","v":""},{"$f":"IF('Races, Positions & Points'!BL65=\"\",\"\",'Races, Positions & Points'!BL65)","v":""},{"$f":"IF('Races, Positions & Points'!BO65=\"\",\"\",'Races, Positions & Points'!BO65)","v":""},{"$f":"IF('Races, Positions & Points'!BR65=\"\",\"\",'Races, Positions & Points'!BR65)","v":""},{"$f":"IF('Races, Positions & Points'!BU65=\"\",\"\",'Races, Positions & Points'!BU65)","v":""},{"$f":"IF('Races, Positions & Points'!BX65=\"\",\"\",'Races, Positions & Points'!BX65)","v":""},{"$f":"IF('Races, Positions & Points'!CA65=\"\",\"\",'Races, Positions & Points'!CA65)","v":""},{"$f":"IF('Races, Positions & Points'!CD65=\"\",\"\",'Races, Positions & Points'!CD65)","v":""},{"$f":"IF('Races, Positions & Points'!CE65=\"\",\"\",'Races, Positions & Points'!CE65)","v":""},{"$f":"IF('Races, Positions & Points'!CH65=\"\",\"\",'Races, Positions & Points'!CH65)","v":999.99},{"$f":"IF('Races, Positions & Points'!CK65=\"\",\"\",'Races, Positions & Points'!CK65)","v":""},{"$f":"IF('Races, Positions & Points'!CN65=\"\",\"\",'Races, Positions & Points'!CN65)","v":""},{"$f":"IF('Races, Positions & Points'!CQ65=\"\",\"\",'Races, Positions & Points'!CQ65)","v":""},{"$f":"IF('Races, Positions & Points'!CT65=\"\",\"\",'Races, Positions & Points'!CT65)","v":""},{"$f":"IF('Races, Positions & Points'!CW65=\"\",\"\",'Races, Positions & Points'!CW65)","v":""},{"$f":"IF('Races, Positions & Points'!CZ65=\"\",\"\",'Races, Positions & Points'!CZ65)","v":""},{"$f":"IF('Races, Positions & Points'!DE65=\"\",\"\",'Races, Positions & Points'!DE65)","v":""},{"$f":"IF('Races, Positions & Points'!DH65=\"\",\"\",'Races, Positions & Points'!DH65)","v":""},{"$f":"IF('Races, Positions & Points'!DK65=\"\",\"\",'Races, Positions & Points'!DK65)","v":""},{"$f":"IF('Races, Positions & Points'!DN65=\"\",\"\",'Races, Positions & Points'!DN65)","v":""},{"$f":"IF('Races, Positions & Points'!DQ65=\"\",\"\",'Races, Positions & Points'!DQ65)","v":""},{"$f":"IF('Races, Positions & Points'!DT65=\"\",\"\",'Races, Positions & Points'!DT65)","v":""},{"$f":"IF('Races, Positions & Points'!DW65=\"\",\"\",'Races, Positions & Points'!DW65)","v":""},{"$f":"IF('Races, Positions & Points'!DZ65=\"\",\"\",'Races, Positions & Points'!DZ65)","v":""},{"$f":"IF('Races, Positions & Points'!EC65=\"\",\"\",'Races, Positions & Points'!EC65)","v":""},null,1,2,0,3,0,0,null,{"$f":"VLOOKUP(A65,'Races, Positions & Points'!$A$8:$E$76,5,FALSE)","v":19379},{"$f":"VLOOKUP(AZ65,'Start of Year Points'!$A$2:$I$1998,9,FALSE)","v":210.93},232.87,254.09,243.48,221.9,279.44,210.93,253.12,243.48,null,"",254.09,"",232.87,"","","","","","","",999.99,"",null,null,232.87,999.99,616.43000000000006,279.44400000000002,null,"","","",232.87,"","","",999.99,""]
[{"$f":"'Races, Positions & Points'!A66","v":"Samuel Doherty"},{"$f":"IF('Races, Positions & Points'!P66=\"\",\"\",'Races, Positions & Points'!P66)","v":""},{"$f":"IF('Races, Positions & Points'!S66=\"\",\"\",'Races, Positions & Points'!S66)","v":""},{"$f":"IF('Races, Positions & Points'!T66=\"\",\"\",'Races, Positions & Points'!T66)","v":""},{"$f":"IF('Races, Positions & Points'!W66=\"\",\"\",'Races, Positions & Points'!W66)","v":""},{"$f":"IF('Races, Positions & Points'!X66=\"\",\"\",'Races, Positions & Points'!X66)","v":""},{"$f":"IF('Races, Positions & Points'!AA66=\"\",\"\",'Races, Positions & Points'!AA66)","v":""},{"$f":"IF('Races, Positions & Points'!AD66=\"\",\"\",'Races, Positions & Points'!AD66)","v":""},{"$f":"IF('Races, Positions & Points'!AG66=\"\",\"\",'Races, Positions & Points'!AG66)","v":""},{"$f":"IF('Races, Positions & Points'!AJ66=\"\",\"\",'Races, Positions & Points'!AJ66)","v":""},{"$f":"IF('Races, Positions & Points'!AM66=\"\",\"\",'Races, Positions & Points'!AM66)","v":""},{"$f":"IF('Races, Positions & Points'!AP66=\"\",\"\",'Races, Positions & Points'!AP66)","v":""},{"$f":"IF('Races, Positions & Points'!AS66=\"\",\"\",'Races, Positions & Points'!AS66)","v":""},{"$f":"IF('Races, Positions & Points'!AV66=\"\",\"\",'Races, Positions & Points'!AV66)","v":""},{"$f":"IF('Races, Positions & Points'!AW66=\"\",\"\",'Races, Positions & Points'!AW66)","v":""},{"$f":"IF('Races, Positions & Points'!AZ66=\"\",\"\",'Races, Positions & Points'!AZ66)","v":""},{"$f":"IF('Races, Positions & Points'!BC66=\"\",\"\",'Races, Positions & Points'!BC66)","v":""},{"$f":"IF('Races, Positions & Points'!BF66=\"\",\"\",'Races, Positions & Points'!BF66)","v":""},{"$f":"IF('Races, Positions & Points'!BI66=\"\",\"\",'Races, Positions & Points'!BI66)","v":""},{"$f":"IF('Races, Positions & Points'!BL66=\"\",\"\",'Races, Positions & Points'!BL66)","v":""},{"$f":"IF('Races, Positions & Points'!BO66=\"\",\"\",'Races, Positions & Points'!BO66)","v":""},{"$f":"IF('Races, Positions & Points'!BR66=\"\",\"\",'Races, Positions & Points'!BR66)","v":""},{"$f":"IF('Races, Positions & Points'!BU66=\"\",\"\",'Races, Positions & Points'!BU66)","v":""},{"$f":"IF('Races, Positions & Points'!BX66=\"\",\"\",'Races, Positions & Points'!BX66)","v":""},{"$f":"IF('Races, Positions & Points'!CA66=\"\",\"\",'Races, Positions & Points'!CA66)","v":""},{"$f":"IF('Races, Positions & Points'!CD66=\"\",\"\",'Races, Positions & Points'!CD66)","v":""},{"$f":"IF('Races, Positions & Points'!CE66=\"\",\"\",'Races, Positions & Points'!CE66)","v":""},{"$f":"IF('Races, Positions & Points'!CH66=\"\",\"\",'Races, Positions & Points'!CH66)","v":""},{"$f":"IF('Races, Positions & Points'!CK66=\"\",\"\",'Races, Positions & Points'!CK66)","v":""},{"$f":"IF('Races, Positions & Points'!CN66=\"\",\"\",'Races, Positions & Points'!CN66)","v":""},{"$f":"IF('Races, Positions & Points'!CQ66=\"\",\"\",'Races, Positions & Points'!CQ66)","v":""},{"$f":"IF('Races, Positions & Points'!CT66=\"\",\"\",'Races, Positions & Points'!CT66)","v":""},{"$f":"IF('Races, Positions & Points'!CW66=\"\",\"\",'Races, Positions & Points'!CW66)","v":""},{"$f":"IF('Races, Positions & Points'!CZ66=\"\",\"\",'Races, Positions & Points'!CZ66)","v":""},{"$f":"IF('Races, Positions & Points'!DE66=\"\",\"\",'Races, Positions & Points'!DE66)","v":""},{"$f":"IF('Races, Positions & Points'!DH66=\"\",\"\",'Races, Positions & Points'!DH66)","v":""},{"$f":"IF('Races, Positions & Points'!DK66=\"\",\"\",'Races, Positions & Points'!DK66)","v":""},{"$f":"IF('Races, Positions & Points'!DN66=\"\",\"\",'Races, Positions & Points'!DN66)","v":""},{"$f":"IF('Races, Positions & Points'!DQ66=\"\",\"\",'Races, Positions & Points'!DQ66)","v":""},{"$f":"IF('Races, Positions & Points'!DT66=\"\",\"\",'Races, Positions & Points'!DT66)","v":""},{"$f":"IF('Races, Positions & Points'!DW66=\"\",\"\",'Races, Positions & Points'!DW66)","v":""},{"$f":"IF('Races, Positions & Points'!DZ66=\"\",\"\",'Races, Positions & Points'!DZ66)","v":""},{"$f":"IF('Races, Positions & Points'!EC66=\"\",\"\",'Races, Positions & Points'!EC66)","v":""},null,0,0,0,0,0,0,null,{"$f":"VLOOKUP(A66,'Races, Positions & Points'!$A$8:$E$76,5,FALSE)","v":19572},{"$f":"VLOOKUP(AZ66,'Start of Year Points'!$A$2:$I$1998,9,FALSE)","v":218.06},"","","",218.06,"",218.06,261.67,261.67,null,"","","","","","","","","","","","","",null,null,"","","","",null,"","","","","","","","",""]
[{"$f":"'Races, Positions & Points'!A67","v":"Karl Hancock"},{"$f":"IF('Races, Positions & Points'!P67=\"\",\"\",'Races, Positions & Points'!P67)","v":""},{"$f":"IF('Races, Positions & Points'!S67=\"\",\"\",'Races, Positions & Points'!S67)","v":""},{"$f":"IF('Races, Positions & Points'!T67=\"\",\"\",'Races, Positions & Points'!T67)","v":""},{"$f":"IF('Races, Positions & Points'!W67=\"\",\"\",'Races, Positions & Points'!W67)","v":""},{"$f":"IF('Races, Positions & Points'!X67=\"\",\"\",'Races, Positions & Points'!X67)","v":""},{"$f":"IF('Races, Positions & Points'!AA67=\"\",\"\",'Races, Positions & Points'!AA67)","v":219.97},{"$f":"IF('Races, Positions & Points'!AD67=\"\",\"\",'Races, Positions & Points'!AD67)","v":""},{"$f":"IF('Races, Positions & Points'!AG67=\"\",\"\",'Races, Positions & Points'!AG67)","v":""},{"$f":"IF('Races, Positions & Points'!AJ67=\"\",\"\",'Races, Positions & Points'!AJ67)","v":""},{"$f":"IF('Races, Positions & Points'!AM67=\"\",\"\",'Races, Positions & Points'!AM67)","v":""},{"$f":"IF('Races, Positions & Points'!AP67=\"\",\"\",'Races, Positions & Points'!AP67)","v":""},{"$f":"IF('Races, Positions & Points'!AS67=\"\",\"\",'Races, Positions & Points'!AS67)","v":""},{"$f":"IF('Races, Positions & Points'!AV67=\"\",\"\",'Races, Positions & Points'!AV67)","v":""},{"$f":"IF('Races, Positions & Points'!AW67=\"\",\"\",'Races, Positions & Points'!AW67)","v":""},{"$f":"IF('Races, Positions & Points'!AZ67=\"\",\"\",'Races, Positions & Points'!AZ67)","v":""},{"$f":"IF('Races, Positions & Points'!BC67=\"\",\"\",'Races, Positions & Points'!BC67)","v":""},{"$f":"IF('Races, Positions & Points'!BF67=\"\",\"\",'Races, Positions & Points'!BF67)","v":""},{"$f":"IF('Races, Positions & Points'!BI67=\"\",\"\",'Races, Positions & Points'!BI67)","v":""},{"$f":"IF('Races, Positions & Points'!BL67=\"\",\"\",'Races, Positions & Points'!BL67)","v":""},{"$f":"IF('Races, Positions & Points'!BO67=\"\",\"\",'Races, Positions & Points'!BO67)","v":""},{"$f":"IF('Races, Positions & Points'!BR67=\"\",\"\",'Races, Positions & Points'!BR67)","v":""},{"$f":"IF('Races, Positions & Points'!BU67=\"\",\"\",'Races, Positions & Points'!BU67)","v":""},{"$f":"IF('Races, Positions & Points'!BX67=\"\",\"\",'Races, Positions & Points'!BX67)","v":""},{"$f":"IF('Races, Positions & Points'!CA67=\"\",\"\",'Races, Positions & Points'!CA67)","v":""},{"$f":"IF('Races, Positions & Points'!CD67=\"\",\"\",'Races, Positions & Points'!CD67)","v":""},{"$f":"IF('Races, Positions & Points'!CE67=\"\",\"\",'Races, Positions & Points'!CE67)","v":""},{"$f":"IF('Races, Positions & Points'!CH67=\"\",\"\",'Races, Positions & Points'!CH67)","v":""},{"$f":"IF('Races, Positions & Points'!CK67=\"\",\"\",'Races, Positions & Points'!CK67)","v":""},{"$f":"IF('Races, Positions & Points'!CN67=\"\",\"\",'Races, Positions & Points'!CN67)","v":""},{"$f":"IF('Races, Positions & Points'!CQ67=\"\",\"\",'Races, Positions & Points'!CQ67)","v":""},{"$f":"IF('Races, Positions & Points'!CT67=\"\",\"\",'Races, Positions & Points'!CT67)","v":""},{"$f":"IF('Races, Positions & Points'!CW67=\"\",\"\",'Races, Positions & Points'!CW67)","v":""},{"$f":"IF('Races, Positions & Points'!CZ67=\"\",\"\",'Races, Positions & Points'!CZ67)","v":""},{"$f":"IF('Races, Positions & Points'!DE67=\"\",\"\",'Races, Positions & Points'!DE67)","v":""},{"$f":"IF('Races, Positions & Points'!DH67=\"\",\"\",'Races, Positions & Points'!DH67)","v":""},{"$f":"IF('Races, Positions & Points'!DK67=\"\",\"\",'Races, Positions & Points'!DK67)","v":""},{"$f":"IF('Races, Positions & Points'!DN67=\"\",\"\",'Races, Positions & Points'!DN67)","v":""},{"$f":"IF('Races, Positions & Points'!DQ67=\"\",\"\",'Races, Positions & Points'!DQ67)","v":""},{"$f":"IF('Races, Positions & Points'!DT67=\"\",\"\",'Races, Positions & Points'!DT67)","v":""},{"$f":"IF('Races, Positions & Points'!DW67=\"\",\"\",'Races, Positions & Points'!DW67)","v":""},{"$f":"IF('Races, Positions & Points'!DZ67=\"\",\"\",'Races, Positions & Points'!DZ67)","v":""},{"$f":"IF('Races, Positions & Points'!EC67=\"\",\"\",'Races, Positions & Points'!EC67)","v":""},null,0,0,1,0,0,0,null,{"$f":"VLOOKUP(A67,'Races, Positions & Points'!$A$8:$E$76,5,FALSE)","v":18616},{"$f":"VLOOKUP(AZ67,'Start of Year Points'!$A$2:$I$1998,9,FALSE)","v":245.23},219.97,"","",232.6,263.95999999999998,232.6,294.27999999999997,263.95999999999998,null,"","",219.97,"","","","","","","","","","",null,null,219.97,"","",263.964,null,"","",219.97,"","","","","",""]
[{"$f":"'Races, Positions & Points'!A68","v":"John Elgy"},{"$f":"IF('Races, Positions & Points'!P68=\"\",\"\",'Races, Positions & Points'!P68)","v":""},{"$f":"IF('Races, Positions & Points'!S68=\"\",\"\",'Races, Positions & Points'!S68)","v":""},{"$f":"IF('Races, Positions & Points'!T68=\"\",\"\",'Races, Positions & Points'!T68)","v":""},{"$f":"IF('Races, Positions & Points'!W68=\"\",\"\",'Races, Positions & Points'!W68)","v":""},{"$f":"IF('Races, Positions & Points'!X68=\"\",\"\",'Races, Positions & Points'!X68)","v":""},{"$f":"IF('Races, Positions & Points'!AA68=\"\",\"\",'Races, Positions & Points'!AA68)","v":""},{"$f":"IF('Races, Positions & Points'!AD68=\"\",\"\",'Races, Positions & Points'!AD68)","v":""},{"$f":"IF('Races, Positions & Points'!AG68=\"\",\"\",'Races, Positions & Points'!AG68)","v":""},{"$f":"IF('Races, Positions & Points'!AJ68=\"\",\"\",'Races, Positions & Points'!AJ68)","v":""},{"$f":"IF('Races, Positions & Points'!AM68=\"\",\"\",'Races, Positions & Points'!AM68)","v":""},{"$f":"IF('Races, Positions & Points'!AP68=\"\",\"\",'Races, Positions & Points'!AP68)","v":""},{"$f":"IF('Races, Positions & Points'!AS68=\"\",\"\",'Races, Positions & Points'!AS68)","v":""},{"$f":"IF('Races, Positions & Points'!AV68=\"\",\"\",'Races, Positions & Points'!AV68)","v":""},{"$f":"IF('Races, Positions & Points'!AW68=\"\",\"\",'Races, Positions & Points'!AW68)","v":""},{"$f":"IF('Races, Positions & Points'!AZ68=\"\",\"\",'Races, Positions & Points'!AZ68)","v":""},{"$f":"IF('Races, Positions & Points'!BC68=\"\",\"\",'Races, Positions & Points'!BC68)","v":""},{"$f":"IF('Races, Positions & Points'!BF68=\"\",\"\",'Races, Positions & Points'!BF68)","v":""},{"$f":"IF('Races, Positions & Points'!BI68=\"\",\"\",'Races, Positions & Points'!BI68)","v":""},{"$f":"IF('Races, Positions & Points'!BL68=\"\",\"\",'Races, Positions & Points'!BL68)","v":""},{"$f":"IF('Races, Positions & Points'!BO68=\"\",\"\",'Races, Positions & Points'!BO68)","v":""},{"$f":"IF('Races, Positions & Points'!BR68=\"\",\"\",'Races, Positions & Points'!BR68)","v":""},{"$f":"IF('Races, Positions & Points'!BU68=\"\",\"\",'Races, Positions & Points'!BU68)","v":""},{"$f":"IF('Races, Positions & Points'!BX68=\"\",\"\",'Races, Positions & Points'!BX68)","v":""},{"$f":"IF('Races, Positions & Points'!CA68=\"\",\"\",'Races, Positions & Points'!CA68)","v":""},{"$f":"IF('Races, Positions & Points'!CD68=\"\",\"\",'Races, Positions & Points'!CD68)","v":""},{"$f":"IF('Races, Positions & Points'!CE68=\"\",\"\",'Races, Positions & Points'!CE68)","v":""},{"$f":"IF('Races, Positions & Points'!CH68=\"\",\"\",'Races, Positions & Points'!CH68)","v":""},{"$f":"IF('Races, Positions & Points'!CK68=\"\",\"\",'Races, Positions & Points'!CK68)","v":""},{"$f":"IF('Races, Positions & Points'!CN68=\"\",\"\",'Races, Positions & Points'!CN68)","v":""},{"$f":"IF('Races, Positions & Points'!CQ68=\"\",\"\",'Races, Positions & Points'!CQ68)","v":""},{"$f":"IF('Races, Positions & Points'!CT68=\"\",\"\",'Races, Positions & Points'!CT68)","v":""},{"$f":"IF('Races, Positions & Points'!CW68=\"\",\"\",'Races, Positions & Points'!CW68)","v":""},{"$f":"IF('Races, Positions & Points'!CZ68=\"\",\"\",'Races, Positions & Points'!CZ68)","v":""},{"$f":"IF('Races, Positions & Points'!DE68=\"\",\"\",'Races, Positions & Points'!DE68)","v":""},{"$f":"IF('Races, Positions & Points'!DH68=\"\",\"\",'Races, Positions & Points'!DH68)","v":""},{"$f":"IF('Races, Positions & Points'!DK68=\"\",\"\",'Races, Positions & Points'!DK68)","v":""},{"$f":"IF('Races, Positions & Points'!DN68=\"\",\"\",'Races, Positions & Points'!DN68)","v":""},{"$f":"IF('Races, Positions & Points'!DQ68=\"\",\"\",'Races, Positions & Points'!DQ68)","v":""},{"$f":"IF('Races, Positions & Points'!DT68=\"\",\"\",'Races, Positions & Points'!DT68)","v":""},{"$f":"IF('Races, Positions & Points'!DW68=\"\",\"\",'Races, Positions & Points'!DW68)","v":""},{"$f":"IF('Races, Positions & Points'!DZ68=\"\",\"\",'Races, Positions & Points'!DZ68)","v":""},{"$f":"IF('Races, Positions & Points'!EC68=\"\",\"\",'Races, Positions & Points'!EC68)","v":""},null,0,0,0,0,0,0,null,{"$f":"VLOOKUP(A68,'Races, Positions & Points'!$A$8:$E$76,5,FALSE)","v":19164},{"$f":"VLOOKUP(AZ68,'Start of Year Points'!$A$2:$I$1998,9,FALSE)","v":280.95999999999998},"","","",280.95999999999998,"",280.95999999999998,337.15,337.15,null,"","","","","","","","","","","","","",null,null,"","","","",null,"","","","","","","","",""]
[{"$f":"'Races, Positions & Points'!A69","v":"Phil Deller"},{"$f":"IF('Races, Positions & Points'!P69=\"\",\"\",'Races, Positions & Points'!P69)","v":""},{"$f":"IF('Races, Positions & Points'!S69=\"\",\"\",'Races, Positions & Points'!S69)","v":""},{"$f":"IF('Races, Positions & Points'!T69=\"\",\"\",'Races, Positions & Points'!T69)","v":""},{"$f":"IF('Races, Positions & Points'!W69=\"\",\"\",'Races, Positions & Points'!W69)","v":""},{"$f":"IF('Races, Positions & Points'!X69=\"\",\"\",'Races, Positions & Points'!X69)","v":""},{"$f":"IF('Races, Positions & Points'!AA69=\"\",\"\",'Races, Positions & Points'!AA69)","v":""},{"$f":"IF('Races, Positions & Points'!AD69=\"\",\"\",'Races, Positions & Points'!AD69)","v":""},{"$f":"IF('Races, Positions & Points'!AG69=\"\",\"\",'Races, Positions & Points'!AG69)","v":""},{"$f":"IF('Races, Positions & Points'!AJ69=\"\",\"\",'Races, Positions & Points'!AJ69)","v":""},{"$f":"IF('Races, Positions & Points'!AM69=\"\",\"\",'Races, Positions & Points'!AM69)","v":""},{"$f":"IF('Races, Positions & Points'!AP69=\"\",\"\",'Races, Positions & Points'!AP69)","v":""},{"$f":"IF('Races, Positions & Points'!AS69=\"\",\"\",'Races, Positions & Points'!AS69)","v":""},{"$f":"IF('Races, Positions & Points'!AV69=\"\",\"\",'Races, Positions & Points'!AV69)","v":""},{"$f":"IF('Races, Positions & Points'!AW69=\"\",\"\",'Races, Positions & Points'!AW69)","v":""},{"$f":"IF('Races, Positions & Points'!AZ69=\"\",\"\",'Races, Positions & Points'!AZ69)","v":""},{"$f":"IF('Races, Positions & Points'!BC69=\"\",\"\",'Races, Positions & Points'!BC69)","v":""},{"$f":"IF('Races, Positions & Points'!BF69=\"\",\"\",'Races, Positions & Points'!BF69)","v":""},{"$f":"IF('Races, Positions & Points'!BI69=\"\",\"\",'Races, Positions & Points'!BI69)","v":""},{"$f":"IF('Races, Positions & Points'!BL69=\"\",\"\",'Races, Positions & Points'!BL69)","v":""},{"$f":"IF('Races, Positions & Points'!BO69=\"\",\"\",'Races, Positions & Points'!BO69)","v":""},{"$f":"IF('Races, Positions & Points'!BR69=\"\",\"\",'Races, Positions & Points'!BR69)","v":""},{"$f":"IF('Races, Positions & Points'!BU69=\"\",\"\",'Races, Positions & Points'!BU69)","v":""},{"$f":"IF('Races, Positions & Points'!BX69=\"\",\"\",'Races, Positions & Points'!BX69)","v":""},{"$f":"IF('Races, Positions & Points'!CA69=\"\",\"\",'Races, Positions & Points'!CA69)","v":""},{"$f":"IF('Races, Positions & Points'!CD69=\"\",\"\",'Races, Positions & Points'!CD69)","v":""},{"$f":"IF('Races, Positions & Points'!CE69=\"\",\"\",'Races, Positions & Points'!CE69)","v":""},{"$f":"IF('Races, Positions & Points'!CH69=\"\",\"\",'Races, Positions & Points'!CH69)","v":""},{"$f":"IF('Races, Positions & Points'!CK69=\"\",\"\",'Races, Positions & Points'!CK69)","v":""},{"$f":"IF('Races, Positions & Points'!CN69=\"\",\"\",'Races, Positions & Points'!CN69)","v":""},{"$f":"IF('Races, Positions & Points'!CQ69=\"\",\"\",'Races, Positions & Points'!CQ69)","v":""},{"$f":"IF('Races, Positions & Points'!CT69=\"\",\"\",'Races, Positions & Points'!CT69)","v":""},{"$f":"IF('Races, Positions & Points'!CW69=\"\",\"\",'Races, Positions & Points'!CW69)","v":""},{"$f":"IF('Races, Positions & Points'!CZ69=\"\",\"\",'Races, Positions & Points'!CZ69)","v":""},{"$f":"IF('Races, Positions & Points'!DE69=\"\",\"\",'Races, Positions & Points'!DE69)","v":""},{"$f":"IF('Races, Positions & Points'!DH69=\"\",\"\",'Races, Positions & Points'!DH69)","v":""},{"$f":"IF('Races, Positions & Points'!DK69=\"\",\"\",'Races, Positions & Points'!DK69)","v":""},{"$f":"IF('Races, Positions & Points'!DN69=\"\",\"\",'Races, Positions & Points'!DN69)","v":""},{"$f":"IF('Races, Positions & Points'!DQ69=\"\",\"\",'Races, Positions & Points'!DQ69)","v":""},{"$f":"IF('Races, Positions & Points'!DT69=\"\",\"\",'Races, Positions & Points'!DT69)","v":""},{"$f":"IF('Races, Positions & Points'!DW69=\"\",\"\",'Races, Positions & Points'!DW69)","v":""},{"$f":"IF('Races, Positions & Points'!DZ69=\"\",\"\",'Races, Positions & Points'!DZ69)","v":""},{"$f":"IF('Races, Positions & Points'!EC69=\"\",\"\",'Races, Positions & Points'!EC69)","v":""},null,0,0,0,0,0,0,null,{"$f":"VLOOKUP(A69,'Races, Positions & Points'!$A$8:$E$76,5,FALSE)","v":17039},{"$f":"VLOOKUP(AZ69,'Start of Year Points'!$A$2:$I$1998,9,FALSE)","v":654.11},"","","",654.11,"",654.11,784.93,784.93,null,"","","","","","","","","","","","","",null,null,"","","","",null,"","","","","","","","",""]
[{"$f":"'Races, Positions & Points'!A70","v":"David Hancock"},{"$f":"IF('Races, Positions & Points'!P70=\"\",\"\",'Races, Positions & Points'!P70)","v":""},{"$f":"IF('Races, Positions & Points'!S70=\"\",\"\",'Races, Positions & Points'!S70)","v":""},{"$f":"IF('Races, Positions & Points'!T70=\"\",\"\",'Races, Positions & Points'!T70)","v":""},{"$f":"IF('Races, Positions & Points'!W70=\"\",\"\",'Races, Positions & Points'!W70)","v":""},{"$f":"IF('Races, Positions & Points'!X70=\"\",\"\",'Races, Positions & Points'!X70)","v":""},{"$f":"IF('Races, Positions & Points'!AA70=\"\",\"\",'Races, Positions & Points'!AA70)","v":""},{"$f":"IF('Races, Positions & Points'!AD70=\"\",\"\",'Races, Positions & Points'!AD70)","v":""},{"$f":"IF('Races, Positions & Points'!AG70=\"\",\"\",'Races, Positions & Points'!AG70)","v":""},{"$f":"IF('Races, Positions & Points'!AJ70=\"\",\"\",'Races, Positions & Points'!AJ70)","v":""},{"$f":"IF('Races, Positions & Points'!AM70=\"\",\"\",'Races, Positions & Points'!AM70)","v":""},{"$f":"IF('Races, Positions & Points'!AP70=\"\",\"\",'Races, Positions & Points'!AP70)","v":""},{"$f":"IF('Races, Positions & Points'!AS70=\"\",\"\",'Races, Positions & Points'!AS70)","v":""},{"$f":"IF('Races, Positions & Points'!AV70=\"\",\"\",'Races, Positions & Points'!AV70)","v":""},{"$f":"IF('Races, Positions & Points'!AW70=\"\",\"\",'Races, Positions & Points'!AW70)","v":""},{"$f":"IF('Races, Positions & Points'!AZ70=\"\",\"\",'Races, Positions & Points'!AZ70)","v":""},{"$f":"IF('Races, Positions & Points'!BC70=\"\",\"\",'Races, Positions & Points'!BC70)","v":""},{"$f":"IF('Races, Positions & Points'!BF70=\"\",\"\",'Races, Positions & Points'!BF70)","v":""},{"$f":"IF('Races, Positions & Points'!BI70=\"\",\"\",'Races, Positions & Points'!BI70)","v":""},{"$f":"IF('Races, Positions & Points'!BL70=\"\",\"\",'Races, Positions & Points'!BL70)","v":""},{"$f":"IF('Races, Positions & Points'!BO70=\"\",\"\",'Races, Positions & Points'!BO70)","v":""},{"$f":"IF('Races, Positions & Points'!BR70=\"\",\"\",'Races, Positions & Points'!BR70)","v":""},{"$f":"IF('Races, Positions & Points'!BU70=\"\",\"\",'Races, Positions & Points'!BU70)","v":""},{"$f":"IF('Races, Positions & Points'!BX70=\"\",\"\",'Races, Positions & Points'!BX70)","v":""},{"$f":"IF('Races, Positions & Points'!CA70=\"\",\"\",'Races, Positions & Points'!CA70)","v":""},{"$f":"IF('Races, Positions & Points'!CD70=\"\",\"\",'Races, Positions & Points'!CD70)","v":""},{"$f":"IF('Races, Positions & Points'!CE70=\"\",\"\",'Races, Positions & Points'!CE70)","v":""},{"$f":"IF('Races, Positions & Points'!CH70=\"\",\"\",'Races, Positions & Points'!CH70)","v":""},{"$f":"IF('Races, Positions & Points'!CK70=\"\",\"\",'Races, Positions & Points'!CK70)","v":""},{"$f":"IF('Races, Positions & Points'!CN70=\"\",\"\",'Races, Positions & Points'!CN70)","v":""},{"$f":"IF('Races, Positions & Points'!CQ70=\"\",\"\",'Races, Positions & Points'!CQ70)","v":""},{"$f":"IF('Races, Positions & Points'!CT70=\"\",\"\",'Races, Positions & Points'!CT70)","v":""},{"$f":"IF('Races, Positions & Points'!CW70=\"\",\"\",'Races, Positions & Points'!CW70)","v":""},{"$f":"IF('Races, Positions & Points'!CZ70=\"\",\"\",'Races, Positions & Points'!CZ70)","v":""},{"$f":"IF('Races, Positions & Points'!DE70=\"\",\"\",'Races, Positions & Points'!DE70)","v":""},{"$f":"IF('Races, Positions & Points'!DH70=\"\",\"\",'Races, Positions & Points'!DH70)","v":""},{"$f":"IF('Races, Positions & Points'!DK70=\"\",\"\",'Races, Positions & Points'!DK70)","v":""},{"$f":"IF('Races, Positions & Points'!DN70=\"\",\"\",'Races, Positions & Points'!DN70)","v":""},{"$f":"IF('Races, Positions & Points'!DQ70=\"\",\"\",'Races, Positions & Points'!DQ70)","v":""},{"$f":"IF('Races, Positions & Points'!DT70=\"\",\"\",'Races, Positions & Points'!DT70)","v":""},{"$f":"IF('Races, Positions & Points'!DW70=\"\",\"\",'Races, Positions & Points'!DW70)","v":""},{"$f":"IF('Races, Positions & Points'!DZ70=\"\",\"\",'Races, Positions & Points'!DZ70)","v":""},{"$f":"IF('Races, Positions & Points'!EC70=\"\",\"\",'Races, Positions & Points'!EC70)","v":""},null,0,0,0,0,0,0,null,{"$f":"VLOOKUP(A70,'Races, Positions & Points'!$A$8:$E$76,5,FALSE)","v":17037},{"$f":"VLOOKUP(AZ70,'Start of Year Points'!$A$2:$I$1998,9,FALSE)","v":999.99},"","","","","",999.99,999.99,999.99,null,"","","","","","","","","","","","","",null,null,"","","","",null,"","","","","","","","",""]
[{"$f":"'Races, Positions & Points'!A71","v":"Matthew Kirkland"},{"$f":"IF('Races, Positions & Points'!P71=\"\",\"\",'Races, Positions & Points'!P71)","v":""},{"$f":"IF('Races, Positions & Points'!S71=\"\",\"\",'Races, Positions & Points'!S71)","v":""},{"$f":"IF('Races, Positions & Points'!T71=\"\",\"\",'Races, Positions & Points'!T71)","v":""},{"$f":"IF('Races, Positions & Points'!W71=\"\",\"\",'Races, Positions & Points'!W71)","v":""},{"$f":"IF('Races, Positions & Points'!X71=\"\",\"\",'Races, Positions & Points'!X71)","v":""},{"$f":"IF('Races, Positions & Points'!AA71=\"\",\"\",'Races, Positions & Points'!AA71)","v":""},{"$f":"IF('Races, Positions & Points'!AD71=\"\",\"\",'Races, Positions & Points'!AD71)","v":""},{"$f":"IF('Races, Positions & Points'!AG71=\"\",\"\",'Races, Positions & Points'!AG71)","v":""},{"$f":"IF('Races, Positions & Points'!AJ71=\"\",\"\",'Races, Positions & Points'!AJ71)","v":""},{"$f":"IF('Races, Positions & Points'!AM71=\"\",\"\",'Races, Positions & Points'!AM71)","v":""},{"$f":"IF('Races, Positions & Points'!AP71=\"\",\"\",'Races, Positions & Points'!AP71)","v":""},{"$f":"IF('Races, Positions & Points'!AS71=\"\",\"\",'Races, Positions & Points'!AS71)","v":""},{"$f":"IF('Races, Positions & Points'!AV71=\"\",\"\",'Races, Positions & Points'!AV71)","v":""},{"$f":"IF('Races, Positions & Points'!AW71=\"\",\"\",'Races, Positions & Points'!AW71)","v":""},{"$f":"IF('Races, Positions & Points'!AZ71=\"\",\"\",'Races, Positions & Points'!AZ71)","v":""},{"$f":"IF('Races, Positions & Points'!BC71=\"\",\"\",'Races, Positions & Points'!BC71)","v":""},{"$f":"IF('Races, Positions & Points'!BF71=\"\",\"\",'Races, Positions & Points'!BF71)","v":""},{"$f":"IF('Races, Positions & Points'!BI71=\"\",\"\",'Races, Positions & Points'!BI71)","v":""},{"$f":"IF('Races, Positions & Points'!BL71=\"\",\"\",'Races, Positions & Points'!BL71)","v":""},{"$f":"IF('Races, Positions & Points'!BO71=\"\",\"\",'Races, Positions & Points'!BO71)","v":""},{"$f":"IF('Races, Positions & Points'!BR71=\"\",\"\",'Races, Positions & Points'!BR71)","v":""},{"$f":"IF('Races, Positions & Points'!BU71=\"\",\"\",'Races, Positions & Points'!BU71)","v":""},{"$f":"IF('Races, Positions & Points'!BX71=\"\",\"\",'Races, Positions & Points'!BX71)","v":293.18},{"$f":"IF('Races, Positions & Points'!CA71=\"\",\"\",'Races, Positions & Points'!CA71)","v":292.14},{"$f":"IF('Races, Positions & Points'!CD71=\"\",\"\",'Races, Positions & Points'!CD71)","v":""},{"$f":"IF('Races, Positions & Points'!CE71=\"\",\"\",'Races, Positions & Points'!CE71)","v":""},{"$f":"IF('Races, Positions & Points'!CH71=\"\",\"\",'Races, Positions & Points'!CH71)","v":""},{"$f":"IF('Races, Positions & Points'!CK71=\"\",\"\",'Races, Positions & Points'!CK71)","v":""},{"$f":"IF('Races, Positions & Points'!CN71=\"\",\"\",'Races, Positions & Points'!CN71)","v":""},{"$f":"IF('Races, Positions & Points'!CQ71=\"\",\"\",'Races, Positions & Points'!CQ71)","v":""},{"$f":"IF('Races, Positions & Points'!CT71=\"\",\"\",'Races, Positions & Points'!CT71)","v":""},{"$f":"IF('Races, Positions & Points'!CW71=\"\",\"\",'Races, Positions & Points'!CW71)","v":""},{"$f":"IF('Races, Positions & Points'!CZ71=\"\",\"\",'Races, Positions & Points'!CZ71)","v":""},{"$f":"IF('Races, Positions & Points'!DE71=\"\",\"\",'Races, Positions & Points'!DE71)","v":""},{"$f":"IF('Races, Positions & Points'!DH71=\"\",\"\",'Races, Positions & Points'!DH71)","v":""},{"$f":"IF('Races, Positions & Points'!DK71=\"\",\"\",'Races, Positions & Points'!DK71)","v":""},{"$f":"IF('Races, Positions & Points'!DN71=\"\",\"\",'Races, Positions & Points'!DN71)","v":""},{"$f":"IF('Races, Positions & Points'!DQ71=\"\",\"\",'Races, Positions & Points'!DQ71)","v":""},{"$f":"IF('Races, Positions & Points'!DT71=\"\",\"\",'Races, Positions & Points'!DT71)","v":""},{"$f":"IF('Races, Positions & Points'!DW71=\"\",\"\",'Races, Positions & Points'!DW71)","v":""},{"$f":"IF('Races, Positions & Points'!DZ71=\"\",\"\",'Races, Positions & Points'!DZ71)","v":""},{"$f":"IF('Races, Positions & Points'!EC71=\"\",\"\",'Races, Positions & Points'!EC71)","v":""},null,0,2,0,0,0,0,null,{"$f":"VLOOKUP(A71,'Races, Positions & Points'!$A$8:$E$76,5,FALSE)","v":21633},{"$f":"VLOOKUP(AZ71,'Start of Year Points'!$A$2:$I$1998,9,FALSE)","v":999.99},292.14,{"$f":"IF(ISERROR(SMALL(BK71:BW71,2)),\"\",SMALL(BK71:BW71,2))","v":""},"","",350.57,350.57,999.99,null,null,292.14,null,null,null,null,null,null,null,null,null,""]
[{"$f":"'Races, Positions & Points'!A72","v":"Ben Hall"},{"$f":"IF('Races, Positions & Points'!P72=\"\",\"\",'Races, Positions & Points'!P72)","v":""},{"$f":"IF('Races, Positions & Points'!S72=\"\",\"\",'Races, Positions & Points'!S72)","v":""},{"$f":"IF('Races, Positions & Points'!T72=\"\",\"\",'Races, Positions & Points'!T72)","v":""},{"$f":"IF('Races, Positions & Points'!W72=\"\",\"\",'Races, Positions & Points'!W72)","v":""},{"$f":"IF('Races, Positions & Points'!X72=\"\",\"\",'Races, Positions & Points'!X72)","v":""},{"$f":"IF('Races, Positions & Points'!AA72=\"\",\"\",'Races, Positions & Points'!AA72)","v":""},{"$f":"IF('Races, Positions & Points'!AD72=\"\",\"\",'Races, Positions & Points'!AD72)","v":""},{"$f":"IF('Races, Positions & Points'!AG72=\"\",\"\",'Races, Positions & Points'!AG72)","v":""},{"$f":"IF('Races, Positions & Points'!AJ72=\"\",\"\",'Races, Positions & Points'!AJ72)","v":""},{"$f":"IF('Races, Positions & Points'!AM72=\"\",\"\",'Races, Positions & Points'!AM72)","v":""},{"$f":"IF('Races, Positions & Points'!AP72=\"\",\"\",'Races, Positions & Points'!AP72)","v":""},{"$f":"IF('Races, Positions & Points'!AS72=\"\",\"\",'Races, Positions & Points'!AS72)","v":""},{"$f":"IF('Races, Positions & Points'!AV72=\"\",\"\",'Races, Positions & Points'!AV72)","v":""},{"$f":"IF('Races, Positions & Points'!AW72=\"\",\"\",'Races, Positions & Points'!AW72)","v":""},{"$f":"IF('Races, Positions & Points'!AZ72=\"\",\"\",'Races, Positions & Points'!AZ72)","v":""},{"$f":"IF('Races, Positions & Points'!BC72=\"\",\"\",'Races, Positions & Points'!BC72)","v":""},{"$f":"IF('Races, Positions & Points'!BF72=\"\",\"\",'Races, Positions & Points'!BF72)","v":""},{"$f":"IF('Races, Positions & Points'!BI72=\"\",\"\",'Races, Positions & Points'!BI72)","v":""},{"$f":"IF('Races, Positions & Points'!BL72=\"\",\"\",'Races, Positions & Points'!BL72)","v":""},{"$f":"IF('Races, Positions & Points'!BO72=\"\",\"\",'Races, Positions & Points'!BO72)","v":""},{"$f":"IF('Races, Positions & Points'!BR72=\"\",\"\",'Races, Positions & Points'!BR72)","v":""},{"$f":"IF('Races, Positions & Points'!BU72=\"\",\"\",'Races, Positions & Points'!BU72)","v":""},{"$f":"IF('Races, Positions & Points'!BX72=\"\",\"\",'Races, Positions & Points'!BX72)","v":""},{"$f":"IF('Races, Positions & Points'!CA72=\"\",\"\",'Races, Positions & Points'!CA72)","v":""},{"$f":"IF('Races, Positions & Points'!CD72=\"\",\"\",'Races, Positions & Points'!CD72)","v":""},{"$f":"IF('Races, Positions & Points'!CE72=\"\",\"\",'Races, Positions & Points'!CE72)","v":""},{"$f":"IF('Races, Positions & Points'!CH72=\"\",\"\",'Races, Positions & Points'!CH72)","v":""},{"$f":"IF('Races, Positions & Points'!CK72=\"\",\"\",'Races, Positions & Points'!CK72)","v":""},{"$f":"IF('Races, Positions & Points'!CN72=\"\",\"\",'Races, Positions & Points'!CN72)","v":""},{"$f":"IF('Races, Positions & Points'!CQ72=\"\",\"\",'Races, Positions & Points'!CQ72)","v":""},{"$f":"IF('Races, Positions & Points'!CT72=\"\",\"\",'Races, Positions & Points'!CT72)","v":""},{"$f":"IF('Races, Positions & Points'!CW72=\"\",\"\",'Races, Positions & Points'!CW72)","v":""},{"$f":"IF('Races, Positions & Points'!CZ72=\"\",\"\",'Races, Positions & Points'!CZ72)","v":""},{"$f":"IF('Races, Positions & Points'!DE72=\"\",\"\",'Races, Positions & Points'!DE72)","v":""},{"$f":"IF('Races, Positions & Points'!DH72=\"\",\"\",'Races, Positions & Points'!DH72)","v":""},{"$f":"IF('Races, Positions & Points'!DK72=\"\",\"\",'Races, Positions & Points'!DK72)","v":""},{"$f":"IF('Races, Positions & Points'!DN72=\"\",\"\",'Races, Positions & Points'!DN72)","v":""},{"$f":"IF('Races, Positions & Points'!DQ72=\"\",\"\",'Races, Positions & Points'!DQ72)","v":""},{"$f":"IF('Races, Positions & Points'!DT72=\"\",\"\",'Races, Positions & Points'!DT72)","v":""},{"$f":"IF('Races, Positions & Points'!DW72=\"\",\"\",'Races, Positions & Points'!DW72)","v":""},{"$f":"IF('Races, Positions & Points'!DZ72=\"\",\"\",'Races, Positions & Points'!DZ72)","v":""},{"$f":"IF('Races, Positions & Points'!EC72=\"\",\"\",'Races, Positions & Points'!EC72)","v":""},null,0,0,0,0,0,0,null,{"$f":"VLOOKUP(A72,'Races, Positions & Points'!$A$8:$E$76,5,FALSE)","v":21130},null,"",null,null,null,null,null,null,null,null,null,null,null,null,null,null,null,null,null,null,""]
[{"$f":"'Races, Positions & Points'!A73","v":"Matthew Waller"},{"$f":"IF('Races, Positions & Points'!P73=\"\",\"\",'Races, Positions & Points'!P73)","v":""},{"$f":"IF('Races, Positions & Points'!S73=\"\",\"\",'Races, Positions & Points'!S73)","v":""},{"$f":"IF('Races, Positions & Points'!T73=\"\",\"\",'Races, Positions & Points'!T73)","v":""},{"$f":"IF('Races, Positions & Points'!W73=\"\",\"\",'Races, Positions & Points'!W73)","v":""},{"$f":"IF('Races, Positions & Points'!X73=\"\",\"\",'Races, Positions & Points'!X73)","v":""},{"$f":"IF('Races, Positions & Points'!AA73=\"\",\"\",'Races, Positions & Points'!AA73)","v":""},{"$f":"IF('Races, Positions & Points'!AD73=\"\",\"\",'Races, Positions & Points'!AD73)","v":""},{"$f":"IF('Races, Positions & Points'!AG73=\"\",\"\",'Races, Positions & Points'!AG73)","v":""},{"$f":"IF('Races, Positions & Points'!AJ73=\"\",\"\",'Races, Positions & Points'!AJ73)","v":""},{"$f":"IF('Races, Positions & Points'!AM73=\"\",\"\",'Races, Positions & Points'!AM73)","v":""},{"$f":"IF('Races, Positions & Points'!AP73=\"\",\"\",'Races, Positions & Points'!AP73)","v":""},{"$f":"IF('Races, Positions & Points'!AS73=\"\",\"\",'Races, Positions & Points'!AS73)","v":""},{"$f":"IF('Races, Positions & Points'!AV73=\"\",\"\",'Races, Positions & Points'!AV73)","v":""},{"$f":"IF('Races, Positions & Points'!AW73=\"\",\"\",'Races, Positions & Points'!AW73)","v":""},{"$f":"IF('Races, Positions & Points'!AZ73=\"\",\"\",'Races, Positions & Points'!AZ73)","v":""},{"$f":"IF('Races, Positions & Points'!BC73=\"\",\"\",'Races, Positions & Points'!BC73)","v":""},{"$f":"IF('Races, Positions & Points'!BF73=\"\",\"\",'Races, Positions & Points'!BF73)","v":""},{"$f":"IF('Races, Positions & Points'!BI73=\"\",\"\",'Races, Positions & Points'!BI73)","v":""},{"$f":"IF('Races, Positions & Points'!BL73=\"\",\"\",'Races, Positions & Points'!BL73)","v":""},{"$f":"IF('Races, Positions & Points'!BO73=\"\",\"\",'Races, Positions & Points'!BO73)","v":""},{"$f":"IF('Races, Positions & Points'!BR73=\"\",\"\",'Races, Positions & Points'!BR73)","v":""},{"$f":"IF('Races, Positions & Points'!BU73=\"\",\"\",'Races, Positions & Points'!BU73)","v":""},{"$f":"IF('Races, Positions & Points'!BX73=\"\",\"\",'Races, Positions & Points'!BX73)","v":""},{"$f":"IF('Races, Positions & Points'!CA73=\"\",\"\",'Races, Positions & Points'!CA73)","v":""},{"$f":"IF('Races, Positions & Points'!CD73=\"\",\"\",'Races, Positions & Points'!CD73)","v":""},{"$f":"IF('Races, Positions & Points'!CE73=\"\",\"\",'Races, Positions & Points'!CE73)","v":""},{"$f":"IF('Races, Positions & Points'!CH73=\"\",\"\",'Races, Positions & Points'!CH73)","v":""},{"$f":"IF('Races, Positions & Points'!CK73=\"\",\"\",'Races, Positions & Points'!CK73)","v":""},{"$f":"IF('Races, Positions & Points'!CN73=\"\",\"\",'Races, Positions & Points'!CN73)","v":""},{"$f":"IF('Races, Positions & Points'!CQ73=\"\",\"\",'Races, Positions & Points'!CQ73)","v":""},{"$f":"IF('Races, Positions & Points'!CT73=\"\",\"\",'Races, Positions & Points'!CT73)","v":""},{"$f":"IF('Races, Positions & Points'!CW73=\"\",\"\",'Races, Positions & Points'!CW73)","v":""},{"$f":"IF('Races, Positions & Points'!CZ73=\"\",\"\",'Races, Positions & Points'!CZ73)","v":""},{"$f":"IF('Races, Positions & Points'!DE73=\"\",\"\",'Races, Positions & Points'!DE73)","v":""},{"$f":"IF('Races, Positions & Points'!DH73=\"\",\"\",'Races, Positions & Points'!DH73)","v":""},{"$f":"IF('Races, Positions & Points'!DK73=\"\",\"\",'Races, Positions & Points'!DK73)","v":""},{"$f":"IF('Races, Positions & Points'!DN73=\"\",\"\",'Races, Positions & Points'!DN73)","v":""},{"$f":"IF('Races, Positions & Points'!DQ73=\"\",\"\",'Races, Positions & Points'!DQ73)","v":""},{"$f":"IF('Races, Positions & Points'!DT73=\"\",\"\",'Races, Positions & Points'!DT73)","v":""},{"$f":"IF('Races, Positions & Points'!DW73=\"\",\"\",'Races, Positions & Points'!DW73)","v":""},{"$f":"IF('Races, Positions & Points'!DZ73=\"\",\"\",'Races, Positions & Points'!DZ73)","v":""},{"$f":"IF('Races, Positions & Points'!EC73=\"\",\"\",'Races, Positions & Points'!EC73)","v":""},null,0,0,0,0,0,0,null,{"$f":"VLOOKUP(A73,'Races, Positions & Points'!$A$8:$E$76,5,FALSE)","v":17958},null,"",null,null,null,null,null,null,null,null,null,null,null,null,null,null,null,null,null,null,""]
[{"$f":"'Races, Positions & Points'!A74","v":"JJ Frost"},{"$f":"IF('Races, Positions & Points'!P74=\"\",\"\",'Races, Positions & Points'!P74)","v":""},{"$f":"IF('Races, Positions & Points'!S74=\"\",\"\",'Races, Positions & Points'!S74)","v":""},{"$f":"IF('Races, Positions & Points'!T74=\"\",\"\",'Races, Positions & Points'!T74)","v":""},{"$f":"IF('Races, Positions & Points'!W74=\"\",\"\",'Races, Positions & Points'!W74)","v":""},{"$f":"IF('Races, Positions & Points'!X74=\"\",\"\",'Races, Positions & Points'!X74)","v":""},{"$f":"IF('Races, Positions & Points'!AA74=\"\",\"\",'Races, Positions & Points'!AA74)","v":""},{"$f":"IF('Races, Positions & Points'!AD74=\"\",\"\",'Races, Positions & Points'!AD74)","v":""},{"$f":"IF('Races, Positions & Points'!AG74=\"\",\"\",'Races, Positions & Points'!AG74)","v":""},{"$f":"IF('Races, Positions & Points'!AJ74=\"\",\"\",'Races, Positions & Points'!AJ74)","v":""},{"$f":"IF('Races, Positions & Points'!AM74=\"\",\"\",'Races, Positions & Points'!AM74)","v":""},{"$f":"IF('Races, Positions & Points'!AP74=\"\",\"\",'Races, Positions & Points'!AP74)","v":""},{"$f":"IF('Races, Positions & Points'!AS74=\"\",\"\",'Races, Positions & Points'!AS74)","v":""},{"$f":"IF('Races, Positions & Points'!AV74=\"\",\"\",'Races, Positions & Points'!AV74)","v":""},{"$f":"IF('Races, Positions & Points'!AW74=\"\",\"\",'Races, Positions & Points'!AW74)","v":""},{"$f":"IF('Races, Positions & Points'!AZ74=\"\",\"\",'Races, Positions & Points'!AZ74)","v":""},{"$f":"IF('Races, Positions & Points'!BC74=\"\",\"\",'Races, Positions & Points'!BC74)","v":""},{"$f":"IF('Races, Positions & Points'!BF74=\"\",\"\",'Races, Positions & Points'!BF74)","v":""},{"$f":"IF('Races, Positions & Points'!BI74=\"\",\"\",'Races, Positions & Points'!BI74)","v":""},{"$f":"IF('Races, Positions & Points'!BL74=\"\",\"\",'Races, Positions & Points'!BL74)","v":""},{"$f":"IF('Races, Positions & Points'!BO74=\"\",\"\",'Races, Positions & Points'!BO74)","v":""},{"$f":"IF('Races, Positions & Points'!BR74=\"\",\"\",'Races, Positions & Points'!BR74)","v":""},{"$f":"IF('Races, Positions & Points'!BU74=\"\",\"\",'Races, Positions & Points'!BU74)","v":""},{"$f":"IF('Races, Positions & Points'!BX74=\"\",\"\",'Races, Positions & Points'!BX74)","v":""},{"$f":"IF('Races, Positions & Points'!CA74=\"\",\"\",'Races, Positions & Points'!CA74)","v":""},{"$f":"IF('Races, Positions & Points'!CD74=\"\",\"\",'Races, Positions & Points'!CD74)","v":""},{"$f":"IF('Races, Positions & Points'!CE74=\"\",\"\",'Races, Positions & Points'!CE74)","v":""},{"$f":"IF('Races, Positions & Points'!CH74=\"\",\"\",'Races, Positions & Points'!CH74)","v":""},{"$f":"IF('Races, Positions & Points'!CK74=\"\",\"\",'Races, Positions & Points'!CK74)","v":""},{"$f":"IF('Races, Positions & Points'!CN74=\"\",\"\",'Races, Positions & Points'!CN74)","v":""},{"$f":"IF('Races, Positions & Points'!CQ74=\"\",\"\",'Races, Positions & Points'!CQ74)","v":""},{"$f":"IF('Races, Positions & Points'!CT74=\"\",\"\",'Races, Positions & Points'!CT74)","v":""},{"$f":"IF('Races, Positions & Points'!CW74=\"\",\"\",'Races, Positions & Points'!CW74)","v":""},{"$f":"IF('Races, Positions & Points'!CZ74=\"\",\"\",'Races, Positions & Points'!CZ74)","v":""},{"$f":"IF('Races, Positions & Points'!DE74=\"\",\"\",'Races, Positions & Points'!DE74)","v":""},{"$f":"IF('Races, Positions & Points'!DH74=\"\",\"\",'Races, Positions & Points'!DH74)","v":""},{"$f":"IF('Races, Positions & Points'!DK74=\"\",\"\",'Races, Positions & Points'!DK74)","v":""},{"$f":"IF('Races, Positions & Points'!DN74=\"\",\"\",'Races, Positions & Points'!DN74)","v":""},{"$f":"IF('Races, Positions & Points'!DQ74=\"\",\"\",'Races, Positions & Points'!DQ74)","v":""},{"$f":"IF('Races, Positions & Points'!DT74=\"\",\"\",'Races, Positions & Points'!DT74)","v":""},{"$f":"IF('Races, Positions & Points'!DW74=\"\",\"\",'Races, Positions & Points'!DW74)","v":""},{"$f":"IF('Races, Positions & Points'!DZ74=\"\",\"\",'Races, Positions & Points'!DZ74)","v":""},{"$f":"IF('Races, Positions & Points'!EC74=\"\",\"\",'Races, Positions & Points'!EC74)","v":""},null,0,0,0,0,0,0,null,{"$f":"VLOOKUP(A74,'Races, Positions & Points'!$A$8:$E$76,5,FALSE)","v":20676},null,"",null,null,null,null,null,null,null,null,null,null,null,null,null,null,null,null,null,null,""]
[{"$f":"'Races, Positions & Points'!A75","v":"Jake Heard"},{"$f":"IF('Races, Positions & Points'!P75=\"\",\"\",'Races, Positions & Points'!P75)","v":""},{"$f":"IF('Races, Positions & Points'!S75=\"\",\"\",'Races, Positions & Points'!S75)","v":""},{"$f":"IF('Races, Positions & Points'!T75=\"\",\"\",'Races, Positions & Points'!T75)","v":""},{"$f":"IF('Races, Positions & Points'!W75=\"\",\"\",'Races, Positions & Points'!W75)","v":""},{"$f":"IF('Races, Positions & Points'!X75=\"\",\"\",'Races, Positions & Points'!X75)","v":""},{"$f":"IF('Races, Positions & Points'!AA75=\"\",\"\",'Races, Positions & Points'!AA75)","v":""},{"$f":"IF('Races, Positions & Points'!AD75=\"\",\"\",'Races, Positions & Points'!AD75)","v":""},{"$f":"IF('Races, Positions & Points'!AG75=\"\",\"\",'Races, Positions & Points'!AG75)","v":""},{"$f":"IF('Races, Positions & Points'!AJ75=\"\",\"\",'Races, Positions & Points'!AJ75)","v":""},{"$f":"IF('Races, Positions & Points'!AM75=\"\",\"\",'Races, Positions & Points'!AM75)","v":""},{"$f":"IF('Races, Positions & Points'!AP75=\"\",\"\",'Races, Positions & Points'!AP75)","v":""},{"$f":"IF('Races, Positions & Points'!AS75=\"\",\"\",'Races, Positions & Points'!AS75)","v":""},{"$f":"IF('Races, Positions & Points'!AV75=\"\",\"\",'Races, Positions & Points'!AV75)","v":""},{"$f":"IF('Races, Positions & Points'!AW75=\"\",\"\",'Races, Positions & Points'!AW75)","v":""},{"$f":"IF('Races, Positions & Points'!AZ75=\"\",\"\",'Races, Positions & Points'!AZ75)","v":""},{"$f":"IF('Races, Positions & Points'!BC75=\"\",\"\",'Races, Positions & Points'!BC75)","v":""},{"$f":"IF('Races, Positions & Points'!BF75=\"\",\"\",'Races, Positions & Points'!BF75)","v":""},{"$f":"IF('Races, Positions & Points'!BI75=\"\",\"\",'Races, Positions & Points'!BI75)","v":""},{"$f":"IF('Races, Positions & Points'!BL75=\"\",\"\",'Races, Positions & Points'!BL75)","v":""},{"$f":"IF('Races, Positions & Points'!BO75=\"\",\"\",'Races, Positions & Points'!BO75)","v":""},{"$f":"IF('Races, Positions & Points'!BR75=\"\",\"\",'Races, Positions & Points'!BR75)","v":""},{"$f":"IF('Races, Positions & Points'!BU75=\"\",\"\",'Races, Positions & Points'!BU75)","v":""},{"$f":"IF('Races, Positions & Points'!BX75=\"\",\"\",'Races, Positions & Points'!BX75)","v":999.99},{"$f":"IF('Races, Positions & Points'!CA75=\"\",\"\",'Races, Positions & Points'!CA75)","v":999.99},{"$f":"IF('Races, Positions & Points'!CD75=\"\",\"\",'Races, Positions & Points'!CD75)","v":""},{"$f":"IF('Races, Positions & Points'!CE75=\"\",\"\",'Races, Positions & Points'!CE75)","v":""},{"$f":"IF('Races, Positions & Points'!CH75=\"\",\"\",'Races, Positions & Points'!CH75)","v":""},{"$f":"IF('Races, Positions & Points'!CK75=\"\",\"\",'Races, Positions & Points'!CK75)","v":""},{"$f":"IF('Races, Positions & Points'!CN75=\"\",\"\",'Races, Positions & Points'!CN75)","v":""},{"$f":"IF('Races, Positions & Points'!CQ75=\"\",\"\",'Races, Positions & Points'!CQ75)","v":""},{"$f":"IF('Races, Positions & Points'!CT75=\"\",\"\",'Races, Positions & Points'!CT75)","v":""},{"$f":"IF('Races, Positions & Points'!CW75=\"\",\"\",'Races, Positions & Points'!CW75)","v":""},{"$f":"IF('Races, Positions & Points'!CZ75=\"\",\"\",'Races, Positions & Points'!CZ75)","v":""},{"$f":"IF('Races, Positions & Points'!DE75=\"\",\"\",'Races, Positions & Points'!DE75)","v":""},{"$f":"IF('Races, Positions & Points'!DH75=\"\",\"\",'Races, Positions & Points'!DH75)","v":""},{"$f":"IF('Races, Positions & Points'!DK75=\"\",\"\",'Races, Positions & Points'!DK75)","v":""},{"$f":"IF('Races, Positions & Points'!DN75=\"\",\"\",'Races, Positions & Points'!DN75)","v":""},{"$f":"IF('Races, Positions & Points'!DQ75=\"\",\"\",'Races, Positions & Points'!DQ75)","v":""},{"$f":"IF('Races, Positions & Points'!DT75=\"\",\"\",'Races, Positions & Points'!DT75)","v":""},{"$f":"IF('Races, Positions & Points'!DW75=\"\",\"\",'Races, Positions & Points'!DW75)","v":""},{"$f":"IF('Races, Positions & Points'!DZ75=\"\",\"\",'Races, Positions & Points'!DZ75)","v":""},{"$f":"IF('Races, Positions & Points'!EC75=\"\",\"\",'Races, Positions & Points'!EC75)","v":""},null,0,2,0,0,0,0,null,{"$f":"VLOOKUP(A75,'Races, Positions & Points'!$A$8:$E$76,5,FALSE)","v":21075},null,"",null,null,null,null,null,null,null,null,null,null,null,null,null,null,null,null,null,null,""]
[{"$f":"'Races, Positions & Points'!A76","v":"Joe Bird"},{"$f":"IF('Races, Positions & Points'!P76=\"\",\"\",'Races, Positions & Points'!P76)","v":""},{"$f":"IF('Races, Positions & Points'!S76=\"\",\"\",'Races, Positions & Points'!S76)","v":""},{"$f":"IF('Races, Positions & Points'!T76=\"\",\"\",'Races, Positions & Points'!T76)","v":""},{"$f":"IF('Races, Positions & Points'!W76=\"\",\"\",'Races, Positions & Points'!W76)","v":""},{"$f":"IF('Races, Positions & Points'!X76=\"\",\"\",'Races, Positions & Points'!X76)","v":""},{"$f":"IF('Races, Positions & Points'!AA76=\"\",\"\",'Races, Positions & Points'!AA76)","v":""},{"$f":"IF('Races, Positions & Points'!AD76=\"\",\"\",'Races, Positions & Points'!AD76)","v":""},{"$f":"IF('Races, Positions & Points'!AG76=\"\",\"\",'Races, Positions & Points'!AG76)","v":""},{"$f":"IF('Races, Positions & Points'!AJ76=\"\",\"\",'Races, Positions & Points'!AJ76)","v":""},{"$f":"IF('Races, Positions & Points'!AM76=\"\",\"\",'Races, Positions & Points'!AM76)","v":""},{"$f":"IF('Races, Positions & Points'!AP76=\"\",\"\",'Races, Positions & Points'!AP76)","v":""},{"$f":"IF('Races, Positions & Points'!AS76=\"\",\"\",'Races, Positions & Points'!AS76)","v":""},{"$f":"IF('Races, Positions & Points'!AV76=\"\",\"\",'Races, Positions & Points'!AV76)","v":""},{"$f":"IF('Races, Positions & Points'!AW76=\"\",\"\",'Races, Positions & Points'!AW76)","v":""},{"$f":"IF('Races, Positions & Points'!AZ76=\"\",\"\",'Races, Positions & Points'!AZ76)","v":""},{"$f":"IF('Races, Positions & Points'!BC76=\"\",\"\",'Races, Positions & Points'!BC76)","v":""},{"$f":"IF('Races, Positions & Points'!BF76=\"\",\"\",'Races, Positions & Points'!BF76)","v":""},{"$f":"IF('Races, Positions & Points'!BI76=\"\",\"\",'Races, Positions & Points'!BI76)","v":""},{"$f":"IF('Races, Positions & Points'!BL76=\"\",\"\",'Races, Positions & Points'!BL76)","v":""},{"$f":"IF('Races, Positions & Points'!BO76=\"\",\"\",'Races, Positions & Points'!BO76)","v":""},{"$f":"IF('Races, Positions & Points'!BR76=\"\",\"\",'Races, Positions & Points'!BR76)","v":""},{"$f":"IF('Races, Positions & Points'!BU76=\"\",\"\",'Races, Positions & Points'!BU76)","v":""},{"$f":"IF('Races, Positions & Points'!BX76=\"\",\"\",'Races, Positions & Points'!BX76)","v":""},{"$f":"IF('Races, Positions & Points'!CA76=\"\",\"\",'Races, Positions & Points'!CA76)","v":""},{"$f":"IF('Races, Positions & Points'!CD76=\"\",\"\",'Races, Positions & Points'!CD76)","v":""},{"$f":"IF('Races, Positions & Points'!CE76=\"\",\"\",'Races, Positions & Points'!CE76)","v":""},{"$f":"IF('Races, Positions & Points'!CH76=\"\",\"\",'Races, Positions & Points'!CH76)","v":""},{"$f":"IF('Races, Positions & Points'!CK76=\"\",\"\",'Races, Positions & Points'!CK76)","v":""},{"$f":"IF('Races, Positions & Points'!CN76=\"\",\"\",'Races, Positions & Points'!CN76)","v":""},{"$f":"IF('Races, Positions & Points'!CQ76=\"\",\"\",'Races, Positions & Points'!CQ76)","v":""},{"$f":"IF('Races, Positions & Points'!CT76=\"\",\"\",'Races, Positions & Points'!CT76)","v":""},{"$f":"IF('Races, Positions & Points'!CW76=\"\",\"\",'Races, Positions & Points'!CW76)","v":""},{"$f":"IF('Races, Positions & Points'!CZ76=\"\",\"\",'Races, Positions & Points'!CZ76)","v":""},{"$f":"IF('Races, Positions & Points'!DE76=\"\",\"\",'Races, Positions & Points'!DE76)","v":""},{"$f":"IF('Races, Positions & Points'!DH76=\"\",\"\",'Races, Positions & Points'!DH76)","v":""},{"$f":"IF('Races, Positions & Points'!DK76=\"\",\"\",'Races, Positions & Points'!DK76)","v":""},{"$f":"IF('Races, Positions & Points'!DN76=\"\",\"\",'Races, Positions & Points'!DN76)","v":""},{"$f":"IF('Races, Positions & Points'!DQ76=\"\",\"\",'Races, Positions & Points'!DQ76)","v":""},{"$f":"IF('Races, Positions & Points'!DT76=\"\",\"\",'Races, Positions & Points'!DT76)","v":""},{"$f":"IF('Races, Positions & Points'!DW76=\"\",\"\",'Races, Positions & Points'!DW76)","v":""},{"$f":"IF('Races, Positions & Points'!DZ76=\"\",\"\",'Races, Positions & Points'!DZ76)","v":""},{"$f":"IF('Races, Positions & Points'!EC76=\"\",\"\",'Races, Positions & Points'!EC76)","v":""},null,0,0,0,0,0,0,null,{"$f":"VLOOKUP(A76,'Races, Positions & Points'!$A$8:$E$76,5,FALSE)","v":21714},null,"",null,null,null,null,null,null,null,null,null,null,null,null,null,null,null,null,null,null,""]
[{"$f":"'Races, Positions & Points'!A77","v":"Edmund Walker"},{"$f":"IF('Races, Positions & Points'!P77=\"\",\"\",'Races, Positions & Points'!P77)","v":""},{"$f":"IF('Races, Positions & Points'!S77=\"\",\"\",'Races, Positions & Points'!S77)","v":""},{"$f":"IF('Races, Positions & Points'!T77=\"\",\"\",'Races, Positions & Points'!T77)","v":""},{"$f":"IF('Races, Positions & Points'!W77=\"\",\"\",'Races, Positions & Points'!W77)","v":""},{"$f":"IF('Races, Positions & Points'!X77=\"\",\"\",'Races, Positions & Points'!X77)","v":""},{"$f":"IF('Races, Positions & Points'!AA77=\"\",\"\",'Races, Positions & Points'!AA77)","v":""},{"$f":"IF('Races, Positions & Points'!AD77=\"\",\"\",'Races, Positions & Points'!AD77)","v":""},{"$f":"IF('Races, Positions & Points'!AG77=\"\",\"\",'Races, Positions & Points'!AG77)","v":""},{"$f":"IF('Races, Positions & Points'!AJ77=\"\",\"\",'Races, Positions & Points'!AJ77)","v":""},{"$f":"IF('Races, Positions & Points'!AM77=\"\",\"\",'Races, Positions & Points'!AM77)","v":""},{"$f":"IF('Races, Positions & Points'!AP77=\"\",\"\",'Races, Positions & Points'!AP77)","v":""},{"$f":"IF('Races, Positions & Points'!AS77=\"\",\"\",'Races, Positions & Points'!AS77)","v":""},{"$f":"IF('Races, Positions & Points'!AV77=\"\",\"\",'Races, Positions & Points'!AV77)","v":""},{"$f":"IF('Races, Positions & Points'!AW77=\"\",\"\",'Races, Positions & Points'!AW77)","v":""},{"$f":"IF('Races, Positions & Points'!AZ77=\"\",\"\",'Races, Positions & Points'!AZ77)","v":""},{"$f":"IF('Races, Positions & Points'!BC77=\"\",\"\",'Races, Positions & Points'!BC77)","v":""},{"$f":"IF('Races, Positions & Points'!BF77=\"\",\"\",'Races, Positions & Points'!BF77)","v":""},{"$f":"IF('Races, Positions & Points'!BI77=\"\",\"\",'Races, Positions & Points'!BI77)","v":91.4},{"$f":"IF('Races, Positions & Points'!BL77=\"\",\"\",'Races, Positions & Points'!BL77)","v":""},{"$f":"IF('Races, Positions & Points'!BO77=\"\",\"\",'Races, Positions & Points'!BO77)","v":72.099999999999994},{"$f":"IF('Races, Positions & Points'!BR77=\"\",\"\",'Races, Positions & Points'!BR77)","v":""},{"$f":"IF('Races, Positions & Points'!BU77=\"\",\"\",'Races, Positions & Points'!BU77)","v":""},{"$f":"IF('Races, Positions & Points'!BX77=\"\",\"\",'Races, Positions & Points'!BX77)","v":""},{"$f":"IF('Races, Positions & Points'!CA77=\"\",\"\",'Races, Positions & Points'!CA77)","v":""},{"$f":"IF('Races, Positions & Points'!CD77=\"\",\"\",'Races, Positions & Points'!CD77)","v":""},{"$f":"IF('Races, Positions & Points'!CE77=\"\",\"\",'Races, Positions & Points'!CE77)","v":""},{"$f":"IF('Races, Positions & Points'!CH77=\"\",\"\",'Races, Positions & Points'!CH77)","v":""},{"$f":"IF('Races, Positions & Points'!CK77=\"\",\"\",'Races, Positions & Points'!CK77)","v":""},{"$f":"IF('Races, Positions & Points'!CN77=\"\",\"\",'Races, Positions & Points'!CN77)","v":""},{"$f":"IF('Races, Positions & Points'!CQ77=\"\",\"\",'Races, Positions & Points'!CQ77)","v":""},{"$f":"IF('Races, Positions & Points'!CT77=\"\",\"\",'Races, Positions & Points'!CT77)","v":""},{"$f":"IF('Races, Positions & Points'!CW77=\"\",\"\",'Races, Positions & Points'!CW77)","v":""},{"$f":"IF('Races, Positions & Points'!CZ77=\"\",\"\",'Races, Positions & Points'!CZ77)","v":""},{"$f":"IF('Races, Positions & Points'!DE77=\"\",\"\",'Races, Positions & Points'!DE77)","v":""},{"$f":"IF('Races, Positions & Points'!DH77=\"\",\"\",'Races, Positions & Points'!DH77)","v":""},{"$f":"IF('Races, Positions & Points'!DK77=\"\",\"\",'Races, Positions & Points'!DK77)","v":""},{"$f":"IF('Races, Positions & Points'!DN77=\"\",\"\",'Races, Positions & Points'!DN77)","v":""},{"$f":"IF('Races, Positions & Points'!DQ77=\"\",\"\",'Races, Positions & Points'!DQ77)","v":""},{"$f":"IF('Races, Positions & Points'!DT77=\"\",\"\",'Races, Positions & Points'!DT77)","v":""},{"$f":"IF('Races, Positions & Points'!DW77=\"\",\"\",'Races, Positions & Points'!DW77)","v":""},{"$f":"IF('Races, Positions & Points'!DZ77=\"\",\"\",'Races, Positions & Points'!DZ77)","v":""},{"$f":"IF('Races, Positions & Points'!EC77=\"\",\"\",'Races, Positions & Points'!EC77)","v":""},null,0,2,0,0,0,0,null,"Day",{"$f":"VLOOKUP(AZ77,'Start of Year Points'!$A$2:$I$1998,9,FALSE)","v":999.99},72.099999999999994,{"$f":"IF(ISERROR(SMALL(BK77:BW77,2)),\"\",SMALL(BK77:BW77,2))","v":91.4},81.75,"",86.52,{"$f":"MIN(BA77,BD77,BE77,BF77)","v":81.75},999.99,{"$f":"MIN(BD77,BF77,BH77)","v":81.75},null,{"$f":"IF(MIN(B77,X77,Y77,AD77,AE77,AI77)>0,MIN(B77,X77,Y77,AD77,AE77,AI77),\"\")","v":""},{"$f":"IF(MIN(C77,D77,E77,F77,K77,L77,AF77,AG77,AN77,AQ77)>0,MIN(C77,D77,E77,F77,K77,L77,AF77,AG77,AN77,AQ77),\"\")","v":""},{"$f":"IF(MIN(G77,H77,N77)>0,MIN(G77,H77,N77),\"\")","v":""},{"$f":"IF(MIN(I77,J77,P77,Q77)>0,MIN(I77,J77,P77,Q77),\"\")","v":""},{"$f":"IF(M77>0,M77,\"\")","v":""},{"$f":"IF(MIN(S77,AM77)>0,MIN(S77,AM77),\"\")","v":91.4},{"$f":"IF(U77>0,U77,\"\")","v":72.099999999999994},{"$f":"IF(R77>0,R77,\"\")","v":""},{"$f":"IF(MIN(T77,AH77,AL77)>0,MIN(T77,AH77,AL77),\"\")","v":""},{"$f":"IF(MIN(V77,W77)>0,MIN(V77,W77),\"\")","v":""},"",{"$f":"IF(MIN(AB77,AC77,AJ77,AK77)>0,MIN(AB77,AC77,AJ77,AK77),\"\")","v":""},{"$f":"IF(MIN(AO77,AP77)>0,MIN(AO77,AP77),\"\")","v":""},null,null,{"$f":"IF(MIN(CE77:CM77)>0,MIN(CE77:CM77),\"\")","v":""},{"$f":"IF(ISERROR(SMALL(CE77:CM77,2)),\"\",SMALL(CE77:CM77,2))","v":""},{"$f":"IF(ISERROR(SMALL(CE77:CM77,2)),\"\",AVERAGE(BZ77,CA77))","v":""},{"$f":"IF(ISERROR(BZ77*1.2),\"\",IF(BZ77<50,BZ77+10,BZ77*1.2))","v":""},null,{"$f":"IF(MIN(AD77,AE77,AI77)>0,MIN(B77,AD77,AE77,AI77),\"\")","v":""},{"$f":"IF(MIN(K77,L77,AF77,AG77,AN77,AQ77)>0,MIN(K77,L77,AF77,AG77,AN77,AQ77),\"\")","v":""},{"$f":"IF(MIN(G77,H77)>0,MIN(G77,H77),\"\")","v":""},{"$f":"IF(MIN(I77,J77)>0,MIN(I77,J77),\"\")","v":""},{"$f":"IF(AM77>0,AM77,\"\")","v":""},{"$f":"IF(AH77>0,AH77,\"\")","v":""},{"$f":"IF(MIN(V77,W77)>0,MIN(V77,W77),\"\")","v":""},{"$f":"IF(MIN(AB77,AC77,AJ77,AK77)>0,MIN(AB77,AC77,AJ77,AK77),\"\")","v":""},{"$f":"IF(MIN(AO77,AP77)>0,MIN(AO77,AP77),\"\")","v":""}]

{"sheet":"Age Calculation","index":6,"n_rows":108,"n_cols":17,"rows_kept":108,"cut":false,"hidden":true,"merged":[]}
[null,"Competition Year",2011,2012,2013,2014,2015,2016,2017,2018,2019,2020,2021,2022,2023,2024,2025]
["Year of Birth"]
[1920,null,{"$f":"IF(C$1-$A3<11,\"Mini\",IF(C$1-$A3<13,\"CH1\",IF(C$1-$A3<15,\"CH2\",IF(C$1-$A3<17,\"JN1\",IF(C$1-$A3<20,\"JN2\",IF(C$1-$A3<30,\"SEN\",\"MAS\"))))))","v":"MAS"},{"$f":"IF(D$1-$A3<11,\"Mini\",IF(D$1-$A3<13,\"CH1\",IF(D$1-$A3<15,\"CH2\",IF(D$1-$A3<17,\"JN1\",IF(D$1-$A3<20,\"JN2\",IF(D$1-$A3<30,\"SEN\",\"MAS\"))))))","v":"MAS"},"MAS","MAS","MAS","MAS","MAS","MAS","MAS","MAS","MAS","MAS","MAS","MAS","MAS"]
[1921,null,{"$f":"IF(C$1-$A4<11,\"Mini\",IF(C$1-$A4<13,\"CH1\",IF(C$1-$A4<15,\"CH2\",IF(C$1-$A4<17,\"JN1\",IF(C$1-$A4<20,\"JN2\",IF(C$1-$A4<30,\"SEN\",\"MAS\"))))))","v":"MAS"},"MAS","MAS","MAS","MAS","MAS","MAS","MAS","MAS","MAS","MAS","MAS","MAS","MAS","MAS"]
[1922,null,"MAS","MAS","MAS","MAS","MAS","MAS","MAS","MAS","MAS","MAS","MAS","MAS","MAS","MAS","MAS"]
[1923,null,"MAS","MAS","MAS","MAS","MAS","MAS","MAS","MAS","MAS","MAS","MAS","MAS","MAS","MAS","MAS"]
[1924,null,"MAS","MAS","MAS","MAS","MAS","MAS","MAS","MAS","MAS","MAS","MAS","MAS","MAS","MAS","MAS"]
[1925,null,"MAS","MAS","MAS","MAS","MAS","MAS","MAS","MAS","MAS","MAS","MAS","MAS","MAS","MAS","MAS"]
[1926,null,"MAS","MAS","MAS","MAS","MAS","MAS","MAS","MAS","MAS","MAS","MAS","MAS","MAS","MAS","MAS"]
[1927,null,"MAS","MAS","MAS","MAS","MAS","MAS","MAS","MAS","MAS","MAS","MAS","MAS","MAS","MAS","MAS"]
[1928,null,"MAS","MAS","MAS","MAS","MAS","MAS","MAS","MAS","MAS","MAS","MAS","MAS","MAS","MAS","MAS"]
[1929,null,"MAS","MAS","MAS","MAS","MAS","MAS","MAS","MAS","MAS","MAS","MAS","MAS","MAS","MAS","MAS"]
[1930,null,"MAS","MAS","MAS","MAS","MAS","MAS","MAS","MAS","MAS","MAS","MAS","MAS","MAS","MAS","MAS"]
[1931,null,"MAS","MAS","MAS","MAS","MAS","MAS","MAS","MAS","MAS","MAS","MAS","MAS","MAS","MAS","MAS"]
[1932,null,"MAS","MAS","MAS","MAS","MAS","MAS","MAS","MAS","MAS","MAS","MAS","MAS","MAS","MAS","MAS"]
[1933,null,"MAS","MAS","MAS","MAS","MAS","MAS","MAS","MAS","MAS","MAS","MAS","MAS","MAS","MAS","MAS"]
[1934,null,"MAS","MAS","MAS","MAS","MAS","MAS","MAS","MAS","MAS","MAS","MAS","MAS","MAS","MAS","MAS"]
[1935,null,"MAS","MAS","MAS","MAS","MAS","MAS","MAS","MAS","MAS","MAS","MAS","MAS","MAS","MAS","MAS"]
[1936,null,"MAS","MAS","MAS","MAS","MAS","MAS","MAS","MAS","MAS","MAS","MAS","MAS","MAS","MAS","MAS"]
[1937,null,"MAS","MAS","MAS","MAS","MAS","MAS","MAS","MAS","MAS","MAS","MAS","MAS","MAS","MAS","MAS"]
[1938,null,"MAS","MAS","MAS","MAS","MAS","MAS","MAS","MAS","MAS","MAS","MAS","MAS","MAS","MAS","MAS"]
[1939,null,"MAS","MAS","MAS","MAS","MAS","MAS","MAS","MAS","MAS","MAS","MAS","MAS","MAS","MAS","MAS"]
[1940,null,"MAS","MAS","MAS","MAS","MAS","MAS","MAS","MAS","MAS","MAS","MAS","MAS","MAS","MAS","MAS"]
[1941,null,"MAS","MAS","MAS","MAS","MAS","MAS","MAS","MAS","MAS","MAS","MAS","MAS","MAS","MAS","MAS"]
[1942,null,"MAS","MAS","MAS","MAS","MAS","MAS","MAS","MAS","MAS","MAS","MAS","MAS","MAS","MAS","MAS"]
[1943,null,"MAS","MAS","MAS","MAS","MAS","MAS","MAS","MAS","MAS","MAS","MAS","MAS","MAS","MAS","MAS"]
[1944,null,"MAS","MAS","MAS","MAS","MAS","MAS","MAS","MAS","MAS","MAS","MAS","MAS","MAS","MAS","MAS"]
[1945,null,"MAS","MAS","MAS","MAS","MAS","MAS","MAS","MAS","MAS","MAS","MAS","MAS","MAS","MAS","MAS"]
[1946,null,"MAS","MAS","MAS","MAS","MAS","MAS","MAS","MAS","MAS","MAS","MAS","MAS","MAS","MAS","MAS"]
[1947,null,"MAS","MAS","MAS","MAS","MAS","MAS","MAS","MAS","MAS","MAS","MAS","MAS","MAS","MAS","MAS"]
[1948,null,"MAS","MAS","MAS","MAS","MAS","MAS","MAS","MAS","MAS","MAS","MAS","MAS","MAS","MAS","MAS"]
[1949,null,"MAS","MAS","MAS","MAS","MAS","MAS","MAS","MAS","MAS","MAS","MAS","MAS","MAS","MAS","MAS"]
[1950,null,"MAS","MAS","MAS","MAS","MAS","MAS","MAS","MAS","MAS","MAS","MAS","MAS","MAS","MAS","MAS"]
[1951,null,"MAS","MAS","MAS","MAS","MAS","MAS","MAS","MAS","MAS","MAS","MAS","MAS","MAS","MAS","MAS"]
[1952,null,{"$f":"IF(C$1-$A35<11,\"Mini\",IF(C$1-$A35<13,\"CH1\",IF(C$1-$A35<15,\"CH2\",IF(C$1-$A35<17,\"JN1\",IF(C$1-$A35<20,\"JN2\",IF(C$1-$A35<30,\"SEN\",\"MAS\"))))))","v":"MAS"},"MAS","MAS","MAS","MAS","MAS","MAS","MAS","MAS","MAS","MAS","MAS","MAS","MAS","MAS"]
[1953,null,"MAS","MAS","MAS","MAS","MAS","MAS","MAS","MAS","MAS","MAS","MAS","MAS","MAS","MAS","MAS"]
[1954,null,"MAS","MAS","MAS","MAS","MAS","MAS","MAS","MAS","MAS","MAS","MAS","MAS","MAS","MAS","MAS"]
[1955,null,"MAS","MAS","MAS","MAS","MAS","MAS","MAS","MAS","MAS","MAS","MAS","MAS","MAS","MAS","MAS"]
[1956,null,"MAS","MAS","MAS","MAS","MAS","MAS","MAS","MAS","MAS","MAS","MAS","MAS","MAS","MAS","MAS"]
[1957,null,"MAS","MAS","MAS","MAS","MAS","MAS","MAS","MAS","MAS","MAS","MAS","MAS","MAS","MAS","MAS"]
[1958,null,"MAS","MAS","MAS","MAS","MAS","MAS","MAS","MAS","MAS","MAS","MAS","MAS","MAS","MAS","MAS"]
[1959,null,"MAS","MAS","MAS","MAS","MAS","MAS","MAS","MAS","MAS","MAS","MAS","MAS","MAS","MAS","MAS"]
[1960,null,"MAS","MAS","MAS","MAS","MAS","MAS","MAS","MAS","MAS","MAS","MAS","MAS","MAS","MAS","MAS"]
[1961,null,"MAS","MAS","MAS","MAS","MAS","MAS","MAS","MAS","MAS","MAS","MAS","MAS","MAS","MAS","MAS"]
[1962,null,"MAS","MAS","MAS","MAS","MAS","MAS","MAS","MAS","MAS","MAS","MAS","MAS","MAS","MAS","MAS"]
[1963,null,"MAS","MAS","MAS","MAS","MAS","MAS","MAS","MAS","MAS","MAS","MAS","MAS","MAS","MAS","MAS"]
[1964,null,"MAS","MAS","MAS","MAS","MAS","MAS","MAS","MAS","MAS","MAS","MAS","MAS","MAS","MAS","MAS"]
[1965,null,"MAS","MAS","MAS","MAS","MAS","MAS","MAS","MAS","MAS","MAS","MAS","MAS","MAS","MAS","MAS"]
[1966,null,"MAS","MAS","MAS","MAS","MAS","MAS","MAS","MAS","MAS","MAS","MAS","MAS","MAS","MAS","MAS"]
[1967,null,"MAS","MAS","MAS","MAS","MAS","MAS","MAS","MAS","MAS","MAS","MAS","MAS","MAS","MAS","MAS"]
[1968,null,"MAS","MAS","MAS","MAS","MAS","MAS","MAS","MAS","MAS","MAS","MAS","MAS","MAS","MAS","MAS"]
[1969,null,{"$f":"IF(C$1-$A52<11,\"Mini\",IF(C$1-$A52<13,\"CH1\",IF(C$1-$A52<15,\"CH2\",IF(C$1-$A52<17,\"JN1\",IF(C$1-$A52<20,\"JN2\",IF(C$1-$A52<30,\"SEN\",\"MAS\"))))))","v":"MAS"},"MAS","MAS","MAS","MAS","MAS","MAS","MAS","MAS","MAS","MAS","MAS","MAS","MAS","MAS"]
[1970,null,"MAS","MAS","MAS","MAS","MAS","MAS","MAS","MAS","MAS","MAS","MAS","MAS","MAS","MAS","MAS"]
[1971,null,"MAS","MAS","MAS","MAS","MAS","MAS","MAS","MAS","MAS","MAS","MAS","MAS","MAS","MAS","MAS"]
[1972,null,{"$f":"IF(C$1-$A55<11,\"Mini\",IF(C$1-$A55<13,\"CH1\",IF(C$1-$A55<15,\"CH2\",IF(C$1-$A55<17,\"JN1\",IF(C$1-$A55<20,\"JN2\",IF(C$1-$A55<30,\"SEN\",\"MAS\"))))))","v":"MAS"},"MAS","MAS","MAS","MAS","MAS","MAS","MAS","MAS","MAS","MAS","MAS","MAS","MAS","MAS"]
[1973,null,"MAS","MAS","MAS","MAS","MAS","MAS","MAS","MAS","MAS","MAS","MAS","MAS","MAS","MAS","MAS"]
[1974,null,"MAS","MAS","MAS","MAS","MAS","MAS","MAS","MAS","MAS","MAS","MAS","MAS","MAS","MAS","MAS"]
[1975,null,"MAS","MAS","MAS","MAS","MAS","MAS","MAS","MAS","MAS","MAS","MAS","MAS","MAS","MAS","MAS"]
[1976,null,"MAS","MAS","MAS","MAS","MAS","MAS","MAS","MAS","MAS","MAS","MAS","MAS","MAS","MAS","MAS"]
[1977,null,"MAS","MAS","MAS","MAS","MAS","MAS","MAS","MAS","MAS","MAS","MAS","MAS","MAS","MAS","MAS"]
[1978,null,"MAS","MAS","MAS","MAS","MAS","MAS","MAS","MAS","MAS","MAS","MAS","MAS","MAS","MAS","MAS"]
[1979,null,"MAS","MAS","MAS","MAS","MAS","MAS","MAS","MAS","MAS","MAS","MAS","MAS","MAS","MAS","MAS"]
[1980,null,"MAS","MAS","MAS","MAS","MAS","MAS","MAS","MAS","MAS","MAS","MAS","MAS","MAS","MAS","MAS"]
[1981,null,"MAS","MAS","MAS","MAS","MAS","MAS","MAS","MAS","MAS","MAS","MAS","MAS","MAS","MAS","MAS"]
[1982,null,"SEN","MAS","MAS","MAS","MAS","MAS","MAS","MAS","MAS","MAS","MAS","MAS","MAS","MAS","MAS"]
[1983,null,"SEN","SEN","MAS","MAS","MAS","MAS","MAS","MAS","MAS","MAS","MAS","MAS","MAS","MAS","MAS"]
[1984,null,"SEN","SEN","SEN","MAS","MAS","MAS","MAS","MAS","MAS","MAS","MAS","MAS","MAS","MAS","MAS"]
[1985,null,"SEN",{"$f":"IF(D$1-$A68<11,\"Mini\",IF(D$1-$A68<13,\"CH1\",IF(D$1-$A68<15,\"CH2\",IF(D$1-$A68<17,\"JN1\",IF(D$1-$A68<20,\"JN2\",IF(D$1-$A68<30,\"SEN\",\"MAS\"))))))","v":"SEN"},"SEN","SEN","MAS","MAS","MAS","MAS","MAS","MAS","MAS","MAS","MAS","MAS","MAS"]
[1986,null,"SEN","SEN","SEN","SEN","SEN","MAS","MAS","MAS","MAS","MAS","MAS","MAS","MAS","MAS","MAS"]
[1987,null,"SEN","SEN","SEN","SEN","SEN","SEN","MAS","MAS","MAS","MAS","MAS","MAS","MAS","MAS","MAS"]
[1988,null,"SEN","SEN","SEN","SEN","SEN","SEN","SEN","MAS","MAS","MAS","MAS","MAS","MAS","MAS","MAS"]
[1989,null,"SEN","SEN","SEN","SEN","SEN","SEN","SEN","SEN","MAS","MAS","MAS","MAS","MAS","MAS","MAS"]
[1990,null,"SEN","SEN","SEN","SEN","SEN","SEN","SEN","SEN","SEN","MAS","MAS","MAS","MAS","MAS","MAS"]
[1991,null,"SEN","SEN","SEN","SEN","SEN","SEN","SEN","SEN","SEN","SEN","MAS","MAS","MAS","MAS","MAS"]
[1992,null,"JN2","U21",{"$f":"IF(E$1-$A75<11,\"Mini\",IF(E$1-$A75<13,\"CH1\",IF(E$1-$A75<15,\"CH2\",IF(E$1-$A75<17,\"JN1\",IF(E$1-$A75<20,\"JN2\",IF(E$1-$A75<30,\"SEN\",\"MAS\"))))))","v":"SEN"},"SEN","SEN","SEN","SEN","SEN","SEN","SEN","SEN","MAS","MAS","MAS","MAS"]
[1993,null,"JN2","U21","U21",{"$f":"IF(F$1-$A76<11,\"Mini\",IF(F$1-$A76<13,\"CH1\",IF(F$1-$A76<15,\"CH2\",IF(F$1-$A76<17,\"JN1\",IF(F$1-$A76<20,\"JN2\",IF(F$1-$A76<30,\"SEN\",\"MAS\"))))))","v":"SEN"},"SEN","SEN","SEN","SEN","SEN","SEN","SEN","SEN","MAS","MAS","MAS"]
[1994,null,"JN2","U21","U21","U21",{"$f":"IF(G$1-$A77<11,\"Mini\",IF(G$1-$A77<13,\"CH1\",IF(G$1-$A77<15,\"CH2\",IF(G$1-$A77<17,\"JN1\",IF(G$1-$A77<20,\"JN2\",IF(G$1-$A77<30,\"SEN\",\"MAS\"))))))","v":"SEN"},"SEN","SEN","SEN","SEN","SEN","SEN","SEN","SEN","MAS","MAS"]
[1995,null,"JN1","U18","U21","U21","U21",{"$f":"IF(H$1-$A78<11,\"Mini\",IF(H$1-$A78<13,\"CH1\",IF(H$1-$A78<15,\"CH2\",IF(H$1-$A78<17,\"JN1\",IF(H$1-$A78<20,\"JN2\",IF(H$1-$A78<30,\"SEN\",\"MAS\"))))))","v":"SEN"},"SEN","SEN","SEN","SEN","SEN","SEN","SEN","SEN","MAS"]
[1996,null,"JN1","U18","U18","U21","U21","U21",{"$f":"IF(I$1-$A79<11,\"Mini\",IF(I$1-$A79<13,\"CH1\",IF(I$1-$A79<15,\"CH2\",IF(I$1-$A79<17,\"JN1\",IF(I$1-$A79<20,\"JN2\",IF(I$1-$A79<30,\"SEN\",\"MAS\"))))))","v":"SEN"},"SEN","SEN","SEN","SEN","SEN","SEN","SEN","SEN"]
[1997,null,"CH2","U16","U18","U18","U21","U21","U21",{"$f":"IF(J$1-$A80<11,\"Mini\",IF(J$1-$A80<13,\"CH1\",IF(J$1-$A80<15,\"CH2\",IF(J$1-$A80<17,\"JN1\",IF(J$1-$A80<20,\"JN2\",IF(J$1-$A80<30,\"SEN\",\"MAS\"))))))","v":"SEN"},"SEN","SEN","SEN","SEN","SEN","SEN","SEN"]
[1998,null,"CH2","U16","U16","U18","U18","U21","U21","U21","SEN","SEN","SEN","SEN","SEN","SEN","SEN"]
[1999,null,"CH1","U14","U16","U16","U18","U18","U21","U21","U21","SEN","SEN","SEN","SEN","SEN","SEN"]
[2000,null,"CH1","U14","U14","U16","U16","U18","U18","U21","U21","U21","SEN","SEN","SEN","SEN","SEN"]
[2001,null,"Mini","U12","U14","U14","U16","U16","U18","U18","U21","U21","U21","SEN","SEN","SEN","SEN"]
[2002,null,"Mini","U12","U12","U14","U14","U16","U16","U18","U18","U21","U21","U21","SEN","SEN","SEN"]
[2003,null,"Mini","U10","U12","U12","U14","U14","U16","U16","U18","U18","U21","U21","U21","SEN","SEN"]
[2004,null,"Mini","U10","U10","U12","U12","U14","U14","U16","U16","U18","U18","U21","U21","U21","SEN"]
[2005,null,null,null,"U10","U10","U12","U12","U14","U14","U16","U16","U18","U18","U21","U21","U21"]
[2006,null,null,null,null,"U10","U10","U12","U12","U14","U14","U16","U16","U18","U18","U21","U21"]
[2007,null,null,null,null,null,"U10","U10","U12","U12","U14","U14","U16","U16","U18","U18","U21"]
[2008,null,null,null,null,null,null,"U10","U10","U12","U12","U14","U14","U16","U16","U18","U18"]
[2009,null,null,null,null,null,null,null,"U10","U10","U12","U12","U14","U14","U16","U16","U18"]
[2010,null,null,null,null,null,null,null,null,"U10","U10","U12","U12","U14","U14","U16","U16"]
[2011,null,null,null,null,null,null,null,null,null,"U10","U10","U12","U12","U14","U14","U16"]
[2012,null,null,null,null,null,null,null,null,null,null,"U10","U10","U12","U12","U14","U14"]
[2013,null,null,null,null,null,null,null,null,null,null,null,"U10","U10","U12","U12","U14"]
[2014,null,null,null,null,null,null,null,null,null,null,null,null,"U10","U10","U12","U12"]
[2015,null,null,null,null,null,null,null,null,null,null,null,null,null,"U10","U10","U12"]
[2016,null,null,null,null,null,null,null,null,null,null,null,null,null,null,"U10","U10"]
[2017,null,null,null,null,null,null,null,null,null,null,null,null,null,null,null,"U10"]
[2018]
[2019]
[2020]
[2021]
[2022]
[2023]
[2024]
[2025]

{"sheet":"Start of Year Points","index":7,"n_rows":1553,"n_cols":9,"rows_kept":1553,"cut":false,"hidden":true,"merged":[]}
["REGNO","SURNAME","FORENAME","SEX","YOB","CAT","CLUB1","CLUB2","PTS"]
[19440,"ADAMS","Sarah","F",1997,"U18","DHO","DHO",999.99]
[31352,"ADLINGTON","Sophie","F",1996,"U18","RHS",null,344.5]
[8242,"ALCOTT","Chimene","F",1982,"MAS","SPR","DHO",147.63999999999999]
[31449,"ALDRIDGE","Iona","F",2003,"U12","MUC","SSC",999.99]
[30802,"ALEXANDER","Megan","F",1999,"U16","DHO","SSC",999.99]
[31340,"ALLAN","Amelia","F",2001,"U14","GDN",null,247.63]
[30833,"ALLAN","Katie","F",1996,"U18","BSC",null,55.52]
[31436,"ALLAN","Phoebe","F",2004,"U10","GDN",null,999.99]
[31208,"ALLAN","Tabitha","F",2000,"U14","GDN",null,203.76]
[12570,"ALLDRIDGE","Amanda","F",1991,"SEN",null,null,999.99]
[14159,"ANDERSON","Beverley","F",1970,"MAS","VIK","K",94.24]
[31316,"ANDERSON","Grace","F",2002,"U12","SSC",null,999.99]
[17560,"ANDERSON","Jessica","F",1998,"U16","GRV","BSA",69.61]
[30988,"ANDERSON","Keri","F",1996,"U18","GSR","SSC",40.76]
[31312,"ANDERSON","Laura","F",1996,"U18",null,null,167.93]
[30664,"ANGUS","Kate","F",1994,"U21","GDN","SSC",256.52]
[19031,"ARTHUR","April","F",2001,"U14","SAS","SAS",384.91]
[14906,"BAGGE","Christine","F",1969,"MAS","NOR",null,999.99]
[12428,"BAGGIO","Jayme","F",1991,"SEN",null,"AMB",999.99]
[20805,"BAILES","Lucy","F",2001,"U14",null,"ELI",246.24]
[31410,"BAKER","Jessica","F",2000,"U14","LSR",null,999.99]
[31411,"BAKER","Rachel","F",2002,"U12","LSR",null,999.99]
[30852,"BANKS BROWN","Yandra","F",1996,"U18","CSC",null,999.99]
[21303,"BANNISTER","Lucy","F",2002,"U12","ASR",null,999.99]
[20999,"BARDER","Beatrice","F",1999,"U16","HEM","HEM",999.99]
[20998,"BARDER","Katie","F",2003,"U12","HEM","HEM",999.99]
[31000,"BARKER","Emily","F",1998,"U16","SSC","LSR",123.15]
[30636,"BARKER","Katy","F",1996,"U18","SSC","LSR",86.73]
[31336,"BARTHRAM","Alice","F",2001,"U14","LSR","SSC",248.17]
[19680,"BAXTER","Phillipa","F",1998,"U16","VIK","BSA",158.65]
[30995,"BEATTIE","Natalie","F",1994,"U21","ARB",null,999.99]
[10612,"BECK","Catherine","F",1960,"MAS","LIO","LIO",225.92]
[10654,"BECK","Hannah","F",1987,"SEN","LIO","LIO",186.93]
[19133,"BEE","Anastasia","F",1994,"U21","WGC",null,111.38]
[20711,"BEER","Georgina","F",1996,"U18","RAV",null,93.29]
[21338,"BELL","Reece","F",2001,"U14",null,"BSA",999.99]
[20727,"BELL","Rosemary","F",2001,"U14","HEM",null,290.31]
[19587,"BENNETT","Lucy","F",1999,"U16","SZR","SZR",999.99]
[20168,"BILL","Rachel","F",1990,"SEN","MID","MID",33.85]
[18530,"BIRD","Abigail","F",1997,"U18","SRR","SRR",142.63999999999999]
[20132,"BLACK","Grace","F",2003,"U12","PPS","DRA",999.99]
[21140,"BLACK","Lauren","F",2001,"U14","AVO","AVO",307.2]
[21317,"BLEASDALE","Janice","F",1962,"MAS","NSC",null,999.99]
[31375,"BOLE","Gemma","F",2001,"U14","SSC",null,376.92]
[31376,"BOLE","Rebecca","F",2003,"U12","LSR",null,999.99]
[41826,"BONNINGTON","Keira","F",2002,"U12",null,null,999.99]
[21522,"BOSWELL","Olivia","F",1999,"U16","SRR","SRR",999.99]
[19712,"BOTY","Carys","F",1999,"U16",null,"WYC",999.99]
[21334,"BOTY","Nia","F",2003,"U12","HEM","ELI",999.99]
[20901,"BOYCOTT","Nina","F",2000,"U14","LIO","LIO",999.99]
[30844,"BOYD","Kirsten","F",1996,"U18","SSC",null,90.26]
[18618,"BOZIER","Hannah","F",1996,"U18","ASR","ASR",0]
[19746,"BRADLEY","Lydia","F",2000,"U14","HEM","HEM",181.29]
[31301,"BRODIE","Anna","F",1997,"U18",null,null,999.99]
[19504,"BROOKER","Lolli","F",2001,"U14","NOR","ELI",106.85]
[19821,"BROWN","Alysha","F",2002,"U12",null,"K",999.99]
[31482,"BROWN","Anna","F",2006,"U8",null,null,999.99]
[30868,"BROWN","Cara","F",1994,"U21","SSC","BSA",999.99]
[20299,"BROWN","Charlotte","F",2003,"U12",null,"K",999.99]
[20348,"BROWN","Elektra","F",2003,"U12",null,null,999.99]
[18576,"BROWN","Ellen","F",1996,"U18","TEL","TEL",28.41]
[19519,"BROWN","Eloise","F",1993,"U21","WCS","WCS",149.44999999999999]
[20347,"BROWN","Isobel","F",1999,"U16",null,null,169.92]
[20346,"BROWN","Jemima","F",2001,"U14",null,null,272.06]
[19520,"BROWN","Madeleine","F",1998,"U16","WCS","WCS",135.57]
[31191,"BROWN","Rachel","F",2000,"U14","GDN","ASC",162.55000000000001]
[20367,"BRUCE","Abigail","F",2000,"U14","EVO","EVO",182.78]
[31493,"BRUCE","Emma","F",2000,"U14","BSC",null,999.99]
[31492,"BRUCE","Kate","F",1998,"U16","BSC",null,999.99]
[20368,"BRUCE","Sasha","F",1999,"U16","EVO","EVO",257.18]
[17686,"BUCHANAN","Alexandra","F",1994,"U21",null,"AMB",999.99]
[20360,"BUCKLAND","Amber","F",1997,"U18","HEM","BSA",170.06]
[14661,"BULLOCK","Alexandra","F",1995,"U21","TEL","TEL",12.97]
[31484,"BURKE","Olivia","F",2002,"U12","GSS",null,999.99]
[21139,"BURKINSHAW","Rowena","F",1979,"MAS","CHL","CHL",104.85]
[20601,"BURNS","Madeleine","F",2001,"U14","HEM","BSA",165.75]
[20339,"BURROUGHS","Hannah","F",2000,"U14","NOR",null,302.23]
[20860,"BURTON","Maisie","F",2002,"U12","LIO","LIO",999.99]
[19586,"BUTCHER","Jazmine","F",1997,"U18","NOR","BSA",83.83]
[12970,"CADMAN","Lauren","F",1990,"SEN","LIO",null,30.4]
[31357,"CALDER","Emma","F",2002,"U12","GDN",null,999.99]
[20833,"CALDWELL","Anna","F",2002,"U12","SAS","SAS",999.99]
[19399,"CALDWELL","Sophie","F",1996,"U18","CHL","DRA",119.67]
[41954,"CAMPBELL","Caitriona","F",1997,"U18","SCI",null,999.99]
[31161,"CAMPBELL","Erin","F",1999,"U16","GSR",null,560.44000000000005]
[13638,"CAMPBELL-WOODWARD","Sarah","F",1954,"MAS",null,null,263.43]
[31407,"CANE","Eilidh","F",2000,"U14","LSR",null,999.99]
[19983,"CARE","Chloe","F",1998,"U16","MID",null,224.39]
[17890,"CARPENTER","Gabriella","F",1993,"U21","SPR","SPR",292.19]
[31155,"CARRUTHERS","Philipa","F",1997,"U18","SSC",null,999.99]
[31203,"CARSON","Clare","F",1994,"U21","GSR",null,87.98]
[20694,"CATLIN","Glesni","F",2003,"U12","SMK","K",999.99]
[31473,"CELINO","Carly","F",2003,"U12","BSC",null,999.99]
[31472,"CELINO","Melanie","F",1999,"U16","BSC",null,999.99]
[31497,"CHAPMAN","Vaila","F",1997,"U18","BSC",null,999.99]
[20366,"CHASTNEY","Rebecca","F",2002,"U12","WM","BSA",999.99]
[21055,"CHEADLE","Emily","F",1999,"U16",null,"K",999.99]
[21437,"CHEADLE","Jessica","F",2001,"U14",null,"K",999.99]
[21059,"CHMIELOWSKA","Claudia","F",1998,"U16","HEM","K",999.99]
[21521,"CHMIELOWSKA","Julia","F",1996,"U18","HEM",null,999.99]
[21341,"CHRISTOPHER","Rebecca","F",1998,"U16","SPR","SPR",999.99]
[20810,"CLARKE","Holly","F",2003,"U12","HEM","HEM",999.99]
[31335,"CLARKE","Jemma","F",2001,"U14","LSR",null,163.29]
[18316,"CLISSOLD","Honor","F",1997,"U18","EVO","EVO",159.61000000000001]
[20791,"COATES","Darcie","F",2000,"U14","AVO","BSA",999.99]
[21073,"COATES","Imogen","F",1998,"U16",null,"HEM",999.99]
[20139,"COE","Megan","F",1997,"U18","NOR",null,45.23]
[20352,"COLLEY","Isabella","F",1999,"U16","SPR","SPR",999.99]
[31240,"COLLIAR","Emilie","F",1999,"U16","SSC",null,999.99]
[21358,"COOK","Ellie","F",1998,"U16","GLO",null,999.99]
[18676,"COOPER","Georgina","F",1996,"U18","GLO","DRA",59.32]
[19770,"COOPER","Izabelle","F",2001,"U14","SAS","BSA",999.99]
[19628,"COOPER","Lauren","F",1999,"U16","SAS","SAS",999.99]
[19137,"COOPER","Yasmin","F",1998,"U16","HEM","BSA",28.37]
[20842,"CORRIGAN","Caroline","F",2002,"U12","SPR","SPR",999.99]
[31433,"CRANE","Joanna","F",2001,"U14","CSC",null,999.99]
[31242,"CRANE","Rachel","F",1998,"U16","CSC",null,999.99]
[20631,"CRANE-ROBINSON","Freddie","F",1998,"U16",null,"DHO",999.99]
[21538,"CRANFIELD","Lizzie","F",1982,"MAS",null,null,999.99]
[21584,"CRICHTON-STUART","Lola","F",1999,"U16",null,null,999.99]
[31419,"CROOKS","Georgia","F",2002,"U12","BSC",null,999.99]
[31420,"CROOKS","Mhairi","F",2002,"U12","BSC",null,999.99]
[31499,"CROSS","Jemima","F",2003,"U12","SSC",null,999.99]
[21177,"CULSHAW","Katie","F",1996,"U18","SRR",null,999.99]
[31205,"CUNNINGHAM","Hannah","F",1999,"U16","BSC",null,287.72000000000003]
[31219,"CURRIE","Poppy","F",2000,"U14","MUC","GSC",999.99]
[19773,"CURTIS","Marie","F",1997,"U18",null,"HEM",87.33]
[20800,"DALE","Safia","F",2000,"U14","DHO","DHO",999.99]
[20256,"DANENBERGSONS","Shana","F",2000,"U14","HEM","EVO",97.63]
[19531,"DANIELS","Daisi","F",2002,"U12","CHL","EVO",999.99]
[19414,"DANNATT","Gemma","F",1996,"U18","GLO","DRA",63.4]
[30759,"DAULBY","Hannah","F",1995,"U21","SSC","LSR",99.57]
[31317,"DAVIDSON-MCQUEEN","Cassie","F",2002,"U12","LSR",null,999.99]
[41488,"DAVIES","Charlotte","F",1991,"SEN","GLO","DRA",7.5]
[21575,"DAVIES","Esmie","F",1999,"U16",null,null,999.99]
[17936,"DAVIES","Jenny","F",1996,"U18","ASR",null,11.94]
[20890,"DAVIES","Megan","F",2001,"U14","HEM","K",218.63]
[20069,"DAVIES-NASH","Yasmin","F",1997,"U18","BSA","BSA",999.99]
[21176,"DAVIGHI","Lucia","F",1999,"U16",null,"HEM",302.3]
[31469,"DAVIS","Meghan","F",2000,"U14",null,null,999.99]
[17435,"DAWSON","Laura","F",1993,"U21","OVL",null,182.61]
[31409,"DEANE","Annabella","F",2000,"U14","LSR",null,999.99]
[31408,"DEANE","Esme","F",2002,"U12","LSR",null,999.99]
[20178,"DEIGHTON","Avelline","F",1967,"MAS","HEM","SAS",257.02]
[17888,"DELLER","Lucy","F",1996,"U18","MID",null,15.68]
[18632,"DENNING","Clare","F",1998,"U16",null,"BSA",999.99]
[21148,"DENT","Hollie","F",2004,"U10","RAV","RAV",999.99]
[31466,"DICKSON","Sophie","F",1999,"U16","CSC",null,999.99]
[21331,"DILWORTH","Lucinda","F",1998,"U16",null,"BSA",999.99]
[13027,"DIXON","Kirsty","F",1992,"SEN","SPR","SPR",999.99]
[19573,"DOHERTY","Robyn","F",1996,"U18","MID",null,530.29]
[31104,"DOUGLAS","Abigail","F",1999,"U16","SSC","MUC",72.319999999999993]
[21124,"DRUMMOND","Elinor","F",2003,"U12","TEL","TEL",999.99]
[21094,"DRUMMOND","Isabel","F",2001,"U14","TEL","TEL",297.13]
[31262,"DUNCAN","Martha","F",1999,"U16","LSR",null,320.68]
[20141,"EATON","Freya","F",1998,"U16","AMB","AMB",111.8]
[20618,"EAVES","Eleanor","F",2003,"U12","PND",null,999.99]
[19155,"EDEN","Katie","F",1996,"U18","TOQ","BSA",84.81]
[21012,"EDWARDS","Issy","F",2001,"U14",null,null,399.22]
[21013,"EDWARDS","Lucy","F",2001,"U14",null,null,464.59]
[19165,"ELGY","Geraldine","F",1954,"MAS","MID",null,275.20999999999998]
[21017,"ELLIFF","Alexa","F",2003,"U12","VIK",null,999.99]
[31081,"ENGLAND","Isabella","F",2000,"U14","SSC",null,999.99]
[31080,"ENGLAND","Jessica","F",1998,"U16","SSC",null,499.2]
[13711,"ESPINOSA","Stephanie","F",1993,"U21","SPR","SPR",646.95000000000005]
[13766,"EVANS","Emily","F",1994,"U21","K","AMB",2.5]
[20701,"FELLOWS","Charley","F",2003,"U12","TEL","TEL",999.99]
[21202,"FENWICK","Thea","F",2001,"U14","SZR","SZR",999.99]
[30964,"FERRIER","Rachael","F",1996,"U18","GSR","SSC",23.01]
[21486,"FISHER","Charlotte","F",2000,"U14",null,"ELI",999.99]
[20576,"FITZGERALD","Jordan","F",1996,"U18",null,null,999.99]
[31454,"FITZPATRICK","Molly","F",2003,"U12","GSR",null,999.99]
[31091,"FLEMING","Alex","F",1999,"U16","SSC",null,265.3]
[20528,"FLUCK","Catrin","F",1998,"U16","SPR",null,999.99]
[20856,"FOSTER","Olivia","F",2001,"U14","SPR","SPR",129]
[20855,"FOSTER","Sophie","F",2003,"U12","SPR","SPR",999.99]
[31226,"FOWLER","Isla","F",2000,"U14","SSR","GSC",284.24]
[20674,"FRANCIS","Alexandra","F",1998,"U16","SMK","SMK",194.16]
[20675,"FRANCIS","Francesca","F",1996,"U18","SMK","SMK",999.99]
[14942,"FREEZE","Danielle","F",1990,"SEN","BRO",null,51.68]
[20614,"FRYERS","Charlotte","F",1999,"U16",null,"BSA",999.99]
[30500,"GARDINER","Carla-Marina","F",1989,"SEN","EDS",null,17.16]
[20345,"GARMENT","Harriett","F",2000,"U14","WGC","HEM",388.18]
[30866,"GARVIE","Amber","F",1998,"U16","GDN",null,236.06]
[21182,"GAY","Caroline","F",2003,"U12","HEM","DHO",999.99]
[21183,"GAY","Catherine","F",2003,"U12","HEM","DHO",999.99]
[21181,"GAY","Elizabeth","F",1999,"U16","HEM","DHO",131.97999999999999]
[31264,"GIBB","Eva","F",2000,"U14","LSR",null,392.07]
[31258,"GIBB","Tabitha","F",2000,"U14","LSR",null,514.86]
[20868,"GIBBONS","Molly-Jo","F",2001,"U14","SPR","SPR",999.99]
[31381,"GILMOUR","Amelie","F",2002,"U12","MUC",null,999.99]
[19001,"GLASGOW","Sarah","F",2001,"U14","SMK","AMB",170]
[21007,"GLASSBROOK","Amy","F",2002,"U12",null,"CHL",999.99]
[30850,"GLOISTEIN","Helen","F",1996,"U18","MUC","SSC",137.31]
[41007,"GODDARD","Emily","F",1987,"SEN","GLO","DRA",25.98]
[20861,"GODDARD-JONES","Bryony","F",2001,"U14","SLP","SLP",116.58]
[19535,"GORDON","Maya","F",1995,"U21",null,"K",999.99]
[41910,"GORRINGE","Cerys","F",2000,"U14","IMP",null,999.99]
[41911,"GORRINGE","Giselle","F",2003,"U12","IMP",null,999.99]
[17747,"GOULD","Charlotte","F",1992,"SEN","TEL","TEL",0.87]
[17972,"GOULD","Georgina","F",1994,"U21","TEL","TEL",41]
[21053,"GRANT","Isabelle","F",2003,"U12",null,"BSA",999.99]
[31239,"GRAY","Hannah","F",2000,"U14","ASC",null,999.99]
[17439,"GREASBY","Alexandra","F",1994,"U21","HEM",null,93.22]
[19275,"GREAVES","Rebecca","F",1999,"U16","CHL","EVO",179.82]
[17689,"GREENBANK","Kelly","F",1996,"U18","TEL","TEL",66.599999999999994]
[13814,"GREENHALGH","Eloise","F",1993,"U21","SPR","SPR",27.08]
[20391,"GRIFFITHS","Inez","F",1995,"U21","SHK",null,101.81]
[30633,"GUEST","Charlotte","F",1993,"U21","SSC","BSA",108.15]
[30779,"GUEST","Katharine","F",1995,"U21","SSC","BSA",296.33]
[30920,"GUEST","Kirsty","F",1997,"U18","SSC","BSA",549.79]
[20718,"HADLEY","Rebecca","F",2004,"U10","SMK",null,999.99]
[21361,"HAIGH","Lucy","F",2000,"U14",null,null,999.99]
[21360,"HAIGH","Sarah","F",1997,"U18",null,null,999.99]
[41274,"HALES","Alice","F",1992,"SEN","CAR","DRA",0.15]
[21587,"HALES","Madeleine","F",2003,"U12","SPR",null,999.99]
[20936,"HALL","Maria","F",1995,"U21","LIO","LIO",999.99]
[41705,"HALLETT","Georgia","F",1996,"U18","CAR","DRA",29.85]
[18617,"HANCOCK","Maxine","F",1997,"U18","MID","SMK",124.82]
[14237,"HANDFORD-STYRING","Hannah","F",1996,"U18","PPS","PPS",999.99]
[21428,"HARE","Sasha","F",1996,"U18","TOQ","TOQ",999.99]
[21301,"HARRISON","Louise","F",1994,"U21","PND","PND",999.99]
[21561,"HARROGATE-BRAMLEY","Cheryl","F",1962,"MAS","RAV","RAV",999.99]
[31229,"HARTE","Giulia","F",1996,"U18","THR",null,999.99]
[30848,"HARTE","Natalia","F",1992,"SEN","THR",null,50.91]
[4944,"HATCHER","Kirsty","F",1991,"SEN","CAR","K",32.03]
[17970,"HATHWAY","Ellen","F",1994,"U21","LSU","ASR",7.5]
[18660,"HATHWAY","Isabella","F",1997,"U18","ASR",null,39.71]
[19367,"HAWKINS-HOOKER","Laetitia","F",1996,"U18","SPR","SPR",343.25]
[31483,"HAY","Ailsa","F",2004,"U10","SSC","SLR",999.99]
[19126,"HEGINBOTHAM","Erika","F",1998,"U16",null,"BSA",134.80000000000001]
[21569,"HEMMING","Anya","F",2005,"U10","MID",null,999.99]
[19159,"HENDERSON","Anna","F",1998,"U16","HEM","AMB",7.5]
[31211,"HENDERSON","Caitlin","F",1999,"U16","BSC",null,261.58]
[21163,"HENDLEY","Sian","F",2000,"U14","LIO","LIO",999.99]
[18863,"HENERY","Deborah","F",1997,"U18","SHK","LIO",28.17]
[31246,"HEWISON","Megan","F",2001,"U14","CSC","ASC",999.99]
[21216,"HEYMOZ","Louise","F",2002,"U12","WGC",null,999.99]
[21444,"HINDES","Chloe","F",1996,"U18",null,"AMB",999.99]
[20789,"HINTON","Georgina","F",2001,"U14","HEM","SPR",337.12]
[21284,"HINTON","Tilly","F",2004,"U10","HEM","SPR",999.99]
[21580,"HOFFMAN-LITTLE","Jolie","F",2005,"U10",null,null,999.99]
[41480,"HOPKINS","Emily","F",1994,"U21","CAR","DRA",7.92]
[31298,"HORNSBY","Vaila","F",1997,"U18","CSC",null,999.99]
[31416,"HORSBURGH","Anna","F",2002,"U12","SSC","LSR",999.99]
[21199,"HORTON","Siena","F",2002,"U12","SMK","SMK",999.99]
[20208,"HOSKINS","Isabella","F",1999,"U16","GLO","BSA",276.67]
[21530,"HUFF","Sarah","F",1999,"U16","SPR",null,999.99]
[20971,"HUGEC","Nadine","F",2002,"U12","SAS","SAS",999.99]
[20972,"HUGEC","Nicole","F",2000,"U14","SAS","SAS",789.18]
[13840,"HUGHES","Rachel","F",1992,"SEN",null,null,147.51]
[21549,"HUGHES","Rachel","F",1997,"U18","SUR","SUR",999.99]
[31071,"HULBERT","Jemma","F",1996,"U18","SSC","MUC",173.62]
[31070,"HULBERT","Lucy","F",1998,"U16","SSC","MUC",245.79]
[31077,"HUNSLEY","Miriam","F",1995,"U21","SSC","LSR",226.54]
[21556,"HUNT","Hannah","F",1997,"U18","TSD","TSD",999.99]
[21047,"HUTCHINSON","Elyse","F",1999,"U16",null,null,999.99]
[21535,"HYDE","Augusta","F",2000,"U14","ASR","SPR",999.99]
[41816,"HYETT","Georgia","F",2000,"U14","CAR","DRA",132.79]
[20332,"IGLINA","Sofia","F",1997,"U18","BSA","BSA",999.99]
[31327,"INWOOD","Morgan","F",2001,"U14","LSR",null,268.61]
[21024,"JACKSON","Ellie","F",2002,"U12","TEL","TEL",999.99]
[31366,"JACKSON","Isla","F",2002,"U12","SSC",null,999.99]
[30872,"JACKSON","Laura","F",1997,"U18","SSC","GSR",55.07]
[19677,"JACKSON","Lois","F",2001,"U14","RAV","AMB",77.94]
[19676,"JACKSON","Millie","F",1999,"U16","RAV",null,42.11]
[21570,"JALLAT","Annabel","F",2003,"U12",null,null,999.99]
[18560,"JAMES","Sophie","F",1995,"U21","KYN","SAS",111.12]
[31266,"JAMIESON","Emily","F",2000,"U14","SSC",null,272.3]
[21509,"JEFFERSON","Jemima","F",2004,"U10",null,"LIO",999.99]
[21510,"JEFFERSON","Maisie","F",2003,"U12",null,"LIO",999.99]
[31035,"JEFFRAY","Claire","F",1977,"MAS","SSC",null,989]
[41623,"JENKINS","Megan","F",1998,"U16","NOR","BSA",19.97]
[41622,"JENKINS","Nia","F",1995,"U21","NOR","BSA",41.4]
[31343,"JOHNSTONE","Logan","F",2000,"U14","LSR",null,426.61]
[17488,"KAHVE","Lucy","F",1998,"U16","AMB","AMB",999.99]
[21150,"KARAVASILI","Zoe","F",1997,"U18",null,null,73.209999999999994]
[31382,"KELLY","Iona","F",2002,"U12",null,null,999.99]
[19011,"KEYS","Georgia","F",2001,"U14","WYC","EVO",117.88]
[19494,"KIEMLE-GABBAY","Julia","F",1994,"U21",null,"CHL",101.34]
[19493,"KIEMLE-GABBAY","Laura","F",1992,"SEN",null,"CHL",167.83]
[17692,"KIRK","Isabel","F",1997,"U18","BSA","BSA",147.21]
[18328,"KOCK","Evangeline","F",1994,"U21","SPR","SPR",148.35]
[18318,"KRAHELSKI","Alicja","F",2000,"U14","HEM","TEL",76.069999999999993]
[21310,"KROLL","Ann","F",1971,"MAS","NSC",null,999.99]
[21375,"LAMARRE","Olivia","F",1995,"U21",null,null,999.99]
[14746,"LAMBDEN","Sarah","F",1995,"U21","GLO","DRA",7.5]
[31394,"LAMOND","Emma","F",2002,"U12","SSC",null,999.99]
[31498,"LANGMUIR","Nula","F",1999,"U16","SSC",null,999.99]
[41711,"LARGE","Sophie","F",2001,"U14",null,null,999.99]
[31478,"LATTO","Rosamund","F",1999,"U16","CSC",null,999.99]
[31100,"LAWRIE","Alannah","F",1999,"U16","SSC","ASC",57.12]
[19503,"LAWSON-TILLEY","Sarah","F",1994,"U21",null,"DRA",999.99]
[18913,"LEE","Francesca","F",1998,"U16","RAV","SSC",10.5]
[41577,"LEE","Jane","F",1954,"MAS","MID",null,533.71]
[20620,"LEGEAIS","Marion","F",1998,"U16",null,"BSA",999.99]
[21074,"LEONARD","Heather","F",1973,"MAS",null,"SMK",389.89]
[19152,"LEWINGTON","Caitlin","F",1999,"U16","BRO",null,99.43]
[20097,"LEWIS","Isabelle","F",1996,"U18",null,null,999.99]
[19498,"LILLYWHITE","Alexandra","F",1999,"U16","AMB","AMB",55.49]
[19831,"LISMORE","Sophie","F",1999,"U16",null,"DHO",999.99]
[21507,"LITTLE","Sophie","F",2001,"U14","VIK","ELI",999.99]
[31257,"LIVERSIDGE","Lauren","F",2000,"U14","GDN",null,999.99]
[20585,"LIVESEY","Chloe","F",2002,"U12","IMP",null,999.99]
[17431,"LLEWELLYN","Joanna","F",1991,"SEN","BRO","SMK",207.75]
[19735,"LONG","Phoebe","F",1998,"U16","HEM","AMB",138.79]
[9107,"LONSDALE","Emma","F",1984,"SEN","KND","KND",999.99]
[19462,"LOVE TWELVES","Alice","F",1995,"U21","WM","WM",999.99]
[14994,"MACAULAY","Alice","F",1995,"U21","AMB","AMB",188.97]
[14806,"MACEY","Abbie","F",1994,"U21","CHL",null,96.61]
[31346,"MACKENZIE","Eve","F",2000,"U14","BSC",null,999.99]
[30542,"MACKINNON","Christy","F",1992,"SEN","SSC",null,106.43]
[31480,"MACLEAN","Anya","F",2004,"U10","BSC",null,999.99]
[31415,"MACNAB","Alice","F",1997,"U18","LSR",null,384.08]
[31200,"MACPHERSON","Claire","F",2000,"U14","LSR","SSC",274.3]
[19069,"MAIKLEM","Jessica","F",1996,"U18","SPR","SPR",999.99]
[20635,"MAIKLEM","Melissa","F",1999,"U16","SPR","SPR",999.99]
[31254,"MANSON","Cameron","F",1998,"U16","BSA","SSC",31.09]
[31383,"MARDEN","Catriona","F",2002,"U12","MUC",null,999.99]
[18684,"MARMENT","Robyn","F",2000,"U14","SLP","SLP",181.87]
[31332,"MARTIN","Annabelle","F",2003,"U12","LSR",null,999.99]
[31330,"MARTIN","Rebecca","F",1999,"U16","LSR",null,323.33999999999997]
[18740,"MARTIN-HARRINGTON","Beatrice","F",1997,"U18","GLO","BSA",50.24]
[31502,"MATTHEW","Katir","F",2001,"U14","CSC",null,999.99]
[21014,"MAYHEW","Jessica","F",2000,"U14","MID","MID",124.09]
[31442,"MAYLAND","Holly","F",2002,"U12","BSC",null,999.99]
[19753,"MAZE-BROWN","Riley","F",2002,"U12","SMK",null,999.99]
[31227,"MCCALL","Catriona","F",2004,"U10","SSC",null,999.99]
[30353,"MCGHEE","Lyndsey","F",1990,"SEN","SSC",null,999.99]
[20173,"MCGREGOR-OGDEN","Holly","F",2003,"U12","CHL","DRA",999.99]
[31423,"MCKEY","Holly","F",2003,"U12","LSR",null,999.99]
[31275,"MCKINLAY","Victoria","F",2000,"U14","GSR",null,144.94999999999999]
[30293,"MCLEOD","Eilidh","F",1990,"SEN","SSC",null,200.19]
[31495,"MCWILLIAM","Kirsty","F",1998,"U16","BSC",null,999.99]
[18382,"MEAD","Darcie","F",1996,"U18","EVO","EVO",37.69]
[20307,"MIDDLETON","Amy","F",1995,"U21","MID",null,69.36]
[21205,"MIDSON","Molly","F",2003,"U12","FLK",null,999.99]
[21204,"MIDSON","Poppy","F",2001,"U14","FLK",null,240.04]
[18931,"MILES","Joanna","F",1993,"U21","WGC",null,68.61]
[21277,"MILLARD","Paige","F",2002,"U12",null,null,999.99]
[14103,"MILLER","Violet","F",1995,"U21",null,"AMB",999.99]
[31291,"MIRANDA-JAMES","Charlotte","F",2002,"U12","SSC",null,999.99]
[19260,"MITCHELL","Olivia","F",2001,"U14","BSA","BSA",83.53]
[21518,"MOONEY","Philippa","F",1999,"U16",null,"DHO",999.99]
[21357,"MOORE","Danica","F",2000,"U14","BRO",null,999.99]
[31476,"MORISETTI","Eilidh","F",2002,"U12","LSR",null,999.99]
[30667,"MORRIS","Sarah","F",1994,"U21","LSR",null,109.58]
[31153,"MORRISON","Rachael","F",1999,"U16","GDN",null,999.99]
[31188,"MORRISSEY","Anna","F",1990,"SEN","STC",null,999.99]
[19338,"MORTON","Sofia","F",1996,"U18","CHL","DRA",54.46]
[17829,"MOYNIHAN","India","F",1997,"U18","K","K",999.99]
[31426,"MUIR","Fiona","F",2006,"U8","ASC","DUN",999.99]
[31425,"MUIR","Kirsty","F",2004,"U10","ASC","DUN",999.99]
[19679,"MURRAY","Louisa","F",1994,"U21",null,"LIO",999.99]
[20731,"NEASHAM","Grace","F",1998,"U16","SMK",null,204.53]
[21356,"NEASHAM","Laurie","F",2000,"U14","SMK","SMK",999.99]
[31468,"NEGRI","Daniella","F",2000,"U14","CSC",null,999.99]
[30730,"NELSON","Helen","F",1994,"U21","SSC",null,491.11]
[20696,"NEWBOULT","Helena","F",1998,"U16","MID","MID",30.53]
[20781,"NEWBOULT","Laura","F",1995,"U21","MID",null,357.45]
[11944,"NEWMAN","Lucy","F",1979,"MAS","HEM",null,82.07]
[21006,"NEYRINCK","Camille","F",1998,"U16",null,null,999.99]
[21586,"NOKES","Millie","F",2002,"U12",null,null,999.99]
[21583,"NOKES","Sacha","F",2000,"U14",null,null,999.99]
[20809,"O'BRIEN","Matilda","F",2004,"U10","MID",null,999.99]
[14747,"OGDEN","Sophie","F",1996,"U18","CHL","DRA",10.029999999999999]
[8273,"ONDRUSZ","Mary","F",1958,"MAS","BRO","BRO",999.99]
[18793,"O'NEILL","Ella","F",1997,"U18","SMK","TEL",65.13]
[20945,"O'NEILL","Maeve","F",2003,"U12",null,"BSA",999.99]
[21441,"ORCHARD","Ellie","F",2002,"U12","TSN",null,999.99]
[31252,"OSBORNE","Jennifer","F",1991,"SEN","GSR",null,999.99]
[21235,"OUGRIN","Anastasia","F",2002,"U12","SPR","SPR",999.99]
[21528,"PANTELI","Charlotte","F",1999,"U16",null,null,999.99]
[14383,"PARKER","Hannah","F",1989,"SEN","TSD","TSD",58.17]
[14382,"PARKER","Olivia","F",1993,"U21","LIO","LIO",50.49]
[30749,"PATTERSON","Aileen","F",1993,"U21","SSC",null,28.82]
[21363,"PATTON","harriet","F",1999,"U16",null,"SPR",999.99]
[14686,"PEEL","Lucy","F",1992,"SEN","BSA","BSA",38.79]
[19197,"PENHALE","Emma","F",2000,"U14","SLP","SLP",117.29]
[31303,"PETERS","Ella","F",1994,"U21","BRM",null,999.99]
[19002,"PETERS","Emma","F",1997,"U18","LIO","TEL",33.74]
[18505,"PEXTON","Georgia","F",2000,"U14","LIO","LIO",134.47]
[31440,"PFLEGER","Isabella","F",2006,"U8","GDN",null,999.99]
[20690,"PHILLIPS","Charlotte","F",1990,"SEN","BRO",null,999.99]
[17412,"POCOCK","Elena","F",1993,"U21",null,"AMB",999.99]
[17413,"POCOCK","Emily","F",1992,"SEN","AMB","AMB",85.6]
[20908,"POINTS","Madeline","F",2002,"U12",null,"BSA",999.99]
[41858,"POTTER","Maisie","F",1997,"U18",null,null,999.99]
[19781,"POTTER","Shannon","F",2001,"U14","CHL","DRA",92.18]
[18349,"POWELL","Caroline","F",1994,"U21","HEM","K",8.77]
[41663,"POWER","Rebecca","F",2000,"U14","SCI",null,999.99]
[31209,"PRESSLIE","Jessica","F",2000,"U14","GDN",null,169.03]
[31447,"PRESSLIE","Sophie","F",2003,"U12","GDN",null,999.99]
[19644,"PRETTY","Antonia","F",1996,"U18","TSN",null,40.24]
[30927,"PRICE","Rhona","F",1999,"U16","SSC","GSR",115.05]
[31418,"PURCELL","Sophia","F",1997,"U18","LSR",null,432.63]
[21392,"RAMPTON","Clementine","F",2001,"U14",null,"BSA",999.99]
[31138,"RANKIN","Shona","F",2003,"U12","BSA","CSC",999.99]
[21410,"RASHCHUPKINA","Anastasia","F",1998,"U16",null,"DHO",999.99]
[31207,"RASMUSEN","Victoria","F",2000,"U14","GDN",null,999.99]
[30864,"RATTRAY","Aleysha","F",1996,"U18","BRM",null,145.24]
[31140,"RAY","Kathleen","F",1999,"U16","GDN",null,999.99]
[31323,"REED","Jemima","F",2003,"U12",null,null,999.99]
[19459,"REID","Judy","F",1960,"MAS","HEM","HEM",105.55]
[17803,"RICHARDS","Camille","F",1998,"U16",null,"BSA",999.99]
[14798,"RICHARDS","Melanie","F",1995,"U21",null,"BSA",999.99]
[20720,"RILEY","Ilana","F",2004,"U10","SMK","SMK",999.99]
[18649,"RILEY","Megan","F",2000,"U14","SMK","K",75.069999999999993]
[30767,"RITCHIE","Nicole","F",1995,"U21","GSR",null,7.5]
[21394,"ROGERS","Anna","F",2001,"U14","BSA","BSA",999.99]
[13952,"ROGERS","Rachelle","F",1995,"U21","AMB","AMB",999.99]
[19093,"ROLPH","Sophie","F",1995,"U21","HEM","IMP",54.87]
[41952,"RONAN","Eleanor","F",2000,"U14","SCI","CHL",999.99]
[19739,"ROSE","Rebecca","F",2002,"U12","SMK",null,999.99]
[31438,"ROSS","Iona","F",2003,"U12","SSC","MUC",999.99]
[18481,"ROTH","Phoebe","F",1994,"U21",null,"DHO",999.99]
[31359,"RUSHWORTH","Morven","F",2000,"U14","SSC",null,999.99]
[21365,"RUSSELL","Claire","F",1994,"U21","NOR",null,999.99]
[30867,"RYAN","Eilidh","F",2000,"U14","GSR",null,98.29]
[20742,"SAMPSON","Melissa","F",1971,"MAS","NOR","NOR",141.4]
[31135,"SANDFORD","Eliza","F",1996,"U18","SSC",null,292]
[31130,"SANDLAND","Louise","F",2001,"U14","GSR",null,187.03]
[13376,"SCILIMATI","Tania","F",1986,"SEN",null,"LSC",999.99]
[31417,"SCOTT","Aimee","F",1998,"U16","BSC",null,999.99]
[31173,"SCOTT","Lucy","F",1999,"U16","BSC",null,160.35]
[20496,"SCRANAGE-HARRISON","Eleanor","F",2002,"U12","HEM",null,999.99]
[17893,"SEELEY","Grace","F",1995,"U21","RAV","DHO",388.86]
[17892,"SEELEY","Julia","F",1993,"U21","RAV","DHO",401.59]
[21158,"SELF","Rebekah","F",1995,"U21","TSD",null,999.99]
[14962,"SHAILES","Polly","F",1996,"U18","NOR","BSA",79.11]
[19833,"SHAKESHAFT","Hannah","F",1996,"U18","MID","SMK",116.91]
[31350,"SHARP","Charlotte","F",2002,"U12","BSC",null,999.99]
[31349,"SHARP","Melissa","F",2004,"U10","BSC",null,999.99]
[21558,"SHEPHERDSON","Lauren","F",2003,"U12","TSD",null,999.99]
[20599,"SHERING","Nicole","F",2000,"U14","HEM","BSA",90.82]
[20655,"SHOOTER","Hope","F",1993,"U21","HEM","HEM",162.78]
[17787,"SHRIMPTON","Charlotte","F",1994,"U21","TEL","TEL",37]
[12357,"SIMONDS","Franki","F",1990,"SEN",null,"K",14.75]
[31127,"SKINNER","Caroline","F",1998,"U16","SSC",null,278.67]
[31353,"SKINNER","Eilidh","F",2001,"U14","LSR","SSC",421.05]
[20337,"SKIPPER","Megan","F",2001,"U14","NOR","NOR",181.96]
[19016,"SKIPPER","Sophie","F",1995,"U21","NOR","NOR",20.78]
[21403,"SLADE","Hattie","F",1998,"U16",null,"BSA",999.99]
[21404,"SLADE","Isobel","F",1999,"U16",null,"BSA",999.99]
[18878,"SLATER","Ella","F",1991,"SEN","LSU","LSU",43.8]
[21171,"SLATER","Grace","F",2001,"U14","SHK",null,506.11]
[19450,"SLATTERY","Rachel","F",1968,"MAS","KND",null,999.99]
[20602,"SMIDT-WALLIS","Brielle","F",2000,"U14",null,null,258.60000000000002]
[31362,"SMITH","Eilidh","F",1999,"U16","MUC",null,338.11]
[30695,"SMITH","Kate","F",1993,"U21","SSC","LSR",356.02]
[20840,"SNOW","Elise","F",1999,"U16","HEM",null,83.15]
[17752,"SOMAN","Bethany","F",1997,"U18","SMK","AMB",76.14]
[20134,"SOMAN","Mia","F",2002,"U12","SMK",null,999.99]
[19942,"SOUTH","Beth","F",1993,"U21","TOQ","EXD",86.34]
[20754,"SPANTON","Jessica","F",1997,"U18","NOR",null,40.75]
[21568,"SPEARPOINT WALSH","Emily","F",1996,"U18","OVL","OVL",999.99]
[31471,"SPENCE","Madison","F",2005,"U10","LSR",null,999.99]
[31344,"SPENCE","Rachel","F",2003,"U12","LSR",null,999.99]
[19053,"STAFFORD","Emma","F",1993,"U21","SOU","SAS",52.83]
[17717,"STAMMERS","Sophie","F",1998,"U16","DHO","DHO",999.99]
[31504,"STEPHEN","Sadie","F",2000,"U14","GDN",null,999.99]
[18472,"STEVENSON","Elizabeth","F",1990,"SEN",null,"K",999.99]
[31430,"STEWART","Honor","F",2000,"U14","LSR",null,999.99]
[31076,"STILL","Ella","F",1997,"U18","GDN",null,121.08]
[31088,"STILL","Ruby","F",1999,"U16","GDN","ASC",237.48]
[31405,"STOBART","Olivia","F",2000,"U14","LSR",null,999.99]
[21382,"STOCKER","Anastacia","F",2003,"U12","TSN",null,999.99]
[21378,"STOCKER","Natasha","F",2001,"U14","TSN",null,999.99]
[21397,"STOCKER","Sophie","F",2005,"U10","TSN","TSN",999.99]
[17154,"SUMMERHAYES","Katie","F",1995,"U21","SHK",null,999.99]
[18099,"SUMMERHAYES","Molly","F",1997,"U18","SHK",null,999.99]
[19623,"SYMONS","Rachel","F",1993,"U21","CHT",null,30.1]
[21355,"TAPSELL","Charlotte","F",2001,"U14","FLK","K",999.99]
[21520,"TAPSON","Ella","F",1998,"U16","DHO","DHO",999.99]
[20622,"TARANTELLI","Laudomia","F",2003,"U12",null,null,999.99]
[18011,"TAYLOR","Alice","F",1997,"U18","K","AMB",999.99]
[17702,"TAYLOR","Imogen","F",1994,"U21","AMB","AMB",127.49]
[18235,"TAYLOR","Isadora","F",1997,"U18","AMB","AMB",195.62]
[31007,"TAYLOR","Kate","F",1997,"U18","GSR","SSC",53.58]
[31237,"TAYLOR","Rhiannon","F",1998,"U16","GDN",null,274.3]
[31463,"TAYLOR","Rhona","F",2002,"U12","SSC",null,999.99]
[21430,"TAYLOR SELT","Molly","F",1996,"U18","VIK","SUF",999.99]
[21261,"TAYLOR-TIPTON","Ella","F",2004,"U10","FF","FF-",999.99]
[14393,"THEXTON","Heather","F",1990,"SEN","KND",null,999.99]
[18033,"THOMAS","Elisabeth","F",1996,"U18","MID","K",60.58]
[19211,"THOMAS","Kerry","F",1995,"U21","TOQ",null,94.66]
[12024,"THOMAS","Louise","F",1988,"SEN","SPR","SPR",492.69]
[21018,"THOMPSON","Lara","F",2000,"U14",null,null,999.99]
[21519,"THOMPSON","Tilly","F",1999,"U16","SPR","SPR",999.99]
[30982,"THOMSON","Sarah","F",1996,"U18","SSC",null,273.14999999999998]
[20826,"THURSTON","Elizabeth","F",1999,"U16","WCS","K",999.99]
[30624,"TILLEY","Alexandra","F",1993,"U21","GDN","BSA",36.21]
[21272,"TILLEY","Katherine","F",2001,"U14",null,"DRA",999.99]
[30904,"TODD","Alison","F",1997,"U18","SSC","MUC",84.26]
[17951,"TODD-SAUNDERS","Helen","F",1999,"U16",null,"DHO",999.99]
[20813,"TOH","Isabel","F",2000,"U14","HEM","HEM",999.99]
[19213,"TONGE","Charlotte","F",1994,"U21","TOQ",null,56.05]
[20669,"TREUGE","Lauren","F",2003,"U12","MID",null,999.99]
[20643,"TREW","Eleanor","F",1999,"U16","HEM","K",111.37]
[20644,"TREW","Isobel","F",1999,"U16","HEM","K",151.54]
[31134,"TURNER","Jennifer","F",2001,"U14","BSC",null,253.6]
[21496,"TURNER","Lucy-May","F",1999,"U16","VIK","ELI",999.99]
[5480,"TURNOCK","Kerry","F",1972,"MAS","HEM",null,50.96]
[19986,"USHER","Annie","F",1997,"U18","ASR","DRA",21.63]
[18933,"VALE","Lauren","F",2001,"U14","BRO",null,150.49]
[18934,"VALE","Nikkie","F",1994,"U21","CHT",null,64.89]
[21564,"VALENTINE","Ella","F",2000,"U14",null,null,999.99]
[17276,"VAN DE WIEL","Piera","F",1994,"U21","K","K",999.99]
[20634,"VAN VREDENBURCH","Ella","F",1998,"U16",null,"K",999.99]
[20573,"VEGTING","Amelia","F",1997,"U18",null,null,999.99]
[21096,"VERNON","Rebecca","F",2002,"U12","SPR","SPR",999.99]
[13381,"VERNON","Rowan","F",1988,"SEN","MID","MID",22.84]
[21368,"VESELY","Cordelia","F",1999,"U16","SPR","SPR",999.99]
[21376,"VESELY","Miranda","F",2002,"U12","SPR","SPR",999.99]
[21377,"VESELY","Ophelia","F",2004,"U10","SPR","SPR",999.99]
[20849,"VICKERS","Katie","F",2001,"U14","SPR","SPR",999.99]
[30768,"VINCENTI","Anna","F",1995,"U21","BSC",null,999.99]
[20600,"WAKEFIELD","Rebecca","F",1998,"U16","GLO","DRA",99.48]
[17994,"WALOFF","Sasha","F",1995,"U21","HEM","HEM",122.85]
[10660,"WALSH","Carrie","F",1963,"MAS","ALD","IMP",148.61000000000001]
[20317,"WALTON","Kirsten","F",2000,"U14","LIO","LIO",122.1]
[20741,"WALTON","Mya","F",2004,"U10","LIO","LIO",999.99]
[21349,"WANG","Alison","F",1980,"MAS","HEM","HEM",999.99]
[41693,"WARD","Ella","F",1999,"U16","CAR","AMB",66.69]
[31500,"WARD","Erin","F",2005,"U10","GSR",null,999.99]
[31464,"WARD","Isla","F",2004,"U10","GSR",null,999.99]
[41692,"WARD","Olivia","F",2000,"U14","CAR","AMB",66.56]
[20725,"WARMINGTON","Harriet","F",2002,"U12","HEM","HEM",999.99]
[21254,"WATSON","Josie","F",2004,"U10","WM","WM",999.99]
[18745,"WEBSDALE","Cara","F",1997,"U18","RAV","LIO",999.99]
[20767,"WEBSTER","Atlanta","F",2000,"U14","NOR","NOR",209.49]
[21400,"WEEKS","Ella","F",2004,"U10","SPR","SPR",999.99]
[21101,"WEEKS","Georgia","F",2001,"U14","SPR","SPR",999.99]
[21492,"WEIR","Emer","F",1999,"U16","RAV",null,999.99]
[31093,"WHATFORD","Beth","F",2001,"U14","GDN",null,210.06]
[14169,"WHEATMAN","Claire","F",1991,"SEN","NOR","IMP",247.34]
[20551,"WHEELER","Lauren","F",2001,"U14","CHL",null,298.29000000000002]
[20552,"WHEELER","Sophie","F",2003,"U12","CHL",null,999.99]
[20612,"WHITE","Victoria","F",1994,"U21",null,null,999.99]
[19094,"WHITTALL","Martha","F",1997,"U18","BRS","SAS",274.89999999999998]
[18454,"WIDDUP","Bethany","F",1995,"U21","CHL","AMB",6.01]
[18013,"WILCOCKSON","Melanie","F",1991,"SEN","PPS","LIO",69.180000000000007]
[20582,"WILLIAMS","Alice","F",1996,"U18","HEM",null,999.99]
[19128,"WILLIAMS","Beth","F",1995,"U21","FLK",null,54.35]
[30999,"WILLIAMS","Emma","F",1999,"U16","GSR","SSC",126.28]
[19832,"WILLIAMS","Grace","F",2000,"U14","TEL",null,82.09]
[18918,"WILLIAMS","Katya","F",1999,"U16",null,"K",999.99]
[18919,"WILLIAMS","Lucy","F",2000,"U14",null,"K",999.99]
[20096,"WILLIAMS","Natasha","F",2002,"U12",null,"K",999.99]
[19162,"WILLOUGHBY","Jo","F",1975,"MAS",null,"LIO",999.99]
[21210,"WILLOWS","April","F",2002,"U12","BRO",null,999.99]
[31111,"WINTHROP","Claire","F",1997,"U18","LSR",null,167.78]
[31369,"WINTHROP","Zoe","F",1999,"U16","LSR",null,317.67]
[19645,"WISEMAN","Kelly","F",1993,"U21","PND","PND",63.32]
[20210,"WOOD","Sally","F",1992,"SEN","PND","LSU",96.68]
[21060,"WOODBRIDGE","Lily","F",2000,"U14",null,"HEM",284.44]
[20639,"WOODWARD","Sarah","F",2001,"U14","HEM","AMB",156.27000000000001]
[17452,"WRIGHT","Natasha","F",1997,"U18","VIK",null,84.06]
[31260,"WYLIE","Fiona","F",2003,"U12","GSR",null,999.99]
[30911,"YEAMAN","Charlotte","F",1997,"U18","GSR",null,82.14]
[14996,"YOUNG","Amy","F",1995,"U21","AMB","AMB",148.99]
[18056,"YOUNG","Ella","F",1997,"U18","SUR","SUR",449.31]
[21578,"YUNG","Catherine","F",1998,"U16",null,"DHO",999.99]
[20930,"ABRISHAMI","Diaco","M",2002,"U12","BRO","BRS",999.99]
[13335,"ABSALOM","Daniel","M",1992,"SEN","SPR","SPR",989]
[31228,"ADAMSON","Alexander","M",1996,"U18","CSC",null,999.99]
[31477,"ADAMSON","Tristram","M",1997,"U18","CSC",null,999.99]
[20308,"AGNEW","George","M",1999,"U16",null,"K",999.99]
[18057,"AIKENS","Christopher","M",1992,"SEN","HEM","LSU",166.56]
[20160,"AIKENS","Matthew","M",1996,"U18","HEM","HEM",160.18]
[31379,"ALDRIDGE","Charlie","M",2001,"U14","MUC","SSC",244.26]
[31178,"ALEXANDER","Hamish","M",1999,"U16","GDN",null,513.79999999999995]
[18247,"ALLEN","Samuel","M",1994,"U21",null,null,169.63]
[17429,"AMOS","Aaron","M",1991,"SEN","SAS","SAS",387.77]
[19074,"AMOS","John","M",1959,"MAS","SAS","SAS",223.67]
[10372,"ANDERSON","Christopher","M",1959,"MAS","VIK","K",181.5]
[31197,"ANDERSON","Ewen","M",2000,"U14","SSC",null,237.02]
[30908,"ANDREWS","Greg","M",1997,"U18","SSC","LSR",140.41]
[31003,"ANDREWS","Keir","M",1998,"U16","SSC","LSR",233.48]
[31400,"ARNOTT","Jack","M",2002,"U12","LSR",null,999.99]
[19990,"ASHMAN","Alexander","M",2000,"U14","FLK","DHO",209.47]
[8522,"ASHTON","Simon","M",1968,"MAS","SHK",null,989]
[18475,"ASQUITH","Max","M",1996,"U18","AMB","AMB",170.76]
[8363,"ATKINSON","Michael","M",1978,"MAS",null,null,999.99]
[8362,"ATKINSON","Stuart","M",1982,"MAS",null,null,999.99]
[20878,"ATTARD","Oliver","M",1999,"U16",null,"SPR",999.99]
[21079,"ATTARD","Sam","M",2001,"U14","SPR","SPR",999.99]
[20416,"AVENT","Mathieu","M",1999,"U16",null,null,999.99]
[13784,"BAGGIO","Max","M",1995,"U21","EVO","EVO",40.08]
[20484,"BAILES","Max","M",1999,"U16",null,"ELI",169.71]
[20149,"BAILY","Luke","M",2002,"U12","SMK","SMK",999.99]
[12618,"BALDWIN","Thomas","M",1990,"SEN","NOR","BSA",464.7]
[30646,"BALL","Elliot","M",1994,"U21","SSC",null,77.3]
[30812,"BALL","Oscar","M",1996,"U18","SSC",null,137.38999999999999]
[20673,"BANNISTER","Adam","M",1999,"U16","ASR",null,166.3]
[21167,"BANNISTER","Callum","M",1998,"U16","AVO","IMP",213.5]
[2657,"BANNISTER","Simon","M",1966,"MAS","ASR",null,78.66]
[30701,"BARKER","Alexander","M",1994,"U21","SSC",null,999.99]
[31249,"BARKER","Duncan","M",2003,"U12","SSC",null,999.99]
[31099,"BARKER","Thomas","M",1999,"U16","SSC",null,231.8]
[31021,"BARLOW","Benedict","M",1994,"U21","SSC","DHO",999.99]
[31115,"BARLOW","Xavier","M",1995,"U21","SSC","DHO",999.99]
[19639,"BARTON","Daniel","M",1998,"U16","SMK","K",90.95]
[19774,"BARTON","Dominic","M",2002,"U12","SMK","K",999.99]
[20302,"BASTOW","Milo","M",1997,"U18",null,"BSA",999.99]
[3756,"BAXTER","Noel","M",1981,"MAS","CSC",null,999.99]
[21109,"BEAGLEY","Daniel","M",1998,"U16",null,null,999.99]
[19704,"BEARDMORE","Adam","M",1986,"SEN","MID","MID",29.85]
[31401,"BEARDMORE","Louis","M",2002,"U12","LSR",null,999.99]
[21504,"BEAUMONT","Jasper","M",1999,"U16","VIK","ELI",999.99]
[20974,"BEAVIS","Riley","M",2002,"U12",null,"BSA",999.99]
[11459,"BECK","Christopher","M",1989,"SEN","LIO","LIO",135.81]
[31355,"BECK","Zak","M",2001,"U14","LSR",null,421.31]
[14940,"BECKETT","David","M",1960,"MAS","NOR",null,158.03]
[20712,"BEER","Lawrence","M",1998,"U16","RAV",null,177.44]
[18704,"BEGG","Callum","M",1997,"U18","CHL","TEL",67.150000000000006]
[19683,"BENNETT","Elliott","M",2003,"U12","LIO","LIO",999.99]
[19070,"BENNETT","Russell","M",1973,"MAS","LIO","LIO",999.99]
[21224,"BENNION","James","M",1997,"U18","GLO",null,260.41000000000003]
[19208,"BERGLINDARSON","Kristofer","M",2000,"U14","CHL","CHL",91.08]
[14772,"BEVAN","Timothy","M",1994,"U21","KND",null,999.99]
[31233,"BEVERIDGE","Jamie","M",2000,"U14","LSR",null,580.46]
[21189,"BIGGS","Saul","M",1998,"U16","FLK",null,189.56]
[31287,"BILSLAND","David","M",1995,"U21","BSC",null,999.99]
[19854,"BINGHAM","Jonathan","M",1999,"U16","BWP","DHO",95.61]
[19855,"BINGHAM","Nicholas","M",2002,"U12","BWP","DHO",999.99]
[30909,"BINGHAM","Sion","M",1997,"U18","SSC","GSR",171.9]
[20997,"BIRAN","Itamar","M",1998,"U16",null,null,999.99]
[18531,"BIRD","Matthew","M",1993,"U21","SRR",null,121.19]
[18638,"BISHOP","Angus","M",1995,"U21","SHK","LIO",166.98]
[21555,"BLACK","Callum","M",2004,"U10","AVO","AVO",999.99]
[19585,"BLACK","Oliver","M",2001,"U14","PPS","DRA",203.32]
[19394,"BLACK","Philip","M",1969,"MAS","SHK","SHK",999.99]
[20851,"BLOOM","Adam","M",1973,"MAS","WCS","WCS",94.55]
[20852,"BLOOM","Ryan","M",2001,"U14","WCS","WCS",198.4]
[31461,"BOLAM","John","M",1955,"MAS","DRS",null,999.99]
[31041,"BOOTH","Harris","M",1997,"U18","BSC",null,999.99]
[19713,"BOTY","Harry","M",1997,"U18",null,"WYC",999.99]
[19565,"BOWERS","Dieter","M",1996,"U18","TEL",null,110.07]
[14294,"BOWMAN","Matthew","M",1993,"U21","SMK",null,98.26]
[20902,"BOYCOTT","Joe","M",1996,"U18","LIO","LIO",999.99]
[19685,"BRADFORD-SMITH","George","M",1994,"U21","ASR",null,190.4]
[19686,"BRADFORD-SMITH","Jack","M",1996,"U18","ASR",null,82.83]
[14391,"BREESE","Ashley","M",1996,"U18","TEL","TEL",8.19]
[17963,"BREESE","Nathan","M",1999,"U16","TEL","TEL",133.13999999999999]
[21203,"BREESE","Thomas","M",2003,"U12","TEL","TEL",999.99]
[31309,"BREMNER","Alexander","M",2001,"U14",null,null,590.46]
[31271,"BREMNER","Fin","M",1999,"U16","ASC",null,999.99]
[21218,"BRESKAL","Bailey","M",1998,"U16","WGC",null,179.69]
[20143,"BRIDGE","Dominic","M",2001,"U14","LIO","LIO",150.43]
[20144,"BRIDGE","Oliver","M",1999,"U16","LIO","LIO",123.61]
[17332,"BROOKES","Philip","M",1993,"U21",null,"SAS",191.47]
[20193,"BROWN","Cameron","M",1998,"U16","PPS","DRA",96.79]
[31132,"BROWN","Harry","M",1999,"U16","SSC",null,577.54]
[19083,"BROWN","Jack","M",1995,"U21","FLK",null,100.04]
[30830,"BROWN","Jamie","M",1996,"U18","GDN",null,549.4]
[20338,"BROWN","Jamie","M",1999,"U16",null,null,999.99]
[31290,"BROWN","Jonathan","M",1997,"U18","GDN",null,999.99]
[2743,"BROWN","Philip","M",1966,"MAS","HEM","IMP",184.18]
[31014,"BROWN","Rhys","M",1995,"U21","SSC",null,174.94]
[19397,"BROWN","Ryan.","M",1999,"U16",null,"K",999.99]
[19084,"BROWN","Thomas","M",1998,"U16","FLK",null,181]
[12584,"BRUTON","Peter","M",1989,"SEN","SPR",null,48.81]
[30906,"BUCHAN","Fraser","M",1997,"U18","SSC","BSA",63.94]
[30811,"BUCHAN","Murray","M",1991,"SEN",null,null,999.99]
[30919,"BUCHAN","Scott","M",1999,"U16","SSC","BSA",117.67]
[17380,"BUCHWISER","Lawrence","M",1995,"U21",null,null,999.99]
[14871,"BULLEN","Robert","M",1989,"SEN",null,"K",999.99]
[21063,"BULLIVANT","Peter","M",2000,"U14","BSA",null,999.99]
[10596,"BUNTON","Paul","M",1963,"MAS","CHT","CHT",132.63999999999999]
[31479,"BURKE","Luke","M",2004,"U10","GSS",null,999.99]
[31339,"BURROW","Gregor","M",2002,"U12","LSR",null,999.99]
[19755,"BURTON","Lucas","M",2000,"U14","AMB","AMB",999.99]
[21411,"BUTLER","Simon","M",1962,"MAS",null,null,999.99]
[41721,"BUTTERWORTH","Daniel","M",1996,"U18","WWS","DRA",131.56]
[41719,"BUTTERWORTH","Thomas","M",2002,"U12","WWS","DRA",999.99]
[20688,"CADMAN","Maximilian","M",1996,"U18","HEM","HEM",164]
[12971,"CADMAN","Piers","M",1991,"SEN","STS",null,80.709999999999994]
[31338,"CALDER","Lewis","M",2006,"U8","SSC",null,999.99]
[31337,"CALDER","Struan","M",2004,"U10","SSC",null,999.99]
[20832,"CALDWELL","Patrick","M",2000,"U14","SAS","SAS",368.78]
[14261,"CALVERT","John","M",1949,"MAS","ASR","ALD",291.05]
[12802,"CALVERT","Peter","M",1988,"SEN","ASR","BAS",46.7]
[31364,"CAMERON","Rory","M",2002,"U12","ASC",null,999.99]
[30793,"CAMPBELL","Andrew.","M",1995,"U21","GDN",null,230.24]
[31230,"CAMPBELL","Graeme","M",2000,"U14","GDN",null,999.99]
[21108,"CAMPBELL","Harvey","M",2003,"U12","TEL",null,999.99]
[30912,"CAMPBELL","Iain","M",1997,"U18","GDN",null,282.60000000000002]
[31427,"CAMPBELL","Lawrence","M",2000,"U14","BSC",null,999.99]
[41955,"CAMPBELL","Rory","M",1996,"U18","SCI",null,999.99]
[20590,"CARE","James","M",2002,"U12","MID",null,999.99]
[21577,"CAREY","Joshua","M",2000,"U14",null,"SZR",999.99]
[21576,"CAREY","Matthew","M",1998,"U16",null,"SZR",999.99]
[17891,"CARPENTER","Alasdair","M",1995,"U21","SPR","SPR",435.57]
[31154,"CARRUTHERS","Harry","M",1999,"U16","SSC",null,196.21]
[21107,"CARSON","Sam","M",1999,"U16","PPS","DRA",139.13]
[19196,"CASE","George","M",2001,"U14","AVO","BSA",999.99]
[20262,"CASE","Toby","M",2002,"U12","ASR","EVO",999.99]
[18880,"CASHMORE","Edward","M",2001,"U14","EXD","BSA",248.69]
[18879,"CASHMORE","William","M",1998,"U16","EXD","BSA",206.68]
[18327,"CAVANAGH","Matthew","M",1996,"U18","DHO","CHL",117.97]
[18258,"CAVE","William","M",1992,"SEN","K","K",999.99]
[20215,"CAWTHORNE","Harry","M",1999,"U16","TOQ","IMP",193.61]
[20216,"CAWTHORNE","Louis","M",2000,"U14","TOQ","IMP",208.67]
[638,"CAXTON","Martin","M",1955,"MAS","BWP",null,999.99]
[17202,"CHAJECKI","Alexander","M",1991,"SEN",null,null,999.99]
[17201,"CHAJECKI","Julian","M",1993,"U21",null,null,999.99]
[19421,"CHAJECKI","Sebastian","M",1997,"U18",null,"BSA",999.99]
[17591,"CHALKLEY","Oliver","M",1996,"U18","SMK",null,78.040000000000006]
[31066,"CHAMBET","Louis","M",1998,"U16","SSC",null,999.99]
[31067,"CHAMBET","Tom","M",2000,"U14","SSC",null,999.99]
[18674,"CHAPMAN","Euan","M",1997,"U18","ASR","ASR",86.82]
[12254,"CHAPMAN","Iain","M",1982,"MAS","VIK","VIK",999.99]
[19993,"CHAPMAN","Lloyd","M",1999,"U16","SZR","SZR",133.26]
[21191,"CHARLTON","Ben","M",1997,"U18","RAV",null,268.52]
[19563,"CHEESE-PROBERT","Henry","M",1992,"SEN",null,null,999.99]
[31377,"CHETTY","Vaibhav","M",2002,"U12","GDN",null,999.99]
[31496,"CHEYNE","Russell","M",1998,"U16","BSC",null,999.99]
[31097,"CHRISTEY","David","M",1999,"U16","BSA","MUC",191.28]
[31098,"CHRISTEY","Joe","M",2002,"U12","BSA","MUC",999.99]
[31174,"CHRISTIE","Colin","M",1999,"U16","SSC",null,999.99]
[31172,"CHRISTIE","Donald","M",1998,"U16","SSC",null,999.99]
[21480,"CHRISTOV","Jonathan","M",2001,"U14","SPR","SPR",999.99]
[21298,"CLARK","William","M",1996,"U18","SRR",null,999.99]
[19161,"CLARKE","Callum","M",2001,"U14","HEM","HEM",235.66]
[8713,"CLARKE","Christopher","M",1959,"MAS","HEM","SAS",302.57]
[21260,"CLARKE","Edward","M",2000,"U14","SMK","SMK",230.67]
[20293,"CLAYTON","Adam","M",1996,"U18","NOR",null,72.290000000000006]
[31404,"CLUGNET","James","M",1996,"U18","HIG",null,999.99]
[21156,"COATES","Joseph","M",2000,"U14","SHK","SHK",309.69]
[20555,"COATES","Richard","M",1966,"MAS","SHK",null,999.99]
[21157,"COATES","William","M",2003,"U12","SHK","SHK",999.99]
[31390,"COCKBURN","Tommy","M",2001,"U14","ASC",null,357.42]
[31137,"COHN","Antony","M",1998,"U16","BSC",null,248.95]
[20568,"COLEMAN","Arthur","M",1999,"U16","K","K",999.99]
[17390,"COLLARD","Harry","M",1994,"U21",null,"IMP",999.99]
[20353,"COLLEY","James","M",2001,"U14","SPR","SPR",999.99]
[20651,"COLLIER","Harry","M",2002,"U12","CHL","SZR",999.99]
[19507,"COLLINGBOURNE","Zachary","M",2000,"U14",null,"BSA",999.99]
[31072,"COLTART","Iain","M",1998,"U16","CSC",null,999.99]
[20167,"COMELIO","Sebastian","M",2002,"U12","AVO","DHO",999.99]
[31222,"COMERFORD","Joseph","M",2000,"U14","LSR",null,487.27]
[18571,"CONDE","Jamie","M",1992,"SEN","TEL","TEL",61.92]
[17493,"CONNERY","Kali","M",1996,"U18",null,null,673.82]
[41735,"CONSTANTINE","Benjamin","M",2003,"U12","CAR","DRA",999.99]
[41710,"CONSTANTINE","Joseph","M",2000,"U14","CAR","DRA",159.27000000000001]
[21258,"COOK","Alastair","M",2003,"U12","GLO",null,999.99]
[21255,"COOK","James","M",2002,"U12","GLO",null,999.99]
[41875,"COOPER","Gary","M",1970,"MAS","TOR",null,999.99]
[19629,"COOPER","Jordan","M",1999,"U16","SAS","SAS",999.99]
[21573,"COOPER","Matthew","M",2004,"U10","HEM","HEM",999.99]
[21146,"COOPER","Morgan","M",1998,"U16","PND","PND",170.49]
[19170,"CORR","Christopher","M",1995,"U21","PND",null,21.53]
[20841,"CORRIGAN","Paul","M",2001,"U14","SPR","SPR",999.99]
[31325,"CORRY","Matt","M",1997,"U18","BSC",null,999.99]
[20165,"COSHAM","Harry","M",2003,"U12","SZR","SZR",999.99]
[30635,"COWIE","Hector","M",1993,"U21","CSC","CBN",184.27]
[30796,"COWIE","Lachlan","M",1995,"U21","CSC","CBN",249.79]
[30100,"CRAWFORD","Douglas","M",1987,"SEN","BSC",null,778.63]
[17905,"CRAWLEY","Daniel","M",1991,"SEN",null,"DHO",999.99]
[41938,"CRIDDLE","Isaac","M",2000,"U14","CAR",null,999.99]
[31025,"CROCKART","Tom","M",2000,"U14","SSC","BSA",163.27000000000001]
[5666,"CROMBLEHOLME","Roger","M",1957,"MAS","MID","TEL",104.12]
[31380,"CROOK","Andrew","M",1998,"U16","SSC",null,999.99]
[31421,"CROOKS","Cameron","M",2002,"U12","BSC",null,999.99]
[31068,"CROSS","Jack","M",1998,"U16","SSC","BSA",286.43]
[21417,"CROZIER","David","M",1986,"SEN",null,null,999.99]
[20830,"CULSHAW","Stephen","M",1962,"MAS",null,null,999.99]
[31106,"CUNNINGHAM","Kyle","M",1996,"U18","BSC",null,243.71]
[12797,"CURTIS","Daniel","M",1991,"SEN","BWP","K",28.15]
[19696,"CUTHBERT","Daryl","M",1996,"U18","VIK",null,325.61]
[20748,"DADE","Tommy","M",2003,"U12","NOR","AMB",999.99]
[31398,"DALZIEL","James","M",1999,"U16","SSC",null,999.99]
[31348,"DALZIEL","William","M",2001,"U14","SSC",null,277.29000000000002]
[17351,"DANNATT","Tim","M",1994,"U21","GLO","DRA",57.99]
[19684,"DANNS","Jack","M",1992,"SEN","LSU","SAS",108.89]
[19733,"DAVEY","Joseph","M",2000,"U14","SPR","SPR",159.97999999999999]
[13777,"DAVEY","Matthew","M",1988,"SEN","LSU","LSU",123.1]
[21152,"DAVEY","Nathan","M",2001,"U14","LIO","LIO",999.99]
[41831,"DAVIES","Alex","M",2002,"U12","CAR","DRA",999.99]
[21120,"DAVIES","Ben","M",1995,"U21","NOR",null,92.06]
[17935,"DAVIES","Brian","M",1963,"MAS","ASR",null,157.91999999999999]
[18256,"DAVIES","Finlay","M",1999,"U16","SMK","IMP",99.43]
[21119,"DAVIES","Harry","M",1999,"U16","NOR",null,174.46]
[41702,"DAVIES","Jonathan","M",1974,"MAS","TOR",null,390.73]
[20554,"DAVIES","Morgan","M",1999,"U16","HEM","K",190.33]
[21048,"DAVIES","Oliver","M",1997,"U18",null,null,999.99]
[14927,"DAVIES","Peter","M",1993,"U21","ASR",null,79.06]
[21099,"DAVIES","Toby","M",1995,"U21",null,null,999.99]
[20311,"DAVIS","Ethan","M",2001,"U14","SHK","SHK",999.99]
[18347,"DAVIS","George","M",1995,"U21","TEL",null,45.5]
[18346,"DAVIS","Matthew","M",1998,"U16","TEL","TEL",99.05]
[12400,"DAWSON","Andrew","M",1965,"MAS","OVL",null,257.57]
[17990,"DE HAAN","Jacob","M",1994,"U21",null,null,785.06]
[18610,"DEAKIN","William","M",1991,"SEN","FLK",null,39.33]
[19363,"DEIGHTON","Harry","M",2000,"U14","HEM","BSA",137.97]
[19361,"DEIGHTON","Oliver","M",1997,"U18","HEM","BSA",106.84]
[19362,"DEIGHTON","Toby","M",1999,"U16","HEM","BSA",92.93]
[17039,"DELLER","Philip","M",1959,"MAS","MID",null,654.11]
[19273,"DENDLE","George","M",2000,"U14","SPR","SPR",247.55]
[20738,"DENT","Michael","M",1966,"MAS","RAV","RAV",114.39]
[20315,"DERU","Joshua","M",1996,"U18",null,"DHO",999.99]
[20846,"DEWISON","Samuel","M",1998,"U16","MID","MID",238.66]
[19738,"DEWULF-PETERS","Oliver","M",1994,"U21","NOR",null,255.38]
[21406,"DEYKIN","Sebastian","M",1998,"U16","SPR",null,999.99]
[31412,"DIAZ","Dennis","M",2001,"U14","LSR",null,999.99]
[31182,"DICKSON","Bailey","M",2000,"U14","GSR",null,162.62]
[30832,"DICKSON","Graham","M",1996,"U18","GSR","SSC",46.83]
[31032,"DILLON","Grant","M",1997,"U18","SSC",null,113.23]
[21533,"DINGLE","Dominic","M",1996,"U18",null,"DHO",999.99]
[21532,"DINGLE","Timothy","M",1998,"U16",null,"DHO",999.99]
[31259,"DISCOMBE","Ross","M",1998,"U16","BSC",null,216.76]
[12612,"DIXON","Christopher","M",1990,"SEN","SPR","SPR",332.26]
[20603,"DIXON","Rory","M",1999,"U16","EVO","EVO",272.82]
[31458,"DOHERTY","Lewis","M",1997,"U18","BSC",null,999.99]
[19572,"DOHERTY","Samuel","M",1999,"U16","MID",null,218.06]
[31289,"DONALD","Daniel","M",1999,"U16","CSC",null,999.99]
[31284,"DONALD","Grant","M",1995,"U21","ASC",null,999.99]
[31413,"DORREN","Donald","M",2001,"U14","LSR",null,999.99]
[31189,"DOUGLAS","Connor","M",1999,"U16","GDN",null,999.99]
[20815,"DOYLE","Harrison","M",2000,"U14","DHO","DHO",999.99]
[19524,"DOYLE","Jake","M",2001,"U14","BSA","BSA",999.99]
[18955,"DOYLE","Thomas","M",1995,"U21",null,null,999.99]
[10641,"DRAKE","Edward","M",1986,"SEN",null,"K",101.14]
[21226,"DRAKE","Joshua","M",2002,"U12",null,"SMK",999.99]
[12318,"DU PLESSIS","Andrew","M",1985,"SEN","MID","DHO",25.51]
[12317,"DU PLESSIS","Stephen","M",1987,"SEN",null,"DHO",999.99]
[20802,"DUBARRY","Drew","M",1991,"SEN",null,null,999.99]
[31361,"D'ULISSE","Ben","M",2000,"U14","SSC",null,999.99]
[31470,"DUNCAN","Rory","M",1999,"U16","CSC",null,999.99]
[18246,"DUNHILL","Harry","M",1992,"SEN",null,"DHO",999.99]
[20277,"DUNION","Jamie","M",1999,"U16",null,"SZR",276.76]
[20572,"DUNNE","Michael","M",2002,"U12","CHL",null,999.99]
[20921,"DURANT","Richard","M",1967,"MAS","SUF",null,241.54]
[20142,"EATON","Oliver","M",1996,"U18","AMB","AMB",100.01]
[10040,"EAVES","David","M",1967,"MAS","PND",null,338.42]
[19048,"EAVES","Jonathan","M",1998,"U16","PND",null,145.97]
[20885,"EDWARDES-KER","David","M",2001,"U14",null,"DHO",999.99]
[19166,"ELGY","James","M",1993,"U21","MID",null,142.46]
[19164,"ELGY","John","M",1951,"MAS","MID",null,280.95999999999998]
[21322,"ELLIFF","Luke","M",2001,"U14","VIK",null,999.99]
[21552,"ELLIS","Hamish","M",2002,"U12",null,null,999.99]
[19756,"ELLISS","Harry","M",2000,"U14","SPR","SPR",999.99]
[19295,"ELLISS","Jack","M",1997,"U18","SPR","SPR",999.99]
[19276,"EMERY","Jacob","M",2001,"U14","SZR","EVO",196.61]
[21084,"EMMERSON","Philip","M",1990,"SEN","MID","MID",104.55]
[20563,"ENGLERT","Joss","M",1995,"U21","SHK",null,999.99]
[20913,"EPERON","Harrison","M",2002,"U12","SPR","SPR",999.99]
[13712,"ESPINOSA","Jean-Paul","M",1991,"SEN","SPR","SPR",866.75]
[19611,"EVANS","Christopher","M",1995,"U21","ASR",null,108.14]
[41565,"EVANS","Emile","M",1996,"U18","CAR","DRA",70.75]
[6383,"EVERITT","Simon","M",1964,"MAS","BOW",null,294.60000000000002]
[41924,"FACHAUX DAVIES","Storm","M",1998,"U16","WWS",null,999.99]
[14958,"FAIL","Robert","M",1993,"U21","SPR","SPR",146.68]
[14260,"FAIRBAIRN","Samual","M",1994,"U21","HEM","IMP",46.21]
[30863,"FARQUHARSON","Findlay","M",1996,"U18","BRM",null,999.99]
[31133,"FARQUHARSON","Hamish","M",1999,"U16","BRM",null,999.99]
[18916,"FARR","Oliver","M",1995,"U21","PPS","DRA",84.16]
[19544,"FARRELL","Jan","M",1983,"MAS",null,null,999.99]
[19633,"FARREN","Claude","M",1971,"MAS","RAV","RAV",73.64]
[19089,"FARREN","Rory","M",1998,"U16","RAV","RAV",43.07]
[17513,"FELLOWS","Jordan","M",1997,"U18","TEL","TEL",40.130000000000003]
[20640,"FENELEY","Jack","M",2002,"U12","PND",null,999.99]
[18810,"FENELEY","Luke","M",1997,"U18","NOR","BSA",127.89]
[18809,"FENELEY","William","M",1999,"U16","NOR","BSA",141.86000000000001]
[31393,"FENTON","Jack","M",1999,"U16","EDS",null,999.99]
[19261,"FENTON FOWLER","Edmund","M",1995,"U21","SMK","IMP",96.89]
[17824,"FEREBEE","Mason","M",1999,"U16",null,null,999.99]
[30965,"FERRIER","Kieran","M",1997,"U18","GSR","SSC",131]
[19728,"FIORI","Haydyn","M",2001,"U14",null,null,999.99]
[20836,"FISHER","Edward","M",1999,"U16","SZR","SZR",999.99]
[20837,"FISHER","George","M",2003,"U12","SZR","SZR",999.99]
[21491,"FISHER","Harvey","M",2003,"U12",null,"ELI",999.99]
[17126,"FITZPATRICK","Alexander","M",1994,"U21",null,"IMP",723.15]
[31278,"FITZPATRICK","Jimmy","M",2000,"U14","GSR",null,280.04000000000002]
[41481,"FLAHIVE","Gerard","M",1992,"SEN","LSU","IMP",8.08]
[13289,"FLAHIVE","Niall","M",1993,"U21","HEM","IMP",76.319999999999993]
[31090,"FLEMING","Iain","M",1997,"U18","SSC",null,287.58]
[31029,"FLOCKHART","Sam","M",1998,"U16","LSR",null,290.66000000000003]
[20529,"FLUCK","Adam","M",2001,"U14","SPR",null,999.99]
[41852,"FLUCK","Benjamin","M",1996,"U18","SPR",null,999.99]
[31159,"FORBES","Grigor","M",1998,"U16","CSC",null,999.99]
[21169,"FOWLES","James","M",1999,"U16","FLK",null,217.01]
[21168,"FOWLES","Luke","M",2002,"U12","FLK",null,999.99]
[20749,"FRAQUELLI","Alessandro","M",1995,"U21","TOQ",null,241.21]
[13838,"FRASER HAFTER","Fergus","M",1992,"SEN","DRA","DRA",377.58]
[12900,"FREEMAN","David","M",1993,"U21","LIO","LIO",185.99]
[11570,"FREEMAN","Edward","M",1989,"SEN","LIO","LIO",132.08000000000001]
[20677,"FROST","Joey","M",1995,"U21","MID",null,110.32]
[21373,"FRY","Bradley","M",2005,"U10",null,null,999.99]
[20615,"FRYERS","Toby","M",2002,"U12",null,"BSA",999.99]
[19848,"FYNN","Linton","M",1998,"U16",null,null,999.99]
[14404,"FYNN","Tarn","M",1994,"U21",null,null,563.82000000000005]
[20487,"GADZHUROV","Marko","M",1966,"MAS","SAS",null,999.99]
[41877,"GALE","Rhodri","M",1999,"U16","CHL","DRA",119.88]
[31216,"GALLOWAY","Drew","M",2000,"U14","MUC",null,356.37]
[31105,"GALLOWAY","Duncan","M",1996,"U18","SSC",null,107.31]
[30854,"GARVIE","Scott","M",1996,"U18","GDN",null,999.99]
[17701,"GASH","Morgan","M",1999,"U16","SAS","DHO",210.91]
[19671,"GASH","Peter","M",1956,"MAS","SAS","SAS",353.54]
[12522,"GASH","Richard","M",1991,"SEN","SAS","SAS",64.86]
[19638,"GASKIN","Sam","M",2000,"U14","BRO","K",258.86]
[21184,"GAY","Freddie","M",2001,"U14","HEM","DHO",267.41000000000003]
[31384,"GEEKIE","Alexander","M",2001,"U14","ASC","GPS",358.18]
[20684,"GENTHER","Joshua","M",1998,"U16","LIO","LIO",216.46]
[21076,"GEORGEL","Robert","M",1996,"U18","BRO",null,273.25]
[21469,"GERRETT","Sam","M",1988,"SEN",null,null,999.99]
[12123,"GEYER","Jai","M",1990,"SEN","TOQ","TOQ",36.72]
[14339,"GHISLANZONI","Fabrizio","M",1965,"MAS","SAS","SOU",186.65]
[14316,"GHISLANZONI","Giacomo","M",1994,"U21","SAS","BSA",58.33]
[14347,"GIBB","James","M",1995,"U21","CHT","K",56.28]
[17468,"GIBB","Jim","M",1961,"MAS","CHT","K",231.77]
[19153,"GIBBINS","Joseph","M",1998,"U16","HEM","BSA",177.24]
[31324,"GIBSON","Cameron","M",2001,"U14","SSC","LSR",221.83]
[21548,"GIEZENDANNER","Liam","M",2002,"U12",null,null,999.99]
[21529,"GILKINSON","Jake","M",1995,"U21",null,"DHO",999.99]
[20880,"GILLETT","James","M",2002,"U12","SPR","SPR",999.99]
[17515,"GIRLING","Kirran","M",1997,"U18","TEL","TEL",55.71]
[31117,"GLASGOW","Peter","M",1994,"U21","AMB","SSC",64.209999999999994]
[21359,"GLOVER","Wiliam","M",1998,"U16","PND","PND",999.99]
[20108,"GODDARD","Thomas","M",1996,"U18","SUF",null,408.71]
[14586,"GODDARD-JONES","Brodie","M",1996,"U18","SLP","SLP",23.99]
[18816,"GOLDSWORTHY","Richard","M",1995,"U21",null,"IMP",50.72]
[31150,"GOODLAD","Finlay","M",1998,"U16","LSR",null,226.17]
[20376,"GOSS","Alfie","M",1999,"U16","SOU","SAS",480.86]
[17532,"GOWER","Jack","M",1994,"U21","SPR","SPR",999.99]
[17533,"GOWER","Rory","M",1996,"U18","SPR","SPR",999.99]
[14855,"GRANT","James","M",1994,"U21","LSU","HEM",22.15]
[14856,"GRANT","Thomas","M",1996,"U18","HEM","IMP",45.48]
[31395,"GRAY","Stuart","M",1996,"U18","HNC",null,999.99]
[19122,"GREASBY","Richard","M",1969,"MAS","HEM",null,635.9]
[17002,"GREENFIELD","Hobie","M",1995,"U21","SAS","SAS",77.290000000000006]
[14809,"GREENFIELD","Max","M",1994,"U21","HEM","HEM",53.66]
[18049,"GREENFIELD","Nigel","M",1962,"MAS","SAS","SAS",306.92]
[31102,"GREENSHIELDS","Andrew","M",1999,"U16","SSC","LSR",176.14]
[31243,"GREENSHIELDS","Duncan","M",2002,"U12","SSC","LSR",999.99]
[19632,"GREENWAY","Daniel","M",1998,"U16",null,"WM",182.6]
[19631,"GREENWAY","Thomas","M",2001,"U14",null,"WM",160.58000000000001]
[31475,"GRIEVE","Joe","M",2003,"U12","LSR",null,999.99]
[20816,"GROGAN","Max","M",2001,"U14","K","K",999.99]
[30921,"GUEST","Christopher","M",1997,"U18","SSC","BSA",989]
[31414,"GUMLEY","Louis","M",2001,"U14","LSR",null,428.93]
[41459,"GURNER","Samuel","M",1997,"U18","TOR",null,82.04]
[31465,"GUTHRIE","Timothy","M",1998,"U16","SSC",null,999.99]
[19379,"GUY","Edward","M",2001,"U14","TEL","MID",210.93]
[20719,"HADLEY","Daniel","M",2004,"U10","MID","SMK",999.99]
[41273,"HALES","Robert","M",1960,"MAS","CAR","DRA",55.14]
[21008,"HALES","Theo","M",2000,"U14","SPR","HEM",999.99]
[41182,"HALES","Thomas","M",1990,"SEN","CAR","DRA",8.42]
[31234,"HALL","Adam","M",2000,"U14","ASC",null,713.32]
[13125,"HALL","Benn","M",1990,"SEN","AMB","AMB",34.119999999999997]
[20717,"HALLETT","Jacob","M",1999,"U16","PPS","DRA",176.69]
[31459,"HALLIDAY","Duncan","M",1985,"SEN","P3",null,999.99]
[31279,"HALPIN","Luke","M",2000,"U14","GSR",null,604.33000000000004]
[31422,"HAMLETT-HALL","Samuel","M",1998,"U16","SSC","LSR",569.57000000000005]
[20595,"HAMMOND","Max","M",1994,"U21","SOU","SOU",114.58]
[17037,"HANCOCK","David","M",1964,"MAS","MID","SMK",999.99]
[18616,"HANCOCK","Karl","M",1995,"U21","MID",null,245.23]
[19013,"HANLON","George","M",1999,"U16","PPS","WM",175.85]
[41908,"HANNA","Jordan","M",1998,"U16","SCI","IMP",255.48]
[31333,"HANNAN","James","M",2001,"U14","LSR",null,405.95]
[31368,"HARBINSON","Joshua","M",2002,"U12","MUC",null,999.99]
[31429,"HARPER","Callum","M",1998,"U16","LSR",null,999.99]
[21581,"HARPER","Joseph","M",1998,"U16","TEL",null,999.99]
[21582,"HARPER","Thomas","M",2000,"U14","TEL",null,999.99]
[20976,"HARRISON","Samuel","M",2003,"U12",null,"LIO",999.99]
[21275,"HART","Benjamin","M",2003,"U12","SPR","SPR",999.99]
[4777,"HATCHER","David","M",1985,"SEN","WCS",null,5.98]
[19163,"HAWKINS","Mark","M",1979,"MAS","MID",null,57.13]
[31311,"HAY","Adam","M",2001,"U14","SSC",null,301.37]
[19187,"HAY","Cameron","M",1999,"U16","BSA","BSA",999.99]
[19834,"HAY","Louis","M",2002,"U12","BSA","BSA",999.99]
[31452,"HAYWARD","Euan","M",1999,"U16","BSC",null,999.99]
[5013,"HEATH","Peter","M",1944,"MAS","OVL",null,999.99]
[19674,"HEDLEY","Benja","M",1977,"MAS",null,null,999.99]
[19125,"HEGINBOTHAM","Matthew","M",2000,"U14",null,"BSA",219.05]
[17078,"HELLIWELL","Steven","M",1994,"U21","LIO","LIO",78.44]
[19829,"HEMMING","Ethan","M",2001,"U14","MID","MID",211.91]
[30121,"HENDERSON","Callum","M",1989,"SEN","SSC",null,9.09]
[30388,"HENDERSON","Paul","M",1995,"U21","AMB","SSC",26.94]
[31347,"HENDERSON","Sholto","M",1997,"U18","LSR",null,999.99]
[19160,"HENDERSON","Tom","M",1996,"U18","HEM","K",90.77]
[21506,"HENDRY","Thomas","M",1999,"U16","VIK",null,999.99]
[18729,"HENERY","David","M",1963,"MAS","SHK","LIO",326.22000000000003]
[20641,"HENERY","Robbie","M",1998,"U16","SHK","LIO",167.16]
[18862,"HENERY","Sam","M",1995,"U21","SHK","LIO",134.47]
[14744,"HENNINGS","Alexander","M",1991,"SEN",null,"DHO",999.99]
[31432,"HERBERT","Calum","M",2001,"U14","BSC",null,999.99]
[41927,"HESLOP","Rory","M",1995,"U21",null,null,999.99]
[19857,"HETHERINGTON","George","M",1999,"U16","K","K",999.99]
[19856,"HETHERINGTON","Thomas","M",1995,"U21","K","K",999.99]
[31247,"HEWISON","Henry","M",2004,"U10","CSC","ASC",999.99]
[21215,"HEYMOZ","Daniel","M",2002,"U12","WGC",null,999.99]
[13315,"HILL","Ashley","M",1993,"U21",null,"AMB",25.2]
[20544,"HINCHLIFFE","Jack","M",1997,"U18","PPS","LIO",120.38]
[21464,"HINTON","Marcus","M",2001,"U14","SPR","SPR",999.99]
[21345,"HINTON","Sam","M",1996,"U18",null,null,999.99]
[5370,"HJORT","Andrew","M",1965,"MAS","RAV","LIO",72.47]
[31486,"HODGSON","Ben","M",2001,"U14","GSR",null,999.99]
[31485,"HODGSON","Ross","M",1997,"U18","GSR",null,999.99]
[20431,"HOLMES","John","M",1969,"MAS","PND","PND",165.45]
[21097,"HOLMES","Robert","M",2002,"U12","PND","PND",999.99]
[19072,"HONEY","Jack","M",1995,"U21","ASR",null,147.91999999999999]
[41880,"HOPKINS","Harry","M",1999,"U16","CAR","DRA",146.65]
[41497,"HOPKINS","Mark","M",1966,"MAS","CAR","DRA",280.55]
[17356,"HORNSBY","Harry","M",1991,"SEN","MID","TOQ",4.17]
[41841,"HORTON","Sam","M",1996,"U18","TOR",null,251.72]
[17009,"HOUSTON","Alexandra","M",1994,"U21","SHK",null,999.99]
[18628,"HOUSTON","Samuel","M",1996,"U18","SHK",null,999.99]
[31373,"HOWARD-JOHNSTON","Philip","M",2001,"U14","SSC",null,999.99]
[21387,"HUDDLESTON","David","M",1996,"U18","BAS",null,999.99]
[20481,"HUDSON","Thomas","M",2001,"U14","NOR","BSA",162.46]
[14921,"HUGHES","Toby","M",1992,"SEN","NOR",null,43.66]
[21049,"HUISMAN MURO","Alexander","M",2001,"U14",null,"K",999.99]
[21050,"HUISMAN MURO","Kaylan","M",2003,"U12",null,"K",999.99]
[18322,"HUMFRESS","Joseph","M",1993,"U21","TEL","TEL",155.24]
[20766,"HUMPHREYS","Charles","M",2001,"U14","HEM","TSN",293.8]
[30883,"HUNTINGTON","Calum","M",1995,"U21","SSC","BSA",989]
[19146,"HUPPACH","Declan","M",1999,"U16","PND",null,71.59]
[19458,"HUPPACH","Josef","M",2002,"U12","PND",null,999.99]
[20328,"HUTTNER","Maximilian","M",1997,"U18","BRC","SPR",999.99]
[31031,"INNES","Iain","M",1998,"U16","SSC",null,155.71]
[31198,"INNES","Robbie","M",2000,"U14","SSC",null,342.94]
[21022,"JACKSON","Andrew","M",1958,"MAS","TEL","TEL",279.88]
[19675,"JACKSON","Ian","M",1964,"MAS","RAV",null,102.89]
[31363,"JACOBS","Finlay","M",2002,"U12","ASC",null,999.99]
[31210,"JAMIESON","Ryan","M",1996,"U18","SSC",null,235.19]
[31217,"JARDINE","Lewis","M",2000,"U14","LSR",null,999.99]
[30256,"JARDINE","Ross","M",1989,"SEN","SSC",null,999.99]
[20893,"JELICIC","Nicholas","M",1997,"U18",null,"DHO",999.99]
[31024,"JENNINGS","Euan","M",1997,"U18","LSR","SSC",492.38]
[31023,"JENNINGS","Sandy","M",1995,"U21","LSR","SSC",999.99]
[14989,"JENSEN","Christian","M",1995,"U21","SPR","SPR",304.81]
[14276,"JESSE","Zak","M",1994,"U21","IMP","K",438.24]
[19095,"JOHNS","Owen","M",2001,"U14",null,"WM",999.99]
[20355,"JOHNS","Scott","M",2003,"U12",null,"WM",999.99]
[31136,"JOHNSON","Alistair","M",1998,"U16","SSC","CSC",999.99]
[31443,"JOHNSTON","David","M",2000,"U14","LSR",null,999.99]
[31034,"JOHNSTON","Hamish","M",1997,"U18","SSC","BSA",182.84]
[41765,"JONES","Sam","M",1976,"MAS",null,null,999.99]
[21149,"KARAVASILI","Leo","M",1999,"U16",null,null,136.15]
[21159,"KEANE","Josh","M",1995,"U21","SMK","SMK",133.25]
[21553,"KEATMAN","Chris","M",2000,"U14","STS",null,999.99]
[31345,"KELLAS","Guy","M",2003,"U12","SSC",null,999.99]
[31286,"KERR","George","M",2000,"U14","CSC",null,999.99]
[31285,"KERR","Henry","M",2000,"U14","CSC",null,999.99]
[21562,"KEYS","Alexander","M",1998,"U16",null,null,999.99]
[30898,"KICK","Euan","M",1997,"U18","GSR",null,12.57]
[14951,"KIESSLING","Liam","M",1991,"SEN","SOU","SOU",106.09]
[21019,"KILGOUR","Rory","M",1980,"MAS","BRC","SAS",999.99]
[21343,"KING","Oliver","M",1996,"U18","GLO",null,999.99]
[12856,"KNOCK","James","M",1990,"SEN","EVO","EVO",31.22]
[18317,"KRAHELSKI","Oliver","M",1996,"U18","HEM",null,38.32]
[30778,"KUWALL","Duncan","M",1998,"U16","SSC",null,70.62]
[20095,"LALLY","Cameron","M",1996,"U18","VIK",null,120.58]
[31110,"LANGDALE","Harry","M",1998,"U16","MUC",null,556.57000000000005]
[21178,"LANGLEY","Daniel","M",2000,"U14","GLO","DRA",271.22000000000003]
[20713,"LARBY","Thomas","M",1994,"U21","RAV",null,128.03]
[21571,"LAUGHLAND","Maximilian","M",2004,"U10","BRO","DHO",999.99]
[20369,"LAW","Joshua","M",2003,"U12","TEL",null,999.99]
[17045,"LAW","Joshua","M",1993,"U21","SHK",null,999.99]
[19941,"LAWRENCE","Thomas","M",1999,"U16","MID",null,191.81]
[21077,"LEACH","Charlie","M",2001,"U14","HEM","AMB",264.06]
[21501,"LEACH","Freddie","M",2002,"U12","HEM","K",999.99]
[20887,"LEAVITT","Samuel","M",1998,"U16","DHO","DHO",999.99]
[20922,"LEAVITT","William","M",1998,"U16","DHO","DHO",999.99]
[41578,"LEE","Adam.","M",1994,"U21","MID","CHL",59.81]
[20761,"LEE","Dexter","M",2000,"U14","HEM","EVO",167.21]
[20267,"LEE","Jocelyn","M",1997,"U18","BRC","BRS",282.39999999999998]
[41662,"LEE","Sam","M",1996,"U18","MID",null,154.66]
[13389,"LEESON","Andrew","M",1989,"SEN","PND",null,28.88]
[20850,"LEGEAIS","Antoine","M",2001,"U14",null,"BSA",999.99]
[20625,"LEGEAIS","Benjamin","M",1999,"U16",null,"BSA",999.99]
[31329,"LEIGHTON","Alasdair","M",2001,"U14","SSC",null,703.57]
[31328,"LEIGHTON","Findlay","M",2003,"U12","SSC",null,999.99]
[19869,"LEWIS","Barney","M",1995,"U21","SMK","AMB",41.48]
[18474,"LEWIS","Freddie","M",1993,"U21",null,"DHO",999.99]
[20309,"LEWIS","Samuel","M",1998,"U16","SPR","SPR",999.99]
[17926,"LEWIS","William","M",1992,"SEN",null,"DHO",999.99]
[20404,"LINCOLN","Andrew","M",1993,"U21","NOR","NOR",196.98]
[31281,"LINKLATER","Ian","M",1953,"MAS","SSR",null,999.99]
[19830,"LISMORE","Jake","M",1997,"U18",null,"DHO",999.99]
[31320,"LIVINGSTON","Fraser","M",2001,"U14","LSR",null,531.1]
[31107,"LIVINGSTONE","Lewis","M",1999,"U16","SSC","LSR",183.58]
[21129,"LODER","Angus","M",2002,"U12","HEM","K",999.99]
[20543,"LODER","Edward","M",1999,"U16","HEM","AMB",181.36]
[19463,"LOVE TWELVES","Matthew","M",1997,"U18","WM","WM",999.99]
[17344,"LOWDON","Matthew","M",1995,"U21","RAV",null,999.99]
[19510,"LOWE","Jordan","M",1998,"U16","HEM","EVO",181.88]
[20331,"LUCAS","Oliver","M",2002,"U12","WM","WM",999.99]
[18757,"LUCIE-SMITH","Ross","M",1993,"U21","LSU","LSU",100.02]
[19491,"LUGGER","Matthew","M",1996,"U18","TOQ",null,173.62]
[21546,"LUKE","Charlie","M",2000,"U14",null,"DHO",999.99]
[21517,"LUNN","Jake","M",2001,"U14",null,"K",999.99]
[31341,"LURRING","Connor","M",1999,"U16","SSC",null,451.96]
[21091,"LUTTERLOCH","Edward","M",2003,"U12","ASR",null,999.99]
[21000,"LUTWYCHE","Alexander","M",2003,"U12","PND","DRA",999.99]
[20272,"LUTWYCHE","Jacob","M",2001,"U14","PND","DRA",193.67]
[21366,"LYONS","Alan","M",1965,"MAS",null,"HEM",999.99]
[30233,"MACBAIN","Scott","M",1987,"SEN","GSR",null,64.849999999999994]
[21431,"MACDONALD","Thomas","M",1970,"MAS","RAV","RAV",999.99]
[31490,"MACFARLANE","Archie","M",2001,"U14","GSR",null,999.99]
[30250,"MACFIE","Alastair","M",1989,"SEN","SSC",null,98.24]
[30669,"MACFIE","Euan","M",1994,"U21","AMB",null,195.43]
[31053,"MACKENZIE","Andrew","M",1995,"U21","MUC",null,254.57]
[31396,"MACLEAN","Angus","M",1996,"U18","HNC",null,999.99]
[20561,"MACPHERSON","Grant","M",1979,"MAS",null,null,999.99]
[30936,"MACPHERSON","Stuart","M",1998,"U16","SSC","LSR",250.68]
[31004,"MACWILLIAM","David","M",1996,"U18","BSC","GSR",95.42]
[20530,"MAJOR","Billy","M",1996,"U18",null,null,999.99]
[21483,"MANET","Conrad","M",1998,"U16","K","K",999.99]
[17257,"MARMENT","Christiaan","M",1997,"U18","SLP","SLP",98.67]
[20843,"MARSLAND","Steven","M",1970,"MAS","TOQ",null,999.99]
[19574,"MARTIN","Matthew","M",1995,"U21","CHL","DRA",45.14]
[31331,"MARTIN","Oliver","M",2001,"U14","LRS",null,999.99]
[21401,"MATHER","Fred","M",2001,"U14",null,"BSA",999.99]
[20253,"MATHEW","Oliver","M",2002,"U12","AVO","EXD",999.99]
[31171,"MATTHEW","Andrew","M",1990,"SEN",null,null,999.99]
[19723,"MATTHEWS","Brandon","M",1999,"U16","STS",null,68.739999999999995]
[21447,"MAY","Philip","M",1968,"MAS",null,null,999.99]
[19375,"MAYNARD","Luke","M",1997,"U18","HEM","DHO",999.99]
[31028,"MCBAIN","Corrie","M",1999,"U16","LSR","SSC",184.77]
[30841,"MCBAIN","Sandy","M",1993,"U21","SSC","LSR",73.540000000000006]
[31148,"MCCALL","Andrew","M",2002,"U12","SSC",null,999.99]
[20455,"MCCALL","Oscar","M",2000,"U14",null,"BSA",316.45]
[19413,"MCCLOUD","Milo","M",1997,"U18","BSA","BSA",192.84]
[41940,"MCCORMACK","Matthew","M",1998,"U16","SCI","K",999.99]
[31273,"MCCORMICK","Chris","M",1998,"U16","BSC",null,999.99]
[31274,"MCCORMICK","Matt","M",1997,"U18","BSC",null,999.99]
[20584,"MCDONALD-PROCTOR","Richard","M",1998,"U16","BRO",null,148.1]
[20583,"MCDONALD-PROCTOR","William","M",2002,"U12","BRO",null,999.99]
[31435,"MCFADDEN","Cameron","M",2000,"U14","CSC",null,999.99]
[31446,"MCFADDEN","Iain","M",2002,"U12","CSC",null,999.99]
[31083,"MCFADDEN","Neil","M",1998,"U16","CSC",null,999.99]
[31397,"MCFADZEAN","Euan","M",1999,"U16","SSC",null,999.99]
[19019,"MCGREGOR-OGDEN","Cameron","M",2000,"U14","CHL","DRA",94.72]
[8067,"MCGREGOR-OGDEN","Carl","M",1961,"MAS","CHL","CHL",134.83000000000001]
[31169,"MCHUGH","Liam","M",1997,"U18","GSR",null,73.2]
[30676,"MCINTOSH","David","M",1994,"U21","GDN",null,242.13]
[17683,"MCKECHNIE","Mark","M",1989,"SEN","VIK",null,999.99]
[31403,"MCLAREN","Ronan","M",2001,"U14","BSC",null,999.99]
[21589,"MCLAREN-TOSH","Jack","M",2003,"U12","HEM","HEM",999.99]
[31084,"MCLAUGHLAN","Iain","M",1997,"U18","GSR","SSC",384.84]
[30953,"MCLEISH","Adam","M",1979,"MAS","SSC",null,999.99]
[20954,"MCLEISH","James","M",1999,"U16","BWP","IMP",999.99]
[31314,"MCLEW","Christopher","M",2001,"U14","GSR",null,250.82]
[31437,"MCLEW","Euan","M",2003,"U12","GSR",null,999.99]
[20580,"MCMAHON","Jack","M",1997,"U18",null,"DHO",999.99]
[31491,"MCNEILL","David","M",2000,"U14","BSC",null,999.99]
[31139,"MCNICOL","Archie","M",1999,"U16","GSC","BSA",999.99]
[31202,"MCROBB","Cameron","M",2000,"U14","LSR","SSC",201.66]
[30555,"MCWHIRTER","Scott","M",1992,"SEN","GSR","SSC",34.33]
[30740,"MCWILLIAM","Jamie","M",1994,"U21","CSC",null,999.99]
[41939,"MELIA","Tybalt","M",2000,"U14","NW",null,999.99]
[31296,"MERRY","Tom","M",1997,"U18",null,null,999.99]
[31180,"MESTON","Grant","M",1998,"U16","BRM",null,999.99]
[11619,"MESUT","Justin","M",1985,"SEN","NOR","AMB",58.51]
[21213,"METHERINGHAM","Zachary","M",2004,"U10",null,"SMK",999.99]
[21043,"MEURER","Markus","M",1968,"MAS",null,null,999.99]
[30931,"MIDDLETON","Fraser","M",1998,"U16","GSR",null,81.010000000000005]
[21278,"MIGUDA","Henry","M",2001,"U14","SPR","SPR",999.99]
[21276,"MILLARD","Oliver","M",2000,"U14",null,null,999.99]
[31457,"MILLER","Craig","M",2002,"U12","GSR",null,999.99]
[18509,"MILLER","Gareth","M",1994,"U21","SAS","SMK",83.14]
[18607,"MILLER","Nicholas","M",1993,"U21","MID",null,56.48]
[31450,"MILLER","Scott","M",1998,"U16","BSC",null,999.99]
[21408,"MILLER-HASTINGS","Frankie","M",2000,"U14","FLK",null,999.99]
[21259,"MIRACCO","Carlito","M",1999,"U16","HEM","BRS",273.17]
[41919,"MITCHELL","Alexandre","M",1997,"U18","TOR",null,999.99]
[31365,"MOHAMMED","Kais","M",2001,"U14","SSC",null,999.99]
[20782,"MOONEY","Hugo","M",1997,"U18","DHO","DHO",999.99]
[20374,"MOONEY","John","M",1996,"U18",null,"DHO",999.99]
[20401,"MOORE","Benedict","M",2001,"U14","K",null,999.99]
[14949,"MORGAN","Brad","M",1991,"SEN","CHL","K",15]
[21479,"MORGAN","Jonathan","M",1999,"U16",null,null,999.99]
[31199,"MORRIS","Christopher","M",2000,"U14","LSR",null,392.45]
[20871,"MORRIS","Ruaidhri","M",2001,"U14","SPR","SPR",999.99]
[30529,"MORRISON","Jo","M",1992,"SEN","GDN","SSC",111.17]
[18778,"MORRISON","Michael","M",1957,"MAS","SOU","SAS",223.72]
[30154,"MORTON","Kenneth","M",1986,"SEN","MUC",null,999.99]
[14297,"MOSS","Maximillian","M",1996,"U18","EVO","EVO",50.06]
[17831,"MOYNIHAN","Nicholas","M",1994,"U21",null,"K",999.99]
[18257,"MOZOL","James","M",1993,"U21","GLO",null,38.14]
[19335,"MROZ","Jaroslaw","M",1964,"MAS","BWP","DHO",447.94]
[19568,"MUIR","James","M",1999,"U16","SPR","SPR",999.99]
[31424,"MUIR","Jimmy","M",2002,"U12","ASC","DUN",999.99]
[41934,"MUNDAY","William","M",2000,"U14","VAL",null,999.99]
[31342,"MUNRO","Calum","M",2002,"U12","BSC",null,999.99]
[31313,"MUNRO","Colin","M",1995,"U21","LSR",null,999.99]
[21539,"MUNRO","Joe","M",1985,"SEN",null,null,999.99]
[21500,"MURCH","Tim","M",1996,"U18","BRO","BRO",999.99]
[31326,"MURPHY","Rhys","M",1999,"U16","BSC",null,407.78]
[19678,"MURRAY","Alastair","M",1996,"U18",null,"LIO",999.99]
[20125,"MYRSEP-FRANCE","Nicholas","M",1998,"U16",null,"DHO",999.99]
[18659,"NAYLER","Graham","M",1959,"MAS","ASR","ALD",110.84]
[31256,"NEISH","Angus","M",1998,"U16","SSR",null,309.42]
[31282,"NESBITT","Kieran","M",2000,"U14","GSR",null,381.87]
[31283,"NESBITT","Ross","M",2002,"U12","GSR",null,999.99]
[21315,"NEVENS","Ted","M",1997,"U18",null,null,999.99]
[21194,"NEWTON","Charlie","M",2003,"U12","HEM","HEM",999.99]
[20184,"NEWTON","William","M",2000,"U14","HEM","HEM",239.91]
[21481,"NG","Hugo","M",1997,"U18",null,null,999.99]
[13432,"NICHOL","Timothy","M",1984,"SEN","RAV",null,168.5]
[31392,"NICHOLLS","Harry","M",1996,"U18","BND",null,999.99]
[20897,"NICKSON","Joseph","M",1996,"U18","PND",null,157.37]
[14252,"NISBET","Angus","M",1993,"U21",null,"DHO",999.99]
[14251,"NISBET","Kit","M",1990,"SEN",null,"K",999.99]
[14229,"NORCROSS WEBB","Joseph","M",1992,"SEN","SOU","AMB",47.32]
[30996,"NORRIS","Fraser","M",1997,"U18","GSR",null,364.64]
[19135,"NORRIS","John","M",1961,"MAS","HEM","SAS",123.96]
[19005,"NORRIS","Kieran","M",1995,"U21","HEM","AMB",38.32]
[20732,"NORTON","Thomas","M",1999,"U16","TOQ","TOQ",110.3]
[21104,"NUNN","Jack","M",2003,"U12",null,null,999.99]
[19737,"O'BRIEN","Seamus","M",2002,"U12","MID","EVO",999.99]
[20975,"OHARA","Mizuki","M",1998,"U16",null,"DHO",999.99]
[31351,"OLDFIELD","Max","M",2002,"U12","MUC","SSC",999.99]
[20550,"OLIVER","Mark","M",1962,"MAS","BOW","SMK",999.99]
[21253,"OLIVER","Ryan","M",1997,"U18","NOR",null,151.66]
[19147,"O'MARA","Adam","M",1995,"U21","RAV","RAV",54.82]
[19199,"O'MEARA","Samuel","M",1999,"U16",null,null,999.99]
[2257,"ONDRUSZ","Tomasz","M",1965,"MAS",null,null,213.52]
[20377,"O'NEILL","Jack","M",1999,"U16",null,"BSA",999.99]
[21326,"PALMER","David","M",1999,"U16",null,"BSA",999.99]
[31460,"PARKER","Barry","M",1985,"SEN","ASC",null,999.99]
[21188,"PARKES","Michael","M",1989,"SEN","HEM","HEM",123.35]
[31453,"PATHI","Fintan","M",2002,"U12","GSR",null,999.99]
[19374,"PATIENCE","Callum","M",1997,"U18","SPR","SPR",999.99]
[1681,"PATON","Andrew","M",1968,"MAS","WYC",null,989]
[20460,"PATRICK","Oliver","M",1997,"U18","BSA","BSA",999.99]
[30827,"PATTERSON","Ross","M",1999,"U16","SSC",null,142.24]
[21283,"PATTON","Edward","M",2001,"U14","SPR","SPR",999.99]
[30737,"PAXTON","James","M",1992,"SEN","GDN",null,999.99]
[30738,"PAXTON","Paul","M",1998,"U16","GDN",null,160.34]
[31444,"PEEK","Harrison","M",2003,"U12","BSC",null,999.99]
[31445,"PEEK","Jackson","M",2004,"U10","BSC",null,999.99]
[19710,"PENNING- LAMBERT","Matthew","M",1996,"U18","HEM","K",125.92]
[19711,"PENNING-LAMBERT","Joshua","M",1998,"U16","HEM","EVO",102.79]
[18224,"PENROSE","Christopher","M",1989,"SEN",null,"DHO",999.99]
[20102,"PERETZ","Adi","M",1998,"U16","DHO","DHO",999.99]
[31073,"PETERS","Lachlan","M",1997,"U18","BRM",null,999.99]
[17534,"PETRIE","Ben","M",1991,"SEN","SMK","K",999.99]
[17535,"PETRIE","James","M",1996,"U18","HEM","BSA",296.52999999999997]
[31439,"PFLEGER","Harry","M",2005,"U10","GDN",null,999.99]
[17840,"PHELPS","Nicholas","M",1997,"U18","MID","MID",62.44]
[19837,"PICKERING","Christopher","M",1995,"U21","HEM","K",131.30000000000001]
[20831,"PICKERING","Felix","M",2002,"U12","HEM","K",999.99]
[41495,"PIERCE","Zac","M",1997,"U18","PND","DRA",216.84]
[31288,"PIERCEY","James","M",1997,"U18","CSC",null,999.99]
[20535,"PINI","Maximilian","M",2002,"U12","SLP","SLP",999.99]
[20777,"PINSENT","William","M",1955,"MAS",null,null,999.99]
[31082,"PITCHERS","Brian","M",1942,"MAS","SSC",null,999.99]
[19987,"PITKETHLY","Calum","M",1999,"U16","SPR","SPR",999.99]
[31008,"POGSON","Liam","M",1998,"U16","BLG","GPS",237.25]
[20907,"POINTS","Tobias","M",2000,"U14",null,"BSA",999.99]
[20799,"POLLITT","Oliver","M",2003,"U12","CHL","DRA",999.99]
[19698,"PORTER","Ashley","M",1997,"U18","ASR",null,97.08]
[14344,"PORTER","Tobias","M",1993,"U21","FLK","DHO",121.27]
[14350,"POTH","Daniel","M",1996,"U18","HEM","TEL",31.66]
[14575,"POTH","Robert","M",1997,"U18","HEM","TEL",14.97]
[17479,"POWELL","Jonathan","M",1986,"SEN","RAV","MID",30.83]
[20322,"PRICE","Edward","M",1996,"U18",null,"BSA",999.99]
[30711,"PRICE","Graeme","M",1995,"U21","SSC","GSR",57.03]
[20323,"PRICE","Oliver","M",1996,"U18",null,"BSA",999.99]
[41837,"PRICE","Rhys","M",2001,"U14","GLO","DRA",247.21]
[21309,"PRICE","Tim","M",1966,"MAS","KND",null,999.99]
[20464,"PRITCHARD","John","M",1999,"U16",null,"BSA",999.99]
[41410,"PRITCHARD","Ray","M",1965,"MAS",null,"DRA",999.99]
[9379,"PROUDLOVE","Andrew","M",1958,"MAS","BRO","EVO",176.8]
[31489,"PROVAN","Max","M",2001,"U14","CSC","BSA",999.99]
[31358,"PYE","Ryan","M",2004,"U10","GDN","ASC",999.99]
[41894,"QUINLIVAN","Naoise","M",1997,"U18","SCI",null,155.6]
[20122,"RABEY","Judson","M",2000,"U14","HEM","DHO",260.76]
[21393,"RAMPTON","Thomas","M",2003,"U12",null,"BSA",999.99]
[30952,"RANKIN","Charles","M",2001,"U14","BSA","CSC",154.16999999999999]
[21511,"RANKIN","Hugo","M",1999,"U16",null,"DHO",999.99]
[18504,"RAPOSO","Charlie","M",1996,"U18",null,"AMB",999.99]
[19569,"RASCAGNERES","Thomas","M",2000,"U14","CHL","DRA",122.75]
[21415,"RASHCHUPKIN","Maxim","M",2002,"U12",null,"DHO",999.99]
[31206,"RASMUSEN","Erik","M",1998,"U16","GDN",null,538.51]
[20380,"RATCLIFFE","David","M",1998,"U16","SAS",null,255.76]
[20381,"RATCLIFFE","Thomas","M",2001,"U14","SAS",null,999.99]
[20379,"RAY","Matthew","M",1999,"U16",null,"K",999.99]
[19086,"READER","Christopher","M",1996,"U18","ASR",null,56.33]
[19085,"READER","William","M",1994,"U21","ASR",null,46.59]
[31096,"REDPATH","Sandy","M",1996,"U18","LSR","SSC",207.4]
[31315,"REED","Aidan","M",2001,"U14","LSR",null,410.15]
[31322,"REED","Lewis","M",2001,"U14","SSC",null,302.19]
[19690,"REIDY","Alexander","M",1994,"U21","EVO","K",54.44]
[19691,"REIDY","Luca","M",1996,"U18","HEM","K",130.01]
[20264,"REIDY","Thomas","M",2003,"U12","HEM","K",999.99]
[41764,"REILLY","Garreth","M",1999,"U16","SCI",null,149.24]
[31321,"RENNIE","Calum","M",2002,"U12","SSC",null,999.99]
[31294,"RENNIE","Graham","M",1975,"MAS","ASC",null,252.96]
[14109,"REYNOLDS","Michael","M",1995,"U21","SMK","SMK",999.99]
[21485,"RHODES","Austin","M",1998,"U16","CHT","K",999.99]
[21484,"RHODES","Morgan","M",1998,"U16","CHT","K",999.99]
[17320,"RICCERI","Oliver","M",1995,"U21",null,"IMP",999.99]
[19796,"RICHARDS","Alexandre","M",2002,"U12",null,"BSA",999.99]
[20953,"RICHARDS","Konrad","M",1999,"U16",null,null,999.99]
[17919,"RICHARDSON","Charles","M",1992,"SEN","CHL","DRA",9.32]
[18088,"RICHARDSON","George","M",1997,"U18","CHL","DRA",79.849999999999994]
[20628,"RICHARDSON","Thomas","M",1997,"U18","NOR",null,66.3]
[12989,"RICHES","Stuart","M",1989,"SEN","NOR","SMK",32.04]
[19570,"RICHMOND","Henry","M",1999,"U16","WCS","TOQ",152.97999999999999]
[41722,"RIGBY","Jack","M",1995,"U21","MID","IMP",62.46]
[19910,"RIGBY","Jordan","M",2000,"U14","MID","IMP",144.43]
[31494,"RITCHIE","Peter","M",1955,"MAS","ASC","K",999.99]
[20879,"ROBERTS","Henry","M",1999,"U16",null,"K",999.99]
[41814,"ROBERTS","Ian","M",1969,"MAS",null,"HIV",999.99]
[21046,"ROBERTS","Michael","M",1985,"SEN",null,null,999.99]
[21131,"ROBERTS","Peter","M",1966,"MAS",null,null,999.99]
[21498,"ROBERTS","Thomas","M",2000,"U14",null,"K",999.99]
[31005,"ROBERTSON","Adam","M",1997,"U18","GSR",null,347.58]
[20988,"ROBERTSON","Ewan","M",2001,"U14","BWP","BSA",190.37]
[31175,"ROBERTSON","John","M",1997,"U18","BSA","CSC",999.99]
[12334,"ROBERTSON","Stuart","M",1950,"MAS","WCS","WCS",222.1]
[20546,"ROBINSON","Jana","M",1997,"U18","SPR","SPR",999.99]
[14849,"RODGERS","Derek","M",1979,"MAS",null,null,999.99]
[4378,"ROE","Nicholas","M",1956,"MAS",null,null,627.64]
[30862,"ROFE","Sean","M",1995,"U21","SSC",null,90.41]
[30959,"ROFE","Thomas","M",1998,"U16","SSC","GSR",153.22]
[21395,"ROGERS","Marcus","M",1999,"U16","BSA","BSA",999.99]
[21554,"ROSE","James","M",2001,"U14",null,null,999.99]
[20839,"ROSS","Callum","M",2003,"U12","TSN","TSN",999.99]
[31006,"ROSS","Harry","M",1998,"U16","BSC",null,167.59]
[31087,"ROSS","Lyle","M",1999,"U16","SSC","MUC",119.83]
[31360,"RUSHWORTH","John","M",1998,"U16","SSC",null,703.93]
[20138,"RUSSELL","Latham","M",1995,"U21",null,null,300]
[30614,"RYAN","Euan","M",1993,"U21","GSR",null,18.760000000000002]
[11529,"RYDING","Carl","M",1961,"MAS","CHL","K",216.23]
[10659,"RYDING","David","M",1986,"SEN","PND","K",41.19]
[31406,"SADDLER","Sam","M",2002,"U12","LSR",null,999.99]
[18579,"SADLER","Francis","M",1994,"U21","BRC","BRS",152.44]
[20790,"SANDEMAN","Jonathan","M",1998,"U16","GLO",null,139.82]
[31065,"SANDIESON","Cal","M",1998,"U16","BSC","GSR",999.99]
[30974,"SANDLAND","Alasdair","M",2000,"U14","GSR",null,146.4]
[31129,"SANDLAND","Jamie","M",2003,"U12","GSR",null,999.99]
[20995,"SANDLER","Jameson","M",2003,"U12",null,"HEM",999.99]
[18513,"SAUNDERS","Gregory","M",1995,"U21",null,"K",999.99]
[31183,"SCHAEBBICKE","Felix","M",1997,"U18","SSC",null,999.99]
[17977,"SCHOFIELD","Connor","M",1997,"U18","HEM",null,167.95]
[20649,"SCHUBERT","Maximilian","M",2003,"U12","AVO","AVO",999.99]
[30980,"SCOTT","Calum","M",1997,"U18","GDN",null,999.99]
[31441,"SCOTT","Luke","M",2001,"U14","LSR",null,999.99]
[20679,"SCOTT","Max","M",1997,"U18","NOR","NOR",161.80000000000001]
[31371,"SCOTT","Ruaraidh","M",2002,"U12","BSC",null,999.99]
[19443,"SEAMAN","Michael","M",1986,"SEN","SZR","IMP",132.11000000000001]
[6894,"SHAILES","Darryl","M",1961,"MAS","NOR",null,174.08]
[20340,"SHAKESHAFT","James","M",2003,"U12","MID",null,999.99]
[13217,"SHARP","Anthony","M",1968,"MAS","HEM",null,121.04]
[21512,"SHARP","Edward","M",1999,"U16",null,null,999.99]
[20564,"SHARROTT","Christopher","M",1978,"MAS",null,null,999.99]
[19801,"SHAW","James","M",1998,"U16","K","K",999.99]
[1,"SHEDDEN","John","M",1943,"MAS","MER",null,999.99]
[31488,"SHEPHERD","Calum","M",2000,"U14","ASC",null,999.99]
[20520,"SHEPHERD","Matthew","M",1979,"MAS",null,null,999.99]
[21557,"SHEPHERDSON","James","M",1999,"U16","TSD",null,999.99]
[20847,"SHIELLS","Bryan","M",1998,"U16","SPR","SPR",999.99]
[20692,"SHIELLS","Rory","M",1995,"U21","SPR","SPR",999.99]
[17284,"SIEBER","James","M",1996,"U18","ASR","AMB",8.08]
[31474,"SIMMONDS","Thomas","M",2003,"U12","GSR",null,999.99]
[19457,"SIMMONS","Nigel","M",1962,"MAS","TOQ","TOQ",322.43]
[19068,"SIMMONS","Thomas","M",1995,"U21","TOQ","TOQ",254.36]
[31201,"SIMPSON","Andrew","M",2000,"U14","GDN",null,258.2]
[21233,"SIMPSON","Cameron","M",2002,"U12",null,"WM",999.99]
[20336,"SIMPSON","Jack","M",1999,"U16","SPR","SPR",999.99]
[31354,"SIMPSON","Neil","M",2002,"U12","GDN",null,999.99]
[31085,"SIRCUS","Robert","M",1995,"U21","CBN",null,999.99]
[14957,"SKOCZEK","Stefan","M",1995,"U21","SPR","SPR",999.99]
[21405,"SLADE","Ted","M",2003,"U12",null,"BSA",999.99]
[21143,"SLATER","James","M",1998,"U16","SHK",null,330.61]
[18912,"SMITH","Benjamin","M",1997,"U18","SPR","AMB",179.78]
[31367,"SMITH","Euan","M",2002,"U12","MUC",null,999.99]
[31253,"SMITH","Fraser","M",2000,"U14","SSC",null,999.99]
[20579,"SMITH","Gary","M",1984,"SEN","SMK",null,999.99]
[31187,"SMITH","Jack","M",1998,"U16","CSC",null,999.99]
[20187,"SMITH","James","M",1999,"U16","SMK","SPR",316.95999999999998]
[30694,"SMITH","Matthew","M",1993,"U21","SSC","LSR",324.91000000000003]
[20493,"SMITH","Oliver","M",1995,"U21",null,"SAS",999.99]
[21102,"SMITH","Oscar","M",2002,"U12","ASR","ASR",999.99]
[31221,"SMITH","Peter","M",2000,"U14","SSC",null,378.98]
[31236,"SMITH","Roli","M",2004,"U10","SSC",null,999.99]
[21206,"SMITH","Samuel","M",1997,"U18","SMK","SMK",170.45]
[19964,"SMITH","Thomas","M",1994,"U21","SHK",null,999.99]
[17932,"SOUTHALL","Frazer","M",1997,"U18","FLK",null,112.81]
[18378,"SOUTHALL","Merrick","M",2000,"U14","FLK",null,179.96]
[19749,"SPANTON","Nicholas","M",1965,"MAS","NOR",null,120.55]
[18417,"SPEARPOINT","Nicholas","M",1966,"MAS","OVL",null,999.99]
[20683,"SPEED","Craig","M",1999,"U16","ASR",null,134.91]
[31114,"SPEIR","Henry","M",1999,"U16","LSR",null,297.10000000000002]
[20370,"SPENCER","Tristan","M",1996,"U18","K","K",999.99]
[17385,"STAMMERS","Benjamin","M",1995,"U21","DHO","DHO",374.83]
[30526,"STANG","Alastair","M",1992,"SEN","SSC",null,18.55]
[21121,"STANWAY","Kayne","M",2005,"U10",null,"SMK",999.99]
[31319,"STEEL","Bruno","M",2002,"U12","SSC",null,999.99]
[21057,"STEINER","Toby","M",2000,"U14",null,null,999.99]
[20296,"STENSON","Daniel","M",1999,"U16",null,"K",999.99]
[31503,"STENTIFORD","James","M",1971,"MAS","GLO",null,999.99]
[31356,"STEPHEN","Lachlan","M",2001,"U14","SSC",null,356.98]
[41454,"STEPHENS","Samuel","M",1993,"U21","CAR","AMB",30.37]
[17177,"STEUDLE","Roy","M",1993,"U21",null,"AMB",999.99]
[14814,"STEVENS","Anthony","M",1962,"MAS",null,"ALU",999.99]
[19797,"STEVENSON","Christian","M",1998,"U16","TEL","TEL",168.19]
[18471,"STEVENSON","James","M",1994,"U21",null,"K",999.99]
[14808,"STRONG","Louis","M",1996,"U18",null,"K",999.99]
[14807,"STRONG","Oliver","M",1994,"U21",null,"K",999.99]
[31501,"STRUTHERS","Ailig","M",1999,"U16","SFR",null,999.99]
[21567,"STUART","Oliver","M",1999,"U16",null,null,999.99]
[30925,"STURROCK","Fraser","M",1997,"U18","SSC","GSR",121.2]
[21056,"SULEYMAN","Ata","M",2002,"U12","BRO","K",999.99]
[8747,"SWINDELLS","Robert","M",1965,"MAS","LIO","LIO",214.54]
[19624,"SYMONS","Daniel","M",1995,"U21","CHT","CHT",71.989999999999995]
[21234,"TAGGART","Matthew","M",2002,"U12",null,"SMK",999.99]
[21147,"TANDY","Joshua","M",2004,"U10","FLK",null,999.99]
[20967,"TAPSON","Toby","M",2000,"U14","DHO","DHO",999.99]
[20398,"TARANTELLI","Leone","M",1999,"U16",null,"BSA",999.99]
[20399,"TARANTELLI","Uberto","M",2000,"U14",null,"BSA",999.99]
[21550,"TARRANT","Toby","M",1997,"U18","MID",null,999.99]
[31305,"TATE","Thomas","M",1997,"U18","CSC",null,999.99]
[21527,"TATTERS","Ben","M",2001,"U14","SPR","SPR",999.99]
[21524,"TATTERS","Joshua","M",2003,"U12","SPR","SPR",999.99]
[20364,"TATTERSALL","James","M",1997,"U18","CHL","BSA",179.39]
[31186,"TAYLOR","Finlay","M",1999,"U16","SSC",null,999.99]
[18164,"TAYLOR","Laurie","M",1996,"U18",null,"BSA",355.03]
[31185,"TAYLOR","Lewis","M",1998,"U16","SSC",null,999.99]
[20361,"TAYLOR","Luke","M",1998,"U16",null,"SPR",999.99]
[19447,"TAYLOR","Patrick","M",1999,"U16","K","AMB",999.99]
[41876,"TAYLOR","Robert","M",1984,"SEN",null,null,999.99]
[31036,"TAYLOR","Ross","M",1995,"U21","GSR","SSC",48.3]
[20854,"TAYLOR-SWAN","William","M",2000,"U14","SPR","SPR",999.99]
[20146,"TAYLOR-TIPTON","Curtis","M",1996,"U18","FF","FF-",198.09]
[20147,"TAYLOR-TIPTON","Justin","M",2000,"U14","FF","FF-",267.27]
[20630,"TEAGUE","Jack","M",2004,"U10","MID",null,999.99]
[13773,"TEE","David","M",1990,"SEN","CHL","DRA",37.57]
[11915,"TELLING","Marc","M",1984,"SEN","HEM","AMB",21.13]
[12458,"TELLING","Paul","M",1982,"MAS","EVO","EVO",28.62]
[19959,"THIDLING","Max","M",1995,"U21",null,null,999.99]
[18072,"THOMAS","Cameron","M",1997,"U18","TOQ","BSA",49.57]
[41661,"THOMAS","Cyffin","M",2000,"U14","DRA","DRA",382.48]
[20884,"THOMPSON","Joseph","M",2003,"U12","NOR","ELI",999.99]
[13647,"THOMPSON","Matthew","M",1993,"U21","HEM","K",5]
[30987,"THOMSON","Ross","M",1999,"U16","SSC",null,422.58]
[18586,"THORLEY","Alasdair","M",1994,"U21","MID","OXU",61.87]
[18998,"THORLEY","Duncan","M",1997,"U18","MID",null,197.45]
[19985,"THORNTON","Adam","M",2003,"U12","LIO","LIO",999.99]
[18652,"THORNTON","Luke","M",1998,"U16",null,"LIO",211.36]
[19078,"THURSFIELD","Dylan","M",1997,"U18","HEM","HEM",999.99]
[19077,"THURSFIELD","Emrys","M",1999,"U16","HEM","HEM",999.99]
[20827,"THURSTON","Tomas","M",1997,"U18","WCS","K",999.99]
[17950,"TODD-SAUNDERS","Samuel","M",1996,"U18","DHO","DHO",87.67]
[20811,"TOH","Alexander","M",2000,"U14","HEM","HEM",999.99]
[20812,"TOH","James","M",2000,"U14","HEM","HEM",999.99]
[17043,"TOMLINSON","Josef","M",1994,"U21","PPS","LIO",87.58]
[17467,"TREBILCOCK","Robert","M",1993,"U21","HEM","HEM",26.7]
[20670,"TREUGE","Matthew","M",2002,"U12","MID","MID",999.99]
[21105,"TREVOR","Samuel","M",1999,"U16","SPR","SPR",999.99]
[20645,"TREW","Richard","M",2000,"U14","HEM","K",190]
[31391,"TRINDER","Angus","M",1996,"U18","CSN",null,999.99]
[31270,"TRINDER","Jamie","M",1994,"U21","CSN",null,999.99]
[20687,"TROUNG","Aaron","M",2001,"U14","VIK","AMB",149.04]
[30869,"TROUP","Kieran","M",2000,"U14","GDN","BSA",999.99]
[13403,"TUCKER","Colin","M",1946,"MAS","SLP","K",905.5]
[12858,"TUCKER","William","M",1991,"SEN","LSU","LSU",541.34]
[21572,"TURNER","Alife","M",2003,"U12","HEM","HEM",999.99]
[21265,"UNDERKOFFLER","Lucas","M",1996,"U18",null,null,999.99]
[18992,"UPTON","Ben","M",1994,"U21","WGC",null,55.21]
[21052,"UPTON","Jack","M",2004,"U10","STS",null,999.99]
[21051,"UPTON","Thomas","M",2001,"U14","STS",null,341.66]
[21197,"URQUHART","Aidan","M",2004,"U10","HEM","HEM",999.99]
[21196,"URQUHART","Colm","M",2001,"U14","HEM","HEM",351.26]
[9129,"URQUHART","John","M",1968,"MAS","HEM","HEM",119.2]
[20714,"VANBECK","Robert","M",1998,"U16","SMK",null,152.09]
[21443,"VAUDRY","Nicholas","M",1999,"U16",null,null,999.99]
[31078,"VAUGHAN","Seoras","M",1998,"U16","CSC",null,999.99]
[30968,"VEITCH","Lachlan","M",1998,"U16","SSC","BSA",322.04000000000002]
[20848,"VICKERS","Charlie","M",1999,"U16","SPR","SPR",999.99]
[21456,"VINCENT","Ben","M",2003,"U12","TSN","TSN",999.99]
[30923,"VINTER","Owen","M",2001,"U14","GSR",null,121.89]
[30831,"VINTER","Zak","M",1998,"U16","GSR",null,48.09]
[20163,"WAGHORNE","Robert","M",1997,"U18","SMK","AMB",122.04]
[31213,"WAITT","Scott","M",2000,"U14","SSC",null,228.29]
[31125,"WAITT","Stuart","M",1999,"U16","SSC","LSR",228.04]
[21448,"WALBRIDGE","James","M",1992,"SEN",null,null,999.99]
[20065,"WALKER-MORETTI","Ralph","M",1998,"U16","CHL","TEL",170.76]
[31334,"WALLIS","Finlay","M",1997,"U18","LSR",null,377.11]
[9810,"WALTERS","Peter","M",1980,"MAS","BRO",null,20]
[21526,"WALTON","Matthew","M",2002,"U12","SAS","SAS",999.99]
[21545,"WANG","Matthew","M",1983,"MAS","HEM","HEM",999.99]
[21295,"WARD","Joel","M",1991,"SEN",null,null,999.99]
[31195,"WARD","Thomas","M",2002,"U12","GSR",null,999.99]
[18661,"WARMINGTON","Richard","M",1997,"U18","HEM","HEM",87.96]
[21495,"WASHER","Piers","M",1998,"U16",null,"EVO",999.99]
[21145,"WATERSTON","Laughlan","M",1971,"MAS","HEM","HEM",217.14]
[41042,"WATSON","Andrew","M",1991,"SEN","CAR","DRA",0]
[31204,"WATSON","Jack","M",1999,"U16","BSC",null,289.72000000000003]
[19564,"WAYLING","Lloyd","M",1995,"U21","NOR","BSA",56.37]
[19702,"WEBB","Jamie","M",1998,"U16",null,"SMK",202.1]
[19051,"WEEKS","Oliver","M",2001,"U14","MID","DRA",119.29]
[21493,"WEIR","Daniel","M",2001,"U14","RAV",null,999.99]
[20087,"WEIR","Jonathan","M",1990,"SEN","LSU","LSU",231.88]
[20970,"WEIR","Richard","M",1964,"MAS","RAV","RAV",162.85]
[21067,"WEIR","Roddy","M",1997,"U18","RAV",null,144.41]
[17983,"WELLER","Mark","M",1992,"SEN","ASR",null,89.84]
[31434,"WHATFORD","Ben","M",2005,"U10","GDN",null,999.99]
[14168,"WHEATMAN","Max","M",1993,"U21","NOR","IMP",49.86]
[19209,"WHEELER","William","M",1997,"U18","HEM","TEL",82.37]
[12359,"WHELAN","Peter","M",1989,"SEN","SPR","SPR",422.75]
[18467,"WHITE","Alex","M",1997,"U18","HEM","TEL",77.37]
[10965,"WHITE","Duncan","M",1984,"SEN","DHO","SPR",999.99]
[18234,"WHITE","Thomas","M",1992,"SEN","AMB","AMB",35.11]
[19612,"WHITLEY","James","M",1997,"U18","K","K",999.99]
[18996,"WHITTALL","Joseph","M",1995,"U21","BRS","SAS",161.22]
[20159,"WHITTALL","Trevor","M",1958,"MAS","BRS","SAS",575.6]
[3199,"WHITTET","Jeremy","M",1967,"MAS","SSC","DHO",999.99]
[20637,"WIGMORE","Matthew","M",1996,"U18","NOR",null,96.19]
[19346,"WILKINS","Simon","M",1992,"SEN","TEL","TEL",146.82]
[18917,"WILLIAMS","Christian","M",1998,"U16",null,"K",999.99]
[31128,"WILLIAMS","Conway","M",1965,"MAS","GSR","SSC",152.97999999999999]
[19129,"WILLIAMS","Harry","M",1994,"U21","FLK",null,67.430000000000007]
[19130,"WILLIAMS","Jamie","M",1992,"SEN","FLK",null,62.32]
[21563,"WILLIAMS","Lewis","M",1999,"U16","AVO","AVO",999.99]
[20729,"WILLIAMS","Matthew","M",2004,"U10","TEL",null,999.99]
[18022,"WILLIAMS","Sam","M",1997,"U18","SAS","SAS",130.11000000000001]
[30998,"WILLIAMS","Scott","M",1999,"U16","GSR","SSC",152.6]
[21103,"WILLIAMS-GRAVENER","David","M",2001,"U14","FLK","DHO",283.10000000000002]
[20613,"WILLIS","James","M",2001,"U14","SMK","SMK",257.93]
[20706,"WILLIS","James","M",2003,"U12","SLP",null,999.99]
[17930,"WILLIS","Robert","M",1996,"U18","AMB","AMB",418.36]
[20519,"WILLOUGHBY","Oliver","M",2002,"U12","EVO","EVO",999.99]
[18558,"WILLOWS","Laurence","M",1996,"U18","BRO","BSA",56.41]
[20290,"WILLS","Angus","M",1999,"U16",null,"BSA",999.99]
[20710,"WILMOT","Jack","M",2000,"U14","SPR","SPR",999.99]
[31255,"WILOWSKI","Kazimierz","M",2000,"U14","GDN",null,999.99]
[31402,"WILSON","Carter","M",2001,"U14","LSR",null,373.45]
[21362,"WILSON","Geoffrey","M",1996,"U18","VIK",null,999.99]
[41031,"WILSON","Hugh","M",1987,"SEN","CAR","DRA",91.97]
[19420,"WITTS","Callum","M",1998,"U16","PND",null,55.1]
[18512,"WITTS","Kaigan","M",1994,"U21","PND","PND",47.23]
[20814,"WOODWARD","Stewart","M",1955,"MAS",null,null,999.99]
[19419,"WRIGHT","Alexander","M",1994,"U21","GLO","IMP",94.32]
[31089,"WRIGHT","Dewar","M",1999,"U16","SSC",null,109.46]
[31176,"WYLIE","Scott","M",2001,"U14","GSR",null,215.73]
[17319,"YATES","Christopher","M",1996,"U18","TEL","TEL",44.07]
[31378,"YEAMAN","Robert","M",2001,"U14","GSR",null,294.58999999999997]
[31455,"YORK","Scott","M",2002,"U12","GSS",null,999.99]
[31310,"YOUNG","Gregor","M",1995,"U21","HNC","BND",999.99]
[20605,"YULE-SMITH","Oliver","M",1996,"U18","SPR","SPR",999.99]
[21093,"ZIELEZNIK","Oskar","M",2004,"U10",null,"SPR",999.99]
[21595,"SMITH","James","M",1992,"SEN","MID",null,999.99]
[21633,"KIRKLAND","Matthew","M",1992,"SEN","MID",null,999.99]
["DAY",null,null,null,null,null,null,null,999.99]
[21606,"VALLAT","Agathe","F",1999,"U16","MID",null,999.99]

{"sheet":"2013.1","index":8,"n_rows":1619,"n_cols":9,"rows_kept":1619,"cut":false,"hidden":true,"merged":[]}
["REGNO","SURNAME","FORENAME","SEX","YOB","CAT","CLUB1","CLUB2","PTS"]
[19440,"ADAMS","Sarah","F",1997,"U18","DHO","DHO",999.99]
[31352,"ADLINGTON","Sophie","F",1996,"U18","RHS",null,344.5]
[21161,"ALBONE","Catherine","F",2003,"U12",null,"SMK",999.99]
[8242,"ALCOTT","Chimene","F",1982,"MAS","SPR","DHO",147.63999999999999]
[31449,"ALDRIDGE","Iona","F",2003,"U12","MUC","SSC",999.99]
[30802,"ALEXANDER","Megan","F",1999,"U16","DHO","SSC",999.99]
[31340,"ALLAN","Amelia","F",2001,"U14","GDN",null,247.63]
[30833,"ALLAN","Katie","F",1996,"U18","BSC",null,55.52]
[31436,"ALLAN","Phoebe","F",2004,"U10","GDN",null,999.99]
[31208,"ALLAN","Tabitha","F",2000,"U14","GDN",null,203.76]
[12570,"ALLDRIDGE","Amanda","F",1991,"SEN",null,null,999.99]
[14159,"ANDERSON","Beverley","F",1970,"MAS","VIK","K",94.24]
[31316,"ANDERSON","Grace","F",2002,"U12","SSC",null,999.99]
[17560,"ANDERSON","Jessica","F",1998,"U16","GRV","BSA",69.61]
[30988,"ANDERSON","Keri","F",1996,"U18","GSR","SSC",40.76]
[31312,"ANDERSON","Laura","F",1996,"U18",null,null,167.93]
[30664,"ANGUS","Kate","F",1994,"U21","GDN","SSC",256.52]
[19031,"ARTHUR","April","F",2001,"U14","SAS","SAS",384.91]
[14906,"BAGGE","Christine","F",1969,"MAS","NOR",null,999.99]
[12428,"BAGGIO","Jayme","F",1991,"SEN",null,"AMB",999.99]
[20805,"BAILES","Lucy","F",2001,"U14",null,"ELI",246.24]
[31410,"BAKER","Jessica","F",2000,"U14","LSR",null,999.99]
[31411,"BAKER","Rachel","F",2002,"U12","LSR",null,999.99]
[30852,"BANKS BROWN","Yandra","F",1996,"U18","CSC",null,999.99]
[21303,"BANNISTER","Lucy","F",2002,"U12","ASR",null,999.99]
[20999,"BARDER","Beatrice","F",1999,"U16","HEM","HEM",999.99]
[20998,"BARDER","Katie","F",2003,"U12","HEM","HEM",999.99]
[31000,"BARKER","Emily","F",1998,"U16","SSC","LSR",123.15]
[30636,"BARKER","Katy","F",1996,"U18","SSC","LSR",86.73]
[31336,"BARTHRAM","Alice","F",2001,"U14","LSR","SSC",248.17]
[19680,"BAXTER","Phillipa","F",1998,"U16","VIK","BSA",158.65]
[30995,"BEATTIE","Natalie","F",1994,"U21","ARB",null,999.99]
[10612,"BECK","Catherine","F",1960,"MAS","LIO","LIO",225.92]
[10654,"BECK","Hannah","F",1987,"SEN","LIO","LIO",186.93]
[19133,"BEE","Anastasia","F",1994,"U21","WGC",null,111.38]
[20711,"BEER","Georgina","F",1996,"U18","RAV",null,88.44]
[21338,"BELL","Reece","F",2001,"U14",null,"BSA",999.99]
[20727,"BELL","Rosemary","F",2001,"U14","HEM",null,290.31]
[19587,"BENNETT","Lucy","F",1999,"U16","SZR","SZR",112.44]
[21647,"BIGGS","Eloise","F",2004,"U10",null,null,999.99]
[20168,"BILL","Rachel","F",1990,"SEN","MID","MID",33.85]
[18530,"BIRD","Abigail","F",1997,"U18","SRR","SRR",142.63999999999999]
[20132,"BLACK","Grace","F",2003,"U12","PPS","DRA",999.99]
[21140,"BLACK","Lauren","F",2001,"U14","AVO","AVO",307.2]
[21317,"BLEASDALE","Janice","F",1962,"MAS","NSC",null,999.99]
[31375,"BOLE","Gemma","F",2001,"U14","SSC",null,376.92]
[31376,"BOLE","Rebecca","F",2003,"U12","LSR",null,999.99]
[41826,"BONNINGTON","Keira","F",2002,"U12",null,null,999.99]
[21522,"BOSWELL","Olivia","F",1999,"U16","SRR","SRR",999.99]
[19712,"BOTY","Carys","F",1999,"U16","HEM","ELI",999.99]
[21334,"BOTY","Nia","F",2003,"U12","HEM","ELI",999.99]
[20901,"BOYCOTT","Nina","F",2000,"U14","LIO","LIO",999.99]
[30844,"BOYD","Kirsten","F",1996,"U18","SSC",null,90.26]
[18618,"BOZIER","Hannah","F",1996,"U18","ASR","ASR",0]
[19746,"BRADLEY","Lydia","F",2000,"U14","HEM","HEM",181.29]
[31301,"BRODIE","Anna","F",1997,"U18",null,null,999.99]
[19504,"BROOKER","Lolli","F",2001,"U14","VIK","ELI",106.85]
[19821,"BROWN","Alysha","F",2002,"U12",null,"K",999.99]
[31482,"BROWN","Anna","F",2006,"U8",null,null,999.99]
[30868,"BROWN","Cara","F",1994,"U21","SSC","BSA",999.99]
[20299,"BROWN","Charlotte","F",2003,"U12",null,"K",999.99]
[20348,"BROWN","Elektra","F",2003,"U12",null,null,999.99]
[18576,"BROWN","Ellen","F",1996,"U18","TEL","TEL",28.41]
[19519,"BROWN","Eloise","F",1993,"U21","WCS","WCS",149.44999999999999]
[20347,"BROWN","Isobel","F",1999,"U16",null,null,169.92]
[20346,"BROWN","Jemima","F",2001,"U14",null,null,272.06]
[19520,"BROWN","Madeleine","F",1998,"U16","WCS","WCS",135.57]
[31191,"BROWN","Rachel","F",2000,"U14","GDN","ASC",162.55000000000001]
[20367,"BRUCE","Abigail","F",2000,"U14","EVO","EVO",182.78]
[31493,"BRUCE","Emma","F",2000,"U14","BSC",null,999.99]
[31492,"BRUCE","Kate","F",1998,"U16","BSC",null,999.99]
[20368,"BRUCE","Sasha","F",1999,"U16","EVO","EVO",257.18]
[17686,"BUCHANAN","Alexandra","F",1994,"U21",null,"AMB",999.99]
[20360,"BUCKLAND","Amber","F",1997,"U18","HEM","BSA",170.06]
[14661,"BULLOCK","Alexandra","F",1995,"U21","TEL","TEL",12.97]
[31484,"BURKE","Olivia","F",2002,"U12","GSS",null,999.99]
[21139,"BURKINSHAW","Rowena","F",1979,"MAS","CHL","CHL",104.85]
[20601,"BURNS","Madeleine","F",2001,"U14","HEM","BSA",165.75]
[20339,"BURROUGHS","Hannah","F",2000,"U14","NOR",null,302.23]
[20860,"BURTON","Maisie","F",2002,"U12","LIO","LIO",999.99]
[19586,"BUTCHER","Jazmine","F",1997,"U18","NOR","BSA",83.83]
[12970,"CADMAN","Lauren","F",1990,"SEN","LIO",null,30.4]
[31357,"CALDER","Emma","F",2002,"U12","GDN",null,999.99]
[20833,"CALDWELL","Anna","F",2002,"U12","SAS","SAS",999.99]
[19399,"CALDWELL","Sophie","F",1996,"U18","CHL","DRA",119.67]
[41954,"CAMPBELL","Caitriona","F",1997,"U18","SCI",null,999.99]
[31161,"CAMPBELL","Erin","F",1999,"U16","GSR",null,560.44000000000005]
[13638,"CAMPBELL-WOODWARD","Sarah","F",1954,"MAS",null,null,263.43]
[31407,"CANE","Eilidh","F",2000,"U14","LSR",null,999.99]
[19983,"CARE","Chloe","F",1998,"U16","MID",null,224.39]
[17890,"CARPENTER","Gabriella","F",1993,"U21","SPR","SPR",292.19]
[31155,"CARRUTHERS","Philipa","F",1997,"U18","SSC",null,999.99]
[31203,"CARSON","Clare","F",1994,"U21","GSR",null,87.98]
[20694,"CATLIN","Glesni","F",2003,"U12","SMK","K",999.99]
[31473,"CELINO","Carly","F",2003,"U12","BSC",null,999.99]
[31472,"CELINO","Melanie","F",1999,"U16","BSC",null,999.99]
[31497,"CHAPMAN","Vaila","F",1997,"U18","BSC",null,999.99]
[20366,"CHASTNEY","Rebecca","F",2002,"U12","WM","BSA",999.99]
[21055,"CHEADLE","Emily","F",1999,"U16",null,"K",999.99]
[21437,"CHEADLE","Jessica","F",2001,"U14",null,"K",999.99]
[21059,"CHMIELOWSKA","Claudia","F",1998,"U16","HEM","K",999.99]
[21521,"CHMIELOWSKA","Julia","F",1996,"U18","HEM",null,999.99]
[21341,"CHRISTOPHER","Rebecca","F",1998,"U16","SPR","SPR",999.99]
[20810,"CLARKE","Holly","F",2003,"U12","HEM","HEM",999.99]
[31335,"CLARKE","Jemma","F",2001,"U14","LSR",null,163.29]
[18316,"CLISSOLD","Honor","F",1997,"U18","EVO","EVO",159.61000000000001]
[20791,"COATES","Darcie","F",2000,"U14","AVO","BSA",999.99]
[21073,"COATES","Imogen","F",1998,"U16",null,"HEM",999.99]
[20139,"COE","Megan","F",1997,"U18","NOR",null,45.23]
[20352,"COLLEY","Isabella","F",1999,"U16","SPR","SPR",999.99]
[31240,"COLLIAR","Emilie","F",1999,"U16","SSC",null,999.99]
[21358,"COOK","Ellie","F",1998,"U16","GLO",null,249.47]
[18676,"COOPER","Georgina","F",1996,"U18","GLO","DRA",59.32]
[19770,"COOPER","Izabelle","F",2001,"U14","SAS","BSA",999.99]
[19628,"COOPER","Lauren","F",1999,"U16","SAS","SAS",999.99]
[19137,"COOPER","Yasmin","F",1998,"U16","HEM","BSA",28.37]
[20842,"CORRIGAN","Caroline","F",2002,"U12","SPR","SPR",999.99]
[21593,"COWELL","Milly","F",2002,"U12",null,null,999.99]
[31433,"CRANE","Joanna","F",2001,"U14","CSC",null,999.99]
[31242,"CRANE","Rachel","F",1998,"U16","CSC",null,999.99]
[20631,"CRANE-ROBINSON","Freddie","F",1998,"U16",null,"DHO",999.99]
[21538,"CRANFIELD","Lizzie","F",1982,"MAS",null,null,999.99]
[21584,"CRICHTON-STUART","Lola","F",1999,"U16",null,null,999.99]
[31419,"CROOKS","Georgia","F",2002,"U12","BSC",null,999.99]
[31420,"CROOKS","Mhairi","F",2002,"U12","BSC",null,999.99]
[31499,"CROSS","Jemima","F",2003,"U12","SSC",null,999.99]
[21597,"CULSHAW","Eleanor","F",2003,"U12","PND",null,999.99]
[21177,"CULSHAW","Katie","F",1996,"U18","SRR",null,999.99]
[31205,"CUNNINGHAM","Hannah","F",1999,"U16","BSC",null,287.72000000000003]
[31219,"CURRIE","Poppy","F",2000,"U14","MUC","GSC",999.99]
[19773,"CURTIS","Marie","F",1997,"U18",null,"HEM",62.75]
[20800,"DALE","Safia","F",2000,"U14","DHO","DHO",999.99]
[20256,"DANENBERGSONS","Shana","F",2000,"U14","HEM","EVO",97.63]
[19531,"DANIELS","Daisi","F",2002,"U12","CHL","EVO",999.99]
[19414,"DANNATT","Gemma","F",1996,"U18","GLO","DRA",63.4]
[30759,"DAULBY","Hannah","F",1995,"U21","SSC","LSR",99.57]
[31317,"DAVIDSON-MCQUEEN","Cassie","F",2002,"U12","LSR",null,999.99]
[41488,"DAVIES","Charlotte","F",1991,"SEN","GLO","DRA",7.5]
[21575,"DAVIES","Esmie","F",1999,"U16",null,null,999.99]
[17936,"DAVIES","Jenny","F",1996,"U18","ASR",null,11.94]
[20890,"DAVIES","Megan","F",2001,"U14","HEM","K",218.63]
[20069,"DAVIES-NASH","Yasmin","F",1997,"U18","BSA","BSA",999.99]
[21176,"DAVIGHI","Lucia","F",1999,"U16","HEM","HEM",302.3]
[31469,"DAVIS","Meghan","F",2000,"U14",null,null,999.99]
[17435,"DAWSON","Laura","F",1993,"U21","OVL",null,182.61]
[31409,"DEANE","Annabella","F",2000,"U14","LSR",null,999.99]
[31408,"DEANE","Esme","F",2002,"U12","LSR",null,999.99]
[20178,"DEIGHTON","Avelline","F",1967,"MAS","HEM","SAS",257.02]
[17888,"DELLER","Lucy","F",1996,"U18","MID",null,15.68]
[18632,"DENNING","Clare","F",1998,"U16",null,"BSA",999.99]
[21148,"DENT","Hollie","F",2004,"U10","RAV","RAV",999.99]
[31466,"DICKSON","Sophie","F",1999,"U16","CSC",null,999.99]
[21331,"DILWORTH","Lucinda","F",1998,"U16",null,"BSA",999.99]
[13027,"DIXON","Kirsty","F",1992,"SEN","SPR","SPR",999.99]
[19573,"DOHERTY","Robyn","F",1996,"U18","MID",null,530.29]
[31104,"DOUGLAS","Abigail","F",1999,"U16","SSC","MUC",72.319999999999993]
[21124,"DRUMMOND","Elinor","F",2003,"U12","TEL","TEL",999.99]
[21094,"DRUMMOND","Isabel","F",2001,"U14","TEL","TEL",290.20999999999998]
[31262,"DUNCAN","Martha","F",1999,"U16","LSR",null,320.68]
[20141,"EATON","Freya","F",1998,"U16","AMB","AMB",111.8]
[20618,"EAVES","Eleanor","F",2003,"U12","PND",null,999.99]
[19155,"EDEN","Katie","F",1996,"U18","TOQ","BSA",84.81]
[21012,"EDWARDS","Issy","F",2001,"U14",null,null,309.89999999999998]
[21013,"EDWARDS","Lucy","F",2001,"U14",null,null,364.33]
[21630,"EDWARDS","Rachel","F",1963,"MAS","KYN",null,999.99]
[19165,"ELGY","Geraldine","F",1954,"MAS","MID",null,275.20999999999998]
[21017,"ELLIFF","Alexa","F",2003,"U12","VIK",null,999.99]
[31081,"ENGLAND","Isabella","F",2000,"U14","SSC",null,999.99]
[31080,"ENGLAND","Jessica","F",1998,"U16","SSC",null,499.2]
[13711,"ESPINOSA","Stephanie","F",1993,"U21","SPR","SPR",646.95000000000005]
[13766,"EVANS","Emily","F",1994,"U21","K","AMB",2.5]
[20701,"FELLOWS","Charley","F",2003,"U12","TEL","TEL",999.99]
[21202,"FENWICK","Thea","F",2001,"U14","SZR","SZR",999.99]
[30964,"FERRIER","Rachael","F",1996,"U18","GSR","SSC",23.01]
[21486,"FISHER","Charlotte","F",2000,"U14",null,"ELI",999.99]
[20576,"FITZGERALD","Jordan","F",1996,"U18",null,null,999.99]
[31454,"FITZPATRICK","Molly","F",2003,"U12","GSR",null,999.99]
[31091,"FLEMING","Alex","F",1999,"U16","SSC",null,265.3]
[20528,"FLUCK","Catrin","F",1998,"U16","SPR",null,999.99]
[20856,"FOSTER","Olivia","F",2001,"U14","SPR","SPR",129]
[20855,"FOSTER","Sophie","F",2003,"U12","SPR","SPR",999.99]
[31226,"FOWLER","Isla","F",2000,"U14","SSR","GSC",284.24]
[20674,"FRANCIS","Alexandra","F",1998,"U16","SMK","SMK",194.16]
[20675,"FRANCIS","Francesca","F",1996,"U18","SMK","SMK",999.99]
[14942,"FREEZE","Danielle","F",1990,"SEN","BRO",null,51.68]
[20614,"FRYERS","Charlotte","F",1999,"U16",null,"BSA",999.99]
[41968,"FURLONG","Georgia","F",2000,"U14","CAR",null,296.64]
[30500,"GARDINER","Carla-Marina","F",1989,"SEN","EDS",null,17.16]
[20345,"GARMENT","Harriett","F",2000,"U14","WGC","HEM",388.18]
[30866,"GARVIE","Amber","F",1998,"U16","GDN",null,236.06]
[21182,"GAY","Caroline","F",2003,"U12","HEM","DHO",999.99]
[21183,"GAY","Catherine","F",2003,"U12","HEM","DHO",999.99]
[21181,"GAY","Elizabeth","F",1999,"U16","HEM","DHO",131.97999999999999]
[31264,"GIBB","Eva","F",2000,"U14","LSR",null,392.07]
[31258,"GIBB","Tabitha","F",2000,"U14","LSR",null,514.86]
[20868,"GIBBONS","Molly-Jo","F",2001,"U14","SPR","SPR",999.99]
[31381,"GILMOUR","Amelie","F",2002,"U12","MUC",null,999.99]
[19001,"GLASGOW","Sarah","F",2001,"U14","SMK","AMB",170]
[21007,"GLASSBROOK","Amy","F",2002,"U12",null,"CHL",999.99]
[30850,"GLOISTEIN","Helen","F",1996,"U18","MUC","SSC",137.31]
[41007,"GODDARD","Emily","F",1987,"SEN","GLO","DRA",25.98]
[20861,"GODDARD-JONES","Bryony","F",2001,"U14","SLP","SLP",116.58]
[19535,"GORDON","Maya","F",1995,"U21",null,"K",999.99]
[41910,"GORRINGE","Cerys","F",2000,"U14","IMP",null,999.99]
[41911,"GORRINGE","Giselle","F",2003,"U12","IMP",null,999.99]
[17747,"GOULD","Charlotte","F",1992,"SEN","TEL","TEL",0.87]
[17972,"GOULD","Georgina","F",1994,"U21","TEL","TEL",41]
[21053,"GRANT","Isabelle","F",2003,"U12",null,"BSA",999.99]
[31239,"GRAY","Hannah","F",2000,"U14","ASC",null,999.99]
[17439,"GREASBY","Alexandra","F",1994,"U21","HEM",null,93.22]
[19275,"GREAVES","Rebecca","F",1999,"U16","CHL","EVO",179.82]
[17689,"GREENBANK","Kelly","F",1996,"U18","TEL","TEL",66.599999999999994]
[13814,"GREENHALGH","Eloise","F",1993,"U21","SPR","SPR",27.08]
[20391,"GRIFFITHS","Inez","F",1995,"U21","SHK",null,101.81]
[30633,"GUEST","Charlotte","F",1993,"U21","SSC","BSA",108.15]
[30779,"GUEST","Katharine","F",1995,"U21","SSC","BSA",296.33]
[30920,"GUEST","Kirsty","F",1997,"U18","SSC","BSA",549.79]
[20718,"HADLEY","Rebecca","F",2004,"U10","SMK",null,999.99]
[21361,"HAIGH","Lucy","F",2000,"U14",null,null,999.99]
[21360,"HAIGH","Sarah","F",1997,"U18",null,null,999.99]
[41274,"HALES","Alice","F",1992,"SEN","CAR","DRA",0.15]
[21587,"HALES","Madeleine","F",2003,"U12",null,"SPR",999.99]
[20936,"HALL","Maria","F",1995,"U21","LIO","LIO",999.99]
[41705,"HALLETT","Georgia","F",1996,"U18","CAR","DRA",27.18]
[18617,"HANCOCK","Maxine","F",1997,"U18","MID","SMK",94.5]
[14237,"HANDFORD-STYRING","Hannah","F",1996,"U18","PPS","PPS",999.99]
[21428,"HARE","Sasha","F",1996,"U18","TOQ","TOQ",999.99]
[21301,"HARRISON","Louise","F",1994,"U21","PND","PND",140.9]
[21561,"HARROGATE-BRAMLEY","Cheryl","F",1962,"MAS","RAV","RAV",999.99]
[21590,"HARROP","Emily","F",1997,"U18",null,null,999.99]
[31229,"HARTE","Giulia","F",1996,"U18","THR",null,999.99]
[30848,"HARTE","Natalia","F",1992,"SEN","THR",null,50.91]
[4944,"HATCHER","Kirsty","F",1991,"SEN","CAR","K",32.03]
[17970,"HATHWAY","Ellen","F",1994,"U21","LSU","ASR",7.5]
[18660,"HATHWAY","Isabella","F",1997,"U18","ASR",null,39.71]
[19367,"HAWKINS-HOOKER","Laetitia","F",1996,"U18","SPR","SPR",343.25]
[31483,"HAY","Ailsa","F",2004,"U10","SSC","SLR",999.99]
[21629,"HEAGUE","Veronica","F",1953,"MAS","WGC","SMK",999.99]
[19126,"HEGINBOTHAM","Erika","F",1998,"U16",null,"BSA",134.80000000000001]
[21569,"HEMMING","Anya","F",2005,"U10","MID",null,999.99]
[19159,"HENDERSON","Anna","F",1998,"U16","HEM","AMB",7.5]
[31211,"HENDERSON","Caitlin","F",1999,"U16","BSC",null,261.58]
[21163,"HENDLEY","Sian","F",2000,"U14","LIO","LIO",999.99]
[18863,"HENERY","Deborah","F",1997,"U18","SHK","LIO",28.17]
[31246,"HEWISON","Megan","F",2001,"U14","CSC","ASC",999.99]
[21216,"HEYMOZ","Louise","F",2002,"U12","WGC",null,999.99]
[21444,"HINDES","Chloe","F",1996,"U18",null,"AMB",999.99]
[20789,"HINTON","Georgina","F",2001,"U14","HEM","SPR",337.12]
[21284,"HINTON","Tilly","F",2004,"U10","HEM","SPR",999.99]
[21580,"HOFFMAN-LITTLE","Jolie","F",2005,"U10",null,null,999.99]
[21621,"HOLMES","Charlotte","F",2005,"U10","PND",null,999.99]
[41480,"HOPKINS","Emily","F",1994,"U21","CAR","DRA",7.92]
[31298,"HORNSBY","Vaila","F",1997,"U18","CSC",null,999.99]
[31416,"HORSBURGH","Anna","F",2002,"U12","SSC","LSR",999.99]
[21199,"HORTON","Siena","F",2002,"U12","SMK","SMK",999.99]
[20208,"HOSKINS","Isabella","F",1999,"U16","GLO","BSA",276.67]
[21530,"HUFF","Sarah","F",1999,"U16","SPR",null,999.99]
[20971,"HUGEC","Nadine","F",2002,"U12","SAS","SAS",999.99]
[20972,"HUGEC","Nicole","F",2000,"U14","SAS","SAS",789.18]
[13840,"HUGHES","Rachel","F",1992,"SEN",null,null,147.51]
[21549,"HUGHES","Rachel","F",1997,"U18","SUR","SUR",999.99]
[31071,"HULBERT","Jemma","F",1996,"U18","SSC","MUC",173.62]
[31070,"HULBERT","Lucy","F",1998,"U16","SSC","MUC",245.79]
[31077,"HUNSLEY","Miriam","F",1995,"U21","SSC","LSR",226.54]
[21556,"HUNT","Hannah","F",1997,"U18","TSD","TSD",999.99]
[21047,"HUTCHINSON","Elyse","F",1999,"U16",null,null,999.99]
[21535,"HYDE","Augusta","F",2000,"U14","ASR","SPR",999.99]
[41816,"HYETT","Georgia","F",2000,"U14","CAR","DRA",132.79]
[20332,"IGLINA","Sofia","F",1997,"U18","BSA","BSA",999.99]
[31327,"INWOOD","Morgan","F",2001,"U14","LSR",null,268.61]
[21024,"JACKSON","Ellie","F",2002,"U12","TEL","TEL",999.99]
[31366,"JACKSON","Isla","F",2002,"U12","SSC",null,999.99]
[30872,"JACKSON","Laura","F",1997,"U18","SSC","GSR",55.07]
[19677,"JACKSON","Lois","F",2001,"U14","RAV","AMB",77.94]
[19676,"JACKSON","Millie","F",1999,"U16","RAV",null,42.11]
[21570,"JALLAT","Annabel","F",2003,"U12",null,null,999.99]
[41915,"JAMES","Harriet","F",1999,"U16","CAR",null,195.83]
[41928,"JAMES","Liilli","F",2003,"U12","CAR",null,999.99]
[18560,"JAMES","Sophie","F",1995,"U21","KYN","SAS",111.12]
[31266,"JAMIESON","Emily","F",2000,"U14","SSC",null,272.3]
[21509,"JEFFERSON","Jemima","F",2004,"U10",null,"LIO",999.99]
[21510,"JEFFERSON","Maisie","F",2003,"U12",null,"LIO",999.99]
[31035,"JEFFRAY","Claire","F",1977,"MAS","SSC",null,989]
[41623,"JENKINS","Megan","F",1998,"U16","NOR","BSA",14.99]
[41622,"JENKINS","Nia","F",1995,"U21","NOR","BSA",26.4]
[31343,"JOHNSTONE","Logan","F",2000,"U14","LSR",null,426.61]
[17488,"KAHVE","Lucy","F",1998,"U16","AMB","AMB",999.99]
[21150,"KARAVASILI","Zoe","F",1997,"U18",null,null,73.209999999999994]
[21123,"KELLY","Anna","F",2003,"U12","SMK","SMK",999.99]
[31382,"KELLY","Iona","F",2002,"U12",null,null,999.99]
[19011,"KEYS","Georgia","F",2001,"U14","WYC","EVO",117.88]
[19494,"KIEMLE-GABBAY","Julia","F",1994,"U21",null,"CHL",101.34]
[19493,"KIEMLE-GABBAY","Laura","F",1992,"SEN",null,"CHL",167.83]
[17692,"KIRK","Isabel","F",1997,"U18","BSA","BSA",147.21]
[18328,"KOCK","Evangeline","F",1994,"U21","SPR","SPR",148.35]
[18318,"KRAHELSKI","Alicja","F",2000,"U14","HEM","TEL",76.069999999999993]
[21310,"KROLL","Ann","F",1971,"MAS","NSC",null,999.99]
[21375,"LAMARRE","Olivia","F",1995,"U21",null,null,999.99]
[14746,"LAMBDEN","Sarah","F",1995,"U21","GLO","DRA",7.5]
[31394,"LAMOND","Emma","F",2002,"U12","SSC",null,999.99]
[31498,"LANGMUIR","Nula","F",1999,"U16","SSC",null,999.99]
[41711,"LARGE","Sophie","F",2001,"U14",null,null,999.99]
[31478,"LATTO","Rosamund","F",1999,"U16","CSC",null,999.99]
[31100,"LAWRIE","Alannah","F",1999,"U16","SSC","ASC",57.12]
[19503,"LAWSON-TILLEY","Sarah","F",1994,"U21",null,"DRA",999.99]
[18913,"LEE","Francesca","F",1998,"U16","RAV","SSC",10.5]
[41577,"LEE","Jane","F",1954,"MAS","MID",null,533.71]
[20620,"LEGEAIS","Marion","F",1998,"U16",null,"BSA",999.99]
[21607,"LEIGHTON","Amie","F",2001,"U14","SPR",null,999.99]
[21074,"LEONARD","Heather","F",1973,"MAS",null,"SMK",389.89]
[19152,"LEWINGTON","Caitlin","F",1999,"U16","BRO",null,99.43]
[20097,"LEWIS","Isabelle","F",1996,"U18",null,null,999.99]
[19498,"LILLYWHITE","Alexandra","F",1999,"U16","AMB","AMB",55.49]
[19831,"LISMORE","Sophie","F",1999,"U16",null,"DHO",999.99]
[21507,"LITTLE","Sophie","F",2001,"U14","VIK","ELI",999.99]
[31257,"LIVERSIDGE","Lauren","F",2000,"U14","GDN",null,999.99]
[20585,"LIVESEY","Chloe","F",2002,"U12","IMP",null,999.99]
[17431,"LLEWELLYN","Joanna","F",1991,"SEN","BRO","SMK",207.75]
[19735,"LONG","Phoebe","F",1998,"U16","HEM","AMB",138.79]
[9107,"LONSDALE","Emma","F",1984,"SEN","KND","KND",999.99]
[19462,"LOVE TWELVES","Alice","F",1995,"U21","WM","WM",999.99]
[14994,"MACAULAY","Alice","F",1995,"U21","AMB","AMB",188.97]
[14806,"MACEY","Abbie","F",1994,"U21","CHL",null,96.61]
[31346,"MACKENZIE","Eve","F",2000,"U14","BSC",null,999.99]
[30542,"MACKINNON","Christy","F",1992,"SEN","SSC",null,106.43]
[31480,"MACLEAN","Anya","F",2004,"U10","BSC",null,999.99]
[31415,"MACNAB","Alice","F",1997,"U18","LSR",null,384.08]
[31200,"MACPHERSON","Claire","F",2000,"U14","SSC","LSR",274.3]
[19069,"MAIKLEM","Jessica","F",1996,"U18","SPR","SPR",999.99]
[20635,"MAIKLEM","Melissa","F",1999,"U16","SPR","SPR",999.99]
[31254,"MANSON","Cameron","F",1998,"U16","BSA","SSC",31.09]
[31383,"MARDEN","Catriona","F",2002,"U12","MUC",null,999.99]
[18684,"MARMENT","Robyn","F",2000,"U14","SLP","SLP",181.87]
[31332,"MARTIN","Annabelle","F",2003,"U12","LSR",null,999.99]
[31330,"MARTIN","Rebecca","F",1999,"U16","LSR",null,323.33999999999997]
[18740,"MARTIN-HARRINGTON","Beatrice","F",1997,"U18","GLO","BSA",50.24]
[31502,"MATTHEW","Katir","F",2001,"U14","CSC",null,999.99]
[21014,"MAYHEW","Jessica","F",2000,"U14","MID","MID",124.09]
[31442,"MAYLAND","Holly","F",2002,"U12","BSC",null,999.99]
[19753,"MAZE-BROWN","Riley","F",2002,"U12","SMK",null,999.99]
[31227,"MCCALL","Catriona","F",2004,"U10","SSC",null,999.99]
[30353,"MCGHEE","Lyndsey","F",1990,"SEN","SSC",null,999.99]
[20173,"MCGREGOR-OGDEN","Holly","F",2003,"U12","CHL","DRA",999.99]
[31423,"MCKEY","Holly","F",2003,"U12","LSR",null,999.99]
[31275,"MCKINLAY","Victoria","F",2000,"U14","GSR",null,144.94999999999999]
[30293,"MCLEOD","Eilidh","F",1990,"SEN","SSC",null,200.19]
[31495,"MCWILLIAM","Kirsty","F",1998,"U16","BSC",null,999.99]
[18382,"MEAD","Darcie","F",1996,"U18","EVO","EVO",37.69]
[20307,"MIDDLETON","Amy","F",1995,"U21","MID",null,69.36]
[21205,"MIDSON","Molly","F",2003,"U12","FLK",null,999.99]
[21204,"MIDSON","Poppy","F",2001,"U14","FLK",null,240.04]
[18931,"MILES","Joanna","F",1993,"U21","WGC",null,68.61]
[21277,"MILLARD","Paige","F",2002,"U12",null,null,999.99]
[14103,"MILLER","Violet","F",1995,"U21",null,"AMB",999.99]
[31291,"MIRANDA-JAMES","Charlotte","F",2002,"U12","SSC",null,999.99]
[19260,"MITCHELL","Olivia","F",2001,"U14","GLO","BSA",81.69]
[21518,"MOONEY","Philippa","F",1999,"U16",null,"DHO",999.99]
[21357,"MOORE","Danica","F",2000,"U14","BRO",null,999.99]
[31476,"MORISETTI","Eilidh","F",2002,"U12","LSR",null,999.99]
[30667,"MORRIS","Sarah","F",1994,"U21","LSR",null,109.58]
[31153,"MORRISON","Rachael","F",1999,"U16","GDN",null,999.99]
[31188,"MORRISSEY","Anna","F",1990,"SEN","STC",null,999.99]
[19338,"MORTON","Sofia","F",1996,"U18","CHL","DRA",54.46]
[17829,"MOYNIHAN","India","F",1997,"U18","K","K",999.99]
[31426,"MUIR","Fiona","F",2006,"U8","ASC","DUN",999.99]
[31425,"MUIR","Kirsty","F",2004,"U10","ASC","DUN",999.99]
[19679,"MURRAY","Louisa","F",1994,"U21",null,"LIO",999.99]
[20731,"NEASHAM","Grace","F",1998,"U16","SMK",null,188.97]
[21356,"NEASHAM","Laurie","F",2000,"U14","SMK","SMK",999.99]
[31468,"NEGRI","Daniella","F",2000,"U14","CSC",null,999.99]
[30730,"NELSON","Helen","F",1994,"U21","SSC",null,491.11]
[20696,"NEWBOULT","Helena","F",1998,"U16","MID","MID",30.53]
[20781,"NEWBOULT","Laura","F",1995,"U21","MID",null,357.45]
[11944,"NEWMAN","Lucy","F",1979,"MAS","HEM",null,82.07]
[21006,"NEYRINCK","Camille","F",1998,"U16",null,null,999.99]
[21586,"NOKES","Millie","F",2002,"U12",null,null,999.99]
[21583,"NOKES","Sacha","F",2000,"U14",null,null,999.99]
[20809,"O'BRIEN","Matilda","F",2004,"U10","MID",null,999.99]
[14747,"OGDEN","Sophie","F",1996,"U18","CHL","DRA",10.02]
[8273,"ONDRUSZ","Mary","F",1958,"MAS","BRO","BRO",999.99]
[18793,"O'NEILL","Ella","F",1997,"U18","SMK","TEL",40.07]
[20945,"O'NEILL","Maeve","F",2003,"U12",null,"BSA",999.99]
[21441,"ORCHARD","Ellie","F",2002,"U12","TSN",null,999.99]
[31252,"OSBORNE","Jennifer","F",1991,"SEN","GSR",null,999.99]
[21235,"OUGRIN","Anastasia","F",2002,"U12","SPR","SPR",999.99]
[21528,"PANTELI","Charlotte","F",1999,"U16",null,null,999.99]
[14383,"PARKER","Hannah","F",1989,"SEN","TSD","TSD",58.17]
[14382,"PARKER","Olivia","F",1993,"U21","LIO","LIO",50.49]
[30749,"PATTERSON","Aileen","F",1993,"U21","SSC",null,28.82]
[21363,"PATTON","harriet","F",1999,"U16",null,"SPR",999.99]
[14686,"PEEL","Lucy","F",1992,"SEN","BSA","BSA",38.79]
[19197,"PENHALE","Emma","F",2000,"U14","SLP","SLP",117.29]
[31303,"PETERS","Ella","F",1994,"U21","BRM",null,999.99]
[19002,"PETERS","Emma","F",1997,"U18","LIO","TEL",33.74]
[18505,"PEXTON","Georgia","F",2000,"U14","LIO","LIO",122.35]
[31440,"PFLEGER","Isabella","F",2006,"U8","GDN",null,999.99]
[20690,"PHILLIPS","Charlotte","F",1990,"SEN","BRO",null,999.99]
[21655,"PIRKHOFFER","Lucy","F",1999,"U16","SAS","SAS",999.99]
[17412,"POCOCK","Elena","F",1993,"U21",null,"AMB",999.99]
[17413,"POCOCK","Emily","F",1992,"SEN","AMB","AMB",85.6]
[20908,"POINTS","Madeline","F",2002,"U12",null,"BSA",999.99]
[41858,"POTTER","Maisie","F",1997,"U18",null,null,999.99]
[19781,"POTTER","Shannon","F",2001,"U14","CHL","DRA",92.18]
[18349,"POWELL","Caroline","F",1994,"U21","HEM","K",8.77]
[41663,"POWER","Rebecca","F",2000,"U14","SCI",null,999.99]
[31209,"PRESSLIE","Jessica","F",2000,"U14","GDN",null,169.03]
[31447,"PRESSLIE","Sophie","F",2003,"U12","GDN",null,999.99]
[19644,"PRETTY","Antonia","F",1996,"U18","TSN",null,40.24]
[30927,"PRICE","Rhona","F",1999,"U16","SSC","GSR",115.05]
[31418,"PURCELL","Sophia","F",1997,"U18","LSR",null,432.63]
[21392,"RAMPTON","Clementine","F",2001,"U14",null,"BSA",999.99]
[31138,"RANKIN","Shona","F",2003,"U12","BSA","CSC",999.99]
[21410,"RASHCHUPKINA","Anastasia","F",1998,"U16",null,"DHO",999.99]
[31207,"RASMUSEN","Victoria","F",2000,"U14","GDN",null,999.99]
[30864,"RATTRAY","Aleysha","F",1996,"U18","BRM",null,145.24]
[31140,"RAY","Kathleen","F",1999,"U16","GDN",null,999.99]
[31323,"REED","Jemima","F",2003,"U12",null,null,999.99]
[19459,"REID","Judy","F",1960,"MAS","HEM","HEM",105.55]
[17803,"RICHARDS","Camille","F",1998,"U16",null,"BSA",999.99]
[14798,"RICHARDS","Melanie","F",1995,"U21",null,"BSA",999.99]
[20720,"RILEY","Ilana","F",2004,"U10","SMK","SMK",999.99]
[18649,"RILEY","Megan","F",2000,"U14","SMK","K",75.069999999999993]
[30767,"RITCHIE","Nicole","F",1995,"U21","GSR",null,7.5]
[21394,"ROGERS","Anna","F",2001,"U14","BSA","BSA",999.99]
[13952,"ROGERS","Rachelle","F",1995,"U21","AMB","AMB",999.99]
[19093,"ROLPH","Sophie","F",1995,"U21","HEM","IMP",54.87]
[41952,"RONAN","Eleanor","F",2000,"U14","SCI","CHL",999.99]
[19739,"ROSE","Rebecca","F",2002,"U12","SMK",null,999.99]
[31438,"ROSS","Iona","F",2003,"U12","SSC","MUC",999.99]
[18481,"ROTH","Phoebe","F",1994,"U21",null,"DHO",999.99]
[31359,"RUSHWORTH","Morven","F",2000,"U14","SSC",null,999.99]
[21365,"RUSSELL","Claire","F",1994,"U21","NOR",null,999.99]
[30867,"RYAN","Eilidh","F",2000,"U14","GSR",null,98.29]
[20742,"SAMPSON","Melissa","F",1971,"MAS","NOR","NOR",141.4]
[31135,"SANDFORD","Eliza","F",1996,"U18","SSC",null,292]
[31130,"SANDLAND","Louise","F",2001,"U14","GSR",null,187.03]
[13376,"SCILIMATI","Tania","F",1986,"SEN",null,"LSC",999.99]
[31417,"SCOTT","Aimee","F",1998,"U16","BSC",null,999.99]
[31173,"SCOTT","Lucy","F",1999,"U16","BSC",null,160.35]
[20496,"SCRANAGE-HARRISON","Eleanor","F",2002,"U12","HEM",null,999.99]
[17893,"SEELEY","Grace","F",1995,"U21","RAV","DHO",388.86]
[17892,"SEELEY","Julia","F",1993,"U21","RAV","DHO",401.59]
[21158,"SELF","Rebekah","F",1995,"U21","TSD",null,999.99]
[14962,"SHAILES","Polly","F",1996,"U18","NOR","BSA",79.11]
[19833,"SHAKESHAFT","Hannah","F",1996,"U18","MID","SMK",116.91]
[31350,"SHARP","Charlotte","F",2002,"U12","BSC",null,999.99]
[31349,"SHARP","Melissa","F",2004,"U10","BSC",null,999.99]
[21558,"SHEPHERDSON","Lauren","F",2003,"U12","TSD",null,999.99]
[20599,"SHERING","Nicole","F",2000,"U14","HEM","BSA",90.82]
[20655,"SHOOTER","Hope","F",1993,"U21","HEM","HEM",162.78]
[17787,"SHRIMPTON","Charlotte","F",1994,"U21","TEL","TEL",37]
[12357,"SIMONDS","Franki","F",1990,"SEN",null,"K",14.75]
[31127,"SKINNER","Caroline","F",1998,"U16","SSC",null,278.67]
[31353,"SKINNER","Eilidh","F",2001,"U14","LSR","SSC",421.05]
[20337,"SKIPPER","Megan","F",2001,"U14","NOR","NOR",181.96]
[19016,"SKIPPER","Sophie","F",1995,"U21","NOR","NOR",20.78]
[21403,"SLADE","Hattie","F",1998,"U16",null,"BSA",999.99]
[21404,"SLADE","Isobel","F",1999,"U16",null,"BSA",999.99]
[18878,"SLATER","Ella","F",1991,"SEN","LSU","LSU",43.8]
[21171,"SLATER","Grace","F",2001,"U14","SHK",null,431.14]
[19450,"SLATTERY","Rachel","F",1968,"MAS","KND",null,999.99]
[20602,"SMIDT-WALLIS","Brielle","F",2000,"U14",null,null,258.60000000000002]
[31362,"SMITH","Eilidh","F",1999,"U16","MUC",null,338.11]
[30695,"SMITH","Kate","F",1993,"U21","SSC","LSR",356.02]
[20840,"SNOW","Elise","F",1999,"U16","HEM",null,83.15]
[17752,"SOMAN","Bethany","F",1997,"U18","SMK","AMB",76.14]
[20134,"SOMAN","Mia","F",2002,"U12","SMK",null,999.99]
[19942,"SOUTH","Beth","F",1993,"U21","TOQ","EXD",86.34]
[20754,"SPANTON","Jessica","F",1997,"U18","NOR",null,40.75]
[21568,"SPEARPOINT WALSH","Emily","F",1996,"U18","OVL","OVL",999.99]
[31471,"SPENCE","Madison","F",2005,"U10","LSR",null,999.99]
[31344,"SPENCE","Rachel","F",2003,"U12","LSR",null,999.99]
[19053,"STAFFORD","Emma","F",1993,"U21","SOU","SAS",52.83]
[17717,"STAMMERS","Sophie","F",1998,"U16","DHO","DHO",999.99]
[31504,"STEPHEN","Sadie","F",2000,"U14","GDN",null,999.99]
[18472,"STEVENSON","Elizabeth","F",1990,"SEN",null,"K",999.99]
[31430,"STEWART","Honor","F",2000,"U14","LSR",null,999.99]
[31076,"STILL","Ella","F",1997,"U18","GDN",null,121.08]
[31088,"STILL","Ruby","F",1999,"U16","GDN","ASC",237.48]
[31405,"STOBART","Olivia","F",2000,"U14","LSR",null,999.99]
[21382,"STOCKER","Anastacia","F",2003,"U12","TSN",null,999.99]
[21378,"STOCKER","Natasha","F",2001,"U14","TSN",null,999.99]
[21397,"STOCKER","Sophie","F",2005,"U10","TSN","TSN",999.99]
[17154,"SUMMERHAYES","Katie","F",1995,"U21","SHK",null,999.99]
[18099,"SUMMERHAYES","Molly","F",1997,"U18","SHK",null,999.99]
[19623,"SYMONS","Rachel","F",1993,"U21","CHT",null,30.1]
[21355,"TAPSELL","Charlotte","F",2001,"U14","FLK","K",999.99]
[21520,"TAPSON","Ella","F",1998,"U16","DHO","DHO",999.99]
[20622,"TARANTELLI","Laudomia","F",2003,"U12",null,null,999.99]
[18011,"TAYLOR","Alice","F",1997,"U18","K","AMB",999.99]
[17702,"TAYLOR","Imogen","F",1994,"U21","AMB","AMB",127.49]
[18235,"TAYLOR","Isadora","F",1997,"U18","AMB","AMB",195.62]
[31007,"TAYLOR","Kate","F",1997,"U18","GSR","SSC",53.58]
[31237,"TAYLOR","Rhiannon","F",1998,"U16","GDN",null,274.3]
[31463,"TAYLOR","Rhona","F",2002,"U12","SSC",null,999.99]
[21430,"TAYLOR SELT","Molly","F",1996,"U18","VIK","SUF",999.99]
[21261,"TAYLOR-TIPTON","Ella","F",2004,"U10","FF","FF-",999.99]
[14393,"THEXTON","Heather","F",1990,"SEN","KND",null,999.99]
[18033,"THOMAS","Elisabeth","F",1996,"U18","MID","K",60.58]
[19211,"THOMAS","Kerry","F",1995,"U21","TOQ",null,94.66]
[12024,"THOMAS","Louise","F",1988,"SEN","SPR","SPR",492.69]
[21018,"THOMPSON","Lara","F",2000,"U14",null,null,999.99]
[21519,"THOMPSON","Tilly","F",1999,"U16","SPR","SPR",999.99]
[30982,"THOMSON","Sarah","F",1996,"U18","SSC",null,273.14999999999998]
[20826,"THURSTON","Elizabeth","F",1999,"U16","AVO","K",999.99]
[30624,"TILLEY","Alexandra","F",1993,"U21","GDN","BSA",36.21]
[21272,"TILLEY","Katherine","F",2001,"U14",null,"DRA",999.99]
[30904,"TODD","Alison","F",1997,"U18","SSC","MUC",84.26]
[17951,"TODD-SAUNDERS","Helen","F",1999,"U16",null,"DHO",999.99]
[20813,"TOH","Isabel","F",2000,"U14","HEM","HEM",999.99]
[19213,"TONGE","Charlotte","F",1994,"U21","TOQ",null,56.05]
[20669,"TREUGE","Lauren","F",2003,"U12","MID",null,999.99]
[20643,"TREW","Eleanor","F",1999,"U16","HEM","K",111.37]
[20644,"TREW","Isobel","F",1999,"U16","HEM","K",151.54]
[31134,"TURNER","Jennifer","F",2001,"U14","BSC",null,253.6]
[21496,"TURNER","Lucy-May","F",1999,"U16","VIK","ELI",999.99]
[5480,"TURNOCK","Kerry","F",1972,"MAS","HEM",null,50.96]
[19986,"USHER","Annie","F",1997,"U18","ASR","DRA",21.63]
[18933,"VALE","Lauren","F",2001,"U14","CHT",null,150.49]
[18934,"VALE","Nikkie","F",1994,"U21","CHT",null,64.89]
[21564,"VALENTINE","Ella","F",2000,"U14",null,null,999.99]
[21606,"VALLAT","Agathe","F",1999,"U16","ALU","WBN",999.99]
[17276,"VAN DE WIEL","Piera","F",1994,"U21","K","K",999.99]
[20634,"VAN VREDENBURCH","Ella","F",1998,"U16",null,"K",999.99]
[20573,"VEGTING","Amelia","F",1997,"U18",null,null,999.99]
[21096,"VERNON","Rebecca","F",2002,"U12","SPR","SPR",999.99]
[13381,"VERNON","Rowan","F",1988,"SEN","MID","MID",22.84]
[21368,"VESELY","Cordelia","F",1999,"U16","SPR","SPR",999.99]
[21376,"VESELY","Miranda","F",2002,"U12","SPR","SPR",999.99]
[21377,"VESELY","Ophelia","F",2004,"U10","SPR","SPR",999.99]
[20849,"VICKERS","Katie","F",2001,"U14","SPR","SPR",999.99]
[30768,"VINCENTI","Anna","F",1995,"U21","BSC",null,999.99]
[20600,"WAKEFIELD","Rebecca","F",1998,"U16","GLO","DRA",99.48]
[17994,"WALOFF","Sasha","F",1995,"U21","HEM","HEM",122.85]
[10660,"WALSH","Carrie","F",1963,"MAS","ALD","IMP",148.61000000000001]
[20317,"WALTON","Kirsten","F",2000,"U14","LIO","LIO",113]
[20741,"WALTON","Mya","F",2004,"U10","LIO","LIO",999.99]
[21349,"WANG","Alison","F",1980,"MAS","HEM","HEM",348.88]
[41693,"WARD","Ella","F",1999,"U16","CAR","AMB",66.69]
[31500,"WARD","Erin","F",2005,"U10","GSR",null,999.99]
[31464,"WARD","Isla","F",2004,"U10","GSR",null,999.99]
[41692,"WARD","Olivia","F",2000,"U14","CAR","AMB",66.56]
[20725,"WARMINGTON","Harriet","F",2002,"U12","HEM","HEM",999.99]
[21254,"WATSON","Josie","F",2004,"U10","WM","WM",999.99]
[18745,"WEBSDALE","Cara","F",1997,"U18","RAV","LIO",999.99]
[20767,"WEBSTER","Atlanta","F",2000,"U14","NOR","NOR",209.49]
[21400,"WEEKS","Ella","F",2004,"U10","SPR","SPR",999.99]
[21101,"WEEKS","Georgia","F",2001,"U14","SPR","SPR",999.99]
[21492,"WEIR","Emer","F",1999,"U16","RAV",null,999.99]
[31093,"WHATFORD","Beth","F",2001,"U14","GDN",null,210.06]
[14169,"WHEATMAN","Claire","F",1991,"SEN","NOR","IMP",247.34]
[20551,"WHEELER","Lauren","F",2001,"U14","CHL",null,298.29000000000002]
[20552,"WHEELER","Sophie","F",2003,"U12","CHL",null,999.99]
[20612,"WHITE","Victoria","F",1994,"U21",null,null,999.99]
[19094,"WHITTALL","Martha","F",1997,"U18","ASR","SAS",271.01]
[18454,"WIDDUP","Bethany","F",1995,"U21","CHL","AMB",6.01]
[18013,"WILCOCKSON","Melanie","F",1991,"SEN","PPS","LIO",69.180000000000007]
[21603,"WILKINSON","Millie","F",2001,"U14","SHK","SHK",999.99]
[20582,"WILLIAMS","Alice","F",1996,"U18","HEM",null,999.99]
[19128,"WILLIAMS","Beth","F",1995,"U21","FLK",null,54.35]
[30999,"WILLIAMS","Emma","F",1999,"U16","GSR","SSC",126.28]
[19832,"WILLIAMS","Grace","F",2000,"U14","TEL",null,82.09]
[18918,"WILLIAMS","Katya","F",1999,"U16",null,"K",999.99]
[18919,"WILLIAMS","Lucy","F",2000,"U14",null,"K",999.99]
[20096,"WILLIAMS","Natasha","F",2002,"U12",null,"K",999.99]
[19162,"WILLOUGHBY","Jo","F",1975,"MAS",null,"LIO",999.99]
[21210,"WILLOWS","April","F",2002,"U12","BRO",null,999.99]
[31111,"WINTHROP","Claire","F",1997,"U18","LSR",null,167.78]
[31369,"WINTHROP","Zoe","F",1999,"U16","LSR",null,317.67]
[19645,"WISEMAN","Kelly","F",1993,"U21","PND","PND",63.32]
[20210,"WOOD","Sally","F",1992,"SEN","PND","LSU",96.68]
[21060,"WOODBRIDGE","Lily","F",2000,"U14",null,"HEM",284.44]
[20639,"WOODWARD","Sarah","F",2001,"U14","HEM","AMB",156.27000000000001]
[17452,"WRIGHT","Natasha","F",1997,"U18","VIK",null,84.06]
[31260,"WYLIE","Fiona","F",2003,"U12","GSR",null,999.99]
[30911,"YEAMAN","Charlotte","F",1997,"U18","GSR",null,82.14]
[14996,"YOUNG","Amy","F",1995,"U21","AMB","AMB",148.99]
[18056,"YOUNG","Ella","F",1997,"U18","SUR","SUR",449.31]
[21578,"YUNG","Catherine","F",1998,"U16",null,"DHO",999.99]
[20930,"ABRISHAMI","Diaco","M",2002,"U12","BRO","BRS",999.99]
[13335,"ABSALOM","Daniel","M",1992,"SEN","SPR","SPR",989]
[31228,"ADAMSON","Alexander","M",1996,"U18","CSC",null,999.99]
[31477,"ADAMSON","Tristram","M",1997,"U18","CSC",null,999.99]
[20308,"AGNEW","George","M",1999,"U16",null,"K",999.99]
[18057,"AIKENS","Christopher","M",1992,"SEN","HEM","LSU",166.56]
[20160,"AIKENS","Matthew","M",1996,"U18","HEM","HEM",160.18]
[31379,"ALDRIDGE","Charlie","M",2001,"U14","MUC","SSC",244.26]
[31178,"ALEXANDER","Hamish","M",1999,"U16","GDN",null,513.79999999999995]
[18247,"ALLEN","Samuel","M",1994,"U21",null,null,169.63]
[21631,"AMATO","Anthony","M",2003,"U12","BRO",null,999.99]
[17429,"AMOS","Aaron","M",1991,"SEN","SAS","SAS",387.77]
[19074,"AMOS","John","M",1959,"MAS","SAS","SAS",223.67]
[10372,"ANDERSON","Christopher","M",1959,"MAS","VIK","K",181.5]
[31197,"ANDERSON","Ewen","M",2000,"U14","SSC",null,237.02]
[30908,"ANDREWS","Greg","M",1997,"U18","SSC","LSR",140.41]
[31003,"ANDREWS","Keir","M",1998,"U16","SSC","LSR",233.48]
[31400,"ARNOTT","Jack","M",2002,"U12","LSR",null,999.99]
[19990,"ASHMAN","Alexander","M",2000,"U14","FLK","DHO",209.47]
[8522,"ASHTON","Simon","M",1968,"MAS","SHK",null,989]
[18475,"ASQUITH","Max","M",1996,"U18","AMB","AMB",170.76]
[21626,"ATKINSON","Andrew","M",1967,"MAS","BRO","BRO",999.99]
[8363,"ATKINSON","Michael","M",1978,"MAS",null,null,999.99]
[8362,"ATKINSON","Stuart","M",1982,"MAS",null,null,999.99]
[20878,"ATTARD","Oliver","M",1999,"U16",null,"SPR",999.99]
[21079,"ATTARD","Sam","M",2001,"U14","SPR","SPR",999.99]
[20416,"AVENT","Mathieu","M",1999,"U16",null,null,999.99]
[13784,"BAGGIO","Max","M",1995,"U21","EVO","EVO",40.08]
[20484,"BAILES","Max","M",1999,"U16",null,"ELI",169.71]
[20149,"BAILY","Luke","M",2002,"U12","SMK","SMK",999.99]
[12618,"BALDWIN","Thomas","M",1990,"SEN","NOR","BSA",464.7]
[30646,"BALL","Elliot","M",1994,"U21","SSC",null,77.3]
[30812,"BALL","Oscar","M",1996,"U18","SSC",null,137.38999999999999]
[20673,"BANNISTER","Adam","M",1999,"U16","ASR",null,166.3]
[21167,"BANNISTER","Callum","M",1998,"U16","AVO","IMP",213.5]
[2657,"BANNISTER","Simon","M",1966,"MAS","ASR",null,78.66]
[30701,"BARKER","Alexander","M",1994,"U21","SSC",null,999.99]
[31249,"BARKER","Duncan","M",2003,"U12","SSC",null,999.99]
[31099,"BARKER","Thomas","M",1999,"U16","SSC",null,231.8]
[31021,"BARLOW","Benedict","M",1994,"U21","SSC","DHO",999.99]
[31115,"BARLOW","Xavier","M",1995,"U21","SSC","DHO",999.99]
[19639,"BARTON","Daniel","M",1998,"U16","SMK","K",59.31]
[19774,"BARTON","Dominic","M",2002,"U12","SMK","K",999.99]
[20302,"BASTOW","Milo","M",1997,"U18",null,"BSA",999.99]
[3756,"BAXTER","Noel","M",1981,"MAS","CSC",null,999.99]
[21109,"BEAGLEY","Daniel","M",1998,"U16",null,null,999.99]
[19704,"BEARDMORE","Adam","M",1986,"SEN","MID","MID",29.85]
[31401,"BEARDMORE","Louis","M",2002,"U12","LSR",null,999.99]
[21504,"BEAUMONT","Jasper","M",1999,"U16","VIK","ELI",999.99]
[20974,"BEAVIS","Riley","M",2002,"U12",null,"BSA",999.99]
[11459,"BECK","Christopher","M",1989,"SEN","LIO","LIO",135.81]
[31355,"BECK","Zak","M",2001,"U14","LSR",null,421.31]
[14940,"BECKETT","David","M",1960,"MAS","NOR",null,158.03]
[20712,"BEER","Lawrence","M",1998,"U16","RAV",null,156.21]
[21628,"BEGG","Alistair","M",2001,"U14","CHL","TEL",345.08]
[18704,"BEGG","Callum","M",1997,"U18","CHL","TEL",62.43]
[19683,"BENNETT","Elliott","M",2003,"U12","LIO","LIO",999.99]
[19070,"BENNETT","Russell","M",1973,"MAS","LIO","LIO",999.99]
[21224,"BENNION","James","M",1997,"U18","GLO",null,260.41000000000003]
[19208,"BERGLINDARSON","Kristofer","M",2000,"U14","CHL","CHL",91.08]
[14772,"BEVAN","Timothy","M",1994,"U21","KND",null,999.99]
[31233,"BEVERIDGE","Jamie","M",2000,"U14","LSR",null,580.46]
[21189,"BIGGS","Saul","M",1998,"U16","FLK",null,189.56]
[31287,"BILSLAND","David","M",1995,"U21","BSC",null,999.99]
[19854,"BINGHAM","Jonathan","M",1999,"U16","BWP","DHO",95.61]
[19855,"BINGHAM","Nicholas","M",2002,"U12","BWP","DHO",999.99]
[30909,"BINGHAM","Sion","M",1997,"U18","SSC","GSR",171.9]
[20997,"BIRAN","Itamar","M",1998,"U16",null,null,999.99]
[18531,"BIRD","Matthew","M",1993,"U21","SRR",null,121.19]
[18638,"BISHOP","Angus","M",1995,"U21","SHK","LIO",166.98]
[21555,"BLACK","Callum","M",2004,"U10","AVO","AVO",999.99]
[19585,"BLACK","Oliver","M",2001,"U14","PPS","DRA",184.44]
[19394,"BLACK","Philip","M",1969,"MAS","SHK","SHK",999.99]
[20851,"BLOOM","Adam","M",1973,"MAS","WCS","WCS",94.55]
[20852,"BLOOM","Ryan","M",2001,"U14","WCS","WCS",195.05]
[31461,"BOLAM","John","M",1955,"MAS","DRS",null,999.99]
[41930,"BOLGER","Enda","M",1997,"U18","SCI",null,279.86]
[31041,"BOOTH","Harris","M",1997,"U18","BSC",null,999.99]
[19713,"BOTY","Harry","M",1997,"U18","HEM","ELI",999.99]
[19565,"BOWERS","Dieter","M",1996,"U18","TEL",null,110.07]
[14294,"BOWMAN","Matthew","M",1993,"U21","SMK",null,98.26]
[20902,"BOYCOTT","Joe","M",1996,"U18","LIO","LIO",999.99]
[19685,"BRADFORD-SMITH","George","M",1994,"U21","ASR",null,190.4]
[19686,"BRADFORD-SMITH","Jack","M",1996,"U18","ASR",null,82.83]
[14391,"BREESE","Ashley","M",1996,"U18",null,"TEL",8.19]
[17963,"BREESE","Nathan","M",1999,"U16",null,"TEL",110.26]
[21203,"BREESE","Thomas","M",2003,"U12","TEL","TEL",999.99]
[31309,"BREMNER","Alexander","M",2001,"U14",null,null,590.46]
[31271,"BREMNER","Fin","M",1999,"U16","ASC",null,999.99]
[21218,"BRESKAL","Bailey","M",1998,"U16","WGC",null,179.69]
[20143,"BRIDGE","Dominic","M",2001,"U14","LIO","LIO",150.43]
[20144,"BRIDGE","Oliver","M",1999,"U16","LIO","LIO",123.61]
[17332,"BROOKES","Philip","M",1993,"U21",null,"SAS",191.47]
[20193,"BROWN","Cameron","M",1998,"U16","PPS","DRA",80.02]
[31132,"BROWN","Harry","M",1999,"U16","SSC",null,577.54]
[19083,"BROWN","Jack","M",1995,"U21","FLK",null,100.04]
[30830,"BROWN","Jamie","M",1996,"U18","GDN",null,549.4]
[20338,"BROWN","Jamie","M",1999,"U16",null,null,999.99]
[31290,"BROWN","Jonathan","M",1997,"U18","GDN",null,999.99]
[2743,"BROWN","Philip","M",1966,"MAS","HEM","IMP",184.18]
[31014,"BROWN","Rhys","M",1995,"U21","SSC",null,174.94]
[19397,"BROWN","Ryan.","M",1999,"U16",null,"K",999.99]
[19084,"BROWN","Thomas","M",1998,"U16","FLK",null,181]
[12584,"BRUTON","Peter","M",1989,"SEN","SPR",null,48.81]
[30906,"BUCHAN","Fraser","M",1997,"U18","SSC","BSA",63.94]
[30811,"BUCHAN","Murray","M",1991,"SEN",null,null,999.99]
[30919,"BUCHAN","Scott","M",1999,"U16","SSC","BSA",117.67]
[17380,"BUCHWISER","Lawrence","M",1995,"U21",null,null,999.99]
[14871,"BULLEN","Robert","M",1989,"SEN",null,"K",999.99]
[21063,"BULLIVANT","Peter","M",2000,"U14","BSA",null,999.99]
[10596,"BUNTON","Paul","M",1963,"MAS","CHT","CHT",132.63999999999999]
[21649,"BUNTON","Ryan","M",2004,"U10","CHT",null,999.99]
[31479,"BURKE","Luke","M",2004,"U10","GSS",null,999.99]
[31339,"BURROW","Gregor","M",2002,"U12","LSR",null,999.99]
[19755,"BURTON","Lucas","M",2000,"U14","AMB","AMB",999.99]
[21411,"BUTLER","Simon","M",1962,"MAS",null,null,999.99]
[41721,"BUTTERWORTH","Daniel","M",1996,"U18","WWS","DRA",131.56]
[41719,"BUTTERWORTH","Thomas","M",2002,"U12","WWS","DRA",999.99]
[20688,"CADMAN","Maximilian","M",1996,"U18","HEM","HEM",164]
[12971,"CADMAN","Piers","M",1991,"SEN","STS",null,80.709999999999994]
[31338,"CALDER","Lewis","M",2006,"U8","SSC",null,999.99]
[31337,"CALDER","Struan","M",2004,"U10","SSC",null,999.99]
[20832,"CALDWELL","Patrick","M",2000,"U14","SAS","SAS",368.78]
[14261,"CALVERT","John","M",1949,"MAS","ASR","ALD",291.05]
[12802,"CALVERT","Peter","M",1988,"SEN","ASR","BAS",46.7]
[31364,"CAMERON","Rory","M",2002,"U12","ASC",null,999.99]
[30793,"CAMPBELL","Andrew.","M",1995,"U21","GDN",null,230.24]
[31230,"CAMPBELL","Graeme","M",2000,"U14","GDN",null,999.99]
[21108,"CAMPBELL","Harvey","M",2003,"U12","TEL",null,999.99]
[30912,"CAMPBELL","Iain","M",1997,"U18","GDN",null,282.60000000000002]
[31427,"CAMPBELL","Lawrence","M",2000,"U14","BSC",null,999.99]
[41955,"CAMPBELL","Rory","M",1996,"U18","SCI",null,999.99]
[20590,"CARE","James","M",2002,"U12","MID",null,999.99]
[21577,"CAREY","Joshua","M",2000,"U14",null,"SZR",999.99]
[21576,"CAREY","Matthew","M",1998,"U16",null,"SZR",999.99]
[17891,"CARPENTER","Alasdair","M",1995,"U21","SPR","SPR",435.57]
[31154,"CARRUTHERS","Harry","M",1999,"U16","SSC",null,196.21]
[21107,"CARSON","Sam","M",1999,"U16","PPS","DRA",125.49]
[19196,"CASE","George","M",2001,"U14","AVO","BSA",999.99]
[20262,"CASE","Toby","M",2002,"U12","ASR","EVO",999.99]
[18880,"CASHMORE","Edward","M",2001,"U14","EXD","BSA",248.69]
[18879,"CASHMORE","William","M",1998,"U16","EXD","BSA",206.68]
[20695,"CATLIN","Osian","M",2005,"U10","SMK",null,999.99]
[18327,"CAVANAGH","Matthew","M",1996,"U18","DHO","CHL",117.97]
[18258,"CAVE","William","M",1992,"SEN","K","K",999.99]
[20215,"CAWTHORNE","Harry","M",1999,"U16","TOQ","IMP",186.01]
[20216,"CAWTHORNE","Louis","M",2000,"U14","TOQ","IMP",208.67]
[638,"CAXTON","Martin","M",1955,"MAS","BWP",null,999.99]
[17202,"CHAJECKI","Alexander","M",1991,"SEN",null,null,999.99]
[17201,"CHAJECKI","Julian","M",1993,"U21",null,null,999.99]
[19421,"CHAJECKI","Sebastian","M",1997,"U18",null,"BSA",999.99]
[17591,"CHALKLEY","Oliver","M",1996,"U18","SMK",null,78.040000000000006]
[31066,"CHAMBET","Louis","M",1998,"U16","SSC",null,999.99]
[31067,"CHAMBET","Tom","M",2000,"U14","SSC",null,999.99]
[20239,"CHAMPION","Ben","M",1993,"U21","CHT",null,98.36]
[18674,"CHAPMAN","Euan","M",1997,"U18","ASR","ASR",86.82]
[12254,"CHAPMAN","Iain","M",1982,"MAS","VIK","VIK",999.99]
[19993,"CHAPMAN","Lloyd","M",1999,"U16","SZR","SZR",122.92]
[21191,"CHARLTON","Ben","M",1997,"U18","RAV",null,268.52]
[19563,"CHEESE-PROBERT","Henry","M",1992,"SEN",null,null,999.99]
[31377,"CHETTY","Vaibhav","M",2002,"U12","GDN",null,999.99]
[31496,"CHEYNE","Russell","M",1998,"U16","BSC",null,999.99]
[31097,"CHRISTEY","David","M",1999,"U16","BSA","MUC",191.28]
[31098,"CHRISTEY","Joe","M",2002,"U12","BSA","MUC",999.99]
[31174,"CHRISTIE","Colin","M",1999,"U16","SSC",null,999.99]
[31172,"CHRISTIE","Donald","M",1998,"U16","SSC",null,999.99]
[21480,"CHRISTOV","Jonathan","M",2001,"U14","SPR","SPR",999.99]
[9694,"CLARK","Benjamin","M",1985,"SEN","BRO","K",33.479999999999997]
[21298,"CLARK","William","M",1996,"U18","SRR",null,999.99]
[19161,"CLARKE","Callum","M",2001,"U14","HEM","HEM",235.66]
[8713,"CLARKE","Christopher","M",1959,"MAS","HEM","SAS",302.57]
[21260,"CLARKE","Edward","M",2000,"U14","SMK","SMK",230.67]
[20293,"CLAYTON","Adam","M",1996,"U18","NOR",null,72.290000000000006]
[31404,"CLUGNET","James","M",1996,"U18","HIG",null,999.99]
[21156,"COATES","Joseph","M",2000,"U14","SHK","SHK",309.69]
[20555,"COATES","Richard","M",1966,"MAS","SHK",null,999.99]
[21157,"COATES","William","M",2003,"U12","SHK","SHK",999.99]
[31390,"COCKBURN","Tommy","M",2001,"U14","ASC",null,357.42]
[31137,"COHN","Antony","M",1998,"U16","BSC",null,248.95]
[20568,"COLEMAN","Arthur","M",1999,"U16","K","K",999.99]
[17390,"COLLARD","Harry","M",1994,"U21",null,"IMP",999.99]
[20353,"COLLEY","James","M",2001,"U14","SPR","SPR",999.99]
[20651,"COLLIER","Harry","M",2002,"U12","CHL","SZR",999.99]
[19507,"COLLINGBOURNE","Zachary","M",2000,"U14",null,"BSA",999.99]
[31072,"COLTART","Iain","M",1998,"U16","CSC",null,999.99]
[20167,"COMELIO","Sebastian","M",2002,"U12","AVO","DHO",999.99]
[31222,"COMERFORD","Joseph","M",2000,"U14","LSR",null,487.27]
[18571,"CONDE","Jamie","M",1992,"SEN","TEL","TEL",61.92]
[17493,"CONNERY","Kali","M",1996,"U18",null,null,673.82]
[41735,"CONSTANTINE","Benjamin","M",2003,"U12","CAR","DRA",999.99]
[41710,"CONSTANTINE","Joseph","M",2000,"U14","CAR","DRA",159.27000000000001]
[21258,"COOK","Alastair","M",2003,"U12","GLO",null,999.99]
[21255,"COOK","James","M",2002,"U12","GLO",null,999.99]
[41875,"COOPER","Gary","M",1970,"MAS","TOR",null,999.99]
[19629,"COOPER","Jordan","M",1999,"U16","SAS","SAS",999.99]
[21573,"COOPER","Matthew","M",2004,"U10","HEM","HEM",999.99]
[21146,"COOPER","Morgan","M",1998,"U16","PND","PND",170.49]
[19170,"CORR","Christopher","M",1995,"U21","PND",null,21.53]
[21625,"CORR","David","M",1998,"U16","PND",null,410.33]
[20841,"CORRIGAN","Paul","M",2001,"U14","SPR","SPR",999.99]
[31325,"CORRY","Matt","M",1997,"U18","BSC",null,999.99]
[20165,"COSHAM","Harry","M",2003,"U12","SZR","SZR",999.99]
[30635,"COWIE","Hector","M",1993,"U21","CSC","CBN",184.27]
[30796,"COWIE","Lachlan","M",1995,"U21","CSC","CBN",249.79]
[30100,"CRAWFORD","Douglas","M",1987,"SEN","BSC",null,778.63]
[17905,"CRAWLEY","Daniel","M",1991,"SEN",null,"DHO",999.99]
[41938,"CRIDDLE","Isaac","M",2000,"U14","CAR",null,999.99]
[31025,"CROCKART","Tom","M",2000,"U14","SSC","BSA",163.27000000000001]
[5666,"CROMBLEHOLME","Roger","M",1957,"MAS","MID","TEL",104.12]
[31380,"CROOK","Andrew","M",1998,"U16","SSC",null,999.99]
[31421,"CROOKS","Cameron","M",2002,"U12","BSC",null,999.99]
[31068,"CROSS","Jack","M",1998,"U16","SSC","BSA",286.43]
[21417,"CROZIER","David","M",1986,"SEN",null,null,999.99]
[21651,"CULSHAW","Daniel","M",1997,"U18","PND",null,999.99]
[20830,"CULSHAW","Stephen","M",1962,"MAS",null,null,999.99]
[31106,"CUNNINGHAM","Kyle","M",1996,"U18","BSC",null,243.71]
[12797,"CURTIS","Daniel","M",1991,"SEN","BWP","K",28.15]
[19696,"CUTHBERT","Daryl","M",1996,"U18","VIK",null,325.61]
[20748,"DADE","Tommy","M",2003,"U12","NOR","AMB",999.99]
[31398,"DALZIEL","James","M",1999,"U16","SSC",null,999.99]
[31348,"DALZIEL","William","M",2001,"U14","SSC",null,277.29000000000002]
[17351,"DANNATT","Tim","M",1994,"U21","GLO","DRA",57.99]
[19684,"DANNS","Jack","M",1992,"SEN","LSU","SAS",108.89]
[20175,"DARRELL","Matthew","M",1992,"SEN","NOR",null,999.99]
[19733,"DAVEY","Joseph","M",2000,"U14","SPR","SPR",159.97999999999999]
[13777,"DAVEY","Matthew","M",1988,"SEN","LSU","LSU",123.1]
[21152,"DAVEY","Nathan","M",2001,"U14","LIO","LIO",343.99]
[41831,"DAVIES","Alex","M",2002,"U12","CAR","DRA",999.99]
[21120,"DAVIES","Ben","M",1995,"U21","NOR",null,92.06]
[17935,"DAVIES","Brian","M",1963,"MAS","ASR",null,157.91999999999999]
[18256,"DAVIES","Finlay","M",1999,"U16","SMK","IMP",99.43]
[21119,"DAVIES","Harry","M",1999,"U16","NOR",null,174.46]
[41702,"DAVIES","Jonathan","M",1974,"MAS","TOR",null,390.73]
[20554,"DAVIES","Morgan","M",1999,"U16","HEM","K",190.33]
[21048,"DAVIES","Oliver","M",1997,"U18",null,null,999.99]
[14927,"DAVIES","Peter","M",1993,"U21","ASR",null,79.06]
[21099,"DAVIES","Toby","M",1995,"U21",null,null,999.99]
[20311,"DAVIS","Ethan","M",2001,"U14","SHK","SHK",999.99]
[18347,"DAVIS","George","M",1995,"U21","TEL",null,36.94]
[18346,"DAVIS","Matthew","M",1998,"U16","TEL","TEL",60.43]
[12400,"DAWSON","Andrew","M",1965,"MAS","OVL",null,257.57]
[17990,"DE HAAN","Jacob","M",1994,"U21",null,null,785.06]
[18610,"DEAKIN","William","M",1991,"SEN","FLK",null,39.33]
[19363,"DEIGHTON","Harry","M",2000,"U14","HEM","BSA",137.97]
[19361,"DEIGHTON","Oliver","M",1997,"U18","HEM","BSA",106.84]
[19362,"DEIGHTON","Toby","M",1999,"U16","HEM","BSA",92.93]
[17039,"DELLER","Philip","M",1959,"MAS","MID",null,654.11]
[19273,"DENDLE","George","M",2000,"U14","SPR","SPR",247.55]
[20738,"DENT","Michael","M",1966,"MAS","RAV","RAV",114.39]
[20315,"DERU","Joshua","M",1996,"U18",null,"DHO",999.99]
[20846,"DEWISON","Samuel","M",1998,"U16","MID","MID",238.66]
[19738,"DEWULF-PETERS","Oliver","M",1994,"U21","NOR",null,255.38]
[21406,"DEYKIN","Sebastian","M",1998,"U16","SPR",null,999.99]
[31412,"DIAZ","Dennis","M",2001,"U14","LSR",null,999.99]
[31182,"DICKSON","Bailey","M",2000,"U14","GSR",null,162.62]
[30832,"DICKSON","Graham","M",1996,"U18","GSR","SSC",38.72]
[31032,"DILLON","Grant","M",1997,"U18","SSC","MUC",113.23]
[21533,"DINGLE","Dominic","M",1996,"U18",null,"DHO",999.99]
[21532,"DINGLE","Timothy","M",1998,"U16",null,"DHO",999.99]
[31259,"DISCOMBE","Ross","M",1998,"U16","BSC",null,216.76]
[12612,"DIXON","Christopher","M",1990,"SEN","SPR","SPR",332.26]
[20603,"DIXON","Rory","M",1999,"U16","EVO","EVO",272.82]
[21642,"DOCKRY","Ben","M",2002,"U12","CHL","CHL",999.99]
[31458,"DOHERTY","Lewis","M",1997,"U18","BSC",null,999.99]
[19572,"DOHERTY","Samuel","M",1999,"U16","MID",null,218.06]
[31289,"DONALD","Daniel","M",1999,"U16","CSC",null,999.99]
[31284,"DONALD","Grant","M",1995,"U21","ASC",null,999.99]
[31413,"DORREN","Donald","M",2001,"U14","LSR",null,999.99]
[31189,"DOUGLAS","Connor","M",1999,"U16","GDN",null,999.99]
[20815,"DOYLE","Harrison","M",2000,"U14","DHO","DHO",999.99]
[19524,"DOYLE","Jake","M",2001,"U14","BSA","BSA",999.99]
[18955,"DOYLE","Thomas","M",1995,"U21",null,null,999.99]
[10641,"DRAKE","Edward","M",1986,"SEN",null,"K",101.14]
[21226,"DRAKE","Joshua","M",2002,"U12",null,"SMK",999.99]
[12318,"DU PLESSIS","Andrew","M",1985,"SEN","MID","DHO",25.51]
[12317,"DU PLESSIS","Stephen","M",1987,"SEN",null,"DHO",999.99]
[20802,"DUBARRY","Drew","M",1991,"SEN",null,null,999.99]
[31361,"D'ULISSE","Ben","M",2000,"U14","SSC",null,999.99]
[31470,"DUNCAN","Rory","M",1999,"U16","CSC",null,999.99]
[18246,"DUNHILL","Harry","M",1992,"SEN",null,"DHO",999.99]
[20277,"DUNION","Jamie","M",1999,"U16",null,"SZR",276.76]
[20572,"DUNNE","Michael","M",2002,"U12","CHL",null,999.99]
[20921,"DURANT","Richard","M",1967,"MAS","SUF",null,241.54]
[20142,"EATON","Oliver","M",1996,"U18","AMB","AMB",100.01]
[10040,"EAVES","David","M",1967,"MAS","PND",null,338.42]
[19048,"EAVES","Jonathan","M",1998,"U16","PND",null,145.97]
[20885,"EDWARDES-KER","David","M",2001,"U14",null,"DHO",999.99]
[19166,"ELGY","James","M",1993,"U21","MID",null,142.46]
[19164,"ELGY","John","M",1951,"MAS","MID",null,280.95999999999998]
[21322,"ELLIFF","Luke","M",2001,"U14","VIK",null,999.99]
[21552,"ELLIS","Hamish","M",2002,"U12",null,null,999.99]
[19756,"ELLISS","Harry","M",2000,"U14","SPR","SPR",999.99]
[19295,"ELLISS","Jack","M",1997,"U18","SPR","SPR",999.99]
[19276,"EMERY","Jacob","M",2001,"U14","SZR","EVO",196.61]
[21622,"EMERY","Thomas","M",2003,"U12",null,null,999.99]
[21084,"EMMERSON","Philip","M",1990,"SEN","MID","MID",97.42]
[20563,"ENGLERT","Joss","M",1995,"U21","SHK",null,999.99]
[20913,"EPERON","Harrison","M",2002,"U12","SPR","SPR",999.99]
[13712,"ESPINOSA","Jean-Paul","M",1991,"SEN","SPR","SPR",866.75]
[19611,"EVANS","Christopher","M",1995,"U21","ASR",null,108.14]
[41565,"EVANS","Emile","M",1996,"U18","CAR","DRA",65.62]
[6383,"EVERITT","Simon","M",1964,"MAS","BOW",null,294.60000000000002]
[41924,"FACHAUX DAVIES","Storm","M",1998,"U16","WWS",null,999.99]
[14958,"FAIL","Robert","M",1993,"U21","SPR","SPR",146.68]
[14260,"FAIRBAIRN","Samual","M",1994,"U21","HEM","IMP",46.21]
[30863,"FARQUHARSON","Findlay","M",1996,"U18","BRM",null,999.99]
[31133,"FARQUHARSON","Hamish","M",1999,"U16","BRM",null,999.99]
[18916,"FARR","Oliver","M",1995,"U21","PPS","DRA",63.18]
[19544,"FARRELL","Jan","M",1983,"MAS",null,null,999.99]
[19633,"FARREN","Claude","M",1971,"MAS","RAV","RAV",73.64]
[19089,"FARREN","Rory","M",1998,"U16","RAV","RAV",43.07]
[21542,"FAWKE","Tim","M",1994,"U21","ALD",null,999.99]
[17513,"FELLOWS","Jordan","M",1997,"U18","TEL","TEL",40.130000000000003]
[20640,"FENELEY","Jack","M",2002,"U12","PND",null,999.99]
[18810,"FENELEY","Luke","M",1997,"U18","NOR","BSA",127.89]
[18809,"FENELEY","William","M",1999,"U16","NOR","BSA",141.86000000000001]
[31393,"FENTON","Jack","M",1999,"U16","EDS",null,999.99]
[19261,"FENTON FOWLER","Edmund","M",1995,"U21","SMK","IMP",96.89]
[17824,"FEREBEE","Mason","M",1999,"U16",null,null,999.99]
[30965,"FERRIER","Kieran","M",1997,"U18","GSR","SSC",131]
[19728,"FIORI","Haydyn","M",2001,"U14",null,null,999.99]
[20836,"FISHER","Edward","M",1999,"U16","SZR","SZR",999.99]
[20837,"FISHER","George","M",2003,"U12","SZR","SZR",999.99]
[21491,"FISHER","Harvey","M",2003,"U12",null,"ELI",999.99]
[17126,"FITZPATRICK","Alexander","M",1994,"U21",null,"IMP",723.15]
[31278,"FITZPATRICK","Jimmy","M",2000,"U14","GSR",null,280.04000000000002]
[21623,"FITZSIMMONS","Tobias","M",1999,"U16","ASR",null,696.3]
[41481,"FLAHIVE","Gerard","M",1992,"SEN","LSU","IMP",8.08]
[13289,"FLAHIVE","Niall","M",1993,"U21","HEM","IMP",76.319999999999993]
[31090,"FLEMING","Iain","M",1997,"U18","SSC",null,287.58]
[31029,"FLOCKHART","Sam","M",1998,"U16","LSR",null,290.66000000000003]
[20529,"FLUCK","Adam","M",2001,"U14","SPR",null,999.99]
[41852,"FLUCK","Benjamin","M",1996,"U18","SPR",null,999.99]
[31159,"FORBES","Grigor","M",1998,"U16","CSC",null,999.99]
[21169,"FOWLES","James","M",1999,"U16","FLK",null,217.01]
[21168,"FOWLES","Luke","M",2002,"U12","FLK",null,999.99]
[20749,"FRAQUELLI","Alessandro","M",1995,"U21","TOQ",null,241.21]
[13838,"FRASER HAFTER","Fergus","M",1992,"SEN","DRA","DRA",377.58]
[12900,"FREEMAN","David","M",1993,"U21","LIO","LIO",185.99]
[11570,"FREEMAN","Edward","M",1989,"SEN","LIO","LIO",132.08000000000001]
[20677,"FROST","Joey","M",1995,"U21","MID",null,110.32]
[21373,"FRY","Bradley","M",2005,"U10",null,null,999.99]
[20615,"FRYERS","Toby","M",2002,"U12",null,"BSA",999.99]
[19848,"FYNN","Linton","M",1998,"U16",null,null,999.99]
[14404,"FYNN","Tarn","M",1994,"U21",null,null,563.82000000000005]
[20487,"GADZHUROV","Marko","M",1966,"MAS","SAS",null,999.99]
[41877,"GALE","Rhodri","M",1999,"U16","CHL","DRA",112.88]
[31216,"GALLOWAY","Drew","M",2000,"U14","MUC",null,356.37]
[31105,"GALLOWAY","Duncan","M",1996,"U18","SSC",null,107.31]
[21648,"GARLICK","Tim","M",1969,"MAS","SMK","SMK",999.99]
[30854,"GARVIE","Scott","M",1996,"U18","GDN",null,999.99]
[17701,"GASH","Morgan","M",1999,"U16","SAS","DHO",210.91]
[19671,"GASH","Peter","M",1956,"MAS","SAS","SAS",353.54]
[12522,"GASH","Richard","M",1991,"SEN","SAS","SAS",64.86]
[19638,"GASKIN","Sam","M",2000,"U14","BRO","K",258.86]
[21184,"GAY","Freddie","M",2001,"U14","HEM","DHO",267.41000000000003]
[31384,"GEEKIE","Alexander","M",2001,"U14","ASC","GPS",358.18]
[20684,"GENTHER","Joshua","M",1998,"U16","LIO","LIO",186.33]
[21076,"GEORGEL","Robert","M",1996,"U18","BRO",null,273.25]
[21469,"GERRETT","Sam","M",1988,"SEN",null,null,999.99]
[12123,"GEYER","Jai","M",1990,"SEN","TOQ","TOQ",36.72]
[14339,"GHISLANZONI","Fabrizio","M",1965,"MAS","SAS","SOU",186.65]
[14316,"GHISLANZONI","Giacomo","M",1994,"U21","SAS","BSA",58.33]
[14347,"GIBB","James","M",1995,"U21","CHT","K",56.28]
[17468,"GIBB","Jim","M",1961,"MAS","CHT","K",231.77]
[19153,"GIBBINS","Joseph","M",1998,"U16","HEM","BSA",177.24]
[21612,"GIBBS","Jack","M",2001,"U14","ASR",null,999.99]
[21004,"GIBBS","James","M",1998,"U16","ASR",null,999.99]
[31324,"GIBSON","Cameron","M",2001,"U14","SSC","LSR",221.83]
[21548,"GIEZENDANNER","Liam","M",2002,"U12",null,null,999.99]
[21529,"GILKINSON","Jake","M",1995,"U21",null,"DHO",999.99]
[20880,"GILLETT","James","M",2002,"U12","SPR","SPR",999.99]
[17515,"GIRLING","Kirran","M",1997,"U18","TEL","TEL",55.71]
[31117,"GLASGOW","Peter","M",1994,"U21","AMB","SSC",64.209999999999994]
[21359,"GLOVER","Wiliam","M",1998,"U16","PND","PND",999.99]
[20108,"GODDARD","Thomas","M",1996,"U18","SUF",null,408.71]
[14586,"GODDARD-JONES","Brodie","M",1996,"U18","SLP","SLP",23.99]
[18816,"GOLDSWORTHY","Richard","M",1995,"U21",null,"IMP",50.72]
[31150,"GOODLAD","Finlay","M",1998,"U16","LSR",null,226.17]
[20376,"GOSS","Alfie","M",1999,"U16","SOU","SAS",480.86]
[21650,"GOTTS","Joey","M",1987,"SEN","BRO","BRO",999.99]
[17532,"GOWER","Jack","M",1994,"U21","SPR","SPR",999.99]
[17533,"GOWER","Rory","M",1996,"U18","SPR","SPR",999.99]
[14855,"GRANT","James","M",1994,"U21","LSU","HEM",22.15]
[14856,"GRANT","Thomas","M",1996,"U18","HEM","IMP",41.5]
[31395,"GRAY","Stuart","M",1996,"U18","HNC",null,999.99]
[19122,"GREASBY","Richard","M",1969,"MAS","HEM",null,635.9]
[17002,"GREENFIELD","Hobie","M",1995,"U21","SAS","SAS",77.290000000000006]
[14809,"GREENFIELD","Max","M",1994,"U21","HEM","HEM",53.66]
[18049,"GREENFIELD","Nigel","M",1962,"MAS","SAS","SAS",306.92]
[31102,"GREENSHIELDS","Andrew","M",1999,"U16","SSC","LSR",176.14]
[31243,"GREENSHIELDS","Duncan","M",2002,"U12","SSC","LSR",999.99]
[19632,"GREENWAY","Daniel","M",1998,"U16",null,"WM",182.6]
[19631,"GREENWAY","Thomas","M",2001,"U14",null,"WM",160.58000000000001]
[31475,"GRIEVE","Joe","M",2003,"U12","LSR",null,999.99]
[20816,"GROGAN","Max","M",2001,"U14","K","K",999.99]
[30921,"GUEST","Christopher","M",1997,"U18","SSC","BSA",989]
[31414,"GUMLEY","Louis","M",2001,"U14","LSR",null,428.93]
[41459,"GURNER","Samuel","M",1997,"U18","TOR",null,82.04]
[31465,"GUTHRIE","Timothy","M",1998,"U16","SSC",null,999.99]
[19379,"GUY","Edward","M",2001,"U14","TEL","MID",210.93]
[20719,"HADLEY","Daniel","M",2004,"U10","MID","SMK",999.99]
[21608,"HAIRE","Bradley","M",1998,"U16","ASR",null,999.99]
[41273,"HALES","Robert","M",1960,"MAS","CAR","DRA",55.14]
[21008,"HALES","Theo","M",2000,"U14","SPR","HEM",999.99]
[41182,"HALES","Thomas","M",1990,"SEN","CAR","DRA",8.42]
[31234,"HALL","Adam","M",2000,"U14","ASC",null,713.32]
[13125,"HALL","Benn","M",1990,"SEN","AMB","AMB",34.119999999999997]
[20717,"HALLETT","Jacob","M",1999,"U16","PPS","DRA",139.34]
[31459,"HALLIDAY","Duncan","M",1985,"SEN","P3",null,999.99]
[31279,"HALPIN","Luke","M",2000,"U14","GSR",null,604.33000000000004]
[31422,"HAMLETT-HALL","Samuel","M",1998,"U16","SSC","LSR",569.57000000000005]
[20595,"HAMMOND","Max","M",1994,"U21","SOU","SOU",114.58]
[17037,"HANCOCK","David","M",1964,"MAS","MID","SMK",999.99]
[18616,"HANCOCK","Karl","M",1995,"U21","MID",null,245.23]
[19013,"HANLON","George","M",1999,"U16","PPS","WM",175.85]
[41908,"HANNA","Jordan","M",1998,"U16","SCI","IMP",255.48]
[31333,"HANNAN","James","M",2001,"U14","LSR",null,405.95]
[31368,"HARBINSON","Joshua","M",2002,"U12","MUC",null,999.99]
[31429,"HARPER","Callum","M",1998,"U16","LSR",null,999.99]
[21581,"HARPER","Joseph","M",1998,"U16","TEL",null,999.99]
[21582,"HARPER","Thomas","M",2000,"U14","TEL",null,407.04]
[20976,"HARRISON","Samuel","M",2003,"U12",null,"LIO",999.99]
[21275,"HART","Benjamin","M",2003,"U12","SPR","SPR",999.99]
[4777,"HATCHER","David","M",1985,"SEN","WCS",null,5.98]
[19163,"HAWKINS","Mark","M",1979,"MAS","MID",null,57.13]
[31311,"HAY","Adam","M",2001,"U14","SSC",null,301.37]
[19187,"HAY","Cameron","M",1999,"U16","BSA","BSA",999.99]
[19834,"HAY","Louis","M",2002,"U12","BSA","BSA",999.99]
[31452,"HAYWARD","Euan","M",1999,"U16","BSC",null,999.99]
[5013,"HEATH","Peter","M",1944,"MAS","OVL",null,999.99]
[19674,"HEDLEY","Benja","M",1977,"MAS",null,null,999.99]
[19125,"HEGINBOTHAM","Matthew","M",2000,"U14",null,"BSA",219.05]
[17078,"HELLIWELL","Steven","M",1994,"U21","LIO","LIO",78.44]
[19829,"HEMMING","Ethan","M",2001,"U14","MID","MID",196.43]
[30121,"HENDERSON","Callum","M",1989,"SEN","SSC",null,9.09]
[20181,"HENDERSON","Lucas","M",2003,"U12","SRR","SZR",999.99]
[30388,"HENDERSON","Paul","M",1995,"U21","AMB","SSC",26.94]
[31347,"HENDERSON","Sholto","M",1997,"U18","LSR",null,999.99]
[19160,"HENDERSON","Tom","M",1996,"U18","HEM","K",90.77]
[21506,"HENDRY","Thomas","M",1999,"U16","VIK",null,999.99]
[18729,"HENERY","David","M",1963,"MAS","SHK","LIO",326.22000000000003]
[20641,"HENERY","Robbie","M",1998,"U16","SHK","LIO",150.55000000000001]
[18862,"HENERY","Sam","M",1995,"U21","SHK","LIO",134.47]
[14744,"HENNINGS","Alexander","M",1991,"SEN",null,"DHO",999.99]
[31432,"HERBERT","Calum","M",2001,"U14","BSC",null,999.99]
[41927,"HESLOP","Rory","M",1995,"U21",null,null,999.99]
[19857,"HETHERINGTON","George","M",1999,"U16","K","K",999.99]
[19856,"HETHERINGTON","Thomas","M",1995,"U21","K","K",999.99]
[31247,"HEWISON","Henry","M",2004,"U10","CSC","ASC",999.99]
[21215,"HEYMOZ","Daniel","M",2002,"U12","WGC",null,999.99]
[13315,"HILL","Ashley","M",1993,"U21",null,"AMB",25.2]
[20544,"HINCHLIFFE","Jack","M",1997,"U18","PPS","LIO",109.34]
[21464,"HINTON","Marcus","M",2001,"U14","SPR","SPR",999.99]
[21345,"HINTON","Sam","M",1996,"U18",null,null,999.99]
[5370,"HJORT","Andrew","M",1965,"MAS","RAV","LIO",72.47]
[31486,"HODGSON","Ben","M",2001,"U14","GSR",null,999.99]
[31485,"HODGSON","Ross","M",1997,"U18","GSR",null,999.99]
[20431,"HOLMES","John","M",1969,"MAS","PND","PND",165.45]
[21097,"HOLMES","Robert","M",2002,"U12","PND","PND",999.99]
[19072,"HONEY","Jack","M",1995,"U21","ASR",null,147.91999999999999]
[41880,"HOPKINS","Harry","M",1999,"U16","CAR","DRA",139.85]
[41497,"HOPKINS","Mark","M",1966,"MAS","CAR","DRA",280.55]
[17356,"HORNSBY","Harry","M",1991,"SEN","MID","TOQ",4.17]
[41841,"HORTON","Sam","M",1996,"U18","TOR",null,205.55]
[17009,"HOUSTON","Alexandra","M",1994,"U21","SHK",null,999.99]
[18628,"HOUSTON","Samuel","M",1996,"U18","SHK",null,999.99]
[31373,"HOWARD-JOHNSTON","Philip","M",2001,"U14","SSC",null,999.99]
[21387,"HUDDLESTON","David","M",1996,"U18","BAS",null,999.99]
[20481,"HUDSON","Thomas","M",2001,"U14","NOR","BSA",162.46]
[14921,"HUGHES","Toby","M",1992,"SEN","NOR",null,43.66]
[21049,"HUISMAN MURO","Alexander","M",2001,"U14",null,"K",999.99]
[21050,"HUISMAN MURO","Kaylan","M",2003,"U12",null,"K",999.99]
[18322,"HUMFRESS","Joseph","M",1993,"U21","TEL","TEL",155.24]
[20766,"HUMPHREYS","Charles","M",2001,"U14","HEM","TSN",293.8]
[21644,"HUMPHREYS","George","M",2005,"U10",null,"CHL",999.99]
[30883,"HUNTINGTON","Calum","M",1995,"U21","SSC","BSA",989]
[19146,"HUPPACH","Declan","M",1999,"U16","PND",null,71.59]
[19458,"HUPPACH","Josef","M",2002,"U12","PND",null,999.99]
[20328,"HUTTNER","Maximilian","M",1997,"U18","BRC","SPR",999.99]
[21654,"IMAMZADE","Murat","M",1982,"MAS","IMP","IMP",999.99]
[31031,"INNES","Iain","M",1998,"U16","SSC",null,155.71]
[31198,"INNES","Robbie","M",2000,"U14","SSC",null,342.94]
[21022,"JACKSON","Andrew","M",1958,"MAS","TEL","TEL",279.88]
[19675,"JACKSON","Ian","M",1964,"MAS","RAV",null,102.89]
[31363,"JACOBS","Finlay","M",2002,"U12","ASC",null,999.99]
[31210,"JAMIESON","Ryan","M",1996,"U18","SSC",null,235.19]
[31217,"JARDINE","Lewis","M",2000,"U14","LSR",null,999.99]
[30256,"JARDINE","Ross","M",1989,"SEN","SSC",null,999.99]
[20893,"JELICIC","Nicholas","M",1997,"U18",null,"DHO",999.99]
[31024,"JENNINGS","Euan","M",1997,"U18","LSR","SSC",492.38]
[31023,"JENNINGS","Sandy","M",1995,"U21","LSR","SSC",999.99]
[14989,"JENSEN","Christian","M",1995,"U21","SPR","SPR",304.81]
[14276,"JESSE","Zak","M",1994,"U21","IMP","K",438.24]
[19095,"JOHNS","Owen","M",2001,"U14",null,"WM",999.99]
[20355,"JOHNS","Scott","M",2003,"U12",null,"WM",999.99]
[31136,"JOHNSON","Alistair","M",1998,"U16","SSC","CSC",999.99]
[31443,"JOHNSTON","David","M",2000,"U14","LSR",null,999.99]
[31034,"JOHNSTON","Hamish","M",1997,"U18","SSC","BSA",182.84]
[41765,"JONES","Sam","M",1976,"MAS",null,null,999.99]
[21149,"KARAVASILI","Leo","M",1999,"U16",null,null,136.15]
[21159,"KEANE","Josh","M",1995,"U21","SMK","SMK",111.65]
[21553,"KEATMAN","Chris","M",2000,"U14","STS",null,309.35000000000002]
[31345,"KELLAS","Guy","M",2003,"U12","SSC",null,999.99]
[31286,"KERR","George","M",2000,"U14","CSC",null,999.99]
[31285,"KERR","Henry","M",2000,"U14","CSC",null,999.99]
[21562,"KEYS","Alexander","M",1998,"U16",null,null,999.99]
[30898,"KICK","Euan","M",1997,"U18","GSR",null,12.57]
[14951,"KIESSLING","Liam","M",1991,"SEN","SOU","SOU",106.09]
[21019,"KILGOUR","Rory","M",1980,"MAS","BRC","SAS",999.99]
[21343,"KING","Oliver","M",1996,"U18","GLO",null,999.99]
[21186,"KIPPING","Lewis","M",2001,"U14","SRR",null,296.68]
[21633,"KIRKLAND","Matthew","M",1992,"SEN","MID","MID",999.99]
[12856,"KNOCK","James","M",1990,"SEN","EVO","EVO",31.22]
[13792,"KNOWLES","Michael","M",1995,"U21","CHL","DRA",42.48]
[18317,"KRAHELSKI","Oliver","M",1996,"U18","HEM",null,38.32]
[30778,"KUWALL","Duncan","M",1998,"U16","SSC",null,70.62]
[20095,"LALLY","Cameron","M",1996,"U18","VIK",null,120.58]
[31110,"LANGDALE","Harry","M",1998,"U16","MUC",null,556.57000000000005]
[21178,"LANGLEY","Daniel","M",2000,"U14","GLO","DRA",271.22000000000003]
[20713,"LARBY","Thomas","M",1994,"U21","RAV",null,128.03]
[21571,"LAUGHLAND","Maximilian","M",2004,"U10","BRO","DHO",999.99]
[17045,"LAW","Joshua","M",1993,"U21","SHK",null,999.99]
[20369,"LAW","Joshua","M",2003,"U12","TEL",null,999.99]
[19941,"LAWRENCE","Thomas","M",1999,"U16","MID",null,191.81]
[21077,"LEACH","Charlie","M",2001,"U14","HEM","AMB",264.06]
[21501,"LEACH","Freddie","M",2002,"U12","HEM","K",999.99]
[20887,"LEAVITT","Samuel","M",1998,"U16","DHO","DHO",999.99]
[20922,"LEAVITT","William","M",1998,"U16","DHO","DHO",999.99]
[41578,"LEE","Adam.","M",1994,"U21","MID","PND",59.81]
[20761,"LEE","Dexter","M",2000,"U14","HEM","EVO",167.21]
[20267,"LEE","Jocelyn","M",1997,"U18","BRC","BRS",282.39999999999998]
[41662,"LEE","Sam","M",1996,"U18","MID",null,154.66]
[13389,"LEESON","Andrew","M",1989,"SEN","PND",null,28.88]
[20850,"LEGEAIS","Antoine","M",2001,"U14",null,"BSA",999.99]
[20625,"LEGEAIS","Benjamin","M",1999,"U16",null,"BSA",999.99]
[31329,"LEIGHTON","Alasdair","M",2001,"U14","SSC",null,703.57]
[31328,"LEIGHTON","Findlay","M",2003,"U12","SSC",null,999.99]
[19869,"LEWIS","Barney","M",1995,"U21","SMK","AMB",41.48]
[18474,"LEWIS","Freddie","M",1993,"U21",null,"DHO",999.99]
[20309,"LEWIS","Samuel","M",1998,"U16","SPR","SPR",999.99]
[17926,"LEWIS","William","M",1992,"SEN",null,"DHO",999.99]
[20404,"LINCOLN","Andrew","M",1993,"U21","NOR","NOR",196.98]
[31281,"LINKLATER","Ian","M",1953,"MAS","SSR",null,999.99]
[19830,"LISMORE","Jake","M",1997,"U18",null,"DHO",999.99]
[31320,"LIVINGSTON","Fraser","M",2001,"U14","LSR",null,531.1]
[31107,"LIVINGSTONE","Lewis","M",1999,"U16","SSC","LSR",183.58]
[21129,"LODER","Angus","M",2002,"U12","HEM","K",999.99]
[20543,"LODER","Edward","M",1999,"U16","HEM","AMB",181.36]
[19463,"LOVE TWELVES","Matthew","M",1997,"U18","WM","WM",999.99]
[17344,"LOWDON","Matthew","M",1995,"U21","RAV",null,999.99]
[19510,"LOWE","Jordan","M",1998,"U16","HEM","EVO",181.88]
[20331,"LUCAS","Oliver","M",2002,"U12","WM","WM",999.99]
[18757,"LUCIE-SMITH","Ross","M",1993,"U21","LSU","LSU",100.02]
[19491,"LUGGER","Matthew","M",1996,"U18","TOQ",null,173.62]
[21546,"LUKE","Charlie","M",2000,"U14",null,"DHO",999.99]
[21517,"LUNN","Jake","M",2001,"U14",null,"K",999.99]
[31341,"LURRING","Connor","M",1999,"U16","SSC",null,451.96]
[21091,"LUTTERLOCH","Edward","M",2003,"U12","ASR",null,999.99]
[21000,"LUTWYCHE","Alexander","M",2003,"U12","PND","DRA",999.99]
[20272,"LUTWYCHE","Jacob","M",2001,"U14","PND","DRA",193.67]
[21366,"LYONS","Alan","M",1965,"MAS",null,"HEM",999.99]
[30233,"MACBAIN","Scott","M",1987,"SEN","GSR",null,64.849999999999994]
[21431,"MACDONALD","Thomas","M",1970,"MAS","RAV","RAV",999.99]
[31490,"MACFARLANE","Archie","M",2001,"U14","GSR",null,999.99]
[30250,"MACFIE","Alastair","M",1989,"SEN","SSC",null,98.24]
[30669,"MACFIE","Euan","M",1994,"U21","AMB",null,195.43]
[31053,"MACKENZIE","Andrew","M",1995,"U21","MUC",null,254.57]
[31396,"MACLEAN","Angus","M",1996,"U18","HNC",null,999.99]
[20561,"MACPHERSON","Grant","M",1979,"MAS",null,null,999.99]
[30936,"MACPHERSON","Stuart","M",1998,"U16","SSC","LSR",250.68]
[31004,"MACWILLIAM","David","M",1996,"U18","BSC","GSR",95.42]
[20530,"MAJOR","Billy","M",1996,"U18",null,null,999.99]
[21483,"MANET","Conrad","M",1998,"U16","K","K",999.99]
[17257,"MARMENT","Christiaan","M",1997,"U18","SLP","SLP",98.67]
[21154,"MARSH","Joshua","M",2001,"U14","SZR",null,168.5]
[21591,"MARSHALL","Callum","M",2005,"U10",null,null,999.99]
[20843,"MARSLAND","Steven","M",1970,"MAS","TOQ",null,999.99]
[19574,"MARTIN","Matthew","M",1995,"U21","CHL","DRA",45.14]
[31331,"MARTIN","Oliver","M",2001,"U14","LRS",null,999.99]
[21401,"MATHER","Fred","M",2001,"U14",null,"BSA",999.99]
[20253,"MATHEW","Oliver","M",2002,"U12","AVO","EXD",999.99]
[31171,"MATTHEW","Andrew","M",1990,"SEN",null,null,999.99]
[19723,"MATTHEWS","Brandon","M",1999,"U16","STS",null,68.739999999999995]
[21447,"MAY","Philip","M",1968,"MAS",null,null,999.99]
[19375,"MAYNARD","Luke","M",1997,"U18","HEM","DHO",999.99]
[31028,"MCBAIN","Corrie","M",1999,"U16","LSR","SSC",184.77]
[30841,"MCBAIN","Sandy","M",1993,"U21","SSC","LSR",73.540000000000006]
[31148,"MCCALL","Andrew","M",2002,"U12","SSC",null,999.99]
[20455,"MCCALL","Oscar","M",2000,"U14",null,"BSA",316.45]
[19413,"MCCLOUD","Milo","M",1997,"U18","BSA","BSA",192.84]
[41940,"MCCORMACK","Matthew","M",1998,"U16","SCI","K",999.99]
[31273,"MCCORMICK","Chris","M",1998,"U16","BSC",null,999.99]
[31274,"MCCORMICK","Matt","M",1997,"U18","BSC",null,999.99]
[20584,"MCDONALD-PROCTOR","Richard","M",1998,"U16","BRO",null,148.1]
[20583,"MCDONALD-PROCTOR","William","M",2002,"U12","BRO",null,999.99]
[41970,"MCDOWELL","Harry","M",2000,"U14","SCI",null,999.99]
[31435,"MCFADDEN","Cameron","M",2000,"U14","CSC",null,999.99]
[31446,"MCFADDEN","Iain","M",2002,"U12","CSC",null,999.99]
[31083,"MCFADDEN","Neil","M",1998,"U16","CSC",null,999.99]
[31397,"MCFADZEAN","Euan","M",1999,"U16","SSC",null,999.99]
[19019,"MCGREGOR-OGDEN","Cameron","M",2000,"U14","CHL","DRA",92.5]
[8067,"MCGREGOR-OGDEN","Carl","M",1961,"MAS","CHL","CHL",131.49]
[31169,"MCHUGH","Liam","M",1997,"U18","GSR",null,73.2]
[30676,"MCINTOSH","David","M",1994,"U21","GDN",null,242.13]
[17683,"MCKECHNIE","Mark","M",1989,"SEN","VIK",null,999.99]
[31403,"MCLAREN","Ronan","M",2001,"U14","BSC",null,999.99]
[21589,"MCLAREN-TOSH","Jack","M",2003,"U12","HEM","HEM",999.99]
[31084,"MCLAUGHLAN","Iain","M",1997,"U18","GSR","SSC",384.84]
[30953,"MCLEISH","Adam","M",1979,"MAS","SSC",null,999.99]
[20954,"MCLEISH","James","M",1999,"U16","BWP","IMP",999.99]
[31314,"MCLEW","Christopher","M",2001,"U14","GSR",null,250.82]
[31437,"MCLEW","Euan","M",2003,"U12","GSR",null,999.99]
[20580,"MCMAHON","Jack","M",1997,"U18",null,"DHO",999.99]
[31491,"MCNEILL","David","M",2000,"U14","BSC",null,999.99]
[31139,"MCNICOL","Archie","M",1999,"U16","GSC","BSA",999.99]
[31202,"MCROBB","Cameron","M",2000,"U14","LSR","SSC",201.66]
[30555,"MCWHIRTER","Scott","M",1992,"SEN","GSR","SSC",34.33]
[30740,"MCWILLIAM","Jamie","M",1994,"U21","CSC",null,999.99]
[41939,"MELIA","Tybalt","M",2000,"U14","NW",null,999.99]
[21645,"MELLON-HENDRY","Freddie","M",2004,"U10","ASR",null,999.99]
[31296,"MERRY","Tom","M",1997,"U18",null,null,999.99]
[31180,"MESTON","Grant","M",1998,"U16","BRM",null,999.99]
[11619,"MESUT","Justin","M",1985,"SEN","NOR","AMB",58.51]
[21213,"METHERINGHAM","Zachary","M",2004,"U10",null,"SMK",999.99]
[21043,"MEURER","Markus","M",1968,"MAS",null,null,999.99]
[30931,"MIDDLETON","Fraser","M",1998,"U16","GSR",null,81.010000000000005]
[21278,"MIGUDA","Henry","M",2001,"U14","SPR","SPR",999.99]
[21276,"MILLARD","Oliver","M",2000,"U14",null,null,999.99]
[31457,"MILLER","Craig","M",2002,"U12","GSR",null,999.99]
[18509,"MILLER","Gareth","M",1994,"U21","SAS","SMK",83.14]
[18607,"MILLER","Nicholas","M",1993,"U21","MID",null,56.48]
[31450,"MILLER","Scott","M",1998,"U16","BSC",null,999.99]
[21408,"MILLER-HASTINGS","Frankie","M",2000,"U14","FLK",null,999.99]
[21602,"MILNER","Archie","M",2000,"U14","ASR","ASR",999.99]
[13228,"MILSTED","James","M",1992,"SEN","RAV",null,90.81]
[21259,"MIRACCO","Carlito","M",1999,"U16","HEM","TOQ",195.71]
[41919,"MITCHELL","Alexandre","M",1997,"U18","TOR",null,110.48]
[31365,"MOHAMMED","Kais","M",2001,"U14","SSC",null,999.99]
[19673,"MOLLIEX","Alex","M",1973,"MAS","CHL","CHL",100.01]
[18629,"MOLLOY","Daniel","M",1993,"U21","NOR",null,51.02]
[20782,"MOONEY","Hugo","M",1997,"U18","DHO","DHO",999.99]
[20374,"MOONEY","John","M",1996,"U18",null,"DHO",999.99]
[20401,"MOORE","Benedict","M",2001,"U14","K",null,999.99]
[14949,"MORGAN","Brad","M",1991,"SEN","CHL","K",15]
[21479,"MORGAN","Jonathan","M",1999,"U16",null,null,999.99]
[31199,"MORRIS","Christopher","M",2000,"U14","LSR",null,392.45]
[20871,"MORRIS","Ruaidhri","M",2001,"U14","SPR","SPR",999.99]
[30529,"MORRISON","Jo","M",1992,"SEN","GDN","SSC",111.17]
[18778,"MORRISON","Michael","M",1957,"MAS","SOU","SAS",223.72]
[30154,"MORTON","Kenneth","M",1986,"SEN","MUC",null,999.99]
[14297,"MOSS","Maximillian","M",1996,"U18","EVO","EVO",50.06]
[17831,"MOYNIHAN","Nicholas","M",1994,"U21",null,"K",999.99]
[18257,"MOZOL","James","M",1993,"U21","GLO",null,36.19]
[19335,"MROZ","Jaroslaw","M",1964,"MAS","BWP","DHO",447.94]
[19568,"MUIR","James","M",1999,"U16","SPR","SPR",999.99]
[31424,"MUIR","Jimmy","M",2002,"U12","ASC","DUN",999.99]
[41934,"MUNDAY","William","M",2000,"U14","VAL",null,999.99]
[31342,"MUNRO","Calum","M",2002,"U12","BSC",null,999.99]
[31313,"MUNRO","Colin","M",1995,"U21","LSR",null,999.99]
[21539,"MUNRO","Joe","M",1985,"SEN",null,null,999.99]
[21500,"MURCH","Tim","M",1996,"U18","BRO","BRO",999.99]
[31326,"MURPHY","Rhys","M",1999,"U16","BSC",null,407.78]
[19678,"MURRAY","Alastair","M",1996,"U18",null,"LIO",999.99]
[20125,"MYRSEP-FRANCE","Nicholas","M",1998,"U16",null,"DHO",999.99]
[18659,"NAYLER","Graham","M",1959,"MAS","ASR","ALD",110.84]
[31256,"NEISH","Angus","M",1998,"U16","SSR",null,309.42]
[31282,"NESBITT","Kieran","M",2000,"U14","GSR",null,381.87]
[31283,"NESBITT","Ross","M",2002,"U12","GSR",null,999.99]
[21315,"NEVENS","Ted","M",1997,"U18",null,null,999.99]
[21194,"NEWTON","Charlie","M",2003,"U12","HEM","HEM",999.99]
[20184,"NEWTON","William","M",2000,"U14","HEM","HEM",239.91]
[21481,"NG","Hugo","M",1997,"U18",null,null,999.99]
[13432,"NICHOL","Timothy","M",1984,"SEN","RAV",null,163.02000000000001]
[31392,"NICHOLLS","Harry","M",1996,"U18","BND",null,999.99]
[20897,"NICKSON","Joseph","M",1996,"U18","PND",null,133.12]
[14252,"NISBET","Angus","M",1993,"U21",null,"DHO",999.99]
[14251,"NISBET","Kit","M",1990,"SEN",null,"K",999.99]
[14229,"NORCROSS WEBB","Joseph","M",1992,"SEN","SOU","AMB",47.32]
[30996,"NORRIS","Fraser","M",1997,"U18","GSR",null,364.64]
[19135,"NORRIS","John","M",1961,"MAS","HEM","SAS",123.64]
[19005,"NORRIS","Kieran","M",1995,"U21","HEM","AMB",35.35]
[20732,"NORTON","Thomas","M",1999,"U16","TOQ","TOQ",110.3]
[21104,"NUNN","Jack","M",2003,"U12",null,null,999.99]
[19737,"O'BRIEN","Seamus","M",2002,"U12","MID","EVO",999.99]
[21604,"OGDEN","Alexander","M",2005,"U10","NOR",null,999.99]
[20975,"OHARA","Mizuki","M",1998,"U16",null,"DHO",999.99]
[31351,"OLDFIELD","Max","M",2002,"U12","MUC","SSC",999.99]
[20662,"OLIVER","Jamie","M",2001,"U14","BOW","SMK",999.99]
[20550,"OLIVER","Mark","M",1962,"MAS","BOW","SMK",999.99]
[21253,"OLIVER","Ryan","M",1997,"U18","NOR",null,151.66]
[19147,"O'MARA","Adam","M",1995,"U21","RAV","RAV",54.82]
[19199,"O'MEARA","Samuel","M",1999,"U16",null,null,999.99]
[2257,"ONDRUSZ","Tomasz","M",1965,"MAS",null,null,213.52]
[20377,"O'NEILL","Jack","M",1999,"U16",null,"BSA",999.99]
[21326,"PALMER","David","M",1999,"U16",null,"BSA",999.99]
[31460,"PARKER","Barry","M",1985,"SEN","ASC",null,999.99]
[21188,"PARKES","Michael","M",1989,"SEN","HEM","HEM",123.35]
[31453,"PATHI","Fintan","M",2002,"U12","GSR",null,999.99]
[19374,"PATIENCE","Callum","M",1997,"U18","SPR","SPR",999.99]
[1681,"PATON","Andrew","M",1968,"MAS","WYC",null,989]
[20460,"PATRICK","Oliver","M",1997,"U18","BSA","BSA",999.99]
[30827,"PATTERSON","Ross","M",1999,"U16","SSC",null,142.24]
[21283,"PATTON","Edward","M",2001,"U14","SPR","SPR",999.99]
[30737,"PAXTON","James","M",1992,"SEN","GDN",null,999.99]
[30738,"PAXTON","Paul","M",1998,"U16","GDN",null,160.34]
[31444,"PEEK","Harrison","M",2003,"U12","BSC",null,999.99]
[31445,"PEEK","Jackson","M",2004,"U10","BSC",null,999.99]
[19710,"PENNING- LAMBERT","Matthew","M",1996,"U18","HEM","K",125.92]
[19711,"PENNING-LAMBERT","Joshua","M",1998,"U16","HEM","EVO",102.79]
[18224,"PENROSE","Christopher","M",1989,"SEN",null,"DHO",999.99]
[20102,"PERETZ","Adi","M",1998,"U16","DHO","DHO",999.99]
[31073,"PETERS","Lachlan","M",1997,"U18","BRM",null,999.99]
[17534,"PETRIE","Ben","M",1991,"SEN","SMK","K",999.99]
[17535,"PETRIE","James","M",1996,"U18","HEM","BSA",296.52999999999997]
[31439,"PFLEGER","Harry","M",2005,"U10","GDN",null,999.99]
[17840,"PHELPS","Nicholas","M",1997,"U18","MID","MID",62.44]
[19837,"PICKERING","Christopher","M",1995,"U21","HEM","K",131.30000000000001]
[20831,"PICKERING","Felix","M",2002,"U12","HEM","K",999.99]
[41495,"PIERCE","Zac","M",1997,"U18","PND","DRA",216.84]
[31288,"PIERCEY","James","M",1997,"U18","CSC",null,999.99]
[20535,"PINI","Maximilian","M",2002,"U12","SLP","SLP",999.99]
[20777,"PINSENT","William","M",1955,"MAS",null,null,999.99]
[31082,"PITCHERS","Brian","M",1942,"MAS","SSC",null,999.99]
[19987,"PITKETHLY","Calum","M",1999,"U16","SPR","SPR",999.99]
[31008,"POGSON","Liam","M",1998,"U16","BLG","GPS",237.25]
[20907,"POINTS","Tobias","M",2000,"U14",null,"BSA",999.99]
[20799,"POLLITT","Oliver","M",2003,"U12","CHL","DRA",999.99]
[19698,"PORTER","Ashley","M",1997,"U18","ASR",null,97.08]
[14344,"PORTER","Tobias","M",1993,"U21","FLK","DHO",121.27]
[14350,"POTH","Daniel","M",1996,"U18","HEM","TEL",26.66]
[14575,"POTH","Robert","M",1997,"U18","HEM","TEL",14.97]
[17479,"POWELL","Jonathan","M",1986,"SEN","RAV","MID",30.83]
[20322,"PRICE","Edward","M",1996,"U18",null,"BSA",999.99]
[30711,"PRICE","Graeme","M",1995,"U21","SSC","GSR",57.03]
[20323,"PRICE","Oliver","M",1996,"U18",null,"BSA",999.99]
[41837,"PRICE","Rhys","M",2001,"U14","GLO","DRA",247.21]
[21309,"PRICE","Tim","M",1966,"MAS","KND",null,999.99]
[20464,"PRITCHARD","John","M",1999,"U16",null,"BSA",999.99]
[41410,"PRITCHARD","Ray","M",1965,"MAS",null,"DRA",999.99]
[9379,"PROUDLOVE","Andrew","M",1958,"MAS","BRO","EVO",176.8]
[31489,"PROVAN","Max","M",2001,"U14","CSC","BSA",999.99]
[31358,"PYE","Ryan","M",2004,"U10","GDN","ASC",999.99]
[41894,"QUINLIVAN","Naoise","M",1997,"U18","SCI",null,155.6]
[20122,"RABEY","Judson","M",2000,"U14","HEM","DHO",260.76]
[21393,"RAMPTON","Thomas","M",2003,"U12",null,"BSA",999.99]
[30952,"RANKIN","Charles","M",2001,"U14","BSA","CSC",154.16999999999999]
[21511,"RANKIN","Hugo","M",1999,"U16",null,"DHO",999.99]
[18504,"RAPOSO","Charlie","M",1996,"U18",null,"AMB",999.99]
[19569,"RASCAGNERES","Thomas","M",2000,"U14","CHL","DRA",110.88]
[21415,"RASHCHUPKIN","Maxim","M",2002,"U12",null,"DHO",999.99]
[31206,"RASMUSEN","Erik","M",1998,"U16","GDN",null,538.51]
[20380,"RATCLIFFE","David","M",1998,"U16","SAS",null,255.76]
[20381,"RATCLIFFE","Thomas","M",2001,"U14","SAS",null,999.99]
[20379,"RAY","Matthew","M",1999,"U16",null,"K",999.99]
[19086,"READER","Christopher","M",1996,"U18","ASR",null,56.33]
[19085,"READER","William","M",1994,"U21","ASR",null,46.59]
[21609,"REBERT","Ethan","M",1998,"U16",null,null,999.99]
[31096,"REDPATH","Sandy","M",1996,"U18","LSR","SSC",207.4]
[31315,"REED","Aidan","M",2001,"U14","LSR",null,410.15]
[31322,"REED","Lewis","M",2001,"U14","SSC",null,302.19]
[21657,"REES","Edward","M",1961,"MAS","IMP","IMP",999.99]
[19690,"REIDY","Alexander","M",1994,"U21","EVO","K",54.44]
[19691,"REIDY","Luca","M",1996,"U18","HEM","K",130.01]
[20264,"REIDY","Thomas","M",2003,"U12","HEM","K",999.99]
[41764,"REILLY","Garreth","M",1999,"U16","SCI",null,149.24]
[31321,"RENNIE","Calum","M",2002,"U12","SSC",null,999.99]
[31294,"RENNIE","Graham","M",1975,"MAS","ASC",null,252.96]
[14109,"REYNOLDS","Michael","M",1995,"U21","SMK","SMK",999.99]
[21485,"RHODES","Austin","M",1998,"U16","CHT","K",999.99]
[21484,"RHODES","Morgan","M",1998,"U16","CHT","K",999.99]
[17320,"RICCERI","Oliver","M",1995,"U21",null,"IMP",999.99]
[19796,"RICHARDS","Alexandre","M",2002,"U12",null,"BSA",999.99]
[20953,"RICHARDS","Konrad","M",1999,"U16",null,null,999.99]
[17919,"RICHARDSON","Charles","M",1992,"SEN","CHL","DRA",9.32]
[18088,"RICHARDSON","George","M",1997,"U18","CHL","DRA",72.680000000000007]
[20628,"RICHARDSON","Thomas","M",1997,"U18","NOR",null,66.3]
[12989,"RICHES","Stuart","M",1989,"SEN","NOR","SMK",32.04]
[19570,"RICHMOND","Henry","M",1999,"U16","WCS","TOQ",152.97999999999999]
[18010,"RIDDELL","Luke","M",1996,"U18","HEM","AMB",139.79]
[41722,"RIGBY","Jack","M",1995,"U21","MID","IMP",58.49]
[19910,"RIGBY","Jordan","M",2000,"U14","MID","IMP",139.44999999999999]
[31494,"RITCHIE","Peter","M",1955,"MAS","ASC","K",999.99]
[20879,"ROBERTS","Henry","M",1999,"U16",null,"K",999.99]
[41814,"ROBERTS","Ian","M",1969,"MAS",null,"HIV",999.99]
[21046,"ROBERTS","Michael","M",1985,"SEN",null,null,999.99]
[21131,"ROBERTS","Peter","M",1966,"MAS",null,null,999.99]
[21498,"ROBERTS","Thomas","M",2000,"U14",null,"K",999.99]
[21652,"ROBERTSHAW","Gavin","M",1975,"MAS","SMK","SMK",999.99]
[31005,"ROBERTSON","Adam","M",1997,"U18","GSR",null,347.58]
[20988,"ROBERTSON","Ewan","M",2001,"U14","BWP","BSA",190.37]
[31175,"ROBERTSON","John","M",1997,"U18","BSA","CSC",999.99]
[12334,"ROBERTSON","Stuart","M",1950,"MAS","WCS","WCS",222.1]
[20546,"ROBINSON","Jana","M",1997,"U18","SPR","SPR",999.99]
[14849,"RODGERS","Derek","M",1979,"MAS",null,null,999.99]
[4378,"ROE","Nicholas","M",1956,"MAS",null,null,627.64]
[30862,"ROFE","Sean","M",1995,"U21","SSC",null,90.41]
[30959,"ROFE","Thomas","M",1998,"U16","SSC","GSR",153.22]
[21395,"ROGERS","Marcus","M",1999,"U16","BSA","BSA",999.99]
[21554,"ROSE","James","M",2001,"U14",null,null,999.99]
[20839,"ROSS","Callum","M",2003,"U12","TSN","TSN",999.99]
[31006,"ROSS","Harry","M",1998,"U16","BSC",null,167.59]
[31087,"ROSS","Lyle","M",1999,"U16","SSC","MUC",119.83]
[31360,"RUSHWORTH","John","M",1998,"U16","SSC",null,703.93]
[20138,"RUSSELL","Latham","M",1995,"U21",null,null,300]
[30614,"RYAN","Euan","M",1993,"U21","GSR",null,18.760000000000002]
[11529,"RYDING","Carl","M",1961,"MAS","CHL","K",216.23]
[10659,"RYDING","David","M",1986,"SEN","PND","K",41.19]
[31406,"SADDLER","Sam","M",2002,"U12","LSR",null,999.99]
[18579,"SADLER","Francis","M",1994,"U21","BRC","BRS",152.44]
[20790,"SANDEMAN","Jonathan","M",1998,"U16","GLO",null,108.29]
[31065,"SANDIESON","Cal","M",1998,"U16","BSC","GSR",999.99]
[30974,"SANDLAND","Alasdair","M",2000,"U14","GSR",null,146.4]
[31129,"SANDLAND","Jamie","M",2003,"U12","GSR",null,999.99]
[20995,"SANDLER","Jameson","M",2003,"U12",null,"HEM",999.99]
[18513,"SAUNDERS","Gregory","M",1995,"U21",null,"K",999.99]
[31183,"SCHAEBBICKE","Felix","M",1997,"U18","SSC",null,999.99]
[17977,"SCHOFIELD","Connor","M",1997,"U18","HEM",null,167.95]
[20649,"SCHUBERT","Maximilian","M",2003,"U12","AVO","AVO",999.99]
[30980,"SCOTT","Calum","M",1997,"U18","GDN",null,999.99]
[31441,"SCOTT","Luke","M",2001,"U14","LSR",null,999.99]
[20679,"SCOTT","Max","M",1997,"U18","NOR","NOR",161.80000000000001]
[31371,"SCOTT","Ruaraidh","M",2002,"U12","BSC",null,999.99]
[19443,"SEAMAN","Michael","M",1986,"SEN","SZR","IMP",132.11000000000001]
[41650,"SELLWOOD","Thomas","M",1996,"U18","CAR",null,123.26]
[6894,"SHAILES","Darryl","M",1961,"MAS","NOR",null,174.08]
[20340,"SHAKESHAFT","James","M",2003,"U12","MID",null,999.99]
[13217,"SHARP","Anthony","M",1968,"MAS","HEM",null,121.04]
[21512,"SHARP","Edward","M",1999,"U16",null,null,999.99]
[20564,"SHARROTT","Christopher","M",1978,"MAS",null,null,999.99]
[19801,"SHAW","James","M",1998,"U16","K","K",999.99]
[1,"SHEDDEN","John","M",1943,"MAS","MER",null,999.99]
[21632,"SHEMMANS","Jake","M",2001,"U14","ASR",null,705.48]
[31488,"SHEPHERD","Calum","M",2000,"U14","ASC",null,999.99]
[20520,"SHEPHERD","Matthew","M",1979,"MAS",null,null,999.99]
[21557,"SHEPHERDSON","James","M",1999,"U16","TSD",null,999.99]
[20847,"SHIELLS","Bryan","M",1998,"U16","SPR","SPR",999.99]
[20692,"SHIELLS","Rory","M",1995,"U21","SPR","SPR",999.99]
[17284,"SIEBER","James","M",1996,"U18","ASR","AMB",8.08]
[31474,"SIMMONDS","Thomas","M",2003,"U12","GSR",null,999.99]
[19457,"SIMMONS","Nigel","M",1962,"MAS","TOQ","TOQ",322.43]
[19068,"SIMMONS","Thomas","M",1995,"U21","TOQ","TOQ",254.36]
[31201,"SIMPSON","Andrew","M",2000,"U14","GDN",null,258.2]
[21233,"SIMPSON","Cameron","M",2002,"U12",null,"WM",999.99]
[20336,"SIMPSON","Jack","M",1999,"U16","SPR","SPR",999.99]
[31354,"SIMPSON","Neil","M",2002,"U12","GDN",null,999.99]
[31085,"SIRCUS","Robert","M",1995,"U21","CBN",null,999.99]
[21653,"SKEPPSTAM","Rasmus","M",2004,"U10","SMK","SMK",999.99]
[41514,"SKINNER","Gary","M",1998,"U16","SCI",null,335.59]
[14957,"SKOCZEK","Stefan","M",1995,"U21","SPR","SPR",999.99]
[21405,"SLADE","Ted","M",2003,"U12",null,"BSA",999.99]
[21143,"SLATER","James","M",1998,"U16","SHK",null,310.22000000000003]
[21601,"SMITH","Anthony","M",1969,"MAS","ALD",null,999.99]
[18912,"SMITH","Benjamin","M",1997,"U18","SPR","AMB",179.78]
[21600,"SMITH","Euan","M",2000,"U14","ASR",null,285.14]
[31367,"SMITH","Euan","M",2002,"U12","MUC",null,999.99]
[31253,"SMITH","Fraser","M",2000,"U14","SSC",null,999.99]
[20579,"SMITH","Gary","M",1984,"SEN","SMK",null,999.99]
[31187,"SMITH","Jack","M",1998,"U16","CSC",null,999.99]
[21595,"SMITH","James","M",1992,"SEN","MID",null,105.14]
[20187,"SMITH","James","M",1999,"U16","SMK","SPR",316.95999999999998]
[30694,"SMITH","Matthew","M",1993,"U21","SSC","LSR",324.91000000000003]
[21605,"SMITH","Nathan","M",2002,"U12","ASR",null,999.99]
[20493,"SMITH","Oliver","M",1995,"U21",null,"SAS",999.99]
[21102,"SMITH","Oscar","M",2002,"U12","ASR","ASR",999.99]
[31221,"SMITH","Peter","M",2000,"U14","SSC",null,378.98]
[31236,"SMITH","Roli","M",2004,"U10","SSC",null,999.99]
[21206,"SMITH","Samuel","M",1997,"U18","SMK","SMK",170.45]
[19964,"SMITH","Thomas","M",1994,"U21","SHK",null,999.99]
[17932,"SOUTHALL","Frazer","M",1997,"U18","FLK",null,89.62]
[18378,"SOUTHALL","Merrick","M",2000,"U14","FLK",null,179.96]
[19749,"SPANTON","Nicholas","M",1965,"MAS","NOR",null,120.55]
[18417,"SPEARPOINT","Nicholas","M",1966,"MAS","OVL",null,999.99]
[20683,"SPEED","Craig","M",1999,"U16","ASR",null,132.05000000000001]
[31114,"SPEIR","Henry","M",1999,"U16","LSR",null,297.10000000000002]
[20370,"SPENCER","Tristan","M",1996,"U18","K","K",999.99]
[17385,"STAMMERS","Benjamin","M",1995,"U21","DHO","DHO",374.83]
[30526,"STANG","Alastair","M",1992,"SEN","SSC",null,18.55]
[21121,"STANWAY","Kayne","M",2005,"U10",null,"SMK",999.99]
[31319,"STEEL","Bruno","M",2002,"U12","SSC",null,999.99]
[21057,"STEINER","Toby","M",2000,"U14",null,null,999.99]
[20296,"STENSON","Daniel","M",1999,"U16",null,"K",999.99]
[31503,"STENTIFORD","James","M",1971,"MAS","GLO",null,999.99]
[31356,"STEPHEN","Lachlan","M",2001,"U14","SSC",null,356.98]
[41454,"STEPHENS","Samuel","M",1993,"U21","CAR","AMB",30.37]
[17177,"STEUDLE","Roy","M",1993,"U21",null,"AMB",999.99]
[14814,"STEVENS","Anthony","M",1962,"MAS",null,"ALU",999.99]
[19797,"STEVENSON","Christian","M",1998,"U16","TEL","TEL",168.19]
[18471,"STEVENSON","James","M",1994,"U21",null,"K",999.99]
[14808,"STRONG","Louis","M",1996,"U18",null,"K",999.99]
[14807,"STRONG","Oliver","M",1994,"U21",null,"K",999.99]
[31501,"STRUTHERS","Ailig","M",1999,"U16","SFR",null,999.99]
[21567,"STUART","Oliver","M",1999,"U16",null,null,999.99]
[30925,"STURROCK","Fraser","M",1997,"U18","SSC","GSR",121.2]
[21056,"SULEYMAN","Ata","M",2002,"U12","BRO","K",999.99]
[8747,"SWINDELLS","Robert","M",1965,"MAS","LIO","LIO",214.54]
[19624,"SYMONS","Daniel","M",1995,"U21","CHT","CHT",71.989999999999995]
[21234,"TAGGART","Matthew","M",2002,"U12",null,"SMK",999.99]
[21147,"TANDY","Joshua","M",2004,"U10","FLK",null,999.99]
[20967,"TAPSON","Toby","M",2000,"U14","DHO","DHO",999.99]
[20398,"TARANTELLI","Leone","M",1999,"U16",null,"BSA",999.99]
[20399,"TARANTELLI","Uberto","M",2000,"U14",null,"BSA",999.99]
[21550,"TARRANT","Toby","M",1997,"U18","MID",null,999.99]
[31305,"TATE","Thomas","M",1997,"U18","CSC",null,999.99]
[21527,"TATTERS","Ben","M",2001,"U14","SPR","SPR",999.99]
[21524,"TATTERS","Joshua","M",2003,"U12","SPR","SPR",999.99]
[20364,"TATTERSALL","James","M",1997,"U18","CHL","BSA",179.39]
[31186,"TAYLOR","Finlay","M",1999,"U16","SSC",null,999.99]
[18164,"TAYLOR","Laurie","M",1996,"U18",null,"BSA",355.03]
[31185,"TAYLOR","Lewis","M",1998,"U16","SSC",null,999.99]
[20361,"TAYLOR","Luke","M",1998,"U16",null,"SPR",999.99]
[19447,"TAYLOR","Patrick","M",1999,"U16","K","AMB",999.99]
[41876,"TAYLOR","Robert","M",1984,"SEN",null,null,999.99]
[31036,"TAYLOR","Ross","M",1995,"U21","GSR","SSC",48.3]
[20854,"TAYLOR-SWAN","William","M",2000,"U14","SPR","SPR",999.99]
[20146,"TAYLOR-TIPTON","Curtis","M",1996,"U18","FF","FF-",198.09]
[20147,"TAYLOR-TIPTON","Justin","M",2000,"U14","FF","FF-",267.27]
[20630,"TEAGUE","Jack","M",2004,"U10","MID",null,999.99]
[13773,"TEE","David","M",1990,"SEN","CHL","DRA",37.57]
[11915,"TELLING","Marc","M",1984,"SEN","HEM","AMB",21.13]
[12458,"TELLING","Paul","M",1982,"MAS","EVO","EVO",28.62]
[19959,"THIDLING","Max","M",1995,"U21",null,null,999.99]
[41851,"THOMAS","Benjamin","M",1998,"U16","CAR",null,121.23]
[18072,"THOMAS","Cameron","M",1997,"U18","TOQ","BSA",49.57]
[41661,"THOMAS","Cyffin","M",2000,"U14","DRA","DRA",382.48]
[20884,"THOMPSON","Joseph","M",2003,"U12","NOR","ELI",999.99]
[13647,"THOMPSON","Matthew","M",1993,"U21","HEM","K",5]
[30987,"THOMSON","Ross","M",1999,"U16","SSC",null,422.58]
[18586,"THORLEY","Alasdair","M",1994,"U21","MID","OXU",61.87]
[18998,"THORLEY","Duncan","M",1997,"U18","MID",null,197.45]
[19985,"THORNTON","Adam","M",2003,"U12","LIO","LIO",999.99]
[18652,"THORNTON","Luke","M",1998,"U16",null,"LIO",205.77]
[19078,"THURSFIELD","Dylan","M",1997,"U18","HEM","HEM",999.99]
[19077,"THURSFIELD","Emrys","M",1999,"U16","HEM","HEM",999.99]
[20827,"THURSTON","Tomas","M",1997,"U18","AVO","K",999.99]
[17950,"TODD-SAUNDERS","Samuel","M",1996,"U18","DHO","DHO",87.67]
[20811,"TOH","Alexander","M",2000,"U14","HEM","HEM",999.99]
[20812,"TOH","James","M",2000,"U14","HEM","HEM",999.99]
[17043,"TOMLINSON","Josef","M",1994,"U21","PPS","LIO",87.58]
[17467,"TREBILCOCK","Robert","M",1993,"U21","HEM","HEM",23.95]
[20670,"TREUGE","Matthew","M",2002,"U12","MID","MID",999.99]
[21105,"TREVOR","Samuel","M",1999,"U16","SPR","SPR",999.99]
[20645,"TREW","Richard","M",2000,"U14","HEM","K",190]
[31391,"TRINDER","Angus","M",1996,"U18","CSN",null,999.99]
[31270,"TRINDER","Jamie","M",1994,"U21","CSN",null,999.99]
[20687,"TROUNG","Aaron","M",2001,"U14","VIK","AMB",149.04]
[30869,"TROUP","Kieran","M",2000,"U14","GDN","BSA",999.99]
[13403,"TUCKER","Colin","M",1946,"MAS","SLP","K",905.5]
[12858,"TUCKER","William","M",1991,"SEN","LSU","LSU",541.34]
[21572,"TURNER","Alife","M",2003,"U12","HEM","HEM",999.99]
[21656,"TURNER","Charles","M",1997,"U18","SMK","SMK",999.99]
[21627,"TURNER","Oliver","M",2000,"U14",null,"ASR",999.99]
[21265,"UNDERKOFFLER","Lucas","M",1996,"U18",null,null,999.99]
[18992,"UPTON","Ben","M",1994,"U21","WGC",null,55.21]
[21052,"UPTON","Jack","M",2004,"U10","STS",null,999.99]
[21051,"UPTON","Thomas","M",2001,"U14","STS",null,341.66]
[21197,"URQUHART","Aidan","M",2004,"U10","HEM","HEM",999.99]
[21196,"URQUHART","Colm","M",2001,"U14","HEM","HEM",351.26]
[9129,"URQUHART","John","M",1968,"MAS","HEM","HEM",119.2]
[20714,"VANBECK","Robert","M",1998,"U16","SMK",null,152.09]
[21443,"VAUDRY","Nicholas","M",1999,"U16",null,null,999.99]
[31078,"VAUGHAN","Seoras","M",1998,"U16","CSC",null,999.99]
[30968,"VEITCH","Lachlan","M",1998,"U16","SSC","BSA",322.04000000000002]
[20848,"VICKERS","Charlie","M",1999,"U16","SPR","SPR",999.99]
[21456,"VINCENT","Ben","M",2003,"U12","TSN","TSN",999.99]
[30923,"VINTER","Owen","M",2001,"U14","GSR",null,121.89]
[30831,"VINTER","Zak","M",1998,"U16","GSR",null,35.200000000000003]
[20163,"WAGHORNE","Robert","M",1997,"U18","SMK","AMB",93.43]
[31213,"WAITT","Scott","M",2000,"U14","SSC",null,228.29]
[31125,"WAITT","Stuart","M",1999,"U16","SSC","LSR",228.04]
[21448,"WALBRIDGE","James","M",1992,"SEN",null,null,999.99]
[20065,"WALKER-MORETTI","Ralph","M",1998,"U16","CHL","TEL",85.9]
[31334,"WALLIS","Finlay","M",1997,"U18","LSR",null,377.11]
[9810,"WALTERS","Peter","M",1980,"MAS","BRO",null,20]
[21526,"WALTON","Matthew","M",2002,"U12","SAS","SAS",999.99]
[21545,"WANG","Matthew","M",1983,"MAS","HEM","HEM",411.12]
[21295,"WARD","Joel","M",1991,"SEN",null,null,999.99]
[31195,"WARD","Thomas","M",2002,"U12","GSR",null,999.99]
[18661,"WARMINGTON","Richard","M",1997,"U18","HEM","HEM",87.96]
[21641,"WARNER","Hugo","M",2002,"U12",null,"HEM",999.99]
[21495,"WASHER","Piers","M",1998,"U16",null,"EVO",999.99]
[21145,"WATERSTON","Laughlan","M",1971,"MAS","HEM","HEM",217.14]
[41042,"WATSON","Andrew","M",1991,"SEN","CAR","DRA",0]
[31204,"WATSON","Jack","M",1999,"U16","BSC",null,289.72000000000003]
[41656,"WATTS","Llewellyn","M",2001,"U14","TOR",null,999.99]
[19564,"WAYLING","Lloyd","M",1995,"U21","NOR","BSA",56.37]
[19702,"WEBB","Jamie","M",1998,"U16",null,"SMK",202.1]
[19051,"WEEKS","Oliver","M",2001,"U14","MID","DRA",104.12]
[21493,"WEIR","Daniel","M",2001,"U14","RAV",null,999.99]
[20087,"WEIR","Jonathan","M",1990,"SEN","LSU","LSU",231.88]
[20970,"WEIR","Richard","M",1964,"MAS","RAV","RAV",162.85]
[21067,"WEIR","Roddy","M",1997,"U18","RAV",null,144.41]
[17983,"WELLER","Mark","M",1992,"SEN","ASR",null,89.84]
[31434,"WHATFORD","Ben","M",2005,"U10","GDN",null,999.99]
[14168,"WHEATMAN","Max","M",1993,"U21","NOR","IMP",49.86]
[19209,"WHEELER","William","M",1997,"U18","HEM","TEL",61.45]
[12359,"WHELAN","Peter","M",1989,"SEN","SPR","SPR",422.75]
[18467,"WHITE","Alex","M",1997,"U18","HEM","TEL",77.37]
[10965,"WHITE","Duncan","M",1984,"SEN","DHO","SPR",999.99]
[18234,"WHITE","Thomas","M",1992,"SEN","AMB","AMB",35.11]
[19612,"WHITLEY","James","M",1997,"U18","K","K",999.99]
[18996,"WHITTALL","Joseph","M",1995,"U21","ASR","SAS",161.22]
[20159,"WHITTALL","Trevor","M",1958,"MAS","BRS","SAS",575.6]
[3199,"WHITTET","Jeremy","M",1967,"MAS","SSC","DHO",999.99]
[20637,"WIGMORE","Matthew","M",1996,"U18","NOR",null,96.19]
[19346,"WILKINS","Simon","M",1992,"SEN","TEL","TEL",146.82]
[18917,"WILLIAMS","Christian","M",1998,"U16",null,"K",999.99]
[31128,"WILLIAMS","Conway","M",1965,"MAS","GSR","SSC",152.97999999999999]
[19129,"WILLIAMS","Harry","M",1994,"U21","FLK",null,67.430000000000007]
[19130,"WILLIAMS","Jamie","M",1992,"SEN","FLK",null,62.32]
[21563,"WILLIAMS","Lewis","M",1999,"U16","AVO","AVO",999.99]
[20729,"WILLIAMS","Matthew","M",2004,"U10","TEL",null,999.99]
[18022,"WILLIAMS","Sam","M",1997,"U18","SAS","SAS",130.11000000000001]
[30998,"WILLIAMS","Scott","M",1999,"U16","GSR","SSC",152.6]
[21103,"WILLIAMS-GRAVENER","David","M",2001,"U14","FLK","DHO",283.10000000000002]
[20613,"WILLIS","James","M",2001,"U14","SMK","SMK",257.93]
[20706,"WILLIS","James","M",2003,"U12","SLP","SMK",999.99]
[17930,"WILLIS","Robert","M",1996,"U18","AMB","AMB",418.36]
[20519,"WILLOUGHBY","Oliver","M",2002,"U12","EVO","EVO",999.99]
[18558,"WILLOWS","Laurence","M",1996,"U18","BRO","BSA",56.41]
[20290,"WILLS","Angus","M",1999,"U16",null,"BSA",999.99]
[20710,"WILMOT","Jack","M",2000,"U14","SPR","SPR",999.99]
[31255,"WILOWSKI","Kazimierz","M",2000,"U14","GDN",null,999.99]
[31402,"WILSON","Carter","M",2001,"U14","LSR",null,373.45]
[21362,"WILSON","Geoffrey","M",1996,"U18","VIK",null,999.99]
[41031,"WILSON","Hugh","M",1987,"SEN","CAR","DRA",91.97]
[19420,"WITTS","Callum","M",1998,"U16","PND",null,55.1]
[18512,"WITTS","Kaigan","M",1994,"U21","PND","PND",47.23]
[20814,"WOODWARD","Stewart","M",1955,"MAS",null,null,999.99]
[21594,"WORTT","Aaron","M",1999,"U16","ASR",null,999.99]
[19419,"WRIGHT","Alexander","M",1994,"U21","GLO","IMP",94.32]
[31089,"WRIGHT","Dewar","M",1999,"U16","SSC",null,109.46]
[31176,"WYLIE","Scott","M",2001,"U14","GSR",null,215.73]
[17319,"YATES","Christopher","M",1996,"U18","TEL","TEL",44.07]
[31378,"YEAMAN","Robert","M",2001,"U14","GSR",null,294.58999999999997]
[31455,"YORK","Scott","M",2002,"U12","GSS",null,999.99]
[31310,"YOUNG","Gregor","M",1995,"U21","HNC","BND",999.99]
[20605,"YULE-SMITH","Oliver","M",1996,"U18","SPR","SPR",999.99]
[21093,"ZIELEZNIK","Oskar","M",2004,"U10",null,"SPR",999.99]

{"sheet":"Latest Points (2103.5)","index":9,"n_rows":1796,"n_cols":9,"rows_kept":1796,"cut":false,"hidden":true,"merged":[]}
["REGNO","SURNAME","FORENAME","SEX","YOB","CAT","CLUB1","CLUB2","PTS"]
[19440,"ADAMS","Sarah","F",1997,"U18","DHO","DHO",999.99]
[31352,"ADLINGTON","Sophie","F",1996,"U18","RHS",null,286.41000000000003]
[21161,"ALBONE","Catherine","F",2003,"U12",null,"SMK",999.99]
[8242,"ALCOTT","Chimene","F",1982,"MAS","SPR","DHO",147.63999999999999]
[31449,"ALDRIDGE","Iona","F",2003,"U12","MUC","SSC",999.99]
[30802,"ALEXANDER","Megan","F",1999,"U16","DHO","SSC",999.99]
[31340,"ALLAN","Amelia","F",2001,"U14","GDN",null,229.13]
[30833,"ALLAN","Katie","F",1996,"U18","BSC",null,55.52]
[31436,"ALLAN","Phoebe","F",2004,"U10","GDN",null,999.99]
[31208,"ALLAN","Tabitha","F",2000,"U14","GDN",null,179.89]
[12570,"ALLDRIDGE","Amanda","F",1991,"SEN","SMK",null,24.27]
[14159,"ANDERSON","Beverley","F",1970,"MAS","VIK","K",67.87]
[31316,"ANDERSON","Grace","F",2002,"U12","SSC",null,999.99]
[17560,"ANDERSON","Jessica","F",1998,"U16","GRV","BSA",69.61]
[30988,"ANDERSON","Keri","F",1996,"U18","GSR","SSC",40.76]
[31312,"ANDERSON","Laura","F",1996,"U18",null,null,153.63]
[30664,"ANGUS","Kate","F",1994,"U21","SSC","GDN",256.52]
[19031,"ARTHUR","April","F",2001,"U14","SAS","SAS",384.91]
[14906,"BAGGE","Christine","F",1969,"MAS","NOR",null,999.99]
[12428,"BAGGIO","Jayme","F",1991,"SEN","EVO","EVO",999.99]
[20805,"BAILES","Lucy","F",2001,"U14",null,"ELI",246.24]
[31410,"BAKER","Jessica","F",2000,"U14","LSR",null,999.99]
[31411,"BAKER","Rachel","F",2002,"U12","LSR",null,999.99]
[30852,"BANKS BROWN","Yandra","F",1996,"U18","CSC",null,999.99]
[21303,"BANNISTER","Lucy","F",2002,"U12","ASR",null,999.99]
[20999,"BARDER","Beatrice","F",1999,"U16","HEM","HEM",189.18]
[20998,"BARDER","Katie","F",2003,"U12","HEM","HEM",999.99]
[31000,"BARKER","Emily","F",1998,"U16","SSC","LSR",113.97]
[30636,"BARKER","Katy","F",1996,"U18","SSC","LSR",86.73]
[31336,"BARTHRAM","Alice","F",2001,"U14","LSR","SSC",225.94]
[19680,"BAXTER","Phillipa","F",1998,"U16","VIK","BSA",150.13]
[19360,"BAXTER","Samantha","F",1995,"U21","VIK","BSA",76.47]
[30995,"BEATTIE","Natalie","F",1994,"U21","ARB",null,999.99]
[10612,"BECK","Catherine","F",1960,"MAS","LIO","LIO",225.92]
[10654,"BECK","Hannah","F",1987,"SEN","LIO","LIO",186.93]
[19133,"BEE","Anastasia","F",1994,"U21","WGC",null,86.14]
[20711,"BEER","Georgina","F",1996,"U18","RAV",null,58.68]
[21741,"BEINHOCKER","Anna","F",2004,"U10","HEM",null,999.99]
[21338,"BELL","Reece","F",2001,"U14",null,"BSA",999.99]
[20727,"BELL","Rosemary","F",2001,"U14","HEM",null,233.63]
[19587,"BENNETT","Lucy","F",1999,"U16","SZR","SZR",112.44]
[21647,"BIGGS","Eloise","F",2004,"U10",null,null,999.99]
[20168,"BILL","Rachel","F",1990,"SEN","MID","MID",23.81]
[18530,"BIRD","Abigail","F",1997,"U18","SRR","SRR",142.63999999999999]
[20132,"BLACK","Grace","F",2003,"U12","PPS","DRA",999.99]
[21140,"BLACK","Lauren","F",2001,"U14","AVO","AVO",291.95999999999998]
[21317,"BLEASDALE","Janice","F",1962,"MAS","NSC",null,999.99]
[21659,"BOJARSKA","Aleksandra","F",1961,"MAS","MAN","MAN",212.57]
[31375,"BOLE","Gemma","F",2001,"U14","SSC",null,342.99]
[31376,"BOLE","Rebecca","F",2003,"U12","LSR",null,999.99]
[41826,"BONNINGTON","Keira","F",2002,"U12",null,null,999.99]
[21522,"BOSWELL","Olivia","F",1999,"U16","SRR","SRR",189.87]
[21759,"BOSWOOD-CLARK","Eve","F",2003,"U12","TOQ","TOQ",999.99]
[19712,"BOTY","Carys","F",1999,"U16","HEM","ELI",130.43]
[21334,"BOTY","Nia","F",2003,"U12","HEM","ELI",999.99]
[20901,"BOYCOTT","Nina","F",2000,"U14","LIO","LIO",999.99]
[30844,"BOYD","Kirsten","F",1996,"U18","SSC",null,90.26]
[18618,"BOZIER","Hannah","F",1996,"U18","ASR","ASR",0]
[19746,"BRADLEY","Lydia","F",2000,"U14","HEM","HEM",181.29]
[31532,"BRAWLEY","Ella","F",2004,"U10","GSR",null,999.99]
[31301,"BRODIE","Anna","F",1997,"U18",null,null,999.99]
[31241,"BROGAN","Alexandra","F",1996,"U18","SSC",null,253.63]
[31308,"BROGAN","Jodie","F",1998,"U16","SSC",null,274.69]
[19504,"BROOKER","Lolli","F",2001,"U14","VIK","ELI",94.92]
[19821,"BROWN","Alysha","F",2002,"U12",null,"K",999.99]
[31482,"BROWN","Anna","F",2006,"U8",null,null,999.99]
[30868,"BROWN","Cara","F",1994,"U21","SSC",null,999.99]
[20299,"BROWN","Charlotte","F",2003,"U12",null,"K",999.99]
[20348,"BROWN","Elektra","F",2003,"U12",null,null,999.99]
[18576,"BROWN","Ellen","F",1996,"U18","TEL","TEL",28.41]
[19519,"BROWN","Eloise","F",1993,"U21","WCS","WCS",149.44999999999999]
[20347,"BROWN","Isobel","F",1999,"U16",null,null,165.36]
[20346,"BROWN","Jemima","F",2001,"U14",null,null,272.06]
[19520,"BROWN","Madeleine","F",1998,"U16","WCS","WCS",119.96]
[31191,"BROWN","Rachel","F",2000,"U14","GDN","ASC",121.52]
[20367,"BRUCE","Abigail","F",2000,"U14","EVO","EVO",102.67]
[31493,"BRUCE","Emma","F",2000,"U14","BSC",null,999.99]
[31492,"BRUCE","Kate","F",1998,"U16","BSC",null,999.99]
[20368,"BRUCE","Sasha","F",1999,"U16","EVO","EVO",129.72]
[17686,"BUCHANAN","Alexandra","F",1994,"U21",null,"AMB",999.99]
[20360,"BUCKLAND","Amber","F",1997,"U18","HEM","BSA",170.06]
[14661,"BULLOCK","Alexandra","F",1995,"U21","TEL","TEL",12.97]
[31484,"BURKE","Olivia","F",2002,"U12","GSS",null,999.99]
[21139,"BURKINSHAW","Rowena","F",1979,"MAS","CHL","CHL",104.85]
[20601,"BURNS","Madeleine","F",2001,"U14","HEM","BSA",165.75]
[20339,"BURROUGHS","Hannah","F",2000,"U14","NOR",null,128.57]
[20860,"BURTON","Maisie","F",2002,"U12","LIO","LIO",999.99]
[19586,"BUTCHER","Jazmine","F",1997,"U18","NOR","BSA",83.83]
[12970,"CADMAN","Lauren","F",1990,"SEN","LIO",null,30.4]
[31357,"CALDER","Emma","F",2002,"U12","GDN",null,999.99]
[20833,"CALDWELL","Anna","F",2002,"U12","SAS","SAS",999.99]
[19399,"CALDWELL","Sophie","F",1996,"U18","CHL","DRA",119.67]
[41954,"CAMPBELL","Caitriona","F",1997,"U18","SCI",null,999.99]
[31161,"CAMPBELL","Erin","F",1999,"U16","GSR",null,300.43]
[31044,"CAMPBELL","Josie","F",1995,"U21","LSR","SSC",236.79]
[13638,"CAMPBELL-WOODWARD","Sarah","F",1954,"MAS",null,null,208.53]
[31407,"CANE","Eilidh","F",2000,"U14","LSR",null,999.99]
[19983,"CARE","Chloe","F",1998,"U16","MID",null,203.01]
[17890,"CARPENTER","Gabriella","F",1993,"U21","SPR","SPR",292.19]
[31155,"CARRUTHERS","Philipa","F",1997,"U18","SSC",null,152.78]
[31203,"CARSON","Clare","F",1994,"U21","GSR",null,87.98]
[21222,"CARTER","Leah","F",1996,"U18",null,"SMK",989]
[20694,"CATLIN","Glesni","F",2003,"U12","SMK","K",999.99]
[31473,"CELINO","Carly","F",2003,"U12","BSC",null,999.99]
[31472,"CELINO","Melanie","F",1999,"U16","BSC",null,999.99]
[31497,"CHAPMAN","Vaila","F",1997,"U18","BSC",null,999.99]
[20366,"CHASTNEY","Rebecca","F",2002,"U12","WM","BSA",999.99]
[21055,"CHEADLE","Emily","F",1999,"U16",null,"K",999.99]
[21437,"CHEADLE","Jessica","F",2001,"U14",null,"K",999.99]
[21059,"CHMIELOWSKA","Claudia","F",1998,"U16","HEM","K",999.99]
[21521,"CHMIELOWSKA","Julia","F",1996,"U18","HEM",null,999.99]
[21341,"CHRISTOPHER","Rebecca","F",1998,"U16","SPR","SPR",999.99]
[20810,"CLARKE","Holly","F",2003,"U12","HEM","HEM",999.99]
[31335,"CLARKE","Jemma","F",2001,"U14","LSR",null,148.29]
[18316,"CLISSOLD","Honor","F",1997,"U18","RAV","EVO",159.61000000000001]
[20791,"COATES","Darcie","F",2000,"U14","AVO","BSA",999.99]
[21073,"COATES","Imogen","F",1998,"U16",null,"HEM",999.99]
[20139,"COE","Megan","F",1997,"U18","NOR",null,31.87]
[21658,"COLE","Hannah","F",1998,"U16","SOU","SOU",999.99]
[20352,"COLLEY","Isabella","F",1999,"U16","SPR","SPR",999.99]
[31240,"COLLIAR","Emilie","F",1999,"U16","SSC",null,999.99]
[21358,"COOK","Ellie","F",1998,"U16","GLO",null,160.04]
[18676,"COOPER","Georgina","F",1996,"U18","GLO","DRA",59.32]
[19770,"COOPER","Izabelle","F",2001,"U14","SAS","BSA",999.99]
[19628,"COOPER","Lauren","F",1999,"U16","SAS","SAS",141.43]
[21769,"COOPER","Lauren","F",2005,"U10",null,null,999.99]
[19137,"COOPER","Yasmin","F",1998,"U16","HEM","BSA",24.18]
[20842,"CORRIGAN","Caroline","F",2002,"U12","SPR","SPR",999.99]
[31261,"COWAN","Lorna","F",1998,"U16","SFR",null,145.79]
[21593,"COWELL","Milly","F",2002,"U12",null,null,999.99]
[31433,"CRANE","Joanna","F",2001,"U14","CSC",null,999.99]
[31242,"CRANE","Rachel","F",1998,"U16","CSC",null,999.99]
[20631,"CRANE-ROBINSON","Freddie","F",1998,"U16",null,"DHO",999.99]
[21538,"CRANFIELD","Lizzie","F",1982,"MAS",null,null,999.99]
[21584,"CRICHTON-STUART","Lola","F",1999,"U16",null,null,999.99]
[21695,"CROCKER","Alicia","F",1997,"U18","SMK","SMK",211.75]
[31419,"CROOKS","Georgia","F",2002,"U12","BSC",null,999.99]
[31420,"CROOKS","Mhairi","F",2002,"U12","BSC",null,999.99]
[31499,"CROSS","Jemima","F",2003,"U12","SSC",null,999.99]
[21597,"CULSHAW","Eleanor","F",2003,"U12","PND",null,999.99]
[21177,"CULSHAW","Katie","F",1996,"U18","SRR",null,999.99]
[31205,"CUNNINGHAM","Hannah","F",1999,"U16","BSC",null,287.72000000000003]
[31219,"CURRIE","Poppy","F",2000,"U14","MUC","GSC",999.99]
[19773,"CURTIS","Marie","F",1997,"U18","HEM","BSA",49.86]
[20800,"DALE","Safia","F",2000,"U14","DHO","DHO",999.99]
[20256,"DANENBERGSONS","Shana","F",2000,"U14","HEM","EVO",69.16]
[19531,"DANIELS","Daisi","F",2002,"U12","CHL","EVO",999.99]
[19414,"DANNATT","Gemma","F",1996,"U18","GLO","DRA",63.4]
[30759,"DAULBY","Hannah","F",1995,"U21","SSC","LSR",99.57]
[31317,"DAVIDSON-MCQUEEN","Cassie","F",2002,"U12","LSR",null,999.99]
[41488,"DAVIES","Charlotte","F",1991,"SEN","GLO","DRA",7.5]
[21575,"DAVIES","Esmie","F",1999,"U16",null,null,999.99]
[17936,"DAVIES","Jenny","F",1996,"U18","ASR",null,11.94]
[20890,"DAVIES","Megan","F",2001,"U14","HEM","K",218.63]
[20069,"DAVIES-NASH","Yasmin","F",1997,"U18","BSA","BSA",999.99]
[21176,"DAVIGHI","Lucia","F",1999,"U16","HEM","HEM",302.3]
[31469,"DAVIS","Meghan","F",2000,"U14",null,null,157.01]
[17435,"DAWSON","Laura","F",1993,"U21","OVL",null,182.61]
[21219,"DEAN","Emily","F",1999,"U16","HEM","HEM",138.97]
[31409,"DEANE","Annabella","F",2000,"U14","LSR",null,999.99]
[31408,"DEANE","Esme","F",2002,"U12","LSR",null,999.99]
[20178,"DEIGHTON","Avelline","F",1967,"MAS","HEM","IMP",240.29]
[17888,"DELLER","Lucy","F",1996,"U18","MID",null,15.68]
[18632,"DENNING","Clare","F",1998,"U16",null,"BSA",999.99]
[21148,"DENT","Hollie","F",2004,"U10","RAV","RAV",999.99]
[41103,"DENT-NEVILLE","Carolyn","F",1988,"SEN","SCI",null,149.16]
[31466,"DICKSON","Sophie","F",1999,"U16","CSC",null,999.99]
[31431,"DILLON","Millie","F",2004,"U10","SSC","MUC",999.99]
[21331,"DILWORTH","Lucinda","F",1998,"U16",null,"BSA",104.75]
[13027,"DIXON","Kirsty","F",1992,"SEN","SPR","SPR",999.99]
[19573,"DOHERTY","Robyn","F",1996,"U18","MID",null,530.29]
[31104,"DOUGLAS","Abigail","F",1999,"U16","SSC","MUC",72.319999999999993]
[21770,"DREW","Isobel","F",2004,"U10","TOQ","TOQ",999.99]
[21124,"DRUMMOND","Elinor","F",2003,"U12","TEL","TEL",999.99]
[21094,"DRUMMOND","Isabel","F",2001,"U14","TEL","TEL",290.20999999999998]
[31262,"DUNCAN","Martha","F",1999,"U16","LSR",null,320.68]
[20141,"EATON","Freya","F",1998,"U16","AMB","AMB",111.8]
[20618,"EAVES","Eleanor","F",2003,"U12","PND",null,999.99]
[19155,"EDEN","Katie","F",1996,"U18","TOQ","BSA",84.81]
[21012,"EDWARDS","Issy","F",2001,"U14",null,null,245.49]
[21013,"EDWARDS","Lucy","F",2001,"U14",null,null,311.25]
[21630,"EDWARDS","Rachel","F",1963,"MAS","KYN",null,999.99]
[19165,"ELGY","Geraldine","F",1954,"MAS","MID",null,275.20999999999998]
[21017,"ELLIFF","Alexa","F",2003,"U12","VIK",null,999.99]
[31081,"ENGLAND","Isabella","F",2000,"U14","SSC",null,999.99]
[31080,"ENGLAND","Jessica","F",1998,"U16","SSC",null,499.2]
[13711,"ESPINOSA","Stephanie","F",1993,"U21","SPR","SPR",646.95000000000005]
[13765,"EVANS","Charlotte","F",1991,"SEN","CHT","K",35.6]
[13766,"EVANS","Emily","F",1994,"U21","K","AMB",2.5]
[41986,"EVANS","Isabel","F",2000,"U14","SAS",null,999.99]
[21771,"FAIRHEAD","Iona","F",2000,"U14",null,"DHO",999.99]
[20701,"FELLOWS","Charley","F",2003,"U12","TEL","TEL",999.99]
[21202,"FENWICK","Thea","F",2001,"U14","SZR","SZR",999.99]
[30964,"FERRIER","Rachael","F",1996,"U18","GSR","SSC",23.01]
[21486,"FISHER","Charlotte","F",2000,"U14",null,"ELI",999.99]
[20576,"FITZGERALD","Jordan","F",1996,"U18",null,null,999.99]
[31454,"FITZPATRICK","Molly","F",2003,"U12","GSR",null,999.99]
[31091,"FLEMING","Alex","F",1999,"U16","SSC",null,242.05]
[20528,"FLUCK","Catrin","F",1998,"U16","SPR",null,999.99]
[20856,"FOSTER","Olivia","F",2001,"U14","SPR","SPR",129]
[20855,"FOSTER","Sophie","F",2003,"U12","SPR","SPR",999.99]
[31226,"FOWLER","Isla","F",2000,"U14","SFR","GSC",245.23]
[20674,"FRANCIS","Alexandra","F",1998,"U16","SMK","SMK",194.16]
[20675,"FRANCIS","Francesca","F",1996,"U18","SMK","SMK",267.92]
[14942,"FREEZE","Danielle","F",1990,"SEN","BRO",null,51.68]
[20614,"FRYERS","Charlotte","F",1999,"U16",null,"BSA",999.99]
[41968,"FURLONG","Georgia","F",2000,"U14","CAR",null,296.64]
[30500,"GARDINER","Carla-Marina","F",1989,"SEN","EDS",null,17.16]
[20345,"GARMENT","Harriett","F",2000,"U14","WGC","HEM",388.18]
[30866,"GARVIE","Amber","F",1998,"U16","GDN",null,236.06]
[21182,"GAY","Caroline","F",2003,"U12","HEM","DHO",999.99]
[21183,"GAY","Catherine","F",2003,"U12","HEM","DHO",999.99]
[21181,"GAY","Elizabeth","F",1999,"U16","HEM","DHO",113.61]
[21776,"GEHRIG","Stephanie","F",1992,"SEN",null,null,999.99]
[31264,"GIBB","Eva","F",2000,"U14","LSR",null,392.07]
[31258,"GIBB","Tabitha","F",2000,"U14","LSR",null,514.86]
[20868,"GIBBONS","Molly-Jo","F",2001,"U14","SPR","SPR",999.99]
[31381,"GILMOUR","Amelie","F",2002,"U12","MUC",null,999.99]
[19001,"GLASGOW","Sarah","F",2001,"U14","SMK","AMB",147.02000000000001]
[21007,"GLASSBROOK","Amy","F",2002,"U12",null,"CHL",999.99]
[30850,"GLOISTEIN","Helen","F",1996,"U18","MUC","SSC",137.31]
[41007,"GODDARD","Emily","F",1987,"SEN","GLO","DRA",22.23]
[20861,"GODDARD-JONES","Bryony","F",2001,"U14","SLP","SLP",116.58]
[19535,"GORDON","Maya","F",1995,"U21",null,"K",999.99]
[41910,"GORRINGE","Cerys","F",2000,"U14","IMP",null,999.99]
[41911,"GORRINGE","Giselle","F",2003,"U12","IMP",null,999.99]
[17747,"GOULD","Charlotte","F",1992,"SEN","TEL","TEL",0.87]
[17972,"GOULD","Georgina","F",1994,"U21","TEL","TEL",41]
[21053,"GRANT","Isabelle","F",2003,"U12",null,"BSA",999.99]
[31239,"GRAY","Hannah","F",2000,"U14","ASC",null,999.99]
[17439,"GREASBY","Alexandra","F",1994,"U21","HEM",null,93.22]
[19275,"GREAVES","Rebecca","F",1999,"U16","CHL","EVO",179.82]
[17689,"GREENBANK","Kelly","F",1996,"U18","TEL","TEL",66.599999999999994]
[13814,"GREENHALGH","Eloise","F",1993,"U21","SPR","SPR",27.08]
[31528,"GREIG","Anna","F",2001,"U14",null,null,999.99]
[20391,"GRIFFITHS","Inez","F",1995,"U21","SHK",null,101.81]
[30633,"GUEST","Charlotte","F",1993,"U21","SSC","BSA",108.15]
[30779,"GUEST","Katharine","F",1995,"U21","SSC","BSA",296.33]
[30920,"GUEST","Kirsty","F",1997,"U18","SSC","BSA",549.79]
[20718,"HADLEY","Rebecca","F",2004,"U10","SMK",null,999.99]
[21361,"HAIGH","Lucy","F",2000,"U14",null,null,999.99]
[21360,"HAIGH","Sarah","F",1997,"U18",null,null,999.99]
[41274,"HALES","Alice","F",1992,"SEN","CAR","DRA",0.15]
[21587,"HALES","Madeleine","F",2003,"U12",null,"SPR",999.99]
[20936,"HALL","Maria","F",1995,"U21","LIO","LIO",999.99]
[41705,"HALLETT","Georgia","F",1996,"U18","CAR","DRA",22.41]
[18617,"HANCOCK","Maxine","F",1997,"U18","MID","SMK",74.28]
[14237,"HANDFORD-STYRING","Hannah","F",1996,"U18","PPS","PPS",999.99]
[31277,"HANLON","Olivia","F",1999,"U16","GSR",null,126.44]
[21428,"HARE","Sasha","F",1996,"U18","TOQ","TOQ",999.99]
[21301,"HARRISON","Louise","F",1994,"U21","PND","PND",69.42]
[21561,"HARROGATE-BRAMLEY","Cheryl","F",1962,"MAS","RAV","RAV",547.63]
[21590,"HARROP","Emily","F",1997,"U18",null,null,999.99]
[31229,"HARTE","Giulia","F",1996,"U18","THR",null,999.99]
[30848,"HARTE","Natalia","F",1992,"SEN","THR",null,50.91]
[4944,"HATCHER","Kirsty","F",1991,"SEN","CAR","K",32.03]
[17970,"HATHWAY","Ellen","F",1994,"U21","LSU","ASR",7.5]
[18660,"HATHWAY","Isabella","F",1997,"U18","ASR",null,39.71]
[19367,"HAWKINS-HOOKER","Laetitia","F",1996,"U18","SPR","SPR",343.25]
[31483,"HAY","Ailsa","F",2004,"U10","SSC","SLR",999.99]
[21629,"HEAGUE","Veronica","F",1953,"MAS","WGC","SMK",999.99]
[19126,"HEGINBOTHAM","Erika","F",1998,"U16",null,"BSA",134.80000000000001]
[21569,"HEMMING","Anya","F",2005,"U10","MID",null,999.99]
[19159,"HENDERSON","Anna","F",1998,"U16","HEM","AMB",7.5]
[31211,"HENDERSON","Caitlin","F",1999,"U16","BSC",null,242.18]
[21163,"HENDLEY","Sian","F",2000,"U14","LIO","LIO",999.99]
[18863,"HENERY","Deborah","F",1997,"U18","SHK","DRA",28.17]
[31246,"HEWISON","Megan","F",2001,"U14","CSC","ASC",999.99]
[21216,"HEYMOZ","Louise","F",2002,"U12","WGC",null,999.99]
[21725,"HILLS","Emily","F",2002,"U12",null,null,999.99]
[21444,"HINDES","Chloe","F",1996,"U18",null,"AMB",999.99]
[20789,"HINTON","Georgina","F",2001,"U14","HEM","SPR",337.12]
[21284,"HINTON","Tilly","F",2004,"U10","HEM","SPR",999.99]
[21580,"HOFFMAN-LITTLE","Jolie","F",2005,"U10","GLO",null,999.99]
[21621,"HOLMES","Charlotte","F",2005,"U10","PND",null,999.99]
[41480,"HOPKINS","Emily","F",1994,"U21","CAR","DRA",3.96]
[31298,"HORNSBY","Vaila","F",1997,"U18","CSC",null,999.99]
[31416,"HORSBURGH","Anna","F",2002,"U12","SSC","LSR",999.99]
[21199,"HORTON","Siena","F",2002,"U12","SMK","SMK",999.99]
[20208,"HOSKINS","Isabella","F",1999,"U16","GLO","BSA",276.67]
[21530,"HUFF","Sarah","F",1999,"U16","SPR",null,999.99]
[20971,"HUGEC","Nadine","F",2002,"U12","BSA","SAS",999.99]
[20972,"HUGEC","Nicole","F",2000,"U14","BSA","SAS",123.6]
[13840,"HUGHES","Rachel","F",1992,"SEN",null,null,147.51]
[21549,"HUGHES","Rachel","F",1997,"U18","SUR","SUR",999.99]
[31071,"HULBERT","Jemma","F",1996,"U18","SSC","MUC",173.62]
[31070,"HULBERT","Lucy","F",1998,"U16","SSC","MUC",245.79]
[31077,"HUNSLEY","Miriam","F",1995,"U21","SSC","LSR",210.12]
[21556,"HUNT","Hannah","F",1997,"U18","TSD","TSD",198.29]
[21047,"HUTCHINSON","Elyse","F",1999,"U16",null,null,999.99]
[21535,"HYDE","Augusta","F",2000,"U14","ASR","SPR",999.99]
[41816,"HYETT","Georgia","F",2000,"U14","CAR","DRA",132.79]
[20332,"IGLINA","Sofia","F",1997,"U18","BSA","BSA",999.99]
[31327,"INWOOD","Morgan","F",2001,"U14","LSR",null,264.31]
[21024,"JACKSON","Ellie","F",2002,"U12","TEL","TEL",999.99]
[31366,"JACKSON","Isla","F",2002,"U12","SSC",null,999.99]
[30872,"JACKSON","Laura","F",1997,"U18","SSC","GSR",55.07]
[19677,"JACKSON","Lois","F",2001,"U14","RAV","AMB",77.94]
[19676,"JACKSON","Millie","F",1999,"U16","RAV",null,42.11]
[21570,"JALLAT","Annabel","F",2003,"U12",null,null,999.99]
[41915,"JAMES","Harriet","F",1999,"U16","CAR",null,185.85]
[41928,"JAMES","Liilli","F",2003,"U12","CAR",null,999.99]
[18560,"JAMES","Sophie","F",1995,"U21","BRS","SAS",109.42]
[31266,"JAMIESON","Emily","F",2000,"U14","SSC",null,265.36]
[21509,"JEFFERSON","Jemima","F",2004,"U10",null,"LIO",999.99]
[21510,"JEFFERSON","Maisie","F",2003,"U12",null,"LIO",999.99]
[31035,"JEFFRAY","Claire","F",1977,"MAS","SSC",null,989]
[41623,"JENKINS","Megan","F",1998,"U16","NOR","BSA",14.99]
[41622,"JENKINS","Nia","F",1995,"U21","NOR","BSA",13.2]
[31343,"JOHNSTONE","Logan","F",2000,"U14","LSR",null,426.61]
[17488,"KAHVE","Lucy","F",1998,"U16","AMB","AMB",999.99]
[21150,"KARAVASILI","Zoe","F",1997,"U18",null,null,73.209999999999994]
[21123,"KELLY","Anna","F",2003,"U12","SMK","SMK",999.99]
[31382,"KELLY","Iona","F",2002,"U12",null,null,999.99]
[41850,"KERFOOT-ROBSON","Seren","F",1998,"U16","CHL","DRA",154.19999999999999]
[19011,"KEYS","Georgia","F",2001,"U14","WYC","EVO",117.88]
[19494,"KIEMLE-GABBAY","Julia","F",1994,"U21",null,"CHL",101.34]
[19493,"KIEMLE-GABBAY","Laura","F",1992,"SEN",null,"CHL",126.13]
[21090,"KILROY-SILK","Ellaouise","F",2002,"U12","TOQ",null,999.99]
[17692,"KIRK","Isabel","F",1997,"U18",null,null,147.21]
[18328,"KOCK","Evangeline","F",1994,"U21","SPR","SPR",148.35]
[18318,"KRAHELSKI","Alicja","F",2000,"U14","HEM","TEL",33.22]
[21310,"KROLL","Ann","F",1971,"MAS","NSC",null,999.99]
[21375,"LAMARRE","Olivia","F",1995,"U21",null,null,999.99]
[14746,"LAMBDEN","Sarah","F",1995,"U21","GLO","DRA",6.25]
[31394,"LAMOND","Emma","F",2002,"U12","SSC",null,999.99]
[31527,"LANG","Ishbel","F",2000,"U14","MUC",null,391.35]
[31498,"LANGMUIR","Nula","F",1999,"U16","SSC",null,999.99]
[41711,"LARGE","Sophie","F",2001,"U14",null,null,999.99]
[31478,"LATTO","Rosamund","F",1999,"U16","CSC",null,999.99]
[31100,"LAWRIE","Alannah","F",1999,"U16","SSC","ASC",57.12]
[19503,"LAWSON-TILLEY","Sarah","F",1994,"U21",null,"DRA",999.99]
[18913,"LEE","Francesca","F",1998,"U16","CHL","SSC",4.76]
[41577,"LEE","Jane","F",1954,"MAS","MID",null,533.71]
[21711,"LEE","Lilani","F",2004,"U10","HEM","HEM",999.99]
[20620,"LEGEAIS","Marion","F",1998,"U16",null,"BSA",999.99]
[21607,"LEIGHTON","Amie","F",2001,"U14","SPR",null,999.99]
[21074,"LEONARD","Heather","F",1973,"MAS",null,"SMK",186.96]
[19152,"LEWINGTON","Caitlin","F",1999,"U16","BRO",null,76.89]
[20097,"LEWIS","Isabelle","F",1996,"U18",null,null,999.99]
[21785,"LEWITT","Isabelle","F",2001,"U14",null,"DHO",999.99]
[19498,"LILLYWHITE","Alexandra","F",1999,"U16","VIK","AMB",49.12]
[19831,"LISMORE","Sophie","F",1999,"U16",null,"DHO",999.99]
[21507,"LITTLE","Sophie","F",2001,"U14","VIK","ELI",310.06]
[31257,"LIVERSIDGE","Lauren","F",2000,"U14","GDN",null,999.99]
[20585,"LIVESEY","Chloe","F",2002,"U12","IMP",null,999.99]
[17431,"LLEWELLYN","Joanna","F",1991,"SEN","BRO","SMK",207.75]
[19735,"LONG","Phoebe","F",1998,"U16","HEM","AMB",138.79]
[9107,"LONSDALE","Emma","F",1984,"SEN","KND","KND",999.99]
[19462,"LOVE TWELVES","Alice","F",1995,"U21","WM","WM",999.99]
[14994,"MACAULAY","Alice","F",1995,"U21","AMB","AMB",2.5]
[14806,"MACEY","Abbie","F",1994,"U21","CHL",null,96.61]
[31346,"MACKENZIE","Eve","F",2000,"U14","BSC",null,999.99]
[30542,"MACKINNON","Christy","F",1992,"SEN","SSC",null,106.43]
[31480,"MACLEAN","Anya","F",2004,"U10","BSC",null,999.99]
[31415,"MACNAB","Alice","F",1997,"U18","LSR",null,270.48]
[31200,"MACPHERSON","Claire","F",2000,"U14","SSC","LSR",241.92]
[21700,"MAGENES","Matilde","F",2002,"U12",null,"HEM",999.99]
[19069,"MAIKLEM","Jessica","F",1996,"U18","SPR","SPR",999.99]
[20635,"MAIKLEM","Melissa","F",1999,"U16","SPR","SPR",999.99]
[31254,"MANSON","Cameron","F",1998,"U16","BSA","SSC",31.09]
[31383,"MARDEN","Catriona","F",2002,"U12","MUC",null,999.99]
[18684,"MARMENT","Robyn","F",2000,"U14","SLP","SLP",181.87]
[31332,"MARTIN","Annabelle","F",2003,"U12","LSR",null,999.99]
[31330,"MARTIN","Rebecca","F",1999,"U16","LSR",null,323.33999999999997]
[18740,"MARTIN-HARRINGTON","Beatrice","F",1997,"U18","GLO","BSA",50.24]
[31502,"MATTHEW","Katir","F",2001,"U14","CSC",null,999.99]
[21014,"MAYHEW","Jessica","F",2000,"U14","MID","MID",84.18]
[31442,"MAYLAND","Holly","F",2002,"U12","BSC",null,999.99]
[19753,"MAZE-BROWN","Riley","F",2002,"U12","SMK",null,999.99]
[31227,"MCCALL","Catriona","F",2004,"U10","SSC",null,999.99]
[21736,"MCCOLL","Isla","F",2004,"U10","TOQ","TOQ",999.99]
[30353,"MCGHEE","Lyndsey","F",1990,"SEN","SSC",null,999.99]
[20173,"MCGREGOR-OGDEN","Holly","F",2003,"U12","CHL","DRA",999.99]
[31423,"MCKEY","Holly","F",2003,"U12","LSR",null,999.99]
[31275,"MCKINLAY","Victoria","F",2000,"U14","GSR",null,107.97]
[30293,"MCLEOD","Eilidh","F",1990,"SEN","SSC",null,200.19]
[31495,"MCWILLIAM","Kirsty","F",1998,"U16","BSC",null,999.99]
[18382,"MEAD","Darcie","F",1996,"U18","EVO","EVO",37.69]
[20307,"MIDDLETON","Amy","F",1995,"U21","MID",null,51.15]
[21205,"MIDSON","Molly","F",2003,"U12","FLK",null,999.99]
[21204,"MIDSON","Poppy","F",2001,"U14","FLK",null,162.81]
[18931,"MILES","Joanna","F",1993,"U21","WGC",null,68.61]
[21277,"MILLARD","Paige","F",2002,"U12",null,null,999.99]
[14103,"MILLER","Violet","F",1995,"U21",null,"AMB",999.99]
[31291,"MIRANDA-JAMES","Charlotte","F",2002,"U12","EVO",null,999.99]
[19260,"MITCHELL","Olivia","F",2001,"U14","GLO","BSA",77.56]
[21518,"MOONEY","Philippa","F",1999,"U16",null,"DHO",999.99]
[21357,"MOORE","Danica","F",2000,"U14","BRO",null,165.28]
[31476,"MORISETTI","Eilidh","F",2002,"U12","LSR",null,999.99]
[30667,"MORRIS","Sarah","F",1994,"U21","LSR",null,109.58]
[31153,"MORRISON","Rachael","F",1999,"U16","GDN",null,999.99]
[31188,"MORRISSEY","Anna","F",1990,"SEN","STC",null,999.99]
[19338,"MORTON","Sofia","F",1996,"U18","CHL","DRA",54.46]
[17829,"MOYNIHAN","India","F",1997,"U18","K","K",999.99]
[31426,"MUIR","Fiona","F",2006,"U8","ASC","DUN",999.99]
[31425,"MUIR","Kirsty","F",2004,"U10","ASC","DUN",999.99]
[19679,"MURRAY","Louisa","F",1994,"U21",null,"LIO",999.99]
[31507,"MYATT","Rona","F",1997,"U18","LSR",null,999.99]
[20731,"NEASHAM","Grace","F",1998,"U16","SMK",null,131.21]
[21356,"NEASHAM","Laurie","F",2000,"U14","SMK","SMK",295.16000000000003]
[31468,"NEGRI","Daniella","F",2000,"U14","CSC",null,999.99]
[30730,"NELSON","Helen","F",1994,"U21","SSC",null,491.11]
[21660,"NEUMANN","Sophie","F",1998,"U16","HEM","HEM",282.95]
[20696,"NEWBOULT","Helena","F",1998,"U16","MID","MID",27.39]
[20781,"NEWBOULT","Laura","F",1995,"U21","MID",null,357.45]
[11944,"NEWMAN","Lucy","F",1979,"MAS","HEM",null,82.07]
[21006,"NEYRINCK","Camille","F",1998,"U16",null,null,999.99]
[21735,"NICOL","Kirsty","F",1986,"SEN",null,null,999.99]
[21586,"NOKES","Millie","F",2002,"U12",null,null,999.99]
[21583,"NOKES","Sacha","F",2000,"U14",null,null,999.99]
[20809,"O'BRIEN","Matilda","F",2004,"U10","MID",null,999.99]
[14747,"OGDEN","Sophie","F",1996,"U18","CHL","DRA",5]
[8273,"ONDRUSZ","Mary","F",1958,"MAS","BRO","BRO",999.99]
[18793,"O'NEILL","Ella","F",1997,"U18","HEM","TEL",30.36]
[20945,"O'NEILL","Maeve","F",2003,"U12",null,"BSA",999.99]
[21441,"ORCHARD","Ellie","F",2002,"U12","TSN",null,999.99]
[31252,"OSBORNE","Jennifer","F",1991,"SEN","GSR",null,999.99]
[21235,"OUGRIN","Anastasia","F",2002,"U12","SPR","SPR",999.99]
[21528,"PANTELI","Charlotte","F",1999,"U16",null,null,999.99]
[14383,"PARKER","Hannah","F",1989,"SEN","TSD","TSD",58.17]
[21536,"PARKER","Julia","F",1963,"MAS","VIK","CAD",999.99]
[14382,"PARKER","Olivia","F",1993,"U21","LIO","LIO",50.49]
[21755,"PASCOE","Eva","F",2002,"U12","PLY","PLY",999.99]
[30749,"PATTERSON","Aileen","F",1993,"U21","SSC",null,28.82]
[21363,"PATTON","harriet","F",1999,"U16",null,"SPR",228.88]
[31513,"PEARSON","Holly","F",2001,"U14","LSR",null,588.97]
[14686,"PEEL","Lucy","F",1992,"SEN","BSA","BSA",38.79]
[19197,"PENHALE","Emma","F",2000,"U14","GLO","DRA",117.29]
[31303,"PETERS","Ella","F",1994,"U21","BRM",null,999.99]
[19002,"PETERS","Emma","F",1997,"U18","LIO","TEL",33.74]
[18505,"PEXTON","Georgia","F",2000,"U14","LIO","LIO",122.35]
[31440,"PFLEGER","Isabella","F",2006,"U8","GDN",null,999.99]
[20690,"PHILLIPS","Charlotte","F",1990,"SEN","BRO",null,999.99]
[21655,"PIRKHOFFER","Lucy","F",1999,"U16","SAS","SAS",156.72]
[17412,"POCOCK","Elena","F",1993,"U21",null,null,999.99]
[17413,"POCOCK","Emily","F",1992,"SEN","AMB","AMB",85.6]
[20908,"POINTS","Madeline","F",2002,"U12",null,"BSA",999.99]
[41858,"POTTER","Maisie","F",1997,"U18",null,null,999.99]
[19781,"POTTER","Shannon","F",2001,"U14","CHL","DRA",85.46]
[18349,"POWELL","Caroline","F",1994,"U21","HEM","K",8.77]
[41663,"POWER","Rebecca","F",2000,"U14","SCI",null,141.28]
[31209,"PRESSLIE","Jessica","F",2000,"U14","GDN",null,169.03]
[31447,"PRESSLIE","Sophie","F",2003,"U12","GDN",null,999.99]
[19644,"PRETTY","Antonia","F",1996,"U18","TSN","TSN",40.24]
[30927,"PRICE","Rhona","F",1999,"U16","SSC","GSR",115.05]
[31418,"PURCELL","Sophia","F",1997,"U18","LSR",null,432.63]
[21392,"RAMPTON","Clementine","F",2001,"U14",null,"BSA",999.99]
[31138,"RANKIN","Shona","F",2003,"U12","BSA","CSC",999.99]
[21410,"RASHCHUPKINA","Anastasia","F",1998,"U16",null,"DHO",999.99]
[31207,"RASMUSEN","Victoria","F",2000,"U14","GDN",null,999.99]
[30864,"RATTRAY","Aleysha","F",1996,"U18","BRM",null,145.24]
[31140,"RAY","Kathleen","F",1999,"U16","GDN",null,305.22000000000003]
[31323,"REED","Jemima","F",2003,"U12",null,null,999.99]
[19459,"REID","Judy","F",1960,"MAS","HEM","HEM",105.55]
[17803,"RICHARDS","Camille","F",1998,"U16",null,"BSA",999.99]
[14798,"RICHARDS","Melanie","F",1995,"U21",null,"BSA",999.99]
[20720,"RILEY","Ilana","F",2004,"U10","SMK","SMK",999.99]
[18649,"RILEY","Megan","F",2000,"U14","SMK","K",75.069999999999993]
[30767,"RITCHIE","Nicole","F",1995,"U21","GSR",null,0]
[21394,"ROGERS","Anna","F",2001,"U14","BSA","BSA",999.99]
[13952,"ROGERS","Rachelle","F",1995,"U21","HEM",null,999.99]
[19093,"ROLPH","Sophie","F",1995,"U21","HEM","IMP",54.87]
[41952,"RONAN","Eleanor","F",2000,"U14","SCI","CHL",370.93]
[19739,"ROSE","Rebecca","F",2002,"U12","SMK",null,999.99]
[31438,"ROSS","Iona","F",2003,"U12","SSC","MUC",999.99]
[18481,"ROTH","Phoebe","F",1994,"U21",null,"DHO",999.99]
[31359,"RUSHWORTH","Morven","F",2000,"U14","SSC",null,999.99]
[21365,"RUSSELL","Claire","F",1994,"U21","NOR",null,76.459999999999994]
[30867,"RYAN","Eilidh","F",2000,"U14","GSR",null,43.11]
[20742,"SAMPSON","Melissa","F",1971,"MAS","NOR","NOR",133.05000000000001]
[31135,"SANDFORD","Eliza","F",1996,"U18","SSC",null,194.77]
[31130,"SANDLAND","Louise","F",2001,"U14","GSR",null,187.03]
[21748,"SAXBY","Kate","F",2002,"U12","PLY",null,999.99]
[13376,"SCILIMATI","Tania","F",1986,"SEN",null,"LSC",999.99]
[31417,"SCOTT","Aimee","F",1998,"U16","BSC",null,264.52]
[31173,"SCOTT","Lucy","F",1999,"U16","BSC",null,86.55]
[20496,"SCRANAGE-HARRISON","Eleanor","F",2002,"U12","HEM",null,999.99]
[17893,"SEELEY","Grace","F",1995,"U21","RAV","DHO",388.86]
[17892,"SEELEY","Julia","F",1993,"U21","RAV","DHO",401.59]
[21158,"SELF","Rebekah","F",1995,"U21","TSD",null,999.99]
[14962,"SHAILES","Polly","F",1996,"U18","NOR","BSA",34.409999999999997]
[19833,"SHAKESHAFT","Hannah","F",1996,"U18","MID","SMK",116.91]
[31350,"SHARP","Charlotte","F",2002,"U12","BSC",null,999.99]
[31349,"SHARP","Melissa","F",2004,"U10","BSC",null,999.99]
[21558,"SHEPHERDSON","Lauren","F",2003,"U12","TSD",null,999.99]
[20599,"SHERING","Nicole","F",2000,"U14","HEM","BSA",59.26]
[20655,"SHOOTER","Hope","F",1993,"U21","HEM","HEM",162.78]
[17787,"SHRIMPTON","Charlotte","F",1994,"U21","TEL","TEL",37]
[12357,"SIMONDS","Franki","F",1990,"SEN",null,"K",14.75]
[31127,"SKINNER","Caroline","F",1998,"U16","SSC",null,278.67]
[31353,"SKINNER","Eilidh","F",2001,"U14","LSR","SSC",362.35]
[20337,"SKIPPER","Megan","F",2001,"U14","NOR","NOR",106.62]
[19016,"SKIPPER","Sophie","F",1995,"U21","NOR","NOR",20.78]
[21403,"SLADE","Hattie","F",1998,"U16",null,"BSA",999.99]
[21404,"SLADE","Isobel","F",1999,"U16",null,"BSA",999.99]
[18878,"SLATER","Ella","F",1991,"SEN","LSU","LSU",43.8]
[21171,"SLATER","Grace","F",2001,"U14","SHK",null,431.14]
[19450,"SLATTERY","Rachel","F",1968,"MAS","KND",null,999.99]
[20602,"SMIDT-WALLIS","Brielle","F",2000,"U14","ASR","SUR",120.52]
[31362,"SMITH","Eilidh","F",1999,"U16","MUC",null,338.11]
[30695,"SMITH","Kate","F",1993,"U21","SSC","LSR",356.02]
[20840,"SNOW","Elise","F",1999,"U16","HEM",null,67.52]
[17752,"SOMAN","Bethany","F",1997,"U18","SMK","AMB",76.14]
[20134,"SOMAN","Mia","F",2002,"U12","SMK",null,999.99]
[19942,"SOUTH","Beth","F",1993,"U21","TOQ","EXD",86.34]
[20754,"SPANTON","Jessica","F",1997,"U18","NOR",null,40.75]
[21568,"SPEARPOINT WALSH","Emily","F",1996,"U18","OVL","OVL",196.72]
[31471,"SPENCE","Madison","F",2005,"U10","LSR",null,999.99]
[31344,"SPENCE","Rachel","F",2003,"U12","LSR",null,999.99]
[19053,"STAFFORD","Emma","F",1993,"U21","SOU","SAS",52.83]
[17717,"STAMMERS","Sophie","F",1998,"U16","DHO","DHO",999.99]
[31318,"STARK","Daisy","F",2001,"U14","MSC",null,276.08]
[31504,"STEPHEN","Sadie","F",2000,"U14","GDN",null,999.99]
[20439,"STEVENS","Annecy","F",2000,"U14","HEM",null,193.12]
[20440,"STEVENS","Cordelia","F",2005,"U10","HEM",null,999.99]
[20441,"STEVENS","Lilyella","F",2002,"U12","HEM","HEM",316.58]
[18472,"STEVENSON","Elizabeth","F",1990,"SEN",null,"K",999.99]
[31430,"STEWART","Honor","F",2000,"U14","LSR",null,999.99]
[31076,"STILL","Ella","F",1997,"U18","GDN",null,121.08]
[31088,"STILL","Ruby","F",1999,"U16","GDN",null,237.48]
[31405,"STOBART","Olivia","F",2000,"U14","LSR",null,999.99]
[21382,"STOCKER","Anastacia","F",2003,"U12","TSN",null,999.99]
[21378,"STOCKER","Natasha","F",2001,"U14","TSN",null,242.44]
[21397,"STOCKER","Sophie","F",2005,"U10","TSN","TSN",999.99]
[21727,"STOKOE","Amy","F",2005,"U10","TSD","TSD",999.99]
[31544,"STRUTHERS","Ciorstaidh","F",2001,"U14","SSR",null,337.67]
[17154,"SUMMERHAYES","Katie","F",1995,"U21","SHK",null,999.99]
[18099,"SUMMERHAYES","Molly","F",1997,"U18","SHK",null,999.99]
[19623,"SYMONS","Rachel","F",1993,"U21","CHT",null,30.1]
[21756,"TAFFS","Zara","F",2002,"U12","PLY","PLY",999.99]
[21355,"TAPSELL","Charlotte","F",2001,"U14","CHT","K",144.21]
[21520,"TAPSON","Ella","F",1998,"U16","DHO","DHO",999.99]
[20622,"TARANTELLI","Laudomia","F",2003,"U12",null,null,999.99]
[18011,"TAYLOR","Alice","F",1997,"U18","K","AMB",999.99]
[17702,"TAYLOR","Imogen","F",1994,"U21","AMB","AMB",127.49]
[18235,"TAYLOR","Isadora","F",1997,"U18","EVO","EVO",195.62]
[31007,"TAYLOR","Kate","F",1997,"U18","GSR","SSC",16.190000000000001]
[31237,"TAYLOR","Rhiannon","F",1998,"U16","GDN",null,274.3]
[31463,"TAYLOR","Rhona","F",2002,"U12","SSC",null,999.99]
[21430,"TAYLOR SELT","Molly","F",1996,"U18","VIK","SUF",999.99]
[21261,"TAYLOR-TIPTON","Ella","F",2004,"U10","FF","FF-",999.99]
[14393,"THEXTON","Heather","F",1990,"SEN","KND",null,999.99]
[18033,"THOMAS","Elisabeth","F",1996,"U18","MID","K",60.58]
[19211,"THOMAS","Kerry","F",1995,"U21","TOQ",null,93.88]
[12024,"THOMAS","Louise","F",1988,"SEN","SPR","SPR",492.69]
[21719,"THOMAS","Sophie","F",2003,"U12","HEM","HEM",999.99]
[21018,"THOMPSON","Lara","F",2000,"U14",null,null,999.99]
[21519,"THOMPSON","Matilda","F",1999,"U16","SPR","SPR",999.99]
[30982,"THOMSON","Sarah","F",1996,"U18","SSC",null,273.14999999999998]
[20826,"THURSTON","Elizabeth","F",1999,"U16","AVO","K",999.99]
[30624,"TILLEY","Alexandra","F",1993,"U21","GDN","BSA",36.21]
[21272,"TILLEY","Katherine","F",2001,"U14",null,"DRA",999.99]
[30904,"TODD","Alison","F",1997,"U18","SSC","MUC",84.26]
[17951,"TODD-SAUNDERS","Helen","F",1999,"U16","DHO","DHO",999.99]
[20813,"TOH","Isabel","F",2000,"U14","HEM","HEM",999.99]
[19213,"TONGE","Charlotte","F",1994,"U21","TOQ",null,56.05]
[31518,"TRAVERS","Isabel","F",2003,"U12","LSR",null,999.99]
[20669,"TREUGE","Lauren","F",2003,"U12","MID",null,999.99]
[20643,"TREW","Eleanor","F",1999,"U16","HEM","K",111.37]
[20644,"TREW","Isobel","F",1999,"U16","HEM","K",125.09]
[31134,"TURNER","Jennifer","F",2001,"U14","BSC",null,154.93]
[21496,"TURNER","Lucy-May","F",1999,"U16","VIK","ELI",999.99]
[5480,"TURNOCK","Kerry","F",1972,"MAS","HEM",null,50.96]
[19986,"USHER","Annie","F",1997,"U18","ASR","DRA",21.63]
[18933,"VALE","Lauren","F",2001,"U14","CHT",null,79.94]
[18934,"VALE","Nikkie","F",1994,"U21","CHT",null,64.89]
[21564,"VALENTINE","Ella","F",2000,"U14",null,null,999.99]
[21606,"VALLAT","Agathe","F",1999,"U16","ALU","WBN",465.82]
[17276,"VAN DE WIEL","Piera","F",1994,"U21","K","K",999.99]
[20634,"VAN VREDENBURCH","Ella","F",1998,"U16",null,"K",999.99]
[20573,"VEGTING","Amelia","F",1997,"U18",null,null,999.99]
[21096,"VERNON","Rebecca","F",2002,"U12","SPR","SPR",999.99]
[13381,"VERNON","Rowan","F",1988,"SEN","MID","MID",22.84]
[21368,"VESELY","Cordelia","F",1999,"U16","SPR","SPR",999.99]
[21376,"VESELY","Miranda","F",2002,"U12","SPR","SPR",999.99]
[21377,"VESELY","Ophelia","F",2004,"U10","SPR","SPR",999.99]
[20849,"VICKERS","Katie","F",2001,"U14","SPR","SPR",999.99]
[30768,"VINCENTI","Anna","F",1995,"U21","BSC",null,999.99]
[20600,"WAKEFIELD","Rebecca","F",1998,"U16","GLO","DRA",99.48]
[21694,"WALKER","Tillie","F",2004,"U10",null,null,999.99]
[31525,"WALLACE","Olivia","F",1999,"U16","GSR",null,375.43]
[31524,"WALLACE","Sophia","F",2002,"U12","GSR",null,999.99]
[17994,"WALOFF","Sasha","F",1995,"U21","HEM","HEM",122.85]
[10660,"WALSH","Carrie","F",1963,"MAS","ALD","IMP",148.61000000000001]
[20317,"WALTON","Kirsten","F",2000,"U14","LIO","LIO",88.21]
[20741,"WALTON","Mya","F",2004,"U10","LIO","LIO",999.99]
[21349,"WANG","Alison","F",1980,"MAS","HEM","HEM",189.05]
[41693,"WARD","Ella","F",1999,"U16","CAR","AMB",60.39]
[31500,"WARD","Erin","F",2005,"U10","GSR",null,999.99]
[31464,"WARD","Isla","F",2004,"U10","GSR",null,999.99]
[41692,"WARD","Olivia","F",2000,"U14","CAR","AMB",66.56]
[20725,"WARMINGTON","Harriet","F",2002,"U12","HEM","HEM",999.99]
[21254,"WATSON","Josie","F",2004,"U10","WM","WM",999.99]
[18745,"WEBSDALE","Cara","F",1997,"U18","RAV","LIO",999.99]
[20767,"WEBSTER","Atlanta","F",2000,"U14","NOR","NOR",185.74]
[21400,"WEEKS","Ella","F",2004,"U10","SPR","SPR",999.99]
[21101,"WEEKS","Georgia","F",2001,"U14","SPR","SPR",999.99]
[21492,"WEIR","Emer","F",1999,"U16","RAV",null,171.47]
[31093,"WHATFORD","Beth","F",2001,"U14","GDN",null,126.57]
[14169,"WHEATMAN","Claire","F",1991,"SEN","NOR","NOR",247.34]
[20551,"WHEELER","Lauren","F",2001,"U14","CHL",null,298.29000000000002]
[20552,"WHEELER","Sophie","F",2003,"U12","CHL",null,999.99]
[20612,"WHITE","Victoria","F",1994,"U21",null,null,999.99]
[19094,"WHITTALL","Martha","F",1997,"U18","ASR","SAS",271.01]
[18454,"WIDDUP","Bethany","F",1995,"U21","CHL","AMB",6.01]
[18013,"WILCOCKSON","Melanie","F",1991,"SEN","PPS","LIO",69.180000000000007]
[41913,"WILEY","Lily","F",2003,"U12","WWS",null,999.99]
[21603,"WILKINSON","Millie","F",2001,"U14","SHK","SHK",999.99]
[20582,"WILLIAMS","Alice","F",1996,"U18","HEM",null,999.99]
[19128,"WILLIAMS","Beth","F",1995,"U21","FLK",null,54.35]
[30999,"WILLIAMS","Emma","F",1999,"U16","GSR","SSC",95.5]
[19832,"WILLIAMS","Grace","F",2000,"U14","TEL",null,79.599999999999994]
[18918,"WILLIAMS","Katya","F",1999,"U16",null,"K",999.99]
[18919,"WILLIAMS","Lucy","F",2000,"U14",null,"K",999.99]
[20096,"WILLIAMS","Natasha","F",2002,"U12",null,"K",999.99]
[19162,"WILLOUGHBY","Jo","F",1975,"MAS",null,"LIO",999.99]
[21210,"WILLOWS","April","F",2002,"U12","BRO",null,999.99]
[31526,"WINNING","Charlotte","F",1998,"U16","SFR",null,371.57]
[31111,"WINTHROP","Claire","F",1997,"U18","LSR",null,111.09]
[31369,"WINTHROP","Zoe","F",1999,"U16","LSR",null,214.9]
[19645,"WISEMAN","Kelly","F",1993,"U21","PND","PND",63.32]
[31545,"WOOD","Milly","F",2000,"U14","LSR",null,616.37]
[20210,"WOOD","Sally","F",1992,"SEN","PND","LSU",96.68]
[21060,"WOODBRIDGE","Lily","F",2000,"U14",null,"HEM",284.44]
[20639,"WOODWARD","Sarah","F",2001,"U14","HEM","AMB",97.3]
[21754,"WOTTON","Kris","F",1987,"SEN","PLY",null,536.94000000000005]
[17452,"WRIGHT","Natasha","F",1997,"U18","VIK",null,84.06]
[31522,"WYLIE","Anna","F",1998,"U16","MUC",null,274.66000000000003]
[31260,"WYLIE","Fiona","F",2003,"U12","GSR",null,999.99]
[30911,"YEAMAN","Charlotte","F",1997,"U18","GSR",null,82.14]
[14996,"YOUNG","Amy","F",1995,"U21","AMB","AMB",148.99]
[18056,"YOUNG","Ella","F",1997,"U18","SUR","SUR",160]
[31533,"YOUNG","Olivia","F",2000,"U14","MAD",null,500.69]
[21578,"YUNG","Catherine","F",1998,"U16",null,"DHO",999.99]
[20930,"ABRISHAMI","Diaco","M",2002,"U12","BRO","BRS",999.99]
[13335,"ABSALOM","Daniel","M",1992,"SEN","SPR","SPR",51.74]
[31228,"ADAMSON","Alexander","M",1996,"U18","CSC",null,999.99]
[31477,"ADAMSON","Tristram","M",1997,"U18","CSC",null,999.99]
[20308,"AGNEW","George","M",1999,"U16",null,"K",999.99]
[18057,"AIKENS","Christopher","M",1992,"SEN","HEM","LSU",166.56]
[20160,"AIKENS","Matthew","M",1996,"U18","HEM","HEM",160.18]
[31379,"ALDRIDGE","Charlie","M",2001,"U14","MUC","SSC",244.26]
[31178,"ALEXANDER","Hamish","M",1999,"U16","GDN",null,305.89999999999998]
[12571,"ALLDRIDGE","James","M",1988,"SEN","SPR","SPR",82.91]
[18247,"ALLEN","Samuel","M",1994,"U21",null,null,169.63]
[21631,"AMATO","Anthony","M",2003,"U12","BRO",null,999.99]
[17429,"AMOS","Aaron","M",1991,"SEN","SAS","SAS",387.77]
[19074,"AMOS","John","M",1959,"MAS","SAS","SAS",223.67]
[10372,"ANDERSON","Christopher","M",1959,"MAS","VIK","K",168.26]
[31197,"ANDERSON","Ewen","M",2000,"U14","SSC",null,210.1]
[30908,"ANDREWS","Greg","M",1997,"U18","SSC","LSR",140.41]
[31003,"ANDREWS","Keir","M",1998,"U16","SSC","LSR",102.95]
[31400,"ARNOTT","Jack","M",2002,"U12","LSR",null,999.99]
[19990,"ASHMAN","Alexander","M",2000,"U14","FLK","DHO",209.47]
[8522,"ASHTON","Simon","M",1968,"MAS","SHK",null,989]
[18475,"ASQUITH","Max","M",1996,"U18","AMB","AMB",170.76]
[21753,"ATHERTON","Lucas","M",2001,"U14",null,"CHL",999.99]
[21626,"ATKINSON","Andrew","M",1967,"MAS","BRO",null,327.8]
[8363,"ATKINSON","Michael","M",1978,"MAS",null,null,999.99]
[8362,"ATKINSON","Stuart","M",1982,"MAS",null,null,999.99]
[20878,"ATTARD","Oliver","M",1999,"U16",null,"SPR",999.99]
[21079,"ATTARD","Sam","M",2001,"U14","SPR","SPR",999.99]
[20416,"AVENT","Mathieu","M",1999,"U16",null,null,999.99]
[13784,"BAGGIO","Max","M",1995,"U21","EVO","EVO",40.08]
[20484,"BAILES","Max","M",1999,"U16",null,"ELI",169.71]
[20149,"BAILY","Luke","M",2002,"U12","SMK","SMK",999.99]
[12618,"BALDWIN","Thomas","M",1990,"SEN","NOR","BSA",21.89]
[30646,"BALL","Elliot","M",1994,"U21","SSC",null,77.3]
[30812,"BALL","Oscar","M",1996,"U18","SSC",null,137.38999999999999]
[20673,"BANNISTER","Adam","M",1999,"U16","ASR",null,122.62]
[21167,"BANNISTER","Callum","M",1998,"U16","AVO","IMP",160.27000000000001]
[2657,"BANNISTER","Simon","M",1966,"MAS","ASR",null,78.66]
[30701,"BARKER","Alexander","M",1994,"U21","SSC",null,999.99]
[31249,"BARKER","Duncan","M",2003,"U12","SSC",null,999.99]
[31099,"BARKER","Thomas","M",1999,"U16","SSC",null,231.8]
[31021,"BARLOW","Benedict","M",1994,"U21","SSC","DHO",999.99]
[31115,"BARLOW","Xavier","M",1995,"U21","SSC","DHO",999.99]
[19639,"BARTON","Daniel","M",1998,"U16","HEM","SMK",59.31]
[19774,"BARTON","Dominic","M",2002,"U12","HEM","SMK",999.99]
[20302,"BASTOW","Milo","M",1997,"U18",null,"BSA",999.99]
[3756,"BAXTER","Noel","M",1981,"MAS","CSC",null,999.99]
[21109,"BEAGLEY","Daniel","M",1998,"U16",null,null,999.99]
[19704,"BEARDMORE","Adam","M",1986,"SEN","MID","MID",29.85]
[31401,"BEARDMORE","Louis","M",2002,"U12","LSR",null,999.99]
[21504,"BEAUMONT","Jasper","M",1999,"U16","VIK","ELI",217.67]
[20974,"BEAVIS","Riley","M",2002,"U12",null,"BSA",999.99]
[31543,"BECK","Ben","M",2003,"U12","LSR",null,999.99]
[11459,"BECK","Christopher","M",1989,"SEN","LIO","LIO",135.81]
[31355,"BECK","Zak","M",2001,"U14","LSR",null,421.31]
[14940,"BECKETT","David","M",1960,"MAS","NOR",null,158.03]
[20712,"BEER","Lawrence","M",1998,"U16","RAV",null,88.89]
[21628,"BEGG","Alistair","M",2001,"U14","CHL","TEL",345.08]
[18704,"BEGG","Callum","M",1997,"U18","CHL","TEL",62.43]
[21713,"BEGLIN","Thomas","M",2004,"U10","HEM","BRS",999.99]
[19683,"BENNETT","Elliott","M",2003,"U12","LIO","LIO",999.99]
[19070,"BENNETT","Russell","M",1973,"MAS","LIO","LIO",999.99]
[21224,"BENNION","James","M",1997,"U18","GLO",null,260.01]
[19208,"BERGLINDARSON","Kristofer","M",2000,"U14","CHL","CHL",91.08]
[14772,"BEVAN","Timothy","M",1994,"U21","KND",null,999.99]
[31233,"BEVERIDGE","Jamie","M",2000,"U14","LSR",null,580.46]
[21189,"BIGGS","Saul","M",1998,"U16","FLK",null,99.21]
[31287,"BILSLAND","David","M",1995,"U21","BSC",null,999.99]
[19854,"BINGHAM","Jonathan","M",1999,"U16","BWP","DHO",94.59]
[19855,"BINGHAM","Nicholas","M",2002,"U12","BWP","DHO",999.99]
[30909,"BINGHAM","Sion","M",1997,"U18","SSC","GSR",171.9]
[20997,"BIRAN","Itamar","M",1998,"U16",null,null,999.99]
[21714,"BIRD","Joseph","M",1994,"U21","MID","MID",999.99]
[18531,"BIRD","Matthew","M",1993,"U21","SRR",null,121.19]
[18638,"BISHOP","Angus","M",1995,"U21","SHK","LIO",166.98]
[21728,"BISHOP","Julian","M",1968,"MAS","RAV",null,461.68]
[21555,"BLACK","Callum","M",2004,"U10","AVO","AVO",999.99]
[19585,"BLACK","Oliver","M",2001,"U14","PPS","DRA",158.29]
[19394,"BLACK","Philip","M",1969,"MAS","SHK","SHK",999.99]
[20851,"BLOOM","Adam","M",1973,"MAS","WCS","WCS",94.55]
[20852,"BLOOM","Ryan","M",2001,"U14","WCS","WCS",141.25]
[31461,"BOLAM","John","M",1955,"MAS","DRS",null,999.99]
[41930,"BOLGER","Enda","M",1997,"U18","SCI",null,161.16]
[41967,"BONNINGTON","Chay","M",2005,"U10",null,null,999.99]
[31041,"BOOTH","Harris","M",1997,"U18","BSC",null,999.99]
[19713,"BOTY","Harry","M",1997,"U18","HEM","ELI",104.11]
[19565,"BOWERS","Dieter","M",1996,"U18","TEL",null,110.07]
[14294,"BOWMAN","Matthew","M",1993,"U21","SMK",null,98.26]
[20902,"BOYCOTT","Joe","M",1996,"U18","LIO","LIO",999.99]
[19685,"BRADFORD-SMITH","George","M",1994,"U21","ASR",null,190.4]
[19686,"BRADFORD-SMITH","Jack","M",1996,"U18","ASR",null,73.2]
[14977,"BRAIN","Michael","M",1993,"U21","BRO",null,999.99]
[31531,"BRAWLEY","Patrick","M",2000,"U14","GSR",null,451.96]
[14391,"BREESE","Ashley","M",1996,"U18",null,null,7.51]
[17963,"BREESE","Nathan","M",1999,"U16",null,"TEL",110.26]
[21203,"BREESE","Thomas","M",2003,"U12","TEL","TEL",999.99]
[31309,"BREMNER","Alexander","M",2001,"U14",null,null,543.04999999999995]
[31271,"BREMNER","Fin","M",1999,"U16","ASC",null,999.99]
[21218,"BRESKAL","Bailey","M",1998,"U16","WGC",null,156.9]
[20143,"BRIDGE","Dominic","M",2001,"U14","LIO","LIO",102.26]
[20144,"BRIDGE","Oliver","M",1999,"U16","LIO","LIO",73.81]
[17332,"BROOKES","Philip","M",1993,"U21",null,"SAS",191.47]
[20193,"BROWN","Cameron","M",1998,"U16","PPS","DRA",67.569999999999993]
[31132,"BROWN","Harry","M",1999,"U16","SSC",null,577.54]
[19083,"BROWN","Jack","M",1995,"U21","GLO","FLK",57.78]
[41984,"BROWN","Jack","M",2001,"U14","SCI",null,999.99]
[20338,"BROWN","Jamie","M",1999,"U16",null,null,999.99]
[30830,"BROWN","Jamie","M",1996,"U18","GDN",null,275.68]
[31290,"BROWN","Jonathan","M",1997,"U18","GDN",null,999.99]
[2743,"BROWN","Philip","M",1966,"MAS","HEM","IMP",184.18]
[31014,"BROWN","Rhys","M",1995,"U21","SSC",null,174.94]
[19397,"BROWN","Ryan.","M",1999,"U16",null,"K",999.99]
[19084,"BROWN","Thomas","M",1998,"U16","FLK",null,181]
[12584,"BRUTON","Peter","M",1989,"SEN",null,null,48.81]
[30906,"BUCHAN","Fraser","M",1997,"U18","BSA","SSC",63.94]
[30811,"BUCHAN","Murray","M",1991,"SEN",null,null,999.99]
[30919,"BUCHAN","Scott","M",1999,"U16","SSC","BSA",117.67]
[17380,"BUCHWISER","Lawrence","M",1995,"U21",null,null,999.99]
[14871,"BULLEN","Robert","M",1989,"SEN",null,"K",999.99]
[21063,"BULLIVANT","Peter","M",2000,"U14","BSA",null,999.99]
[10596,"BUNTON","Paul","M",1963,"MAS","CHT","CHT",124.52]
[21649,"BUNTON","Ryan","M",2005,"U10","CHT",null,999.99]
[31479,"BURKE","Luke","M",2004,"U10","GSS",null,999.99]
[31339,"BURROW","Gregor","M",2002,"U12","LSR",null,999.99]
[19755,"BURTON","Lucas","M",2000,"U14","AMB","AMB",999.99]
[21411,"BUTLER","Simon","M",1962,"MAS",null,null,999.99]
[41721,"BUTTERWORTH","Daniel","M",1996,"U18","WWS","DRA",85.85]
[41719,"BUTTERWORTH","Thomas","M",2002,"U12","WWS","DRA",999.99]
[20688,"CADMAN","Maximilian","M",1996,"U18","HEM","HEM",164]
[12971,"CADMAN","Piers","M",1991,"SEN","STS",null,80.709999999999994]
[31338,"CALDER","Lewis","M",2006,"U8","SSC",null,999.99]
[31337,"CALDER","Struan","M",2004,"U10","SSC",null,999.99]
[20832,"CALDWELL","Patrick","M",2000,"U14","SAS","SAS",136.61000000000001]
[14261,"CALVERT","John","M",1949,"MAS","ASR","ALD",291.05]
[12802,"CALVERT","Peter","M",1988,"SEN","ASR","BAS",44.38]
[31039,"CAMERON","Alasdair","M",1995,"U21","LSR",null,170.38]
[31364,"CAMERON","Rory","M",2002,"U12","ASC",null,999.99]
[30793,"CAMPBELL","Andrew.","M",1995,"U21","GDN",null,230.24]
[31510,"CAMPBELL","Frederick","M",2003,"U12","LSR",null,999.99]
[31230,"CAMPBELL","Graeme","M",2000,"U14","GDN",null,999.99]
[21108,"CAMPBELL","Harvey","M",2003,"U12","TEL",null,999.99]
[30912,"CAMPBELL","Iain","M",1997,"U18","GDN",null,282.60000000000002]
[31427,"CAMPBELL","Lawrence","M",2000,"U14","BSC",null,999.99]
[41955,"CAMPBELL","Rory","M",1996,"U18","SCI",null,101.3]
[21766,"CARDON","Casey","M",1997,"U18",null,null,999.99]
[20590,"CARE","James","M",2002,"U12","MID",null,999.99]
[21577,"CAREY","Joshua","M",2000,"U14",null,"SZR",999.99]
[21576,"CAREY","Matthew","M",1998,"U16",null,"SZR",999.99]
[17891,"CARPENTER","Alasdair","M",1995,"U21","SPR","SPR",435.57]
[31154,"CARRUTHERS","Harry","M",1999,"U16","SSC",null,175.39]
[21107,"CARSON","Sam","M",1999,"U16","PPS","DRA",94.63]
[19196,"CASE","George","M",2001,"U14","AVO","BSA",999.99]
[20262,"CASE","Toby","M",2002,"U12","HEM","ASR",999.99]
[18880,"CASHMORE","Edward","M",2001,"U14","EXD","BSA",220.2]
[18879,"CASHMORE","William","M",1998,"U16","EXD","BSA",206.68]
[20695,"CATLIN","Osian","M",2005,"U10","SMK",null,999.99]
[18327,"CAVANAGH","Matthew","M",1996,"U18","DHO","CHL",117.97]
[18258,"CAVE","William","M",1992,"SEN","K","K",999.99]
[20215,"CAWTHORNE","Harry","M",1999,"U16","TOQ","BSA",143.31]
[20216,"CAWTHORNE","Louis","M",2000,"U14","TOQ","BSA",144.24]
[638,"CAXTON","Martin","M",1955,"MAS","BWP",null,999.99]
[17202,"CHAJECKI","Alexander","M",1991,"SEN",null,null,999.99]
[17201,"CHAJECKI","Julian","M",1993,"U21",null,null,999.99]
[19421,"CHAJECKI","Sebastian","M",1997,"U18","BSA","BSA",999.99]
[17591,"CHALKLEY","Oliver","M",1996,"U18",null,null,78.040000000000006]
[31066,"CHAMBET","Louis","M",1998,"U16","SSC",null,999.99]
[31067,"CHAMBET","Tom","M",2000,"U14","SSC",null,999.99]
[20239,"CHAMPION","Ben","M",1993,"U21","CHT",null,98.36]
[21712,"CHAPLIN","Brendon","M",1996,"U18","BRS","HEM",301.92]
[18674,"CHAPMAN","Euan","M",1997,"U18","ASR","ASR",86.82]
[12254,"CHAPMAN","Iain","M",1982,"MAS","VIK","VIK",999.99]
[19993,"CHAPMAN","Lloyd","M",1999,"U16","SZR","SZR",88.5]
[21191,"CHARLTON","Ben","M",1997,"U18","RAV",null,133.61000000000001]
[19563,"CHEESE-PROBERT","Henry","M",1992,"SEN",null,null,999.99]
[31377,"CHETTY","Vaibhav","M",2002,"U12","GDN",null,999.99]
[31496,"CHEYNE","Russell","M",1998,"U16","BSC",null,999.99]
[31097,"CHRISTEY","David","M",1999,"U16","BSA","MUC",191.28]
[31098,"CHRISTEY","Joe","M",2002,"U12","BSA","MUC",999.99]
[31174,"CHRISTIE","Colin","M",1999,"U16","SSC",null,999.99]
[31172,"CHRISTIE","Donald","M",1998,"U16","SSC",null,999.99]
[21480,"CHRISTOV","Jonathan","M",2001,"U14","SPR","SPR",999.99]
[9694,"CLARK","Benjamin","M",1985,"SEN","BRO","K",32.5]
[21298,"CLARK","William","M",1996,"U18","SRR",null,999.99]
[19161,"CLARKE","Callum","M",2001,"U14","HEM","HEM",173.41]
[8713,"CLARKE","Christopher","M",1959,"MAS","HEM","SAS",302.57]
[21260,"CLARKE","Edward","M",2000,"U14","SMK","SMK",205.69]
[31220,"CLARKE","Liam","M",1999,"U16","SSC",null,333.74]
[20293,"CLAYTON","Adam","M",1996,"U18","NOR",null,72.290000000000006]
[31404,"CLUGNET","James","M",1996,"U18","HIG",null,999.99]
[21156,"COATES","Joseph","M",2000,"U14","SHK","SHK",226.61]
[20555,"COATES","Richard","M",1966,"MAS","SHK",null,999.99]
[21157,"COATES","William","M",2003,"U12","SHK","SHK",999.99]
[31390,"COCKBURN","Tommy","M",2001,"U14","ASC",null,357.42]
[31137,"COHN","Antony","M",1998,"U16","BSC",null,150.38]
[20568,"COLEMAN","Arthur","M",1999,"U16","K","K",999.99]
[17390,"COLLARD","Harry","M",1994,"U21",null,"IMP",999.99]
[20353,"COLLEY","James","M",2001,"U14","SPR","SPR",999.99]
[20651,"COLLIER","Harry","M",2002,"U12","CHL","SZR",999.99]
[19507,"COLLINGBOURNE","Zachary","M",2000,"U14",null,"BSA",999.99]
[31072,"COLTART","Iain","M",1998,"U16","CSC",null,999.99]
[41973,"COLUMB","Cameron","M",1999,"U16","SCI",null,999.99]
[20167,"COMELIO","Sebastian","M",2002,"U12","AVO","DHO",999.99]
[31222,"COMERFORD","Joseph","M",2000,"U14","LSR",null,487.27]
[18571,"CONDE","Jamie","M",1992,"SEN","TEL","TEL",61.92]
[17493,"CONNERY","Kali","M",1996,"U18",null,null,673.82]
[41735,"CONSTANTINE","Benjamin","M",2003,"U12","CAR","DRA",999.99]
[41710,"CONSTANTINE","Joseph","M",2000,"U14","CAR","DRA",138.07]
[21258,"COOK","Alastair","M",2003,"U12","GLO",null,999.99]
[21255,"COOK","James","M",2002,"U12","GLO",null,999.99]
[41875,"COOPER","Gary","M",1970,"MAS","TOR",null,999.99]
[19629,"COOPER","Jordan","M",1999,"U16","SAS","SAS",222.36]
[21573,"COOPER","Matthew","M",2004,"U10","HEM","HEM",999.99]
[21146,"COOPER","Morgan","M",1998,"U16","PND","PND",158.36000000000001]
[19170,"CORR","Christopher","M",1995,"U21","PND",null,10.97]
[21625,"CORR","David","M",1998,"U16","PND",null,295.5]
[20841,"CORRIGAN","Paul","M",2001,"U14","SPR","SPR",999.99]
[31325,"CORRY","Matt","M",1997,"U18","BSC",null,999.99]
[20165,"COSHAM","Harry","M",2003,"U12","SZR","SZR",999.99]
[30635,"COWIE","Hector","M",1993,"U21","CSC","CBN",184.27]
[30796,"COWIE","Lachlan","M",1995,"U21","CSC","CBN",249.79]
[30100,"CRAWFORD","Douglas","M",1987,"SEN","BSC",null,778.63]
[17905,"CRAWLEY","Daniel","M",1991,"SEN",null,"DHO",999.99]
[41938,"CRIDDLE","Isaac","M",2000,"U14","CAR",null,256.75]
[41988,"CRIDDLE","Oliver","M",2004,"U10","CAR",null,999.99]
[31025,"CROCKART","Tom","M",2000,"U14","SSC","BSA",163.27000000000001]
[5666,"CROMBLEHOLME","Roger","M",1957,"MAS","MID","TEL",104.12]
[31380,"CROOK","Andrew","M",1998,"U16","SSC",null,254.12]
[31421,"CROOKS","Cameron","M",2002,"U12","BSC",null,999.99]
[31068,"CROSS","Jack","M",1998,"U16","SSC","BSA",286.43]
[21417,"CROZIER","David","M",1986,"SEN",null,null,999.99]
[21651,"CULSHAW","Daniel","M",1997,"U18","PND",null,214.43]
[20830,"CULSHAW","Stephen","M",1962,"MAS",null,null,999.99]
[31106,"CUNNINGHAM","Kyle","M",1996,"U18","BSC",null,243.71]
[12797,"CURTIS","Daniel","M",1991,"SEN","BWP","K",28.15]
[19696,"CUTHBERT","Daryl","M",1996,"U18","VIK",null,218.02]
[20748,"DADE","Tommy","M",2003,"U12","NOR","AMB",999.99]
[31398,"DALZIEL","James","M",1999,"U16","SSC",null,999.99]
[31515,"DALZIEL","Tom","M",2004,"U10","LSR",null,999.99]
[31348,"DALZIEL","William","M",2001,"U14","LSR","SSC",207.57]
[17351,"DANNATT","Tim","M",1994,"U21","GLO","DRA",57.99]
[19684,"DANNS","Jack","M",1992,"SEN","LSU","SAS",107.22]
[20175,"DARRELL","Matthew","M",1992,"SEN","NOR",null,999.99]
[19733,"DAVEY","Joseph","M",2000,"U14","SPR","SPR",122.7]
[13777,"DAVEY","Matthew","M",1988,"SEN","LSU","LSU",123.1]
[21152,"DAVEY","Nathan","M",2001,"U14","LIO","LIO",287.06]
[21750,"DAVEY","Tarran","M",2000,"U14","PLY",null,433.48]
[31162,"DAVIDSON-MCQUEEN","Ramsay","M",1999,"U16","LSR",null,403.08]
[41831,"DAVIES","Alex","M",2002,"U12","CAR","DRA",999.99]
[21120,"DAVIES","Ben","M",1995,"U21","NOR",null,70.56]
[17935,"DAVIES","Brian","M",1963,"MAS","ASR",null,157.91999999999999]
[18256,"DAVIES","Finlay","M",1999,"U16","SMK","IMP",93.95]
[21119,"DAVIES","Harry","M",1999,"U16","NOR",null,117.03]
[41702,"DAVIES","Jonathan","M",1974,"MAS","TOR",null,390.73]
[20554,"DAVIES","Morgan","M",1999,"U16","HEM","K",190.33]
[21048,"DAVIES","Oliver","M",1997,"U18",null,null,999.99]
[14927,"DAVIES","Peter","M",1993,"U21","ASR",null,79.06]
[21099,"DAVIES","Toby","M",1995,"U21",null,null,999.99]
[20311,"DAVIS","Ethan","M",2001,"U14","SHK","SHK",999.99]
[18347,"DAVIS","George","M",1995,"U21",null,null,36.94]
[18346,"DAVIS","Matthew","M",1998,"U16","TEL","TEL",60.43]
[12400,"DAWSON","Andrew","M",1965,"MAS","OVL",null,257.57]
[21743,"DE BOER","Nicholas","M",2000,"U14","SPR","SPR",999.99]
[41918,"DE DECKER","Carrig","M",1998,"U16","SCI",null,236.12]
[17990,"DE HAAN","Jacob","M",1994,"U21",null,null,785.06]
[18610,"DEAKIN","William","M",1991,"SEN","FLK",null,33.43]
[19363,"DEIGHTON","Harry","M",2000,"U14","HEM","BSA",102.79]
[19361,"DEIGHTON","Oliver","M",1997,"U18","HEM","IMP",83.8]
[19362,"DEIGHTON","Toby","M",1999,"U16","HEM","BSA",92.93]
[17039,"DELLER","Philip","M",1959,"MAS","MID",null,654.11]
[19273,"DENDLE","George","M",2000,"U14","SPR","SPR",247.55]
[20738,"DENT","Michael","M",1966,"MAS","RAV","RAV",114.39]
[20315,"DERU","Joshua","M",1996,"U18",null,"DHO",999.99]
[20846,"DEWISON","Samuel","M",1998,"U16","MID","MID",124.45]
[19738,"DEWULF-PETERS","Oliver","M",1994,"U21","NOR",null,255.38]
[21406,"DEYKIN","Sebastian","M",1998,"U16","SPR",null,999.99]
[31412,"DIAZ","Dennis","M",2001,"U14","LSR",null,999.99]
[31182,"DICKSON","Bailey","M",2000,"U14","GSR",null,156.69]
[30832,"DICKSON","Graham","M",1996,"U18","GSR","SSC",38.72]
[31032,"DILLON","Grant","M",1997,"U18","SSC",null,113.23]
[21533,"DINGLE","Dominic","M",1996,"U18",null,"DHO",999.99]
[21532,"DINGLE","Timothy","M",1998,"U16",null,"DHO",999.99]
[31259,"DISCOMBE","Ross","M",1998,"U16","BSC",null,194.5]
[31550,"DIVERS","Martin","M",1980,"MAS","CSN",null,999.99]
[12612,"DIXON","Christopher","M",1990,"SEN","SPR","SPR",332.26]
[20603,"DIXON","Rory","M",1999,"U16","EVO","EVO",272.82]
[21642,"DOCKRY","Ben","M",2002,"U12","CHL","CHL",999.99]
[21696,"DOGRA","Josh","M",2001,"U14","SMK","SMK",479.52]
[31458,"DOHERTY","Lewis","M",1997,"U18","BSC",null,999.99]
[19572,"DOHERTY","Samuel","M",1999,"U16","MID",null,218.06]
[31289,"DONALD","Daniel","M",1999,"U16","CSC",null,999.99]
[31284,"DONALD","Grant","M",1995,"U21","ASC",null,999.99]
[31413,"DORREN","Donald","M",2001,"U14","LSR",null,425.58]
[31189,"DOUGLAS","Connor","M",1999,"U16","GDN",null,999.99]
[41608,"DOYLE","Eoin","M",1997,"U18","SCI",null,999.99]
[20815,"DOYLE","Harrison","M",2000,"U14","DHO","DHO",999.99]
[19524,"DOYLE","Jake","M",2001,"U14","BSA","BSA",999.99]
[18955,"DOYLE","Thomas","M",1995,"U21",null,null,999.99]
[10641,"DRAKE","Edward","M",1986,"SEN",null,"K",101.14]
[21226,"DRAKE","Joshua","M",2002,"U12",null,"SMK",999.99]
[12318,"DU PLESSIS","Andrew","M",1985,"SEN","MID","DHO",24.62]
[12317,"DU PLESSIS","Stephen","M",1987,"SEN",null,"DHO",999.99]
[20802,"DUBARRY","Drew","M",1991,"SEN",null,null,999.99]
[31361,"D'ULISSE","Ben","M",2000,"U14","SSC",null,999.99]
[31470,"DUNCAN","Rory","M",1999,"U16","CSC",null,999.99]
[18246,"DUNHILL","Harry","M",1992,"SEN",null,"DHO",999.99]
[20277,"DUNION","Jamie","M",1999,"U16",null,"SZR",249.65]
[31520,"DUNN","Liam","M",2000,"U14","LSR",null,999.99]
[20572,"DUNNE","Michael","M",2002,"U12","CHL",null,999.99]
[20921,"DURANT","Richard","M",1967,"MAS","SUF",null,206.96]
[21717,"EARLE","Timothy","M",1978,"MAS","HEM","IMP",300.47000000000003]
[20142,"EATON","Oliver","M",1996,"U18","AMB","AMB",100.01]
[10040,"EAVES","David","M",1967,"MAS","PND",null,338.42]
[19048,"EAVES","Jonathan","M",1998,"U16","PND",null,137.08000000000001]
[20885,"EDWARDES-KER","David","M",2001,"U14",null,"DHO",999.99]
[19166,"ELGY","James","M",1993,"U21","MID",null,142.46]
[19164,"ELGY","John","M",1951,"MAS","MID",null,280.95999999999998]
[21322,"ELLIFF","Luke","M",2001,"U14","VIK",null,999.99]
[21552,"ELLIS","Hamish","M",2002,"U12",null,null,999.99]
[21666,"ELLIS","Lucas","M",2004,"U10","LIO","LIO",999.99]
[19756,"ELLISS","Harry","M",2000,"U14","SPR","SPR",999.99]
[19295,"ELLISS","Jack","M",1997,"U18","SPR","AMB",999.99]
[19276,"EMERY","Jacob","M",2001,"U14","SZR","EVO",196.61]
[21622,"EMERY","Thomas","M",2003,"U12",null,null,999.99]
[21084,"EMMERSON","Philip","M",1990,"SEN","MID","MID",62.32]
[20563,"ENGLERT","Joss","M",1995,"U21","SHK",null,999.99]
[20913,"EPERON","Harrison","M",2002,"U12","SPR","SPR",999.99]
[13712,"ESPINOSA","Jean-Paul","M",1991,"SEN","SPR","SPR",866.75]
[31539,"ETRI","Alim","M",1999,"U16","MAD",null,353.89]
[31538,"ETRI","Aymen","M",1999,"U16","MAD",null,999.99]
[19611,"EVANS","Christopher","M",1995,"U21","ASR",null,108.14]
[41565,"EVANS","Emile","M",1996,"U18","CAR","DRA",59.9]
[41985,"EVANS","Harrison","M",2000,"U14","SAS",null,999.99]
[6383,"EVERITT","Simon","M",1964,"MAS","BOW",null,294.60000000000002]
[41924,"FACHAUX DAVIES","Storm","M",1998,"U16","WWS",null,999.99]
[14958,"FAIL","Robert","M",1993,"U21","SPR","SPR",146.68]
[14260,"FAIRBAIRN","Samual","M",1994,"U21","HEM","IMP",46.21]
[30863,"FARQUHARSON","Findlay","M",1996,"U18","BRM",null,999.99]
[31133,"FARQUHARSON","Hamish","M",1999,"U16","BRM",null,999.99]
[18916,"FARR","Oliver","M",1995,"U21","PPS","DRA",38.619999999999997]
[19544,"FARRELL","Jan","M",1983,"MAS",null,null,999.99]
[19633,"FARREN","Claude","M",1971,"MAS","RAV","RAV",63.99]
[19089,"FARREN","Rory","M",1998,"U16","RAV","RAV",43.07]
[21542,"FAWKE","Tim","M",1994,"U21","ALD",null,999.99]
[17513,"FELLOWS","Jordan","M",1997,"U18","TEL","BSA",17.5]
[20640,"FENELEY","Jack","M",2002,"U12","PND",null,999.99]
[18810,"FENELEY","Luke","M",1997,"U18","NOR","BSA",73.819999999999993]
[18809,"FENELEY","William","M",1999,"U16","NOR","BSA",141.86000000000001]
[31393,"FENTON","Jack","M",1999,"U16","EDS",null,999.99]
[19261,"FENTON FOWLER","Edmund","M",1995,"U21","SMK","IMP",96.89]
[17824,"FEREBEE","Mason","M",1999,"U16",null,null,999.99]
[30965,"FERRIER","Kieran","M",1997,"U18","GSR","SSC",106.64]
[30429,"FILSELL","James","M",1991,"SEN","BSA","SSC",50.63]
[19728,"FIORI","Haydyn","M",2001,"U14",null,null,999.99]
[20836,"FISHER","Edward","M",1999,"U16","SZR","SZR",999.99]
[20837,"FISHER","George","M",2003,"U12","SZR","SZR",999.99]
[21491,"FISHER","Harvey","M",2003,"U12",null,"ELI",999.99]
[17126,"FITZPATRICK","Alexander","M",1994,"U21",null,"IMP",723.15]
[31278,"FITZPATRICK","Jimmy","M",2000,"U14","GSR",null,156.56]
[21623,"FITZSIMMONS","Tobias","M",1999,"U16","ASR",null,696.3]
[41481,"FLAHIVE","Gerard","M",1992,"SEN","LSU","IMP",8.08]
[13289,"FLAHIVE","Niall","M",1993,"U21","HEM","IMP",76.319999999999993]
[31090,"FLEMING","Iain","M",1997,"U18","SSC",null,206.69]
[31516,"FLOCKHART","Ben","M",2003,"U12","LSR",null,999.99]
[31029,"FLOCKHART","Sam","M",1998,"U16","LSR",null,265.18]
[20529,"FLUCK","Adam","M",2001,"U14","SPR",null,260.7]
[41852,"FLUCK","Benjamin","M",1996,"U18","SPR",null,999.99]
[31159,"FORBES","Grigor","M",1998,"U16","CSC",null,999.99]
[21169,"FOWLES","James","M",1999,"U16","FLK",null,195.67]
[21168,"FOWLES","Luke","M",2002,"U12","FLK",null,999.99]
[20749,"FRAQUELLI","Alessandro","M",1995,"U21","TOQ",null,241.21]
[31551,"FRASER","Rory","M",2003,"U12","LSR","POL",999.99]
[13838,"FRASER HAFTER","Fergus","M",1992,"SEN","DRA","DRA",377.58]
[12900,"FREEMAN","David","M",1993,"U21","LIO","LIO",185.99]
[11570,"FREEMAN","Edward","M",1989,"SEN","LIO","LIO",132.08000000000001]
[20677,"FROST","Joey","M",1995,"U21","MID",null,110.32]
[21373,"FRY","Bradley","M",2005,"U10",null,null,999.99]
[20615,"FRYERS","Toby","M",2002,"U12",null,"BSA",999.99]
[19848,"FYNN","Linton","M",1998,"U16",null,null,999.99]
[14404,"FYNN","Tarn","M",1994,"U21",null,null,563.82000000000005]
[20487,"GADZHUROV","Marko","M",1966,"MAS","SAS",null,999.99]
[41877,"GALE","Rhodri","M",1999,"U16","CHL","DRA",86.36]
[31216,"GALLOWAY","Drew","M",2000,"U14","MUC",null,268.32]
[31105,"GALLOWAY","Duncan","M",1996,"U18","SSC",null,107.31]
[21648,"GARLICK","tim","M",1969,"MAS","SMK","SMK",999.99]
[30854,"GARVIE","Scott","M",1996,"U18","GDN",null,999.99]
[17701,"GASH","Morgan","M",1999,"U16","SAS","DHO",136.16]
[19671,"GASH","Peter","M",1956,"MAS","SAS","SAS",353.54]
[12522,"GASH","Richard","M",1991,"SEN","SAS","SAS",64.86]
[19638,"GASKIN","Sam","M",2000,"U14","BRO","K",258.86]
[21184,"GAY","Freddie","M",2001,"U14","HEM","DHO",267.41000000000003]
[31384,"GEEKIE","Alexander","M",2001,"U14","ASC","GPS",297.60000000000002]
[20684,"GENTHER","Joshua","M",1998,"U16","SHK","SZR",141.05000000000001]
[21076,"GEORGEL","Robert","M",1996,"U18","BRO",null,273.25]
[21469,"GERRETT","Sam","M",1988,"SEN",null,null,999.99]
[12123,"GEYER","Jai","M",1990,"SEN","TOQ","TOQ",36.72]
[14339,"GHISLANZONI","Fabrizio","M",1965,"MAS","SAS","SOU",186.65]
[14316,"GHISLANZONI","Giacomo","M",1994,"U21","SAS","BSA",52.04]
[31546,"GIBB","Duncan","M",1997,"U18","HNC","BND",999.99]
[14347,"GIBB","James","M",1995,"U21","CHT","K",56.28]
[17468,"GIBB","Jim","M",1961,"MAS","CHT","K",218.13]
[31142,"GIBB","Matthew","M",1997,"U18","LSR","SSC",264.64]
[19153,"GIBBINS","Joseph","M",1998,"U16","HEM","BSA",177.24]
[21612,"GIBBS","Jack","M",2001,"U14","ASR",null,274]
[21004,"GIBBS","James","M",1998,"U16","ASR",null,184.05]
[31324,"GIBSON","Cameron","M",2001,"U14","SSC","LSR",218.12]
[30349,"GIBSON","Gordon","M",1990,"SEN","SSC",null,107.95]
[21548,"GIEZENDANNER","Liam","M",2002,"U12",null,null,999.99]
[31542,"GILFILLAN","Charlie","M",2001,"U14","LSR",null,999.99]
[21529,"GILKINSON","Jake","M",1995,"U21",null,"DHO",999.99]
[20880,"GILLETT","James","M",2002,"U12","SPR","SPR",999.99]
[31374,"GILLIES","John","M",1999,"U16","SSC",null,468.5]
[17515,"GIRLING","Kirran","M",1997,"U18","TEL","TEL",54.08]
[31117,"GLASGOW","Peter","M",1994,"U21","AMB","SSC",52.69]
[21359,"GLOVER","Wiliam","M",1998,"U16","PND","PND",188.62]
[20108,"GODDARD","Thomas","M",1996,"U18","SUF",null,211.04]
[14586,"GODDARD-JONES","Brodie","M",1996,"U18","SLP","SLP",23.99]
[18816,"GOLDSWORTHY","Richard","M",1995,"U21","SMK","SMK",50.72]
[21690,"GOOD","Adrian","M",1977,"MAS",null,"IMP",999.99]
[31150,"GOODLAD","Finlay","M",1998,"U16","LSR",null,226.17]
[20376,"GOSS","Alfie","M",1999,"U16","SOU","SAS",480.86]
[21650,"GOTTS","Joey","M",1987,"SEN","BRO","BRO",157.91999999999999]
[20779,"GOULD","David","M",1963,"MAS","MER",null,999.99]
[17532,"GOWER","Jack","M",1994,"U21","SPR","SPR",999.99]
[17533,"GOWER","Rory","M",1996,"U18","SPR","SPR",999.99]
[14855,"GRANT","James","M",1994,"U21","LSU","HEM",22.15]
[14856,"GRANT","Thomas","M",1996,"U18","HEM","IMP",38.32]
[31395,"GRAY","Stuart","M",1996,"U18","HNC",null,999.99]
[19122,"GREASBY","Richard","M",1969,"MAS","HEM",null,635.9]
[17002,"GREENFIELD","Hobie","M",1995,"U21","SAS","SAS",77.290000000000006]
[14809,"GREENFIELD","Max","M",1994,"U21","HEM","HEM",53.66]
[18049,"GREENFIELD","Nigel","M",1962,"MAS","SAS","SAS",306.92]
[31102,"GREENSHIELDS","Andrew","M",1999,"U16","SSC","LSR",138.35]
[31243,"GREENSHIELDS","Duncan","M",2002,"U12","SSC","LSR",999.99]
[19632,"GREENWAY","Daniel","M",1998,"U16",null,"WM",161.63999999999999]
[19631,"GREENWAY","Thomas","M",2001,"U14",null,"WM",160.58000000000001]
[12946,"GREENWOOD","James","M",1990,"SEN","ASR","EVO",12.92]
[31475,"GRIEVE","Joe","M",2003,"U12","LSR",null,999.99]
[20816,"GROGAN","Max","M",2001,"U14","K","K",999.99]
[30921,"GUEST","Christopher","M",1997,"U18","SSC","BSA",989]
[31414,"GUMLEY","Louis","M",2001,"U14","LSR",null,428.93]
[30515,"GUNN","Cameron","M",1992,"SEN","SSC","LSR",50.46]
[41459,"GURNER","Samuel","M",1997,"U18","TOR",null,82.04]
[31465,"GUTHRIE","Timothy","M",1998,"U16","SSC",null,999.99]
[19379,"GUY","Edward","M",2001,"U14","TEL","MID",210.93]
[31511,"GUY","Jude","M",2003,"U12","LSR",null,999.99]
[20719,"HADLEY","Daniel","M",2004,"U10","MID","SMK",999.99]
[21608,"HAIRE","Bradley","M",1998,"U16","ASR",null,999.99]
[41273,"HALES","Robert","M",1960,"MAS","CAR","DRA",55.14]
[21008,"HALES","Theo","M",2000,"U14","SPR","HEM",999.99]
[41182,"HALES","Thomas","M",1990,"SEN","CAR","DRA",7.23]
[31234,"HALL","Adam","M",2000,"U14","ASC",null,301.69]
[31548,"HALL","Alistair","M",2003,"U12","ASC",null,431.17]
[13125,"HALL","Benn","M",1990,"SEN","AMB","AMB",34.119999999999997]
[31547,"HALL","Mark","M",1964,"MAS","ASC",null,999.99]
[20717,"HALLETT","Jacob","M",1999,"U16","PPS","DRA",118.51]
[31459,"HALLIDAY","Duncan","M",1985,"SEN","P3",null,999.99]
[31279,"HALPIN","Luke","M",2000,"U14","GSR",null,287.83999999999997]
[31422,"HAMLETT-HALL","Samuel","M",1998,"U16","SSC","LSR",569.57000000000005]
[20595,"HAMMOND","Max","M",1994,"U21","SOU","SOU",114.58]
[17037,"HANCOCK","David","M",1964,"MAS","MID","SMK",999.99]
[18616,"HANCOCK","Karl","M",1995,"U21","MID",null,232.6]
[19013,"HANLON","George","M",1999,"U16","PPS","WM",161.86000000000001]
[31514,"HANLON","Marcus","M",2002,"U12","GSR",null,999.99]
[41908,"HANNA","Jordan","M",1998,"U16","SCI","IMP",135.71]
[31333,"HANNAN","James","M",2001,"U14","LSR",null,315.70999999999998]
[31368,"HARBINSON","Joshua","M",2002,"U12","MUC",null,999.99]
[31429,"HARPER","Callum","M",1998,"U16","LSR",null,438.66]
[21581,"HARPER","Joseph","M",1998,"U16","TEL",null,999.99]
[21582,"HARPER","Thomas","M",2000,"U14","TEL",null,407.04]
[20976,"HARRISON","Samuel","M",2003,"U12",null,"LIO",999.99]
[21275,"HART","Benjamin","M",2003,"U12","SPR","SPR",999.99]
[4777,"HATCHER","David","M",1985,"SEN","WCS",null,5.98]
[19163,"HAWKINS","Mark","M",1979,"MAS","MID",null,57.13]
[31311,"HAY","Adam","M",2001,"U14","SSC",null,230.99]
[19187,"HAY","Cameron","M",1999,"U16","BSA","BSA",999.99]
[19834,"HAY","Louis","M",2002,"U12","BSA","BSA",999.99]
[31452,"HAYWARD","Euan","M",1999,"U16","BSC",null,999.99]
[5013,"HEATH","Peter","M",1944,"MAS","OVL",null,999.99]
[19674,"HEDLEY","Benja","M",1977,"MAS",null,null,999.99]
[19125,"HEGINBOTHAM","Matthew","M",2000,"U14",null,"BSA",219.05]
[17078,"HELLIWELL","Steven","M",1994,"U21","LIO","LIO",78.44]
[19829,"HEMMING","Ethan","M",2001,"U14","MID","MID",154.80000000000001]
[30121,"HENDERSON","Callum","M",1989,"SEN","SSC",null,5.77]
[20181,"HENDERSON","Lucas","M",2003,"U12","SRR","SZR",999.99]
[30388,"HENDERSON","Paul","M",1995,"U21","AMB","SSC",20.54]
[31347,"HENDERSON","Sholto","M",1997,"U18","LSR",null,788.62]
[19160,"HENDERSON","Tom","M",1996,"U18","HEM","K",90.77]
[21506,"HENDRY","Thomas","M",1999,"U16","VIK",null,999.99]
[18729,"HENERY","David","M",1963,"MAS","SHK","LIO",326.22000000000003]
[20641,"HENERY","Robbie","M",1998,"U16","SHK","LIO",150.55000000000001]
[18862,"HENERY","Sam","M",1995,"U21","SHK","LIO",134.47]
[14744,"HENNINGS","Alexander","M",1991,"SEN",null,"DHO",999.99]
[31432,"HERBERT","Calum","M",2001,"U14","BSC",null,255.89]
[41927,"HESLOP","Rory","M",1995,"U21",null,null,999.99]
[19857,"HETHERINGTON","George","M",1999,"U16","K","K",999.99]
[19856,"HETHERINGTON","Thomas","M",1995,"U21","K","K",999.99]
[31247,"HEWISON","Henry","M",2004,"U10","CSC","ASC",999.99]
[21215,"HEYMOZ","Daniel","M",2002,"U12","WGC",null,999.99]
[13315,"HILL","Ashley","M",1993,"U21",null,"AMB",25.2]
[21724,"HILLS","Max","M",2001,"U14",null,null,999.99]
[20544,"HINCHLIFFE","Jack","M",1997,"U18","PPS","LIO",103.84]
[21464,"HINTON","Marcus","M",2001,"U14","SPR","SPR",999.99]
[21345,"HINTON","Sam","M",1996,"U18",null,null,999.99]
[5370,"HJORT","Andrew","M",1965,"MAS","LIO","RAV",72.47]
[31486,"HODGSON","Ben","M",2001,"U14","GSR",null,999.99]
[31485,"HODGSON","Ross","M",1997,"U18","GSR",null,999.99]
[41966,"HODSON","Steffan","M",2005,"U10","WWS",null,999.99]
[20431,"HOLMES","John","M",1969,"MAS","PND","PND",143.55000000000001]
[21097,"HOLMES","Robert","M",2002,"U12","PND","PND",999.99]
[21726,"HOLT","Sam","M",1995,"U21","BRS","SMK",308.33999999999997]
[19072,"HONEY","Jack","M",1995,"U21","ASR",null,147.91999999999999]
[41880,"HOPKINS","Harry","M",1999,"U16","CAR","DRA",139.85]
[41497,"HOPKINS","Mark","M",1966,"MAS","CAR","DRA",280.55]
[17356,"HORNSBY","Harry","M",1991,"SEN","MID","TOQ",4.17]
[41841,"HORTON","Sam","M",1996,"U18","TOR",null,200.15]
[17009,"HOUSTON","Alexandra","M",1994,"U21","SHK",null,999.99]
[18628,"HOUSTON","Samuel","M",1996,"U18","SHK",null,999.99]
[31373,"HOWARD-JOHNSTON","Philip","M",2001,"U14","SSC",null,999.99]
[21723,"HOWE","Charlie","M",2000,"U14","NOR",null,173.4]
[21387,"HUDDLESTON","David","M",1996,"U18","BAS",null,999.99]
[20481,"HUDSON","Thomas","M",2001,"U14","NOR","BSA",109.79]
[14921,"HUGHES","Toby","M",1992,"SEN","NOR",null,43.66]
[21049,"HUISMAN MURO","Alexander","M",2001,"U14",null,"K",999.99]
[21050,"HUISMAN MURO","Kaylan","M",2003,"U12",null,"K",999.99]
[18322,"HUMFRESS","Joseph","M",1993,"U21","TEL","TEL",155.24]
[20766,"HUMPHREYS","Charles","M",2001,"U14","HEM","TSN",268.10000000000002]
[21644,"HUMPHREYS","George","M",2005,"U10",null,"CHL",999.99]
[10812,"HUNT","Georgie","M",1984,"SEN","EVO","HEM",22.96]
[31509,"HUNTER","Fraser","M",2003,"U12","LSR",null,999.99]
[30883,"HUNTINGTON","Calum","M",1995,"U21","SSC","BSA",989]
[19146,"HUPPACH","Declan","M",1999,"U16","PND",null,58.32]
[19458,"HUPPACH","Josef","M",2002,"U12","PND",null,999.99]
[21747,"HUTCHINGS","Alex","M",1965,"MAS","WCS","WCS",133.19]
[20328,"HUTTNER","Maximilian","M",1997,"U18","BRS","SPR",999.99]
[21654,"IMAMZADE","Murat","M",1982,"MAS","IMP","IMP",999.99]
[31031,"INNES","Iain","M",1998,"U16","SSC",null,155.71]
[31198,"INNES","Robbie","M",2000,"U14","SSC",null,342.94]
[21022,"JACKSON","Andrew","M",1958,"MAS","TEL","TEL",276.66000000000003]
[19675,"JACKSON","Ian","M",1964,"MAS","RAV","RAV",72.58]
[31363,"JACOBS","Finlay","M",2002,"U12","ASC",null,999.99]
[31549,"JAMES","Richard","M",1965,"MAS","EVO",null,999.99]
[31210,"JAMIESON","Ryan","M",1996,"U18","SSC",null,235.19]
[31217,"JARDINE","Lewis","M",2000,"U14","LSR",null,999.99]
[30256,"JARDINE","Ross","M",1989,"SEN","SSC",null,999.99]
[21708,"JAYARAJ","Jacob","M",2003,"U12",null,"HEM",999.99]
[41124,"JEAL","Alex","M",1990,"SEN","GLO","DRA",9.65]
[20893,"JELICIC","Nicholas","M",1997,"U18",null,"DHO",999.99]
[31024,"JENNINGS","Euan","M",1997,"U18","LSR","SSC",492.38]
[31023,"JENNINGS","Sandy","M",1995,"U21","LSR","SSC",999.99]
[14989,"JENSEN","Christian","M",1995,"U21","SPR","SPR",304.81]
[14276,"JESSE","Zak","M",1994,"U21","IMP","K",438.24]
[19095,"JOHNS","Owen","M",2001,"U14",null,"WM",999.99]
[20355,"JOHNS","Scott","M",2003,"U12",null,"WM",999.99]
[31136,"JOHNSON","Alistair","M",1998,"U16","SSC","CSC",999.99]
[31443,"JOHNSTON","David","M",2000,"U14","LSR",null,999.99]
[31034,"JOHNSTON","Hamish","M",1997,"U18","SSC","BSA",182.84]
[41987,"JONES","Iwan","M",1999,"U16","CAR",null,999.99]
[41765,"JONES","Sam","M",1976,"MAS",null,null,999.99]
[21780,"KADRNKA","Markus","M",2004,"U10","SPR","SPR",999.99]
[21149,"KARAVASILI","Leo","M",1999,"U16",null,null,136.15]
[21159,"KEANE","Josh","M",1995,"U21","SMK","SMK",71.78]
[31519,"KEANEY","Seamus","M",2001,"U14","BSC",null,183.84]
[21553,"KEATMAN","Chris","M",2000,"U14","STS",null,251.72]
[31238,"KEITH","Mathew","M",1998,"U16","LSR",null,141.08000000000001]
[31345,"KELLAS","Guy","M",2003,"U12","SSC",null,999.99]
[31553,"KELLY","Archie","M",2004,"U10","MAD",null,999.99]
[31286,"KERR","George","M",2000,"U14","CSC",null,999.99]
[31285,"KERR","Henry","M",2000,"U14","CSC",null,999.99]
[21562,"KEYS","Alexander","M",1998,"U16",null,null,999.99]
[30898,"KICK","Euan","M",1997,"U18","GSR","BSA",5]
[14951,"KIESSLING","Liam","M",1991,"SEN","SOU","SOU",106.09]
[21019,"KILGOUR","Rory","M",1980,"MAS","BRS","SAS",999.99]
[21343,"KING","Oliver","M",1996,"U18","GLO",null,999.99]
[21186,"KIPPING","Lewis","M",2001,"U14","SRR",null,181.41]
[21633,"KIRKLAND","Matthew","M",1992,"SEN","MID","MID",350.57]
[12856,"KNOCK","James","M",1990,"SEN","EVO","EVO",31.22]
[13792,"KNOWLES","Michael","M",1995,"U21","CHL","DRA",40.57]
[18317,"KRAHELSKI","Oliver","M",1996,"U18","HEM",null,32.799999999999997]
[30778,"KUWALL","Duncan","M",1998,"U16","SSC",null,51.3]
[20095,"LALLY","Cameron","M",1996,"U18","VIK",null,103.68]
[21691,"LANE","Joshua","M",1999,"U16","NOR","NOR",152.75]
[31110,"LANGDALE","Harry","M",1998,"U16","MUC",null,164.87]
[21178,"LANGLEY","Daniel","M",2000,"U14","GLO","DRA",271.22000000000003]
[20713,"LARBY","Thomas","M",1994,"U21","RAV",null,128.03]
[21571,"LAUGHLAND","Maximilian","M",2004,"U10","BRO","DHO",999.99]
[17045,"LAW","Joshua","M",1993,"U21","SHK",null,999.99]
[20369,"LAW","Joshua","M",2003,"U12","TEL",null,999.99]
[19941,"LAWRENCE","Thomas","M",1999,"U16","MID",null,149.19999999999999]
[21077,"LEACH","Charlie","M",2001,"U14","HEM","AMB",221.47]
[21702,"LEACH","Dominic","M",2005,"U10","HEM",null,999.99]
[21501,"LEACH","Freddie","M",2002,"U12","HEM","K",999.99]
[20887,"LEAVITT","Samuel","M",1998,"U16","DHO","DHO",999.99]
[20922,"LEAVITT","William","M",1998,"U16","DHO","DHO",999.99]
[41578,"LEE","Adam.","M",1994,"U21","MID","PND",59.49]
[20761,"LEE","Dexter","M",2000,"U14","HEM","EVO",97.65]
[20267,"LEE","Jocelyn","M",1997,"U18","BRS","BRS",282.39999999999998]
[41662,"LEE","Sam","M",1996,"U18","MID",null,138.66]
[13389,"LEESON","Andrew","M",1989,"SEN","PND",null,28.81]
[20850,"LEGEAIS","Antoine","M",2001,"U14",null,"BSA",999.99]
[20625,"LEGEAIS","Benjamin","M",1999,"U16",null,"BSA",999.99]
[31329,"LEIGHTON","Alasdair","M",2001,"U14","SSC",null,703.57]
[31328,"LEIGHTON","Findlay","M",2003,"U12","SSC",null,999.99]
[19869,"LEWIS","Barney","M",1995,"U21","SMK","AMB",41.48]
[18474,"LEWIS","Freddie","M",1993,"U21",null,"DHO",999.99]
[20309,"LEWIS","Samuel","M",1998,"U16","SPR","SPR",999.99]
[17926,"LEWIS","William","M",1992,"SEN",null,"DHO",999.99]
[20404,"LINCOLN","Andrew","M",1993,"U21","NOR","NOR",196.98]
[12964,"LINDLEY","Ryan","M",1987,"SEN","PLY",null,201.61]
[31281,"LINKLATER","Ian","M",1953,"MAS","SSR",null,999.99]
[19830,"LISMORE","Jake","M",1997,"U18",null,"BSA",999.99]
[31320,"LIVINGSTON","Fraser","M",2001,"U14","LSR",null,531.1]
[31107,"LIVINGSTONE","Lewis","M",1999,"U16","SSC","LSR",183.58]
[41972,"LLOYD","Christopher","M",1974,"MAS",null,null,999.99]
[21129,"LODER","Angus","M",2002,"U12","HEM","K",999.99]
[20543,"LODER","Edward","M",1999,"U16","HEM","AMB",173.7]
[19463,"LOVE TWELVES","Matthew","M",1997,"U18","WM","WM",999.99]
[17344,"LOWDON","Matthew","M",1995,"U21","RAV",null,999.99]
[19510,"LOWE","Jordan","M",1998,"U16","HEM","EVO",181.88]
[20331,"LUCAS","Oliver","M",2002,"U12","WM","WM",999.99]
[18757,"LUCIE-SMITH","Ross","M",1993,"U21","LSU","LSU",100.02]
[19491,"LUGGER","Matthew","M",1996,"U18","TOQ",null,173.62]
[21546,"LUKE","Charlie","M",2000,"U14",null,"DHO",999.99]
[21517,"LUNN","Jake","M",2001,"U14",null,"K",999.99]
[31341,"LURRING","Connor","M",1999,"U16","SSC",null,451.96]
[21091,"LUTTERLOCH","Edward","M",2003,"U12","ASR",null,999.99]
[21000,"LUTWYCHE","Alexander","M",2003,"U12","PND","DRA",999.99]
[20272,"LUTWYCHE","Jacob","M",2001,"U14","PND","DRA",193.67]
[21366,"LYONS","Alan","M",1965,"MAS",null,"HEM",226.23]
[30233,"MACBAIN","Scott","M",1987,"SEN","GSR",null,64.849999999999994]
[31506,"MACDONALD","Finlay","M",2004,"U10","LSR",null,999.99]
[21431,"MACDONALD","Thomas","M",1970,"MAS","RAV","RAV",999.99]
[31490,"MACFARLANE","Archie","M",2001,"U14","GSR",null,999.99]
[30250,"MACFIE","Alastair","M",1989,"SEN","SSC",null,98.24]
[30669,"MACFIE","Euan","M",1994,"U21","GDN",null,195.43]
[31053,"MACKENZIE","Andrew","M",1995,"U21","MUC",null,254.57]
[31396,"MACLEAN","Angus","M",1996,"U18","HNC",null,999.99]
[20561,"MACPHERSON","Grant","M",1979,"MAS",null,null,999.99]
[30936,"MACPHERSON","Stuart","M",1998,"U16","SSC","LSR",152.59]
[31004,"MACWILLIAM","David","M",1996,"U18","BSC","GSR",76.88]
[21699,"MAGENES","Edoardo","M",2004,"U10","HEM",null,999.99]
[20530,"MAJOR","Billy","M",1996,"U18",null,null,999.99]
[21483,"MANET","Conrad","M",1998,"U16","K","K",999.99]
[31224,"MARDEN","Angus","M",2000,"U14","MUC",null,219.14]
[17257,"MARMENT","Christiaan","M",1997,"U18","SLP","SLP",98.67]
[21154,"MARSH","Joshua","M",2001,"U14","SZR",null,168.5]
[21591,"MARSHALL","Callum","M",2005,"U10",null,null,999.99]
[20843,"MARSLAND","Steven","M",1970,"MAS","TOQ",null,999.99]
[31508,"MARSTON","Rory","M",1999,"U16","LSR",null,999.99]
[19574,"MARTIN","Matthew","M",1995,"U21","CHL","DRA",44.77]
[31331,"MARTIN","Oliver","M",2001,"U14","LRS",null,384.7]
[21401,"MATHER","Fred","M",2001,"U14",null,"BSA",999.99]
[20253,"MATHEW","Oliver","M",2002,"U12","AVO","EXD",999.99]
[31171,"MATTHEW","Andrew","M",1990,"SEN",null,null,999.99]
[19723,"MATTHEWS","Brandon","M",1999,"U16","STS",null,64.959999999999994]
[21447,"MAY","Philip","M",1968,"MAS",null,null,999.99]
[19375,"MAYNARD","Luke","M",1997,"U18","HEM","DHO",999.99]
[31028,"MCBAIN","Corrie","M",1999,"U16","LSR","SSC",184.77]
[30841,"MCBAIN","Sandy","M",1993,"U21","SSC","LSR",73.540000000000006]
[31148,"MCCALL","Andrew","M",2002,"U12","SSC",null,999.99]
[20455,"MCCALL","Oscar","M",2000,"U14",null,"BSA",316.45]
[19413,"MCCLOUD","Milo","M",1997,"U18","BSA","BSA",192.84]
[21737,"MCCOLL","Ruari","M",2002,"U12","TOQ","TOQ",999.99]
[41940,"MCCORMACK","Matthew","M",1998,"U16","SCI","K",154.66]
[31273,"MCCORMICK","Chris","M",1998,"U16","BSC",null,999.99]
[21664,"MCCORMICK","John","M",1975,"MAS",null,null,331.55]
[31274,"MCCORMICK","Matt","M",1997,"U18","BSC",null,999.99]
[20584,"MCDONALD-PROCTOR","Richard","M",1998,"U16","BRO",null,104.45]
[20583,"MCDONALD-PROCTOR","William","M",2002,"U12","BRO",null,999.99]
[41970,"MCDOWELL","Harry","M",2000,"U14","SCI",null,249.62]
[31435,"MCFADDEN","Cameron","M",2000,"U14","CSC",null,999.99]
[31446,"MCFADDEN","Iain","M",2002,"U12","CSC",null,999.99]
[31083,"MCFADDEN","Neil","M",1998,"U16","CSC",null,999.99]
[31397,"MCFADZEAN","Euan","M",1999,"U16","SSC",null,999.99]
[19019,"MCGREGOR-OGDEN","Cameron","M",2000,"U14","CHL","DRA",88.79]
[8067,"MCGREGOR-OGDEN","Carl","M",1961,"MAS","CHL","CHL",124.85]
[31169,"MCHUGH","Liam","M",1997,"U18","GSR",null,39.229999999999997]
[30676,"MCINTOSH","David","M",1994,"U21","GDN",null,242.13]
[31541,"MCINTYRE","Ross","M",2004,"U10","BSC","SSR",999.99]
[31540,"MCINTYRE","Scott","M",2002,"U12","BSC",null,999.99]
[17683,"MCKECHNIE","Mark","M",1989,"SEN","VIK",null,999.99]
[31403,"MCLAREN","Ronan","M",2001,"U14","BSC",null,999.99]
[21589,"MCLAREN-TOSH","Jack","M",2003,"U12","HEM","HEM",999.99]
[31084,"MCLAUGHLAN","Iain","M",1997,"U18","GSR","SSC",384.84]
[30953,"MCLEISH","Adam","M",1979,"MAS","SSC",null,999.99]
[20954,"MCLEISH","James","M",1999,"U16","BWP","IMP",999.99]
[31314,"MCLEW","Christopher","M",2001,"U14","GSR",null,160.09]
[31437,"MCLEW","Euan","M",2003,"U12","GSR",null,999.99]
[20580,"MCMAHON","Jack","M",1997,"U18",null,"DHO",999.99]
[31491,"MCNEILL","David","M",2000,"U14","BSC",null,999.99]
[31139,"MCNICOL","Archie","M",1999,"U16","GSC","BSA",999.99]
[31202,"MCROBB","Cameron","M",2000,"U14","LSR","SSC",170.98]
[30555,"MCWHIRTER","Scott","M",1992,"SEN","GSR","SSC",34.33]
[30740,"MCWILLIAM","Jamie","M",1994,"U21","CSC",null,999.99]
[30978,"MCWILLIAM","Lewis","M",1997,"U18","CSC",null,999.99]
[41939,"MELIA","Tybalt","M",2000,"U14","NW",null,999.99]
[21645,"MELLON-HENDRY","Freddie","M",2004,"U10","ASR",null,999.99]
[31296,"MERRY","Tom","M",1997,"U18",null,null,999.99]
[31180,"MESTON","Grant","M",1998,"U16","BRM",null,999.99]
[11619,"MESUT","Justin","M",1985,"SEN","NOR","AMB",58.51]
[21213,"METHERINGHAM","Zachary","M",2004,"U10",null,"SMK",999.99]
[21043,"MEURER","Markus","M",1968,"MAS",null,null,999.99]
[30931,"MIDDLETON","Fraser","M",1998,"U16","GSR",null,81.010000000000005]
[21278,"MIGUDA","Henry","M",2001,"U14","SPR","SPR",999.99]
[31536,"MILLAR","Archie","M",2001,"U14","LSR",null,999.99]
[31535,"MILLAR","Jay","M",2003,"U12","LSR",null,999.99]
[21661,"MILLAR","Matthew","M",2002,"U12",null,null,999.99]
[21662,"MILLAR","Oliver","M",2005,"U10",null,null,999.99]
[21276,"MILLARD","Oliver","M",2000,"U14",null,null,999.99]
[31457,"MILLER","Craig","M",2002,"U12","GSR",null,999.99]
[18509,"MILLER","Gareth","M",1994,"U21","SAS","SMK",76.17]
[18607,"MILLER","Nicholas","M",1993,"U21","MID",null,56.48]
[31450,"MILLER","Scott","M",1998,"U16","BSC",null,999.99]
[21408,"MILLER-HASTINGS","Frankie","M",2000,"U14","FLK",null,201.82]
[21602,"MILNER","Archie","M",2000,"U14","ASR","ASR",192.73]
[13228,"MILSTED","James","M",1992,"SEN","RAV",null,90.81]
[21259,"MIRACCO","Carlito","M",1999,"U16","HEM","TOQ",166.7]
[31365,"MOHAMMED","Kais","M",2001,"U14","SSC",null,999.99]
[19673,"MOLLIEX","Alex","M",1973,"MAS","CHL","CHL",88.2]
[18629,"MOLLOY","Daniel","M",1993,"U21","NOR",null,49.25]
[17438,"MOLLOY","Michael","M",1992,"SEN","NOR",null,6]
[20782,"MOONEY","Hugo","M",1997,"U18","DHO","DHO",999.99]
[20374,"MOONEY","John","M",1996,"U18",null,"DHO",999.99]
[20401,"MOORE","Benedict","M",2001,"U14","K",null,999.99]
[14949,"MORGAN","Brad","M",1991,"SEN","BSA","K",15]
[21479,"MORGAN","Jonathan","M",1999,"U16",null,null,999.99]
[31199,"MORRIS","Christopher","M",2000,"U14","LSR",null,340.45]
[20871,"MORRIS","Ruaidhri","M",2001,"U14","SPR","SPR",999.99]
[30529,"MORRISON","Jo","M",1992,"SEN","GDN","SSC",111.17]
[18778,"MORRISON","Michael","M",1957,"MAS","SOU","SAS",223.72]
[30154,"MORTON","Kenneth","M",1986,"SEN","MUC",null,999.99]
[14297,"MOSS","Maximillian","M",1996,"U18","EVO","EVO",50.06]
[17831,"MOYNIHAN","Nicholas","M",1994,"U21",null,"K",999.99]
[18257,"MOZOL","James","M",1993,"U21","GLO",null,34.880000000000003]
[19335,"MROZ","Jaroslaw","M",1964,"MAS","BWP","DHO",447.94]
[19568,"MUIR","James","M",1999,"U16","SPR","SPR",999.99]
[31424,"MUIR","Jimmy","M",2002,"U12","ASC","DUN",999.99]
[41934,"MUNDAY","William","M",2000,"U14","VAL",null,999.99]
[31342,"MUNRO","Calum","M",2002,"U12","BSC",null,999.99]
[31313,"MUNRO","Colin","M",1995,"U21","LSR",null,999.99]
[21539,"MUNRO","Joe","M",1985,"SEN",null,null,999.99]
[21500,"MURCH","Tim","M",1996,"U18","BRO","BRO",999.99]
[31326,"MURPHY","Rhys","M",1999,"U16","BSC",null,205.38]
[19678,"MURRAY","Alastair","M",1996,"U18",null,"LIO",999.99]
[41853,"MURRAY","Cillian","M",1998,"U16","SCI",null,201.66]
[31521,"MURRAY","Sam","M",2003,"U12","LSR",null,999.99]
[20125,"MYRSEP-FRANCE","Nicholas","M",1998,"U16",null,"DHO",999.99]
[18659,"NAYLER","Graham","M",1959,"MAS","ASR","ALD",110.84]
[31265,"NAYLOR","Finlay","M",1998,"U16","LSR",null,337.42]
[31256,"NEISH","Angus","M",1998,"U16","SFR",null,220.72]
[31282,"NESBITT","Kieran","M",2000,"U14","GSR",null,213.69]
[31283,"NESBITT","Ross","M",2002,"U12","GSR",null,999.99]
[21315,"NEVENS","Ted","M",1997,"U18",null,null,999.99]
[21194,"NEWTON","Charlie","M",2003,"U12","HEM","HEM",999.99]
[20184,"NEWTON","William","M",2000,"U14","HEM","HEM",212.06]
[21481,"NG","Hugo","M",1997,"U18",null,null,999.99]
[13432,"NICHOL","Timothy","M",1984,"SEN","RAV",null,123.01]
[31392,"NICHOLLS","Harry","M",1996,"U18","HNC",null,999.99]
[20897,"NICKSON","Joseph","M",1996,"U18","PND",null,104.52]
[14252,"NISBET","Angus","M",1993,"U21",null,"DHO",999.99]
[14251,"NISBET","Kit","M",1990,"SEN",null,"K",999.99]
[14229,"NORCROSS WEBB","Joseph","M",1992,"SEN","SOU","AMB",47.32]
[30996,"NORRIS","Fraser","M",1997,"U18","GSR",null,364.64]
[19135,"NORRIS","John","M",1961,"MAS","HEM","SAS",107.29]
[19005,"NORRIS","Kieran","M",1995,"U21","HEM","AMB",20.89]
[20732,"NORTON","Thomas","M",1999,"U16","TOQ","TOQ",105.82]
[21104,"NUNN","Jack","M",2003,"U12",null,null,999.99]
[19737,"O'BRIEN","Seamus","M",2002,"U12","MID","EVO",999.99]
[31164,"ODY","Robert","M",1998,"U16","LSR",null,470.1]
[21604,"OGDEN","Alexander","M",2005,"U10","NOR","ELI",999.99]
[20975,"OHARA","Mizuki","M",1998,"U16",null,"DHO",999.99]
[31351,"OLDFIELD","Max","M",2002,"U12","MUC","SSC",999.99]
[20662,"OLIVER","Jamie","M",2001,"U14","BOW","SMK",423.06]
[20550,"OLIVER","Mark","M",1962,"MAS","BOW","SMK",174.37]
[21253,"OLIVER","Ryan","M",1997,"U18","NOR",null,141.88999999999999]
[19147,"O'MARA","Adam","M",1995,"U21","RAV","RAV",50.84]
[19199,"O'MEARA","Samuel","M",1999,"U16",null,null,999.99]
[2257,"ONDRUSZ","Tomasz","M",1965,"MAS",null,null,213.52]
[20377,"O'NEILL","Jack","M",1999,"U16",null,"BSA",999.99]
[21326,"PALMER","David","M",1999,"U16",null,"BSA",999.99]
[31460,"PARKER","Barry","M",1985,"SEN","ASC",null,999.99]
[21188,"PARKES","Michael","M",1989,"SEN","HEM","HEM",123.35]
[31529,"PARTRIDGE","Andrew","M",1999,"U16","SSR",null,254.29]
[31530,"PARTRIDGE","Tom","M",2002,"U12","SSR",null,999.99]
[31453,"PATHI","Fintan","M",2002,"U12","GSR",null,999.99]
[31537,"PATHI","Rowan","M",1999,"U16","GSR",null,384.71]
[19374,"PATIENCE","Callum","M",1997,"U18","SPR","SPR",999.99]
[1681,"PATON","Andrew","M",1968,"MAS","WYC",null,989]
[20460,"PATRICK","Oliver","M",1997,"U18","BSA","BSA",999.99]
[30827,"PATTERSON","Ross","M",1999,"U16","SSC",null,132.36000000000001]
[21283,"PATTON","Edward","M",2001,"U14","SPR","SPR",376.93]
[30737,"PAXTON","James","M",1992,"SEN","GDN",null,999.99]
[30738,"PAXTON","Paul","M",1998,"U16","GDN",null,160.34]
[31444,"PEEK","Harrison","M",2003,"U12","BSC",null,999.99]
[31445,"PEEK","Jackson","M",2004,"U10","BSC",null,999.99]
[19710,"PENNING- LAMBERT","Matthew","M",1996,"U18","HEM","K",125.92]
[19711,"PENNING-LAMBERT","Joshua","M",1998,"U16","HEM","EVO",79.08]
[18224,"PENROSE","Christopher","M",1989,"SEN",null,"DHO",206.08]
[20102,"PERETZ","Adi","M",1998,"U16","DHO","DHO",999.99]
[31073,"PETERS","Lachlan","M",1997,"U18","BRM",null,999.99]
[17534,"PETRIE","Ben","M",1991,"SEN","SMK","K",999.99]
[17535,"PETRIE","James","M",1996,"U18","HEM","BSA",296.52999999999997]
[31439,"PFLEGER","Harry","M",2005,"U10","GDN",null,999.99]
[17840,"PHELPS","Nicholas","M",1997,"U18","MID","MID",62.44]
[19837,"PICKERING","Christopher","M",1995,"U21","HEM","K",131.30000000000001]
[20831,"PICKERING","Felix","M",2002,"U12","HEM","K",999.99]
[41495,"PIERCE","Zac","M",1997,"U18","PND","DRA",216.84]
[31288,"PIERCEY","James","M",1997,"U18","CSC",null,999.99]
[20535,"PINI","Maximilian","M",2002,"U12","SLP","SMK",999.99]
[20777,"PINSENT","William","M",1955,"MAS",null,null,999.99]
[31082,"PITCHERS","Brian","M",1942,"MAS","SSC",null,999.99]
[19987,"PITKETHLY","Calum","M",1999,"U16","SPR","SPR",999.99]
[31008,"POGSON","Liam","M",1998,"U16","BLG","GPS",237.25]
[20907,"POINTS","Tobias","M",2000,"U14",null,"BSA",999.99]
[20799,"POLLITT","Oliver","M",2003,"U12","CHL","DRA",999.99]
[19698,"PORTER","Ashley","M",1997,"U18","ASR",null,96.75]
[14344,"PORTER","Tobias","M",1993,"U21","FLK","DHO",121.27]
[14350,"POTH","Daniel","M",1996,"U18","HEM","TEL",26.4]
[14575,"POTH","Robert","M",1997,"U18","HEM","K",14.97]
[17479,"POWELL","Jonathan","M",1986,"SEN","RAV","MID",28.96]
[20322,"PRICE","Edward","M",1996,"U18",null,"BSA",999.99]
[30711,"PRICE","Graeme","M",1995,"U21","SSC","GSR",57.03]
[20323,"PRICE","Oliver","M",1996,"U18",null,"BSA",999.99]
[41837,"PRICE","Rhys","M",2001,"U14","GLO","DRA",226.76]
[21309,"PRICE","Tim","M",1966,"MAS","KND",null,999.99]
[20464,"PRITCHARD","John","M",1999,"U16",null,"BSA",999.99]
[41410,"PRITCHARD","Ray","M",1965,"MAS",null,"DRA",999.99]
[9379,"PROUDLOVE","Andrew","M",1958,"MAS","BRO","EVO",176.8]
[31489,"PROVAN","Max","M",2001,"U14","CSC","BSA",999.99]
[31358,"PYE","Ryan","M",2004,"U10","GDN","ASC",999.99]
[41894,"QUINLIVAN","Naoise","M",1997,"U18","SCI",null,140.5]
[20122,"RABEY","Judson","M",2000,"U14","HEM","DHO",224.41]
[21393,"RAMPTON","Thomas","M",2003,"U12",null,"BSA",999.99]
[30952,"RANKIN","Charles","M",2001,"U14","BSA","CSC",146.88]
[21511,"RANKIN","Hugo","M",1999,"U16",null,"DHO",999.99]
[18504,"RAPOSO","Charlie","M",1996,"U18",null,"AMB",999.99]
[19569,"RASCAGNERES","Thomas","M",2000,"U14","CHL","DRA",95.03]
[21415,"RASHCHUPKIN","Maxim","M",2002,"U12",null,"DHO",999.99]
[31206,"RASMUSEN","Erik","M",1998,"U16","GDN",null,292.63]
[20380,"RATCLIFFE","David","M",1998,"U16","SAS",null,255.76]
[20381,"RATCLIFFE","Thomas","M",2001,"U14","SAS",null,999.99]
[31552,"RATTRAY","Andrew","M",2000,"U14","GSR",null,446.4]
[20379,"RAY","Matthew","M",1999,"U16",null,"K",999.99]
[12181,"RAYSON","Zachery","M",1990,"SEN","PND","DRA",83.69]
[19086,"READER","Christopher","M",1996,"U18","ASR",null,52.3]
[19085,"READER","William","M",1994,"U21","ASR",null,46.59]
[21609,"REBERT","Ethan","M",1998,"U16",null,null,999.99]
[31096,"REDPATH","Sandy","M",1996,"U18","LSR","SSC",170.52]
[31315,"REED","Aidan","M",2001,"U14","LSR",null,384.93]
[31322,"REED","Lewis","M",2001,"U14","SSC",null,302.19]
[21657,"REES","Edward","M",1961,"MAS","IMP","IMP",302.41000000000003]
[19690,"REIDY","Alexander","M",1994,"U21","EVO","K",54.44]
[19691,"REIDY","Luca","M",1996,"U18","HEM","K",98.15]
[20264,"REIDY","Thomas","M",2003,"U12","HEM","K",999.99]
[41764,"REILLY","Garreth","M",1999,"U16","SCI",null,89.57]
[31321,"RENNIE","Calum","M",2002,"U12","SSC",null,999.99]
[31294,"RENNIE","Graham","M",1975,"MAS","ASC",null,252.96]
[14109,"REYNOLDS","Michael","M",1995,"U21","SMK","SMK",999.99]
[21485,"RHODES","Austin","M",1998,"U16","CHT","K",999.99]
[21484,"RHODES","Morgan","M",1998,"U16","CHT","K",999.99]
[17320,"RICCERI","Oliver","M",1995,"U21",null,"IMP",999.99]
[19796,"RICHARDS","Alexandre","M",2002,"U12",null,"BSA",999.99]
[20953,"RICHARDS","Konrad","M",1999,"U16",null,null,999.99]
[17919,"RICHARDSON","Charles","M",1992,"SEN","CHL","DRA",9.32]
[18088,"RICHARDSON","George","M",1997,"U18","CHL","DRA",72.680000000000007]
[20628,"RICHARDSON","Thomas","M",1997,"U18","NOR",null,50.68]
[12989,"RICHES","Stuart","M",1989,"SEN","NOR","SMK",12.16]
[19570,"RICHMOND","Henry","M",1999,"U16","WCS","TOQ",143.84]
[21663,"RIDDELL","Kelan","M",2003,"U12",null,null,999.99]
[18010,"RIDDELL","Luke","M",1996,"U18","HEM","AMB",139.79]
[41722,"RIGBY","Jack","M",1995,"U21","MID","IMP",53.73]
[19910,"RIGBY","Jordan","M",2000,"U14","MID","IMP",116.41]
[31494,"RITCHIE","Peter","M",1955,"MAS","ASC","K",999.99]
[20879,"ROBERTS","Henry","M",1999,"U16",null,"K",999.99]
[41814,"ROBERTS","Ian","M",1969,"MAS",null,"HIV",999.99]
[21046,"ROBERTS","Michael","M",1985,"SEN",null,null,999.99]
[21131,"ROBERTS","Peter","M",1966,"MAS",null,null,999.99]
[21498,"ROBERTS","Thomas","M",2000,"U14",null,"K",999.99]
[21652,"ROBERTSHAW","Gavin","M",1975,"MAS","SMK","SMK",186.61]
[31005,"ROBERTSON","Adam","M",1997,"U18","GSR",null,347.58]
[20988,"ROBERTSON","Ewan","M",2001,"U14","BWP","BSA",150.35]
[31175,"ROBERTSON","John","M",1997,"U18","BSA","CSC",999.99]
[12334,"ROBERTSON","Stuart","M",1950,"MAS","WCS","WCS",222.1]
[20546,"ROBINSON","Jana","M",1997,"U18","SPR","SPR",999.99]
[14849,"RODGERS","Derek","M",1979,"MAS",null,null,999.99]
[4378,"ROE","Nicholas","M",1956,"MAS",null,null,627.64]
[30862,"ROFE","Sean","M",1995,"U21","SSC",null,82.81]
[30959,"ROFE","Thomas","M",1998,"U16","SSC","GSR",129.5]
[21395,"ROGERS","Marcus","M",1999,"U16","BSA","BSA",999.99]
[21554,"ROSE","James","M",2001,"U14",null,null,999.99]
[20839,"ROSS","Callum","M",2003,"U12","TSN","TSN",999.99]
[21718,"ROSS","David","M",1970,"MAS","TSN","TSN",199.86]
[31006,"ROSS","Harry","M",1998,"U16","BSC",null,114.01]
[31087,"ROSS","Lyle","M",1999,"U16","SSC","MUC",101.43]
[31360,"RUSHWORTH","John","M",1998,"U16","SSC",null,703.93]
[20138,"RUSSELL","Latham","M",1995,"U21",null,null,300]
[30614,"RYAN","Euan","M",1993,"U21","GSR",null,18.760000000000002]
[41971,"RYAN","Lee","M",2000,"U14","SCI",null,265.89999999999998]
[11529,"RYDING","Carl","M",1961,"MAS","CHL","K",216.23]
[10659,"RYDING","David","M",1986,"SEN","PND","K",41.19]
[31406,"SADDLER","Sam","M",2002,"U12","LSR",null,999.99]
[18579,"SADLER","Francis","M",1994,"U21","BRS","BRS",152.44]
[20790,"SANDEMAN","Jonathan","M",1998,"U16","GLO",null,94.81]
[31065,"SANDIESON","Cal","M",1998,"U16","BSC","GSR",999.99]
[30974,"SANDLAND","Alasdair","M",2000,"U14","GSR",null,123.12]
[31129,"SANDLAND","Jamie","M",2003,"U12","GSR",null,999.99]
[20995,"SANDLER","Jameson","M",2003,"U12",null,"HEM",999.99]
[21705,"SANTINI","Alexander","M",2002,"U12",null,null,999.99]
[21706,"SANTINI","Oliver","M",2003,"U12",null,null,999.99]
[18513,"SAUNDERS","Gregory","M",1995,"U21",null,"K",999.99]
[21085,"SAUNDERS","Tom","M",1954,"MAS",null,"DHO",999.99]
[21693,"SAVERY","Richard","M",1967,"MAS",null,null,999.99]
[31183,"SCHAEBBICKE","Felix","M",1997,"U18","SSC",null,999.99]
[17977,"SCHOFIELD","Connor","M",1997,"U18","HEM",null,163.69]
[20649,"SCHUBERT","Maximilian","M",2003,"U12","AVO","AVO",999.99]
[30980,"SCOTT","Calum","M",1997,"U18","GDN",null,999.99]
[31441,"SCOTT","Luke","M",2001,"U14","LSR",null,999.99]
[20679,"SCOTT","Max","M",1997,"U18","NOR","NOR",161.80000000000001]
[31371,"SCOTT","Ruaraidh","M",2002,"U12","BSC",null,999.99]
[19443,"SEAMAN","Michael","M",1986,"SEN","SZR","IMP",108.5]
[41650,"SELLWOOD","Thomas","M",1996,"U18","CAR",null,113.24]
[21742,"SEWELL","Logan","M",1998,"U16","NOR",null,86.84]
[6894,"SHAILES","Darryl","M",1961,"MAS","NOR",null,143.66999999999999]
[21720,"SHAIR","Tariq","M",1993,"U21",null,null,286.22000000000003]
[20340,"SHAKESHAFT","James","M",2003,"U12","MID",null,999.99]
[13217,"SHARP","Anthony","M",1968,"MAS","HEM",null,121.04]
[31517,"SHARP","Calum","M",1997,"U18","AYR","SFR",159.02000000000001]
[21512,"SHARP","Edward","M",1999,"U16",null,null,605.65]
[20564,"SHARROTT","Christopher","M",1978,"MAS",null,null,999.99]
[19801,"SHAW","James","M",1998,"U16","K","K",999.99]
[1,"SHEDDEN","John","M",1943,"MAS","MER",null,999.99]
[21632,"SHEMMANS","Jake","M",2001,"U14","ASR",null,138.06]
[31488,"SHEPHERD","Calum","M",2000,"U14","ASC",null,999.99]
[20520,"SHEPHERD","Matthew","M",1979,"MAS",null,null,999.99]
[21557,"SHEPHERDSON","James","M",1999,"U16","TSD",null,313.79000000000002]
[20847,"SHIELLS","Bryan","M",1998,"U16","SPR","SPR",999.99]
[20692,"SHIELLS","Rory","M",1995,"U21","SPR","SPR",999.99]
[17284,"SIEBER","James","M",1996,"U18","ASR","AMB",6.54]
[31474,"SIMMONDS","Thomas","M",2003,"U12","GSR",null,999.99]
[19457,"SIMMONS","Nigel","M",1962,"MAS","TOQ","TOQ",322.43]
[19068,"SIMMONS","Thomas","M",1995,"U21","TOQ","TOQ",254.36]
[31201,"SIMPSON","Andrew","M",2000,"U14","GDN",null,182.75]
[21233,"SIMPSON","Cameron","M",2002,"U12",null,"WM",999.99]
[20336,"SIMPSON","Jack","M",1999,"U16","SPR","SPR",999.99]
[31354,"SIMPSON","Neil","M",2002,"U12","GDN",null,999.99]
[41969,"SINGLETON","Cillian","M",1999,"U16","SCI",null,257.35000000000002]
[31085,"SIRCUS","Robert","M",1995,"U21","CBN",null,999.99]
[21653,"SKEPPSTAM","Rasmus","M",2004,"U10","SMK","SMK",999.99]
[41514,"SKINNER","Gary","M",1998,"U16","SCI",null,72.709999999999994]
[14957,"SKOCZEK","Stefan","M",1995,"U21","SPR","SPR",999.99]
[21405,"SLADE","Ted","M",2003,"U12",null,"BSA",999.99]
[21143,"SLATER","James","M",1998,"U16","SHK",null,310.22000000000003]
[21752,"SMITH","Alexander","M",2003,"U12","SMK",null,999.99]
[21601,"SMITH","Anthony","M",1969,"MAS","ALD",null,232.9]
[18912,"SMITH","Benjamin","M",1997,"U18","SPR","AMB",97.33]
[21744,"SMITH","Ethan","M",2003,"U12",null,null,999.99]
[21600,"SMITH","Euan","M",2000,"U14","ASR",null,204.01]
[31367,"SMITH","Euan","M",2002,"U12","MUC",null,999.99]
[31253,"SMITH","Fraser","M",2000,"U14","SSC",null,999.99]
[20579,"SMITH","Gary","M",1984,"SEN","SMK",null,999.99]
[31187,"SMITH","Jack","M",1998,"U16","CSC",null,999.99]
[20187,"SMITH","James","M",1999,"U16","SMK","SPR",307.64]
[21595,"SMITH","James","M",1992,"SEN","MID",null,87.48]
[30694,"SMITH","Matthew","M",1993,"U21","SSC","LSR",324.91000000000003]
[21605,"SMITH","Nathan","M",2002,"U12","ASR",null,999.99]
[20493,"SMITH","Oliver","M",1995,"U21","SAS","SAS",999.99]
[21102,"SMITH","Oscar","M",2002,"U12","ASR","ASR",999.99]
[31221,"SMITH","Peter","M",2000,"U14","SSC",null,289.01]
[31236,"SMITH","Roli","M",2004,"U10","SSC",null,999.99]
[21206,"SMITH","Samuel","M",1997,"U18","SMK","SMK",170.45]
[19964,"SMITH","Thomas","M",1994,"U21","SHK",null,999.99]
[17932,"SOUTHALL","Frazer","M",1997,"U18","FLK",null,73.66]
[18378,"SOUTHALL","Merrick","M",2000,"U14","FLK",null,143.33000000000001]
[19749,"SPANTON","Nicholas","M",1965,"MAS","NOR",null,120.55]
[18417,"SPEARPOINT","Nicholas","M",1966,"MAS","OVL",null,217.86]
[20683,"SPEED","Craig","M",1999,"U16","ASR",null,100.43]
[31114,"SPEIR","Henry","M",1999,"U16","LSR",null,258.22000000000003]
[31157,"SPENCE","Matthew","M",2000,"U14","LSR",null,275.45]
[21757,"SPENCER","Samuel","M",1996,"U18","PLY",null,286.39999999999998]
[20370,"SPENCER","Tristan","M",1996,"U18","K","K",999.99]
[17385,"STAMMERS","Benjamin","M",1995,"U21","DHO","DHO",374.83]
[30526,"STANG","Alastair","M",1992,"SEN","SSC",null,18.55]
[21121,"STANWAY","Kayne","M",2005,"U10",null,"SMK",999.99]
[31319,"STEEL","Bruno","M",2002,"U12","SSC",null,999.99]
[21057,"STEINER","Toby","M",2000,"U14",null,null,999.99]
[20296,"STENSON","Daniel","M",1999,"U16",null,"K",999.99]
[31503,"STENTIFORD","James","M",1971,"MAS","GLO",null,999.99]
[31356,"STEPHEN","Lachlan","M",2001,"U14","SSC",null,329.18]
[41454,"STEPHENS","Samuel","M",1993,"U21","CAR","AMB",30.37]
[17177,"STEUDLE","Roy","M",1993,"U21",null,"AMB",999.99]
[14814,"STEVENS","Anthony","M",1962,"MAS",null,"ALU",999.99]
[19797,"STEVENSON","Christian","M",1998,"U16","TEL","TEL",146.36000000000001]
[18471,"STEVENSON","James","M",1994,"U21",null,"K",999.99]
[21698,"STOCKS","Elliot","M",2005,"U10","CHL","CHL",999.99]
[20477,"STORER","James","M",1998,"U16",null,"DHO",999.99]
[14808,"STRONG","Louis","M",1996,"U18",null,"K",999.99]
[14807,"STRONG","Oliver","M",1994,"U21",null,"K",999.99]
[31501,"STRUTHERS","Ailig","M",1999,"U16","SFR",null,384.13]
[21567,"STUART","Oliver","M",1999,"U16",null,null,999.99]
[30925,"STURROCK","Fraser","M",1997,"U18","SSC","GSR",121.2]
[21056,"SULEYMAN","Ata","M",2002,"U12","BRO","K",999.99]
[21369,"SURMAN","Jake","M",1974,"MAS","LIO","LIO",288.56]
[8747,"SWINDELLS","Robert","M",1965,"MAS","LIO","LIO",214.54]
[19624,"SYMONS","Daniel","M",1995,"U21","CHT","CHT",71.989999999999995]
[21234,"TAGGART","Matthew","M",2002,"U12",null,"SMK",999.99]
[21707,"TAMANA","Hari","M",2003,"U12","HEM","HEM",999.99]
[21147,"TANDY","Joshua","M",2004,"U10","FLK",null,999.99]
[20967,"TAPSON","Toby","M",2000,"U14","DHO","DHO",999.99]
[20398,"TARANTELLI","Leone","M",1999,"U16",null,"BSA",999.99]
[20399,"TARANTELLI","Uberto","M",2000,"U14",null,"BSA",999.99]
[21550,"TARRANT","Toby","M",1997,"U18","MID",null,190.79]
[31305,"TATE","Thomas","M",1997,"U18","CSC",null,999.99]
[21527,"TATTERS","Ben","M",2001,"U14","SPR","SPR",999.99]
[21524,"TATTERS","Joshua","M",2003,"U12","SPR","SPR",999.99]
[20364,"TATTERSALL","James","M",1997,"U18","CHL","BSA",179.39]
[31186,"TAYLOR","Finlay","M",1999,"U16","SSC",null,999.99]
[18164,"TAYLOR","Laurie","M",1996,"U18",null,"BSA",355.03]
[31185,"TAYLOR","Lewis","M",1998,"U16","SSC",null,999.99]
[20361,"TAYLOR","Luke","M",1998,"U16",null,"SPR",999.99]
[19447,"TAYLOR","Patrick","M",1999,"U16","K","AMB",999.99]
[41876,"TAYLOR","Robert","M",1984,"SEN",null,null,999.99]
[31036,"TAYLOR","Ross","M",1995,"U21","GSR","SSC",33.4]
[20854,"TAYLOR-SWAN","William","M",2000,"U14","SPR","SPR",999.99]
[20146,"TAYLOR-TIPTON","Curtis","M",1996,"U18","FF","FF-",198.09]
[20147,"TAYLOR-TIPTON","Justin","M",2000,"U14","FF","FF-",243.82]
[20630,"TEAGUE","Jack","M",2004,"U10","MID",null,999.99]
[13773,"TEE","David","M",1990,"SEN","CHL","DRA",37.57]
[11915,"TELLING","Marc","M",1984,"SEN","HEM","AMB",21.07]
[12458,"TELLING","Paul","M",1982,"MAS","EVO","EVO",28.62]
[19959,"THIDLING","Max","M",1995,"U21",null,null,999.99]
[41851,"THOMAS","Benjamin","M",1998,"U16","CAR",null,121.23]
[18072,"THOMAS","Cameron","M",1997,"U18","TOQ","BSA",49.57]
[41661,"THOMAS","Cyffin","M",2000,"U14","DRA","DRA",305.08]
[41974,"THOMAS","Pat","M",1960,"MAS","HEM",null,999.99]
[20884,"THOMPSON","Joseph","M",2003,"U12","NOR","ELI",999.99]
[13647,"THOMPSON","Matthew","M",1993,"U21","HEM","K",5]
[21692,"THOMPSON","Matthew","M",1981,"MAS","CHL","CHL",999.99]
[30987,"THOMSON","Ross","M",1999,"U16","SSC",null,422.58]
[18586,"THORLEY","Alasdair","M",1994,"U21","MID","OXU",61.87]
[18998,"THORLEY","Duncan","M",1997,"U18","MID",null,138.54]
[19985,"THORNTON","Adam","M",2003,"U12","LIO","LIO",999.99]
[18652,"THORNTON","Luke","M",1998,"U16",null,"LIO",136.78]
[19078,"THURSFIELD","Dylan","M",1997,"U18","HEM","HEM",999.99]
[19077,"THURSFIELD","Emrys","M",1999,"U16","HEM","HEM",999.99]
[20827,"THURSTON","Tomas","M",1997,"U18","AVO","K",999.99]
[17950,"TODD-SAUNDERS","Samuel","M",1996,"U18","DHO","DHO",87.67]
[20811,"TOH","Alexander","M",2000,"U14","HEM","HEM",999.99]
[20812,"TOH","James","M",2000,"U14","HEM","HEM",999.99]
[17043,"TOMLINSON","Josef","M",1994,"U21","PPS","LIO",87.58]
[41919,"TOUCHE","Alexandre","M",1997,"U18","CAR",null,82.53]
[17467,"TREBILCOCK","Robert","M",1993,"U21","HEM","HEM",17.440000000000001]
[20670,"TREUGE","Matthew","M",2002,"U12","MID","MID",999.99]
[21105,"TREVOR","Samuel","M",1999,"U16","SPR","SPR",999.99]
[20645,"TREW","Richard","M",2000,"U14","HEM","K",145.28]
[31391,"TRINDER","Angus","M",1996,"U18","CSN",null,999.99]
[31270,"TRINDER","Jamie","M",1994,"U21","CSN",null,999.99]
[20687,"TROUNG","Aaron","M",2001,"U14","VIK","AMB",116.94]
[30869,"TROUP","Kieran","M",2000,"U14","GDN","BSA",999.99]
[13403,"TUCKER","Colin","M",1946,"MAS","SLP","K",905.5]
[12858,"TUCKER","William","M",1991,"SEN","LSU","LSU",541.34]
[21572,"TURNER","Alife","M",2003,"U12","HEM","HEM",999.99]
[21656,"TURNER","Charles","M",1997,"U18","SMK","SMK",999.99]
[21729,"TURNER","Geoffrey","M",1967,"MAS","RAV","RAV",531.59]
[21627,"TURNER","Oliver","M",2000,"U14",null,"ASR",326.70999999999998]
[21265,"UNDERKOFFLER","Lucas","M",1996,"U18",null,null,999.99]
[18992,"UPTON","Ben","M",1994,"U21","WGC",null,55.21]
[21052,"UPTON","Jack","M",2004,"U10","MID",null,999.99]
[21051,"UPTON","Thomas","M",2001,"U14","MID",null,194.78]
[21197,"URQUHART","Aidan","M",2004,"U10","HEM","HEM",999.99]
[21196,"URQUHART","Colm","M",2001,"U14","HEM","HEM",351.26]
[9129,"URQUHART","John","M",1968,"MAS","HEM","HEM",119.2]
[20714,"VANBECK","Robert","M",1998,"U16","SMK",null,102.56]
[21443,"VAUDRY","Nicholas","M",1999,"U16",null,null,999.99]
[31078,"VAUGHAN","Seoras","M",1998,"U16","CSC",null,999.99]
[30968,"VEITCH","Lachlan","M",1998,"U16","SSC","BSA",322.04000000000002]
[20848,"VICKERS","Charlie","M",1999,"U16","SPR","SPR",999.99]
[21456,"VINCENT","Ben","M",2003,"U12","TSN","TSN",999.99]
[30923,"VINTER","Owen","M",2001,"U14","GSR",null,94.36]
[30831,"VINTER","Zak","M",1998,"U16","GSR",null,11.52]
[21765,"WADDINGTON","Thomas","M",1984,"SEN",null,null,999.99]
[20163,"WAGHORNE","Robert","M",1997,"U18","SMK","AMB",81]
[31213,"WAITT","Scott","M",2000,"U14","SSC",null,200.18]
[31125,"WAITT","Stuart","M",1999,"U16","SSC","LSR",187.96]
[21448,"WALBRIDGE","James","M",1992,"SEN","PLY","PLY",293]
[20065,"WALKER-MORETTI","Ralph","M",1998,"U16","CHL","TEL",71.84]
[31334,"WALLIS","Finlay","M",1997,"U18","LSR",null,377.11]
[21751,"WALSH","Scott","M",2003,"U12",null,null,999.99]
[9810,"WALTERS","Peter","M",1980,"MAS","BRO",null,20]
[21526,"WALTON","Matthew","M",2002,"U12","SAS","SAS",999.99]
[21545,"WANG","Matthew","M",1983,"MAS","HEM","HEM",226.87]
[21295,"WARD","Joel","M",1991,"SEN",null,null,999.99]
[31195,"WARD","Thomas","M",2002,"U12","GSR",null,999.99]
[18661,"WARMINGTON","Richard","M",1997,"U18","HEM","HEM",79.239999999999995]
[21641,"WARNER","Hugo","M",2002,"U12",null,"HEM",999.99]
[21495,"WASHER","Piers","M",1998,"U16",null,"EVO",143.56]
[21145,"WATERSTON","Laughlan","M",1971,"MAS","HEM","HEM",217.14]
[41042,"WATSON","Andrew","M",1991,"SEN","CAR","DRA",0]
[31204,"WATSON","Jack","M",1999,"U16","BSC",null,224.89]
[41656,"WATTS","Llewellyn","M",2001,"U14","TOR",null,402.28]
[19564,"WAYLING","Lloyd","M",1995,"U21","NOR","BSA",37.56]
[19702,"WEBB","Jamie","M",1998,"U16",null,"SMK",182.54]
[19051,"WEEKS","Oliver","M",2001,"U14","MID","DRA",83.72]
[21493,"WEIR","Daniel","M",2001,"U14","RAV",null,289.95999999999998]
[20087,"WEIR","Jonathan","M",1990,"SEN","LSU","LSU",231.88]
[20970,"WEIR","Richard","M",1964,"MAS","RAV","RAV",162.85]
[21067,"WEIR","Roddy","M",1997,"U18","RAV",null,144.41]
[17983,"WELLER","Mark","M",1992,"SEN","ASR",null,87.2]
[31434,"WHATFORD","Ben","M",2005,"U10","GDN",null,999.99]
[14168,"WHEATMAN","Max","M",1993,"U21","NOR","NOR",49.86]
[19209,"WHEELER","William","M",1997,"U18","HEM","TEL",61.45]
[12359,"WHELAN","Peter","M",1989,"SEN","SPR","SPR",422.75]
[21772,"WHIPP","Edward","M",2001,"U14",null,null,264.02]
[18467,"WHITE","Alex","M",1997,"U18","HEM","TEL",76.88]
[10965,"WHITE","Duncan","M",1984,"SEN","DHO","SPR",999.99]
[18234,"WHITE","Thomas","M",1992,"SEN","AMB","AMB",35.11]
[19612,"WHITLEY","James","M",1997,"U18","K","K",999.99]
[18996,"WHITTALL","Joseph","M",1995,"U21","ASR","SAS",161.22]
[20159,"WHITTALL","Trevor","M",1958,"MAS","BRS","SAS",575.6]
[3199,"WHITTET","Jeremy","M",1967,"MAS","SSC","DHO",999.99]
[20637,"WIGMORE","Matthew","M",1996,"U18","NOR",null,53.63]
[19346,"WILKINS","Simon","M",1992,"SEN","TEL","TEL",146.82]
[18917,"WILLIAMS","Christian","M",1998,"U16",null,"K",999.99]
[31128,"WILLIAMS","Conway","M",1965,"MAS","GSR","SSC",137.63999999999999]
[19129,"WILLIAMS","Harry","M",1994,"U21","FLK",null,67.430000000000007]
[21786,"WILLIAMS","Jack","M",2005,"U10",null,"CHL",999.99]
[19130,"WILLIAMS","Jamie","M",1992,"SEN","FLK",null,62.32]
[21563,"WILLIAMS","Lewis","M",1999,"U16","AVO","AVO",418.98]
[20729,"WILLIAMS","Matthew","M",2004,"U10","TEL",null,999.99]
[18022,"WILLIAMS","Sam","M",1997,"U18","SAS","SAS",130.11000000000001]
[30998,"WILLIAMS","Scott","M",1999,"U16","GSR","SSC",129.69999999999999]
[21103,"WILLIAMS-GRAVENER","David","M",2001,"U14","FLK","DHO",263.02999999999997]
[20613,"WILLIS","James","M",2001,"U14","SMK","SMK",215.24]
[20706,"WILLIS","James","M",2003,"U12","WCS","SMK",999.99]
[17930,"WILLIS","Robert","M",1996,"U18","AMB","AMB",418.36]
[20519,"WILLOUGHBY","Oliver","M",2002,"U12","EVO","EVO",999.99]
[18558,"WILLOWS","Laurence","M",1996,"U18","BRO","BSA",43.31]
[20290,"WILLS","Angus","M",1999,"U16",null,"BSA",999.99]
[20710,"WILMOT","Jack","M",2000,"U14","SPR","SPR",999.99]
[31255,"WILOWSKI","Kazimierz","M",2000,"U14","GDN",null,999.99]
[31402,"WILSON","Carter","M",2001,"U14","LSR",null,373.45]
[21362,"WILSON","Geoffrey","M",1996,"U18","VIK",null,999.99]
[41031,"WILSON","Hugh","M",1987,"SEN","CAR","DRA",91.97]
[19420,"WITTS","Callum","M",1998,"U16","PND",null,46.58]
[18512,"WITTS","Kaigan","M",1994,"U21","PND","PND",47.23]
[31512,"WOOD","Edmund","M",1999,"U16","LSR",null,999.99]
[20814,"WOODWARD","Stewart","M",1955,"MAS",null,null,999.99]
[21594,"WORTT","Aaron","M",1999,"U16","ASR",null,164.19]
[19419,"WRIGHT","Alexander","M",1994,"U21","GLO","IMP",94.32]
[31089,"WRIGHT","Dewar","M",1999,"U16","SSC",null,94.2]
[41977,"WYLIE","Callum","M",1999,"U16",null,null,999.99]
[31523,"WYLIE","Gordon","M",2005,"U10","GSR",null,999.99]
[31176,"WYLIE","Scott","M",2001,"U14","GSR",null,132.47999999999999]
[17319,"YATES","Christopher","M",1996,"U18","TEL","TEL",44.07]
[31378,"YEAMAN","Robert","M",2001,"U14","GSR",null,263.49]
[31455,"YORK","Scott","M",2002,"U12","GSS",null,999.99]
[31310,"YOUNG","Gregor","M",1995,"U21","HNC","BND",999.99]
[20605,"YULE-SMITH","Oliver","M",1996,"U18","SPR","SPR",999.99]
[21709,"YUNG","Adrian","M",2004,"U10","BRS","DHO",999.99]
[21710,"YUNG","Hau","M",2002,"U12","BRS","DHO",999.99]
[21779,"ZIELEZNIK","Ben","M",2005,"U10",null,"SPR",999.99]
[21093,"ZIELEZNIK","Oskar","M",2004,"U10",null,"SPR",999.99]